Workbook

Sheet 公式予選（TT①）
K6: 44877 | M6: :
A7: =+[1]各種設定!D2 -> 2022年 オートバックス全日本カート選手権 OK部門 第9戦/10戦 | K7: WEATHER: | L7: Fine
K8: COURSE : | L8: Dry
A9: =+[1]各種設定!D4 -> OK | K9: 南コース 1.264Km
A10: ①Ｇｒ．タイムトライアル結果表
B11: No. | E11: 名前 | F11: Model/Engine | G11: Team | H11: Tires | I11: BestLap | J11: =VLOOKUP(A9,[1]コースレコード!$A:$G,3,FALSE) -> 45.239 | K11: 差 | L11: GAP | Q11: コメント | S11: ペナルティNo. | T11: グリッドコメント
A12: Pos. | B12: No. | E12: Driver | F12: Type | G12: Team | H12: Tire | I12: Time | K12: Delay | L12: Gap | M12: Lap
A13: 1 | B13: =IFERROR(INDEX('[1]公式予選（TT①）-結果表（貼付）'!A2:$V$50,MATCH($A13,'[1]公式予選（TT①）-結果表（貼付）'!A2:$A$50,0),MATCH('公式予選（TT①）'!B$11,'[1]公式予選（TT①）-結果表（貼付）'!$1:$1,0)),"") -> 29 | E13: =IFERROR(INDEX('[1]公式予選（TT①）-結果表（貼付）'!$A:$Z,MATCH($B13,'[1]公式予選（TT①）-結果表（貼付）'!$B:$B,0),MATCH('公式予選（TT①）'!E$11,'[1]公式予選（TT①）-結果表（貼付）'!$1:$1,0)),"") -> 三村 壮太郎 | F13: =IFERROR(INDEX('[1]公式予選（TT①）-結果表（貼付）'!$A:$Z,MATCH($B13,'[1]公式予選（TT①）-結果表（貼付）'!$B:$B,0),MATCH('公式予選（TT①）'!F$11,'[1]公式予選（TT①）-結果表（貼付）'!$1:$1,0)),"") -> Rosa Drago Corse/TM | G13: =IFERROR(INDEX('[1]公式予選（TT①）-結果表（貼付）'!$A:$Z,MATCH($B13,'[1]公式予選（TT①）-結果表（貼付）'!$B:$B,0),MATCH('公式予選（TT①）'!G$11,'[1]公式予選（TT①）-結果表（貼付）'!$1:$1,0)),"") -> RosaDragoCorse | H13: =IFERROR(INDEX('[1]公式予選（TT①）-結果表（貼付）'!$A:$Z,MATCH($B13,'[1]公式予選（TT①）-結果表（貼付）'!$B:$B,0),MATCH('公式予選（TT①）'!H$11,'[1]公式予選（TT①）-結果表（貼付）'!$1:$1,0)),"") -> BS | I13: =IF(A13="DNS","ｽﾀｰﾄ出来ず",IF(A13="DQ","失 格",IFERROR(INDEX('[1]公式予選（TT①）-結果表（貼付）'!$A:$Z,MATCH($B13,'[1]公式予選（TT①）-結果表（貼付）'!$B:$B,0),MATCH('公式予選（TT①）'!I$11,'[1]公式予選（TT①）-結果表（貼付）'!$1:$1,0)),""))) -> 44.516 | J13: =IF(I13<1,"",IF($J$11>I13,"R","")) -> R | K13: =ROUND(INDEX('[1]公式予選（TT①）-結果表（貼付）'!$A:$Z,MATCH($B13,'[1]公式予選（TT①）-結果表（貼付）'!$B:$B,0),MATCH("ベスト平均時速",'[1]公式予選（TT①）-結果表（貼付）'!$1:$1,0)),2)&"km/h" -> 102.22km/h | M13: =IF(OR('[1]公式予選（TT①）-結果表（貼付）'!A2="DNS",'[1]公式予選（TT①）-結果表（貼付）'!A2="DQ"),"",IFERROR(INDEX('[1]公式予選（TT①）-結果表（貼付）'!$A:$Z,MATCH($B13,'[1]公式予選（TT①）-結果表（貼付）'!$B:$B,0),MATCH("In Lap",'[1]公式予選（TT①）-結果表（貼付）'!$1:$1,0))&"/"&INDEX('[1]公式予選（TT①）-結果表（貼付）'!$A:$Z,MATCH($B13,'[1]公式予選（TT①）-結果表（貼付）'!$B:$B,0),MATCH("Laps",'[1]公式予選（TT①）-結果表（貼付）'!$1:$1,0)),"")) -> 4/5 | Q13: =IF(IFERROR(INDEX('[1]公式予選（TT①）-結果表（貼付）'!$A:$Z,MATCH($B13,'[1]公式予選（TT①）-結果表（貼付）'!$B:$B,0),MATCH(Q$11,'[1]公式予選（TT①）-結果表（貼付）'!$1:$1,0)),"")=0,"",IFERROR(INDEX('[1]公式予選（TT①）-結果表（貼付）'!$A:$Z,MATCH($B13,'[1]公式予選（TT①）-結果表（貼付）'!$B:$B,0),MATCH(Q$11,'[1]公式予選（TT①）-結果表（貼付）'!$1:$1,0)),"")) | R13: =IF(Q13="","",COUNTIF($Q$13:Q13,"<>"&"")) | S13: =IFERROR(RANK(R13,$R$13:$R$48,1),"") | T13: =IF(IFERROR(INDEX('[1]公式予選（TT①）-結果表（貼付）'!$A:$Z,MATCH($A13,'[1]公式予選（TT①）-結果表（貼付）'!$A:$A,0),MATCH(T$11,'[1]公式予選（TT①）-結果表（貼付）'!$1:$1,0)),"")=0,"",IFERROR(INDEX('[1]公式予選（TT①）-結果表（貼付）'!$A:$Z,MATCH($A13,'[1]公式予選（TT①）-結果表（貼付）'!$A:$A,0),MATCH(T$11,'[1]公式予選（TT①）-結果表（貼付）'!$1:$1,0)),""))
A14: =IF(OR('[1]公式予選（TT①）-結果表（貼付）'!A3="DNF",'[1]公式予選（TT①）-結果表（貼付）'!A3="DNS",'[1]公式予選（TT①）-結果表（貼付）'!A3="DQ"),'[1]公式予選（TT①）-結果表（貼付）'!A3,IF(MAX('[1]公式予選（TT①）-結果表（貼付）'!$A:$A)>A13,A13+1,"")) -> 2 | B14: =IFERROR(INDEX('[1]公式予選（TT①）-結果表（貼付）'!A3:$V$50,MATCH($A14,'[1]公式予選（TT①）-結果表（貼付）'!A3:$A$50,0),MATCH('公式予選（TT①）'!B$11,'[1]公式予選（TT①）-結果表（貼付）'!$1:$1,0)),"") -> 18 | E14: =IFERROR(INDEX('[1]公式予選（TT①）-結果表（貼付）'!$A:$Z,MATCH($B14,'[1]公式予選（TT①）-結果表（貼付）'!$B:$B,0),MATCH('公式予選（TT①）'!E$11,'[1]公式予選（TT①）-結果表（貼付）'!$1:$1,0)),"") -> 野澤 勇翔 | F14: =IFERROR(INDEX('[1]公式予選（TT①）-結果表（貼付）'!$A:$Z,MATCH($B14,'[1]公式予選（TT①）-結果表（貼付）'!$B:$B,0),MATCH('公式予選（TT①）'!F$11,'[1]公式予選（TT①）-結果表（貼付）'!$1:$1,0)),"") -> Birel ART/IAME | G14: =IFERROR(INDEX('[1]公式予選（TT①）-結果表（貼付）'!$A:$Z,MATCH($B14,'[1]公式予選（TT①）-結果表（貼付）'!$B:$B,0),MATCH('公式予選（TT①）'!G$11,'[1]公式予選（TT①）-結果表（貼付）'!$1:$1,0)),"") -> bbR.チームエッフェガーラ | H14: =IFERROR(INDEX('[1]公式予選（TT①）-結果表（貼付）'!$A:$Z,MATCH($B14,'[1]公式予選（TT①）-結果表（貼付）'!$B:$B,0),MATCH('公式予選（TT①）'!H$11,'[1]公式予選（TT①）-結果表（貼付）'!$1:$1,0)),"") -> BS | I14: =IF(A14="DNS","ｽﾀｰﾄ出来ず",IF(A14="DQ","失 格",IFERROR(INDEX('[1]公式予選（TT①）-結果表（貼付）'!$A:$Z,MATCH($B14,'[1]公式予選（TT①）-結果表（貼付）'!$B:$B,0),MATCH('公式予選（TT①）'!I$11,'[1]公式予選（TT①）-結果表（貼付）'!$1:$1,0)),""))) -> 44.53 | J14: =IF(I14<1,"",IF($J$11>I14,"R","")) -> R | K14: =IF(OR('[1]公式予選（TT①）-結果表（貼付）'!A3="DNS",'[1]公式予選（TT①）-結果表（貼付）'!A3="DQ"),"",IFERROR(INDEX('[1]公式予選（TT①）-結果表（貼付）'!$A:$Z,MATCH($B14,'[1]公式予選（TT①）-結果表（貼付）'!$B:$B,0),MATCH('公式予選（TT①）'!K$11,'[1]公式予選（TT①）-結果表（貼付）'!$1:$1,0)),"")) -> 0.014 | L14: =IF(OR('[1]公式予選（TT①）-結果表（貼付）'!A3="DNS",'[1]公式予選（TT①）-結果表（貼付）'!A3="DQ"),"",IFERROR(INDEX('[1]公式予選（TT①）-結果表（貼付）'!$A:$Z,MATCH($B14,'[1]公式予選（TT①）-結果表（貼付）'!$B:$B,0),MATCH('公式予選（TT①）'!L$11,'[1]公式予選（TT①）-結果表（貼付）'!$1:$1,0)),"")) -> 0.014 | M14: =IF(OR('[1]公式予選（TT①）-結果表（貼付）'!A3="DNS",'[1]公式予選（TT①）-結果表（貼付）'!A3="DQ"),"",IFERROR(INDEX('[1]公式予選（TT①）-結果表（貼付）'!$A:$Z,MATCH($B14,'[1]公式予選（TT①）-結果表（貼付）'!$B:$B,0),MATCH("In Lap",'[1]公式予選（TT①）-結果表（貼付）'!$1:$1,0))&"/"&INDEX('[1]公式予選（TT①）-結果表（貼付）'!$A:$Z,MATCH($B14,'[1]公式予選（TT①）-結果表（貼付）'!$B:$B,0),MATCH("Laps",'[1]公式予選（TT①）-結果表（貼付）'!$1:$1,0)),"")) -> 5/5 | Q14: =IF(IFERROR(INDEX('[1]公式予選（TT①）-結果表（貼付）'!$A:$Z,MATCH($B14,'[1]公式予選（TT①）-結果表（貼付）'!$B:$B,0),MATCH(Q$11,'[1]公式予選（TT①）-結果表（貼付）'!$1:$1,0)),"")=0,"",IFERROR(INDEX('[1]公式予選（TT①）-結果表（貼付）'!$A:$Z,MATCH($B14,'[1]公式予選（TT①）-結果表（貼付）'!$B:$B,0),MATCH(Q$11,'[1]公式予選（TT①）-結果表（貼付）'!$1:$1,0)),"")) | R14: =IF(Q14="","",COUNTIF($Q$13:Q14,"<>"&"")) | S14: =IFERROR(RANK(R14,$R$13:$R$48,1),"") | T14: =IF(IFERROR(INDEX('[1]公式予選（TT①）-結果表（貼付）'!$A:$Z,MATCH($A14,'[1]公式予選（TT①）-結果表（貼付）'!$A:$A,0),MATCH(T$11,'[1]公式予選（TT①）-結果表（貼付）'!$1:$1,0)),"")=0,"",IFERROR(INDEX('[1]公式予選（TT①）-結果表（貼付）'!$A:$Z,MATCH($A14,'[1]公式予選（TT①）-結果表（貼付）'!$A:$A,0),MATCH(T$11,'[1]公式予選（TT①）-結果表（貼付）'!$1:$1,0)),""))
A15: =IF(OR('[1]公式予選（TT①）-結果表（貼付）'!A4="DNF",'[1]公式予選（TT①）-結果表（貼付）'!A4="DNS",'[1]公式予選（TT①）-結果表（貼付）'!A4="DQ"),'[1]公式予選（TT①）-結果表（貼付）'!A4,IF(MAX('[1]公式予選（TT①）-結果表（貼付）'!$A:$A)>A14,A14+1,"")) -> 3 | B15: =IFERROR(INDEX('[1]公式予選（TT①）-結果表（貼付）'!A4:$V$50,MATCH($A15,'[1]公式予選（TT①）-結果表（貼付）'!A4:$A$50,0),MATCH('公式予選（TT①）'!B$11,'[1]公式予選（TT①）-結果表（貼付）'!$1:$1,0)),"") -> 85 | E15: =IFERROR(INDEX('[1]公式予選（TT①）-結果表（貼付）'!$A:$Z,MATCH($B15,'[1]公式予選（TT①）-結果表（貼付）'!$B:$B,0),MATCH('公式予選（TT①）'!E$11,'[1]公式予選（TT①）-結果表（貼付）'!$1:$1,0)),"") -> 佐藤 蓮 | F15: =IFERROR(INDEX('[1]公式予選（TT①）-結果表（貼付）'!$A:$Z,MATCH($B15,'[1]公式予選（TT①）-結果表（貼付）'!$B:$B,0),MATCH('公式予選（TT①）'!F$11,'[1]公式予選（TT①）-結果表（貼付）'!$1:$1,0)),"") -> Drago CORSE/TM | G15: =IFERROR(INDEX('[1]公式予選（TT①）-結果表（貼付）'!$A:$Z,MATCH($B15,'[1]公式予選（TT①）-結果表（貼付）'!$B:$B,0),MATCH('公式予選（TT①）'!G$11,'[1]公式予選（TT①）-結果表（貼付）'!$1:$1,0)),"") -> Drago Corse | H15: =IFERROR(INDEX('[1]公式予選（TT①）-結果表（貼付）'!$A:$Z,MATCH($B15,'[1]公式予選（TT①）-結果表（貼付）'!$B:$B,0),MATCH('公式予選（TT①）'!H$11,'[1]公式予選（TT①）-結果表（貼付）'!$1:$1,0)),"") -> YH | I15: =IF(A15="DNS","ｽﾀｰﾄ出来ず",IF(A15="DQ","失 格",IFERROR(INDEX('[1]公式予選（TT①）-結果表（貼付）'!$A:$Z,MATCH($B15,'[1]公式予選（TT①）-結果表（貼付）'!$B:$B,0),MATCH('公式予選（TT①）'!I$11,'[1]公式予選（TT①）-結果表（貼付）'!$1:$1,0)),""))) -> 44.566 | J15: =IF(I15<1,"",IF($J$11>I15,"R","")) -> R | K15: =IF(OR('[1]公式予選（TT①）-結果表（貼付）'!A4="DNS",'[1]公式予選（TT①）-結果表（貼付）'!A4="DQ"),"",IFERROR(INDEX('[1]公式予選（TT①）-結果表（貼付）'!$A:$Z,MATCH($B15,'[1]公式予選（TT①）-結果表（貼付）'!$B:$B,0),MATCH('公式予選（TT①）'!K$11,'[1]公式予選（TT①）-結果表（貼付）'!$1:$1,0)),"")) -> 0.05 | L15: =IF(OR('[1]公式予選（TT①）-結果表（貼付）'!A4="DNS",'[1]公式予選（TT①）-結果表（貼付）'!A4="DQ"),"",IFERROR(INDEX('[1]公式予選（TT①）-結果表（貼付）'!$A:$Z,MATCH($B15,'[1]公式予選（TT①）-結果表（貼付）'!$B:$B,0),MATCH('公式予選（TT①）'!L$11,'[1]公式予選（TT①）-結果表（貼付）'!$1:$1,0)),"")) -> 0.036 | M15: =IF(OR('[1]公式予選（TT①）-結果表（貼付）'!A4="DNS",'[1]公式予選（TT①）-結果表（貼付）'!A4="DQ"),"",IFERROR(INDEX('[1]公式予選（TT①）-結果表（貼付）'!$A:$Z,MATCH($B15,'[1]公式予選（TT①）-結果表（貼付）'!$B:$B,0),MATCH("In Lap",'[1]公式予選（TT①）-結果表（貼付）'!$1:$1,0))&"/"&INDEX('[1]公式予選（TT①）-結果表（貼付）'!$A:$Z,MATCH($B15,'[1]公式予選（TT①）-結果表（貼付）'!$B:$B,0),MATCH("Laps",'[1]公式予選（TT①）-結果表（貼付）'!$1:$1,0)),"")) -> 5/5 | Q15: =IF(IFERROR(INDEX('[1]公式予選（TT①）-結果表（貼付）'!$A:$Z,MATCH($B15,'[1]公式予選（TT①）-結果表（貼付）'!$B:$B,0),MATCH(Q$11,'[1]公式予選（TT①）-結果表（貼付）'!$1:$1,0)),"")=0,"",IFERROR(INDEX('[1]公式予選（TT①）-結果表（貼付）'!$A:$Z,MATCH($B15,'[1]公式予選（TT①）-結果表（貼付）'!$B:$B,0),MATCH(Q$11,'[1]公式予選（TT①）-結果表（貼付）'!$1:$1,0)),"")) | R15: =IF(Q15="","",COUNTIF($Q$13:Q15,"<>"&"")) | S15: =IFERROR(RANK(R15,$R$13:$R$48,1),"") | T15: =IF(IFERROR(INDEX('[1]公式予選（TT①）-結果表（貼付）'!$A:$Z,MATCH($A15,'[1]公式予選（TT①）-結果表（貼付）'!$A:$A,0),MATCH(T$11,'[1]公式予選（TT①）-結果表（貼付）'!$1:$1,0)),"")=0,"",IFERROR(INDEX('[1]公式予選（TT①）-結果表（貼付）'!$A:$Z,MATCH($A15,'[1]公式予選（TT①）-結果表（貼付）'!$A:$A,0),MATCH(T$11,'[1]公式予選（TT①）-結果表（貼付）'!$1:$1,0)),""))
A16: =IF(OR('[1]公式予選（TT①）-結果表（貼付）'!A5="DNF",'[1]公式予選（TT①）-結果表（貼付）'!A5="DNS",'[1]公式予選（TT①）-結果表（貼付）'!A5="DQ"),'[1]公式予選（TT①）-結果表（貼付）'!A5,IF(MAX('[1]公式予選（TT①）-結果表（貼付）'!$A:$A)>A15,A15+1,"")) -> 4 | B16: =IFERROR(INDEX('[1]公式予選（TT①）-結果表（貼付）'!A5:$V$50,MATCH($A16,'[1]公式予選（TT①）-結果表（貼付）'!A5:$A$50,0),MATCH('公式予選（TT①）'!B$11,'[1]公式予選（TT①）-結果表（貼付）'!$1:$1,0)),"") -> 11 | E16: =IFERROR(INDEX('[1]公式予選（TT①）-結果表（貼付）'!$A:$Z,MATCH($B16,'[1]公式予選（TT①）-結果表（貼付）'!$B:$B,0),MATCH('公式予選（TT①）'!E$11,'[1]公式予選（TT①）-結果表（貼付）'!$1:$1,0)),"") -> 佐野 雄城 | F16: =IFERROR(INDEX('[1]公式予選（TT①）-結果表（貼付）'!$A:$Z,MATCH($B16,'[1]公式予選（TT①）-結果表（貼付）'!$B:$B,0),MATCH('公式予選（TT①）'!F$11,'[1]公式予選（TT①）-結果表（貼付）'!$1:$1,0)),"") -> Birel ART/IAME | G16: =IFERROR(INDEX('[1]公式予選（TT①）-結果表（貼付）'!$A:$Z,MATCH($B16,'[1]公式予選（TT①）-結果表（貼付）'!$B:$B,0),MATCH('公式予選（TT①）'!G$11,'[1]公式予選（TT①）-結果表（貼付）'!$1:$1,0)),"") -> BirelART Access Racing | H16: =IFERROR(INDEX('[1]公式予選（TT①）-結果表（貼付）'!$A:$Z,MATCH($B16,'[1]公式予選（TT①）-結果表（貼付）'!$B:$B,0),MATCH('公式予選（TT①）'!H$11,'[1]公式予選（TT①）-結果表（貼付）'!$1:$1,0)),"") -> BS | I16: =IF(A16="DNS","ｽﾀｰﾄ出来ず",IF(A16="DQ","失 格",IFERROR(INDEX('[1]公式予選（TT①）-結果表（貼付）'!$A:$Z,MATCH($B16,'[1]公式予選（TT①）-結果表（貼付）'!$B:$B,0),MATCH('公式予選（TT①）'!I$11,'[1]公式予選（TT①）-結果表（貼付）'!$1:$1,0)),""))) -> 44.684 | J16: =IF(I16<1,"",IF($J$11>I16,"R","")) -> R | K16: =IF(OR('[1]公式予選（TT①）-結果表（貼付）'!A5="DNS",'[1]公式予選（TT①）-結果表（貼付）'!A5="DQ"),"",IFERROR(INDEX('[1]公式予選（TT①）-結果表（貼付）'!$A:$Z,MATCH($B16,'[1]公式予選（TT①）-結果表（貼付）'!$B:$B,0),MATCH('公式予選（TT①）'!K$11,'[1]公式予選（TT①）-結果表（貼付）'!$1:$1,0)),"")) -> 0.168 | L16: =IF(OR('[1]公式予選（TT①）-結果表（貼付）'!A5="DNS",'[1]公式予選（TT①）-結果表（貼付）'!A5="DQ"),"",IFERROR(INDEX('[1]公式予選（TT①）-結果表（貼付）'!$A:$Z,MATCH($B16,'[1]公式予選（TT①）-結果表（貼付）'!$B:$B,0),MATCH('公式予選（TT①）'!L$11,'[1]公式予選（TT①）-結果表（貼付）'!$1:$1,0)),"")) -> 0.118 | M16: =IF(OR('[1]公式予選（TT①）-結果表（貼付）'!A5="DNS",'[1]公式予選（TT①）-結果表（貼付）'!A5="DQ"),"",IFERROR(INDEX('[1]公式予選（TT①）-結果表（貼付）'!$A:$Z,MATCH($B16,'[1]公式予選（TT①）-結果表（貼付）'!$B:$B,0),MATCH("In Lap",'[1]公式予選（TT①）-結果表（貼付）'!$1:$1,0))&"/"&INDEX('[1]公式予選（TT①）-結果表（貼付）'!$A:$Z,MATCH($B16,'[1]公式予選（TT①）-結果表（貼付）'!$B:$B,0),MATCH("Laps",'[1]公式予選（TT①）-結果表（貼付）'!$1:$1,0)),"")) -> 4/5 | Q16: =IF(IFERROR(INDEX('[1]公式予選（TT①）-結果表（貼付）'!$A:$Z,MATCH($B16,'[1]公式予選（TT①）-結果表（貼付）'!$B:$B,0),MATCH(Q$11,'[1]公式予選（TT①）-結果表（貼付）'!$1:$1,0)),"")=0,"",IFERROR(INDEX('[1]公式予選（TT①）-結果表（貼付）'!$A:$Z,MATCH($B16,'[1]公式予選（TT①）-結果表（貼付）'!$B:$B,0),MATCH(Q$11,'[1]公式予選（TT①）-結果表（貼付）'!$1:$1,0)),"")) | R16: =IF(Q16="","",COUNTIF($Q$13:Q16,"<>"&"")) | S16: =IFERROR(RANK(R16,$R$13:$R$48,1),"") | T16: =IF(IFERROR(INDEX('[1]公式予選（TT①）-結果表（貼付）'!$A:$Z,MATCH($A16,'[1]公式予選（TT①）-結果表（貼付）'!$A:$A,0),MATCH(T$11,'[1]公式予選（TT①）-結果表（貼付）'!$1:$1,0)),"")=0,"",IFERROR(INDEX('[1]公式予選（TT①）-結果表（貼付）'!$A:$Z,MATCH($A16,'[1]公式予選（TT①）-結果表（貼付）'!$A:$A,0),MATCH(T$11,'[1]公式予選（TT①）-結果表（貼付）'!$1:$1,0)),""))
A17: =IF(OR('[1]公式予選（TT①）-結果表（貼付）'!A6="DNF",'[1]公式予選（TT①）-結果表（貼付）'!A6="DNS",'[1]公式予選（TT①）-結果表（貼付）'!A6="DQ"),'[1]公式予選（TT①）-結果表（貼付）'!A6,IF(MAX('[1]公式予選（TT①）-結果表（貼付）'!$A:$A)>A16,A16+1,"")) -> 5 | B17: =IFERROR(INDEX('[1]公式予選（TT①）-結果表（貼付）'!A6:$V$50,MATCH($A17,'[1]公式予選（TT①）-結果表（貼付）'!A6:$A$50,0),MATCH('公式予選（TT①）'!B$11,'[1]公式予選（TT①）-結果表（貼付）'!$1:$1,0)),"") -> 81 | E17: =IFERROR(INDEX('[1]公式予選（TT①）-結果表（貼付）'!$A:$Z,MATCH($B17,'[1]公式予選（TT①）-結果表（貼付）'!$B:$B,0),MATCH('公式予選（TT①）'!E$11,'[1]公式予選（TT①）-結果表（貼付）'!$1:$1,0)),"") -> 山田 杯利 | F17: =IFERROR(INDEX('[1]公式予選（TT①）-結果表（貼付）'!$A:$Z,MATCH($B17,'[1]公式予選（TT①）-結果表（貼付）'!$B:$B,0),MATCH('公式予選（TT①）'!F$11,'[1]公式予選（TT①）-結果表（貼付）'!$1:$1,0)),"") -> Drago CORSE/TM | G17: =IFERROR(INDEX('[1]公式予選（TT①）-結果表（貼付）'!$A:$Z,MATCH($B17,'[1]公式予選（TT①）-結果表（貼付）'!$B:$B,0),MATCH('公式予選（TT①）'!G$11,'[1]公式予選（TT①）-結果表（貼付）'!$1:$1,0)),"") -> DragoCorse | H17: =IFERROR(INDEX('[1]公式予選（TT①）-結果表（貼付）'!$A:$Z,MATCH($B17,'[1]公式予選（TT①）-結果表（貼付）'!$B:$B,0),MATCH('公式予選（TT①）'!H$11,'[1]公式予選（TT①）-結果表（貼付）'!$1:$1,0)),"") -> BS | I17: =IF(A17="DNS","ｽﾀｰﾄ出来ず",IF(A17="DQ","失 格",IFERROR(INDEX('[1]公式予選（TT①）-結果表（貼付）'!$A:$Z,MATCH($B17,'[1]公式予選（TT①）-結果表（貼付）'!$B:$B,0),MATCH('公式予選（TT①）'!I$11,'[1]公式予選（TT①）-結果表（貼付）'!$1:$1,0)),""))) -> 44.71 | J17: =IF(I17<1,"",IF($J$11>I17,"R","")) -> R | K17: =IF(OR('[1]公式予選（TT①）-結果表（貼付）'!A6="DNS",'[1]公式予選（TT①）-結果表（貼付）'!A6="DQ"),"",IFERROR(INDEX('[1]公式予選（TT①）-結果表（貼付）'!$A:$Z,MATCH($B17,'[1]公式予選（TT①）-結果表（貼付）'!$B:$B,0),MATCH('公式予選（TT①）'!K$11,'[1]公式予選（TT①）-結果表（貼付）'!$1:$1,0)),"")) -> 0.194 | L17: =IF(OR('[1]公式予選（TT①）-結果表（貼付）'!A6="DNS",'[1]公式予選（TT①）-結果表（貼付）'!A6="DQ"),"",IFERROR(INDEX('[1]公式予選（TT①）-結果表（貼付）'!$A:$Z,MATCH($B17,'[1]公式予選（TT①）-結果表（貼付）'!$B:$B,0),MATCH('公式予選（TT①）'!L$11,'[1]公式予選（TT①）-結果表（貼付）'!$1:$1,0)),"")) -> 0.026 | M17: =IF(OR('[1]公式予選（TT①）-結果表（貼付）'!A6="DNS",'[1]公式予選（TT①）-結果表（貼付）'!A6="DQ"),"",IFERROR(INDEX('[1]公式予選（TT①）-結果表（貼付）'!$A:$Z,MATCH($B17,'[1]公式予選（TT①）-結果表（貼付）'!$B:$B,0),MATCH("In Lap",'[1]公式予選（TT①）-結果表（貼付）'!$1:$1,0))&"/"&INDEX('[1]公式予選（TT①）-結果表（貼付）'!$A:$Z,MATCH($B17,'[1]公式予選（TT①）-結果表（貼付）'!$B:$B,0),MATCH("Laps",'[1]公式予選（TT①）-結果表（貼付）'!$1:$1,0)),"")) -> 3/5 | Q17: =IF(IFERROR(INDEX('[1]公式予選（TT①）-結果表（貼付）'!$A:$Z,MATCH($B17,'[1]公式予選（TT①）-結果表（貼付）'!$B:$B,0),MATCH(Q$11,'[1]公式予選（TT①）-結果表（貼付）'!$1:$1,0)),"")=0,"",IFERROR(INDEX('[1]公式予選（TT①）-結果表（貼付）'!$A:$Z,MATCH($B17,'[1]公式予選（TT①）-結果表（貼付）'!$B:$B,0),MATCH(Q$11,'[1]公式予選（TT①）-結果表（貼付）'!$1:$1,0)),"")) | R17: =IF(Q17="","",COUNTIF($Q$13:Q17,"<>"&"")) | S17: =IFERROR(RANK(R17,$R$13:$R$48,1),"") | T17: =IF(IFERROR(INDEX('[1]公式予選（TT①）-結果表（貼付）'!$A:$Z,MATCH($A17,'[1]公式予選（TT①）-結果表（貼付）'!$A:$A,0),MATCH(T$11,'[1]公式予選（TT①）-結果表（貼付）'!$1:$1,0)),"")=0,"",IFERROR(INDEX('[1]公式予選（TT①）-結果表（貼付）'!$A:$Z,MATCH($A17,'[1]公式予選（TT①）-結果表（貼付）'!$A:$A,0),MATCH(T$11,'[1]公式予選（TT①）-結果表（貼付）'!$1:$1,0)),""))
A18: =IF(OR('[1]公式予選（TT①）-結果表（貼付）'!A7="DNF",'[1]公式予選（TT①）-結果表（貼付）'!A7="DNS",'[1]公式予選（TT①）-結果表（貼付）'!A7="DQ"),'[1]公式予選（TT①）-結果表（貼付）'!A7,IF(MAX('[1]公式予選（TT①）-結果表（貼付）'!$A:$A)>A17,A17+1,"")) -> 6 | B18: =IFERROR(INDEX('[1]公式予選（TT①）-結果表（貼付）'!A7:$V$50,MATCH($A18,'[1]公式予選（TT①）-結果表（貼付）'!A7:$A$50,0),MATCH('公式予選（TT①）'!B$11,'[1]公式予選（TT①）-結果表（貼付）'!$1:$1,0)),"") -> 51 | E18: =IFERROR(INDEX('[1]公式予選（TT①）-結果表（貼付）'!$A:$Z,MATCH($B18,'[1]公式予選（TT①）-結果表（貼付）'!$B:$B,0),MATCH('公式予選（TT①）'!E$11,'[1]公式予選（TT①）-結果表（貼付）'!$1:$1,0)),"") -> 堂園 鷲 | F18: =IFERROR(INDEX('[1]公式予選（TT①）-結果表（貼付）'!$A:$Z,MATCH($B18,'[1]公式予選（TT①）-結果表（貼付）'!$B:$B,0),MATCH('公式予選（TT①）'!F$11,'[1]公式予選（TT①）-結果表（貼付）'!$1:$1,0)),"") -> ENERGY CORCE/TM | G18: =IFERROR(INDEX('[1]公式予選（TT①）-結果表（貼付）'!$A:$Z,MATCH($B18,'[1]公式予選（TT①）-結果表（貼付）'!$B:$B,0),MATCH('公式予選（TT①）'!G$11,'[1]公式予選（TT①）-結果表（貼付）'!$1:$1,0)),"") -> ENERGY JAPAN | H18: =IFERROR(INDEX('[1]公式予選（TT①）-結果表（貼付）'!$A:$Z,MATCH($B18,'[1]公式予選（TT①）-結果表（貼付）'!$B:$B,0),MATCH('公式予選（TT①）'!H$11,'[1]公式予選（TT①）-結果表（貼付）'!$1:$1,0)),"") -> BS | I18: =IF(A18="DNS","ｽﾀｰﾄ出来ず",IF(A18="DQ","失 格",IFERROR(INDEX('[1]公式予選（TT①）-結果表（貼付）'!$A:$Z,MATCH($B18,'[1]公式予選（TT①）-結果表（貼付）'!$B:$B,0),MATCH('公式予選（TT①）'!I$11,'[1]公式予選（TT①）-結果表（貼付）'!$1:$1,0)),""))) -> 44.767 | J18: =IF(I18<1,"",IF($J$11>I18,"R","")) -> R | K18: =IF(OR('[1]公式予選（TT①）-結果表（貼付）'!A7="DNS",'[1]公式予選（TT①）-結果表（貼付）'!A7="DQ"),"",IFERROR(INDEX('[1]公式予選（TT①）-結果表（貼付）'!$A:$Z,MATCH($B18,'[1]公式予選（TT①）-結果表（貼付）'!$B:$B,0),MATCH('公式予選（TT①）'!K$11,'[1]公式予選（TT①）-結果表（貼付）'!$1:$1,0)),"")) -> 0.251 | L18: =IF(OR('[1]公式予選（TT①）-結果表（貼付）'!A7="DNS",'[1]公式予選（TT①）-結果表（貼付）'!A7="DQ"),"",IFERROR(INDEX('[1]公式予選（TT①）-結果表（貼付）'!$A:$Z,MATCH($B18,'[1]公式予選（TT①）-結果表（貼付）'!$B:$B,0),MATCH('公式予選（TT①）'!L$11,'[1]公式予選（TT①）-結果表（貼付）'!$1:$1,0)),"")) -> 0.057 | M18: =IF(OR('[1]公式予選（TT①）-結果表（貼付）'!A7="DNS",'[1]公式予選（TT①）-結果表（貼付）'!A7="DQ"),"",IFERROR(INDEX('[1]公式予選（TT①）-結果表（貼付）'!$A:$Z,MATCH($B18,'[1]公式予選（TT①）-結果表（貼付）'!$B:$B,0),MATCH("In Lap",'[1]公式予選（TT①）-結果表（貼付）'!$1:$1,0))&"/"&INDEX('[1]公式予選（TT①）-結果表（貼付）'!$A:$Z,MATCH($B18,'[1]公式予選（TT①）-結果表（貼付）'!$B:$B,0),MATCH("Laps",'[1]公式予選（TT①）-結果表（貼付）'!$1:$1,0)),"")) -> 2/3 | Q18: =IF(IFERROR(INDEX('[1]公式予選（TT①）-結果表（貼付）'!$A:$Z,MATCH($B18,'[1]公式予選（TT①）-結果表（貼付）'!$B:$B,0),MATCH(Q$11,'[1]公式予選（TT①）-結果表（貼付）'!$1:$1,0)),"")=0,"",IFERROR(INDEX('[1]公式予選（TT①）-結果表（貼付）'!$A:$Z,MATCH($B18,'[1]公式予選（TT①）-結果表（貼付）'!$B:$B,0),MATCH(Q$11,'[1]公式予選（TT①）-結果表（貼付）'!$1:$1,0)),"")) | R18: =IF(Q18="","",COUNTIF($Q$13:Q18,"<>"&"")) | S18: =IFERROR(RANK(R18,$R$13:$R$48,1),"") | T18: =IF(IFERROR(INDEX('[1]公式予選（TT①）-結果表（貼付）'!$A:$Z,MATCH($A18,'[1]公式予選（TT①）-結果表（貼付）'!$A:$A,0),MATCH(T$11,'[1]公式予選（TT①）-結果表（貼付）'!$1:$1,0)),"")=0,"",IFERROR(INDEX('[1]公式予選（TT①）-結果表（貼付）'!$A:$Z,MATCH($A18,'[1]公式予選（TT①）-結果表（貼付）'!$A:$A,0),MATCH(T$11,'[1]公式予選（TT①）-結果表（貼付）'!$1:$1,0)),""))
A19: =IF(OR('[1]公式予選（TT①）-結果表（貼付）'!A8="DNF",'[1]公式予選（TT①）-結果表（貼付）'!A8="DNS",'[1]公式予選（TT①）-結果表（貼付）'!A8="DQ"),'[1]公式予選（TT①）-結果表（貼付）'!A8,IF(MAX('[1]公式予選（TT①）-結果表（貼付）'!$A:$A)>A18,A18+1,"")) -> 7 | B19: =IFERROR(INDEX('[1]公式予選（TT①）-結果表（貼付）'!A8:$V$50,MATCH($A19,'[1]公式予選（TT①）-結果表（貼付）'!A8:$A$50,0),MATCH('公式予選（TT①）'!B$11,'[1]公式予選（TT①）-結果表（貼付）'!$1:$1,0)),"") -> 14 | E19: =IFERROR(INDEX('[1]公式予選（TT①）-結果表（貼付）'!$A:$Z,MATCH($B19,'[1]公式予選（TT①）-結果表（貼付）'!$B:$B,0),MATCH('公式予選（TT①）'!E$11,'[1]公式予選（TT①）-結果表（貼付）'!$1:$1,0)),"") -> 浅見 謙心 | F19: =IFERROR(INDEX('[1]公式予選（TT①）-結果表（貼付）'!$A:$Z,MATCH($B19,'[1]公式予選（TT①）-結果表（貼付）'!$B:$B,0),MATCH('公式予選（TT①）'!F$11,'[1]公式予選（TT①）-結果表（貼付）'!$1:$1,0)),"") -> Birel ART/IAME | G19: =IFERROR(INDEX('[1]公式予選（TT①）-結果表（貼付）'!$A:$Z,MATCH($B19,'[1]公式予選（TT①）-結果表（貼付）'!$B:$B,0),MATCH('公式予選（TT①）'!G$11,'[1]公式予選（TT①）-結果表（貼付）'!$1:$1,0)),"") -> BirelART Access Racing | H19: =IFERROR(INDEX('[1]公式予選（TT①）-結果表（貼付）'!$A:$Z,MATCH($B19,'[1]公式予選（TT①）-結果表（貼付）'!$B:$B,0),MATCH('公式予選（TT①）'!H$11,'[1]公式予選（TT①）-結果表（貼付）'!$1:$1,0)),"") -> BS | I19: =IF(A19="DNS","ｽﾀｰﾄ出来ず",IF(A19="DQ","失 格",IFERROR(INDEX('[1]公式予選（TT①）-結果表（貼付）'!$A:$Z,MATCH($B19,'[1]公式予選（TT①）-結果表（貼付）'!$B:$B,0),MATCH('公式予選（TT①）'!I$11,'[1]公式予選（TT①）-結果表（貼付）'!$1:$1,0)),""))) -> 44.784 | J19: =IF(I19<1,"",IF($J$11>I19,"R","")) -> R | K19: =IF(OR('[1]公式予選（TT①）-結果表（貼付）'!A8="DNS",'[1]公式予選（TT①）-結果表（貼付）'!A8="DQ"),"",IFERROR(INDEX('[1]公式予選（TT①）-結果表（貼付）'!$A:$Z,MATCH($B19,'[1]公式予選（TT①）-結果表（貼付）'!$B:$B,0),MATCH('公式予選（TT①）'!K$11,'[1]公式予選（TT①）-結果表（貼付）'!$1:$1,0)),"")) -> 0.268 | L19: =IF(OR('[1]公式予選（TT①）-結果表（貼付）'!A8="DNS",'[1]公式予選（TT①）-結果表（貼付）'!A8="DQ"),"",IFERROR(INDEX('[1]公式予選（TT①）-結果表（貼付）'!$A:$Z,MATCH($B19,'[1]公式予選（TT①）-結果表（貼付）'!$B:$B,0),MATCH('公式予選（TT①）'!L$11,'[1]公式予選（TT①）-結果表（貼付）'!$1:$1,0)),"")) -> 0.017 | M19: =IF(OR('[1]公式予選（TT①）-結果表（貼付）'!A8="DNS",'[1]公式予選（TT①）-結果表（貼付）'!A8="DQ"),"",IFERROR(INDEX('[1]公式予選（TT①）-結果表（貼付）'!$A:$Z,MATCH($B19,'[1]公式予選（TT①）-結果表（貼付）'!$B:$B,0),MATCH("In Lap",'[1]公式予選（TT①）-結果表（貼付）'!$1:$1,0))&"/"&INDEX('[1]公式予選（TT①）-結果表（貼付）'!$A:$Z,MATCH($B19,'[1]公式予選（TT①）-結果表（貼付）'!$B:$B,0),MATCH("Laps",'[1]公式予選（TT①）-結果表（貼付）'!$1:$1,0)),"")) -> 5/5 | Q19: =IF(IFERROR(INDEX('[1]公式予選（TT①）-結果表（貼付）'!$A:$Z,MATCH($B19,'[1]公式予選（TT①）-結果表（貼付）'!$B:$B,0),MATCH(Q$11,'[1]公式予選（TT①）-結果表（貼付）'!$1:$1,0)),"")=0,"",IFERROR(INDEX('[1]公式予選（TT①）-結果表（貼付）'!$A:$Z,MATCH($B19,'[1]公式予選（TT①）-結果表（貼付）'!$B:$B,0),MATCH(Q$11,'[1]公式予選（TT①）-結果表（貼付）'!$1:$1,0)),"")) | R19: =IF(Q19="","",COUNTIF($Q$13:Q19,"<>"&"")) | S19: =IFERROR(RANK(R19,$R$13:$R$48,1),"") | T19: =IF(IFERROR(INDEX('[1]公式予選（TT①）-結果表（貼付）'!$A:$Z,MATCH($A19,'[1]公式予選（TT①）-結果表（貼付）'!$A:$A,0),MATCH(T$11,'[1]公式予選（TT①）-結果表（貼付）'!$1:$1,0)),"")=0,"",IFERROR(INDEX('[1]公式予選（TT①）-結果表（貼付）'!$A:$Z,MATCH($A19,'[1]公式予選（TT①）-結果表（貼付）'!$A:$A,0),MATCH(T$11,'[1]公式予選（TT①）-結果表（貼付）'!$1:$1,0)),""))
A20: =IF(OR('[1]公式予選（TT①）-結果表（貼付）'!A9="DNF",'[1]公式予選（TT①）-結果表（貼付）'!A9="DNS",'[1]公式予選（TT①）-結果表（貼付）'!A9="DQ"),'[1]公式予選（TT①）-結果表（貼付）'!A9,IF(MAX('[1]公式予選（TT①）-結果表（貼付）'!$A:$A)>A19,A19+1,"")) -> 8 | B20: =IFERROR(INDEX('[1]公式予選（TT①）-結果表（貼付）'!A9:$V$50,MATCH($A20,'[1]公式予選（TT①）-結果表（貼付）'!A9:$A$50,0),MATCH('公式予選（TT①）'!B$11,'[1]公式予選（TT①）-結果表（貼付）'!$1:$1,0)),"") -> 77 | E20: =IFERROR(INDEX('[1]公式予選（TT①）-結果表（貼付）'!$A:$Z,MATCH($B20,'[1]公式予選（TT①）-結果表（貼付）'!$B:$B,0),MATCH('公式予選（TT①）'!E$11,'[1]公式予選（TT①）-結果表（貼付）'!$1:$1,0)),"") -> 渡部 智仁 | F20: =IFERROR(INDEX('[1]公式予選（TT①）-結果表（貼付）'!$A:$Z,MATCH($B20,'[1]公式予選（TT①）-結果表（貼付）'!$B:$B,0),MATCH('公式予選（TT①）'!F$11,'[1]公式予選（TT①）-結果表（貼付）'!$1:$1,0)),"") -> Rosa Drago CORSE/TM | G20: =IFERROR(INDEX('[1]公式予選（TT①）-結果表（貼付）'!$A:$Z,MATCH($B20,'[1]公式予選（TT①）-結果表（貼付）'!$B:$B,0),MATCH('公式予選（TT①）'!G$11,'[1]公式予選（TT①）-結果表（貼付）'!$1:$1,0)),"") -> RosaDragoCORSE | H20: =IFERROR(INDEX('[1]公式予選（TT①）-結果表（貼付）'!$A:$Z,MATCH($B20,'[1]公式予選（TT①）-結果表（貼付）'!$B:$B,0),MATCH('公式予選（TT①）'!H$11,'[1]公式予選（TT①）-結果表（貼付）'!$1:$1,0)),"") -> BS | I20: =IF(A20="DNS","ｽﾀｰﾄ出来ず",IF(A20="DQ","失 格",IFERROR(INDEX('[1]公式予選（TT①）-結果表（貼付）'!$A:$Z,MATCH($B20,'[1]公式予選（TT①）-結果表（貼付）'!$B:$B,0),MATCH('公式予選（TT①）'!I$11,'[1]公式予選（TT①）-結果表（貼付）'!$1:$1,0)),""))) -> 44.795 | J20: =IF(I20<1,"",IF($J$11>I20,"R","")) -> R | K20: =IF(OR('[1]公式予選（TT①）-結果表（貼付）'!A9="DNS",'[1]公式予選（TT①）-結果表（貼付）'!A9="DQ"),"",IFERROR(INDEX('[1]公式予選（TT①）-結果表（貼付）'!$A:$Z,MATCH($B20,'[1]公式予選（TT①）-結果表（貼付）'!$B:$B,0),MATCH('公式予選（TT①）'!K$11,'[1]公式予選（TT①）-結果表（貼付）'!$1:$1,0)),"")) -> 0.279 | L20: =IF(OR('[1]公式予選（TT①）-結果表（貼付）'!A9="DNS",'[1]公式予選（TT①）-結果表（貼付）'!A9="DQ"),"",IFERROR(INDEX('[1]公式予選（TT①）-結果表（貼付）'!$A:$Z,MATCH($B20,'[1]公式予選（TT①）-結果表（貼付）'!$B:$B,0),MATCH('公式予選（TT①）'!L$11,'[1]公式予選（TT①）-結果表（貼付）'!$1:$1,0)),"")) -> 0.011 | M20: =IF(OR('[1]公式予選（TT①）-結果表（貼付）'!A9="DNS",'[1]公式予選（TT①）-結果表（貼付）'!A9="DQ"),"",IFERROR(INDEX('[1]公式予選（TT①）-結果表（貼付）'!$A:$Z,MATCH($B20,'[1]公式予選（TT①）-結果表（貼付）'!$B:$B,0),MATCH("In Lap",'[1]公式予選（TT①）-結果表（貼付）'!$1:$1,0))&"/"&INDEX('[1]公式予選（TT①）-結果表（貼付）'!$A:$Z,MATCH($B20,'[1]公式予選（TT①）-結果表（貼付）'!$B:$B,0),MATCH("Laps",'[1]公式予選（TT①）-結果表（貼付）'!$1:$1,0)),"")) -> 4/6 | Q20: =IF(IFERROR(INDEX('[1]公式予選（TT①）-結果表（貼付）'!$A:$Z,MATCH($B20,'[1]公式予選（TT①）-結果表（貼付）'!$B:$B,0),MATCH(Q$11,'[1]公式予選（TT①）-結果表（貼付）'!$1:$1,0)),"")=0,"",IFERROR(INDEX('[1]公式予選（TT①）-結果表（貼付）'!$A:$Z,MATCH($B20,'[1]公式予選（TT①）-結果表（貼付）'!$B:$B,0),MATCH(Q$11,'[1]公式予選（TT①）-結果表（貼付）'!$1:$1,0)),"")) | R20: =IF(Q20="","",COUNTIF($Q$13:Q20,"<>"&"")) | S20: =IFERROR(RANK(R20,$R$13:$R$48,1),"") | T20: =IF(IFERROR(INDEX('[1]公式予選（TT①）-結果表（貼付）'!$A:$Z,MATCH($A20,'[1]公式予選（TT①）-結果表（貼付）'!$A:$A,0),MATCH(T$11,'[1]公式予選（TT①）-結果表（貼付）'!$1:$1,0)),"")=0,"",IFERROR(INDEX('[1]公式予選（TT①）-結果表（貼付）'!$A:$Z,MATCH($A20,'[1]公式予選（TT①）-結果表（貼付）'!$A:$A,0),MATCH(T$11,'[1]公式予選（TT①）-結果表（貼付）'!$1:$1,0)),""))
A21: =IF(OR('[1]公式予選（TT①）-結果表（貼付）'!A10="DNF",'[1]公式予選（TT①）-結果表（貼付）'!A10="DNS",'[1]公式予選（TT①）-結果表（貼付）'!A10="DQ"),'[1]公式予選（TT①）-結果表（貼付）'!A10,IF(MAX('[1]公式予選（TT①）-結果表（貼付）'!$A:$A)>A20,A20+1,"")) -> 9 | B21: =IFERROR(INDEX('[1]公式予選（TT①）-結果表（貼付）'!A10:$V$50,MATCH($A21,'[1]公式予選（TT①）-結果表（貼付）'!A10:$A$50,0),MATCH('公式予選（TT①）'!B$11,'[1]公式予選（TT①）-結果表（貼付）'!$1:$1,0)),"") -> 55 | E21: =IFERROR(INDEX('[1]公式予選（TT①）-結果表（貼付）'!$A:$Z,MATCH($B21,'[1]公式予選（TT①）-結果表（貼付）'!$B:$B,0),MATCH('公式予選（TT①）'!E$11,'[1]公式予選（TT①）-結果表（貼付）'!$1:$1,0)),"") -> 藤井 翔大 | F21: =IFERROR(INDEX('[1]公式予選（TT①）-結果表（貼付）'!$A:$Z,MATCH($B21,'[1]公式予選（TT①）-結果表（貼付）'!$B:$B,0),MATCH('公式予選（TT①）'!F$11,'[1]公式予選（TT①）-結果表（貼付）'!$1:$1,0)),"") -> Drago CORSE/TM | G21: =IFERROR(INDEX('[1]公式予選（TT①）-結果表（貼付）'!$A:$Z,MATCH($B21,'[1]公式予選（TT①）-結果表（貼付）'!$B:$B,0),MATCH('公式予選（TT①）'!G$11,'[1]公式予選（TT①）-結果表（貼付）'!$1:$1,0)),"") -> Croc Promotion | H21: =IFERROR(INDEX('[1]公式予選（TT①）-結果表（貼付）'!$A:$Z,MATCH($B21,'[1]公式予選（TT①）-結果表（貼付）'!$B:$B,0),MATCH('公式予選（TT①）'!H$11,'[1]公式予選（TT①）-結果表（貼付）'!$1:$1,0)),"") -> BS | I21: =IF(A21="DNS","ｽﾀｰﾄ出来ず",IF(A21="DQ","失 格",IFERROR(INDEX('[1]公式予選（TT①）-結果表（貼付）'!$A:$Z,MATCH($B21,'[1]公式予選（TT①）-結果表（貼付）'!$B:$B,0),MATCH('公式予選（TT①）'!I$11,'[1]公式予選（TT①）-結果表（貼付）'!$1:$1,0)),""))) -> 44.821 | J21: =IF(I21<1,"",IF($J$11>I21,"R","")) -> R | K21: =IF(OR('[1]公式予選（TT①）-結果表（貼付）'!A10="DNS",'[1]公式予選（TT①）-結果表（貼付）'!A10="DQ"),"",IFERROR(INDEX('[1]公式予選（TT①）-結果表（貼付）'!$A:$Z,MATCH($B21,'[1]公式予選（TT①）-結果表（貼付）'!$B:$B,0),MATCH('公式予選（TT①）'!K$11,'[1]公式予選（TT①）-結果表（貼付）'!$1:$1,0)),"")) -> 0.305 | L21: =IF(OR('[1]公式予選（TT①）-結果表（貼付）'!A10="DNS",'[1]公式予選（TT①）-結果表（貼付）'!A10="DQ"),"",IFERROR(INDEX('[1]公式予選（TT①）-結果表（貼付）'!$A:$Z,MATCH($B21,'[1]公式予選（TT①）-結果表（貼付）'!$B:$B,0),MATCH('公式予選（TT①）'!L$11,'[1]公式予選（TT①）-結果表（貼付）'!$1:$1,0)),"")) -> 0.026 | M21: =IF(OR('[1]公式予選（TT①）-結果表（貼付）'!A10="DNS",'[1]公式予選（TT①）-結果表（貼付）'!A10="DQ"),"",IFERROR(INDEX('[1]公式予選（TT①）-結果表（貼付）'!$A:$Z,MATCH($B21,'[1]公式予選（TT①）-結果表（貼付）'!$B:$B,0),MATCH("In Lap",'[1]公式予選（TT①）-結果表（貼付）'!$1:$1,0))&"/"&INDEX('[1]公式予選（TT①）-結果表（貼付）'!$A:$Z,MATCH($B21,'[1]公式予選（TT①）-結果表（貼付）'!$B:$B,0),MATCH("Laps",'[1]公式予選（TT①）-結果表（貼付）'!$1:$1,0)),"")) -> 6/7 | Q21: =IF(IFERROR(INDEX('[1]公式予選（TT①）-結果表（貼付）'!$A:$Z,MATCH($B21,'[1]公式予選（TT①）-結果表（貼付）'!$B:$B,0),MATCH(Q$11,'[1]公式予選（TT①）-結果表（貼付）'!$1:$1,0)),"")=0,"",IFERROR(INDEX('[1]公式予選（TT①）-結果表（貼付）'!$A:$Z,MATCH($B21,'[1]公式予選（TT①）-結果表（貼付）'!$B:$B,0),MATCH(Q$11,'[1]公式予選（TT①）-結果表（貼付）'!$1:$1,0)),"")) | R21: =IF(Q21="","",COUNTIF($Q$13:Q21,"<>"&"")) | S21: =IFERROR(RANK(R21,$R$13:$R$48,1),"") | T21: =IF(IFERROR(INDEX('[1]公式予選（TT①）-結果表（貼付）'!$A:$Z,MATCH($A21,'[1]公式予選（TT①）-結果表（貼付）'!$A:$A,0),MATCH(T$11,'[1]公式予選（TT①）-結果表（貼付）'!$1:$1,0)),"")=0,"",IFERROR(INDEX('[1]公式予選（TT①）-結果表（貼付）'!$A:$Z,MATCH($A21,'[1]公式予選（TT①）-結果表（貼付）'!$A:$A,0),MATCH(T$11,'[1]公式予選（TT①）-結果表（貼付）'!$1:$1,0)),""))
A22: =IF(OR('[1]公式予選（TT①）-結果表（貼付）'!A11="DNF",'[1]公式予選（TT①）-結果表（貼付）'!A11="DNS",'[1]公式予選（TT①）-結果表（貼付）'!A11="DQ"),'[1]公式予選（TT①）-結果表（貼付）'!A11,IF(MAX('[1]公式予選（TT①）-結果表（貼付）'!$A:$A)>A21,A21+1,"")) -> 10 | B22: =IFERROR(INDEX('[1]公式予選（TT①）-結果表（貼付）'!A11:$V$50,MATCH($A22,'[1]公式予選（TT①）-結果表（貼付）'!A11:$A$50,0),MATCH('公式予選（TT①）'!B$11,'[1]公式予選（TT①）-結果表（貼付）'!$1:$1,0)),"") -> 15 | E22: =IFERROR(INDEX('[1]公式予選（TT①）-結果表（貼付）'!$A:$Z,MATCH($B22,'[1]公式予選（TT①）-結果表（貼付）'!$B:$B,0),MATCH('公式予選（TT①）'!E$11,'[1]公式予選（TT①）-結果表（貼付）'!$1:$1,0)),"") -> 熊谷 憲太 | F22: =IFERROR(INDEX('[1]公式予選（TT①）-結果表（貼付）'!$A:$Z,MATCH($B22,'[1]公式予選（TT①）-結果表（貼付）'!$B:$B,0),MATCH('公式予選（TT①）'!F$11,'[1]公式予選（TT①）-結果表（貼付）'!$1:$1,0)),"") -> KR/TM | G22: =IFERROR(INDEX('[1]公式予選（TT①）-結果表（貼付）'!$A:$Z,MATCH($B22,'[1]公式予選（TT①）-結果表（貼付）'!$B:$B,0),MATCH('公式予選（TT①）'!G$11,'[1]公式予選（TT①）-結果表（貼付）'!$1:$1,0)),"") -> kp buzz with HIROTEX | H22: =IFERROR(INDEX('[1]公式予選（TT①）-結果表（貼付）'!$A:$Z,MATCH($B22,'[1]公式予選（TT①）-結果表（貼付）'!$B:$B,0),MATCH('公式予選（TT①）'!H$11,'[1]公式予選（TT①）-結果表（貼付）'!$1:$1,0)),"") -> BS | I22: =IF(A22="DNS","ｽﾀｰﾄ出来ず",IF(A22="DQ","失 格",IFERROR(INDEX('[1]公式予選（TT①）-結果表（貼付）'!$A:$Z,MATCH($B22,'[1]公式予選（TT①）-結果表（貼付）'!$B:$B,0),MATCH('公式予選（TT①）'!I$11,'[1]公式予選（TT①）-結果表（貼付）'!$1:$1,0)),""))) -> 44.844 | J22: =IF(I22<1,"",IF($J$11>I22,"R","")) -> R | K22: =IF(OR('[1]公式予選（TT①）-結果表（貼付）'!A11="DNS",'[1]公式予選（TT①）-結果表（貼付）'!A11="DQ"),"",IFERROR(INDEX('[1]公式予選（TT①）-結果表（貼付）'!$A:$Z,MATCH($B22,'[1]公式予選（TT①）-結果表（貼付）'!$B:$B,0),MATCH('公式予選（TT①）'!K$11,'[1]公式予選（TT①）-結果表（貼付）'!$1:$1,0)),"")) -> 0.328 | L22: =IF(OR('[1]公式予選（TT①）-結果表（貼付）'!A11="DNS",'[1]公式予選（TT①）-結果表（貼付）'!A11="DQ"),"",IFERROR(INDEX('[1]公式予選（TT①）-結果表（貼付）'!$A:$Z,MATCH($B22,'[1]公式予選（TT①）-結果表（貼付）'!$B:$B,0),MATCH('公式予選（TT①）'!L$11,'[1]公式予選（TT①）-結果表（貼付）'!$1:$1,0)),"")) -> 0.023 | M22: =IF(OR('[1]公式予選（TT①）-結果表（貼付）'!A11="DNS",'[1]公式予選（TT①）-結果表（貼付）'!A11="DQ"),"",IFERROR(INDEX('[1]公式予選（TT①）-結果表（貼付）'!$A:$Z,MATCH($B22,'[1]公式予選（TT①）-結果表（貼付）'!$B:$B,0),MATCH("In Lap",'[1]公式予選（TT①）-結果表（貼付）'!$1:$1,0))&"/"&INDEX('[1]公式予選（TT①）-結果表（貼付）'!$A:$Z,MATCH($B22,'[1]公式予選（TT①）-結果表（貼付）'!$B:$B,0),MATCH("Laps",'[1]公式予選（TT①）-結果表（貼付）'!$1:$1,0)),"")) -> 2/6 | Q22: =IF(IFERROR(INDEX('[1]公式予選（TT①）-結果表（貼付）'!$A:$Z,MATCH($B22,'[1]公式予選（TT①）-結果表（貼付）'!$B:$B,0),MATCH(Q$11,'[1]公式予選（TT①）-結果表（貼付）'!$1:$1,0)),"")=0,"",IFERROR(INDEX('[1]公式予選（TT①）-結果表（貼付）'!$A:$Z,MATCH($B22,'[1]公式予選（TT①）-結果表（貼付）'!$B:$B,0),MATCH(Q$11,'[1]公式予選（TT①）-結果表（貼付）'!$1:$1,0)),"")) | R22: =IF(Q22="","",COUNTIF($Q$13:Q22,"<>"&"")) | S22: =IFERROR(RANK(R22,$R$13:$R$48,1),"") | T22: =IF(IFERROR(INDEX('[1]公式予選（TT①）-結果表（貼付）'!$A:$Z,MATCH($A22,'[1]公式予選（TT①）-結果表（貼付）'!$A:$A,0),MATCH(T$11,'[1]公式予選（TT①）-結果表（貼付）'!$1:$1,0)),"")=0,"",IFERROR(INDEX('[1]公式予選（TT①）-結果表（貼付）'!$A:$Z,MATCH($A22,'[1]公式予選（TT①）-結果表（貼付）'!$A:$A,0),MATCH(T$11,'[1]公式予選（TT①）-結果表（貼付）'!$1:$1,0)),""))
A23: =IF(OR('[1]公式予選（TT①）-結果表（貼付）'!A12="DNF",'[1]公式予選（TT①）-結果表（貼付）'!A12="DNS",'[1]公式予選（TT①）-結果表（貼付）'!A12="DQ"),'[1]公式予選（TT①）-結果表（貼付）'!A12,IF(MAX('[1]公式予選（TT①）-結果表（貼付）'!$A:$A)>A22,A22+1,"")) -> 11 | B23: =IFERROR(INDEX('[1]公式予選（TT①）-結果表（貼付）'!A12:$V$50,MATCH($A23,'[1]公式予選（TT①）-結果表（貼付）'!A12:$A$50,0),MATCH('公式予選（TT①）'!B$11,'[1]公式予選（TT①）-結果表（貼付）'!$1:$1,0)),"") -> 69 | E23: =IFERROR(INDEX('[1]公式予選（TT①）-結果表（貼付）'!$A:$Z,MATCH($B23,'[1]公式予選（TT①）-結果表（貼付）'!$B:$B,0),MATCH('公式予選（TT①）'!E$11,'[1]公式予選（TT①）-結果表（貼付）'!$1:$1,0)),"") -> 半田 昌宗 | F23: =IFERROR(INDEX('[1]公式予選（TT①）-結果表（貼付）'!$A:$Z,MATCH($B23,'[1]公式予選（TT①）-結果表（貼付）'!$B:$B,0),MATCH('公式予選（TT①）'!F$11,'[1]公式予選（TT①）-結果表（貼付）'!$1:$1,0)),"") -> CRG/TM | G23: =IFERROR(INDEX('[1]公式予選（TT①）-結果表（貼付）'!$A:$Z,MATCH($B23,'[1]公式予選（TT①）-結果表（貼付）'!$B:$B,0),MATCH('公式予選（TT①）'!G$11,'[1]公式予選（TT①）-結果表（貼付）'!$1:$1,0)),"") -> TEAM WOLF | H23: =IFERROR(INDEX('[1]公式予選（TT①）-結果表（貼付）'!$A:$Z,MATCH($B23,'[1]公式予選（TT①）-結果表（貼付）'!$B:$B,0),MATCH('公式予選（TT①）'!H$11,'[1]公式予選（TT①）-結果表（貼付）'!$1:$1,0)),"") -> BS | I23: =IF(A23="DNS","ｽﾀｰﾄ出来ず",IF(A23="DQ","失 格",IFERROR(INDEX('[1]公式予選（TT①）-結果表（貼付）'!$A:$Z,MATCH($B23,'[1]公式予選（TT①）-結果表（貼付）'!$B:$B,0),MATCH('公式予選（TT①）'!I$11,'[1]公式予選（TT①）-結果表（貼付）'!$1:$1,0)),""))) -> 44.846 | J23: =IF(I23<1,"",IF($J$11>I23,"R","")) -> R | K23: =IF(OR('[1]公式予選（TT①）-結果表（貼付）'!A12="DNS",'[1]公式予選（TT①）-結果表（貼付）'!A12="DQ"),"",IFERROR(INDEX('[1]公式予選（TT①）-結果表（貼付）'!$A:$Z,MATCH($B23,'[1]公式予選（TT①）-結果表（貼付）'!$B:$B,0),MATCH('公式予選（TT①）'!K$11,'[1]公式予選（TT①）-結果表（貼付）'!$1:$1,0)),"")) -> 0.33 | L23: =IF(OR('[1]公式予選（TT①）-結果表（貼付）'!A12="DNS",'[1]公式予選（TT①）-結果表（貼付）'!A12="DQ"),"",IFERROR(INDEX('[1]公式予選（TT①）-結果表（貼付）'!$A:$Z,MATCH($B23,'[1]公式予選（TT①）-結果表（貼付）'!$B:$B,0),MATCH('公式予選（TT①）'!L$11,'[1]公式予選（TT①）-結果表（貼付）'!$1:$1,0)),"")) -> 0.002 | M23: =IF(OR('[1]公式予選（TT①）-結果表（貼付）'!A12="DNS",'[1]公式予選（TT①）-結果表（貼付）'!A12="DQ"),"",IFERROR(INDEX('[1]公式予選（TT①）-結果表（貼付）'!$A:$Z,MATCH($B23,'[1]公式予選（TT①）-結果表（貼付）'!$B:$B,0),MATCH("In Lap",'[1]公式予選（TT①）-結果表（貼付）'!$1:$1,0))&"/"&INDEX('[1]公式予選（TT①）-結果表（貼付）'!$A:$Z,MATCH($B23,'[1]公式予選（TT①）-結果表（貼付）'!$B:$B,0),MATCH("Laps",'[1]公式予選（TT①）-結果表（貼付）'!$1:$1,0)),"")) -> 6/6 | Q23: =IF(IFERROR(INDEX('[1]公式予選（TT①）-結果表（貼付）'!$A:$Z,MATCH($B23,'[1]公式予選（TT①）-結果表（貼付）'!$B:$B,0),MATCH(Q$11,'[1]公式予選（TT①）-結果表（貼付）'!$1:$1,0)),"")=0,"",IFERROR(INDEX('[1]公式予選（TT①）-結果表（貼付）'!$A:$Z,MATCH($B23,'[1]公式予選（TT①）-結果表（貼付）'!$B:$B,0),MATCH(Q$11,'[1]公式予選（TT①）-結果表（貼付）'!$1:$1,0)),"")) | R23: =IF(Q23="","",COUNTIF($Q$13:Q23,"<>"&"")) | S23: =IFERROR(RANK(R23,$R$13:$R$48,1),"") | T23: =IF(IFERROR(INDEX('[1]公式予選（TT①）-結果表（貼付）'!$A:$Z,MATCH($A23,'[1]公式予選（TT①）-結果表（貼付）'!$A:$A,0),MATCH(T$11,'[1]公式予選（TT①）-結果表（貼付）'!$1:$1,0)),"")=0,"",IFERROR(INDEX('[1]公式予選（TT①）-結果表（貼付）'!$A:$Z,MATCH($A23,'[1]公式予選（TT①）-結果表（貼付）'!$A:$A,0),MATCH(T$11,'[1]公式予選（TT①）-結果表（貼付）'!$1:$1,0)),""))
A24: =IF(OR('[1]公式予選（TT①）-結果表（貼付）'!A13="DNF",'[1]公式予選（TT①）-結果表（貼付）'!A13="DNS",'[1]公式予選（TT①）-結果表（貼付）'!A13="DQ"),'[1]公式予選（TT①）-結果表（貼付）'!A13,IF(MAX('[1]公式予選（TT①）-結果表（貼付）'!$A:$A)>A23,A23+1,"")) -> 12 | B24: =IFERROR(INDEX('[1]公式予選（TT①）-結果表（貼付）'!A13:$V$50,MATCH($A24,'[1]公式予選（TT①）-結果表（貼付）'!A13:$A$50,0),MATCH('公式予選（TT①）'!B$11,'[1]公式予選（TT①）-結果表（貼付）'!$1:$1,0)),"") -> 3 | E24: =IFERROR(INDEX('[1]公式予選（TT①）-結果表（貼付）'!$A:$Z,MATCH($B24,'[1]公式予選（TT①）-結果表（貼付）'!$B:$B,0),MATCH('公式予選（TT①）'!E$11,'[1]公式予選（TT①）-結果表（貼付）'!$1:$1,0)),"") -> 洞地 遼大 | F24: =IFERROR(INDEX('[1]公式予選（TT①）-結果表（貼付）'!$A:$Z,MATCH($B24,'[1]公式予選（TT①）-結果表（貼付）'!$B:$B,0),MATCH('公式予選（TT①）'!F$11,'[1]公式予選（TT①）-結果表（貼付）'!$1:$1,0)),"") -> KR/TM | G24: =IFERROR(INDEX('[1]公式予選（TT①）-結果表（貼付）'!$A:$Z,MATCH($B24,'[1]公式予選（TT①）-結果表（貼付）'!$B:$B,0),MATCH('公式予選（TT①）'!G$11,'[1]公式予選（TT①）-結果表（貼付）'!$1:$1,0)),"") -> PONOS HIROTEX RACING | H24: =IFERROR(INDEX('[1]公式予選（TT①）-結果表（貼付）'!$A:$Z,MATCH($B24,'[1]公式予選（TT①）-結果表（貼付）'!$B:$B,0),MATCH('公式予選（TT①）'!H$11,'[1]公式予選（TT①）-結果表（貼付）'!$1:$1,0)),"") -> DL | I24: =IF(A24="DNS","ｽﾀｰﾄ出来ず",IF(A24="DQ","失 格",IFERROR(INDEX('[1]公式予選（TT①）-結果表（貼付）'!$A:$Z,MATCH($B24,'[1]公式予選（TT①）-結果表（貼付）'!$B:$B,0),MATCH('公式予選（TT①）'!I$11,'[1]公式予選（TT①）-結果表（貼付）'!$1:$1,0)),""))) -> 45.026 | J24: =IF(I24<1,"",IF($J$11>I24,"R","")) -> R | K24: =IF(OR('[1]公式予選（TT①）-結果表（貼付）'!A13="DNS",'[1]公式予選（TT①）-結果表（貼付）'!A13="DQ"),"",IFERROR(INDEX('[1]公式予選（TT①）-結果表（貼付）'!$A:$Z,MATCH($B24,'[1]公式予選（TT①）-結果表（貼付）'!$B:$B,0),MATCH('公式予選（TT①）'!K$11,'[1]公式予選（TT①）-結果表（貼付）'!$1:$1,0)),"")) -> 0.51 | L24: =IF(OR('[1]公式予選（TT①）-結果表（貼付）'!A13="DNS",'[1]公式予選（TT①）-結果表（貼付）'!A13="DQ"),"",IFERROR(INDEX('[1]公式予選（TT①）-結果表（貼付）'!$A:$Z,MATCH($B24,'[1]公式予選（TT①）-結果表（貼付）'!$B:$B,0),MATCH('公式予選（TT①）'!L$11,'[1]公式予選（TT①）-結果表（貼付）'!$1:$1,0)),"")) -> 0.18 | M24: =IF(OR('[1]公式予選（TT①）-結果表（貼付）'!A13="DNS",'[1]公式予選（TT①）-結果表（貼付）'!A13="DQ"),"",IFERROR(INDEX('[1]公式予選（TT①）-結果表（貼付）'!$A:$Z,MATCH($B24,'[1]公式予選（TT①）-結果表（貼付）'!$B:$B,0),MATCH("In Lap",'[1]公式予選（TT①）-結果表（貼付）'!$1:$1,0))&"/"&INDEX('[1]公式予選（TT①）-結果表（貼付）'!$A:$Z,MATCH($B24,'[1]公式予選（TT①）-結果表（貼付）'!$B:$B,0),MATCH("Laps",'[1]公式予選（TT①）-結果表（貼付）'!$1:$1,0)),"")) -> 5/5 | Q24: =IF(IFERROR(INDEX('[1]公式予選（TT①）-結果表（貼付）'!$A:$Z,MATCH($B24,'[1]公式予選（TT①）-結果表（貼付）'!$B:$B,0),MATCH(Q$11,'[1]公式予選（TT①）-結果表（貼付）'!$1:$1,0)),"")=0,"",IFERROR(INDEX('[1]公式予選（TT①）-結果表（貼付）'!$A:$Z,MATCH($B24,'[1]公式予選（TT①）-結果表（貼付）'!$B:$B,0),MATCH(Q$11,'[1]公式予選（TT①）-結果表（貼付）'!$1:$1,0)),"")) | R24: =IF(Q24="","",COUNTIF($Q$13:Q24,"<>"&"")) | S24: =IFERROR(RANK(R24,$R$13:$R$48,1),"") | T24: =IF(IFERROR(INDEX('[1]公式予選（TT①）-結果表（貼付）'!$A:$Z,MATCH($A24,'[1]公式予選（TT①）-結果表（貼付）'!$A:$A,0),MATCH(T$11,'[1]公式予選（TT①）-結果表（貼付）'!$1:$1,0)),"")=0,"",IFERROR(INDEX('[1]公式予選（TT①）-結果表（貼付）'!$A:$Z,MATCH($A24,'[1]公式予選（TT①）-結果表（貼付）'!$A:$A,0),MATCH(T$11,'[1]公式予選（TT①）-結果表（貼付）'!$1:$1,0)),""))
A25: =IF(OR('[1]公式予選（TT①）-結果表（貼付）'!A14="DNF",'[1]公式予選（TT①）-結果表（貼付）'!A14="DNS",'[1]公式予選（TT①）-結果表（貼付）'!A14="DQ"),'[1]公式予選（TT①）-結果表（貼付）'!A14,IF(MAX('[1]公式予選（TT①）-結果表（貼付）'!$A:$A)>A24,A24+1,"")) -> 13 | B25: =IFERROR(INDEX('[1]公式予選（TT①）-結果表（貼付）'!A14:$V$50,MATCH($A25,'[1]公式予選（TT①）-結果表（貼付）'!A14:$A$50,0),MATCH('公式予選（TT①）'!B$11,'[1]公式予選（TT①）-結果表（貼付）'!$1:$1,0)),"") -> 33 | E25: =IFERROR(INDEX('[1]公式予選（TT①）-結果表（貼付）'!$A:$Z,MATCH($B25,'[1]公式予選（TT①）-結果表（貼付）'!$B:$B,0),MATCH('公式予選（TT①）'!E$11,'[1]公式予選（TT①）-結果表（貼付）'!$1:$1,0)),"") -> 安藤 哉翔 | F25: =IFERROR(INDEX('[1]公式予選（TT①）-結果表（貼付）'!$A:$Z,MATCH($B25,'[1]公式予選（TT①）-結果表（貼付）'!$B:$B,0),MATCH('公式予選（TT①）'!F$11,'[1]公式予選（TT①）-結果表（貼付）'!$1:$1,0)),"") -> TONY KART/VORTEX | G25: =IFERROR(INDEX('[1]公式予選（TT①）-結果表（貼付）'!$A:$Z,MATCH($B25,'[1]公式予選（TT①）-結果表（貼付）'!$B:$B,0),MATCH('公式予選（TT①）'!G$11,'[1]公式予選（TT①）-結果表（貼付）'!$1:$1,0)),"") -> TONYKART RACING TEAM JAPAN | H25: =IFERROR(INDEX('[1]公式予選（TT①）-結果表（貼付）'!$A:$Z,MATCH($B25,'[1]公式予選（TT①）-結果表（貼付）'!$B:$B,0),MATCH('公式予選（TT①）'!H$11,'[1]公式予選（TT①）-結果表（貼付）'!$1:$1,0)),"") -> BS | I25: =IF(A25="DNS","ｽﾀｰﾄ出来ず",IF(A25="DQ","失 格",IFERROR(INDEX('[1]公式予選（TT①）-結果表（貼付）'!$A:$Z,MATCH($B25,'[1]公式予選（TT①）-結果表（貼付）'!$B:$B,0),MATCH('公式予選（TT①）'!I$11,'[1]公式予選（TT①）-結果表（貼付）'!$1:$1,0)),""))) -> 45.197 | J25: =IF(I25<1,"",IF($J$11>I25,"R","")) -> R | K25: =IF(OR('[1]公式予選（TT①）-結果表（貼付）'!A14="DNS",'[1]公式予選（TT①）-結果表（貼付）'!A14="DQ"),"",IFERROR(INDEX('[1]公式予選（TT①）-結果表（貼付）'!$A:$Z,MATCH($B25,'[1]公式予選（TT①）-結果表（貼付）'!$B:$B,0),MATCH('公式予選（TT①）'!K$11,'[1]公式予選（TT①）-結果表（貼付）'!$1:$1,0)),"")) -> 0.681 | L25: =IF(OR('[1]公式予選（TT①）-結果表（貼付）'!A14="DNS",'[1]公式予選（TT①）-結果表（貼付）'!A14="DQ"),"",IFERROR(INDEX('[1]公式予選（TT①）-結果表（貼付）'!$A:$Z,MATCH($B25,'[1]公式予選（TT①）-結果表（貼付）'!$B:$B,0),MATCH('公式予選（TT①）'!L$11,'[1]公式予選（TT①）-結果表（貼付）'!$1:$1,0)),"")) -> 0.171 | M25: =IF(OR('[1]公式予選（TT①）-結果表（貼付）'!A14="DNS",'[1]公式予選（TT①）-結果表（貼付）'!A14="DQ"),"",IFERROR(INDEX('[1]公式予選（TT①）-結果表（貼付）'!$A:$Z,MATCH($B25,'[1]公式予選（TT①）-結果表（貼付）'!$B:$B,0),MATCH("In Lap",'[1]公式予選（TT①）-結果表（貼付）'!$1:$1,0))&"/"&INDEX('[1]公式予選（TT①）-結果表（貼付）'!$A:$Z,MATCH($B25,'[1]公式予選（TT①）-結果表（貼付）'!$B:$B,0),MATCH("Laps",'[1]公式予選（TT①）-結果表（貼付）'!$1:$1,0)),"")) -> 4/6 | Q25: =IF(IFERROR(INDEX('[1]公式予選（TT①）-結果表（貼付）'!$A:$Z,MATCH($B25,'[1]公式予選（TT①）-結果表（貼付）'!$B:$B,0),MATCH(Q$11,'[1]公式予選（TT①）-結果表（貼付）'!$1:$1,0)),"")=0,"",IFERROR(INDEX('[1]公式予選（TT①）-結果表（貼付）'!$A:$Z,MATCH($B25,'[1]公式予選（TT①）-結果表（貼付）'!$B:$B,0),MATCH(Q$11,'[1]公式予選（TT①）-結果表（貼付）'!$1:$1,0)),"")) | R25: =IF(Q25="","",COUNTIF($Q$13:Q25,"<>"&"")) | S25: =IFERROR(RANK(R25,$R$13:$R$48,1),"") | T25: =IF(IFERROR(INDEX('[1]公式予選（TT①）-結果表（貼付）'!$A:$Z,MATCH($A25,'[1]公式予選（TT①）-結果表（貼付）'!$A:$A,0),MATCH(T$11,'[1]公式予選（TT①）-結果表（貼付）'!$1:$1,0)),"")=0,"",IFERROR(INDEX('[1]公式予選（TT①）-結果表（貼付）'!$A:$Z,MATCH($A25,'[1]公式予選（TT①）-結果表（貼付）'!$A:$A,0),MATCH(T$11,'[1]公式予選（TT①）-結果表（貼付）'!$1:$1,0)),""))
... A31: =IF(OR('[1]公式予選（TT①）-結果表（貼付）'!A20="DNF",'[1]公式予選（TT①）-結果表（貼付）'!A20="DNS",'[1]公式予選（TT①）-結果表（貼付）'!A20="DQ"),'[1]公式予選（TT①）-結果表（貼付）'!A20,IF(MAX('[1]公式予選（TT①）-結果表（貼付）'!$A:$A)>A30,A30+1,"")) | B31: =IFERROR(INDEX('[1]公式予選（TT①）-結果表（貼付）'!A20:$V$50,MATCH($A31,'[1]公式予選（TT①）-結果表（貼付）'!A20:$A$50,0),MATCH('公式予選（TT①）'!B$11,'[1]公式予選（TT①）-結果表（貼付）'!$1:$1,0)),"") | E31: =IFERROR(INDEX('[1]公式予選（TT①）-結果表（貼付）'!$A:$Z,MATCH($B31,'[1]公式予選（TT①）-結果表（貼付）'!$B:$B,0),MATCH('公式予選（TT①）'!E$11,'[1]公式予選（TT①）-結果表（貼付）'!$1:$1,0)),"") | F31: =IFERROR(INDEX('[1]公式予選（TT①）-結果表（貼付）'!$A:$Z,MATCH($B31,'[1]公式予選（TT①）-結果表（貼付）'!$B:$B,0),MATCH('公式予選（TT①）'!F$11,'[1]公式予選（TT①）-結果表（貼付）'!$1:$1,0)),"") | G31: =IFERROR(INDEX('[1]公式予選（TT①）-結果表（貼付）'!$A:$Z,MATCH($B31,'[1]公式予選（TT①）-結果表（貼付）'!$B:$B,0),MATCH('公式予選（TT①）'!G$11,'[1]公式予選（TT①）-結果表（貼付）'!$1:$1,0)),"") | H31: =IFERROR(INDEX('[1]公式予選（TT①）-結果表（貼付）'!$A:$Z,MATCH($B31,'[1]公式予選（TT①）-結果表（貼付）'!$B:$B,0),MATCH('公式予選（TT①）'!H$11,'[1]公式予選（TT①）-結果表（貼付）'!$1:$1,0)),"") | I31: =IF(A31="DNS","ｽﾀｰﾄ出来ず",IF(A31="DQ","失 格",IFERROR(INDEX('[1]公式予選（TT①）-結果表（貼付）'!$A:$Z,MATCH($B31,'[1]公式予選（TT①）-結果表（貼付）'!$B:$B,0),MATCH('公式予選（TT①）'!I$11,'[1]公式予選（TT①）-結果表（貼付）'!$1:$1,0)),""))) | J31: =IF(I31<1,"",IF($J$11>I31,"R","")) | K31: =IF(OR('[1]公式予選（TT①）-結果表（貼付）'!A20="DNS",'[1]公式予選（TT①）-結果表（貼付）'!A20="DQ"),"",IFERROR(INDEX('[1]公式予選（TT①）-結果表（貼付）'!$A:$Z,MATCH($B31,'[1]公式予選（TT①）-結果表（貼付）'!$B:$B,0),MATCH('公式予選（TT①）'!K$11,'[1]公式予選（TT①）-結果表（貼付）'!$1:$1,0)),"")) | L31: =IF(OR('[1]公式予選（TT①）-結果表（貼付）'!A20="DNS",'[1]公式予選（TT①）-結果表（貼付）'!A20="DQ"),"",IFERROR(INDEX('[1]公式予選（TT①）-結果表（貼付）'!$A:$Z,MATCH($B31,'[1]公式予選（TT①）-結果表（貼付）'!$B:$B,0),MATCH('公式予選（TT①）'!L$11,'[1]公式予選（TT①）-結果表（貼付）'!$1:$1,0)),"")) | M31: =IF(OR('[1]公式予選（TT①）-結果表（貼付）'!A20="DNS",'[1]公式予選（TT①）-結果表（貼付）'!A20="DQ"),"",IFERROR(INDEX('[1]公式予選（TT①）-結果表（貼付）'!$A:$Z,MATCH($B31,'[1]公式予選（TT①）-結果表（貼付）'!$B:$B,0),MATCH("In Lap",'[1]公式予選（TT①）-結果表（貼付）'!$1:$1,0))&"/"&INDEX('[1]公式予選（TT①）-結果表（貼付）'!$A:$Z,MATCH($B31,'[1]公式予選（TT①）-結果表（貼付）'!$B:$B,0),MATCH("Laps",'[1]公式予選（TT①）-結果表（貼付）'!$1:$1,0)),"")) | Q31: =IF(IFERROR(INDEX('[1]公式予選（TT①）-結果表（貼付）'!$A:$Z,MATCH($B31,'[1]公式予選（TT①）-結果表（貼付）'!$B:$B,0),MATCH(Q$11,'[1]公式予選（TT①）-結果表（貼付）'!$1:$1,0)),"")=0,"",IFERROR(INDEX('[1]公式予選（TT①）-結果表（貼付）'!$A:$Z,MATCH($B31,'[1]公式予選（TT①）-結果表（貼付）'!$B:$B,0),MATCH(Q$11,'[1]公式予選（TT①）-結果表（貼付）'!$1:$1,0)),"")) | R31: =IF(Q31="","",COUNTIF($Q$13:Q31,"<>"&"")) | S31: =IFERROR(RANK(R31,$R$13:$R$48,1),"") | T31: =IF(IFERROR(INDEX('[1]公式予選（TT①）-結果表（貼付）'!$A:$Z,MATCH($A31,'[1]公式予選（TT①）-結果表（貼付）'!$A:$A,0),MATCH(T$11,'[1]公式予選（TT①）-結果表（貼付）'!$1:$1,0)),"")=0,"",IFERROR(INDEX('[1]公式予選（TT①）-結果表（貼付）'!$A:$Z,MATCH($A31,'[1]公式予選（TT①）-結果表（貼付）'!$A:$A,0),MATCH(T$11,'[1]公式予選（TT①）-結果表（貼付）'!$1:$1,0)),""))
A32: =IF(COUNTIF(J:J,"R")>=1,"""R"" マークの車は、コースレコードを更新しました。従来のレコードタイムは"&" "&J11,"") -> "R" マークの車は、コースレコードを更新しました。従来のレコードタイムは 45.239
A33: =IF(OR('[1]公式予選（TT①）-結果表（貼付）'!A21="DNF",'[1]公式予選（TT①）-結果表（貼付）'!A21="DNS",'[1]公式予選（TT①）-結果表（貼付）'!A21="DQ"),'[1]公式予選（TT①）-結果表（貼付）'!A21,IF(MAX('[1]公式予選（TT①）-結果表（貼付）'!$A:$A)>A31,A31+1,"")) | B33: =IFERROR(INDEX('[1]公式予選（TT①）-結果表（貼付）'!A21:$V$50,MATCH($A33,'[1]公式予選（TT①）-結果表（貼付）'!A21:$A$50,0),MATCH('公式予選（TT①）'!B$11,'[1]公式予選（TT①）-結果表（貼付）'!$1:$1,0)),"") | E33: =IFERROR(INDEX('[1]公式予選（TT①）-結果表（貼付）'!$A:$Z,MATCH($B33,'[1]公式予選（TT①）-結果表（貼付）'!$B:$B,0),MATCH('公式予選（TT①）'!E$11,'[1]公式予選（TT①）-結果表（貼付）'!$1:$1,0)),"") | F33: =IFERROR(INDEX('[1]公式予選（TT①）-結果表（貼付）'!$A:$Z,MATCH($B33,'[1]公式予選（TT①）-結果表（貼付）'!$B:$B,0),MATCH('公式予選（TT①）'!F$11,'[1]公式予選（TT①）-結果表（貼付）'!$1:$1,0)),"") | G33: =IFERROR(INDEX('[1]公式予選（TT①）-結果表（貼付）'!$A:$Z,MATCH($B33,'[1]公式予選（TT①）-結果表（貼付）'!$B:$B,0),MATCH('公式予選（TT①）'!G$11,'[1]公式予選（TT①）-結果表（貼付）'!$1:$1,0)),"") | H33: =IFERROR(INDEX('[1]公式予選（TT①）-結果表（貼付）'!$A:$Z,MATCH($B33,'[1]公式予選（TT①）-結果表（貼付）'!$B:$B,0),MATCH('公式予選（TT①）'!H$11,'[1]公式予選（TT①）-結果表（貼付）'!$1:$1,0)),"") | I33: =IF(A33="DNS","ｽﾀｰﾄ出来ず",IF(A33="DQ","失 格",IFERROR(INDEX('[1]公式予選（TT①）-結果表（貼付）'!$A:$Z,MATCH($B33,'[1]公式予選（TT①）-結果表（貼付）'!$B:$B,0),MATCH('公式予選（TT①）'!I$11,'[1]公式予選（TT①）-結果表（貼付）'!$1:$1,0)),""))) | J33: =IF(I33<1,"",IF($J$11>I33,"R","")) | K33: =IF(OR('[1]公式予選（TT①）-結果表（貼付）'!A21="DNS",'[1]公式予選（TT①）-結果表（貼付）'!A21="DQ"),"",IFERROR(INDEX('[1]公式予選（TT①）-結果表（貼付）'!$A:$Z,MATCH($B33,'[1]公式予選（TT①）-結果表（貼付）'!$B:$B,0),MATCH('公式予選（TT①）'!K$11,'[1]公式予選（TT①）-結果表（貼付）'!$1:$1,0)),"")) | L33: =IF(OR('[1]公式予選（TT①）-結果表（貼付）'!A21="DNS",'[1]公式予選（TT①）-結果表（貼付）'!A21="DQ"),"",IFERROR(INDEX('[1]公式予選（TT①）-結果表（貼付）'!$A:$Z,MATCH($B33,'[1]公式予選（TT①）-結果表（貼付）'!$B:$B,0),MATCH('公式予選（TT①）'!L$11,'[1]公式予選（TT①）-結果表（貼付）'!$1:$1,0)),"")) | M33: =IF(OR('[1]公式予選（TT①）-結果表（貼付）'!A21="DNS",'[1]公式予選（TT①）-結果表（貼付）'!A21="DQ"),"",IFERROR(INDEX('[1]公式予選（TT①）-結果表（貼付）'!$A:$Z,MATCH($B33,'[1]公式予選（TT①）-結果表（貼付）'!$B:$B,0),MATCH("In Lap",'[1]公式予選（TT①）-結果表（貼付）'!$1:$1,0))&"/"&INDEX('[1]公式予選（TT①）-結果表（貼付）'!$A:$Z,MATCH($B33,'[1]公式予選（TT①）-結果表（貼付）'!$B:$B,0),MATCH("Laps",'[1]公式予選（TT①）-結果表（貼付）'!$1:$1,0)),"")) | Q33: =IF(IFERROR(INDEX('[1]公式予選（TT①）-結果表（貼付）'!$A:$Z,MATCH($B33,'[1]公式予選（TT①）-結果表（貼付）'!$B:$B,0),MATCH(Q$11,'[1]公式予選（TT①）-結果表（貼付）'!$1:$1,0)),"")=0,"",IFERROR(INDEX('[1]公式予選（TT①）-結果表（貼付）'!$A:$Z,MATCH($B33,'[1]公式予選（TT①）-結果表（貼付）'!$B:$B,0),MATCH(Q$11,'[1]公式予選（TT①）-結果表（貼付）'!$1:$1,0)),"")) | R33: =IF(Q33="","",COUNTIF($Q$13:Q33,"<>"&"")) | S33: =IFERROR(RANK(R33,$R$13:$R$48,1),"") | T33: =IF(IFERROR(INDEX('[1]公式予選（TT①）-結果表（貼付）'!$A:$Z,MATCH($A33,'[1]公式予選（TT①）-結果表（貼付）'!$A:$A,0),MATCH(T$11,'[1]公式予選（TT①）-結果表（貼付）'!$1:$1,0)),"")=0,"",IFERROR(INDEX('[1]公式予選（TT①）-結果表（貼付）'!$A:$Z,MATCH($A33,'[1]公式予選（TT①）-結果表（貼付）'!$A:$A,0),MATCH(T$11,'[1]公式予選（TT①）-結果表（貼付）'!$1:$1,0)),""))
A34: =IF(OR('[1]公式予選（TT①）-結果表（貼付）'!A22="DNF",'[1]公式予選（TT①）-結果表（貼付）'!A22="DNS",'[1]公式予選（TT①）-結果表（貼付）'!A22="DQ"),'[1]公式予選（TT①）-結果表（貼付）'!A22,IF(MAX('[1]公式予選（TT①）-結果表（貼付）'!$A:$A)>A33,A33+1,"")) | B34: =IFERROR(INDEX('[1]公式予選（TT①）-結果表（貼付）'!A22:$V$50,MATCH($A34,'[1]公式予選（TT①）-結果表（貼付）'!A22:$A$50,0),MATCH('公式予選（TT①）'!B$11,'[1]公式予選（TT①）-結果表（貼付）'!$1:$1,0)),"") | E34: =IFERROR(INDEX('[1]公式予選（TT①）-結果表（貼付）'!$A:$Z,MATCH($B34,'[1]公式予選（TT①）-結果表（貼付）'!$B:$B,0),MATCH('公式予選（TT①）'!E$11,'[1]公式予選（TT①）-結果表（貼付）'!$1:$1,0)),"") | F34: =IFERROR(INDEX('[1]公式予選（TT①）-結果表（貼付）'!$A:$Z,MATCH($B34,'[1]公式予選（TT①）-結果表（貼付）'!$B:$B,0),MATCH('公式予選（TT①）'!F$11,'[1]公式予選（TT①）-結果表（貼付）'!$1:$1,0)),"") | G34: =IFERROR(INDEX('[1]公式予選（TT①）-結果表（貼付）'!$A:$Z,MATCH($B34,'[1]公式予選（TT①）-結果表（貼付）'!$B:$B,0),MATCH('公式予選（TT①）'!G$11,'[1]公式予選（TT①）-結果表（貼付）'!$1:$1,0)),"") | H34: =IFERROR(INDEX('[1]公式予選（TT①）-結果表（貼付）'!$A:$Z,MATCH($B34,'[1]公式予選（TT①）-結果表（貼付）'!$B:$B,0),MATCH('公式予選（TT①）'!H$11,'[1]公式予選（TT①）-結果表（貼付）'!$1:$1,0)),"") | I34: =IF(A34="DNS","ｽﾀｰﾄ出来ず",IF(A34="DQ","失 格",IFERROR(INDEX('[1]公式予選（TT①）-結果表（貼付）'!$A:$Z,MATCH($B34,'[1]公式予選（TT①）-結果表（貼付）'!$B:$B,0),MATCH('公式予選（TT①）'!I$11,'[1]公式予選（TT①）-結果表（貼付）'!$1:$1,0)),""))) | J34: =IF(I34<1,"",IF($J$11>I34,"R","")) | K34: =IF(OR('[1]公式予選（TT①）-結果表（貼付）'!A22="DNS",'[1]公式予選（TT①）-結果表（貼付）'!A22="DQ"),"",IFERROR(INDEX('[1]公式予選（TT①）-結果表（貼付）'!$A:$Z,MATCH($B34,'[1]公式予選（TT①）-結果表（貼付）'!$B:$B,0),MATCH('公式予選（TT①）'!K$11,'[1]公式予選（TT①）-結果表（貼付）'!$1:$1,0)),"")) | L34: =IF(OR('[1]公式予選（TT①）-結果表（貼付）'!A22="DNS",'[1]公式予選（TT①）-結果表（貼付）'!A22="DQ"),"",IFERROR(INDEX('[1]公式予選（TT①）-結果表（貼付）'!$A:$Z,MATCH($B34,'[1]公式予選（TT①）-結果表（貼付）'!$B:$B,0),MATCH('公式予選（TT①）'!L$11,'[1]公式予選（TT①）-結果表（貼付）'!$1:$1,0)),"")) | M34: =IF(OR('[1]公式予選（TT①）-結果表（貼付）'!A22="DNS",'[1]公式予選（TT①）-結果表（貼付）'!A22="DQ"),"",IFERROR(INDEX('[1]公式予選（TT①）-結果表（貼付）'!$A:$Z,MATCH($B34,'[1]公式予選（TT①）-結果表（貼付）'!$B:$B,0),MATCH("In Lap",'[1]公式予選（TT①）-結果表（貼付）'!$1:$1,0))&"/"&INDEX('[1]公式予選（TT①）-結果表（貼付）'!$A:$Z,MATCH($B34,'[1]公式予選（TT①）-結果表（貼付）'!$B:$B,0),MATCH("Laps",'[1]公式予選（TT①）-結果表（貼付）'!$1:$1,0)),"")) | Q34: =IF(IFERROR(INDEX('[1]公式予選（TT①）-結果表（貼付）'!$A:$Z,MATCH($B34,'[1]公式予選（TT①）-結果表（貼付）'!$B:$B,0),MATCH(Q$11,'[1]公式予選（TT①）-結果表（貼付）'!$1:$1,0)),"")=0,"",IFERROR(INDEX('[1]公式予選（TT①）-結果表（貼付）'!$A:$Z,MATCH($B34,'[1]公式予選（TT①）-結果表（貼付）'!$B:$B,0),MATCH(Q$11,'[1]公式予選（TT①）-結果表（貼付）'!$1:$1,0)),"")) | R34: =IF(Q34="","",COUNTIF($Q$13:Q34,"<>"&"")) | S34: =IFERROR(RANK(R34,$R$13:$R$48,1),"") | T34: =IF(IFERROR(INDEX('[1]公式予選（TT①）-結果表（貼付）'!$A:$Z,MATCH($A34,'[1]公式予選（TT①）-結果表（貼付）'!$A:$A,0),MATCH(T$11,'[1]公式予選（TT①）-結果表（貼付）'!$1:$1,0)),"")=0,"",IFERROR(INDEX('[1]公式予選（TT①）-結果表（貼付）'!$A:$Z,MATCH($A34,'[1]公式予選（TT①）-結果表（貼付）'!$A:$A,0),MATCH(T$11,'[1]公式予選（TT①）-結果表（貼付）'!$1:$1,0)),""))
A35: =IF(OR('[1]公式予選（TT①）-結果表（貼付）'!A23="DNF",'[1]公式予選（TT①）-結果表（貼付）'!A23="DNS",'[1]公式予選（TT①）-結果表（貼付）'!A23="DQ"),'[1]公式予選（TT①）-結果表（貼付）'!A23,IF(MAX('[1]公式予選（TT①）-結果表（貼付）'!$A:$A)>A34,A34+1,"")) | B35: =IFERROR(INDEX('[1]公式予選（TT①）-結果表（貼付）'!A23:$V$50,MATCH($A35,'[1]公式予選（TT①）-結果表（貼付）'!A23:$A$50,0),MATCH('公式予選（TT①）'!B$11,'[1]公式予選（TT①）-結果表（貼付）'!$1:$1,0)),"") | E35: =IFERROR(INDEX('[1]公式予選（TT①）-結果表（貼付）'!$A:$Z,MATCH($B35,'[1]公式予選（TT①）-結果表（貼付）'!$B:$B,0),MATCH('公式予選（TT①）'!E$11,'[1]公式予選（TT①）-結果表（貼付）'!$1:$1,0)),"") | F35: =IFERROR(INDEX('[1]公式予選（TT①）-結果表（貼付）'!$A:$Z,MATCH($B35,'[1]公式予選（TT①）-結果表（貼付）'!$B:$B,0),MATCH('公式予選（TT①）'!F$11,'[1]公式予選（TT①）-結果表（貼付）'!$1:$1,0)),"") | G35: =IFERROR(INDEX('[1]公式予選（TT①）-結果表（貼付）'!$A:$Z,MATCH($B35,'[1]公式予選（TT①）-結果表（貼付）'!$B:$B,0),MATCH('公式予選（TT①）'!G$11,'[1]公式予選（TT①）-結果表（貼付）'!$1:$1,0)),"") | H35: =IFERROR(INDEX('[1]公式予選（TT①）-結果表（貼付）'!$A:$Z,MATCH($B35,'[1]公式予選（TT①）-結果表（貼付）'!$B:$B,0),MATCH('公式予選（TT①）'!H$11,'[1]公式予選（TT①）-結果表（貼付）'!$1:$1,0)),"") | I35: =IF(A35="DNS","ｽﾀｰﾄ出来ず",IF(A35="DQ","失 格",IFERROR(INDEX('[1]公式予選（TT①）-結果表（貼付）'!$A:$Z,MATCH($B35,'[1]公式予選（TT①）-結果表（貼付）'!$B:$B,0),MATCH('公式予選（TT①）'!I$11,'[1]公式予選（TT①）-結果表（貼付）'!$1:$1,0)),""))) | J35: =IF(I35<1,"",IF($J$11>I35,"R","")) | K35: =IF(OR('[1]公式予選（TT①）-結果表（貼付）'!A23="DNS",'[1]公式予選（TT①）-結果表（貼付）'!A23="DQ"),"",IFERROR(INDEX('[1]公式予選（TT①）-結果表（貼付）'!$A:$Z,MATCH($B35,'[1]公式予選（TT①）-結果表（貼付）'!$B:$B,0),MATCH('公式予選（TT①）'!K$11,'[1]公式予選（TT①）-結果表（貼付）'!$1:$1,0)),"")) | L35: =IF(OR('[1]公式予選（TT①）-結果表（貼付）'!A23="DNS",'[1]公式予選（TT①）-結果表（貼付）'!A23="DQ"),"",IFERROR(INDEX('[1]公式予選（TT①）-結果表（貼付）'!$A:$Z,MATCH($B35,'[1]公式予選（TT①）-結果表（貼付）'!$B:$B,0),MATCH('公式予選（TT①）'!L$11,'[1]公式予選（TT①）-結果表（貼付）'!$1:$1,0)),"")) | M35: =IF(OR('[1]公式予選（TT①）-結果表（貼付）'!A23="DNS",'[1]公式予選（TT①）-結果表（貼付）'!A23="DQ"),"",IFERROR(INDEX('[1]公式予選（TT①）-結果表（貼付）'!$A:$Z,MATCH($B35,'[1]公式予選（TT①）-結果表（貼付）'!$B:$B,0),MATCH("In Lap",'[1]公式予選（TT①）-結果表（貼付）'!$1:$1,0))&"/"&INDEX('[1]公式予選（TT①）-結果表（貼付）'!$A:$Z,MATCH($B35,'[1]公式予選（TT①）-結果表（貼付）'!$B:$B,0),MATCH("Laps",'[1]公式予選（TT①）-結果表（貼付）'!$1:$1,0)),"")) | Q35: =IF(IFERROR(INDEX('[1]公式予選（TT①）-結果表（貼付）'!$A:$Z,MATCH($B35,'[1]公式予選（TT①）-結果表（貼付）'!$B:$B,0),MATCH(Q$11,'[1]公式予選（TT①）-結果表（貼付）'!$1:$1,0)),"")=0,"",IFERROR(INDEX('[1]公式予選（TT①）-結果表（貼付）'!$A:$Z,MATCH($B35,'[1]公式予選（TT①）-結果表（貼付）'!$B:$B,0),MATCH(Q$11,'[1]公式予選（TT①）-結果表（貼付）'!$1:$1,0)),"")) | R35: =IF(Q35="","",COUNTIF($Q$13:Q35,"<>"&"")) | S35: =IFERROR(RANK(R35,$R$13:$R$48,1),"") | T35: =IF(IFERROR(INDEX('[1]公式予選（TT①）-結果表（貼付）'!$A:$Z,MATCH($A35,'[1]公式予選（TT①）-結果表（貼付）'!$A:$A,0),MATCH(T$11,'[1]公式予選（TT①）-結果表（貼付）'!$1:$1,0)),"")=0,"",IFERROR(INDEX('[1]公式予選（TT①）-結果表（貼付）'!$A:$Z,MATCH($A35,'[1]公式予選（TT①）-結果表（貼付）'!$A:$A,0),MATCH(T$11,'[1]公式予選（TT①）-結果表（貼付）'!$1:$1,0)),""))
A36: =IF(OR('[1]公式予選（TT①）-結果表（貼付）'!A24="DNF",'[1]公式予選（TT①）-結果表（貼付）'!A24="DNS",'[1]公式予選（TT①）-結果表（貼付）'!A24="DQ"),'[1]公式予選（TT①）-結果表（貼付）'!A24,IF(MAX('[1]公式予選（TT①）-結果表（貼付）'!$A:$A)>A35,A35+1,"")) | B36: =IFERROR(INDEX('[1]公式予選（TT①）-結果表（貼付）'!A24:$V$50,MATCH($A36,'[1]公式予選（TT①）-結果表（貼付）'!A24:$A$50,0),MATCH('公式予選（TT①）'!B$11,'[1]公式予選（TT①）-結果表（貼付）'!$1:$1,0)),"") | E36: =IFERROR(INDEX('[1]公式予選（TT①）-結果表（貼付）'!$A:$Z,MATCH($B36,'[1]公式予選（TT①）-結果表（貼付）'!$B:$B,0),MATCH('公式予選（TT①）'!E$11,'[1]公式予選（TT①）-結果表（貼付）'!$1:$1,0)),"") | F36: =IFERROR(INDEX('[1]公式予選（TT①）-結果表（貼付）'!$A:$Z,MATCH($B36,'[1]公式予選（TT①）-結果表（貼付）'!$B:$B,0),MATCH('公式予選（TT①）'!F$11,'[1]公式予選（TT①）-結果表（貼付）'!$1:$1,0)),"") | G36: =IFERROR(INDEX('[1]公式予選（TT①）-結果表（貼付）'!$A:$Z,MATCH($B36,'[1]公式予選（TT①）-結果表（貼付）'!$B:$B,0),MATCH('公式予選（TT①）'!G$11,'[1]公式予選（TT①）-結果表（貼付）'!$1:$1,0)),"") | H36: =IFERROR(INDEX('[1]公式予選（TT①）-結果表（貼付）'!$A:$Z,MATCH($B36,'[1]公式予選（TT①）-結果表（貼付）'!$B:$B,0),MATCH('公式予選（TT①）'!H$11,'[1]公式予選（TT①）-結果表（貼付）'!$1:$1,0)),"") | I36: =IF(A36="DNS","ｽﾀｰﾄ出来ず",IF(A36="DQ","失 格",IFERROR(INDEX('[1]公式予選（TT①）-結果表（貼付）'!$A:$Z,MATCH($B36,'[1]公式予選（TT①）-結果表（貼付）'!$B:$B,0),MATCH('公式予選（TT①）'!I$11,'[1]公式予選（TT①）-結果表（貼付）'!$1:$1,0)),""))) | J36: =IF(I36<1,"",IF($J$11>I36,"R","")) | K36: =IF(OR('[1]公式予選（TT①）-結果表（貼付）'!A24="DNS",'[1]公式予選（TT①）-結果表（貼付）'!A24="DQ"),"",IFERROR(INDEX('[1]公式予選（TT①）-結果表（貼付）'!$A:$Z,MATCH($B36,'[1]公式予選（TT①）-結果表（貼付）'!$B:$B,0),MATCH('公式予選（TT①）'!K$11,'[1]公式予選（TT①）-結果表（貼付）'!$1:$1,0)),"")) | L36: =IF(OR('[1]公式予選（TT①）-結果表（貼付）'!A24="DNS",'[1]公式予選（TT①）-結果表（貼付）'!A24="DQ"),"",IFERROR(INDEX('[1]公式予選（TT①）-結果表（貼付）'!$A:$Z,MATCH($B36,'[1]公式予選（TT①）-結果表（貼付）'!$B:$B,0),MATCH('公式予選（TT①）'!L$11,'[1]公式予選（TT①）-結果表（貼付）'!$1:$1,0)),"")) | M36: =IF(OR('[1]公式予選（TT①）-結果表（貼付）'!A24="DNS",'[1]公式予選（TT①）-結果表（貼付）'!A24="DQ"),"",IFERROR(INDEX('[1]公式予選（TT①）-結果表（貼付）'!$A:$Z,MATCH($B36,'[1]公式予選（TT①）-結果表（貼付）'!$B:$B,0),MATCH("In Lap",'[1]公式予選（TT①）-結果表（貼付）'!$1:$1,0))&"/"&INDEX('[1]公式予選（TT①）-結果表（貼付）'!$A:$Z,MATCH($B36,'[1]公式予選（TT①）-結果表（貼付）'!$B:$B,0),MATCH("Laps",'[1]公式予選（TT①）-結果表（貼付）'!$1:$1,0)),"")) | Q36: =IF(IFERROR(INDEX('[1]公式予選（TT①）-結果表（貼付）'!$A:$Z,MATCH($B36,'[1]公式予選（TT①）-結果表（貼付）'!$B:$B,0),MATCH(Q$11,'[1]公式予選（TT①）-結果表（貼付）'!$1:$1,0)),"")=0,"",IFERROR(INDEX('[1]公式予選（TT①）-結果表（貼付）'!$A:$Z,MATCH($B36,'[1]公式予選（TT①）-結果表（貼付）'!$B:$B,0),MATCH(Q$11,'[1]公式予選（TT①）-結果表（貼付）'!$1:$1,0)),"")) | R36: =IF(Q36="","",COUNTIF($Q$13:Q36,"<>"&"")) | S36: =IFERROR(RANK(R36,$R$13:$R$48,1),"") | T36: =IF(IFERROR(INDEX('[1]公式予選（TT①）-結果表（貼付）'!$A:$Z,MATCH($A36,'[1]公式予選（TT①）-結果表（貼付）'!$A:$A,0),MATCH(T$11,'[1]公式予選（TT①）-結果表（貼付）'!$1:$1,0)),"")=0,"",IFERROR(INDEX('[1]公式予選（TT①）-結果表（貼付）'!$A:$Z,MATCH($A36,'[1]公式予選（TT①）-結果表（貼付）'!$A:$A,0),MATCH(T$11,'[1]公式予選（TT①）-結果表（貼付）'!$1:$1,0)),""))
A37: =IF(OR('[1]公式予選（TT①）-結果表（貼付）'!A25="DNF",'[1]公式予選（TT①）-結果表（貼付）'!A25="DNS",'[1]公式予選（TT①）-結果表（貼付）'!A25="DQ"),'[1]公式予選（TT①）-結果表（貼付）'!A25,IF(MAX('[1]公式予選（TT①）-結果表（貼付）'!$A:$A)>A36,A36+1,"")) | B37: =IFERROR(INDEX('[1]公式予選（TT①）-結果表（貼付）'!A25:$V$50,MATCH($A37,'[1]公式予選（TT①）-結果表（貼付）'!A25:$A$50,0),MATCH('公式予選（TT①）'!B$11,'[1]公式予選（TT①）-結果表（貼付）'!$1:$1,0)),"") | E37: =IFERROR(INDEX('[1]公式予選（TT①）-結果表（貼付）'!$A:$Z,MATCH($B37,'[1]公式予選（TT①）-結果表（貼付）'!$B:$B,0),MATCH('公式予選（TT①）'!E$11,'[1]公式予選（TT①）-結果表（貼付）'!$1:$1,0)),"") | F37: =IFERROR(INDEX('[1]公式予選（TT①）-結果表（貼付）'!$A:$Z,MATCH($B37,'[1]公式予選（TT①）-結果表（貼付）'!$B:$B,0),MATCH('公式予選（TT①）'!F$11,'[1]公式予選（TT①）-結果表（貼付）'!$1:$1,0)),"") | G37: =IFERROR(INDEX('[1]公式予選（TT①）-結果表（貼付）'!$A:$Z,MATCH($B37,'[1]公式予選（TT①）-結果表（貼付）'!$B:$B,0),MATCH('公式予選（TT①）'!G$11,'[1]公式予選（TT①）-結果表（貼付）'!$1:$1,0)),"") | H37: =IFERROR(INDEX('[1]公式予選（TT①）-結果表（貼付）'!$A:$Z,MATCH($B37,'[1]公式予選（TT①）-結果表（貼付）'!$B:$B,0),MATCH('公式予選（TT①）'!H$11,'[1]公式予選（TT①）-結果表（貼付）'!$1:$1,0)),"") | I37: =IF(A37="DNS","ｽﾀｰﾄ出来ず",IF(A37="DQ","失 格",IFERROR(INDEX('[1]公式予選（TT①）-結果表（貼付）'!$A:$Z,MATCH($B37,'[1]公式予選（TT①）-結果表（貼付）'!$B:$B,0),MATCH('公式予選（TT①）'!I$11,'[1]公式予選（TT①）-結果表（貼付）'!$1:$1,0)),""))) | J37: =IF(I37<1,"",IF($J$11>I37,"R","")) | K37: =IF(OR('[1]公式予選（TT①）-結果表（貼付）'!A25="DNS",'[1]公式予選（TT①）-結果表（貼付）'!A25="DQ"),"",IFERROR(INDEX('[1]公式予選（TT①）-結果表（貼付）'!$A:$Z,MATCH($B37,'[1]公式予選（TT①）-結果表（貼付）'!$B:$B,0),MATCH('公式予選（TT①）'!K$11,'[1]公式予選（TT①）-結果表（貼付）'!$1:$1,0)),"")) | L37: =IF(OR('[1]公式予選（TT①）-結果表（貼付）'!A25="DNS",'[1]公式予選（TT①）-結果表（貼付）'!A25="DQ"),"",IFERROR(INDEX('[1]公式予選（TT①）-結果表（貼付）'!$A:$Z,MATCH($B37,'[1]公式予選（TT①）-結果表（貼付）'!$B:$B,0),MATCH('公式予選（TT①）'!L$11,'[1]公式予選（TT①）-結果表（貼付）'!$1:$1,0)),"")) | M37: =IF(OR('[1]公式予選（TT①）-結果表（貼付）'!A25="DNS",'[1]公式予選（TT①）-結果表（貼付）'!A25="DQ"),"",IFERROR(INDEX('[1]公式予選（TT①）-結果表（貼付）'!$A:$Z,MATCH($B37,'[1]公式予選（TT①）-結果表（貼付）'!$B:$B,0),MATCH("In Lap",'[1]公式予選（TT①）-結果表（貼付）'!$1:$1,0))&"/"&INDEX('[1]公式予選（TT①）-結果表（貼付）'!$A:$Z,MATCH($B37,'[1]公式予選（TT①）-結果表（貼付）'!$B:$B,0),MATCH("Laps",'[1]公式予選（TT①）-結果表（貼付）'!$1:$1,0)),"")) | Q37: =IF(IFERROR(INDEX('[1]公式予選（TT①）-結果表（貼付）'!$A:$Z,MATCH($B37,'[1]公式予選（TT①）-結果表（貼付）'!$B:$B,0),MATCH(Q$11,'[1]公式予選（TT①）-結果表（貼付）'!$1:$1,0)),"")=0,"",IFERROR(INDEX('[1]公式予選（TT①）-結果表（貼付）'!$A:$Z,MATCH($B37,'[1]公式予選（TT①）-結果表（貼付）'!$B:$B,0),MATCH(Q$11,'[1]公式予選（TT①）-結果表（貼付）'!$1:$1,0)),"")) | R37: =IF(Q37="","",COUNTIF($Q$13:Q37,"<>"&"")) | S37: =IFERROR(RANK(R37,$R$13:$R$48,1),"") | T37: =IF(IFERROR(INDEX('[1]公式予選（TT①）-結果表（貼付）'!$A:$Z,MATCH($A37,'[1]公式予選（TT①）-結果表（貼付）'!$A:$A,0),MATCH(T$11,'[1]公式予選（TT①）-結果表（貼付）'!$1:$1,0)),"")=0,"",IFERROR(INDEX('[1]公式予選（TT①）-結果表（貼付）'!$A:$Z,MATCH($A37,'[1]公式予選（TT①）-結果表（貼付）'!$A:$A,0),MATCH(T$11,'[1]公式予選（TT①）-結果表（貼付）'!$1:$1,0)),""))
A38: =IF(OR('[1]公式予選（TT①）-結果表（貼付）'!A26="DNF",'[1]公式予選（TT①）-結果表（貼付）'!A26="DNS",'[1]公式予選（TT①）-結果表（貼付）'!A26="DQ"),'[1]公式予選（TT①）-結果表（貼付）'!A26,IF(MAX('[1]公式予選（TT①）-結果表（貼付）'!$A:$A)>A37,A37+1,"")) | B38: =IFERROR(INDEX('[1]公式予選（TT①）-結果表（貼付）'!A26:$V$50,MATCH($A38,'[1]公式予選（TT①）-結果表（貼付）'!A26:$A$50,0),MATCH('公式予選（TT①）'!B$11,'[1]公式予選（TT①）-結果表（貼付）'!$1:$1,0)),"") | E38: =IFERROR(INDEX('[1]公式予選（TT①）-結果表（貼付）'!$A:$Z,MATCH($B38,'[1]公式予選（TT①）-結果表（貼付）'!$B:$B,0),MATCH('公式予選（TT①）'!E$11,'[1]公式予選（TT①）-結果表（貼付）'!$1:$1,0)),"") | F38: =IFERROR(INDEX('[1]公式予選（TT①）-結果表（貼付）'!$A:$Z,MATCH($B38,'[1]公式予選（TT①）-結果表（貼付）'!$B:$B,0),MATCH('公式予選（TT①）'!F$11,'[1]公式予選（TT①）-結果表（貼付）'!$1:$1,0)),"") | G38: =IFERROR(INDEX('[1]公式予選（TT①）-結果表（貼付）'!$A:$Z,MATCH($B38,'[1]公式予選（TT①）-結果表（貼付）'!$B:$B,0),MATCH('公式予選（TT①）'!G$11,'[1]公式予選（TT①）-結果表（貼付）'!$1:$1,0)),"") | H38: =IFERROR(INDEX('[1]公式予選（TT①）-結果表（貼付）'!$A:$Z,MATCH($B38,'[1]公式予選（TT①）-結果表（貼付）'!$B:$B,0),MATCH('公式予選（TT①）'!H$11,'[1]公式予選（TT①）-結果表（貼付）'!$1:$1,0)),"") | I38: =IF(A38="DNS","ｽﾀｰﾄ出来ず",IF(A38="DQ","失 格",IFERROR(INDEX('[1]公式予選（TT①）-結果表（貼付）'!$A:$Z,MATCH($B38,'[1]公式予選（TT①）-結果表（貼付）'!$B:$B,0),MATCH('公式予選（TT①）'!I$11,'[1]公式予選（TT①）-結果表（貼付）'!$1:$1,0)),""))) | J38: =IF(I38<1,"",IF($J$11>I38,"R","")) | K38: =IF(OR('[1]公式予選（TT①）-結果表（貼付）'!A26="DNS",'[1]公式予選（TT①）-結果表（貼付）'!A26="DQ"),"",IFERROR(INDEX('[1]公式予選（TT①）-結果表（貼付）'!$A:$Z,MATCH($B38,'[1]公式予選（TT①）-結果表（貼付）'!$B:$B,0),MATCH('公式予選（TT①）'!K$11,'[1]公式予選（TT①）-結果表（貼付）'!$1:$1,0)),"")) | L38: =IF(OR('[1]公式予選（TT①）-結果表（貼付）'!A26="DNS",'[1]公式予選（TT①）-結果表（貼付）'!A26="DQ"),"",IFERROR(INDEX('[1]公式予選（TT①）-結果表（貼付）'!$A:$Z,MATCH($B38,'[1]公式予選（TT①）-結果表（貼付）'!$B:$B,0),MATCH('公式予選（TT①）'!L$11,'[1]公式予選（TT①）-結果表（貼付）'!$1:$1,0)),"")) | M38: =IF(OR('[1]公式予選（TT①）-結果表（貼付）'!A26="DNS",'[1]公式予選（TT①）-結果表（貼付）'!A26="DQ"),"",IFERROR(INDEX('[1]公式予選（TT①）-結果表（貼付）'!$A:$Z,MATCH($B38,'[1]公式予選（TT①）-結果表（貼付）'!$B:$B,0),MATCH("In Lap",'[1]公式予選（TT①）-結果表（貼付）'!$1:$1,0))&"/"&INDEX('[1]公式予選（TT①）-結果表（貼付）'!$A:$Z,MATCH($B38,'[1]公式予選（TT①）-結果表（貼付）'!$B:$B,0),MATCH("Laps",'[1]公式予選（TT①）-結果表（貼付）'!$1:$1,0)),"")) | Q38: =IF(IFERROR(INDEX('[1]公式予選（TT①）-結果表（貼付）'!$A:$Z,MATCH($B38,'[1]公式予選（TT①）-結果表（貼付）'!$B:$B,0),MATCH(Q$11,'[1]公式予選（TT①）-結果表（貼付）'!$1:$1,0)),"")=0,"",IFERROR(INDEX('[1]公式予選（TT①）-結果表（貼付）'!$A:$Z,MATCH($B38,'[1]公式予選（TT①）-結果表（貼付）'!$B:$B,0),MATCH(Q$11,'[1]公式予選（TT①）-結果表（貼付）'!$1:$1,0)),"")) | R38: =IF(Q38="","",COUNTIF($Q$13:Q38,"<>"&"")) | S38: =IFERROR(RANK(R38,$R$13:$R$48,1),"") | T38: =IF(IFERROR(INDEX('[1]公式予選（TT①）-結果表（貼付）'!$A:$Z,MATCH($A38,'[1]公式予選（TT①）-結果表（貼付）'!$A:$A,0),MATCH(T$11,'[1]公式予選（TT①）-結果表（貼付）'!$1:$1,0)),"")=0,"",IFERROR(INDEX('[1]公式予選（TT①）-結果表（貼付）'!$A:$Z,MATCH($A38,'[1]公式予選（TT①）-結果表（貼付）'!$A:$A,0),MATCH(T$11,'[1]公式予選（TT①）-結果表（貼付）'!$1:$1,0)),""))
A39: =IF(OR('[1]公式予選（TT①）-結果表（貼付）'!A27="DNF",'[1]公式予選（TT①）-結果表（貼付）'!A27="DNS",'[1]公式予選（TT①）-結果表（貼付）'!A27="DQ"),'[1]公式予選（TT①）-結果表（貼付）'!A27,IF(MAX('[1]公式予選（TT①）-結果表（貼付）'!$A:$A)>A38,A38+1,"")) | B39: =IFERROR(INDEX('[1]公式予選（TT①）-結果表（貼付）'!A27:$V$50,MATCH($A39,'[1]公式予選（TT①）-結果表（貼付）'!A27:$A$50,0),MATCH('公式予選（TT①）'!B$11,'[1]公式予選（TT①）-結果表（貼付）'!$1:$1,0)),"") | E39: =IFERROR(INDEX('[1]公式予選（TT①）-結果表（貼付）'!$A:$Z,MATCH($B39,'[1]公式予選（TT①）-結果表（貼付）'!$B:$B,0),MATCH('公式予選（TT①）'!E$11,'[1]公式予選（TT①）-結果表（貼付）'!$1:$1,0)),"") | F39: =IFERROR(INDEX('[1]公式予選（TT①）-結果表（貼付）'!$A:$Z,MATCH($B39,'[1]公式予選（TT①）-結果表（貼付）'!$B:$B,0),MATCH('公式予選（TT①）'!F$11,'[1]公式予選（TT①）-結果表（貼付）'!$1:$1,0)),"") | G39: =IFERROR(INDEX('[1]公式予選（TT①）-結果表（貼付）'!$A:$Z,MATCH($B39,'[1]公式予選（TT①）-結果表（貼付）'!$B:$B,0),MATCH('公式予選（TT①）'!G$11,'[1]公式予選（TT①）-結果表（貼付）'!$1:$1,0)),"") | H39: =IFERROR(INDEX('[1]公式予選（TT①）-結果表（貼付）'!$A:$Z,MATCH($B39,'[1]公式予選（TT①）-結果表（貼付）'!$B:$B,0),MATCH('公式予選（TT①）'!H$11,'[1]公式予選（TT①）-結果表（貼付）'!$1:$1,0)),"") | I39: =IF(A39="DNS","ｽﾀｰﾄ出来ず",IF(A39="DQ","失 格",IFERROR(INDEX('[1]公式予選（TT①）-結果表（貼付）'!$A:$Z,MATCH($B39,'[1]公式予選（TT①）-結果表（貼付）'!$B:$B,0),MATCH('公式予選（TT①）'!I$11,'[1]公式予選（TT①）-結果表（貼付）'!$1:$1,0)),""))) | J39: =IF(I39<1,"",IF($J$11>I39,"R","")) | K39: =IF(OR('[1]公式予選（TT①）-結果表（貼付）'!A27="DNS",'[1]公式予選（TT①）-結果表（貼付）'!A27="DQ"),"",IFERROR(INDEX('[1]公式予選（TT①）-結果表（貼付）'!$A:$Z,MATCH($B39,'[1]公式予選（TT①）-結果表（貼付）'!$B:$B,0),MATCH('公式予選（TT①）'!K$11,'[1]公式予選（TT①）-結果表（貼付）'!$1:$1,0)),"")) | L39: =IF(OR('[1]公式予選（TT①）-結果表（貼付）'!A27="DNS",'[1]公式予選（TT①）-結果表（貼付）'!A27="DQ"),"",IFERROR(INDEX('[1]公式予選（TT①）-結果表（貼付）'!$A:$Z,MATCH($B39,'[1]公式予選（TT①）-結果表（貼付）'!$B:$B,0),MATCH('公式予選（TT①）'!L$11,'[1]公式予選（TT①）-結果表（貼付）'!$1:$1,0)),"")) | M39: =IF(OR('[1]公式予選（TT①）-結果表（貼付）'!A27="DNS",'[1]公式予選（TT①）-結果表（貼付）'!A27="DQ"),"",IFERROR(INDEX('[1]公式予選（TT①）-結果表（貼付）'!$A:$Z,MATCH($B39,'[1]公式予選（TT①）-結果表（貼付）'!$B:$B,0),MATCH("In Lap",'[1]公式予選（TT①）-結果表（貼付）'!$1:$1,0))&"/"&INDEX('[1]公式予選（TT①）-結果表（貼付）'!$A:$Z,MATCH($B39,'[1]公式予選（TT①）-結果表（貼付）'!$B:$B,0),MATCH("Laps",'[1]公式予選（TT①）-結果表（貼付）'!$1:$1,0)),"")) | Q39: =IF(IFERROR(INDEX('[1]公式予選（TT①）-結果表（貼付）'!$A:$Z,MATCH($B39,'[1]公式予選（TT①）-結果表（貼付）'!$B:$B,0),MATCH(Q$11,'[1]公式予選（TT①）-結果表（貼付）'!$1:$1,0)),"")=0,"",IFERROR(INDEX('[1]公式予選（TT①）-結果表（貼付）'!$A:$Z,MATCH($B39,'[1]公式予選（TT①）-結果表（貼付）'!$B:$B,0),MATCH(Q$11,'[1]公式予選（TT①）-結果表（貼付）'!$1:$1,0)),"")) | R39: =IF(Q39="","",COUNTIF($Q$13:Q39,"<>"&"")) | S39: =IFERROR(RANK(R39,$R$13:$R$48,1),"") | T39: =IF(IFERROR(INDEX('[1]公式予選（TT①）-結果表（貼付）'!$A:$Z,MATCH($A39,'[1]公式予選（TT①）-結果表（貼付）'!$A:$A,0),MATCH(T$11,'[1]公式予選（TT①）-結果表（貼付）'!$1:$1,0)),"")=0,"",IFERROR(INDEX('[1]公式予選（TT①）-結果表（貼付）'!$A:$Z,MATCH($A39,'[1]公式予選（TT①）-結果表（貼付）'!$A:$A,0),MATCH(T$11,'[1]公式予選（TT①）-結果表（貼付）'!$1:$1,0)),""))
