Workbook

Sheet 【第9戦】予選ヒート-レース結果表
K6: 44877 | M6: :
A7: =+[1]各種設定!D2 -> 2022年 オートバックス全日本カート選手権 OK部門 第9戦/10戦 | K7: WEATHER: | L7: Fine
K8: COURSE : | L8: Dry
A9: =+[1]各種設定!D4 -> OK | K9: 南コース 1.264Km
A10: 第９戦 予選ヒート結果表
B11: No. | E11: 名前 | F11: Model/Engine | G11: Team | H11: Tires | I11: Laps | J11: Total Time | K11: 差 | L11: Gap | M11: BestLap | N11: =VLOOKUP(A9,[1]コースレコード!$A:$G,3,FALSE) -> 45.239 | Q11: コメント | S11: ペナルティNo. | T11: グリッドコメント | U11: ベスト平均時速
A12: Pos. | B12: No. | E12: Driver | F12: Type | G12: Team | H12: Tire | I12: Laps | J12: Total Time | K12: Delay | L12: Gap | M12: Best
A13: 1 | B13: =IFERROR(INDEX('[1]【第9戦】予選ヒート-レース結果表（貼付）'!A2:$Z$50,MATCH($A13,'[1]【第9戦】予選ヒート-レース結果表（貼付）'!A2:$A$50,0),MATCH('[1]公式予選（TT②）-結果表（印刷）'!B$11,'[1]【第9戦】予選ヒート-レース結果表（貼付）'!$1:$1,0)),"") -> 29 | E13: =IFERROR(INDEX('[1]【第9戦】予選ヒート-レース結果表（貼付）'!$A:$Z,MATCH($B13,'[1]【第9戦】予選ヒート-レース結果表（貼付）'!$B:$B,0),MATCH('【第9戦】予選ヒート-レース結果表'!E$11,'[1]【第9戦】予選ヒート-レース結果表（貼付）'!$1:$1,0)),"") -> 三村 壮太郎 | F13: =IFERROR(INDEX('[1]【第9戦】予選ヒート-レース結果表（貼付）'!$A:$Z,MATCH($B13,'[1]【第9戦】予選ヒート-レース結果表（貼付）'!$B:$B,0),MATCH('【第9戦】予選ヒート-レース結果表'!F$11,'[1]【第9戦】予選ヒート-レース結果表（貼付）'!$1:$1,0)),"") -> Rosa Drago Corse/TM | G13: =IFERROR(INDEX('[1]【第9戦】予選ヒート-レース結果表（貼付）'!$A:$Z,MATCH($B13,'[1]【第9戦】予選ヒート-レース結果表（貼付）'!$B:$B,0),MATCH('【第9戦】予選ヒート-レース結果表'!G$11,'[1]【第9戦】予選ヒート-レース結果表（貼付）'!$1:$1,0)),"") -> RosaDragoCorse | H13: =IFERROR(INDEX('[1]【第9戦】予選ヒート-レース結果表（貼付）'!$A:$Z,MATCH($B13,'[1]【第9戦】予選ヒート-レース結果表（貼付）'!$B:$B,0),MATCH('【第9戦】予選ヒート-レース結果表'!H$11,'[1]【第9戦】予選ヒート-レース結果表（貼付）'!$1:$1,0)),"") -> BS | I13: =IFERROR(INDEX('[1]【第9戦】予選ヒート-レース結果表（貼付）'!$A:$Z,MATCH($B13,'[1]【第9戦】予選ヒート-レース結果表（貼付）'!$B:$B,0),MATCH('【第9戦】予選ヒート-レース結果表'!I$11,'[1]【第9戦】予選ヒート-レース結果表（貼付）'!$1:$1,0)),"") -> 12 | J13: =INDEX('[1]【第9戦】予選ヒート-レース結果表（貼付）'!$A:$Z,MATCH($B13,'[1]【第9戦】予選ヒート-レース結果表（貼付）'!$B:$B,0),MATCH('【第9戦】予選ヒート-レース結果表'!J$11,'[1]【第9戦】予選ヒート-レース結果表（貼付）'!$1:$1,0)) -> 0.0063280787 | K13: =ROUND((1.264*I13)/(J13*24),2)&"km/h" -> 99.87km/h | M13: =INDEX('[1]【第9戦】予選ヒート-レース結果表（貼付）'!$A:$Z,MATCH($B13,'[1]【第9戦】予選ヒート-レース結果表（貼付）'!$B:$B,0),MATCH('【第9戦】予選ヒート-レース結果表'!M$11,'[1]【第9戦】予選ヒート-レース結果表（貼付）'!$1:$1,0)) -> 45.166 | N13: =IF(M13<1,"",IF($N$11>M13,"R","")) -> R | Q13: =IF(IFERROR(INDEX('[1]【第9戦】予選ヒート-レース結果表（貼付）'!$A:$Z,MATCH($B13,'[1]【第9戦】予選ヒート-レース結果表（貼付）'!$B:$B,0),MATCH(Q$11,'[1]【第9戦】予選ヒート-レース結果表（貼付）'!$1:$1,0)),"")=0,"",IFERROR(INDEX('[1]【第9戦】予選ヒート-レース結果表（貼付）'!$A:$Z,MATCH($B13,'[1]【第9戦】予選ヒート-レース結果表（貼付）'!$B:$B,0),MATCH(Q$11,'[1]【第9戦】予選ヒート-レース結果表（貼付）'!$1:$1,0)),"")) | R13: =IF(Q13="","",COUNTIF($Q$13:Q13,"<>"&"")) | S13: =IFERROR(RANK(R13,$R$13:$R$46,1),"") | T13: =IF(IFERROR(INDEX('[1]【第9戦】予選ヒート-レース結果表（貼付）'!$A:$Z,MATCH($A13,'[1]【第9戦】予選ヒート-レース結果表（貼付）'!$A:$A,0),MATCH(T$11,'[1]【第9戦】予選ヒート-レース結果表（貼付）'!$1:$1,0)),"")=0,"",IFERROR(INDEX('[1]【第9戦】予選ヒート-レース結果表（貼付）'!$A:$Z,MATCH($A13,'[1]【第9戦】予選ヒート-レース結果表（貼付）'!$A:$A,0),MATCH(T$11,'[1]【第9戦】予選ヒート-レース結果表（貼付）'!$1:$1,0)),"")) | U13: =IF(IFERROR(INDEX('[1]【第9戦】予選ヒート-レース結果表（貼付）'!$A:$Z,MATCH($B13,'[1]【第9戦】予選ヒート-レース結果表（貼付）'!$B:$B,0),MATCH(U$11,'[1]【第9戦】予選ヒート-レース結果表（貼付）'!$1:$1,0)),"")=0,"",IFERROR(INDEX('[1]【第9戦】予選ヒート-レース結果表（貼付）'!$A:$Z,MATCH($B13,'[1]【第9戦】予選ヒート-レース結果表（貼付）'!$B:$B,0),MATCH(U$11,'[1]【第9戦】予選ヒート-レース結果表（貼付）'!$1:$1,0)),"")) -> 100.748
A14: =IF(OR('[1]【第9戦】予選ヒート-レース結果表（貼付）'!A3="DNF",'[1]【第9戦】予選ヒート-レース結果表（貼付）'!A3="DNS",'[1]【第9戦】予選ヒート-レース結果表（貼付）'!A3="DQ"),'[1]【第9戦】予選ヒート-レース結果表（貼付）'!A3,IF(MAX('[1]【第9戦】予選ヒート-レース結果表（貼付）'!A:A)>A13,A13+1,"")) -> 2 | B14: =IFERROR(INDEX('[1]【第9戦】予選ヒート-レース結果表（貼付）'!A3:$Z$50,MATCH($A14,'[1]【第9戦】予選ヒート-レース結果表（貼付）'!A3:$A$50,0),MATCH('[1]公式予選（TT②）-結果表（印刷）'!B$11,'[1]【第9戦】予選ヒート-レース結果表（貼付）'!$1:$1,0)),"") -> 1 | E14: =IFERROR(INDEX('[1]【第9戦】予選ヒート-レース結果表（貼付）'!$A:$Z,MATCH($B14,'[1]【第9戦】予選ヒート-レース結果表（貼付）'!$B:$B,0),MATCH('【第9戦】予選ヒート-レース結果表'!E$11,'[1]【第9戦】予選ヒート-レース結果表（貼付）'!$1:$1,0)),"") -> 佐々木 大樹 | F14: =IFERROR(INDEX('[1]【第9戦】予選ヒート-レース結果表（貼付）'!$A:$Z,MATCH($B14,'[1]【第9戦】予選ヒート-レース結果表（貼付）'!$B:$B,0),MATCH('【第9戦】予選ヒート-レース結果表'!F$11,'[1]【第9戦】予選ヒート-レース結果表（貼付）'!$1:$1,0)),"") -> TONY KART/VORTEX | G14: =IFERROR(INDEX('[1]【第9戦】予選ヒート-レース結果表（貼付）'!$A:$Z,MATCH($B14,'[1]【第9戦】予選ヒート-レース結果表（貼付）'!$B:$B,0),MATCH('【第9戦】予選ヒート-レース結果表'!G$11,'[1]【第9戦】予選ヒート-レース結果表（貼付）'!$1:$1,0)),"") -> TONYKART RACING TEAM JAPAN | H14: =IFERROR(INDEX('[1]【第9戦】予選ヒート-レース結果表（貼付）'!$A:$Z,MATCH($B14,'[1]【第9戦】予選ヒート-レース結果表（貼付）'!$B:$B,0),MATCH('【第9戦】予選ヒート-レース結果表'!H$11,'[1]【第9戦】予選ヒート-レース結果表（貼付）'!$1:$1,0)),"") -> BS | I14: =IFERROR(INDEX('[1]【第9戦】予選ヒート-レース結果表（貼付）'!$A:$Z,MATCH($B14,'[1]【第9戦】予選ヒート-レース結果表（貼付）'!$B:$B,0),MATCH('【第9戦】予選ヒート-レース結果表'!I$11,'[1]【第9戦】予選ヒート-レース結果表（貼付）'!$1:$1,0)),"") -> 12 | J14: =IFERROR(IF(A14="DNS","ｽﾀｰﾄ出来ず",IF(A14="DQ","失 格",INDEX('[1]【第9戦】予選ヒート-レース結果表（貼付）'!$A:$Z,MATCH($B14,'[1]【第9戦】予選ヒート-レース結果表（貼付）'!$B:$B,0),MATCH('【第9戦】予選ヒート-レース結果表'!J$11,'[1]【第9戦】予選ヒート-レース結果表（貼付）'!$1:$1,0)))),"") -> 0.0063291898 | K14: =IFERROR(IF(A14="DNS","",IF(A14="DQ","",INDEX('[1]【第9戦】予選ヒート-レース結果表（貼付）'!$A:$Z,MATCH($B14,'[1]【第9戦】予選ヒート-レース結果表（貼付）'!$B:$B,0),MATCH('【第9戦】予選ヒート-レース結果表'!K$11,'[1]【第9戦】予選ヒート-レース結果表（貼付）'!$1:$1,0)))),"") -> 0.096 | L14: =IFERROR(IF(A14="DNS","",IF(A14="DQ","",INDEX('[1]【第9戦】予選ヒート-レース結果表（貼付）'!$A:$Z,MATCH($B14,'[1]【第9戦】予選ヒート-レース結果表（貼付）'!$B:$B,0),MATCH('【第9戦】予選ヒート-レース結果表'!L$11,'[1]【第9戦】予選ヒート-レース結果表（貼付）'!$1:$1,0)))),"") -> 0.096 | M14: =IFERROR(IF(A14="DNS","",IF(A14="DQ","",INDEX('[1]【第9戦】予選ヒート-レース結果表（貼付）'!$A:$Z,MATCH($B14,'[1]【第9戦】予選ヒート-レース結果表（貼付）'!$B:$B,0),MATCH('【第9戦】予選ヒート-レース結果表'!M$11,'[1]【第9戦】予選ヒート-レース結果表（貼付）'!$1:$1,0)))),"") -> 45.153 | N14: =IF(M14<1,"",IF($N$11>M14,"R","")) -> R | Q14: =IF(IFERROR(INDEX('[1]【第9戦】予選ヒート-レース結果表（貼付）'!$A:$Z,MATCH($B14,'[1]【第9戦】予選ヒート-レース結果表（貼付）'!$B:$B,0),MATCH(Q$11,'[1]【第9戦】予選ヒート-レース結果表（貼付）'!$1:$1,0)),"")=0,"",IFERROR(INDEX('[1]【第9戦】予選ヒート-レース結果表（貼付）'!$A:$Z,MATCH($B14,'[1]【第9戦】予選ヒート-レース結果表（貼付）'!$B:$B,0),MATCH(Q$11,'[1]【第9戦】予選ヒート-レース結果表（貼付）'!$1:$1,0)),"")) | R14: =IF(Q14="","",COUNTIF($Q$13:Q14,"<>"&"")) | S14: =IFERROR(RANK(R14,$R$13:$R$46,1),"") | T14: =IF(IFERROR(INDEX('[1]【第9戦】予選ヒート-レース結果表（貼付）'!$A:$Z,MATCH($A14,'[1]【第9戦】予選ヒート-レース結果表（貼付）'!$A:$A,0),MATCH(T$11,'[1]【第9戦】予選ヒート-レース結果表（貼付）'!$1:$1,0)),"")=0,"",IFERROR(INDEX('[1]【第9戦】予選ヒート-レース結果表（貼付）'!$A:$Z,MATCH($A14,'[1]【第9戦】予選ヒート-レース結果表（貼付）'!$A:$A,0),MATCH(T$11,'[1]【第9戦】予選ヒート-レース結果表（貼付）'!$1:$1,0)),"")) | U14: =IF(IFERROR(INDEX('[1]【第9戦】予選ヒート-レース結果表（貼付）'!$A:$Z,MATCH($B14,'[1]【第9戦】予選ヒート-レース結果表（貼付）'!$B:$B,0),MATCH(U$11,'[1]【第9戦】予選ヒート-レース結果表（貼付）'!$1:$1,0)),"")=0,"",IFERROR(INDEX('[1]【第9戦】予選ヒート-レース結果表（貼付）'!$A:$Z,MATCH($B14,'[1]【第9戦】予選ヒート-レース結果表（貼付）'!$B:$B,0),MATCH(U$11,'[1]【第9戦】予選ヒート-レース結果表（貼付）'!$1:$1,0)),"")) -> 100.777
A15: =IF(OR('[1]【第9戦】予選ヒート-レース結果表（貼付）'!A4="DNF",'[1]【第9戦】予選ヒート-レース結果表（貼付）'!A4="DNS",'[1]【第9戦】予選ヒート-レース結果表（貼付）'!A4="DQ"),'[1]【第9戦】予選ヒート-レース結果表（貼付）'!A4,IF(MAX('[1]【第9戦】予選ヒート-レース結果表（貼付）'!A:A)>A14,A14+1,"")) -> 3 | B15: =IFERROR(INDEX('[1]【第9戦】予選ヒート-レース結果表（貼付）'!A4:$Z$50,MATCH($A15,'[1]【第9戦】予選ヒート-レース結果表（貼付）'!A4:$A$50,0),MATCH('[1]公式予選（TT②）-結果表（印刷）'!B$11,'[1]【第9戦】予選ヒート-レース結果表（貼付）'!$1:$1,0)),"") -> 18 | E15: =IFERROR(INDEX('[1]【第9戦】予選ヒート-レース結果表（貼付）'!$A:$Z,MATCH($B15,'[1]【第9戦】予選ヒート-レース結果表（貼付）'!$B:$B,0),MATCH('【第9戦】予選ヒート-レース結果表'!E$11,'[1]【第9戦】予選ヒート-レース結果表（貼付）'!$1:$1,0)),"") -> 野澤 勇翔 | F15: =IFERROR(INDEX('[1]【第9戦】予選ヒート-レース結果表（貼付）'!$A:$Z,MATCH($B15,'[1]【第9戦】予選ヒート-レース結果表（貼付）'!$B:$B,0),MATCH('【第9戦】予選ヒート-レース結果表'!F$11,'[1]【第9戦】予選ヒート-レース結果表（貼付）'!$1:$1,0)),"") -> Birel ART/IAME | G15: =IFERROR(INDEX('[1]【第9戦】予選ヒート-レース結果表（貼付）'!$A:$Z,MATCH($B15,'[1]【第9戦】予選ヒート-レース結果表（貼付）'!$B:$B,0),MATCH('【第9戦】予選ヒート-レース結果表'!G$11,'[1]【第9戦】予選ヒート-レース結果表（貼付）'!$1:$1,0)),"") -> bbR.チームエッフェガーラ | H15: =IFERROR(INDEX('[1]【第9戦】予選ヒート-レース結果表（貼付）'!$A:$Z,MATCH($B15,'[1]【第9戦】予選ヒート-レース結果表（貼付）'!$B:$B,0),MATCH('【第9戦】予選ヒート-レース結果表'!H$11,'[1]【第9戦】予選ヒート-レース結果表（貼付）'!$1:$1,0)),"") -> BS | I15: =IFERROR(INDEX('[1]【第9戦】予選ヒート-レース結果表（貼付）'!$A:$Z,MATCH($B15,'[1]【第9戦】予選ヒート-レース結果表（貼付）'!$B:$B,0),MATCH('【第9戦】予選ヒート-レース結果表'!I$11,'[1]【第9戦】予選ヒート-レース結果表（貼付）'!$1:$1,0)),"") -> 12 | J15: =IFERROR(IF(A15="DNS","ｽﾀｰﾄ出来ず",IF(A15="DQ","失 格",INDEX('[1]【第9戦】予選ヒート-レース結果表（貼付）'!$A:$Z,MATCH($B15,'[1]【第9戦】予選ヒート-レース結果表（貼付）'!$B:$B,0),MATCH('【第9戦】予選ヒート-レース結果表'!J$11,'[1]【第9戦】予選ヒート-レース結果表（貼付）'!$1:$1,0)))),"") -> 0.0063360764 | K15: =IFERROR(IF(A15="DNS","",IF(A15="DQ","",INDEX('[1]【第9戦】予選ヒート-レース結果表（貼付）'!$A:$Z,MATCH($B15,'[1]【第9戦】予選ヒート-レース結果表（貼付）'!$B:$B,0),MATCH('【第9戦】予選ヒート-レース結果表'!K$11,'[1]【第9戦】予選ヒート-レース結果表（貼付）'!$1:$1,0)))),"") -> 0.691 | L15: =IFERROR(IF(A15="DNS","",IF(A15="DQ","",INDEX('[1]【第9戦】予選ヒート-レース結果表（貼付）'!$A:$Z,MATCH($B15,'[1]【第9戦】予選ヒート-レース結果表（貼付）'!$B:$B,0),MATCH('【第9戦】予選ヒート-レース結果表'!L$11,'[1]【第9戦】予選ヒート-レース結果表（貼付）'!$1:$1,0)))),"") -> 0.595 | M15: =IFERROR(IF(A15="DNS","",IF(A15="DQ","",INDEX('[1]【第9戦】予選ヒート-レース結果表（貼付）'!$A:$Z,MATCH($B15,'[1]【第9戦】予選ヒート-レース結果表（貼付）'!$B:$B,0),MATCH('【第9戦】予選ヒート-レース結果表'!M$11,'[1]【第9戦】予選ヒート-レース結果表（貼付）'!$1:$1,0)))),"") -> 45.244 | N15: =IF(M15<1,"",IF($N$11>M15,"R","")) | Q15: =IF(IFERROR(INDEX('[1]【第9戦】予選ヒート-レース結果表（貼付）'!$A:$Z,MATCH($B15,'[1]【第9戦】予選ヒート-レース結果表（貼付）'!$B:$B,0),MATCH(Q$11,'[1]【第9戦】予選ヒート-レース結果表（貼付）'!$1:$1,0)),"")=0,"",IFERROR(INDEX('[1]【第9戦】予選ヒート-レース結果表（貼付）'!$A:$Z,MATCH($B15,'[1]【第9戦】予選ヒート-レース結果表（貼付）'!$B:$B,0),MATCH(Q$11,'[1]【第9戦】予選ヒート-レース結果表（貼付）'!$1:$1,0)),"")) | R15: =IF(Q15="","",COUNTIF($Q$13:Q15,"<>"&"")) | S15: =IFERROR(RANK(R15,$R$13:$R$46,1),"") | T15: =IF(IFERROR(INDEX('[1]【第9戦】予選ヒート-レース結果表（貼付）'!$A:$Z,MATCH($A15,'[1]【第9戦】予選ヒート-レース結果表（貼付）'!$A:$A,0),MATCH(T$11,'[1]【第9戦】予選ヒート-レース結果表（貼付）'!$1:$1,0)),"")=0,"",IFERROR(INDEX('[1]【第9戦】予選ヒート-レース結果表（貼付）'!$A:$Z,MATCH($A15,'[1]【第9戦】予選ヒート-レース結果表（貼付）'!$A:$A,0),MATCH(T$11,'[1]【第9戦】予選ヒート-レース結果表（貼付）'!$1:$1,0)),"")) | U15: =IF(IFERROR(INDEX('[1]【第9戦】予選ヒート-レース結果表（貼付）'!$A:$Z,MATCH($B15,'[1]【第9戦】予選ヒート-レース結果表（貼付）'!$B:$B,0),MATCH(U$11,'[1]【第9戦】予選ヒート-レース結果表（貼付）'!$1:$1,0)),"")=0,"",IFERROR(INDEX('[1]【第9戦】予選ヒート-レース結果表（貼付）'!$A:$Z,MATCH($B15,'[1]【第9戦】予選ヒート-レース結果表（貼付）'!$B:$B,0),MATCH(U$11,'[1]【第9戦】予選ヒート-レース結果表（貼付）'!$1:$1,0)),"")) -> 100.575
A16: =IF(OR('[1]【第9戦】予選ヒート-レース結果表（貼付）'!A5="DNF",'[1]【第9戦】予選ヒート-レース結果表（貼付）'!A5="DNS",'[1]【第9戦】予選ヒート-レース結果表（貼付）'!A5="DQ"),'[1]【第9戦】予選ヒート-レース結果表（貼付）'!A5,IF(MAX('[1]【第9戦】予選ヒート-レース結果表（貼付）'!A:A)>A15,A15+1,"")) -> 4 | B16: =IFERROR(INDEX('[1]【第9戦】予選ヒート-レース結果表（貼付）'!A5:$Z$50,MATCH($A16,'[1]【第9戦】予選ヒート-レース結果表（貼付）'!A5:$A$50,0),MATCH('[1]公式予選（TT②）-結果表（印刷）'!B$11,'[1]【第9戦】予選ヒート-レース結果表（貼付）'!$1:$1,0)),"") -> 81 | E16: =IFERROR(INDEX('[1]【第9戦】予選ヒート-レース結果表（貼付）'!$A:$Z,MATCH($B16,'[1]【第9戦】予選ヒート-レース結果表（貼付）'!$B:$B,0),MATCH('【第9戦】予選ヒート-レース結果表'!E$11,'[1]【第9戦】予選ヒート-レース結果表（貼付）'!$1:$1,0)),"") -> 山田 杯利 | F16: =IFERROR(INDEX('[1]【第9戦】予選ヒート-レース結果表（貼付）'!$A:$Z,MATCH($B16,'[1]【第9戦】予選ヒート-レース結果表（貼付）'!$B:$B,0),MATCH('【第9戦】予選ヒート-レース結果表'!F$11,'[1]【第9戦】予選ヒート-レース結果表（貼付）'!$1:$1,0)),"") -> Drago CORSE/TM | G16: =IFERROR(INDEX('[1]【第9戦】予選ヒート-レース結果表（貼付）'!$A:$Z,MATCH($B16,'[1]【第9戦】予選ヒート-レース結果表（貼付）'!$B:$B,0),MATCH('【第9戦】予選ヒート-レース結果表'!G$11,'[1]【第9戦】予選ヒート-レース結果表（貼付）'!$1:$1,0)),"") -> DragoCorse | H16: =IFERROR(INDEX('[1]【第9戦】予選ヒート-レース結果表（貼付）'!$A:$Z,MATCH($B16,'[1]【第9戦】予選ヒート-レース結果表（貼付）'!$B:$B,0),MATCH('【第9戦】予選ヒート-レース結果表'!H$11,'[1]【第9戦】予選ヒート-レース結果表（貼付）'!$1:$1,0)),"") -> BS | I16: =IFERROR(INDEX('[1]【第9戦】予選ヒート-レース結果表（貼付）'!$A:$Z,MATCH($B16,'[1]【第9戦】予選ヒート-レース結果表（貼付）'!$B:$B,0),MATCH('【第9戦】予選ヒート-レース結果表'!I$11,'[1]【第9戦】予選ヒート-レース結果表（貼付）'!$1:$1,0)),"") -> 12 | J16: =IFERROR(IF(A16="DNS","ｽﾀｰﾄ出来ず",IF(A16="DQ","失 格",INDEX('[1]【第9戦】予選ヒート-レース結果表（貼付）'!$A:$Z,MATCH($B16,'[1]【第9戦】予選ヒート-レース結果表（貼付）'!$B:$B,0),MATCH('【第9戦】予選ヒート-レース結果表'!J$11,'[1]【第9戦】予選ヒート-レース結果表（貼付）'!$1:$1,0)))),"") -> 0.0063452315 | K16: =IFERROR(IF(A16="DNS","",IF(A16="DQ","",INDEX('[1]【第9戦】予選ヒート-レース結果表（貼付）'!$A:$Z,MATCH($B16,'[1]【第9戦】予選ヒート-レース結果表（貼付）'!$B:$B,0),MATCH('【第9戦】予選ヒート-レース結果表'!K$11,'[1]【第9戦】予選ヒート-レース結果表（貼付）'!$1:$1,0)))),"") -> 1.482 | L16: =IFERROR(IF(A16="DNS","",IF(A16="DQ","",INDEX('[1]【第9戦】予選ヒート-レース結果表（貼付）'!$A:$Z,MATCH($B16,'[1]【第9戦】予選ヒート-レース結果表（貼付）'!$B:$B,0),MATCH('【第9戦】予選ヒート-レース結果表'!L$11,'[1]【第9戦】予選ヒート-レース結果表（貼付）'!$1:$1,0)))),"") -> 0.791 | M16: =IFERROR(IF(A16="DNS","",IF(A16="DQ","",INDEX('[1]【第9戦】予選ヒート-レース結果表（貼付）'!$A:$Z,MATCH($B16,'[1]【第9戦】予選ヒート-レース結果表（貼付）'!$B:$B,0),MATCH('【第9戦】予選ヒート-レース結果表'!M$11,'[1]【第9戦】予選ヒート-レース結果表（貼付）'!$1:$1,0)))),"") -> 44.935 | N16: =IF(M16<1,"",IF($N$11>M16,"R","")) -> R | Q16: =IF(IFERROR(INDEX('[1]【第9戦】予選ヒート-レース結果表（貼付）'!$A:$Z,MATCH($B16,'[1]【第9戦】予選ヒート-レース結果表（貼付）'!$B:$B,0),MATCH(Q$11,'[1]【第9戦】予選ヒート-レース結果表（貼付）'!$1:$1,0)),"")=0,"",IFERROR(INDEX('[1]【第9戦】予選ヒート-レース結果表（貼付）'!$A:$Z,MATCH($B16,'[1]【第9戦】予選ヒート-レース結果表（貼付）'!$B:$B,0),MATCH(Q$11,'[1]【第9戦】予選ヒート-レース結果表（貼付）'!$1:$1,0)),"")) | R16: =IF(Q16="","",COUNTIF($Q$13:Q16,"<>"&"")) | S16: =IFERROR(RANK(R16,$R$13:$R$46,1),"") | T16: =IF(IFERROR(INDEX('[1]【第9戦】予選ヒート-レース結果表（貼付）'!$A:$Z,MATCH($A16,'[1]【第9戦】予選ヒート-レース結果表（貼付）'!$A:$A,0),MATCH(T$11,'[1]【第9戦】予選ヒート-レース結果表（貼付）'!$1:$1,0)),"")=0,"",IFERROR(INDEX('[1]【第9戦】予選ヒート-レース結果表（貼付）'!$A:$Z,MATCH($A16,'[1]【第9戦】予選ヒート-レース結果表（貼付）'!$A:$A,0),MATCH(T$11,'[1]【第9戦】予選ヒート-レース結果表（貼付）'!$1:$1,0)),"")) | U16: =IF(IFERROR(INDEX('[1]【第9戦】予選ヒート-レース結果表（貼付）'!$A:$Z,MATCH($B16,'[1]【第9戦】予選ヒート-レース結果表（貼付）'!$B:$B,0),MATCH(U$11,'[1]【第9戦】予選ヒート-レース結果表（貼付）'!$1:$1,0)),"")=0,"",IFERROR(INDEX('[1]【第9戦】予選ヒート-レース結果表（貼付）'!$A:$Z,MATCH($B16,'[1]【第9戦】予選ヒート-レース結果表（貼付）'!$B:$B,0),MATCH(U$11,'[1]【第9戦】予選ヒート-レース結果表（貼付）'!$1:$1,0)),"")) -> 101.266
A17: =IF(OR('[1]【第9戦】予選ヒート-レース結果表（貼付）'!A6="DNF",'[1]【第9戦】予選ヒート-レース結果表（貼付）'!A6="DNS",'[1]【第9戦】予選ヒート-レース結果表（貼付）'!A6="DQ"),'[1]【第9戦】予選ヒート-レース結果表（貼付）'!A6,IF(MAX('[1]【第9戦】予選ヒート-レース結果表（貼付）'!A:A)>A16,A16+1,"")) -> 5 | B17: =IFERROR(INDEX('[1]【第9戦】予選ヒート-レース結果表（貼付）'!A6:$Z$50,MATCH($A17,'[1]【第9戦】予選ヒート-レース結果表（貼付）'!A6:$A$50,0),MATCH('[1]公式予選（TT②）-結果表（印刷）'!B$11,'[1]【第9戦】予選ヒート-レース結果表（貼付）'!$1:$1,0)),"") -> 89 | E17: =IFERROR(INDEX('[1]【第9戦】予選ヒート-レース結果表（貼付）'!$A:$Z,MATCH($B17,'[1]【第9戦】予選ヒート-レース結果表（貼付）'!$B:$B,0),MATCH('【第9戦】予選ヒート-レース結果表'!E$11,'[1]【第9戦】予選ヒート-レース結果表（貼付）'!$1:$1,0)),"") -> 加藤 大翔 | F17: =IFERROR(INDEX('[1]【第9戦】予選ヒート-レース結果表（貼付）'!$A:$Z,MATCH($B17,'[1]【第9戦】予選ヒート-レース結果表（貼付）'!$B:$B,0),MATCH('【第9戦】予選ヒート-レース結果表'!F$11,'[1]【第9戦】予選ヒート-レース結果表（貼付）'!$1:$1,0)),"") -> KR/TM | G17: =IFERROR(INDEX('[1]【第9戦】予選ヒート-レース結果表（貼付）'!$A:$Z,MATCH($B17,'[1]【第9戦】予選ヒート-レース結果表（貼付）'!$B:$B,0),MATCH('【第9戦】予選ヒート-レース結果表'!G$11,'[1]【第9戦】予選ヒート-レース結果表（貼付）'!$1:$1,0)),"") -> PONOS HIROTEX RACING | H17: =IFERROR(INDEX('[1]【第9戦】予選ヒート-レース結果表（貼付）'!$A:$Z,MATCH($B17,'[1]【第9戦】予選ヒート-レース結果表（貼付）'!$B:$B,0),MATCH('【第9戦】予選ヒート-レース結果表'!H$11,'[1]【第9戦】予選ヒート-レース結果表（貼付）'!$1:$1,0)),"") -> YH | I17: =IFERROR(INDEX('[1]【第9戦】予選ヒート-レース結果表（貼付）'!$A:$Z,MATCH($B17,'[1]【第9戦】予選ヒート-レース結果表（貼付）'!$B:$B,0),MATCH('【第9戦】予選ヒート-レース結果表'!I$11,'[1]【第9戦】予選ヒート-レース結果表（貼付）'!$1:$1,0)),"") -> 12 | J17: =IFERROR(IF(A17="DNS","ｽﾀｰﾄ出来ず",IF(A17="DQ","失 格",INDEX('[1]【第9戦】予選ヒート-レース結果表（貼付）'!$A:$Z,MATCH($B17,'[1]【第9戦】予選ヒート-レース結果表（貼付）'!$B:$B,0),MATCH('【第9戦】予選ヒート-レース結果表'!J$11,'[1]【第9戦】予選ヒート-レース結果表（貼付）'!$1:$1,0)))),"") -> 0.0063477083 | K17: =IFERROR(IF(A17="DNS","",IF(A17="DQ","",INDEX('[1]【第9戦】予選ヒート-レース結果表（貼付）'!$A:$Z,MATCH($B17,'[1]【第9戦】予選ヒート-レース結果表（貼付）'!$B:$B,0),MATCH('【第9戦】予選ヒート-レース結果表'!K$11,'[1]【第9戦】予選ヒート-レース結果表（貼付）'!$1:$1,0)))),"") -> 1.696 | L17: =IFERROR(IF(A17="DNS","",IF(A17="DQ","",INDEX('[1]【第9戦】予選ヒート-レース結果表（貼付）'!$A:$Z,MATCH($B17,'[1]【第9戦】予選ヒート-レース結果表（貼付）'!$B:$B,0),MATCH('【第9戦】予選ヒート-レース結果表'!L$11,'[1]【第9戦】予選ヒート-レース結果表（貼付）'!$1:$1,0)))),"") -> 0.214 | M17: =IFERROR(IF(A17="DNS","",IF(A17="DQ","",INDEX('[1]【第9戦】予選ヒート-レース結果表（貼付）'!$A:$Z,MATCH($B17,'[1]【第9戦】予選ヒート-レース結果表（貼付）'!$B:$B,0),MATCH('【第9戦】予選ヒート-レース結果表'!M$11,'[1]【第9戦】予選ヒート-レース結果表（貼付）'!$1:$1,0)))),"") -> 45.283 | N17: =IF(M17<1,"",IF($N$11>M17,"R","")) | Q17: =IF(IFERROR(INDEX('[1]【第9戦】予選ヒート-レース結果表（貼付）'!$A:$Z,MATCH($B17,'[1]【第9戦】予選ヒート-レース結果表（貼付）'!$B:$B,0),MATCH(Q$11,'[1]【第9戦】予選ヒート-レース結果表（貼付）'!$1:$1,0)),"")=0,"",IFERROR(INDEX('[1]【第9戦】予選ヒート-レース結果表（貼付）'!$A:$Z,MATCH($B17,'[1]【第9戦】予選ヒート-レース結果表（貼付）'!$B:$B,0),MATCH(Q$11,'[1]【第9戦】予選ヒート-レース結果表（貼付）'!$1:$1,0)),"")) | R17: =IF(Q17="","",COUNTIF($Q$13:Q17,"<>"&"")) | S17: =IFERROR(RANK(R17,$R$13:$R$46,1),"") | T17: =IF(IFERROR(INDEX('[1]【第9戦】予選ヒート-レース結果表（貼付）'!$A:$Z,MATCH($A17,'[1]【第9戦】予選ヒート-レース結果表（貼付）'!$A:$A,0),MATCH(T$11,'[1]【第9戦】予選ヒート-レース結果表（貼付）'!$1:$1,0)),"")=0,"",IFERROR(INDEX('[1]【第9戦】予選ヒート-レース結果表（貼付）'!$A:$Z,MATCH($A17,'[1]【第9戦】予選ヒート-レース結果表（貼付）'!$A:$A,0),MATCH(T$11,'[1]【第9戦】予選ヒート-レース結果表（貼付）'!$1:$1,0)),"")) | U17: =IF(IFERROR(INDEX('[1]【第9戦】予選ヒート-レース結果表（貼付）'!$A:$Z,MATCH($B17,'[1]【第9戦】予選ヒート-レース結果表（貼付）'!$B:$B,0),MATCH(U$11,'[1]【第9戦】予選ヒート-レース結果表（貼付）'!$1:$1,0)),"")=0,"",IFERROR(INDEX('[1]【第9戦】予選ヒート-レース結果表（貼付）'!$A:$Z,MATCH($B17,'[1]【第9戦】予選ヒート-レース結果表（貼付）'!$B:$B,0),MATCH(U$11,'[1]【第9戦】予選ヒート-レース結果表（貼付）'!$1:$1,0)),"")) -> 100.488
A18: =IF(OR('[1]【第9戦】予選ヒート-レース結果表（貼付）'!A7="DNF",'[1]【第9戦】予選ヒート-レース結果表（貼付）'!A7="DNS",'[1]【第9戦】予選ヒート-レース結果表（貼付）'!A7="DQ"),'[1]【第9戦】予選ヒート-レース結果表（貼付）'!A7,IF(MAX('[1]【第9戦】予選ヒート-レース結果表（貼付）'!A:A)>A17,A17+1,"")) -> 6 | B18: =IFERROR(INDEX('[1]【第9戦】予選ヒート-レース結果表（貼付）'!A7:$Z$50,MATCH($A18,'[1]【第9戦】予選ヒート-レース結果表（貼付）'!A7:$A$50,0),MATCH('[1]公式予選（TT②）-結果表（印刷）'!B$11,'[1]【第9戦】予選ヒート-レース結果表（貼付）'!$1:$1,0)),"") -> 11 | E18: =IFERROR(INDEX('[1]【第9戦】予選ヒート-レース結果表（貼付）'!$A:$Z,MATCH($B18,'[1]【第9戦】予選ヒート-レース結果表（貼付）'!$B:$B,0),MATCH('【第9戦】予選ヒート-レース結果表'!E$11,'[1]【第9戦】予選ヒート-レース結果表（貼付）'!$1:$1,0)),"") -> 佐野 雄城 | F18: =IFERROR(INDEX('[1]【第9戦】予選ヒート-レース結果表（貼付）'!$A:$Z,MATCH($B18,'[1]【第9戦】予選ヒート-レース結果表（貼付）'!$B:$B,0),MATCH('【第9戦】予選ヒート-レース結果表'!F$11,'[1]【第9戦】予選ヒート-レース結果表（貼付）'!$1:$1,0)),"") -> Birel ART/IAME | G18: =IFERROR(INDEX('[1]【第9戦】予選ヒート-レース結果表（貼付）'!$A:$Z,MATCH($B18,'[1]【第9戦】予選ヒート-レース結果表（貼付）'!$B:$B,0),MATCH('【第9戦】予選ヒート-レース結果表'!G$11,'[1]【第9戦】予選ヒート-レース結果表（貼付）'!$1:$1,0)),"") -> BirelART Access Racing | H18: =IFERROR(INDEX('[1]【第9戦】予選ヒート-レース結果表（貼付）'!$A:$Z,MATCH($B18,'[1]【第9戦】予選ヒート-レース結果表（貼付）'!$B:$B,0),MATCH('【第9戦】予選ヒート-レース結果表'!H$11,'[1]【第9戦】予選ヒート-レース結果表（貼付）'!$1:$1,0)),"") -> BS | I18: =IFERROR(INDEX('[1]【第9戦】予選ヒート-レース結果表（貼付）'!$A:$Z,MATCH($B18,'[1]【第9戦】予選ヒート-レース結果表（貼付）'!$B:$B,0),MATCH('【第9戦】予選ヒート-レース結果表'!I$11,'[1]【第9戦】予選ヒート-レース結果表（貼付）'!$1:$1,0)),"") -> 12 | J18: =IFERROR(IF(A18="DNS","ｽﾀｰﾄ出来ず",IF(A18="DQ","失 格",INDEX('[1]【第9戦】予選ヒート-レース結果表（貼付）'!$A:$Z,MATCH($B18,'[1]【第9戦】予選ヒート-レース結果表（貼付）'!$B:$B,0),MATCH('【第9戦】予選ヒート-レース結果表'!J$11,'[1]【第9戦】予選ヒート-レース結果表（貼付）'!$1:$1,0)))),"") -> 0.0063518519 | K18: =IFERROR(IF(A18="DNS","",IF(A18="DQ","",INDEX('[1]【第9戦】予選ヒート-レース結果表（貼付）'!$A:$Z,MATCH($B18,'[1]【第9戦】予選ヒート-レース結果表（貼付）'!$B:$B,0),MATCH('【第9戦】予選ヒート-レース結果表'!K$11,'[1]【第9戦】予選ヒート-レース結果表（貼付）'!$1:$1,0)))),"") -> 2.054 | L18: =IFERROR(IF(A18="DNS","",IF(A18="DQ","",INDEX('[1]【第9戦】予選ヒート-レース結果表（貼付）'!$A:$Z,MATCH($B18,'[1]【第9戦】予選ヒート-レース結果表（貼付）'!$B:$B,0),MATCH('【第9戦】予選ヒート-レース結果表'!L$11,'[1]【第9戦】予選ヒート-レース結果表（貼付）'!$1:$1,0)))),"") -> 0.358 | M18: =IFERROR(IF(A18="DNS","",IF(A18="DQ","",INDEX('[1]【第9戦】予選ヒート-レース結果表（貼付）'!$A:$Z,MATCH($B18,'[1]【第9戦】予選ヒート-レース結果表（貼付）'!$B:$B,0),MATCH('【第9戦】予選ヒート-レース結果表'!M$11,'[1]【第9戦】予選ヒート-レース結果表（貼付）'!$1:$1,0)))),"") -> 45.24 | N18: =IF(M18<1,"",IF($N$11>M18,"R","")) | Q18: =IF(IFERROR(INDEX('[1]【第9戦】予選ヒート-レース結果表（貼付）'!$A:$Z,MATCH($B18,'[1]【第9戦】予選ヒート-レース結果表（貼付）'!$B:$B,0),MATCH(Q$11,'[1]【第9戦】予選ヒート-レース結果表（貼付）'!$1:$1,0)),"")=0,"",IFERROR(INDEX('[1]【第9戦】予選ヒート-レース結果表（貼付）'!$A:$Z,MATCH($B18,'[1]【第9戦】予選ヒート-レース結果表（貼付）'!$B:$B,0),MATCH(Q$11,'[1]【第9戦】予選ヒート-レース結果表（貼付）'!$1:$1,0)),"")) | R18: =IF(Q18="","",COUNTIF($Q$13:Q18,"<>"&"")) | S18: =IFERROR(RANK(R18,$R$13:$R$46,1),"") | T18: =IF(IFERROR(INDEX('[1]【第9戦】予選ヒート-レース結果表（貼付）'!$A:$Z,MATCH($A18,'[1]【第9戦】予選ヒート-レース結果表（貼付）'!$A:$A,0),MATCH(T$11,'[1]【第9戦】予選ヒート-レース結果表（貼付）'!$1:$1,0)),"")=0,"",IFERROR(INDEX('[1]【第9戦】予選ヒート-レース結果表（貼付）'!$A:$Z,MATCH($A18,'[1]【第9戦】予選ヒート-レース結果表（貼付）'!$A:$A,0),MATCH(T$11,'[1]【第9戦】予選ヒート-レース結果表（貼付）'!$1:$1,0)),"")) | U18: =IF(IFERROR(INDEX('[1]【第9戦】予選ヒート-レース結果表（貼付）'!$A:$Z,MATCH($B18,'[1]【第9戦】予選ヒート-レース結果表（貼付）'!$B:$B,0),MATCH(U$11,'[1]【第9戦】予選ヒート-レース結果表（貼付）'!$1:$1,0)),"")=0,"",IFERROR(INDEX('[1]【第9戦】予選ヒート-レース結果表（貼付）'!$A:$Z,MATCH($B18,'[1]【第9戦】予選ヒート-レース結果表（貼付）'!$B:$B,0),MATCH(U$11,'[1]【第9戦】予選ヒート-レース結果表（貼付）'!$1:$1,0)),"")) -> 100.584
A19: =IF(OR('[1]【第9戦】予選ヒート-レース結果表（貼付）'!A8="DNF",'[1]【第9戦】予選ヒート-レース結果表（貼付）'!A8="DNS",'[1]【第9戦】予選ヒート-レース結果表（貼付）'!A8="DQ"),'[1]【第9戦】予選ヒート-レース結果表（貼付）'!A8,IF(MAX('[1]【第9戦】予選ヒート-レース結果表（貼付）'!A:A)>A18,A18+1,"")) -> 7 | B19: =IFERROR(INDEX('[1]【第9戦】予選ヒート-レース結果表（貼付）'!A8:$Z$50,MATCH($A19,'[1]【第9戦】予選ヒート-レース結果表（貼付）'!A8:$A$50,0),MATCH('[1]公式予選（TT②）-結果表（印刷）'!B$11,'[1]【第9戦】予選ヒート-レース結果表（貼付）'!$1:$1,0)),"") -> 25 | E19: =IFERROR(INDEX('[1]【第9戦】予選ヒート-レース結果表（貼付）'!$A:$Z,MATCH($B19,'[1]【第9戦】予選ヒート-レース結果表（貼付）'!$B:$B,0),MATCH('【第9戦】予選ヒート-レース結果表'!E$11,'[1]【第9戦】予選ヒート-レース結果表（貼付）'!$1:$1,0)),"") -> 小田 優 | F19: =IFERROR(INDEX('[1]【第9戦】予選ヒート-レース結果表（貼付）'!$A:$Z,MATCH($B19,'[1]【第9戦】予選ヒート-レース結果表（貼付）'!$B:$B,0),MATCH('【第9戦】予選ヒート-レース結果表'!F$11,'[1]【第9戦】予選ヒート-レース結果表（貼付）'!$1:$1,0)),"") -> Drago CORSE/TM | G19: =IFERROR(INDEX('[1]【第9戦】予選ヒート-レース結果表（貼付）'!$A:$Z,MATCH($B19,'[1]【第9戦】予選ヒート-レース結果表（貼付）'!$B:$B,0),MATCH('【第9戦】予選ヒート-レース結果表'!G$11,'[1]【第9戦】予選ヒート-レース結果表（貼付）'!$1:$1,0)),"") -> Drago CORSE | H19: =IFERROR(INDEX('[1]【第9戦】予選ヒート-レース結果表（貼付）'!$A:$Z,MATCH($B19,'[1]【第9戦】予選ヒート-レース結果表（貼付）'!$B:$B,0),MATCH('【第9戦】予選ヒート-レース結果表'!H$11,'[1]【第9戦】予選ヒート-レース結果表（貼付）'!$1:$1,0)),"") -> BS | I19: =IFERROR(INDEX('[1]【第9戦】予選ヒート-レース結果表（貼付）'!$A:$Z,MATCH($B19,'[1]【第9戦】予選ヒート-レース結果表（貼付）'!$B:$B,0),MATCH('【第9戦】予選ヒート-レース結果表'!I$11,'[1]【第9戦】予選ヒート-レース結果表（貼付）'!$1:$1,0)),"") -> 12 | J19: =IFERROR(IF(A19="DNS","ｽﾀｰﾄ出来ず",IF(A19="DQ","失 格",INDEX('[1]【第9戦】予選ヒート-レース結果表（貼付）'!$A:$Z,MATCH($B19,'[1]【第9戦】予選ヒート-レース結果表（貼付）'!$B:$B,0),MATCH('【第9戦】予選ヒート-レース結果表'!J$11,'[1]【第9戦】予選ヒート-レース結果表（貼付）'!$1:$1,0)))),"") -> 0.0063716898 | K19: =IFERROR(IF(A19="DNS","",IF(A19="DQ","",INDEX('[1]【第9戦】予選ヒート-レース結果表（貼付）'!$A:$Z,MATCH($B19,'[1]【第9戦】予選ヒート-レース結果表（貼付）'!$B:$B,0),MATCH('【第9戦】予選ヒート-レース結果表'!K$11,'[1]【第9戦】予選ヒート-レース結果表（貼付）'!$1:$1,0)))),"") -> 3.768 | L19: =IFERROR(IF(A19="DNS","",IF(A19="DQ","",INDEX('[1]【第9戦】予選ヒート-レース結果表（貼付）'!$A:$Z,MATCH($B19,'[1]【第9戦】予選ヒート-レース結果表（貼付）'!$B:$B,0),MATCH('【第9戦】予選ヒート-レース結果表'!L$11,'[1]【第9戦】予選ヒート-レース結果表（貼付）'!$1:$1,0)))),"") -> 1.714 | M19: =IFERROR(IF(A19="DNS","",IF(A19="DQ","",INDEX('[1]【第9戦】予選ヒート-レース結果表（貼付）'!$A:$Z,MATCH($B19,'[1]【第9戦】予選ヒート-レース結果表（貼付）'!$B:$B,0),MATCH('【第9戦】予選ヒート-レース結果表'!M$11,'[1]【第9戦】予選ヒート-レース結果表（貼付）'!$1:$1,0)))),"") -> 45.082 | N19: =IF(M19<1,"",IF($N$11>M19,"R","")) -> R | Q19: =IF(IFERROR(INDEX('[1]【第9戦】予選ヒート-レース結果表（貼付）'!$A:$Z,MATCH($B19,'[1]【第9戦】予選ヒート-レース結果表（貼付）'!$B:$B,0),MATCH(Q$11,'[1]【第9戦】予選ヒート-レース結果表（貼付）'!$1:$1,0)),"")=0,"",IFERROR(INDEX('[1]【第9戦】予選ヒート-レース結果表（貼付）'!$A:$Z,MATCH($B19,'[1]【第9戦】予選ヒート-レース結果表（貼付）'!$B:$B,0),MATCH(Q$11,'[1]【第9戦】予選ヒート-レース結果表（貼付）'!$1:$1,0)),"")) | R19: =IF(Q19="","",COUNTIF($Q$13:Q19,"<>"&"")) | S19: =IFERROR(RANK(R19,$R$13:$R$46,1),"") | T19: =IF(IFERROR(INDEX('[1]【第9戦】予選ヒート-レース結果表（貼付）'!$A:$Z,MATCH($A19,'[1]【第9戦】予選ヒート-レース結果表（貼付）'!$A:$A,0),MATCH(T$11,'[1]【第9戦】予選ヒート-レース結果表（貼付）'!$1:$1,0)),"")=0,"",IFERROR(INDEX('[1]【第9戦】予選ヒート-レース結果表（貼付）'!$A:$Z,MATCH($A19,'[1]【第9戦】予選ヒート-レース結果表（貼付）'!$A:$A,0),MATCH(T$11,'[1]【第9戦】予選ヒート-レース結果表（貼付）'!$1:$1,0)),"")) | U19: =IF(IFERROR(INDEX('[1]【第9戦】予選ヒート-レース結果表（貼付）'!$A:$Z,MATCH($B19,'[1]【第9戦】予選ヒート-レース結果表（貼付）'!$B:$B,0),MATCH(U$11,'[1]【第9戦】予選ヒート-レース結果表（貼付）'!$1:$1,0)),"")=0,"",IFERROR(INDEX('[1]【第9戦】予選ヒート-レース結果表（貼付）'!$A:$Z,MATCH($B19,'[1]【第9戦】予選ヒート-レース結果表（貼付）'!$B:$B,0),MATCH(U$11,'[1]【第9戦】予選ヒート-レース結果表（貼付）'!$1:$1,0)),"")) -> 100.936
A20: =IF(OR('[1]【第9戦】予選ヒート-レース結果表（貼付）'!A9="DNF",'[1]【第9戦】予選ヒート-レース結果表（貼付）'!A9="DNS",'[1]【第9戦】予選ヒート-レース結果表（貼付）'!A9="DQ"),'[1]【第9戦】予選ヒート-レース結果表（貼付）'!A9,IF(MAX('[1]【第9戦】予選ヒート-レース結果表（貼付）'!A:A)>A19,A19+1,"")) -> 8 | B20: =IFERROR(INDEX('[1]【第9戦】予選ヒート-レース結果表（貼付）'!A9:$Z$50,MATCH($A20,'[1]【第9戦】予選ヒート-レース結果表（貼付）'!A9:$A$50,0),MATCH('[1]公式予選（TT②）-結果表（印刷）'!B$11,'[1]【第9戦】予選ヒート-レース結果表（貼付）'!$1:$1,0)),"") -> 44 | E20: =IFERROR(INDEX('[1]【第9戦】予選ヒート-レース結果表（貼付）'!$A:$Z,MATCH($B20,'[1]【第9戦】予選ヒート-レース結果表（貼付）'!$B:$B,0),MATCH('【第9戦】予選ヒート-レース結果表'!E$11,'[1]【第9戦】予選ヒート-レース結果表（貼付）'!$1:$1,0)),"") -> 佐藤 凌音 | F20: =IFERROR(INDEX('[1]【第9戦】予選ヒート-レース結果表（貼付）'!$A:$Z,MATCH($B20,'[1]【第9戦】予選ヒート-レース結果表（貼付）'!$B:$B,0),MATCH('【第9戦】予選ヒート-レース結果表'!F$11,'[1]【第9戦】予選ヒート-レース結果表（貼付）'!$1:$1,0)),"") -> LN KART/TM | G20: =IFERROR(INDEX('[1]【第9戦】予選ヒート-レース結果表（貼付）'!$A:$Z,MATCH($B20,'[1]【第9戦】予選ヒート-レース結果表（貼付）'!$B:$B,0),MATCH('【第9戦】予選ヒート-レース結果表'!G$11,'[1]【第9戦】予選ヒート-レース結果表（貼付）'!$1:$1,0)),"") -> TOKAIDENSO DSM | H20: =IFERROR(INDEX('[1]【第9戦】予選ヒート-レース結果表（貼付）'!$A:$Z,MATCH($B20,'[1]【第9戦】予選ヒート-レース結果表（貼付）'!$B:$B,0),MATCH('【第9戦】予選ヒート-レース結果表'!H$11,'[1]【第9戦】予選ヒート-レース結果表（貼付）'!$1:$1,0)),"") -> BS | I20: =IFERROR(INDEX('[1]【第9戦】予選ヒート-レース結果表（貼付）'!$A:$Z,MATCH($B20,'[1]【第9戦】予選ヒート-レース結果表（貼付）'!$B:$B,0),MATCH('【第9戦】予選ヒート-レース結果表'!I$11,'[1]【第9戦】予選ヒート-レース結果表（貼付）'!$1:$1,0)),"") -> 12 | J20: =IFERROR(IF(A20="DNS","ｽﾀｰﾄ出来ず",IF(A20="DQ","失 格",INDEX('[1]【第9戦】予選ヒート-レース結果表（貼付）'!$A:$Z,MATCH($B20,'[1]【第9戦】予選ヒート-レース結果表（貼付）'!$B:$B,0),MATCH('【第9戦】予選ヒート-レース結果表'!J$11,'[1]【第9戦】予選ヒート-レース結果表（貼付）'!$1:$1,0)))),"") -> 0.0063835301 | K20: =IFERROR(IF(A20="DNS","",IF(A20="DQ","",INDEX('[1]【第9戦】予選ヒート-レース結果表（貼付）'!$A:$Z,MATCH($B20,'[1]【第9戦】予選ヒート-レース結果表（貼付）'!$B:$B,0),MATCH('【第9戦】予選ヒート-レース結果表'!K$11,'[1]【第9戦】予選ヒート-レース結果表（貼付）'!$1:$1,0)))),"") -> 4.791 | L20: =IFERROR(IF(A20="DNS","",IF(A20="DQ","",INDEX('[1]【第9戦】予選ヒート-レース結果表（貼付）'!$A:$Z,MATCH($B20,'[1]【第9戦】予選ヒート-レース結果表（貼付）'!$B:$B,0),MATCH('【第9戦】予選ヒート-レース結果表'!L$11,'[1]【第9戦】予選ヒート-レース結果表（貼付）'!$1:$1,0)))),"") -> 1.023 | M20: =IFERROR(IF(A20="DNS","",IF(A20="DQ","",INDEX('[1]【第9戦】予選ヒート-レース結果表（貼付）'!$A:$Z,MATCH($B20,'[1]【第9戦】予選ヒート-レース結果表（貼付）'!$B:$B,0),MATCH('【第9戦】予選ヒート-レース結果表'!M$11,'[1]【第9戦】予選ヒート-レース結果表（貼付）'!$1:$1,0)))),"") -> 45.311 | N20: =IF(M20<1,"",IF($N$11>M20,"R","")) | Q20: =IF(IFERROR(INDEX('[1]【第9戦】予選ヒート-レース結果表（貼付）'!$A:$Z,MATCH($B20,'[1]【第9戦】予選ヒート-レース結果表（貼付）'!$B:$B,0),MATCH(Q$11,'[1]【第9戦】予選ヒート-レース結果表（貼付）'!$1:$1,0)),"")=0,"",IFERROR(INDEX('[1]【第9戦】予選ヒート-レース結果表（貼付）'!$A:$Z,MATCH($B20,'[1]【第9戦】予選ヒート-レース結果表（貼付）'!$B:$B,0),MATCH(Q$11,'[1]【第9戦】予選ヒート-レース結果表（貼付）'!$1:$1,0)),"")) | R20: =IF(Q20="","",COUNTIF($Q$13:Q20,"<>"&"")) | S20: =IFERROR(RANK(R20,$R$13:$R$46,1),"") | T20: =IF(IFERROR(INDEX('[1]【第9戦】予選ヒート-レース結果表（貼付）'!$A:$Z,MATCH($A20,'[1]【第9戦】予選ヒート-レース結果表（貼付）'!$A:$A,0),MATCH(T$11,'[1]【第9戦】予選ヒート-レース結果表（貼付）'!$1:$1,0)),"")=0,"",IFERROR(INDEX('[1]【第9戦】予選ヒート-レース結果表（貼付）'!$A:$Z,MATCH($A20,'[1]【第9戦】予選ヒート-レース結果表（貼付）'!$A:$A,0),MATCH(T$11,'[1]【第9戦】予選ヒート-レース結果表（貼付）'!$1:$1,0)),"")) | U20: =IF(IFERROR(INDEX('[1]【第9戦】予選ヒート-レース結果表（貼付）'!$A:$Z,MATCH($B20,'[1]【第9戦】予選ヒート-レース結果表（貼付）'!$B:$B,0),MATCH(U$11,'[1]【第9戦】予選ヒート-レース結果表（貼付）'!$1:$1,0)),"")=0,"",IFERROR(INDEX('[1]【第9戦】予選ヒート-レース結果表（貼付）'!$A:$Z,MATCH($B20,'[1]【第9戦】予選ヒート-レース結果表（貼付）'!$B:$B,0),MATCH(U$11,'[1]【第9戦】予選ヒート-レース結果表（貼付）'!$1:$1,0)),"")) -> 100.426
A21: =IF(OR('[1]【第9戦】予選ヒート-レース結果表（貼付）'!A10="DNF",'[1]【第9戦】予選ヒート-レース結果表（貼付）'!A10="DNS",'[1]【第9戦】予選ヒート-レース結果表（貼付）'!A10="DQ"),'[1]【第9戦】予選ヒート-レース結果表（貼付）'!A10,IF(MAX('[1]【第9戦】予選ヒート-レース結果表（貼付）'!A:A)>A20,A20+1,"")) -> 9 | B21: =IFERROR(INDEX('[1]【第9戦】予選ヒート-レース結果表（貼付）'!A10:$Z$50,MATCH($A21,'[1]【第9戦】予選ヒート-レース結果表（貼付）'!A10:$A$50,0),MATCH('[1]公式予選（TT②）-結果表（印刷）'!B$11,'[1]【第9戦】予選ヒート-レース結果表（貼付）'!$1:$1,0)),"") -> 85 | E21: =IFERROR(INDEX('[1]【第9戦】予選ヒート-レース結果表（貼付）'!$A:$Z,MATCH($B21,'[1]【第9戦】予選ヒート-レース結果表（貼付）'!$B:$B,0),MATCH('【第9戦】予選ヒート-レース結果表'!E$11,'[1]【第9戦】予選ヒート-レース結果表（貼付）'!$1:$1,0)),"") -> 佐藤 蓮 | F21: =IFERROR(INDEX('[1]【第9戦】予選ヒート-レース結果表（貼付）'!$A:$Z,MATCH($B21,'[1]【第9戦】予選ヒート-レース結果表（貼付）'!$B:$B,0),MATCH('【第9戦】予選ヒート-レース結果表'!F$11,'[1]【第9戦】予選ヒート-レース結果表（貼付）'!$1:$1,0)),"") -> Drago CORSE/TM | G21: =IFERROR(INDEX('[1]【第9戦】予選ヒート-レース結果表（貼付）'!$A:$Z,MATCH($B21,'[1]【第9戦】予選ヒート-レース結果表（貼付）'!$B:$B,0),MATCH('【第9戦】予選ヒート-レース結果表'!G$11,'[1]【第9戦】予選ヒート-レース結果表（貼付）'!$1:$1,0)),"") -> Drago Corse | H21: =IFERROR(INDEX('[1]【第9戦】予選ヒート-レース結果表（貼付）'!$A:$Z,MATCH($B21,'[1]【第9戦】予選ヒート-レース結果表（貼付）'!$B:$B,0),MATCH('【第9戦】予選ヒート-レース結果表'!H$11,'[1]【第9戦】予選ヒート-レース結果表（貼付）'!$1:$1,0)),"") -> YH | I21: =IFERROR(INDEX('[1]【第9戦】予選ヒート-レース結果表（貼付）'!$A:$Z,MATCH($B21,'[1]【第9戦】予選ヒート-レース結果表（貼付）'!$B:$B,0),MATCH('【第9戦】予選ヒート-レース結果表'!I$11,'[1]【第9戦】予選ヒート-レース結果表（貼付）'!$1:$1,0)),"") -> 12 | J21: =IFERROR(IF(A21="DNS","ｽﾀｰﾄ出来ず",IF(A21="DQ","失 格",INDEX('[1]【第9戦】予選ヒート-レース結果表（貼付）'!$A:$Z,MATCH($B21,'[1]【第9戦】予選ヒート-レース結果表（貼付）'!$B:$B,0),MATCH('【第9戦】予選ヒート-レース結果表'!J$11,'[1]【第9戦】予選ヒート-レース結果表（貼付）'!$1:$1,0)))),"") -> 0.0063858796 | K21: =IFERROR(IF(A21="DNS","",IF(A21="DQ","",INDEX('[1]【第9戦】予選ヒート-レース結果表（貼付）'!$A:$Z,MATCH($B21,'[1]【第9戦】予選ヒート-レース結果表（貼付）'!$B:$B,0),MATCH('【第9戦】予選ヒート-レース結果表'!K$11,'[1]【第9戦】予選ヒート-レース結果表（貼付）'!$1:$1,0)))),"") -> 4.994 | L21: =IFERROR(IF(A21="DNS","",IF(A21="DQ","",INDEX('[1]【第9戦】予選ヒート-レース結果表（貼付）'!$A:$Z,MATCH($B21,'[1]【第9戦】予選ヒート-レース結果表（貼付）'!$B:$B,0),MATCH('【第9戦】予選ヒート-レース結果表'!L$11,'[1]【第9戦】予選ヒート-レース結果表（貼付）'!$1:$1,0)))),"") -> 0.203 | M21: =IFERROR(IF(A21="DNS","",IF(A21="DQ","",INDEX('[1]【第9戦】予選ヒート-レース結果表（貼付）'!$A:$Z,MATCH($B21,'[1]【第9戦】予選ヒート-レース結果表（貼付）'!$B:$B,0),MATCH('【第9戦】予選ヒート-レース結果表'!M$11,'[1]【第9戦】予選ヒート-レース結果表（貼付）'!$1:$1,0)))),"") -> 45.397 | N21: =IF(M21<1,"",IF($N$11>M21,"R","")) | Q21: =IF(IFERROR(INDEX('[1]【第9戦】予選ヒート-レース結果表（貼付）'!$A:$Z,MATCH($B21,'[1]【第9戦】予選ヒート-レース結果表（貼付）'!$B:$B,0),MATCH(Q$11,'[1]【第9戦】予選ヒート-レース結果表（貼付）'!$1:$1,0)),"")=0,"",IFERROR(INDEX('[1]【第9戦】予選ヒート-レース結果表（貼付）'!$A:$Z,MATCH($B21,'[1]【第9戦】予選ヒート-レース結果表（貼付）'!$B:$B,0),MATCH(Q$11,'[1]【第9戦】予選ヒート-レース結果表（貼付）'!$1:$1,0)),"")) | R21: =IF(Q21="","",COUNTIF($Q$13:Q21,"<>"&"")) | S21: =IFERROR(RANK(R21,$R$13:$R$46,1),"") | T21: =IF(IFERROR(INDEX('[1]【第9戦】予選ヒート-レース結果表（貼付）'!$A:$Z,MATCH($A21,'[1]【第9戦】予選ヒート-レース結果表（貼付）'!$A:$A,0),MATCH(T$11,'[1]【第9戦】予選ヒート-レース結果表（貼付）'!$1:$1,0)),"")=0,"",IFERROR(INDEX('[1]【第9戦】予選ヒート-レース結果表（貼付）'!$A:$Z,MATCH($A21,'[1]【第9戦】予選ヒート-レース結果表（貼付）'!$A:$A,0),MATCH(T$11,'[1]【第9戦】予選ヒート-レース結果表（貼付）'!$1:$1,0)),"")) | U21: =IF(IFERROR(INDEX('[1]【第9戦】予選ヒート-レース結果表（貼付）'!$A:$Z,MATCH($B21,'[1]【第9戦】予選ヒート-レース結果表（貼付）'!$B:$B,0),MATCH(U$11,'[1]【第9戦】予選ヒート-レース結果表（貼付）'!$1:$1,0)),"")=0,"",IFERROR(INDEX('[1]【第9戦】予選ヒート-レース結果表（貼付）'!$A:$Z,MATCH($B21,'[1]【第9戦】予選ヒート-レース結果表（貼付）'!$B:$B,0),MATCH(U$11,'[1]【第9戦】予選ヒート-レース結果表（貼付）'!$1:$1,0)),"")) -> 100.236
A22: =IF(OR('[1]【第9戦】予選ヒート-レース結果表（貼付）'!A11="DNF",'[1]【第9戦】予選ヒート-レース結果表（貼付）'!A11="DNS",'[1]【第9戦】予選ヒート-レース結果表（貼付）'!A11="DQ"),'[1]【第9戦】予選ヒート-レース結果表（貼付）'!A11,IF(MAX('[1]【第9戦】予選ヒート-レース結果表（貼付）'!A:A)>A21,A21+1,"")) -> 10 | B22: =IFERROR(INDEX('[1]【第9戦】予選ヒート-レース結果表（貼付）'!A11:$Z$50,MATCH($A22,'[1]【第9戦】予選ヒート-レース結果表（貼付）'!A11:$A$50,0),MATCH('[1]公式予選（TT②）-結果表（印刷）'!B$11,'[1]【第9戦】予選ヒート-レース結果表（貼付）'!$1:$1,0)),"") -> 22 | E22: =IFERROR(INDEX('[1]【第9戦】予選ヒート-レース結果表（貼付）'!$A:$Z,MATCH($B22,'[1]【第9戦】予選ヒート-レース結果表（貼付）'!$B:$B,0),MATCH('【第9戦】予選ヒート-レース結果表'!E$11,'[1]【第9戦】予選ヒート-レース結果表（貼付）'!$1:$1,0)),"") -> 金子 修 | F22: =IFERROR(INDEX('[1]【第9戦】予選ヒート-レース結果表（貼付）'!$A:$Z,MATCH($B22,'[1]【第9戦】予選ヒート-レース結果表（貼付）'!$B:$B,0),MATCH('【第9戦】予選ヒート-レース結果表'!F$11,'[1]【第9戦】予選ヒート-レース結果表（貼付）'!$1:$1,0)),"") -> TONY KART/VORTEX | G22: =IFERROR(INDEX('[1]【第9戦】予選ヒート-レース結果表（貼付）'!$A:$Z,MATCH($B22,'[1]【第9戦】予選ヒート-レース結果表（貼付）'!$B:$B,0),MATCH('【第9戦】予選ヒート-レース結果表'!G$11,'[1]【第9戦】予選ヒート-レース結果表（貼付）'!$1:$1,0)),"") -> TONYKART RACING TEAM JAPAN | H22: =IFERROR(INDEX('[1]【第9戦】予選ヒート-レース結果表（貼付）'!$A:$Z,MATCH($B22,'[1]【第9戦】予選ヒート-レース結果表（貼付）'!$B:$B,0),MATCH('【第9戦】予選ヒート-レース結果表'!H$11,'[1]【第9戦】予選ヒート-レース結果表（貼付）'!$1:$1,0)),"") -> BS | I22: =IFERROR(INDEX('[1]【第9戦】予選ヒート-レース結果表（貼付）'!$A:$Z,MATCH($B22,'[1]【第9戦】予選ヒート-レース結果表（貼付）'!$B:$B,0),MATCH('【第9戦】予選ヒート-レース結果表'!I$11,'[1]【第9戦】予選ヒート-レース結果表（貼付）'!$1:$1,0)),"") -> 12 | J22: =IFERROR(IF(A22="DNS","ｽﾀｰﾄ出来ず",IF(A22="DQ","失 格",INDEX('[1]【第9戦】予選ヒート-レース結果表（貼付）'!$A:$Z,MATCH($B22,'[1]【第9戦】予選ヒート-レース結果表（貼付）'!$B:$B,0),MATCH('【第9戦】予選ヒート-レース結果表'!J$11,'[1]【第9戦】予選ヒート-レース結果表（貼付）'!$1:$1,0)))),"") -> 0.0063866667 | K22: =IFERROR(IF(A22="DNS","",IF(A22="DQ","",INDEX('[1]【第9戦】予選ヒート-レース結果表（貼付）'!$A:$Z,MATCH($B22,'[1]【第9戦】予選ヒート-レース結果表（貼付）'!$B:$B,0),MATCH('【第9戦】予選ヒート-レース結果表'!K$11,'[1]【第9戦】予選ヒート-レース結果表（貼付）'!$1:$1,0)))),"") -> 5.062 | L22: =IFERROR(IF(A22="DNS","",IF(A22="DQ","",INDEX('[1]【第9戦】予選ヒート-レース結果表（貼付）'!$A:$Z,MATCH($B22,'[1]【第9戦】予選ヒート-レース結果表（貼付）'!$B:$B,0),MATCH('【第9戦】予選ヒート-レース結果表'!L$11,'[1]【第9戦】予選ヒート-レース結果表（貼付）'!$1:$1,0)))),"") -> 0.068 | M22: =IFERROR(IF(A22="DNS","",IF(A22="DQ","",INDEX('[1]【第9戦】予選ヒート-レース結果表（貼付）'!$A:$Z,MATCH($B22,'[1]【第9戦】予選ヒート-レース結果表（貼付）'!$B:$B,0),MATCH('【第9戦】予選ヒート-レース結果表'!M$11,'[1]【第9戦】予選ヒート-レース結果表（貼付）'!$1:$1,0)))),"") -> 45.184 | N22: =IF(M22<1,"",IF($N$11>M22,"R","")) -> R | Q22: =IF(IFERROR(INDEX('[1]【第9戦】予選ヒート-レース結果表（貼付）'!$A:$Z,MATCH($B22,'[1]【第9戦】予選ヒート-レース結果表（貼付）'!$B:$B,0),MATCH(Q$11,'[1]【第9戦】予選ヒート-レース結果表（貼付）'!$1:$1,0)),"")=0,"",IFERROR(INDEX('[1]【第9戦】予選ヒート-レース結果表（貼付）'!$A:$Z,MATCH($B22,'[1]【第9戦】予選ヒート-レース結果表（貼付）'!$B:$B,0),MATCH(Q$11,'[1]【第9戦】予選ヒート-レース結果表（貼付）'!$1:$1,0)),"")) | R22: =IF(Q22="","",COUNTIF($Q$13:Q22,"<>"&"")) | S22: =IFERROR(RANK(R22,$R$13:$R$46,1),"") | T22: =IF(IFERROR(INDEX('[1]【第9戦】予選ヒート-レース結果表（貼付）'!$A:$Z,MATCH($A22,'[1]【第9戦】予選ヒート-レース結果表（貼付）'!$A:$A,0),MATCH(T$11,'[1]【第9戦】予選ヒート-レース結果表（貼付）'!$1:$1,0)),"")=0,"",IFERROR(INDEX('[1]【第9戦】予選ヒート-レース結果表（貼付）'!$A:$Z,MATCH($A22,'[1]【第9戦】予選ヒート-レース結果表（貼付）'!$A:$A,0),MATCH(T$11,'[1]【第9戦】予選ヒート-レース結果表（貼付）'!$1:$1,0)),"")) | U22: =IF(IFERROR(INDEX('[1]【第9戦】予選ヒート-レース結果表（貼付）'!$A:$Z,MATCH($B22,'[1]【第9戦】予選ヒート-レース結果表（貼付）'!$B:$B,0),MATCH(U$11,'[1]【第9戦】予選ヒート-レース結果表（貼付）'!$1:$1,0)),"")=0,"",IFERROR(INDEX('[1]【第9戦】予選ヒート-レース結果表（貼付）'!$A:$Z,MATCH($B22,'[1]【第9戦】予選ヒート-レース結果表（貼付）'!$B:$B,0),MATCH(U$11,'[1]【第9戦】予選ヒート-レース結果表（貼付）'!$1:$1,0)),"")) -> 100.708
A23: =IF(OR('[1]【第9戦】予選ヒート-レース結果表（貼付）'!A12="DNF",'[1]【第9戦】予選ヒート-レース結果表（貼付）'!A12="DNS",'[1]【第9戦】予選ヒート-レース結果表（貼付）'!A12="DQ"),'[1]【第9戦】予選ヒート-レース結果表（貼付）'!A12,IF(MAX('[1]【第9戦】予選ヒート-レース結果表（貼付）'!A:A)>A22,A22+1,"")) -> 11 | B23: =IFERROR(INDEX('[1]【第9戦】予選ヒート-レース結果表（貼付）'!A12:$Z$50,MATCH($A23,'[1]【第9戦】予選ヒート-レース結果表（貼付）'!A12:$A$50,0),MATCH('[1]公式予選（TT②）-結果表（印刷）'!B$11,'[1]【第9戦】予選ヒート-レース結果表（貼付）'!$1:$1,0)),"") -> 13 | E23: =IFERROR(INDEX('[1]【第9戦】予選ヒート-レース結果表（貼付）'!$A:$Z,MATCH($B23,'[1]【第9戦】予選ヒート-レース結果表（貼付）'!$B:$B,0),MATCH('【第9戦】予選ヒート-レース結果表'!E$11,'[1]【第9戦】予選ヒート-レース結果表（貼付）'!$1:$1,0)),"") -> 梅垣 清 | F23: =IFERROR(INDEX('[1]【第9戦】予選ヒート-レース結果表（貼付）'!$A:$Z,MATCH($B23,'[1]【第9戦】予選ヒート-レース結果表（貼付）'!$B:$B,0),MATCH('【第9戦】予選ヒート-レース結果表'!F$11,'[1]【第9戦】予選ヒート-レース結果表（貼付）'!$1:$1,0)),"") -> Birel ART/IAME | G23: =IFERROR(INDEX('[1]【第9戦】予選ヒート-レース結果表（貼付）'!$A:$Z,MATCH($B23,'[1]【第9戦】予選ヒート-レース結果表（貼付）'!$B:$B,0),MATCH('【第9戦】予選ヒート-レース結果表'!G$11,'[1]【第9戦】予選ヒート-レース結果表（貼付）'!$1:$1,0)),"") -> BirelART Access Racing | H23: =IFERROR(INDEX('[1]【第9戦】予選ヒート-レース結果表（貼付）'!$A:$Z,MATCH($B23,'[1]【第9戦】予選ヒート-レース結果表（貼付）'!$B:$B,0),MATCH('【第9戦】予選ヒート-レース結果表'!H$11,'[1]【第9戦】予選ヒート-レース結果表（貼付）'!$1:$1,0)),"") -> BS | I23: =IFERROR(INDEX('[1]【第9戦】予選ヒート-レース結果表（貼付）'!$A:$Z,MATCH($B23,'[1]【第9戦】予選ヒート-レース結果表（貼付）'!$B:$B,0),MATCH('【第9戦】予選ヒート-レース結果表'!I$11,'[1]【第9戦】予選ヒート-レース結果表（貼付）'!$1:$1,0)),"") -> 12 | J23: =IFERROR(IF(A23="DNS","ｽﾀｰﾄ出来ず",IF(A23="DQ","失 格",INDEX('[1]【第9戦】予選ヒート-レース結果表（貼付）'!$A:$Z,MATCH($B23,'[1]【第9戦】予選ヒート-レース結果表（貼付）'!$B:$B,0),MATCH('【第9戦】予選ヒート-レース結果表'!J$11,'[1]【第9戦】予選ヒート-レース結果表（貼付）'!$1:$1,0)))),"") -> 0.0063876852 | K23: =IFERROR(IF(A23="DNS","",IF(A23="DQ","",INDEX('[1]【第9戦】予選ヒート-レース結果表（貼付）'!$A:$Z,MATCH($B23,'[1]【第9戦】予選ヒート-レース結果表（貼付）'!$B:$B,0),MATCH('【第9戦】予選ヒート-レース結果表'!K$11,'[1]【第9戦】予選ヒート-レース結果表（貼付）'!$1:$1,0)))),"") -> 5.15 | L23: =IFERROR(IF(A23="DNS","",IF(A23="DQ","",INDEX('[1]【第9戦】予選ヒート-レース結果表（貼付）'!$A:$Z,MATCH($B23,'[1]【第9戦】予選ヒート-レース結果表（貼付）'!$B:$B,0),MATCH('【第9戦】予選ヒート-レース結果表'!L$11,'[1]【第9戦】予選ヒート-レース結果表（貼付）'!$1:$1,0)))),"") -> 0.088 | M23: =IFERROR(IF(A23="DNS","",IF(A23="DQ","",INDEX('[1]【第9戦】予選ヒート-レース結果表（貼付）'!$A:$Z,MATCH($B23,'[1]【第9戦】予選ヒート-レース結果表（貼付）'!$B:$B,0),MATCH('【第9戦】予選ヒート-レース結果表'!M$11,'[1]【第9戦】予選ヒート-レース結果表（貼付）'!$1:$1,0)))),"") -> 45.222 | N23: =IF(M23<1,"",IF($N$11>M23,"R","")) -> R | Q23: =IF(IFERROR(INDEX('[1]【第9戦】予選ヒート-レース結果表（貼付）'!$A:$Z,MATCH($B23,'[1]【第9戦】予選ヒート-レース結果表（貼付）'!$B:$B,0),MATCH(Q$11,'[1]【第9戦】予選ヒート-レース結果表（貼付）'!$1:$1,0)),"")=0,"",IFERROR(INDEX('[1]【第9戦】予選ヒート-レース結果表（貼付）'!$A:$Z,MATCH($B23,'[1]【第9戦】予選ヒート-レース結果表（貼付）'!$B:$B,0),MATCH(Q$11,'[1]【第9戦】予選ヒート-レース結果表（貼付）'!$1:$1,0)),"")) | R23: =IF(Q23="","",COUNTIF($Q$13:Q23,"<>"&"")) | S23: =IFERROR(RANK(R23,$R$13:$R$46,1),"") | T23: =IF(IFERROR(INDEX('[1]【第9戦】予選ヒート-レース結果表（貼付）'!$A:$Z,MATCH($A23,'[1]【第9戦】予選ヒート-レース結果表（貼付）'!$A:$A,0),MATCH(T$11,'[1]【第9戦】予選ヒート-レース結果表（貼付）'!$1:$1,0)),"")=0,"",IFERROR(INDEX('[1]【第9戦】予選ヒート-レース結果表（貼付）'!$A:$Z,MATCH($A23,'[1]【第9戦】予選ヒート-レース結果表（貼付）'!$A:$A,0),MATCH(T$11,'[1]【第9戦】予選ヒート-レース結果表（貼付）'!$1:$1,0)),"")) | U23: =IF(IFERROR(INDEX('[1]【第9戦】予選ヒート-レース結果表（貼付）'!$A:$Z,MATCH($B23,'[1]【第9戦】予選ヒート-レース結果表（貼付）'!$B:$B,0),MATCH(U$11,'[1]【第9戦】予選ヒート-レース結果表（貼付）'!$1:$1,0)),"")=0,"",IFERROR(INDEX('[1]【第9戦】予選ヒート-レース結果表（貼付）'!$A:$Z,MATCH($B23,'[1]【第9戦】予選ヒート-レース結果表（貼付）'!$B:$B,0),MATCH(U$11,'[1]【第9戦】予選ヒート-レース結果表（貼付）'!$1:$1,0)),"")) -> 100.624
A24: =IF(OR('[1]【第9戦】予選ヒート-レース結果表（貼付）'!A13="DNF",'[1]【第9戦】予選ヒート-レース結果表（貼付）'!A13="DNS",'[1]【第9戦】予選ヒート-レース結果表（貼付）'!A13="DQ"),'[1]【第9戦】予選ヒート-レース結果表（貼付）'!A13,IF(MAX('[1]【第9戦】予選ヒート-レース結果表（貼付）'!A:A)>A23,A23+1,"")) -> 12 | B24: =IFERROR(INDEX('[1]【第9戦】予選ヒート-レース結果表（貼付）'!A13:$Z$50,MATCH($A24,'[1]【第9戦】予選ヒート-レース結果表（貼付）'!A13:$A$50,0),MATCH('[1]公式予選（TT②）-結果表（印刷）'!B$11,'[1]【第9戦】予選ヒート-レース結果表（貼付）'!$1:$1,0)),"") -> 77 | E24: =IFERROR(INDEX('[1]【第9戦】予選ヒート-レース結果表（貼付）'!$A:$Z,MATCH($B24,'[1]【第9戦】予選ヒート-レース結果表（貼付）'!$B:$B,0),MATCH('【第9戦】予選ヒート-レース結果表'!E$11,'[1]【第9戦】予選ヒート-レース結果表（貼付）'!$1:$1,0)),"") -> 渡部 智仁 | F24: =IFERROR(INDEX('[1]【第9戦】予選ヒート-レース結果表（貼付）'!$A:$Z,MATCH($B24,'[1]【第9戦】予選ヒート-レース結果表（貼付）'!$B:$B,0),MATCH('【第9戦】予選ヒート-レース結果表'!F$11,'[1]【第9戦】予選ヒート-レース結果表（貼付）'!$1:$1,0)),"") -> Rosa Drago CORSE/TM | G24: =IFERROR(INDEX('[1]【第9戦】予選ヒート-レース結果表（貼付）'!$A:$Z,MATCH($B24,'[1]【第9戦】予選ヒート-レース結果表（貼付）'!$B:$B,0),MATCH('【第9戦】予選ヒート-レース結果表'!G$11,'[1]【第9戦】予選ヒート-レース結果表（貼付）'!$1:$1,0)),"") -> RosaDragoCORSE | H24: =IFERROR(INDEX('[1]【第9戦】予選ヒート-レース結果表（貼付）'!$A:$Z,MATCH($B24,'[1]【第9戦】予選ヒート-レース結果表（貼付）'!$B:$B,0),MATCH('【第9戦】予選ヒート-レース結果表'!H$11,'[1]【第9戦】予選ヒート-レース結果表（貼付）'!$1:$1,0)),"") -> BS | I24: =IFERROR(INDEX('[1]【第9戦】予選ヒート-レース結果表（貼付）'!$A:$Z,MATCH($B24,'[1]【第9戦】予選ヒート-レース結果表（貼付）'!$B:$B,0),MATCH('【第9戦】予選ヒート-レース結果表'!I$11,'[1]【第9戦】予選ヒート-レース結果表（貼付）'!$1:$1,0)),"") -> 12 | J24: =IFERROR(IF(A24="DNS","ｽﾀｰﾄ出来ず",IF(A24="DQ","失 格",INDEX('[1]【第9戦】予選ヒート-レース結果表（貼付）'!$A:$Z,MATCH($B24,'[1]【第9戦】予選ヒート-レース結果表（貼付）'!$B:$B,0),MATCH('【第9戦】予選ヒート-レース結果表'!J$11,'[1]【第9戦】予選ヒート-レース結果表（貼付）'!$1:$1,0)))),"") -> 0.0063939583 | K24: =IFERROR(IF(A24="DNS","",IF(A24="DQ","",INDEX('[1]【第9戦】予選ヒート-レース結果表（貼付）'!$A:$Z,MATCH($B24,'[1]【第9戦】予選ヒート-レース結果表（貼付）'!$B:$B,0),MATCH('【第9戦】予選ヒート-レース結果表'!K$11,'[1]【第9戦】予選ヒート-レース結果表（貼付）'!$1:$1,0)))),"") -> 5.692 | L24: =IFERROR(IF(A24="DNS","",IF(A24="DQ","",INDEX('[1]【第9戦】予選ヒート-レース結果表（貼付）'!$A:$Z,MATCH($B24,'[1]【第9戦】予選ヒート-レース結果表（貼付）'!$B:$B,0),MATCH('【第9戦】予選ヒート-レース結果表'!L$11,'[1]【第9戦】予選ヒート-レース結果表（貼付）'!$1:$1,0)))),"") -> 0.542 | M24: =IFERROR(IF(A24="DNS","",IF(A24="DQ","",INDEX('[1]【第9戦】予選ヒート-レース結果表（貼付）'!$A:$Z,MATCH($B24,'[1]【第9戦】予選ヒート-レース結果表（貼付）'!$B:$B,0),MATCH('【第9戦】予選ヒート-レース結果表'!M$11,'[1]【第9戦】予選ヒート-レース結果表（貼付）'!$1:$1,0)))),"") -> 44.994 | N24: =IF(M24<1,"",IF($N$11>M24,"R","")) -> R | Q24: =IF(IFERROR(INDEX('[1]【第9戦】予選ヒート-レース結果表（貼付）'!$A:$Z,MATCH($B24,'[1]【第9戦】予選ヒート-レース結果表（貼付）'!$B:$B,0),MATCH(Q$11,'[1]【第9戦】予選ヒート-レース結果表（貼付）'!$1:$1,0)),"")=0,"",IFERROR(INDEX('[1]【第9戦】予選ヒート-レース結果表（貼付）'!$A:$Z,MATCH($B24,'[1]【第9戦】予選ヒート-レース結果表（貼付）'!$B:$B,0),MATCH(Q$11,'[1]【第9戦】予選ヒート-レース結果表（貼付）'!$1:$1,0)),"")) | R24: =IF(Q24="","",COUNTIF($Q$13:Q24,"<>"&"")) | S24: =IFERROR(RANK(R24,$R$13:$R$46,1),"") | T24: =IF(IFERROR(INDEX('[1]【第9戦】予選ヒート-レース結果表（貼付）'!$A:$Z,MATCH($A24,'[1]【第9戦】予選ヒート-レース結果表（貼付）'!$A:$A,0),MATCH(T$11,'[1]【第9戦】予選ヒート-レース結果表（貼付）'!$1:$1,0)),"")=0,"",IFERROR(INDEX('[1]【第9戦】予選ヒート-レース結果表（貼付）'!$A:$Z,MATCH($A24,'[1]【第9戦】予選ヒート-レース結果表（貼付）'!$A:$A,0),MATCH(T$11,'[1]【第9戦】予選ヒート-レース結果表（貼付）'!$1:$1,0)),"")) | U24: =IF(IFERROR(INDEX('[1]【第9戦】予選ヒート-レース結果表（貼付）'!$A:$Z,MATCH($B24,'[1]【第9戦】予選ヒート-レース結果表（貼付）'!$B:$B,0),MATCH(U$11,'[1]【第9戦】予選ヒート-レース結果表（貼付）'!$1:$1,0)),"")=0,"",IFERROR(INDEX('[1]【第9戦】予選ヒート-レース結果表（貼付）'!$A:$Z,MATCH($B24,'[1]【第9戦】予選ヒート-レース結果表（貼付）'!$B:$B,0),MATCH(U$11,'[1]【第9戦】予選ヒート-レース結果表（貼付）'!$1:$1,0)),"")) -> 101.133
A25: =IF(OR('[1]【第9戦】予選ヒート-レース結果表（貼付）'!A14="DNF",'[1]【第9戦】予選ヒート-レース結果表（貼付）'!A14="DNS",'[1]【第9戦】予選ヒート-レース結果表（貼付）'!A14="DQ"),'[1]【第9戦】予選ヒート-レース結果表（貼付）'!A14,IF(MAX('[1]【第9戦】予選ヒート-レース結果表（貼付）'!A:A)>A24,A24+1,"")) -> 13 | B25: =IFERROR(INDEX('[1]【第9戦】予選ヒート-レース結果表（貼付）'!A14:$Z$50,MATCH($A25,'[1]【第9戦】予選ヒート-レース結果表（貼付）'!A14:$A$50,0),MATCH('[1]公式予選（TT②）-結果表（印刷）'!B$11,'[1]【第9戦】予選ヒート-レース結果表（貼付）'!$1:$1,0)),"") -> 14 | E25: =IFERROR(INDEX('[1]【第9戦】予選ヒート-レース結果表（貼付）'!$A:$Z,MATCH($B25,'[1]【第9戦】予選ヒート-レース結果表（貼付）'!$B:$B,0),MATCH('【第9戦】予選ヒート-レース結果表'!E$11,'[1]【第9戦】予選ヒート-レース結果表（貼付）'!$1:$1,0)),"") -> 浅見 謙心 | F25: =IFERROR(INDEX('[1]【第9戦】予選ヒート-レース結果表（貼付）'!$A:$Z,MATCH($B25,'[1]【第9戦】予選ヒート-レース結果表（貼付）'!$B:$B,0),MATCH('【第9戦】予選ヒート-レース結果表'!F$11,'[1]【第9戦】予選ヒート-レース結果表（貼付）'!$1:$1,0)),"") -> Birel ART/IAME | G25: =IFERROR(INDEX('[1]【第9戦】予選ヒート-レース結果表（貼付）'!$A:$Z,MATCH($B25,'[1]【第9戦】予選ヒート-レース結果表（貼付）'!$B:$B,0),MATCH('【第9戦】予選ヒート-レース結果表'!G$11,'[1]【第9戦】予選ヒート-レース結果表（貼付）'!$1:$1,0)),"") -> BirelART Access Racing | H25: =IFERROR(INDEX('[1]【第9戦】予選ヒート-レース結果表（貼付）'!$A:$Z,MATCH($B25,'[1]【第9戦】予選ヒート-レース結果表（貼付）'!$B:$B,0),MATCH('【第9戦】予選ヒート-レース結果表'!H$11,'[1]【第9戦】予選ヒート-レース結果表（貼付）'!$1:$1,0)),"") -> BS | I25: =IFERROR(INDEX('[1]【第9戦】予選ヒート-レース結果表（貼付）'!$A:$Z,MATCH($B25,'[1]【第9戦】予選ヒート-レース結果表（貼付）'!$B:$B,0),MATCH('【第9戦】予選ヒート-レース結果表'!I$11,'[1]【第9戦】予選ヒート-レース結果表（貼付）'!$1:$1,0)),"") -> 12 | J25: =IFERROR(IF(A25="DNS","ｽﾀｰﾄ出来ず",IF(A25="DQ","失 格",INDEX('[1]【第9戦】予選ヒート-レース結果表（貼付）'!$A:$Z,MATCH($B25,'[1]【第9戦】予選ヒート-レース結果表（貼付）'!$B:$B,0),MATCH('【第9戦】予選ヒート-レース結果表'!J$11,'[1]【第9戦】予選ヒート-レース結果表（貼付）'!$1:$1,0)))),"") -> 0.0063957986 | K25: =IFERROR(IF(A25="DNS","",IF(A25="DQ","",INDEX('[1]【第9戦】予選ヒート-レース結果表（貼付）'!$A:$Z,MATCH($B25,'[1]【第9戦】予選ヒート-レース結果表（貼付）'!$B:$B,0),MATCH('【第9戦】予選ヒート-レース結果表'!K$11,'[1]【第9戦】予選ヒート-レース結果表（貼付）'!$1:$1,0)))),"") -> 5.851 | L25: =IFERROR(IF(A25="DNS","",IF(A25="DQ","",INDEX('[1]【第9戦】予選ヒート-レース結果表（貼付）'!$A:$Z,MATCH($B25,'[1]【第9戦】予選ヒート-レース結果表（貼付）'!$B:$B,0),MATCH('【第9戦】予選ヒート-レース結果表'!L$11,'[1]【第9戦】予選ヒート-レース結果表（貼付）'!$1:$1,0)))),"") -> 0.159 | M25: =IFERROR(IF(A25="DNS","",IF(A25="DQ","",INDEX('[1]【第9戦】予選ヒート-レース結果表（貼付）'!$A:$Z,MATCH($B25,'[1]【第9戦】予選ヒート-レース結果表（貼付）'!$B:$B,0),MATCH('【第9戦】予選ヒート-レース結果表'!M$11,'[1]【第9戦】予選ヒート-レース結果表（貼付）'!$1:$1,0)))),"") -> 45.342 | N25: =IF(M25<1,"",IF($N$11>M25,"R","")) | Q25: =IF(IFERROR(INDEX('[1]【第9戦】予選ヒート-レース結果表（貼付）'!$A:$Z,MATCH($B25,'[1]【第9戦】予選ヒート-レース結果表（貼付）'!$B:$B,0),MATCH(Q$11,'[1]【第9戦】予選ヒート-レース結果表（貼付）'!$1:$1,0)),"")=0,"",IFERROR(INDEX('[1]【第9戦】予選ヒート-レース結果表（貼付）'!$A:$Z,MATCH($B25,'[1]【第9戦】予選ヒート-レース結果表（貼付）'!$B:$B,0),MATCH(Q$11,'[1]【第9戦】予選ヒート-レース結果表（貼付）'!$1:$1,0)),"")) | R25: =IF(Q25="","",COUNTIF($Q$13:Q25,"<>"&"")) | S25: =IFERROR(RANK(R25,$R$13:$R$46,1),"") | T25: =IF(IFERROR(INDEX('[1]【第9戦】予選ヒート-レース結果表（貼付）'!$A:$Z,MATCH($A25,'[1]【第9戦】予選ヒート-レース結果表（貼付）'!$A:$A,0),MATCH(T$11,'[1]【第9戦】予選ヒート-レース結果表（貼付）'!$1:$1,0)),"")=0,"",IFERROR(INDEX('[1]【第9戦】予選ヒート-レース結果表（貼付）'!$A:$Z,MATCH($A25,'[1]【第9戦】予選ヒート-レース結果表（貼付）'!$A:$A,0),MATCH(T$11,'[1]【第9戦】予選ヒート-レース結果表（貼付）'!$1:$1,0)),"")) | U25: =IF(IFERROR(INDEX('[1]【第9戦】予選ヒート-レース結果表（貼付）'!$A:$Z,MATCH($B25,'[1]【第9戦】予選ヒート-レース結果表（貼付）'!$B:$B,0),MATCH(U$11,'[1]【第9戦】予選ヒート-レース結果表（貼付）'!$1:$1,0)),"")=0,"",IFERROR(INDEX('[1]【第9戦】予選ヒート-レース結果表（貼付）'!$A:$Z,MATCH($B25,'[1]【第9戦】予選ヒート-レース結果表（貼付）'!$B:$B,0),MATCH(U$11,'[1]【第9戦】予選ヒート-レース結果表（貼付）'!$1:$1,0)),"")) -> 100.357
... A46: =IF(OR('[1]【第9戦】予選ヒート-レース結果表（貼付）'!A35="DNF",'[1]【第9戦】予選ヒート-レース結果表（貼付）'!A35="DNS",'[1]【第9戦】予選ヒート-レース結果表（貼付）'!A35="DQ"),'[1]【第9戦】予選ヒート-レース結果表（貼付）'!A35,IF(MAX('[1]【第9戦】予選ヒート-レース結果表（貼付）'!A:A)>A45,A45+1,"")) -> 34 | B46: =IFERROR(INDEX('[1]【第9戦】予選ヒート-レース結果表（貼付）'!A35:$Z$50,MATCH($A46,'[1]【第9戦】予選ヒート-レース結果表（貼付）'!A35:$A$50,0),MATCH('[1]公式予選（TT②）-結果表（印刷）'!B$11,'[1]【第9戦】予選ヒート-レース結果表（貼付）'!$1:$1,0)),"") -> 51 | E46: =IFERROR(INDEX('[1]【第9戦】予選ヒート-レース結果表（貼付）'!$A:$Z,MATCH($B46,'[1]【第9戦】予選ヒート-レース結果表（貼付）'!$B:$B,0),MATCH('【第9戦】予選ヒート-レース結果表'!E$11,'[1]【第9戦】予選ヒート-レース結果表（貼付）'!$1:$1,0)),"") -> 堂園 鷲 | F46: =IFERROR(INDEX('[1]【第9戦】予選ヒート-レース結果表（貼付）'!$A:$Z,MATCH($B46,'[1]【第9戦】予選ヒート-レース結果表（貼付）'!$B:$B,0),MATCH('【第9戦】予選ヒート-レース結果表'!F$11,'[1]【第9戦】予選ヒート-レース結果表（貼付）'!$1:$1,0)),"") -> ENERGY CORCE/TM | G46: =IFERROR(INDEX('[1]【第9戦】予選ヒート-レース結果表（貼付）'!$A:$Z,MATCH($B46,'[1]【第9戦】予選ヒート-レース結果表（貼付）'!$B:$B,0),MATCH('【第9戦】予選ヒート-レース結果表'!G$11,'[1]【第9戦】予選ヒート-レース結果表（貼付）'!$1:$1,0)),"") -> ENERGY JAPAN | H46: =IFERROR(INDEX('[1]【第9戦】予選ヒート-レース結果表（貼付）'!$A:$Z,MATCH($B46,'[1]【第9戦】予選ヒート-レース結果表（貼付）'!$B:$B,0),MATCH('【第9戦】予選ヒート-レース結果表'!H$11,'[1]【第9戦】予選ヒート-レース結果表（貼付）'!$1:$1,0)),"") -> BS | I46: =IFERROR(INDEX('[1]【第9戦】予選ヒート-レース結果表（貼付）'!$A:$Z,MATCH($B46,'[1]【第9戦】予選ヒート-レース結果表（貼付）'!$B:$B,0),MATCH('【第9戦】予選ヒート-レース結果表'!I$11,'[1]【第9戦】予選ヒート-レース結果表（貼付）'!$1:$1,0)),"") -> 0 | J46: =IFERROR(IF(A46="DNS","ｽﾀｰﾄ出来ず",IF(A46="DQ","失 格",INDEX('[1]【第9戦】予選ヒート-レース結果表（貼付）'!$A:$Z,MATCH($B46,'[1]【第9戦】予選ヒート-レース結果表（貼付）'!$B:$B,0),MATCH('【第9戦】予選ヒート-レース結果表'!J$11,'[1]【第9戦】予選ヒート-レース結果表（貼付）'!$1:$1,0)))),"") -> ｽﾀｰﾄ出来ず | K46: =IFERROR(IF(A46="DNS","",IF(A46="DQ","",INDEX('[1]【第9戦】予選ヒート-レース結果表（貼付）'!$A:$Z,MATCH($B46,'[1]【第9戦】予選ヒート-レース結果表（貼付）'!$B:$B,0),MATCH('【第9戦】予選ヒート-レース結果表'!K$11,'[1]【第9戦】予選ヒート-レース結果表（貼付）'!$1:$1,0)))),"") -> DNS | L46: =IFERROR(IF(A46="DNS","",IF(A46="DQ","",INDEX('[1]【第9戦】予選ヒート-レース結果表（貼付）'!$A:$Z,MATCH($B46,'[1]【第9戦】予選ヒート-レース結果表（貼付）'!$B:$B,0),MATCH('【第9戦】予選ヒート-レース結果表'!L$11,'[1]【第9戦】予選ヒート-レース結果表（貼付）'!$1:$1,0)))),"") -> 0 | M46: =IFERROR(IF(A46="DNS","",IF(A46="DQ","",INDEX('[1]【第9戦】予選ヒート-レース結果表（貼付）'!$A:$Z,MATCH($B46,'[1]【第9戦】予選ヒート-レース結果表（貼付）'!$B:$B,0),MATCH('【第9戦】予選ヒート-レース結果表'!M$11,'[1]【第9戦】予選ヒート-レース結果表（貼付）'!$1:$1,0)))),"") -> 0 | N46: =IF(M46<1,"",IF($N$11>M46,"R","")) | Q46: =IF(IFERROR(INDEX('[1]【第9戦】予選ヒート-レース結果表（貼付）'!$A:$Z,MATCH($B46,'[1]【第9戦】予選ヒート-レース結果表（貼付）'!$B:$B,0),MATCH(Q$11,'[1]【第9戦】予選ヒート-レース結果表（貼付）'!$1:$1,0)),"")=0,"",IFERROR(INDEX('[1]【第9戦】予選ヒート-レース結果表（貼付）'!$A:$Z,MATCH($B46,'[1]【第9戦】予選ヒート-レース結果表（貼付）'!$B:$B,0),MATCH(Q$11,'[1]【第9戦】予選ヒート-レース結果表（貼付）'!$1:$1,0)),"")) | R46: =IF(Q46="","",COUNTIF($Q$13:Q46,"<>"&"")) | S46: =IFERROR(RANK(R46,$R$13:$R$46,1),"") | T46: =IF(IFERROR(INDEX('[1]【第9戦】予選ヒート-レース結果表（貼付）'!$A:$Z,MATCH($A46,'[1]【第9戦】予選ヒート-レース結果表（貼付）'!$A:$A,0),MATCH(T$11,'[1]【第9戦】予選ヒート-レース結果表（貼付）'!$1:$1,0)),"")=0,"",IFERROR(INDEX('[1]【第9戦】予選ヒート-レース結果表（貼付）'!$A:$Z,MATCH($A46,'[1]【第9戦】予選ヒート-レース結果表（貼付）'!$A:$A,0),MATCH(T$11,'[1]【第9戦】予選ヒート-レース結果表（貼付）'!$1:$1,0)),"")) | U46: =IF(IFERROR(INDEX('[1]【第9戦】予選ヒート-レース結果表（貼付）'!$A:$Z,MATCH($B46,'[1]【第9戦】予選ヒート-レース結果表（貼付）'!$B:$B,0),MATCH(U$11,'[1]【第9戦】予選ヒート-レース結果表（貼付）'!$1:$1,0)),"")=0,"",IFERROR(INDEX('[1]【第9戦】予選ヒート-レース結果表（貼付）'!$A:$Z,MATCH($B46,'[1]【第9戦】予選ヒート-レース結果表（貼付）'!$B:$B,0),MATCH(U$11,'[1]【第9戦】予選ヒート-レース結果表（貼付）'!$1:$1,0)),"")) -> -
A48: Fastest Lap | E48: ="No."&IFERROR(INDEX($A11:$Z46,MATCH($J$48,$U$11:$U$46,0),MATCH("No.",$11:$11,0)),"")&" "&IFERROR(INDEX($A11:$Z46,MATCH($J$48,$U$11:$U$46,0),MATCH("名前",$11:$11,0)),"") -> No.81 山田 杯利 | F48: =IFERROR(INDEX($A11:$Z46,MATCH($J$48,$U$11:$U$46,0),MATCH("team",$11:$11,0)),"") -> DragoCorse | G48: =1.264/MAX($U:$U)*3600 -> 44.935121 | I48: =INDEX('[1]【第9戦】予選ヒート-レース結果表（貼付）'!$A:$Z,MATCH(INDEX($A11:$Z44,MATCH($J$48,$U$12:$U$44,0),MATCH("No.",$11:$11,0)),'[1]【第9戦】予選ヒート-レース結果表（貼付）'!$B:$B,0),MATCH("In Lap",'[1]【第9戦】予選ヒート-レース結果表（貼付）'!$1:$1,0))&"/"&IFERROR(INDEX($A11:$Z44,MATCH($J$48,$U$12:$U$44,0),MATCH("laps",$11:$11,0)),"") -> 9/12 | J48: =MAX($U:$U) -> 101.266 | K48: km/h
A50: =IF(COUNTIF(N:N,"R")>=1,"""R"" マークの車は、コースレコードを更新しました。従来のレコードタイムは"&" "&N11,"") -> "R" マークの車は、コースレコードを更新しました。従来のレコードタイムは 45.239
A52: =IF(A53="","","ﾍﾟﾅﾙﾃｨ") | B52: 国内カート競技規則 ｶｰﾄ競技会に関する規定 第14条 信号の使用法 5. により12周の結果とする。
A53: =IF(MAX(R13:R46)<1,"",1) | B53: =IF(A53="","","No."&INDEX($A$11:$V$46,MATCH($A53,$S$11:$S$46,0),MATCH("No.",$11:$11,0)))
A54: =IF(A53<COUNTIF($S$12:$S$46,">"&0),A53+1,"") | B54: =IF(A54="","","No."&INDEX($A$11:$V$46,MATCH($A54,$S$11:$S$46,0),MATCH("No.",$11:$11,0)))
A55: =IF(A54<COUNTIF($S$12:$S$46,">"&0),A54+1,"") | B55: =IF(A55="","","No."&INDEX($A$11:$V$46,MATCH($A55,$S$11:$S$46,0),MATCH("No.",$11:$11,0)))
A56: =IF(A55<COUNTIF($S$12:$S$46,">"&0),A55+1,"") | B56: =IF(A56="","","No."&INDEX($A$11:$V$46,MATCH($A56,$S$11:$S$46,0),MATCH("No.",$11:$11,0)))
A57: =IF(A56<COUNTIF($S$12:$S$46,">"&0),A56+1,"") | B57: =IF(A57="","","No."&INDEX($A$11:$V$46,MATCH($A57,$S$11:$S$46,0),MATCH("No.",$11:$11,0)))
A58: =IF(A57<COUNTIF($S$12:$S$46,">"&0),A57+1,"") | B58: =IF(A58="","","No."&INDEX($A$11:$V$46,MATCH($A58,$S$11:$S$46,0),MATCH("No.",$11:$11,0)))
A59: =IF(A58<COUNTIF($S$12:$S$46,">"&0),A58+1,"") | B59: =IF(A59="","","No."&INDEX($A$11:$V$46,MATCH($A59,$S$11:$S$46,0),MATCH("No.",$11:$11,0)))
A60: =IF(A59<COUNTIF($S$12:$S$46,">"&0),A59+1,"") | B60: =IF(A60="","","No."&INDEX($A$11:$V$46,MATCH($A60,$S$11:$S$46,0),MATCH("No.",$11:$11,0)))
A61: =IF(A60<COUNTIF($S$12:$S$46,">"&0),A60+1,"") | B61: =IF(A61="","","No."&INDEX($A$11:$V$46,MATCH($A61,$S$11:$S$46,0),MATCH("No.",$11:$11,0)))
A62: =IF(A61<COUNTIF($S$12:$S$46,">"&0),A61+1,"") | B62: =IF(A62="","","No."&INDEX($A$11:$V$46,MATCH($A62,$S$11:$S$46,0),MATCH("No.",$11:$11,0)))
B63: ="審査委員長 ："&" "&[1]各種設定!$D$20 -> 審査委員長 ： Makoto SAITO | G63: ="競技委員長 ："&" "&[1]各種設定!$D$22 -> 競技委員長 ： Toshiaki KUBOTA | J63: ="計時委員長 ："&" "&[1]各種設定!$D$24 -> 計時委員長 ： Tsutomu HAYAKAWA
Q76: Rマークの車は、コースレコードを更新しました。従来のレコードタイムは 53.936

Sheet 予選ヒート-グリッド表
J6: 44877 | L6: :
A7: =+[1]各種設定!D2 -> 2022年 オートバックス全日本カート選手権 OK部門 第9戦/10戦 | J7: WEATHER: | K7: Fine
J8: COURSE : | K8: Dry
A9: =+[1]各種設定!D4 -> OK | J9: 南コース 1.264Km
A10: 第9戦 予選ヒート グリッド表
B14: PP | C14: =INDEX('[1]公式予選-結果表・グリッド用（貼付）'!$A:$Z,MATCH(1,'[1]公式予選-結果表・グリッド用（貼付）'!$A:$A,0),MATCH("No.",'[1]公式予選-結果表・グリッド用（貼付）'!$1:$1,0)) -> 89 | D14: =INDEX('[1]公式予選-結果表・グリッド用（貼付）'!$A:$Z,MATCH(1,'[1]公式予選-結果表・グリッド用（貼付）'!$A:$A,0),MATCH("名前",'[1]公式予選-結果表・グリッド用（貼付）'!$1:$1,0)) -> 加藤 大翔 | F14: =INDEX('[1]公式予選-結果表・グリッド用（貼付）'!$A:$Z,MATCH(1,'[1]公式予選-結果表・グリッド用（貼付）'!$A:$A,0),MATCH("BestLap",'[1]公式予選-結果表・グリッド用（貼付）'!$1:$1,0)) -> 44.417 | G14: 2 | H14: =INDEX('[1]公式予選-結果表・グリッド用（貼付）'!$A:$Z,MATCH($G14,'[1]公式予選-結果表・グリッド用（貼付）'!$A:$A,0),MATCH("No.",'[1]公式予選-結果表・グリッド用（貼付）'!$1:$1,0)) -> 29 | I14: =IFERROR(INDEX('[1]公式予選-結果表・グリッド用（貼付）'!$A:$Z,MATCH($G14,'[1]公式予選-結果表・グリッド用（貼付）'!$A:$A,0),MATCH("名前",'[1]公式予選-結果表・グリッド用（貼付）'!$1:$1,0)),"") -> 三村 壮太郎 | K14: =IF(IFERROR(INDEX('[1]公式予選-結果表・グリッド用（貼付）'!$A:$Z,MATCH($G14,'[1]公式予選-結果表・グリッド用（貼付）'!$A:$A,0),MATCH("BestLap",'[1]公式予選-結果表・グリッド用（貼付）'!$1:$1,0)),"")=0,"",IFERROR(INDEX('[1]公式予選-結果表・グリッド用（貼付）'!$A:$Z,MATCH($G14,'[1]公式予選-結果表・グリッド用（貼付）'!$A:$A,0),MATCH("BestLap",'[1]公式予選-結果表・グリッド用（貼付）'!$1:$1,0)),"")) -> 44.516
C15: =IF(INDEX('[1]公式予選-結果表・グリッド用（貼付）'!$A:$Z,MATCH(1,'[1]公式予選-結果表・グリッド用（貼付）'!$A:$A,0),MATCH("クラス",'[1]公式予選-結果表・グリッド用（貼付）'!$1:$1,0))=0,"",INDEX('[1]公式予選-結果表・グリッド用（貼付）'!$A:$Z,MATCH(1,'[1]公式予選-結果表・グリッド用（貼付）'!$A:$A,0),MATCH("クラス",'[1]公式予選-結果表・グリッド用（貼付）'!$1:$1,0))) | F15: =INDEX('[1]公式予選-結果表・グリッド用（貼付）'!$A:$Z,MATCH(1,'[1]公式予選-結果表・グリッド用（貼付）'!$A:$A,0),MATCH("Model/Engine",'[1]公式予選-結果表・グリッド用（貼付）'!$1:$1,0)) -> KR/TM | H15: =IF(IFERROR(INDEX('[1]公式予選-結果表・グリッド用（貼付）'!$A:$Z,MATCH($G14,'[1]公式予選-結果表・グリッド用（貼付）'!$A:$A,0),MATCH("クラス",'[1]公式予選-結果表・グリッド用（貼付）'!$1:$1,0)),"")=0,"",IFERROR(INDEX('[1]公式予選-結果表・グリッド用（貼付）'!$A:$Z,MATCH($G14,'[1]公式予選-結果表・グリッド用（貼付）'!$A:$A,0),MATCH("クラス",'[1]公式予選-結果表・グリッド用（貼付）'!$1:$1,0)),"")) | K15: =IF(IFERROR(INDEX('[1]公式予選-結果表・グリッド用（貼付）'!$A:$Z,MATCH($G14,'[1]公式予選-結果表・グリッド用（貼付）'!$A:$A,0),MATCH("Model/Engine",'[1]公式予選-結果表・グリッド用（貼付）'!$1:$1,0)),"")=0,"",IFERROR(INDEX('[1]公式予選-結果表・グリッド用（貼付）'!$A:$Z,MATCH($G14,'[1]公式予選-結果表・グリッド用（貼付）'!$A:$A,0),MATCH("Model/Engine",'[1]公式予選-結果表・グリッド用（貼付）'!$1:$1,0)),"")) -> Rosa Drago Corse/TM
C16: =INDEX('[1]公式予選-結果表・グリッド用（貼付）'!$A:$Z,MATCH(1,'[1]公式予選-結果表・グリッド用（貼付）'!$A:$A,0),MATCH("team",'[1]公式予選-結果表・グリッド用（貼付）'!$1:$1,0)) -> PONOS HIROTEX RACING | H16: =IF(IFERROR(INDEX('[1]公式予選-結果表・グリッド用（貼付）'!$A:$Z,MATCH($G14,'[1]公式予選-結果表・グリッド用（貼付）'!$A:$A,0),MATCH("team",'[1]公式予選-結果表・グリッド用（貼付）'!$1:$1,0)),"")=0,"",IFERROR(INDEX('[1]公式予選-結果表・グリッド用（貼付）'!$A:$Z,MATCH($G14,'[1]公式予選-結果表・グリッド用（貼付）'!$A:$A,0),MATCH("team",'[1]公式予選-結果表・グリッド用（貼付）'!$1:$1,0)),"")) -> RosaDragoCorse
B18: =IF(MAX('[1]公式予選-結果表・グリッド用（貼付）'!A:A)>G14,G14+1,"") -> 3 | C18: =IFERROR(INDEX('[1]公式予選-結果表・グリッド用（貼付）'!$A:$Z,MATCH($B18,'[1]公式予選-結果表・グリッド用（貼付）'!$A:$A,0),MATCH("No.",'[1]公式予選-結果表・グリッド用（貼付）'!$1:$1,0)),"") -> 18 | D18: =IFERROR(INDEX('[1]公式予選-結果表・グリッド用（貼付）'!$A:$Z,MATCH($B18,'[1]公式予選-結果表・グリッド用（貼付）'!$A:$A,0),MATCH("名前",'[1]公式予選-結果表・グリッド用（貼付）'!$1:$1,0)),"") -> 野澤 勇翔 | F18: =IF(IFERROR(INDEX('[1]公式予選-結果表・グリッド用（貼付）'!$A:$Z,MATCH($B18,'[1]公式予選-結果表・グリッド用（貼付）'!$A:$A,0),MATCH("BestLap",'[1]公式予選-結果表・グリッド用（貼付）'!$1:$1,0)),"")=0,"",IFERROR(INDEX('[1]公式予選-結果表・グリッド用（貼付）'!$A:$Z,MATCH($B18,'[1]公式予選-結果表・グリッド用（貼付）'!$A:$A,0),MATCH("BestLap",'[1]公式予選-結果表・グリッド用（貼付）'!$1:$1,0)),"")) -> 44.53 | G18: =IF(MAX('[1]公式予選-結果表・グリッド用（貼付）'!$A:$A)>B18,B18+1,"") -> 4 | H18: =INDEX('[1]公式予選-結果表・グリッド用（貼付）'!$A:$Z,MATCH($G18,'[1]公式予選-結果表・グリッド用（貼付）'!$A:$A,0),MATCH("No.",'[1]公式予選-結果表・グリッド用（貼付）'!$1:$1,0)) -> 34 | I18: =IFERROR(INDEX('[1]公式予選-結果表・グリッド用（貼付）'!$A:$Z,MATCH($G18,'[1]公式予選-結果表・グリッド用（貼付）'!$A:$A,0),MATCH("名前",'[1]公式予選-結果表・グリッド用（貼付）'!$1:$1,0)),"") -> 清水 啓伸 | K18: =IF(IFERROR(INDEX('[1]公式予選-結果表・グリッド用（貼付）'!$A:$Z,MATCH($G18,'[1]公式予選-結果表・グリッド用（貼付）'!$A:$A,0),MATCH("BestLap",'[1]公式予選-結果表・グリッド用（貼付）'!$1:$1,0)),"")=0,"",IFERROR(INDEX('[1]公式予選-結果表・グリッド用（貼付）'!$A:$Z,MATCH($G18,'[1]公式予選-結果表・グリッド用（貼付）'!$A:$A,0),MATCH("BestLap",'[1]公式予選-結果表・グリッド用（貼付）'!$1:$1,0)),"")) -> 44.543
C19: =IF(IFERROR(INDEX('[1]公式予選-結果表・グリッド用（貼付）'!$A:$Z,MATCH($B18,'[1]公式予選-結果表・グリッド用（貼付）'!$A:$A,0),MATCH("クラス",'[1]公式予選-結果表・グリッド用（貼付）'!$1:$1,0)),"")=0,"",IFERROR(INDEX('[1]公式予選-結果表・グリッド用（貼付）'!$A:$Z,MATCH($B18,'[1]公式予選-結果表・グリッド用（貼付）'!$A:$A,0),MATCH("クラス",'[1]公式予選-結果表・グリッド用（貼付）'!$1:$1,0)),"")) | F19: =IF(IFERROR(INDEX('[1]公式予選-結果表・グリッド用（貼付）'!$A:$Z,MATCH($B18,'[1]公式予選-結果表・グリッド用（貼付）'!$A:$A,0),MATCH("Model/Engine",'[1]公式予選-結果表・グリッド用（貼付）'!$1:$1,0)),"")=0,"",IFERROR(INDEX('[1]公式予選-結果表・グリッド用（貼付）'!$A:$Z,MATCH($B18,'[1]公式予選-結果表・グリッド用（貼付）'!$A:$A,0),MATCH("Model/Engine",'[1]公式予選-結果表・グリッド用（貼付）'!$1:$1,0)),"")) -> Birel ART/IAME | H19: =IF(IFERROR(INDEX('[1]公式予選-結果表・グリッド用（貼付）'!$A:$Z,MATCH($G18,'[1]公式予選-結果表・グリッド用（貼付）'!$A:$A,0),MATCH("クラス",'[1]公式予選-結果表・グリッド用（貼付）'!$1:$1,0)),"")=0,"",IFERROR(INDEX('[1]公式予選-結果表・グリッド用（貼付）'!$A:$Z,MATCH($G18,'[1]公式予選-結果表・グリッド用（貼付）'!$A:$A,0),MATCH("クラス",'[1]公式予選-結果表・グリッド用（貼付）'!$1:$1,0)),"")) | K19: =IF(IFERROR(INDEX('[1]公式予選-結果表・グリッド用（貼付）'!$A:$Z,MATCH($G18,'[1]公式予選-結果表・グリッド用（貼付）'!$A:$A,0),MATCH("Model/Engine",'[1]公式予選-結果表・グリッド用（貼付）'!$1:$1,0)),"")=0,"",IFERROR(INDEX('[1]公式予選-結果表・グリッド用（貼付）'!$A:$Z,MATCH($G18,'[1]公式予選-結果表・グリッド用（貼付）'!$A:$A,0),MATCH("Model/Engine",'[1]公式予選-結果表・グリッド用（貼付）'!$1:$1,0)),"")) -> Drago CORSE/TM
C20: =IF(IFERROR(INDEX('[1]公式予選-結果表・グリッド用（貼付）'!$A:$Z,MATCH($B18,'[1]公式予選-結果表・グリッド用（貼付）'!$A:$A,0),MATCH("team",'[1]公式予選-結果表・グリッド用（貼付）'!$1:$1,0)),"")=0,"",IFERROR(INDEX('[1]公式予選-結果表・グリッド用（貼付）'!$A:$Z,MATCH($B18,'[1]公式予選-結果表・グリッド用（貼付）'!$A:$A,0),MATCH("team",'[1]公式予選-結果表・グリッド用（貼付）'!$1:$1,0)),"")) -> bbR.チームエッフェガーラ | H20: =IF(IFERROR(INDEX('[1]公式予選-結果表・グリッド用（貼付）'!$A:$Z,MATCH($G18,'[1]公式予選-結果表・グリッド用（貼付）'!$A:$A,0),MATCH("team",'[1]公式予選-結果表・グリッド用（貼付）'!$1:$1,0)),"")=0,"",IFERROR(INDEX('[1]公式予選-結果表・グリッド用（貼付）'!$A:$Z,MATCH($G18,'[1]公式予選-結果表・グリッド用（貼付）'!$A:$A,0),MATCH("team",'[1]公式予選-結果表・グリッド用（貼付）'!$1:$1,0)),"")) -> DragoCORSE
B22: =IF(MAX('[1]公式予選-結果表・グリッド用（貼付）'!A:A)>G18,G18+1,"") -> 5 | C22: =IFERROR(INDEX('[1]公式予選-結果表・グリッド用（貼付）'!$A:$Z,MATCH($B22,'[1]公式予選-結果表・グリッド用（貼付）'!$A:$A,0),MATCH("No.",'[1]公式予選-結果表・グリッド用（貼付）'!$1:$1,0)),"") -> 1 | D22: =IFERROR(INDEX('[1]公式予選-結果表・グリッド用（貼付）'!$A:$Z,MATCH($B22,'[1]公式予選-結果表・グリッド用（貼付）'!$A:$A,0),MATCH("名前",'[1]公式予選-結果表・グリッド用（貼付）'!$1:$1,0)),"") -> 佐々木 大樹 | F22: =IF(IFERROR(INDEX('[1]公式予選-結果表・グリッド用（貼付）'!$A:$Z,MATCH($B22,'[1]公式予選-結果表・グリッド用（貼付）'!$A:$A,0),MATCH("BestLap",'[1]公式予選-結果表・グリッド用（貼付）'!$1:$1,0)),"")=0,"",IFERROR(INDEX('[1]公式予選-結果表・グリッド用（貼付）'!$A:$Z,MATCH($B22,'[1]公式予選-結果表・グリッド用（貼付）'!$A:$A,0),MATCH("BestLap",'[1]公式予選-結果表・グリッド用（貼付）'!$1:$1,0)),"")) -> 44.546 | G22: =IF(MAX('[1]公式予選-結果表・グリッド用（貼付）'!$A:$A)>B22,B22+1,"") -> 6 | H22: =INDEX('[1]公式予選-結果表・グリッド用（貼付）'!$A:$Z,MATCH($G22,'[1]公式予選-結果表・グリッド用（貼付）'!$A:$A,0),MATCH("No.",'[1]公式予選-結果表・グリッド用（貼付）'!$1:$1,0)) -> 85 | I22: =IFERROR(INDEX('[1]公式予選-結果表・グリッド用（貼付）'!$A:$Z,MATCH($G22,'[1]公式予選-結果表・グリッド用（貼付）'!$A:$A,0),MATCH("名前",'[1]公式予選-結果表・グリッド用（貼付）'!$1:$1,0)),"") -> 佐藤 蓮 | K22: =IF(IFERROR(INDEX('[1]公式予選-結果表・グリッド用（貼付）'!$A:$Z,MATCH($G22,'[1]公式予選-結果表・グリッド用（貼付）'!$A:$A,0),MATCH("BestLap",'[1]公式予選-結果表・グリッド用（貼付）'!$1:$1,0)),"")=0,"",IFERROR(INDEX('[1]公式予選-結果表・グリッド用（貼付）'!$A:$Z,MATCH($G22,'[1]公式予選-結果表・グリッド用（貼付）'!$A:$A,0),MATCH("BestLap",'[1]公式予選-結果表・グリッド用（貼付）'!$1:$1,0)),"")) -> 44.566
C23: =IF(IFERROR(INDEX('[1]公式予選-結果表・グリッド用（貼付）'!$A:$Z,MATCH($B22,'[1]公式予選-結果表・グリッド用（貼付）'!$A:$A,0),MATCH("クラス",'[1]公式予選-結果表・グリッド用（貼付）'!$1:$1,0)),"")=0,"",IFERROR(INDEX('[1]公式予選-結果表・グリッド用（貼付）'!$A:$Z,MATCH($B22,'[1]公式予選-結果表・グリッド用（貼付）'!$A:$A,0),MATCH("クラス",'[1]公式予選-結果表・グリッド用（貼付）'!$1:$1,0)),"")) | F23: =IF(IFERROR(INDEX('[1]公式予選-結果表・グリッド用（貼付）'!$A:$Z,MATCH($B22,'[1]公式予選-結果表・グリッド用（貼付）'!$A:$A,0),MATCH("Model/Engine",'[1]公式予選-結果表・グリッド用（貼付）'!$1:$1,0)),"")=0,"",IFERROR(INDEX('[1]公式予選-結果表・グリッド用（貼付）'!$A:$Z,MATCH($B22,'[1]公式予選-結果表・グリッド用（貼付）'!$A:$A,0),MATCH("Model/Engine",'[1]公式予選-結果表・グリッド用（貼付）'!$1:$1,0)),"")) -> TONY KART/VORTEX | H23: =IF(IFERROR(INDEX('[1]公式予選-結果表・グリッド用（貼付）'!$A:$Z,MATCH($G22,'[1]公式予選-結果表・グリッド用（貼付）'!$A:$A,0),MATCH("クラス",'[1]公式予選-結果表・グリッド用（貼付）'!$1:$1,0)),"")=0,"",IFERROR(INDEX('[1]公式予選-結果表・グリッド用（貼付）'!$A:$Z,MATCH($G22,'[1]公式予選-結果表・グリッド用（貼付）'!$A:$A,0),MATCH("クラス",'[1]公式予選-結果表・グリッド用（貼付）'!$1:$1,0)),"")) | K23: =IF(IFERROR(INDEX('[1]公式予選-結果表・グリッド用（貼付）'!$A:$Z,MATCH($G22,'[1]公式予選-結果表・グリッド用（貼付）'!$A:$A,0),MATCH("Model/Engine",'[1]公式予選-結果表・グリッド用（貼付）'!$1:$1,0)),"")=0,"",IFERROR(INDEX('[1]公式予選-結果表・グリッド用（貼付）'!$A:$Z,MATCH($G22,'[1]公式予選-結果表・グリッド用（貼付）'!$A:$A,0),MATCH("Model/Engine",'[1]公式予選-結果表・グリッド用（貼付）'!$1:$1,0)),"")) -> Drago CORSE/TM
C24: =IF(IFERROR(INDEX('[1]公式予選-結果表・グリッド用（貼付）'!$A:$Z,MATCH($B22,'[1]公式予選-結果表・グリッド用（貼付）'!$A:$A,0),MATCH("team",'[1]公式予選-結果表・グリッド用（貼付）'!$1:$1,0)),"")=0,"",IFERROR(INDEX('[1]公式予選-結果表・グリッド用（貼付）'!$A:$Z,MATCH($B22,'[1]公式予選-結果表・グリッド用（貼付）'!$A:$A,0),MATCH("team",'[1]公式予選-結果表・グリッド用（貼付）'!$1:$1,0)),"")) -> TONYKART RACING TEAM JAPAN | H24: =IF(IFERROR(INDEX('[1]公式予選-結果表・グリッド用（貼付）'!$A:$Z,MATCH($G22,'[1]公式予選-結果表・グリッド用（貼付）'!$A:$A,0),MATCH("team",'[1]公式予選-結果表・グリッド用（貼付）'!$1:$1,0)),"")=0,"",IFERROR(INDEX('[1]公式予選-結果表・グリッド用（貼付）'!$A:$Z,MATCH($G22,'[1]公式予選-結果表・グリッド用（貼付）'!$A:$A,0),MATCH("team",'[1]公式予選-結果表・グリッド用（貼付）'!$1:$1,0)),"")) -> Drago Corse
B26: =IF(MAX('[1]公式予選-結果表・グリッド用（貼付）'!A:A)>G22,G22+1,"") -> 7 | C26: =IFERROR(INDEX('[1]公式予選-結果表・グリッド用（貼付）'!$A:$Z,MATCH($B26,'[1]公式予選-結果表・グリッド用（貼付）'!$A:$A,0),MATCH("No.",'[1]公式予選-結果表・グリッド用（貼付）'!$1:$1,0)),"") -> 25 | D26: =IFERROR(INDEX('[1]公式予選-結果表・グリッド用（貼付）'!$A:$Z,MATCH($B26,'[1]公式予選-結果表・グリッド用（貼付）'!$A:$A,0),MATCH("名前",'[1]公式予選-結果表・グリッド用（貼付）'!$1:$1,0)),"") -> 小田 優 | F26: =IF(IFERROR(INDEX('[1]公式予選-結果表・グリッド用（貼付）'!$A:$Z,MATCH($B26,'[1]公式予選-結果表・グリッド用（貼付）'!$A:$A,0),MATCH("BestLap",'[1]公式予選-結果表・グリッド用（貼付）'!$1:$1,0)),"")=0,"",IFERROR(INDEX('[1]公式予選-結果表・グリッド用（貼付）'!$A:$Z,MATCH($B26,'[1]公式予選-結果表・グリッド用（貼付）'!$A:$A,0),MATCH("BestLap",'[1]公式予選-結果表・グリッド用（貼付）'!$1:$1,0)),"")) -> 44.613 | G26: =IF(MAX('[1]公式予選-結果表・グリッド用（貼付）'!$A:$A)>B26,B26+1,"") -> 8 | H26: =INDEX('[1]公式予選-結果表・グリッド用（貼付）'!$A:$Z,MATCH($G26,'[1]公式予選-結果表・グリッド用（貼付）'!$A:$A,0),MATCH("No.",'[1]公式予選-結果表・グリッド用（貼付）'!$1:$1,0)) -> 13 | I26: =IFERROR(INDEX('[1]公式予選-結果表・グリッド用（貼付）'!$A:$Z,MATCH($G26,'[1]公式予選-結果表・グリッド用（貼付）'!$A:$A,0),MATCH("名前",'[1]公式予選-結果表・グリッド用（貼付）'!$1:$1,0)),"") -> 梅垣 清 | K26: =IF(IFERROR(INDEX('[1]公式予選-結果表・グリッド用（貼付）'!$A:$Z,MATCH($G26,'[1]公式予選-結果表・グリッド用（貼付）'!$A:$A,0),MATCH("BestLap",'[1]公式予選-結果表・グリッド用（貼付）'!$1:$1,0)),"")=0,"",IFERROR(INDEX('[1]公式予選-結果表・グリッド用（貼付）'!$A:$Z,MATCH($G26,'[1]公式予選-結果表・グリッド用（貼付）'!$A:$A,0),MATCH("BestLap",'[1]公式予選-結果表・グリッド用（貼付）'!$1:$1,0)),"")) -> 44.681
