Workbook

Sheet 【第9戦】決勝ヒート - レース暫定結果表
K6: 44878 | M6: :
A7: =+[1]各種設定!D2 -> 2022年 オートバックス全日本カート選手権 OK部門 第9戦/10戦 | K7: WEATHER: | L7: Cloudy
K8: COURSE : | L8: Dry
A9: =+[1]各種設定!D4 -> OK | K9: 南コース 1.264Km
A10: 第９戦 決勝ヒート暫定結果表
B11: No. | E11: 名前 | F11: Model/Engine | G11: Team | H11: Tires | I11: Laps | J11: Total Time | K11: 差 | L11: GAP | M11: BestLap | N11: =VLOOKUP(A9,[1]コースレコード!$A:$G,3,FALSE) -> 45.239 | Q11: コメント | S11: ペナルティNo. | T11: グリッドコメント | U11: ベスト平均時速
A12: Pos. | B12: No. | E12: Driver | F12: Type | G12: Team | H12: Tire | I12: Laps | J12: Total Time | K12: Delay | L12: Gap | M12: Best
A13: 1 | B13: =IFERROR(INDEX('[1]【第9戦】決勝ヒート - レース結果（貼付）'!A2:$Z$50,MATCH($A13,'[1]【第9戦】決勝ヒート - レース結果（貼付）'!A2:$A$50,0),MATCH('【第9戦】決勝ヒート - レース暫定結果表'!B$11,'[1]【第9戦】決勝ヒート - レース結果（貼付）'!$1:$1,0)),"") -> 25 | E13: =IFERROR(INDEX('[1]【第9戦】決勝ヒート - レース結果（貼付）'!$A:$Z,MATCH($B13,'[1]【第9戦】決勝ヒート - レース結果（貼付）'!$B:$B,0),MATCH('【第9戦】決勝ヒート - レース暫定結果表'!E$11,'[1]【第9戦】決勝ヒート - レース結果（貼付）'!$1:$1,0)),"") -> 小田 優 | F13: =IFERROR(INDEX('[1]【第9戦】決勝ヒート - レース結果（貼付）'!$A:$Z,MATCH($B13,'[1]【第9戦】決勝ヒート - レース結果（貼付）'!$B:$B,0),MATCH('【第9戦】決勝ヒート - レース暫定結果表'!F$11,'[1]【第9戦】決勝ヒート - レース結果（貼付）'!$1:$1,0)),"") -> Drago CORSE/TM | G13: =IFERROR(INDEX('[1]【第9戦】決勝ヒート - レース結果（貼付）'!$A:$Z,MATCH($B13,'[1]【第9戦】決勝ヒート - レース結果（貼付）'!$B:$B,0),MATCH('【第9戦】決勝ヒート - レース暫定結果表'!G$11,'[1]【第9戦】決勝ヒート - レース結果（貼付）'!$1:$1,0)),"") -> Drago CORSE | H13: =IFERROR(INDEX('[1]【第9戦】決勝ヒート - レース結果（貼付）'!$A:$Z,MATCH($B13,'[1]【第9戦】決勝ヒート - レース結果（貼付）'!$B:$B,0),MATCH('【第9戦】決勝ヒート - レース暫定結果表'!H$11,'[1]【第9戦】決勝ヒート - レース結果（貼付）'!$1:$1,0)),"") -> BS | I13: =IFERROR(INDEX('[1]【第9戦】決勝ヒート - レース結果（貼付）'!$A:$Z,MATCH($B13,'[1]【第9戦】決勝ヒート - レース結果（貼付）'!$B:$B,0),MATCH('【第9戦】決勝ヒート - レース暫定結果表'!I$11,'[1]【第9戦】決勝ヒート - レース結果（貼付）'!$1:$1,0)),"") -> 24 | J13: =IF(A13="DNS","ｽﾀｰﾄ出来ず",IF(A13="DQ","失 格",IFERROR(INDEX('[1]【第9戦】決勝ヒート - レース結果（貼付）'!$A:$Z,MATCH($B13,'[1]【第9戦】決勝ヒート - レース結果（貼付）'!$B:$B,0),MATCH('【第9戦】決勝ヒート - レース暫定結果表'!J$11,'[1]【第9戦】決勝ヒート - レース結果（貼付）'!$1:$1,0)),""))) -> 0.012743056 | K13: =ROUND((1.264*I13)/(J13*24),2)&"km/h" -> 99.19km/h | M13: =IFERROR(INDEX('[1]【第9戦】決勝ヒート - レース結果（貼付）'!$A:$Z,MATCH($B13,'[1]【第9戦】決勝ヒート - レース結果（貼付）'!$B:$B,0),MATCH('【第9戦】決勝ヒート - レース暫定結果表'!M$11,'[1]【第9戦】決勝ヒート - レース結果（貼付）'!$1:$1,0)),"") -> 45.307 | N13: =IF(M13<1,"",IF($N$11>M13,"R","")) | Q13: =IF(IFERROR(INDEX('[1]【第9戦】決勝ヒート - レース結果（貼付）'!$A:$Z,MATCH($B13,'[1]【第9戦】決勝ヒート - レース結果（貼付）'!$B:$B,0),MATCH('【第9戦】決勝ヒート - レース暫定結果表'!Q$11,'[1]【第9戦】決勝ヒート - レース結果（貼付）'!$1:$1,0)),"")=0,"",IFERROR(INDEX('[1]【第9戦】決勝ヒート - レース結果（貼付）'!$A:$Z,MATCH($B13,'[1]【第9戦】決勝ヒート - レース結果（貼付）'!$B:$B,0),MATCH('【第9戦】決勝ヒート - レース暫定結果表'!Q$11,'[1]【第9戦】決勝ヒート - レース結果（貼付）'!$1:$1,0)),"")) | R13: =IF(Q13="","",COUNTIF($Q$13:Q13,"<>"&"")) | S13: =IFERROR(RANK(R13,$R$13:$R$47,1),"") | T13: =IF(IFERROR(INDEX('[1]【第9戦】決勝ヒート - レース結果（貼付）'!$A:$Z,MATCH($A13,'[1]【第9戦】決勝ヒート - レース結果（貼付）'!$A:$A,0),MATCH('【第9戦】決勝ヒート - レース暫定結果表'!T$11,'[1]【第9戦】決勝ヒート - レース結果（貼付）'!$1:$1,0)),"")=0,"",IFERROR(INDEX('[1]【第9戦】決勝ヒート - レース結果（貼付）'!$A:$Z,MATCH($A13,'[1]【第9戦】決勝ヒート - レース結果（貼付）'!$A:$A,0),MATCH('【第9戦】決勝ヒート - レース暫定結果表'!T$11,'[1]【第9戦】決勝ヒート - レース結果（貼付）'!$1:$1,0)),"")) | U13: =IF(IFERROR(INDEX('[1]【第9戦】決勝ヒート - レース結果（貼付）'!$A:$Z,MATCH($B13,'[1]【第9戦】決勝ヒート - レース結果（貼付）'!$B:$B,0),MATCH('[1]【第9戦】決勝ヒート - レース正式結果表（印刷）'!U$11,'[1]【第9戦】決勝ヒート - レース結果（貼付）'!$1:$1,0)),"")=0,"",IFERROR(INDEX('[1]【第9戦】決勝ヒート - レース結果（貼付）'!$A:$Z,MATCH($B13,'[1]【第9戦】決勝ヒート - レース結果（貼付）'!$B:$B,0),MATCH('[1]【第9戦】決勝ヒート - レース正式結果表（印刷）'!U$11,'[1]【第9戦】決勝ヒート - レース結果（貼付）'!$1:$1,0)),"")) -> 100.988
A14: =IF(OR('[1]【第9戦】決勝ヒート - レース結果（貼付）'!A3="DNF",'[1]【第9戦】決勝ヒート - レース結果（貼付）'!A3="DNS",'[1]【第9戦】決勝ヒート - レース結果（貼付）'!A3="DQ"),'[1]【第9戦】決勝ヒート - レース結果（貼付）'!A3,IF(MAX('[1]【第9戦】決勝ヒート - レース結果（貼付）'!A:A)>A13,A13+1,"")) -> 2 | B14: =IFERROR(INDEX('[1]【第9戦】決勝ヒート - レース結果（貼付）'!A3:$Z$50,MATCH($A14,'[1]【第9戦】決勝ヒート - レース結果（貼付）'!A3:$A$50,0),MATCH('【第9戦】決勝ヒート - レース暫定結果表'!B$11,'[1]【第9戦】決勝ヒート - レース結果（貼付）'!$1:$1,0)),"") -> 34 | E14: =IFERROR(INDEX('[1]【第9戦】決勝ヒート - レース結果（貼付）'!$A:$Z,MATCH($B14,'[1]【第9戦】決勝ヒート - レース結果（貼付）'!$B:$B,0),MATCH('【第9戦】決勝ヒート - レース暫定結果表'!E$11,'[1]【第9戦】決勝ヒート - レース結果（貼付）'!$1:$1,0)),"") -> 清水 啓伸 | F14: =IFERROR(INDEX('[1]【第9戦】決勝ヒート - レース結果（貼付）'!$A:$Z,MATCH($B14,'[1]【第9戦】決勝ヒート - レース結果（貼付）'!$B:$B,0),MATCH('【第9戦】決勝ヒート - レース暫定結果表'!F$11,'[1]【第9戦】決勝ヒート - レース結果（貼付）'!$1:$1,0)),"") -> Drago CORSE/TM | G14: =IFERROR(INDEX('[1]【第9戦】決勝ヒート - レース結果（貼付）'!$A:$Z,MATCH($B14,'[1]【第9戦】決勝ヒート - レース結果（貼付）'!$B:$B,0),MATCH('【第9戦】決勝ヒート - レース暫定結果表'!G$11,'[1]【第9戦】決勝ヒート - レース結果（貼付）'!$1:$1,0)),"") -> DragoCORSE | H14: =IFERROR(INDEX('[1]【第9戦】決勝ヒート - レース結果（貼付）'!$A:$Z,MATCH($B14,'[1]【第9戦】決勝ヒート - レース結果（貼付）'!$B:$B,0),MATCH('【第9戦】決勝ヒート - レース暫定結果表'!H$11,'[1]【第9戦】決勝ヒート - レース結果（貼付）'!$1:$1,0)),"") -> BS | I14: =IF(A14="DNS","",IF(A14="DQ","",IFERROR(INDEX('[1]【第9戦】決勝ヒート - レース結果（貼付）'!$A:$Z,MATCH($A14,'[1]【第9戦】決勝ヒート - レース結果（貼付）'!$A:$A,0),MATCH('【第9戦】決勝ヒート - レース暫定結果表'!I$11,'[1]【第9戦】決勝ヒート - レース結果（貼付）'!$1:$1,0)),""))) -> 24 | J14: =IF(A14="DNS","ｽﾀｰﾄ出来ず",IF(A14="DQ","失 格",IFERROR(INDEX('[1]【第9戦】決勝ヒート - レース結果（貼付）'!$A:$Z,MATCH($B14,'[1]【第9戦】決勝ヒート - レース結果（貼付）'!$B:$B,0),MATCH('【第9戦】決勝ヒート - レース暫定結果表'!J$11,'[1]【第9戦】決勝ヒート - レース結果（貼付）'!$1:$1,0)),""))) -> 0.012752199 | K14: =IF(A14="DNS","",IF(A14="DQ","",IFERROR(INDEX('[1]【第9戦】決勝ヒート - レース結果（貼付）'!$A:$Z,MATCH($A14,'[1]【第9戦】決勝ヒート - レース結果（貼付）'!$A:$A,0),MATCH('【第9戦】決勝ヒート - レース暫定結果表'!K$11,'[1]【第9戦】決勝ヒート - レース結果（貼付）'!$1:$1,0)),""))) -> 0.79 | L14: =IF(A14="DNS","",IF(A14="DQ","",IFERROR(INDEX('[1]【第9戦】決勝ヒート - レース結果（貼付）'!$A:$Z,MATCH($A14,'[1]【第9戦】決勝ヒート - レース結果（貼付）'!$A:$A,0),MATCH('【第9戦】決勝ヒート - レース暫定結果表'!L$11,'[1]【第9戦】決勝ヒート - レース結果（貼付）'!$1:$1,0)),""))) -> 0.79 | M14: =IF(A14="DNS","",IF(A14="DQ","",IFERROR(INDEX('[1]【第9戦】決勝ヒート - レース結果（貼付）'!$A:$Z,MATCH($B14,'[1]【第9戦】決勝ヒート - レース結果（貼付）'!$B:$B,0),MATCH('【第9戦】決勝ヒート - レース暫定結果表'!M$11,'[1]【第9戦】決勝ヒート - レース結果（貼付）'!$1:$1,0)),""))) -> 45.271 | N14: =IF(M14<1,"",IF($N$11>M14,"R","")) | Q14: =IF(IFERROR(INDEX('[1]【第9戦】決勝ヒート - レース結果（貼付）'!$A:$Z,MATCH($B14,'[1]【第9戦】決勝ヒート - レース結果（貼付）'!$B:$B,0),MATCH('【第9戦】決勝ヒート - レース暫定結果表'!Q$11,'[1]【第9戦】決勝ヒート - レース結果（貼付）'!$1:$1,0)),"")=0,"",IFERROR(INDEX('[1]【第9戦】決勝ヒート - レース結果（貼付）'!$A:$Z,MATCH($B14,'[1]【第9戦】決勝ヒート - レース結果（貼付）'!$B:$B,0),MATCH('【第9戦】決勝ヒート - レース暫定結果表'!Q$11,'[1]【第9戦】決勝ヒート - レース結果（貼付）'!$1:$1,0)),"")) | R14: =IF(Q14="","",COUNTIF($Q$13:Q14,"<>"&"")) | S14: =IFERROR(RANK(R14,$R$13:$R$47,1),"") | T14: =IF(IFERROR(INDEX('[1]【第9戦】決勝ヒート - レース結果（貼付）'!$A:$Z,MATCH($A14,'[1]【第9戦】決勝ヒート - レース結果（貼付）'!$A:$A,0),MATCH('【第9戦】決勝ヒート - レース暫定結果表'!T$11,'[1]【第9戦】決勝ヒート - レース結果（貼付）'!$1:$1,0)),"")=0,"",IFERROR(INDEX('[1]【第9戦】決勝ヒート - レース結果（貼付）'!$A:$Z,MATCH($A14,'[1]【第9戦】決勝ヒート - レース結果（貼付）'!$A:$A,0),MATCH('【第9戦】決勝ヒート - レース暫定結果表'!T$11,'[1]【第9戦】決勝ヒート - レース結果（貼付）'!$1:$1,0)),"")) | U14: =IF(IFERROR(INDEX('[1]【第9戦】決勝ヒート - レース結果（貼付）'!$A:$Z,MATCH($B14,'[1]【第9戦】決勝ヒート - レース結果（貼付）'!$B:$B,0),MATCH('[1]【第9戦】決勝ヒート - レース正式結果表（印刷）'!U$11,'[1]【第9戦】決勝ヒート - レース結果（貼付）'!$1:$1,0)),"")=0,"",IFERROR(INDEX('[1]【第9戦】決勝ヒート - レース結果（貼付）'!$A:$Z,MATCH($B14,'[1]【第9戦】決勝ヒート - レース結果（貼付）'!$B:$B,0),MATCH('[1]【第9戦】決勝ヒート - レース正式結果表（印刷）'!U$11,'[1]【第9戦】決勝ヒート - レース結果（貼付）'!$1:$1,0)),"")) -> 100.435
A15: =IF(OR('[1]【第9戦】決勝ヒート - レース結果（貼付）'!A4="DNF",'[1]【第9戦】決勝ヒート - レース結果（貼付）'!A4="DNS",'[1]【第9戦】決勝ヒート - レース結果（貼付）'!A4="DQ"),'[1]【第9戦】決勝ヒート - レース結果（貼付）'!A4,IF(MAX('[1]【第9戦】決勝ヒート - レース結果（貼付）'!A:A)>A14,A14+1,"")) -> 3 | B15: =IFERROR(INDEX('[1]【第9戦】決勝ヒート - レース結果（貼付）'!A4:$Z$50,MATCH($A15,'[1]【第9戦】決勝ヒート - レース結果（貼付）'!A4:$A$50,0),MATCH('【第9戦】決勝ヒート - レース暫定結果表'!B$11,'[1]【第9戦】決勝ヒート - レース結果（貼付）'!$1:$1,0)),"") -> 81 | E15: =IFERROR(INDEX('[1]【第9戦】決勝ヒート - レース結果（貼付）'!$A:$Z,MATCH($B15,'[1]【第9戦】決勝ヒート - レース結果（貼付）'!$B:$B,0),MATCH('【第9戦】決勝ヒート - レース暫定結果表'!E$11,'[1]【第9戦】決勝ヒート - レース結果（貼付）'!$1:$1,0)),"") -> 山田 杯利 | F15: =IFERROR(INDEX('[1]【第9戦】決勝ヒート - レース結果（貼付）'!$A:$Z,MATCH($B15,'[1]【第9戦】決勝ヒート - レース結果（貼付）'!$B:$B,0),MATCH('【第9戦】決勝ヒート - レース暫定結果表'!F$11,'[1]【第9戦】決勝ヒート - レース結果（貼付）'!$1:$1,0)),"") -> Drago CORSE/TM | G15: =IFERROR(INDEX('[1]【第9戦】決勝ヒート - レース結果（貼付）'!$A:$Z,MATCH($B15,'[1]【第9戦】決勝ヒート - レース結果（貼付）'!$B:$B,0),MATCH('【第9戦】決勝ヒート - レース暫定結果表'!G$11,'[1]【第9戦】決勝ヒート - レース結果（貼付）'!$1:$1,0)),"") -> DragoCorse | H15: =IFERROR(INDEX('[1]【第9戦】決勝ヒート - レース結果（貼付）'!$A:$Z,MATCH($B15,'[1]【第9戦】決勝ヒート - レース結果（貼付）'!$B:$B,0),MATCH('【第9戦】決勝ヒート - レース暫定結果表'!H$11,'[1]【第9戦】決勝ヒート - レース結果（貼付）'!$1:$1,0)),"") -> BS | I15: =IF(A15="DNS","",IF(A15="DQ","",IFERROR(INDEX('[1]【第9戦】決勝ヒート - レース結果（貼付）'!$A:$Z,MATCH($A15,'[1]【第9戦】決勝ヒート - レース結果（貼付）'!$A:$A,0),MATCH('【第9戦】決勝ヒート - レース暫定結果表'!I$11,'[1]【第9戦】決勝ヒート - レース結果（貼付）'!$1:$1,0)),""))) -> 24 | J15: =IF(A15="DNS","ｽﾀｰﾄ出来ず",IF(A15="DQ","失 格",IFERROR(INDEX('[1]【第9戦】決勝ヒート - レース結果（貼付）'!$A:$Z,MATCH($B15,'[1]【第9戦】決勝ヒート - レース結果（貼付）'!$B:$B,0),MATCH('【第9戦】決勝ヒート - レース暫定結果表'!J$11,'[1]【第9戦】決勝ヒート - レース結果（貼付）'!$1:$1,0)),""))) -> 0.012758808 | K15: =IF(A15="DNS","",IF(A15="DQ","",IFERROR(INDEX('[1]【第9戦】決勝ヒート - レース結果（貼付）'!$A:$Z,MATCH($A15,'[1]【第9戦】決勝ヒート - レース結果（貼付）'!$A:$A,0),MATCH('【第9戦】決勝ヒート - レース暫定結果表'!K$11,'[1]【第9戦】決勝ヒート - レース結果（貼付）'!$1:$1,0)),""))) -> 1.361 | L15: =IF(A15="DNS","",IF(A15="DQ","",IFERROR(INDEX('[1]【第9戦】決勝ヒート - レース結果（貼付）'!$A:$Z,MATCH($A15,'[1]【第9戦】決勝ヒート - レース結果（貼付）'!$A:$A,0),MATCH('【第9戦】決勝ヒート - レース暫定結果表'!L$11,'[1]【第9戦】決勝ヒート - レース結果（貼付）'!$1:$1,0)),""))) -> 0.571 | M15: =IF(A15="DNS","",IF(A15="DQ","",IFERROR(INDEX('[1]【第9戦】決勝ヒート - レース結果（貼付）'!$A:$Z,MATCH($B15,'[1]【第9戦】決勝ヒート - レース結果（貼付）'!$B:$B,0),MATCH('【第9戦】決勝ヒート - レース暫定結果表'!M$11,'[1]【第9戦】決勝ヒート - レース結果（貼付）'!$1:$1,0)),""))) -> 45.321 | N15: =IF(M15<1,"",IF($N$11>M15,"R","")) | Q15: =IF(IFERROR(INDEX('[1]【第9戦】決勝ヒート - レース結果（貼付）'!$A:$Z,MATCH($B15,'[1]【第9戦】決勝ヒート - レース結果（貼付）'!$B:$B,0),MATCH('【第9戦】決勝ヒート - レース暫定結果表'!Q$11,'[1]【第9戦】決勝ヒート - レース結果（貼付）'!$1:$1,0)),"")=0,"",IFERROR(INDEX('[1]【第9戦】決勝ヒート - レース結果（貼付）'!$A:$Z,MATCH($B15,'[1]【第9戦】決勝ヒート - レース結果（貼付）'!$B:$B,0),MATCH('【第9戦】決勝ヒート - レース暫定結果表'!Q$11,'[1]【第9戦】決勝ヒート - レース結果（貼付）'!$1:$1,0)),"")) | R15: =IF(Q15="","",COUNTIF($Q$13:Q15,"<>"&"")) | S15: =IFERROR(RANK(R15,$R$13:$R$47,1),"") | T15: =IF(IFERROR(INDEX('[1]【第9戦】決勝ヒート - レース結果（貼付）'!$A:$Z,MATCH($A15,'[1]【第9戦】決勝ヒート - レース結果（貼付）'!$A:$A,0),MATCH('【第9戦】決勝ヒート - レース暫定結果表'!T$11,'[1]【第9戦】決勝ヒート - レース結果（貼付）'!$1:$1,0)),"")=0,"",IFERROR(INDEX('[1]【第9戦】決勝ヒート - レース結果（貼付）'!$A:$Z,MATCH($A15,'[1]【第9戦】決勝ヒート - レース結果（貼付）'!$A:$A,0),MATCH('【第9戦】決勝ヒート - レース暫定結果表'!T$11,'[1]【第9戦】決勝ヒート - レース結果（貼付）'!$1:$1,0)),"")) | U15: =IF(IFERROR(INDEX('[1]【第9戦】決勝ヒート - レース結果（貼付）'!$A:$Z,MATCH($B15,'[1]【第9戦】決勝ヒート - レース結果（貼付）'!$B:$B,0),MATCH('[1]【第9戦】決勝ヒート - レース正式結果表（印刷）'!U$11,'[1]【第9戦】決勝ヒート - レース結果（貼付）'!$1:$1,0)),"")=0,"",IFERROR(INDEX('[1]【第9戦】決勝ヒート - レース結果（貼付）'!$A:$Z,MATCH($B15,'[1]【第9戦】決勝ヒート - レース結果（貼付）'!$B:$B,0),MATCH('[1]【第9戦】決勝ヒート - レース正式結果表（印刷）'!U$11,'[1]【第9戦】決勝ヒート - レース結果（貼付）'!$1:$1,0)),"")) -> 100.515
A16: =IF(OR('[1]【第9戦】決勝ヒート - レース結果（貼付）'!A5="DNF",'[1]【第9戦】決勝ヒート - レース結果（貼付）'!A5="DNS",'[1]【第9戦】決勝ヒート - レース結果（貼付）'!A5="DQ"),'[1]【第9戦】決勝ヒート - レース結果（貼付）'!A5,IF(MAX('[1]【第9戦】決勝ヒート - レース結果（貼付）'!A:A)>A15,A15+1,"")) -> 4 | B16: =IFERROR(INDEX('[1]【第9戦】決勝ヒート - レース結果（貼付）'!A5:$Z$50,MATCH($A16,'[1]【第9戦】決勝ヒート - レース結果（貼付）'!A5:$A$50,0),MATCH('【第9戦】決勝ヒート - レース暫定結果表'!B$11,'[1]【第9戦】決勝ヒート - レース結果（貼付）'!$1:$1,0)),"") -> 29 | E16: =IFERROR(INDEX('[1]【第9戦】決勝ヒート - レース結果（貼付）'!$A:$Z,MATCH($B16,'[1]【第9戦】決勝ヒート - レース結果（貼付）'!$B:$B,0),MATCH('【第9戦】決勝ヒート - レース暫定結果表'!E$11,'[1]【第9戦】決勝ヒート - レース結果（貼付）'!$1:$1,0)),"") -> 三村 壮太郎 | F16: =IFERROR(INDEX('[1]【第9戦】決勝ヒート - レース結果（貼付）'!$A:$Z,MATCH($B16,'[1]【第9戦】決勝ヒート - レース結果（貼付）'!$B:$B,0),MATCH('【第9戦】決勝ヒート - レース暫定結果表'!F$11,'[1]【第9戦】決勝ヒート - レース結果（貼付）'!$1:$1,0)),"") -> Rosa Drago Corse/TM | G16: =IFERROR(INDEX('[1]【第9戦】決勝ヒート - レース結果（貼付）'!$A:$Z,MATCH($B16,'[1]【第9戦】決勝ヒート - レース結果（貼付）'!$B:$B,0),MATCH('【第9戦】決勝ヒート - レース暫定結果表'!G$11,'[1]【第9戦】決勝ヒート - レース結果（貼付）'!$1:$1,0)),"") -> RosaDragoCorse | H16: =IFERROR(INDEX('[1]【第9戦】決勝ヒート - レース結果（貼付）'!$A:$Z,MATCH($B16,'[1]【第9戦】決勝ヒート - レース結果（貼付）'!$B:$B,0),MATCH('【第9戦】決勝ヒート - レース暫定結果表'!H$11,'[1]【第9戦】決勝ヒート - レース結果（貼付）'!$1:$1,0)),"") -> BS | I16: =IF(A16="DNS","",IF(A16="DQ","",IFERROR(INDEX('[1]【第9戦】決勝ヒート - レース結果（貼付）'!$A:$Z,MATCH($A16,'[1]【第9戦】決勝ヒート - レース結果（貼付）'!$A:$A,0),MATCH('【第9戦】決勝ヒート - レース暫定結果表'!I$11,'[1]【第9戦】決勝ヒート - レース結果（貼付）'!$1:$1,0)),""))) -> 24 | J16: =IF(A16="DNS","ｽﾀｰﾄ出来ず",IF(A16="DQ","失 格",IFERROR(INDEX('[1]【第9戦】決勝ヒート - レース結果（貼付）'!$A:$Z,MATCH($B16,'[1]【第9戦】決勝ヒート - レース結果（貼付）'!$B:$B,0),MATCH('【第9戦】決勝ヒート - レース暫定結果表'!J$11,'[1]【第9戦】決勝ヒート - レース結果（貼付）'!$1:$1,0)),""))) -> 0.012759676 | K16: =IF(A16="DNS","",IF(A16="DQ","",IFERROR(INDEX('[1]【第9戦】決勝ヒート - レース結果（貼付）'!$A:$Z,MATCH($A16,'[1]【第9戦】決勝ヒート - レース結果（貼付）'!$A:$A,0),MATCH('【第9戦】決勝ヒート - レース暫定結果表'!K$11,'[1]【第9戦】決勝ヒート - レース結果（貼付）'!$1:$1,0)),""))) -> 1.436 | L16: =IF(A16="DNS","",IF(A16="DQ","",IFERROR(INDEX('[1]【第9戦】決勝ヒート - レース結果（貼付）'!$A:$Z,MATCH($A16,'[1]【第9戦】決勝ヒート - レース結果（貼付）'!$A:$A,0),MATCH('【第9戦】決勝ヒート - レース暫定結果表'!L$11,'[1]【第9戦】決勝ヒート - レース結果（貼付）'!$1:$1,0)),""))) -> 0.075 | M16: =IF(A16="DNS","",IF(A16="DQ","",IFERROR(INDEX('[1]【第9戦】決勝ヒート - レース結果（貼付）'!$A:$Z,MATCH($B16,'[1]【第9戦】決勝ヒート - レース結果（貼付）'!$B:$B,0),MATCH('【第9戦】決勝ヒート - レース暫定結果表'!M$11,'[1]【第9戦】決勝ヒート - レース結果（貼付）'!$1:$1,0)),""))) -> 45.419 | N16: =IF(M16<1,"",IF($N$11>M16,"R","")) | Q16: =IF(IFERROR(INDEX('[1]【第9戦】決勝ヒート - レース結果（貼付）'!$A:$Z,MATCH($B16,'[1]【第9戦】決勝ヒート - レース結果（貼付）'!$B:$B,0),MATCH('【第9戦】決勝ヒート - レース暫定結果表'!Q$11,'[1]【第9戦】決勝ヒート - レース結果（貼付）'!$1:$1,0)),"")=0,"",IFERROR(INDEX('[1]【第9戦】決勝ヒート - レース結果（貼付）'!$A:$Z,MATCH($B16,'[1]【第9戦】決勝ヒート - レース結果（貼付）'!$B:$B,0),MATCH('【第9戦】決勝ヒート - レース暫定結果表'!Q$11,'[1]【第9戦】決勝ヒート - レース結果（貼付）'!$1:$1,0)),"")) | R16: =IF(Q16="","",COUNTIF($Q$13:Q16,"<>"&"")) | S16: =IFERROR(RANK(R16,$R$13:$R$47,1),"") | T16: =IF(IFERROR(INDEX('[1]【第9戦】決勝ヒート - レース結果（貼付）'!$A:$Z,MATCH($A16,'[1]【第9戦】決勝ヒート - レース結果（貼付）'!$A:$A,0),MATCH('【第9戦】決勝ヒート - レース暫定結果表'!T$11,'[1]【第9戦】決勝ヒート - レース結果（貼付）'!$1:$1,0)),"")=0,"",IFERROR(INDEX('[1]【第9戦】決勝ヒート - レース結果（貼付）'!$A:$Z,MATCH($A16,'[1]【第9戦】決勝ヒート - レース結果（貼付）'!$A:$A,0),MATCH('【第9戦】決勝ヒート - レース暫定結果表'!T$11,'[1]【第9戦】決勝ヒート - レース結果（貼付）'!$1:$1,0)),"")) | U16: =IF(IFERROR(INDEX('[1]【第9戦】決勝ヒート - レース結果（貼付）'!$A:$Z,MATCH($B16,'[1]【第9戦】決勝ヒート - レース結果（貼付）'!$B:$B,0),MATCH('[1]【第9戦】決勝ヒート - レース正式結果表（印刷）'!U$11,'[1]【第9戦】決勝ヒート - レース結果（貼付）'!$1:$1,0)),"")=0,"",IFERROR(INDEX('[1]【第9戦】決勝ヒート - レース結果（貼付）'!$A:$Z,MATCH($B16,'[1]【第9戦】決勝ヒート - レース結果（貼付）'!$B:$B,0),MATCH('[1]【第9戦】決勝ヒート - レース正式結果表（印刷）'!U$11,'[1]【第9戦】決勝ヒート - レース結果（貼付）'!$1:$1,0)),"")) -> 100.39
A17: =IF(OR('[1]【第9戦】決勝ヒート - レース結果（貼付）'!A6="DNF",'[1]【第9戦】決勝ヒート - レース結果（貼付）'!A6="DNS",'[1]【第9戦】決勝ヒート - レース結果（貼付）'!A6="DQ"),'[1]【第9戦】決勝ヒート - レース結果（貼付）'!A6,IF(MAX('[1]【第9戦】決勝ヒート - レース結果（貼付）'!A:A)>A16,A16+1,"")) -> 5 | B17: =IFERROR(INDEX('[1]【第9戦】決勝ヒート - レース結果（貼付）'!A6:$Z$50,MATCH($A17,'[1]【第9戦】決勝ヒート - レース結果（貼付）'!A6:$A$50,0),MATCH('【第9戦】決勝ヒート - レース暫定結果表'!B$11,'[1]【第9戦】決勝ヒート - レース結果（貼付）'!$1:$1,0)),"") -> 18 | E17: =IFERROR(INDEX('[1]【第9戦】決勝ヒート - レース結果（貼付）'!$A:$Z,MATCH($B17,'[1]【第9戦】決勝ヒート - レース結果（貼付）'!$B:$B,0),MATCH('【第9戦】決勝ヒート - レース暫定結果表'!E$11,'[1]【第9戦】決勝ヒート - レース結果（貼付）'!$1:$1,0)),"") -> 野澤 勇翔 | F17: =IFERROR(INDEX('[1]【第9戦】決勝ヒート - レース結果（貼付）'!$A:$Z,MATCH($B17,'[1]【第9戦】決勝ヒート - レース結果（貼付）'!$B:$B,0),MATCH('【第9戦】決勝ヒート - レース暫定結果表'!F$11,'[1]【第9戦】決勝ヒート - レース結果（貼付）'!$1:$1,0)),"") -> Birel ART/IAME | G17: =IFERROR(INDEX('[1]【第9戦】決勝ヒート - レース結果（貼付）'!$A:$Z,MATCH($B17,'[1]【第9戦】決勝ヒート - レース結果（貼付）'!$B:$B,0),MATCH('【第9戦】決勝ヒート - レース暫定結果表'!G$11,'[1]【第9戦】決勝ヒート - レース結果（貼付）'!$1:$1,0)),"") -> bbR.チームエッフェガーラ | H17: =IFERROR(INDEX('[1]【第9戦】決勝ヒート - レース結果（貼付）'!$A:$Z,MATCH($B17,'[1]【第9戦】決勝ヒート - レース結果（貼付）'!$B:$B,0),MATCH('【第9戦】決勝ヒート - レース暫定結果表'!H$11,'[1]【第9戦】決勝ヒート - レース結果（貼付）'!$1:$1,0)),"") -> BS | I17: =IF(A17="DNS","",IF(A17="DQ","",IFERROR(INDEX('[1]【第9戦】決勝ヒート - レース結果（貼付）'!$A:$Z,MATCH($A17,'[1]【第9戦】決勝ヒート - レース結果（貼付）'!$A:$A,0),MATCH('【第9戦】決勝ヒート - レース暫定結果表'!I$11,'[1]【第9戦】決勝ヒート - レース結果（貼付）'!$1:$1,0)),""))) -> 24 | J17: =IF(A17="DNS","ｽﾀｰﾄ出来ず",IF(A17="DQ","失 格",IFERROR(INDEX('[1]【第9戦】決勝ヒート - レース結果（貼付）'!$A:$Z,MATCH($B17,'[1]【第9戦】決勝ヒート - レース結果（貼付）'!$B:$B,0),MATCH('【第9戦】決勝ヒート - レース暫定結果表'!J$11,'[1]【第9戦】決勝ヒート - レース結果（貼付）'!$1:$1,0)),""))) -> 0.012760347 | K17: =IF(A17="DNS","",IF(A17="DQ","",IFERROR(INDEX('[1]【第9戦】決勝ヒート - レース結果（貼付）'!$A:$Z,MATCH($A17,'[1]【第9戦】決勝ヒート - レース結果（貼付）'!$A:$A,0),MATCH('【第9戦】決勝ヒート - レース暫定結果表'!K$11,'[1]【第9戦】決勝ヒート - レース結果（貼付）'!$1:$1,0)),""))) -> 1.494 | L17: =IF(A17="DNS","",IF(A17="DQ","",IFERROR(INDEX('[1]【第9戦】決勝ヒート - レース結果（貼付）'!$A:$Z,MATCH($A17,'[1]【第9戦】決勝ヒート - レース結果（貼付）'!$A:$A,0),MATCH('【第9戦】決勝ヒート - レース暫定結果表'!L$11,'[1]【第9戦】決勝ヒート - レース結果（貼付）'!$1:$1,0)),""))) -> 0.058 | M17: =IF(A17="DNS","",IF(A17="DQ","",IFERROR(INDEX('[1]【第9戦】決勝ヒート - レース結果（貼付）'!$A:$Z,MATCH($B17,'[1]【第9戦】決勝ヒート - レース結果（貼付）'!$B:$B,0),MATCH('【第9戦】決勝ヒート - レース暫定結果表'!M$11,'[1]【第9戦】決勝ヒート - レース結果（貼付）'!$1:$1,0)),""))) -> 45.352 | N17: =IF(M17<1,"",IF($N$11>M17,"R","")) | Q17: =IF(IFERROR(INDEX('[1]【第9戦】決勝ヒート - レース結果（貼付）'!$A:$Z,MATCH($B17,'[1]【第9戦】決勝ヒート - レース結果（貼付）'!$B:$B,0),MATCH('【第9戦】決勝ヒート - レース暫定結果表'!Q$11,'[1]【第9戦】決勝ヒート - レース結果（貼付）'!$1:$1,0)),"")=0,"",IFERROR(INDEX('[1]【第9戦】決勝ヒート - レース結果（貼付）'!$A:$Z,MATCH($B17,'[1]【第9戦】決勝ヒート - レース結果（貼付）'!$B:$B,0),MATCH('【第9戦】決勝ヒート - レース暫定結果表'!Q$11,'[1]【第9戦】決勝ヒート - レース結果（貼付）'!$1:$1,0)),"")) | R17: =IF(Q17="","",COUNTIF($Q$13:Q17,"<>"&"")) | S17: =IFERROR(RANK(R17,$R$13:$R$47,1),"") | T17: =IF(IFERROR(INDEX('[1]【第9戦】決勝ヒート - レース結果（貼付）'!$A:$Z,MATCH($A17,'[1]【第9戦】決勝ヒート - レース結果（貼付）'!$A:$A,0),MATCH('【第9戦】決勝ヒート - レース暫定結果表'!T$11,'[1]【第9戦】決勝ヒート - レース結果（貼付）'!$1:$1,0)),"")=0,"",IFERROR(INDEX('[1]【第9戦】決勝ヒート - レース結果（貼付）'!$A:$Z,MATCH($A17,'[1]【第9戦】決勝ヒート - レース結果（貼付）'!$A:$A,0),MATCH('【第9戦】決勝ヒート - レース暫定結果表'!T$11,'[1]【第9戦】決勝ヒート - レース結果（貼付）'!$1:$1,0)),"")) | U17: =IF(IFERROR(INDEX('[1]【第9戦】決勝ヒート - レース結果（貼付）'!$A:$Z,MATCH($B17,'[1]【第9戦】決勝ヒート - レース結果（貼付）'!$B:$B,0),MATCH('[1]【第9戦】決勝ヒート - レース正式結果表（印刷）'!U$11,'[1]【第9戦】決勝ヒート - レース結果（貼付）'!$1:$1,0)),"")=0,"",IFERROR(INDEX('[1]【第9戦】決勝ヒート - レース結果（貼付）'!$A:$Z,MATCH($B17,'[1]【第9戦】決勝ヒート - レース結果（貼付）'!$B:$B,0),MATCH('[1]【第9戦】決勝ヒート - レース正式結果表（印刷）'!U$11,'[1]【第9戦】決勝ヒート - レース結果（貼付）'!$1:$1,0)),"")) -> 100.404
A18: =IF(OR('[1]【第9戦】決勝ヒート - レース結果（貼付）'!A7="DNF",'[1]【第9戦】決勝ヒート - レース結果（貼付）'!A7="DNS",'[1]【第9戦】決勝ヒート - レース結果（貼付）'!A7="DQ"),'[1]【第9戦】決勝ヒート - レース結果（貼付）'!A7,IF(MAX('[1]【第9戦】決勝ヒート - レース結果（貼付）'!A:A)>A17,A17+1,"")) -> 6 | B18: =IFERROR(INDEX('[1]【第9戦】決勝ヒート - レース結果（貼付）'!A7:$Z$50,MATCH($A18,'[1]【第9戦】決勝ヒート - レース結果（貼付）'!A7:$A$50,0),MATCH('【第9戦】決勝ヒート - レース暫定結果表'!B$11,'[1]【第9戦】決勝ヒート - レース結果（貼付）'!$1:$1,0)),"") -> 1 | E18: =IFERROR(INDEX('[1]【第9戦】決勝ヒート - レース結果（貼付）'!$A:$Z,MATCH($B18,'[1]【第9戦】決勝ヒート - レース結果（貼付）'!$B:$B,0),MATCH('【第9戦】決勝ヒート - レース暫定結果表'!E$11,'[1]【第9戦】決勝ヒート - レース結果（貼付）'!$1:$1,0)),"") -> 佐々木 大樹 | F18: =IFERROR(INDEX('[1]【第9戦】決勝ヒート - レース結果（貼付）'!$A:$Z,MATCH($B18,'[1]【第9戦】決勝ヒート - レース結果（貼付）'!$B:$B,0),MATCH('【第9戦】決勝ヒート - レース暫定結果表'!F$11,'[1]【第9戦】決勝ヒート - レース結果（貼付）'!$1:$1,0)),"") -> TONY KART/VORTEX | G18: =IFERROR(INDEX('[1]【第9戦】決勝ヒート - レース結果（貼付）'!$A:$Z,MATCH($B18,'[1]【第9戦】決勝ヒート - レース結果（貼付）'!$B:$B,0),MATCH('【第9戦】決勝ヒート - レース暫定結果表'!G$11,'[1]【第9戦】決勝ヒート - レース結果（貼付）'!$1:$1,0)),"") -> TONYKART RACING TEAM JAPAN | H18: =IFERROR(INDEX('[1]【第9戦】決勝ヒート - レース結果（貼付）'!$A:$Z,MATCH($B18,'[1]【第9戦】決勝ヒート - レース結果（貼付）'!$B:$B,0),MATCH('【第9戦】決勝ヒート - レース暫定結果表'!H$11,'[1]【第9戦】決勝ヒート - レース結果（貼付）'!$1:$1,0)),"") -> BS | I18: =IF(A18="DNS","",IF(A18="DQ","",IFERROR(INDEX('[1]【第9戦】決勝ヒート - レース結果（貼付）'!$A:$Z,MATCH($A18,'[1]【第9戦】決勝ヒート - レース結果（貼付）'!$A:$A,0),MATCH('【第9戦】決勝ヒート - レース暫定結果表'!I$11,'[1]【第9戦】決勝ヒート - レース結果（貼付）'!$1:$1,0)),""))) -> 24 | J18: =IF(A18="DNS","ｽﾀｰﾄ出来ず",IF(A18="DQ","失 格",IFERROR(INDEX('[1]【第9戦】決勝ヒート - レース結果（貼付）'!$A:$Z,MATCH($B18,'[1]【第9戦】決勝ヒート - レース結果（貼付）'!$B:$B,0),MATCH('【第9戦】決勝ヒート - レース暫定結果表'!J$11,'[1]【第9戦】決勝ヒート - レース結果（貼付）'!$1:$1,0)),""))) -> 0.012763565 | K18: =IF(A18="DNS","",IF(A18="DQ","",IFERROR(INDEX('[1]【第9戦】決勝ヒート - レース結果（貼付）'!$A:$Z,MATCH($A18,'[1]【第9戦】決勝ヒート - レース結果（貼付）'!$A:$A,0),MATCH('【第9戦】決勝ヒート - レース暫定結果表'!K$11,'[1]【第9戦】決勝ヒート - レース結果（貼付）'!$1:$1,0)),""))) -> 1.772 | L18: =IF(A18="DNS","",IF(A18="DQ","",IFERROR(INDEX('[1]【第9戦】決勝ヒート - レース結果（貼付）'!$A:$Z,MATCH($A18,'[1]【第9戦】決勝ヒート - レース結果（貼付）'!$A:$A,0),MATCH('【第9戦】決勝ヒート - レース暫定結果表'!L$11,'[1]【第9戦】決勝ヒート - レース結果（貼付）'!$1:$1,0)),""))) -> 0.278 | M18: =IF(A18="DNS","",IF(A18="DQ","",IFERROR(INDEX('[1]【第9戦】決勝ヒート - レース結果（貼付）'!$A:$Z,MATCH($B18,'[1]【第9戦】決勝ヒート - レース結果（貼付）'!$B:$B,0),MATCH('【第9戦】決勝ヒート - レース暫定結果表'!M$11,'[1]【第9戦】決勝ヒート - レース結果（貼付）'!$1:$1,0)),""))) -> 45.389 | N18: =IF(M18<1,"",IF($N$11>M18,"R","")) | Q18: =IF(IFERROR(INDEX('[1]【第9戦】決勝ヒート - レース結果（貼付）'!$A:$Z,MATCH($B18,'[1]【第9戦】決勝ヒート - レース結果（貼付）'!$B:$B,0),MATCH('【第9戦】決勝ヒート - レース暫定結果表'!Q$11,'[1]【第9戦】決勝ヒート - レース結果（貼付）'!$1:$1,0)),"")=0,"",IFERROR(INDEX('[1]【第9戦】決勝ヒート - レース結果（貼付）'!$A:$Z,MATCH($B18,'[1]【第9戦】決勝ヒート - レース結果（貼付）'!$B:$B,0),MATCH('【第9戦】決勝ヒート - レース暫定結果表'!Q$11,'[1]【第9戦】決勝ヒート - レース結果（貼付）'!$1:$1,0)),"")) | R18: =IF(Q18="","",COUNTIF($Q$13:Q18,"<>"&"")) | S18: =IFERROR(RANK(R18,$R$13:$R$47,1),"") | T18: =IF(IFERROR(INDEX('[1]【第9戦】決勝ヒート - レース結果（貼付）'!$A:$Z,MATCH($A18,'[1]【第9戦】決勝ヒート - レース結果（貼付）'!$A:$A,0),MATCH('【第9戦】決勝ヒート - レース暫定結果表'!T$11,'[1]【第9戦】決勝ヒート - レース結果（貼付）'!$1:$1,0)),"")=0,"",IFERROR(INDEX('[1]【第9戦】決勝ヒート - レース結果（貼付）'!$A:$Z,MATCH($A18,'[1]【第9戦】決勝ヒート - レース結果（貼付）'!$A:$A,0),MATCH('【第9戦】決勝ヒート - レース暫定結果表'!T$11,'[1]【第9戦】決勝ヒート - レース結果（貼付）'!$1:$1,0)),"")) | U18: =IF(IFERROR(INDEX('[1]【第9戦】決勝ヒート - レース結果（貼付）'!$A:$Z,MATCH($B18,'[1]【第9戦】決勝ヒート - レース結果（貼付）'!$B:$B,0),MATCH('[1]【第9戦】決勝ヒート - レース正式結果表（印刷）'!U$11,'[1]【第9戦】決勝ヒート - レース結果（貼付）'!$1:$1,0)),"")=0,"",IFERROR(INDEX('[1]【第9戦】決勝ヒート - レース結果（貼付）'!$A:$Z,MATCH($B18,'[1]【第9戦】決勝ヒート - レース結果（貼付）'!$B:$B,0),MATCH('[1]【第9戦】決勝ヒート - レース正式結果表（印刷）'!U$11,'[1]【第9戦】決勝ヒート - レース結果（貼付）'!$1:$1,0)),"")) -> 100.187
A19: =IF(OR('[1]【第9戦】決勝ヒート - レース結果（貼付）'!A8="DNF",'[1]【第9戦】決勝ヒート - レース結果（貼付）'!A8="DNS",'[1]【第9戦】決勝ヒート - レース結果（貼付）'!A8="DQ"),'[1]【第9戦】決勝ヒート - レース結果（貼付）'!A8,IF(MAX('[1]【第9戦】決勝ヒート - レース結果（貼付）'!A:A)>A18,A18+1,"")) -> 7 | B19: =IFERROR(INDEX('[1]【第9戦】決勝ヒート - レース結果（貼付）'!A8:$Z$50,MATCH($A19,'[1]【第9戦】決勝ヒート - レース結果（貼付）'!A8:$A$50,0),MATCH('【第9戦】決勝ヒート - レース暫定結果表'!B$11,'[1]【第9戦】決勝ヒート - レース結果（貼付）'!$1:$1,0)),"") -> 13 | E19: =IFERROR(INDEX('[1]【第9戦】決勝ヒート - レース結果（貼付）'!$A:$Z,MATCH($B19,'[1]【第9戦】決勝ヒート - レース結果（貼付）'!$B:$B,0),MATCH('【第9戦】決勝ヒート - レース暫定結果表'!E$11,'[1]【第9戦】決勝ヒート - レース結果（貼付）'!$1:$1,0)),"") -> 梅垣 清 | F19: =IFERROR(INDEX('[1]【第9戦】決勝ヒート - レース結果（貼付）'!$A:$Z,MATCH($B19,'[1]【第9戦】決勝ヒート - レース結果（貼付）'!$B:$B,0),MATCH('【第9戦】決勝ヒート - レース暫定結果表'!F$11,'[1]【第9戦】決勝ヒート - レース結果（貼付）'!$1:$1,0)),"") -> Birel ART/IAME | G19: =IFERROR(INDEX('[1]【第9戦】決勝ヒート - レース結果（貼付）'!$A:$Z,MATCH($B19,'[1]【第9戦】決勝ヒート - レース結果（貼付）'!$B:$B,0),MATCH('【第9戦】決勝ヒート - レース暫定結果表'!G$11,'[1]【第9戦】決勝ヒート - レース結果（貼付）'!$1:$1,0)),"") -> BirelART Access Racing | H19: =IFERROR(INDEX('[1]【第9戦】決勝ヒート - レース結果（貼付）'!$A:$Z,MATCH($B19,'[1]【第9戦】決勝ヒート - レース結果（貼付）'!$B:$B,0),MATCH('【第9戦】決勝ヒート - レース暫定結果表'!H$11,'[1]【第9戦】決勝ヒート - レース結果（貼付）'!$1:$1,0)),"") -> BS | I19: =IF(A19="DNS","",IF(A19="DQ","",IFERROR(INDEX('[1]【第9戦】決勝ヒート - レース結果（貼付）'!$A:$Z,MATCH($A19,'[1]【第9戦】決勝ヒート - レース結果（貼付）'!$A:$A,0),MATCH('【第9戦】決勝ヒート - レース暫定結果表'!I$11,'[1]【第9戦】決勝ヒート - レース結果（貼付）'!$1:$1,0)),""))) -> 24 | J19: =IF(A19="DNS","ｽﾀｰﾄ出来ず",IF(A19="DQ","失 格",IFERROR(INDEX('[1]【第9戦】決勝ヒート - レース結果（貼付）'!$A:$Z,MATCH($B19,'[1]【第9戦】決勝ヒート - レース結果（貼付）'!$B:$B,0),MATCH('【第9戦】決勝ヒート - レース暫定結果表'!J$11,'[1]【第9戦】決勝ヒート - レース結果（貼付）'!$1:$1,0)),""))) -> 0.012777164 | K19: =IF(A19="DNS","",IF(A19="DQ","",IFERROR(INDEX('[1]【第9戦】決勝ヒート - レース結果（貼付）'!$A:$Z,MATCH($A19,'[1]【第9戦】決勝ヒート - レース結果（貼付）'!$A:$A,0),MATCH('【第9戦】決勝ヒート - レース暫定結果表'!K$11,'[1]【第9戦】決勝ヒート - レース結果（貼付）'!$1:$1,0)),""))) -> 2.947 | L19: =IF(A19="DNS","",IF(A19="DQ","",IFERROR(INDEX('[1]【第9戦】決勝ヒート - レース結果（貼付）'!$A:$Z,MATCH($A19,'[1]【第9戦】決勝ヒート - レース結果（貼付）'!$A:$A,0),MATCH('【第9戦】決勝ヒート - レース暫定結果表'!L$11,'[1]【第9戦】決勝ヒート - レース結果（貼付）'!$1:$1,0)),""))) -> 1.175 | M19: =IF(A19="DNS","",IF(A19="DQ","",IFERROR(INDEX('[1]【第9戦】決勝ヒート - レース結果（貼付）'!$A:$Z,MATCH($B19,'[1]【第9戦】決勝ヒート - レース結果（貼付）'!$B:$B,0),MATCH('【第9戦】決勝ヒート - レース暫定結果表'!M$11,'[1]【第9戦】決勝ヒート - レース結果（貼付）'!$1:$1,0)),""))) -> 45.454 | N19: =IF(M19<1,"",IF($N$11>M19,"R","")) | Q19: =IF(IFERROR(INDEX('[1]【第9戦】決勝ヒート - レース結果（貼付）'!$A:$Z,MATCH($B19,'[1]【第9戦】決勝ヒート - レース結果（貼付）'!$B:$B,0),MATCH('【第9戦】決勝ヒート - レース暫定結果表'!Q$11,'[1]【第9戦】決勝ヒート - レース結果（貼付）'!$1:$1,0)),"")=0,"",IFERROR(INDEX('[1]【第9戦】決勝ヒート - レース結果（貼付）'!$A:$Z,MATCH($B19,'[1]【第9戦】決勝ヒート - レース結果（貼付）'!$B:$B,0),MATCH('【第9戦】決勝ヒート - レース暫定結果表'!Q$11,'[1]【第9戦】決勝ヒート - レース結果（貼付）'!$1:$1,0)),"")) | R19: =IF(Q19="","",COUNTIF($Q$13:Q19,"<>"&"")) | S19: =IFERROR(RANK(R19,$R$13:$R$47,1),"") | T19: =IF(IFERROR(INDEX('[1]【第9戦】決勝ヒート - レース結果（貼付）'!$A:$Z,MATCH($A19,'[1]【第9戦】決勝ヒート - レース結果（貼付）'!$A:$A,0),MATCH('【第9戦】決勝ヒート - レース暫定結果表'!T$11,'[1]【第9戦】決勝ヒート - レース結果（貼付）'!$1:$1,0)),"")=0,"",IFERROR(INDEX('[1]【第9戦】決勝ヒート - レース結果（貼付）'!$A:$Z,MATCH($A19,'[1]【第9戦】決勝ヒート - レース結果（貼付）'!$A:$A,0),MATCH('【第9戦】決勝ヒート - レース暫定結果表'!T$11,'[1]【第9戦】決勝ヒート - レース結果（貼付）'!$1:$1,0)),"")) | U19: =IF(IFERROR(INDEX('[1]【第9戦】決勝ヒート - レース結果（貼付）'!$A:$Z,MATCH($B19,'[1]【第9戦】決勝ヒート - レース結果（貼付）'!$B:$B,0),MATCH('[1]【第9戦】決勝ヒート - レース正式結果表（印刷）'!U$11,'[1]【第9戦】決勝ヒート - レース結果（貼付）'!$1:$1,0)),"")=0,"",IFERROR(INDEX('[1]【第9戦】決勝ヒート - レース結果（貼付）'!$A:$Z,MATCH($B19,'[1]【第9戦】決勝ヒート - レース結果（貼付）'!$B:$B,0),MATCH('[1]【第9戦】決勝ヒート - レース正式結果表（印刷）'!U$11,'[1]【第9戦】決勝ヒート - レース結果（貼付）'!$1:$1,0)),"")) -> 100.335
A20: =IF(OR('[1]【第9戦】決勝ヒート - レース結果（貼付）'!A9="DNF",'[1]【第9戦】決勝ヒート - レース結果（貼付）'!A9="DNS",'[1]【第9戦】決勝ヒート - レース結果（貼付）'!A9="DQ"),'[1]【第9戦】決勝ヒート - レース結果（貼付）'!A9,IF(MAX('[1]【第9戦】決勝ヒート - レース結果（貼付）'!A:A)>A19,A19+1,"")) -> 8 | B20: =IFERROR(INDEX('[1]【第9戦】決勝ヒート - レース結果（貼付）'!A9:$Z$50,MATCH($A20,'[1]【第9戦】決勝ヒート - レース結果（貼付）'!A9:$A$50,0),MATCH('【第9戦】決勝ヒート - レース暫定結果表'!B$11,'[1]【第9戦】決勝ヒート - レース結果（貼付）'!$1:$1,0)),"") -> 11 | E20: =IFERROR(INDEX('[1]【第9戦】決勝ヒート - レース結果（貼付）'!$A:$Z,MATCH($B20,'[1]【第9戦】決勝ヒート - レース結果（貼付）'!$B:$B,0),MATCH('【第9戦】決勝ヒート - レース暫定結果表'!E$11,'[1]【第9戦】決勝ヒート - レース結果（貼付）'!$1:$1,0)),"") -> 佐野 雄城 | F20: =IFERROR(INDEX('[1]【第9戦】決勝ヒート - レース結果（貼付）'!$A:$Z,MATCH($B20,'[1]【第9戦】決勝ヒート - レース結果（貼付）'!$B:$B,0),MATCH('【第9戦】決勝ヒート - レース暫定結果表'!F$11,'[1]【第9戦】決勝ヒート - レース結果（貼付）'!$1:$1,0)),"") -> Birel ART/IAME | G20: =IFERROR(INDEX('[1]【第9戦】決勝ヒート - レース結果（貼付）'!$A:$Z,MATCH($B20,'[1]【第9戦】決勝ヒート - レース結果（貼付）'!$B:$B,0),MATCH('【第9戦】決勝ヒート - レース暫定結果表'!G$11,'[1]【第9戦】決勝ヒート - レース結果（貼付）'!$1:$1,0)),"") -> BirelART Access Racing | H20: =IFERROR(INDEX('[1]【第9戦】決勝ヒート - レース結果（貼付）'!$A:$Z,MATCH($B20,'[1]【第9戦】決勝ヒート - レース結果（貼付）'!$B:$B,0),MATCH('【第9戦】決勝ヒート - レース暫定結果表'!H$11,'[1]【第9戦】決勝ヒート - レース結果（貼付）'!$1:$1,0)),"") -> BS | I20: =IF(A20="DNS","",IF(A20="DQ","",IFERROR(INDEX('[1]【第9戦】決勝ヒート - レース結果（貼付）'!$A:$Z,MATCH($A20,'[1]【第9戦】決勝ヒート - レース結果（貼付）'!$A:$A,0),MATCH('【第9戦】決勝ヒート - レース暫定結果表'!I$11,'[1]【第9戦】決勝ヒート - レース結果（貼付）'!$1:$1,0)),""))) -> 24 | J20: =IF(A20="DNS","ｽﾀｰﾄ出来ず",IF(A20="DQ","失 格",IFERROR(INDEX('[1]【第9戦】決勝ヒート - レース結果（貼付）'!$A:$Z,MATCH($B20,'[1]【第9戦】決勝ヒート - レース結果（貼付）'!$B:$B,0),MATCH('【第9戦】決勝ヒート - レース暫定結果表'!J$11,'[1]【第9戦】決勝ヒート - レース結果（貼付）'!$1:$1,0)),""))) -> 0.012792963 | K20: =IF(A20="DNS","",IF(A20="DQ","",IFERROR(INDEX('[1]【第9戦】決勝ヒート - レース結果（貼付）'!$A:$Z,MATCH($A20,'[1]【第9戦】決勝ヒート - レース結果（貼付）'!$A:$A,0),MATCH('【第9戦】決勝ヒート - レース暫定結果表'!K$11,'[1]【第9戦】決勝ヒート - レース結果（貼付）'!$1:$1,0)),""))) -> 4.312 | L20: =IF(A20="DNS","",IF(A20="DQ","",IFERROR(INDEX('[1]【第9戦】決勝ヒート - レース結果（貼付）'!$A:$Z,MATCH($A20,'[1]【第9戦】決勝ヒート - レース結果（貼付）'!$A:$A,0),MATCH('【第9戦】決勝ヒート - レース暫定結果表'!L$11,'[1]【第9戦】決勝ヒート - レース結果（貼付）'!$1:$1,0)),""))) -> 1.365 | M20: =IF(A20="DNS","",IF(A20="DQ","",IFERROR(INDEX('[1]【第9戦】決勝ヒート - レース結果（貼付）'!$A:$Z,MATCH($B20,'[1]【第9戦】決勝ヒート - レース結果（貼付）'!$B:$B,0),MATCH('【第9戦】決勝ヒート - レース暫定結果表'!M$11,'[1]【第9戦】決勝ヒート - レース結果（貼付）'!$1:$1,0)),""))) -> 45.541 | N20: =IF(M20<1,"",IF($N$11>M20,"R","")) | Q20: =IF(IFERROR(INDEX('[1]【第9戦】決勝ヒート - レース結果（貼付）'!$A:$Z,MATCH($B20,'[1]【第9戦】決勝ヒート - レース結果（貼付）'!$B:$B,0),MATCH('【第9戦】決勝ヒート - レース暫定結果表'!Q$11,'[1]【第9戦】決勝ヒート - レース結果（貼付）'!$1:$1,0)),"")=0,"",IFERROR(INDEX('[1]【第9戦】決勝ヒート - レース結果（貼付）'!$A:$Z,MATCH($B20,'[1]【第9戦】決勝ヒート - レース結果（貼付）'!$B:$B,0),MATCH('【第9戦】決勝ヒート - レース暫定結果表'!Q$11,'[1]【第9戦】決勝ヒート - レース結果（貼付）'!$1:$1,0)),"")) | R20: =IF(Q20="","",COUNTIF($Q$13:Q20,"<>"&"")) | S20: =IFERROR(RANK(R20,$R$13:$R$47,1),"") | T20: =IF(IFERROR(INDEX('[1]【第9戦】決勝ヒート - レース結果（貼付）'!$A:$Z,MATCH($A20,'[1]【第9戦】決勝ヒート - レース結果（貼付）'!$A:$A,0),MATCH('【第9戦】決勝ヒート - レース暫定結果表'!T$11,'[1]【第9戦】決勝ヒート - レース結果（貼付）'!$1:$1,0)),"")=0,"",IFERROR(INDEX('[1]【第9戦】決勝ヒート - レース結果（貼付）'!$A:$Z,MATCH($A20,'[1]【第9戦】決勝ヒート - レース結果（貼付）'!$A:$A,0),MATCH('【第9戦】決勝ヒート - レース暫定結果表'!T$11,'[1]【第9戦】決勝ヒート - レース結果（貼付）'!$1:$1,0)),"")) | U20: =IF(IFERROR(INDEX('[1]【第9戦】決勝ヒート - レース結果（貼付）'!$A:$Z,MATCH($B20,'[1]【第9戦】決勝ヒート - レース結果（貼付）'!$B:$B,0),MATCH('[1]【第9戦】決勝ヒート - レース正式結果表（印刷）'!U$11,'[1]【第9戦】決勝ヒート - レース結果（貼付）'!$1:$1,0)),"")=0,"",IFERROR(INDEX('[1]【第9戦】決勝ヒート - レース結果（貼付）'!$A:$Z,MATCH($B20,'[1]【第9戦】決勝ヒート - レース結果（貼付）'!$B:$B,0),MATCH('[1]【第9戦】決勝ヒート - レース正式結果表（印刷）'!U$11,'[1]【第9戦】決勝ヒート - レース結果（貼付）'!$1:$1,0)),"")) -> 100.253
A21: =IF(OR('[1]【第9戦】決勝ヒート - レース結果（貼付）'!A10="DNF",'[1]【第9戦】決勝ヒート - レース結果（貼付）'!A10="DNS",'[1]【第9戦】決勝ヒート - レース結果（貼付）'!A10="DQ"),'[1]【第9戦】決勝ヒート - レース結果（貼付）'!A10,IF(MAX('[1]【第9戦】決勝ヒート - レース結果（貼付）'!A:A)>A20,A20+1,"")) -> 9 | B21: =IFERROR(INDEX('[1]【第9戦】決勝ヒート - レース結果（貼付）'!A10:$Z$50,MATCH($A21,'[1]【第9戦】決勝ヒート - レース結果（貼付）'!A10:$A$50,0),MATCH('【第9戦】決勝ヒート - レース暫定結果表'!B$11,'[1]【第9戦】決勝ヒート - レース結果（貼付）'!$1:$1,0)),"") -> 44 | E21: =IFERROR(INDEX('[1]【第9戦】決勝ヒート - レース結果（貼付）'!$A:$Z,MATCH($B21,'[1]【第9戦】決勝ヒート - レース結果（貼付）'!$B:$B,0),MATCH('【第9戦】決勝ヒート - レース暫定結果表'!E$11,'[1]【第9戦】決勝ヒート - レース結果（貼付）'!$1:$1,0)),"") -> 佐藤 凌音 | F21: =IFERROR(INDEX('[1]【第9戦】決勝ヒート - レース結果（貼付）'!$A:$Z,MATCH($B21,'[1]【第9戦】決勝ヒート - レース結果（貼付）'!$B:$B,0),MATCH('【第9戦】決勝ヒート - レース暫定結果表'!F$11,'[1]【第9戦】決勝ヒート - レース結果（貼付）'!$1:$1,0)),"") -> LN KART/TM | G21: =IFERROR(INDEX('[1]【第9戦】決勝ヒート - レース結果（貼付）'!$A:$Z,MATCH($B21,'[1]【第9戦】決勝ヒート - レース結果（貼付）'!$B:$B,0),MATCH('【第9戦】決勝ヒート - レース暫定結果表'!G$11,'[1]【第9戦】決勝ヒート - レース結果（貼付）'!$1:$1,0)),"") -> TOKAIDENSO DSM | H21: =IFERROR(INDEX('[1]【第9戦】決勝ヒート - レース結果（貼付）'!$A:$Z,MATCH($B21,'[1]【第9戦】決勝ヒート - レース結果（貼付）'!$B:$B,0),MATCH('【第9戦】決勝ヒート - レース暫定結果表'!H$11,'[1]【第9戦】決勝ヒート - レース結果（貼付）'!$1:$1,0)),"") -> BS | I21: =IF(A21="DNS","",IF(A21="DQ","",IFERROR(INDEX('[1]【第9戦】決勝ヒート - レース結果（貼付）'!$A:$Z,MATCH($A21,'[1]【第9戦】決勝ヒート - レース結果（貼付）'!$A:$A,0),MATCH('【第9戦】決勝ヒート - レース暫定結果表'!I$11,'[1]【第9戦】決勝ヒート - レース結果（貼付）'!$1:$1,0)),""))) -> 24 | J21: =IF(A21="DNS","ｽﾀｰﾄ出来ず",IF(A21="DQ","失 格",IFERROR(INDEX('[1]【第9戦】決勝ヒート - レース結果（貼付）'!$A:$Z,MATCH($B21,'[1]【第9戦】決勝ヒート - レース結果（貼付）'!$B:$B,0),MATCH('【第9戦】決勝ヒート - レース暫定結果表'!J$11,'[1]【第9戦】決勝ヒート - レース結果（貼付）'!$1:$1,0)),""))) -> 0.012811597 | K21: =IF(A21="DNS","",IF(A21="DQ","",IFERROR(INDEX('[1]【第9戦】決勝ヒート - レース結果（貼付）'!$A:$Z,MATCH($A21,'[1]【第9戦】決勝ヒート - レース結果（貼付）'!$A:$A,0),MATCH('【第9戦】決勝ヒート - レース暫定結果表'!K$11,'[1]【第9戦】決勝ヒート - レース結果（貼付）'!$1:$1,0)),""))) -> 5.922 | L21: =IF(A21="DNS","",IF(A21="DQ","",IFERROR(INDEX('[1]【第9戦】決勝ヒート - レース結果（貼付）'!$A:$Z,MATCH($A21,'[1]【第9戦】決勝ヒート - レース結果（貼付）'!$A:$A,0),MATCH('【第9戦】決勝ヒート - レース暫定結果表'!L$11,'[1]【第9戦】決勝ヒート - レース結果（貼付）'!$1:$1,0)),""))) -> 1.61 | M21: =IF(A21="DNS","",IF(A21="DQ","",IFERROR(INDEX('[1]【第9戦】決勝ヒート - レース結果（貼付）'!$A:$Z,MATCH($B21,'[1]【第9戦】決勝ヒート - レース結果（貼付）'!$B:$B,0),MATCH('【第9戦】決勝ヒート - レース暫定結果表'!M$11,'[1]【第9戦】決勝ヒート - レース結果（貼付）'!$1:$1,0)),""))) -> 45.572 | N21: =IF(M21<1,"",IF($N$11>M21,"R","")) | Q21: =IF(IFERROR(INDEX('[1]【第9戦】決勝ヒート - レース結果（貼付）'!$A:$Z,MATCH($B21,'[1]【第9戦】決勝ヒート - レース結果（貼付）'!$B:$B,0),MATCH('【第9戦】決勝ヒート - レース暫定結果表'!Q$11,'[1]【第9戦】決勝ヒート - レース結果（貼付）'!$1:$1,0)),"")=0,"",IFERROR(INDEX('[1]【第9戦】決勝ヒート - レース結果（貼付）'!$A:$Z,MATCH($B21,'[1]【第9戦】決勝ヒート - レース結果（貼付）'!$B:$B,0),MATCH('【第9戦】決勝ヒート - レース暫定結果表'!Q$11,'[1]【第9戦】決勝ヒート - レース結果（貼付）'!$1:$1,0)),"")) | R21: =IF(Q21="","",COUNTIF($Q$13:Q21,"<>"&"")) | S21: =IFERROR(RANK(R21,$R$13:$R$47,1),"") | T21: =IF(IFERROR(INDEX('[1]【第9戦】決勝ヒート - レース結果（貼付）'!$A:$Z,MATCH($A21,'[1]【第9戦】決勝ヒート - レース結果（貼付）'!$A:$A,0),MATCH('【第9戦】決勝ヒート - レース暫定結果表'!T$11,'[1]【第9戦】決勝ヒート - レース結果（貼付）'!$1:$1,0)),"")=0,"",IFERROR(INDEX('[1]【第9戦】決勝ヒート - レース結果（貼付）'!$A:$Z,MATCH($A21,'[1]【第9戦】決勝ヒート - レース結果（貼付）'!$A:$A,0),MATCH('【第9戦】決勝ヒート - レース暫定結果表'!T$11,'[1]【第9戦】決勝ヒート - レース結果（貼付）'!$1:$1,0)),"")) | U21: =IF(IFERROR(INDEX('[1]【第9戦】決勝ヒート - レース結果（貼付）'!$A:$Z,MATCH($B21,'[1]【第9戦】決勝ヒート - レース結果（貼付）'!$B:$B,0),MATCH('[1]【第9戦】決勝ヒート - レース正式結果表（印刷）'!U$11,'[1]【第9戦】決勝ヒート - レース結果（貼付）'!$1:$1,0)),"")=0,"",IFERROR(INDEX('[1]【第9戦】決勝ヒート - レース結果（貼付）'!$A:$Z,MATCH($B21,'[1]【第9戦】決勝ヒート - レース結果（貼付）'!$B:$B,0),MATCH('[1]【第9戦】決勝ヒート - レース正式結果表（印刷）'!U$11,'[1]【第9戦】決勝ヒート - レース結果（貼付）'!$1:$1,0)),"")) -> 100.11
A22: =IF(OR('[1]【第9戦】決勝ヒート - レース結果（貼付）'!A11="DNF",'[1]【第9戦】決勝ヒート - レース結果（貼付）'!A11="DNS",'[1]【第9戦】決勝ヒート - レース結果（貼付）'!A11="DQ"),'[1]【第9戦】決勝ヒート - レース結果（貼付）'!A11,IF(MAX('[1]【第9戦】決勝ヒート - レース結果（貼付）'!A:A)>A21,A21+1,"")) -> 10 | B22: =IFERROR(INDEX('[1]【第9戦】決勝ヒート - レース結果（貼付）'!A11:$Z$50,MATCH($A22,'[1]【第9戦】決勝ヒート - レース結果（貼付）'!A11:$A$50,0),MATCH('【第9戦】決勝ヒート - レース暫定結果表'!B$11,'[1]【第9戦】決勝ヒート - レース結果（貼付）'!$1:$1,0)),"") -> 77 | E22: =IFERROR(INDEX('[1]【第9戦】決勝ヒート - レース結果（貼付）'!$A:$Z,MATCH($B22,'[1]【第9戦】決勝ヒート - レース結果（貼付）'!$B:$B,0),MATCH('【第9戦】決勝ヒート - レース暫定結果表'!E$11,'[1]【第9戦】決勝ヒート - レース結果（貼付）'!$1:$1,0)),"") -> 渡部 智仁 | F22: =IFERROR(INDEX('[1]【第9戦】決勝ヒート - レース結果（貼付）'!$A:$Z,MATCH($B22,'[1]【第9戦】決勝ヒート - レース結果（貼付）'!$B:$B,0),MATCH('【第9戦】決勝ヒート - レース暫定結果表'!F$11,'[1]【第9戦】決勝ヒート - レース結果（貼付）'!$1:$1,0)),"") -> Rosa Drago CORSE/TM | G22: =IFERROR(INDEX('[1]【第9戦】決勝ヒート - レース結果（貼付）'!$A:$Z,MATCH($B22,'[1]【第9戦】決勝ヒート - レース結果（貼付）'!$B:$B,0),MATCH('【第9戦】決勝ヒート - レース暫定結果表'!G$11,'[1]【第9戦】決勝ヒート - レース結果（貼付）'!$1:$1,0)),"") -> RosaDragoCORSE | H22: =IFERROR(INDEX('[1]【第9戦】決勝ヒート - レース結果（貼付）'!$A:$Z,MATCH($B22,'[1]【第9戦】決勝ヒート - レース結果（貼付）'!$B:$B,0),MATCH('【第9戦】決勝ヒート - レース暫定結果表'!H$11,'[1]【第9戦】決勝ヒート - レース結果（貼付）'!$1:$1,0)),"") -> BS | I22: =IF(A22="DNS","",IF(A22="DQ","",IFERROR(INDEX('[1]【第9戦】決勝ヒート - レース結果（貼付）'!$A:$Z,MATCH($A22,'[1]【第9戦】決勝ヒート - レース結果（貼付）'!$A:$A,0),MATCH('【第9戦】決勝ヒート - レース暫定結果表'!I$11,'[1]【第9戦】決勝ヒート - レース結果（貼付）'!$1:$1,0)),""))) -> 24 | J22: =IF(A22="DNS","ｽﾀｰﾄ出来ず",IF(A22="DQ","失 格",IFERROR(INDEX('[1]【第9戦】決勝ヒート - レース結果（貼付）'!$A:$Z,MATCH($B22,'[1]【第9戦】決勝ヒート - レース結果（貼付）'!$B:$B,0),MATCH('【第9戦】決勝ヒート - レース暫定結果表'!J$11,'[1]【第9戦】決勝ヒート - レース結果（貼付）'!$1:$1,0)),""))) -> 0.012812465 | K22: =IF(A22="DNS","",IF(A22="DQ","",IFERROR(INDEX('[1]【第9戦】決勝ヒート - レース結果（貼付）'!$A:$Z,MATCH($A22,'[1]【第9戦】決勝ヒート - レース結果（貼付）'!$A:$A,0),MATCH('【第9戦】決勝ヒート - レース暫定結果表'!K$11,'[1]【第9戦】決勝ヒート - レース結果（貼付）'!$1:$1,0)),""))) -> 5.997 | L22: =IF(A22="DNS","",IF(A22="DQ","",IFERROR(INDEX('[1]【第9戦】決勝ヒート - レース結果（貼付）'!$A:$Z,MATCH($A22,'[1]【第9戦】決勝ヒート - レース結果（貼付）'!$A:$A,0),MATCH('【第9戦】決勝ヒート - レース暫定結果表'!L$11,'[1]【第9戦】決勝ヒート - レース結果（貼付）'!$1:$1,0)),""))) -> 0.075 | M22: =IF(A22="DNS","",IF(A22="DQ","",IFERROR(INDEX('[1]【第9戦】決勝ヒート - レース結果（貼付）'!$A:$Z,MATCH($B22,'[1]【第9戦】決勝ヒート - レース結果（貼付）'!$B:$B,0),MATCH('【第9戦】決勝ヒート - レース暫定結果表'!M$11,'[1]【第9戦】決勝ヒート - レース結果（貼付）'!$1:$1,0)),""))) -> 45.327 | N22: =IF(M22<1,"",IF($N$11>M22,"R","")) | Q22: =IF(IFERROR(INDEX('[1]【第9戦】決勝ヒート - レース結果（貼付）'!$A:$Z,MATCH($B22,'[1]【第9戦】決勝ヒート - レース結果（貼付）'!$B:$B,0),MATCH('【第9戦】決勝ヒート - レース暫定結果表'!Q$11,'[1]【第9戦】決勝ヒート - レース結果（貼付）'!$1:$1,0)),"")=0,"",IFERROR(INDEX('[1]【第9戦】決勝ヒート - レース結果（貼付）'!$A:$Z,MATCH($B22,'[1]【第9戦】決勝ヒート - レース結果（貼付）'!$B:$B,0),MATCH('【第9戦】決勝ヒート - レース暫定結果表'!Q$11,'[1]【第9戦】決勝ヒート - レース結果（貼付）'!$1:$1,0)),"")) -> 全日本カート選手権統一規則書 第38条(25)(フロントフェアリングが正しい装着状態でない)により5秒加算した。 | R22: =IF(Q22="","",COUNTIF($Q$13:Q22,"<>"&"")) -> 10 | S22: =IFERROR(RANK(R22,$R$13:$R$47,1),"") -> 1 | T22: =IF(IFERROR(INDEX('[1]【第9戦】決勝ヒート - レース結果（貼付）'!$A:$Z,MATCH($A22,'[1]【第9戦】決勝ヒート - レース結果（貼付）'!$A:$A,0),MATCH('【第9戦】決勝ヒート - レース暫定結果表'!T$11,'[1]【第9戦】決勝ヒート - レース結果（貼付）'!$1:$1,0)),"")=0,"",IFERROR(INDEX('[1]【第9戦】決勝ヒート - レース結果（貼付）'!$A:$Z,MATCH($A22,'[1]【第9戦】決勝ヒート - レース結果（貼付）'!$A:$A,0),MATCH('【第9戦】決勝ヒート - レース暫定結果表'!T$11,'[1]【第9戦】決勝ヒート - レース結果（貼付）'!$1:$1,0)),"")) | U22: =IF(IFERROR(INDEX('[1]【第9戦】決勝ヒート - レース結果（貼付）'!$A:$Z,MATCH($B22,'[1]【第9戦】決勝ヒート - レース結果（貼付）'!$B:$B,0),MATCH('[1]【第9戦】決勝ヒート - レース正式結果表（印刷）'!U$11,'[1]【第9戦】決勝ヒート - レース結果（貼付）'!$1:$1,0)),"")=0,"",IFERROR(INDEX('[1]【第9戦】決勝ヒート - レース結果（貼付）'!$A:$Z,MATCH($B22,'[1]【第9戦】決勝ヒート - レース結果（貼付）'!$B:$B,0),MATCH('[1]【第9戦】決勝ヒート - レース正式結果表（印刷）'!U$11,'[1]【第9戦】決勝ヒート - レース結果（貼付）'!$1:$1,0)),"")) -> 99.919
A23: =IF(OR('[1]【第9戦】決勝ヒート - レース結果（貼付）'!A12="DNF",'[1]【第9戦】決勝ヒート - レース結果（貼付）'!A12="DNS",'[1]【第9戦】決勝ヒート - レース結果（貼付）'!A12="DQ"),'[1]【第9戦】決勝ヒート - レース結果（貼付）'!A12,IF(MAX('[1]【第9戦】決勝ヒート - レース結果（貼付）'!A:A)>A22,A22+1,"")) -> 11 | B23: =IFERROR(INDEX('[1]【第9戦】決勝ヒート - レース結果（貼付）'!A12:$Z$50,MATCH($A23,'[1]【第9戦】決勝ヒート - レース結果（貼付）'!A12:$A$50,0),MATCH('【第9戦】決勝ヒート - レース暫定結果表'!B$11,'[1]【第9戦】決勝ヒート - レース結果（貼付）'!$1:$1,0)),"") -> 22 | E23: =IFERROR(INDEX('[1]【第9戦】決勝ヒート - レース結果（貼付）'!$A:$Z,MATCH($B23,'[1]【第9戦】決勝ヒート - レース結果（貼付）'!$B:$B,0),MATCH('【第9戦】決勝ヒート - レース暫定結果表'!E$11,'[1]【第9戦】決勝ヒート - レース結果（貼付）'!$1:$1,0)),"") -> 金子 修 | F23: =IFERROR(INDEX('[1]【第9戦】決勝ヒート - レース結果（貼付）'!$A:$Z,MATCH($B23,'[1]【第9戦】決勝ヒート - レース結果（貼付）'!$B:$B,0),MATCH('【第9戦】決勝ヒート - レース暫定結果表'!F$11,'[1]【第9戦】決勝ヒート - レース結果（貼付）'!$1:$1,0)),"") -> TONY KART/VORTEX | G23: =IFERROR(INDEX('[1]【第9戦】決勝ヒート - レース結果（貼付）'!$A:$Z,MATCH($B23,'[1]【第9戦】決勝ヒート - レース結果（貼付）'!$B:$B,0),MATCH('【第9戦】決勝ヒート - レース暫定結果表'!G$11,'[1]【第9戦】決勝ヒート - レース結果（貼付）'!$1:$1,0)),"") -> TONYKART RACING TEAM JAPAN | H23: =IFERROR(INDEX('[1]【第9戦】決勝ヒート - レース結果（貼付）'!$A:$Z,MATCH($B23,'[1]【第9戦】決勝ヒート - レース結果（貼付）'!$B:$B,0),MATCH('【第9戦】決勝ヒート - レース暫定結果表'!H$11,'[1]【第9戦】決勝ヒート - レース結果（貼付）'!$1:$1,0)),"") -> BS | I23: =IF(A23="DNS","",IF(A23="DQ","",IFERROR(INDEX('[1]【第9戦】決勝ヒート - レース結果（貼付）'!$A:$Z,MATCH($A23,'[1]【第9戦】決勝ヒート - レース結果（貼付）'!$A:$A,0),MATCH('【第9戦】決勝ヒート - レース暫定結果表'!I$11,'[1]【第9戦】決勝ヒート - レース結果（貼付）'!$1:$1,0)),""))) -> 24 | J23: =IF(A23="DNS","ｽﾀｰﾄ出来ず",IF(A23="DQ","失 格",IFERROR(INDEX('[1]【第9戦】決勝ヒート - レース結果（貼付）'!$A:$Z,MATCH($B23,'[1]【第9戦】決勝ヒート - レース結果（貼付）'!$B:$B,0),MATCH('【第9戦】決勝ヒート - レース暫定結果表'!J$11,'[1]【第9戦】決勝ヒート - レース結果（貼付）'!$1:$1,0)),""))) -> 0.012816701 | K23: =IF(A23="DNS","",IF(A23="DQ","",IFERROR(INDEX('[1]【第9戦】決勝ヒート - レース結果（貼付）'!$A:$Z,MATCH($A23,'[1]【第9戦】決勝ヒート - レース結果（貼付）'!$A:$A,0),MATCH('【第9戦】決勝ヒート - レース暫定結果表'!K$11,'[1]【第9戦】決勝ヒート - レース結果（貼付）'!$1:$1,0)),""))) -> 6.363 | L23: =IF(A23="DNS","",IF(A23="DQ","",IFERROR(INDEX('[1]【第9戦】決勝ヒート - レース結果（貼付）'!$A:$Z,MATCH($A23,'[1]【第9戦】決勝ヒート - レース結果（貼付）'!$A:$A,0),MATCH('【第9戦】決勝ヒート - レース暫定結果表'!L$11,'[1]【第9戦】決勝ヒート - レース結果（貼付）'!$1:$1,0)),""))) -> 0.366 | M23: =IF(A23="DNS","",IF(A23="DQ","",IFERROR(INDEX('[1]【第9戦】決勝ヒート - レース結果（貼付）'!$A:$Z,MATCH($B23,'[1]【第9戦】決勝ヒート - レース結果（貼付）'!$B:$B,0),MATCH('【第9戦】決勝ヒート - レース暫定結果表'!M$11,'[1]【第9戦】決勝ヒート - レース結果（貼付）'!$1:$1,0)),""))) -> 45.406 | N23: =IF(M23<1,"",IF($N$11>M23,"R","")) | Q23: =IF(IFERROR(INDEX('[1]【第9戦】決勝ヒート - レース結果（貼付）'!$A:$Z,MATCH($B23,'[1]【第9戦】決勝ヒート - レース結果（貼付）'!$B:$B,0),MATCH('【第9戦】決勝ヒート - レース暫定結果表'!Q$11,'[1]【第9戦】決勝ヒート - レース結果（貼付）'!$1:$1,0)),"")=0,"",IFERROR(INDEX('[1]【第9戦】決勝ヒート - レース結果（貼付）'!$A:$Z,MATCH($B23,'[1]【第9戦】決勝ヒート - レース結果（貼付）'!$B:$B,0),MATCH('【第9戦】決勝ヒート - レース暫定結果表'!Q$11,'[1]【第9戦】決勝ヒート - レース結果（貼付）'!$1:$1,0)),"")) | R23: =IF(Q23="","",COUNTIF($Q$13:Q23,"<>"&"")) | S23: =IFERROR(RANK(R23,$R$13:$R$47,1),"") | T23: =IF(IFERROR(INDEX('[1]【第9戦】決勝ヒート - レース結果（貼付）'!$A:$Z,MATCH($A23,'[1]【第9戦】決勝ヒート - レース結果（貼付）'!$A:$A,0),MATCH('【第9戦】決勝ヒート - レース暫定結果表'!T$11,'[1]【第9戦】決勝ヒート - レース結果（貼付）'!$1:$1,0)),"")=0,"",IFERROR(INDEX('[1]【第9戦】決勝ヒート - レース結果（貼付）'!$A:$Z,MATCH($A23,'[1]【第9戦】決勝ヒート - レース結果（貼付）'!$A:$A,0),MATCH('【第9戦】決勝ヒート - レース暫定結果表'!T$11,'[1]【第9戦】決勝ヒート - レース結果（貼付）'!$1:$1,0)),"")) | U23: =IF(IFERROR(INDEX('[1]【第9戦】決勝ヒート - レース結果（貼付）'!$A:$Z,MATCH($B23,'[1]【第9戦】決勝ヒート - レース結果（貼付）'!$B:$B,0),MATCH('[1]【第9戦】決勝ヒート - レース正式結果表（印刷）'!U$11,'[1]【第9戦】決勝ヒート - レース結果（貼付）'!$1:$1,0)),"")=0,"",IFERROR(INDEX('[1]【第9戦】決勝ヒート - レース結果（貼付）'!$A:$Z,MATCH($B23,'[1]【第9戦】決勝ヒート - レース結果（貼付）'!$B:$B,0),MATCH('[1]【第9戦】決勝ヒート - レース正式結果表（印刷）'!U$11,'[1]【第9戦】決勝ヒート - レース結果（貼付）'!$1:$1,0)),"")) -> 99.851
A24: =IF(OR('[1]【第9戦】決勝ヒート - レース結果（貼付）'!A13="DNF",'[1]【第9戦】決勝ヒート - レース結果（貼付）'!A13="DNS",'[1]【第9戦】決勝ヒート - レース結果（貼付）'!A13="DQ"),'[1]【第9戦】決勝ヒート - レース結果（貼付）'!A13,IF(MAX('[1]【第9戦】決勝ヒート - レース結果（貼付）'!A:A)>A23,A23+1,"")) -> 12 | B24: =IFERROR(INDEX('[1]【第9戦】決勝ヒート - レース結果（貼付）'!A13:$Z$50,MATCH($A24,'[1]【第9戦】決勝ヒート - レース結果（貼付）'!A13:$A$50,0),MATCH('【第9戦】決勝ヒート - レース暫定結果表'!B$11,'[1]【第9戦】決勝ヒート - レース結果（貼付）'!$1:$1,0)),"") -> 69 | E24: =IFERROR(INDEX('[1]【第9戦】決勝ヒート - レース結果（貼付）'!$A:$Z,MATCH($B24,'[1]【第9戦】決勝ヒート - レース結果（貼付）'!$B:$B,0),MATCH('【第9戦】決勝ヒート - レース暫定結果表'!E$11,'[1]【第9戦】決勝ヒート - レース結果（貼付）'!$1:$1,0)),"") -> 半田 昌宗 | F24: =IFERROR(INDEX('[1]【第9戦】決勝ヒート - レース結果（貼付）'!$A:$Z,MATCH($B24,'[1]【第9戦】決勝ヒート - レース結果（貼付）'!$B:$B,0),MATCH('【第9戦】決勝ヒート - レース暫定結果表'!F$11,'[1]【第9戦】決勝ヒート - レース結果（貼付）'!$1:$1,0)),"") -> CRG/TM | G24: =IFERROR(INDEX('[1]【第9戦】決勝ヒート - レース結果（貼付）'!$A:$Z,MATCH($B24,'[1]【第9戦】決勝ヒート - レース結果（貼付）'!$B:$B,0),MATCH('【第9戦】決勝ヒート - レース暫定結果表'!G$11,'[1]【第9戦】決勝ヒート - レース結果（貼付）'!$1:$1,0)),"") -> TEAM WOLF | H24: =IFERROR(INDEX('[1]【第9戦】決勝ヒート - レース結果（貼付）'!$A:$Z,MATCH($B24,'[1]【第9戦】決勝ヒート - レース結果（貼付）'!$B:$B,0),MATCH('【第9戦】決勝ヒート - レース暫定結果表'!H$11,'[1]【第9戦】決勝ヒート - レース結果（貼付）'!$1:$1,0)),"") -> BS | I24: =IF(A24="DNS","",IF(A24="DQ","",IFERROR(INDEX('[1]【第9戦】決勝ヒート - レース結果（貼付）'!$A:$Z,MATCH($A24,'[1]【第9戦】決勝ヒート - レース結果（貼付）'!$A:$A,0),MATCH('【第9戦】決勝ヒート - レース暫定結果表'!I$11,'[1]【第9戦】決勝ヒート - レース結果（貼付）'!$1:$1,0)),""))) -> 24 | J24: =IF(A24="DNS","ｽﾀｰﾄ出来ず",IF(A24="DQ","失 格",IFERROR(INDEX('[1]【第9戦】決勝ヒート - レース結果（貼付）'!$A:$Z,MATCH($B24,'[1]【第9戦】決勝ヒート - レース結果（貼付）'!$B:$B,0),MATCH('【第9戦】決勝ヒート - レース暫定結果表'!J$11,'[1]【第9戦】決勝ヒート - レース結果（貼付）'!$1:$1,0)),""))) -> 0.012817662 | K24: =IF(A24="DNS","",IF(A24="DQ","",IFERROR(INDEX('[1]【第9戦】決勝ヒート - レース結果（貼付）'!$A:$Z,MATCH($A24,'[1]【第9戦】決勝ヒート - レース結果（貼付）'!$A:$A,0),MATCH('【第9戦】決勝ヒート - レース暫定結果表'!K$11,'[1]【第9戦】決勝ヒート - レース結果（貼付）'!$1:$1,0)),""))) -> 6.446 | L24: =IF(A24="DNS","",IF(A24="DQ","",IFERROR(INDEX('[1]【第9戦】決勝ヒート - レース結果（貼付）'!$A:$Z,MATCH($A24,'[1]【第9戦】決勝ヒート - レース結果（貼付）'!$A:$A,0),MATCH('【第9戦】決勝ヒート - レース暫定結果表'!L$11,'[1]【第9戦】決勝ヒート - レース結果（貼付）'!$1:$1,0)),""))) -> 0.083 | M24: =IF(A24="DNS","",IF(A24="DQ","",IFERROR(INDEX('[1]【第9戦】決勝ヒート - レース結果（貼付）'!$A:$Z,MATCH($B24,'[1]【第9戦】決勝ヒート - レース結果（貼付）'!$B:$B,0),MATCH('【第9戦】決勝ヒート - レース暫定結果表'!M$11,'[1]【第9戦】決勝ヒート - レース結果（貼付）'!$1:$1,0)),""))) -> 45.545 | N24: =IF(M24<1,"",IF($N$11>M24,"R","")) | Q24: =IF(IFERROR(INDEX('[1]【第9戦】決勝ヒート - レース結果（貼付）'!$A:$Z,MATCH($B24,'[1]【第9戦】決勝ヒート - レース結果（貼付）'!$B:$B,0),MATCH('【第9戦】決勝ヒート - レース暫定結果表'!Q$11,'[1]【第9戦】決勝ヒート - レース結果（貼付）'!$1:$1,0)),"")=0,"",IFERROR(INDEX('[1]【第9戦】決勝ヒート - レース結果（貼付）'!$A:$Z,MATCH($B24,'[1]【第9戦】決勝ヒート - レース結果（貼付）'!$B:$B,0),MATCH('【第9戦】決勝ヒート - レース暫定結果表'!Q$11,'[1]【第9戦】決勝ヒート - レース結果（貼付）'!$1:$1,0)),"")) | R24: =IF(Q24="","",COUNTIF($Q$13:Q24,"<>"&"")) | S24: =IFERROR(RANK(R24,$R$13:$R$47,1),"") | T24: =IF(IFERROR(INDEX('[1]【第9戦】決勝ヒート - レース結果（貼付）'!$A:$Z,MATCH($A24,'[1]【第9戦】決勝ヒート - レース結果（貼付）'!$A:$A,0),MATCH('【第9戦】決勝ヒート - レース暫定結果表'!T$11,'[1]【第9戦】決勝ヒート - レース結果（貼付）'!$1:$1,0)),"")=0,"",IFERROR(INDEX('[1]【第9戦】決勝ヒート - レース結果（貼付）'!$A:$Z,MATCH($A24,'[1]【第9戦】決勝ヒート - レース結果（貼付）'!$A:$A,0),MATCH('【第9戦】決勝ヒート - レース暫定結果表'!T$11,'[1]【第9戦】決勝ヒート - レース結果（貼付）'!$1:$1,0)),"")) | U24: =IF(IFERROR(INDEX('[1]【第9戦】決勝ヒート - レース結果（貼付）'!$A:$Z,MATCH($B24,'[1]【第9戦】決勝ヒート - レース結果（貼付）'!$B:$B,0),MATCH('[1]【第9戦】決勝ヒート - レース正式結果表（印刷）'!U$11,'[1]【第9戦】決勝ヒート - レース結果（貼付）'!$1:$1,0)),"")=0,"",IFERROR(INDEX('[1]【第9戦】決勝ヒート - レース結果（貼付）'!$A:$Z,MATCH($B24,'[1]【第9戦】決勝ヒート - レース結果（貼付）'!$B:$B,0),MATCH('[1]【第9戦】決勝ヒート - レース正式結果表（印刷）'!U$11,'[1]【第9戦】決勝ヒート - レース結果（貼付）'!$1:$1,0)),"")) -> 100.216
A25: =IF(OR('[1]【第9戦】決勝ヒート - レース結果（貼付）'!A14="DNF",'[1]【第9戦】決勝ヒート - レース結果（貼付）'!A14="DNS",'[1]【第9戦】決勝ヒート - レース結果（貼付）'!A14="DQ"),'[1]【第9戦】決勝ヒート - レース結果（貼付）'!A14,IF(MAX('[1]【第9戦】決勝ヒート - レース結果（貼付）'!A:A)>A24,A24+1,"")) -> 13 | B25: =IFERROR(INDEX('[1]【第9戦】決勝ヒート - レース結果（貼付）'!A14:$Z$50,MATCH($A25,'[1]【第9戦】決勝ヒート - レース結果（貼付）'!A14:$A$50,0),MATCH('【第9戦】決勝ヒート - レース暫定結果表'!B$11,'[1]【第9戦】決勝ヒート - レース結果（貼付）'!$1:$1,0)),"") -> 23 | E25: =IFERROR(INDEX('[1]【第9戦】決勝ヒート - レース結果（貼付）'!$A:$Z,MATCH($B25,'[1]【第9戦】決勝ヒート - レース結果（貼付）'!$B:$B,0),MATCH('【第9戦】決勝ヒート - レース暫定結果表'!E$11,'[1]【第9戦】決勝ヒート - レース結果（貼付）'!$1:$1,0)),"") -> 朝日 ターボ | F25: =IFERROR(INDEX('[1]【第9戦】決勝ヒート - レース結果（貼付）'!$A:$Z,MATCH($B25,'[1]【第9戦】決勝ヒート - レース結果（貼付）'!$B:$B,0),MATCH('【第9戦】決勝ヒート - レース暫定結果表'!F$11,'[1]【第9戦】決勝ヒート - レース結果（貼付）'!$1:$1,0)),"") -> Praga/TM | G25: =IFERROR(INDEX('[1]【第9戦】決勝ヒート - レース結果（貼付）'!$A:$Z,MATCH($B25,'[1]【第9戦】決勝ヒート - レース結果（貼付）'!$B:$B,0),MATCH('【第9戦】決勝ヒート - レース暫定結果表'!G$11,'[1]【第9戦】決勝ヒート - レース結果（貼付）'!$1:$1,0)),"") -> MASUDA RACING PROJECT | H25: =IFERROR(INDEX('[1]【第9戦】決勝ヒート - レース結果（貼付）'!$A:$Z,MATCH($B25,'[1]【第9戦】決勝ヒート - レース結果（貼付）'!$B:$B,0),MATCH('【第9戦】決勝ヒート - レース暫定結果表'!H$11,'[1]【第9戦】決勝ヒート - レース結果（貼付）'!$1:$1,0)),"") -> DL | I25: =IF(A25="DNS","",IF(A25="DQ","",IFERROR(INDEX('[1]【第9戦】決勝ヒート - レース結果（貼付）'!$A:$Z,MATCH($A25,'[1]【第9戦】決勝ヒート - レース結果（貼付）'!$A:$A,0),MATCH('【第9戦】決勝ヒート - レース暫定結果表'!I$11,'[1]【第9戦】決勝ヒート - レース結果（貼付）'!$1:$1,0)),""))) -> 24 | J25: =IF(A25="DNS","ｽﾀｰﾄ出来ず",IF(A25="DQ","失 格",IFERROR(INDEX('[1]【第9戦】決勝ヒート - レース結果（貼付）'!$A:$Z,MATCH($B25,'[1]【第9戦】決勝ヒート - レース結果（貼付）'!$B:$B,0),MATCH('【第9戦】決勝ヒート - レース暫定結果表'!J$11,'[1]【第9戦】決勝ヒート - レース結果（貼付）'!$1:$1,0)),""))) -> 0.012839097 | K25: =IF(A25="DNS","",IF(A25="DQ","",IFERROR(INDEX('[1]【第9戦】決勝ヒート - レース結果（貼付）'!$A:$Z,MATCH($A25,'[1]【第9戦】決勝ヒート - レース結果（貼付）'!$A:$A,0),MATCH('【第9戦】決勝ヒート - レース暫定結果表'!K$11,'[1]【第9戦】決勝ヒート - レース結果（貼付）'!$1:$1,0)),""))) -> 8.298 | L25: =IF(A25="DNS","",IF(A25="DQ","",IFERROR(INDEX('[1]【第9戦】決勝ヒート - レース結果（貼付）'!$A:$Z,MATCH($A25,'[1]【第9戦】決勝ヒート - レース結果（貼付）'!$A:$A,0),MATCH('【第9戦】決勝ヒート - レース暫定結果表'!L$11,'[1]【第9戦】決勝ヒート - レース結果（貼付）'!$1:$1,0)),""))) -> 1.852 | M25: =IF(A25="DNS","",IF(A25="DQ","",IFERROR(INDEX('[1]【第9戦】決勝ヒート - レース結果（貼付）'!$A:$Z,MATCH($B25,'[1]【第9戦】決勝ヒート - レース結果（貼付）'!$B:$B,0),MATCH('【第9戦】決勝ヒート - レース暫定結果表'!M$11,'[1]【第9戦】決勝ヒート - レース結果（貼付）'!$1:$1,0)),""))) -> 45.745 | N25: =IF(M25<1,"",IF($N$11>M25,"R","")) | Q25: =IF(IFERROR(INDEX('[1]【第9戦】決勝ヒート - レース結果（貼付）'!$A:$Z,MATCH($B25,'[1]【第9戦】決勝ヒート - レース結果（貼付）'!$B:$B,0),MATCH('【第9戦】決勝ヒート - レース暫定結果表'!Q$11,'[1]【第9戦】決勝ヒート - レース結果（貼付）'!$1:$1,0)),"")=0,"",IFERROR(INDEX('[1]【第9戦】決勝ヒート - レース結果（貼付）'!$A:$Z,MATCH($B25,'[1]【第9戦】決勝ヒート - レース結果（貼付）'!$B:$B,0),MATCH('【第9戦】決勝ヒート - レース暫定結果表'!Q$11,'[1]【第9戦】決勝ヒート - レース結果（貼付）'!$1:$1,0)),"")) | R25: =IF(Q25="","",COUNTIF($Q$13:Q25,"<>"&"")) | S25: =IFERROR(RANK(R25,$R$13:$R$47,1),"") | T25: =IF(IFERROR(INDEX('[1]【第9戦】決勝ヒート - レース結果（貼付）'!$A:$Z,MATCH($A25,'[1]【第9戦】決勝ヒート - レース結果（貼付）'!$A:$A,0),MATCH('【第9戦】決勝ヒート - レース暫定結果表'!T$11,'[1]【第9戦】決勝ヒート - レース結果（貼付）'!$1:$1,0)),"")=0,"",IFERROR(INDEX('[1]【第9戦】決勝ヒート - レース結果（貼付）'!$A:$Z,MATCH($A25,'[1]【第9戦】決勝ヒート - レース結果（貼付）'!$A:$A,0),MATCH('【第9戦】決勝ヒート - レース暫定結果表'!T$11,'[1]【第9戦】決勝ヒート - レース結果（貼付）'!$1:$1,0)),"")) | U25: =IF(IFERROR(INDEX('[1]【第9戦】決勝ヒート - レース結果（貼付）'!$A:$Z,MATCH($B25,'[1]【第9戦】決勝ヒート - レース結果（貼付）'!$B:$B,0),MATCH('[1]【第9戦】決勝ヒート - レース正式結果表（印刷）'!U$11,'[1]【第9戦】決勝ヒート - レース結果（貼付）'!$1:$1,0)),"")=0,"",IFERROR(INDEX('[1]【第9戦】決勝ヒート - レース結果（貼付）'!$A:$Z,MATCH($B25,'[1]【第9戦】決勝ヒート - レース結果（貼付）'!$B:$B,0),MATCH('[1]【第9戦】決勝ヒート - レース正式結果表（印刷）'!U$11,'[1]【第9戦】決勝ヒート - レース結果（貼付）'!$1:$1,0)),"")) -> 99.91
A26: =IF(OR('[1]【第9戦】決勝ヒート - レース結果（貼付）'!A15="DNF",'[1]【第9戦】決勝ヒート - レース結果（貼付）'!A15="DNS",'[1]【第9戦】決勝ヒート - レース結果（貼付）'!A15="DQ"),'[1]【第9戦】決勝ヒート - レース結果（貼付）'!A15,IF(MAX('[1]【第9戦】決勝ヒート - レース結果（貼付）'!A:A)>A25,A25+1,"")) -> 14 | B26: =IFERROR(INDEX('[1]【第9戦】決勝ヒート - レース結果（貼付）'!A15:$Z$50,MATCH($A26,'[1]【第9戦】決勝ヒート - レース結果（貼付）'!A15:$A$50,0),MATCH('【第9戦】決勝ヒート - レース暫定結果表'!B$11,'[1]【第9戦】決勝ヒート - レース結果（貼付）'!$1:$1,0)),"") -> 89 | E26: =IFERROR(INDEX('[1]【第9戦】決勝ヒート - レース結果（貼付）'!$A:$Z,MATCH($B26,'[1]【第9戦】決勝ヒート - レース結果（貼付）'!$B:$B,0),MATCH('【第9戦】決勝ヒート - レース暫定結果表'!E$11,'[1]【第9戦】決勝ヒート - レース結果（貼付）'!$1:$1,0)),"") -> 加藤 大翔 | F26: =IFERROR(INDEX('[1]【第9戦】決勝ヒート - レース結果（貼付）'!$A:$Z,MATCH($B26,'[1]【第9戦】決勝ヒート - レース結果（貼付）'!$B:$B,0),MATCH('【第9戦】決勝ヒート - レース暫定結果表'!F$11,'[1]【第9戦】決勝ヒート - レース結果（貼付）'!$1:$1,0)),"") -> KR/TM | G26: =IFERROR(INDEX('[1]【第9戦】決勝ヒート - レース結果（貼付）'!$A:$Z,MATCH($B26,'[1]【第9戦】決勝ヒート - レース結果（貼付）'!$B:$B,0),MATCH('【第9戦】決勝ヒート - レース暫定結果表'!G$11,'[1]【第9戦】決勝ヒート - レース結果（貼付）'!$1:$1,0)),"") -> PONOS HIROTEX RACING | H26: =IFERROR(INDEX('[1]【第9戦】決勝ヒート - レース結果（貼付）'!$A:$Z,MATCH($B26,'[1]【第9戦】決勝ヒート - レース結果（貼付）'!$B:$B,0),MATCH('【第9戦】決勝ヒート - レース暫定結果表'!H$11,'[1]【第9戦】決勝ヒート - レース結果（貼付）'!$1:$1,0)),"") -> YH | I26: =IF(A26="DNS","",IF(A26="DQ","",IFERROR(INDEX('[1]【第9戦】決勝ヒート - レース結果（貼付）'!$A:$Z,MATCH($A26,'[1]【第9戦】決勝ヒート - レース結果（貼付）'!$A:$A,0),MATCH('【第9戦】決勝ヒート - レース暫定結果表'!I$11,'[1]【第9戦】決勝ヒート - レース結果（貼付）'!$1:$1,0)),""))) -> 24 | J26: =IF(A26="DNS","ｽﾀｰﾄ出来ず",IF(A26="DQ","失 格",IFERROR(INDEX('[1]【第9戦】決勝ヒート - レース結果（貼付）'!$A:$Z,MATCH($B26,'[1]【第9戦】決勝ヒート - レース結果（貼付）'!$B:$B,0),MATCH('【第9戦】決勝ヒート - レース暫定結果表'!J$11,'[1]【第9戦】決勝ヒート - レース結果（貼付）'!$1:$1,0)),""))) -> 0.012842512 | K26: =IF(A26="DNS","",IF(A26="DQ","",IFERROR(INDEX('[1]【第9戦】決勝ヒート - レース結果（貼付）'!$A:$Z,MATCH($A26,'[1]【第9戦】決勝ヒート - レース結果（貼付）'!$A:$A,0),MATCH('【第9戦】決勝ヒート - レース暫定結果表'!K$11,'[1]【第9戦】決勝ヒート - レース結果（貼付）'!$1:$1,0)),""))) -> 8.593 | L26: =IF(A26="DNS","",IF(A26="DQ","",IFERROR(INDEX('[1]【第9戦】決勝ヒート - レース結果（貼付）'!$A:$Z,MATCH($A26,'[1]【第9戦】決勝ヒート - レース結果（貼付）'!$A:$A,0),MATCH('【第9戦】決勝ヒート - レース暫定結果表'!L$11,'[1]【第9戦】決勝ヒート - レース結果（貼付）'!$1:$1,0)),""))) -> 0.295 | M26: =IF(A26="DNS","",IF(A26="DQ","",IFERROR(INDEX('[1]【第9戦】決勝ヒート - レース結果（貼付）'!$A:$Z,MATCH($B26,'[1]【第9戦】決勝ヒート - レース結果（貼付）'!$B:$B,0),MATCH('【第9戦】決勝ヒート - レース暫定結果表'!M$11,'[1]【第9戦】決勝ヒート - レース結果（貼付）'!$1:$1,0)),""))) -> 45.56 | N26: =IF(M26<1,"",IF($N$11>M26,"R","")) | Q26: =IF(IFERROR(INDEX('[1]【第9戦】決勝ヒート - レース結果（貼付）'!$A:$Z,MATCH($B26,'[1]【第9戦】決勝ヒート - レース結果（貼付）'!$B:$B,0),MATCH('【第9戦】決勝ヒート - レース暫定結果表'!Q$11,'[1]【第9戦】決勝ヒート - レース結果（貼付）'!$1:$1,0)),"")=0,"",IFERROR(INDEX('[1]【第9戦】決勝ヒート - レース結果（貼付）'!$A:$Z,MATCH($B26,'[1]【第9戦】決勝ヒート - レース結果（貼付）'!$B:$B,0),MATCH('【第9戦】決勝ヒート - レース暫定結果表'!Q$11,'[1]【第9戦】決勝ヒート - レース結果（貼付）'!$1:$1,0)),"")) | R26: =IF(Q26="","",COUNTIF($Q$13:Q26,"<>"&"")) | S26: =IFERROR(RANK(R26,$R$13:$R$47,1),"") | T26: =IF(IFERROR(INDEX('[1]【第9戦】決勝ヒート - レース結果（貼付）'!$A:$Z,MATCH($A26,'[1]【第9戦】決勝ヒート - レース結果（貼付）'!$A:$A,0),MATCH('【第9戦】決勝ヒート - レース暫定結果表'!T$11,'[1]【第9戦】決勝ヒート - レース結果（貼付）'!$1:$1,0)),"")=0,"",IFERROR(INDEX('[1]【第9戦】決勝ヒート - レース結果（貼付）'!$A:$Z,MATCH($A26,'[1]【第9戦】決勝ヒート - レース結果（貼付）'!$A:$A,0),MATCH('【第9戦】決勝ヒート - レース暫定結果表'!T$11,'[1]【第9戦】決勝ヒート - レース結果（貼付）'!$1:$1,0)),"")) | U26: =IF(IFERROR(INDEX('[1]【第9戦】決勝ヒート - レース結果（貼付）'!$A:$Z,MATCH($B26,'[1]【第9戦】決勝ヒート - レース結果（貼付）'!$B:$B,0),MATCH('[1]【第9戦】決勝ヒート - レース正式結果表（印刷）'!U$11,'[1]【第9戦】決勝ヒート - レース結果（貼付）'!$1:$1,0)),"")=0,"",IFERROR(INDEX('[1]【第9戦】決勝ヒート - レース結果（貼付）'!$A:$Z,MATCH($B26,'[1]【第9戦】決勝ヒート - レース結果（貼付）'!$B:$B,0),MATCH('[1]【第9戦】決勝ヒート - レース正式結果表（印刷）'!U$11,'[1]【第9戦】決勝ヒート - レース結果（貼付）'!$1:$1,0)),"")) -> 99.473
A27: =IF(OR('[1]【第9戦】決勝ヒート - レース結果（貼付）'!A16="DNF",'[1]【第9戦】決勝ヒート - レース結果（貼付）'!A16="DNS",'[1]【第9戦】決勝ヒート - レース結果（貼付）'!A16="DQ"),'[1]【第9戦】決勝ヒート - レース結果（貼付）'!A16,IF(MAX('[1]【第9戦】決勝ヒート - レース結果（貼付）'!A:A)>A26,A26+1,"")) -> 15 | B27: =IFERROR(INDEX('[1]【第9戦】決勝ヒート - レース結果（貼付）'!A16:$Z$50,MATCH($A27,'[1]【第9戦】決勝ヒート - レース結果（貼付）'!A16:$A$50,0),MATCH('【第9戦】決勝ヒート - レース暫定結果表'!B$11,'[1]【第9戦】決勝ヒート - レース結果（貼付）'!$1:$1,0)),"") -> 51 | E27: =IFERROR(INDEX('[1]【第9戦】決勝ヒート - レース結果（貼付）'!$A:$Z,MATCH($B27,'[1]【第9戦】決勝ヒート - レース結果（貼付）'!$B:$B,0),MATCH('【第9戦】決勝ヒート - レース暫定結果表'!E$11,'[1]【第9戦】決勝ヒート - レース結果（貼付）'!$1:$1,0)),"") -> 堂園 鷲 | F27: =IFERROR(INDEX('[1]【第9戦】決勝ヒート - レース結果（貼付）'!$A:$Z,MATCH($B27,'[1]【第9戦】決勝ヒート - レース結果（貼付）'!$B:$B,0),MATCH('【第9戦】決勝ヒート - レース暫定結果表'!F$11,'[1]【第9戦】決勝ヒート - レース結果（貼付）'!$1:$1,0)),"") -> ENERGY CORCE/TM | G27: =IFERROR(INDEX('[1]【第9戦】決勝ヒート - レース結果（貼付）'!$A:$Z,MATCH($B27,'[1]【第9戦】決勝ヒート - レース結果（貼付）'!$B:$B,0),MATCH('【第9戦】決勝ヒート - レース暫定結果表'!G$11,'[1]【第9戦】決勝ヒート - レース結果（貼付）'!$1:$1,0)),"") -> ENERGY JAPAN | H27: =IFERROR(INDEX('[1]【第9戦】決勝ヒート - レース結果（貼付）'!$A:$Z,MATCH($B27,'[1]【第9戦】決勝ヒート - レース結果（貼付）'!$B:$B,0),MATCH('【第9戦】決勝ヒート - レース暫定結果表'!H$11,'[1]【第9戦】決勝ヒート - レース結果（貼付）'!$1:$1,0)),"") -> BS | I27: =IF(A27="DNS","",IF(A27="DQ","",IFERROR(INDEX('[1]【第9戦】決勝ヒート - レース結果（貼付）'!$A:$Z,MATCH($A27,'[1]【第9戦】決勝ヒート - レース結果（貼付）'!$A:$A,0),MATCH('【第9戦】決勝ヒート - レース暫定結果表'!I$11,'[1]【第9戦】決勝ヒート - レース結果（貼付）'!$1:$1,0)),""))) -> 24 | J27: =IF(A27="DNS","ｽﾀｰﾄ出来ず",IF(A27="DQ","失 格",IFERROR(INDEX('[1]【第9戦】決勝ヒート - レース結果（貼付）'!$A:$Z,MATCH($B27,'[1]【第9戦】決勝ヒート - レース結果（貼付）'!$B:$B,0),MATCH('【第9戦】決勝ヒート - レース暫定結果表'!J$11,'[1]【第9戦】決勝ヒート - レース結果（貼付）'!$1:$1,0)),""))) -> 0.012853553 | K27: =IF(A27="DNS","",IF(A27="DQ","",IFERROR(INDEX('[1]【第9戦】決勝ヒート - レース結果（貼付）'!$A:$Z,MATCH($A27,'[1]【第9戦】決勝ヒート - レース結果（貼付）'!$A:$A,0),MATCH('【第9戦】決勝ヒート - レース暫定結果表'!K$11,'[1]【第9戦】決勝ヒート - レース結果（貼付）'!$1:$1,0)),""))) -> 9.547 | L27: =IF(A27="DNS","",IF(A27="DQ","",IFERROR(INDEX('[1]【第9戦】決勝ヒート - レース結果（貼付）'!$A:$Z,MATCH($A27,'[1]【第9戦】決勝ヒート - レース結果（貼付）'!$A:$A,0),MATCH('【第9戦】決勝ヒート - レース暫定結果表'!L$11,'[1]【第9戦】決勝ヒート - レース結果（貼付）'!$1:$1,0)),""))) -> 0.954 | M27: =IF(A27="DNS","",IF(A27="DQ","",IFERROR(INDEX('[1]【第9戦】決勝ヒート - レース結果（貼付）'!$A:$Z,MATCH($B27,'[1]【第9戦】決勝ヒート - レース結果（貼付）'!$B:$B,0),MATCH('【第9戦】決勝ヒート - レース暫定結果表'!M$11,'[1]【第9戦】決勝ヒート - レース結果（貼付）'!$1:$1,0)),""))) -> 45.059 | Q27: =IF(IFERROR(INDEX('[1]【第9戦】決勝ヒート - レース結果（貼付）'!$A:$Z,MATCH($B27,'[1]【第9戦】決勝ヒート - レース結果（貼付）'!$B:$B,0),MATCH('【第9戦】決勝ヒート - レース暫定結果表'!Q$11,'[1]【第9戦】決勝ヒート - レース結果（貼付）'!$1:$1,0)),"")=0,"",IFERROR(INDEX('[1]【第9戦】決勝ヒート - レース結果（貼付）'!$A:$Z,MATCH($B27,'[1]【第9戦】決勝ヒート - レース結果（貼付）'!$B:$B,0),MATCH('【第9戦】決勝ヒート - レース暫定結果表'!Q$11,'[1]【第9戦】決勝ヒート - レース結果（貼付）'!$1:$1,0)),"")) -> JAF国内ｶｰﾄ競技規則 ｶｰﾄ競技会運営に関する規定 22条(妨害の禁止(プッシング・ブロッキング))違反により、10秒加算とした。 | R27: =IF(Q27="","",COUNTIF($Q$13:Q27,"<>"&"")) -> 15 | S27: =IFERROR(RANK(R27,$R$13:$R$47,1),"") -> 2 | T27: =IF(IFERROR(INDEX('[1]【第9戦】決勝ヒート - レース結果（貼付）'!$A:$Z,MATCH($A27,'[1]【第9戦】決勝ヒート - レース結果（貼付）'!$A:$A,0),MATCH('【第9戦】決勝ヒート - レース暫定結果表'!T$11,'[1]【第9戦】決勝ヒート - レース結果（貼付）'!$1:$1,0)),"")=0,"",IFERROR(INDEX('[1]【第9戦】決勝ヒート - レース結果（貼付）'!$A:$Z,MATCH($A27,'[1]【第9戦】決勝ヒート - レース結果（貼付）'!$A:$A,0),MATCH('【第9戦】決勝ヒート - レース暫定結果表'!T$11,'[1]【第9戦】決勝ヒート - レース結果（貼付）'!$1:$1,0)),"")) | U27: =IF(IFERROR(INDEX('[1]【第9戦】決勝ヒート - レース結果（貼付）'!$A:$Z,MATCH($B27,'[1]【第9戦】決勝ヒート - レース結果（貼付）'!$B:$B,0),MATCH('[1]【第9戦】決勝ヒート - レース正式結果表（印刷）'!U$11,'[1]【第9戦】決勝ヒート - レース結果（貼付）'!$1:$1,0)),"")=0,"",IFERROR(INDEX('[1]【第9戦】決勝ヒート - レース結果（貼付）'!$A:$Z,MATCH($B27,'[1]【第9戦】決勝ヒート - レース結果（貼付）'!$B:$B,0),MATCH('[1]【第9戦】決勝ヒート - レース正式結果表（印刷）'!U$11,'[1]【第9戦】決勝ヒート - レース結果（貼付）'!$1:$1,0)),"")) -> 99.877
A28: =IF(OR('[1]【第9戦】決勝ヒート - レース結果（貼付）'!A17="DNF",'[1]【第9戦】決勝ヒート - レース結果（貼付）'!A17="DNS",'[1]【第9戦】決勝ヒート - レース結果（貼付）'!A17="DQ"),'[1]【第9戦】決勝ヒート - レース結果（貼付）'!A17,IF(MAX('[1]【第9戦】決勝ヒート - レース結果（貼付）'!A:A)>A27,A27+1,"")) -> 16 | B28: =IFERROR(INDEX('[1]【第9戦】決勝ヒート - レース結果（貼付）'!A17:$Z$50,MATCH($A28,'[1]【第9戦】決勝ヒート - レース結果（貼付）'!A17:$A$50,0),MATCH('【第9戦】決勝ヒート - レース暫定結果表'!B$11,'[1]【第9戦】決勝ヒート - レース結果（貼付）'!$1:$1,0)),"") -> 12 | E28: =IFERROR(INDEX('[1]【第9戦】決勝ヒート - レース結果（貼付）'!$A:$Z,MATCH($B28,'[1]【第9戦】決勝ヒート - レース結果（貼付）'!$B:$B,0),MATCH('【第9戦】決勝ヒート - レース暫定結果表'!E$11,'[1]【第9戦】決勝ヒート - レース結果（貼付）'!$1:$1,0)),"") -> 上野 晴紀 | F28: =IFERROR(INDEX('[1]【第9戦】決勝ヒート - レース結果（貼付）'!$A:$Z,MATCH($B28,'[1]【第9戦】決勝ヒート - レース結果（貼付）'!$B:$B,0),MATCH('【第9戦】決勝ヒート - レース暫定結果表'!F$11,'[1]【第9戦】決勝ヒート - レース結果（貼付）'!$1:$1,0)),"") -> Birel ART/IAME | G28: =IFERROR(INDEX('[1]【第9戦】決勝ヒート - レース結果（貼付）'!$A:$Z,MATCH($B28,'[1]【第9戦】決勝ヒート - レース結果（貼付）'!$B:$B,0),MATCH('【第9戦】決勝ヒート - レース暫定結果表'!G$11,'[1]【第9戦】決勝ヒート - レース結果（貼付）'!$1:$1,0)),"") -> BirelART Access Racing | H28: =IFERROR(INDEX('[1]【第9戦】決勝ヒート - レース結果（貼付）'!$A:$Z,MATCH($B28,'[1]【第9戦】決勝ヒート - レース結果（貼付）'!$B:$B,0),MATCH('【第9戦】決勝ヒート - レース暫定結果表'!H$11,'[1]【第9戦】決勝ヒート - レース結果（貼付）'!$1:$1,0)),"") -> BS | I28: =IF(A28="DNS","",IF(A28="DQ","",IFERROR(INDEX('[1]【第9戦】決勝ヒート - レース結果（貼付）'!$A:$Z,MATCH($A28,'[1]【第9戦】決勝ヒート - レース結果（貼付）'!$A:$A,0),MATCH('【第9戦】決勝ヒート - レース暫定結果表'!I$11,'[1]【第9戦】決勝ヒート - レース結果（貼付）'!$1:$1,0)),""))) -> 24 | J28: =IF(A28="DNS","ｽﾀｰﾄ出来ず",IF(A28="DQ","失 格",IFERROR(INDEX('[1]【第9戦】決勝ヒート - レース結果（貼付）'!$A:$Z,MATCH($B28,'[1]【第9戦】決勝ヒート - レース結果（貼付）'!$B:$B,0),MATCH('【第9戦】決勝ヒート - レース暫定結果表'!J$11,'[1]【第9戦】決勝ヒート - レース結果（貼付）'!$1:$1,0)),""))) -> 0.012860162 | K28: =IF(A28="DNS","",IF(A28="DQ","",IFERROR(INDEX('[1]【第9戦】決勝ヒート - レース結果（貼付）'!$A:$Z,MATCH($A28,'[1]【第9戦】決勝ヒート - レース結果（貼付）'!$A:$A,0),MATCH('【第9戦】決勝ヒート - レース暫定結果表'!K$11,'[1]【第9戦】決勝ヒート - レース結果（貼付）'!$1:$1,0)),""))) -> 10.118 | L28: =IF(A28="DNS","",IF(A28="DQ","",IFERROR(INDEX('[1]【第9戦】決勝ヒート - レース結果（貼付）'!$A:$Z,MATCH($A28,'[1]【第9戦】決勝ヒート - レース結果（貼付）'!$A:$A,0),MATCH('【第9戦】決勝ヒート - レース暫定結果表'!L$11,'[1]【第9戦】決勝ヒート - レース結果（貼付）'!$1:$1,0)),""))) -> 0.571 | M28: =IF(A28="DNS","",IF(A28="DQ","",IFERROR(INDEX('[1]【第9戦】決勝ヒート - レース結果（貼付）'!$A:$Z,MATCH($B28,'[1]【第9戦】決勝ヒート - レース結果（貼付）'!$B:$B,0),MATCH('【第9戦】決勝ヒート - レース暫定結果表'!M$11,'[1]【第9戦】決勝ヒート - レース結果（貼付）'!$1:$1,0)),""))) -> 45.593 | N28: =IF(M28<1,"",IF($N$11>M28,"R","")) | Q28: =IF(IFERROR(INDEX('[1]【第9戦】決勝ヒート - レース結果（貼付）'!$A:$Z,MATCH($B28,'[1]【第9戦】決勝ヒート - レース結果（貼付）'!$B:$B,0),MATCH('【第9戦】決勝ヒート - レース暫定結果表'!Q$11,'[1]【第9戦】決勝ヒート - レース結果（貼付）'!$1:$1,0)),"")=0,"",IFERROR(INDEX('[1]【第9戦】決勝ヒート - レース結果（貼付）'!$A:$Z,MATCH($B28,'[1]【第9戦】決勝ヒート - レース結果（貼付）'!$B:$B,0),MATCH('【第9戦】決勝ヒート - レース暫定結果表'!Q$11,'[1]【第9戦】決勝ヒート - レース結果（貼付）'!$1:$1,0)),"")) | R28: =IF(Q28="","",COUNTIF($Q$13:Q28,"<>"&"")) | S28: =IFERROR(RANK(R28,$R$13:$R$47,1),"") | T28: =IF(IFERROR(INDEX('[1]【第9戦】決勝ヒート - レース結果（貼付）'!$A:$Z,MATCH($A28,'[1]【第9戦】決勝ヒート - レース結果（貼付）'!$A:$A,0),MATCH('【第9戦】決勝ヒート - レース暫定結果表'!T$11,'[1]【第9戦】決勝ヒート - レース結果（貼付）'!$1:$1,0)),"")=0,"",IFERROR(INDEX('[1]【第9戦】決勝ヒート - レース結果（貼付）'!$A:$Z,MATCH($A28,'[1]【第9戦】決勝ヒート - レース結果（貼付）'!$A:$A,0),MATCH('【第9戦】決勝ヒート - レース暫定結果表'!T$11,'[1]【第9戦】決勝ヒート - レース結果（貼付）'!$1:$1,0)),"")) | U28: =IF(IFERROR(INDEX('[1]【第9戦】決勝ヒート - レース結果（貼付）'!$A:$Z,MATCH($B28,'[1]【第9戦】決勝ヒート - レース結果（貼付）'!$B:$B,0),MATCH('[1]【第9戦】決勝ヒート - レース正式結果表（印刷）'!U$11,'[1]【第9戦】決勝ヒート - レース結果（貼付）'!$1:$1,0)),"")=0,"",IFERROR(INDEX('[1]【第9戦】決勝ヒート - レース結果（貼付）'!$A:$Z,MATCH($B28,'[1]【第9戦】決勝ヒート - レース結果（貼付）'!$B:$B,0),MATCH('[1]【第9戦】決勝ヒート - レース正式結果表（印刷）'!U$11,'[1]【第9戦】決勝ヒート - レース結果（貼付）'!$1:$1,0)),"")) -> 99.805
