Workbook

Sheet 【第9戦】決勝ヒート - レース暫定結果表
K6: 44878 | M6: :
A7: =+[1]各種設定!D2 -> 2022年 オートバックス全日本カート選手権 OK部門 第9戦/10戦 | K7: WEATHER: | L7: Cloudy
K8: COURSE : | L8: Dry
A9: =+[1]各種設定!D4 -> OK | K9: 南コース 1.264Km
A10: 第９戦 決勝ヒート暫定結果表
B11: No. | E11: 名前 | F11: Model/Engine | G11: Team | H11: Tires | I11: Laps | J11: Total Time | K11: 差 | L11: GAP | M11: BestLap | N11: =VLOOKUP(A9,[1]コースレコード!$A:$G,3,FALSE) -> 45.239 | Q11: コメント | S11: ペナルティNo. | T11: グリッドコメント | U11: ベスト平均時速
A12: Pos. | B12: No. | E12: Driver | F12: Type | G12: Team | H12: Tire | I12: Laps | J12: Total Time | K12: Delay | L12: Gap | M12: Best
A13: 1 | B13: =IFERROR(INDEX('[1]【第9戦】決勝ヒート - レース結果（貼付）'!A2:$Z$50,MATCH($A13,'[1]【第9戦】決勝ヒート - レース結果（貼付）'!A2:$A$50,0),MATCH('【第9戦】決勝ヒート - レース暫定結果表'!B$11,'[1]【第9戦】決勝ヒート - レース結果（貼付）'!$1:$1,0)),"") -> 25 | E13: =IFERROR(INDEX('[1]【第9戦】決勝ヒート - レース結果（貼付）'!$A:$Z,MATCH($B13,'[1]【第9戦】決勝ヒート - レース結果（貼付）'!$B:$B,0),MATCH('【第9戦】決勝ヒート - レース暫定結果表'!E$11,'[1]【第9戦】決勝ヒート - レース結果（貼付）'!$1:$1,0)),"") -> 小田 優 | F13: =IFERROR(INDEX('[1]【第9戦】決勝ヒート - レース結果（貼付）'!$A:$Z,MATCH($B13,'[1]【第9戦】決勝ヒート - レース結果（貼付）'!$B:$B,0),MATCH('【第9戦】決勝ヒート - レース暫定結果表'!F$11,'[1]【第9戦】決勝ヒート - レース結果（貼付）'!$1:$1,0)),"") -> Drago CORSE/TM | G13: =IFERROR(INDEX('[1]【第9戦】決勝ヒート - レース結果（貼付）'!$A:$Z,MATCH($B13,'[1]【第9戦】決勝ヒート - レース結果（貼付）'!$B:$B,0),MATCH('【第9戦】決勝ヒート - レース暫定結果表'!G$11,'[1]【第9戦】決勝ヒート - レース結果（貼付）'!$1:$1,0)),"") -> Drago CORSE | H13: =IFERROR(INDEX('[1]【第9戦】決勝ヒート - レース結果（貼付）'!$A:$Z,MATCH($B13,'[1]【第9戦】決勝ヒート - レース結果（貼付）'!$B:$B,0),MATCH('【第9戦】決勝ヒート - レース暫定結果表'!H$11,'[1]【第9戦】決勝ヒート - レース結果（貼付）'!$1:$1,0)),"") -> BS | I13: =IFERROR(INDEX('[1]【第9戦】決勝ヒート - レース結果（貼付）'!$A:$Z,MATCH($B13,'[1]【第9戦】決勝ヒート - レース結果（貼付）'!$B:$B,0),MATCH('【第9戦】決勝ヒート - レース暫定結果表'!I$11,'[1]【第9戦】決勝ヒート - レース結果（貼付）'!$1:$1,0)),"") -> 24 | J13: =IF(A13="DNS","ｽﾀｰﾄ出来ず",IF(A13="DQ","失 格",IFERROR(INDEX('[1]【第9戦】決勝ヒート - レース結果（貼付）'!$A:$Z,MATCH($B13,'[1]【第9戦】決勝ヒート - レース結果（貼付）'!$B:$B,0),MATCH('【第9戦】決勝ヒート - レース暫定結果表'!J$11,'[1]【第9戦】決勝ヒート - レース結果（貼付）'!$1:$1,0)),""))) -> 0.012743056 | K13: =ROUND((1.264*I13)/(J13*24),2)&"km/h" -> 99.19km/h | M13: =IFERROR(INDEX('[1]【第9戦】決勝ヒート - レース結果（貼付）'!$A:$Z,MATCH($B13,'[1]【第9戦】決勝ヒート - レース結果（貼付）'!$B:$B,0),MATCH('【第9戦】決勝ヒート - レース暫定結果表'!M$11,'[1]【第9戦】決勝ヒート - レース結果（貼付）'!$1:$1,0)),"") -> 45.307 | N13: =IF(M13<1,"",IF($N$11>M13,"R","")) | Q13: =IF(IFERROR(INDEX('[1]【第9戦】決勝ヒート - レース結果（貼付）'!$A:$Z,MATCH($B13,'[1]【第9戦】決勝ヒート - レース結果（貼付）'!$B:$B,0),MATCH('【第9戦】決勝ヒート - レース暫定結果表'!Q$11,'[1]【第9戦】決勝ヒート - レース結果（貼付）'!$1:$1,0)),"")=0,"",IFERROR(INDEX('[1]【第9戦】決勝ヒート - レース結果（貼付）'!$A:$Z,MATCH($B13,'[1]【第9戦】決勝ヒート - レース結果（貼付）'!$B:$B,0),MATCH('【第9戦】決勝ヒート - レース暫定結果表'!Q$11,'[1]【第9戦】決勝ヒート - レース結果（貼付）'!$1:$1,0)),"")) | R13: =IF(Q13="","",COUNTIF($Q$13:Q13,"<>"&"")) | S13: =IFERROR(RANK(R13,$R$13:$R$47,1),"") | T13: =IF(IFERROR(INDEX('[1]【第9戦】決勝ヒート - レース結果（貼付）'!$A:$Z,MATCH($A13,'[1]【第9戦】決勝ヒート - レース結果（貼付）'!$A:$A,0),MATCH('【第9戦】決勝ヒート - レース暫定結果表'!T$11,'[1]【第9戦】決勝ヒート - レース結果（貼付）'!$1:$1,0)),"")=0,"",IFERROR(INDEX('[1]【第9戦】決勝ヒート - レース結果（貼付）'!$A:$Z,MATCH($A13,'[1]【第9戦】決勝ヒート - レース結果（貼付）'!$A:$A,0),MATCH('【第9戦】決勝ヒート - レース暫定結果表'!T$11,'[1]【第9戦】決勝ヒート - レース結果（貼付）'!$1:$1,0)),"")) | U13: =IF(IFERROR(INDEX('[1]【第9戦】決勝ヒート - レース結果（貼付）'!$A:$Z,MATCH($B13,'[1]【第9戦】決勝ヒート - レース結果（貼付）'!$B:$B,0),MATCH('[1]【第9戦】決勝ヒート - レース正式結果表（印刷）'!U$11,'[1]【第9戦】決勝ヒート - レース結果（貼付）'!$1:$1,0)),"")=0,"",IFERROR(INDEX('[1]【第9戦】決勝ヒート - レース結果（貼付）'!$A:$Z,MATCH($B13,'[1]【第9戦】決勝ヒート - レース結果（貼付）'!$B:$B,0),MATCH('[1]【第9戦】決勝ヒート - レース正式結果表（印刷）'!U$11,'[1]【第9戦】決勝ヒート - レース結果（貼付）'!$1:$1,0)),"")) -> 100.988
A14: =IF(OR('[1]【第9戦】決勝ヒート - レース結果（貼付）'!A3="DNF",'[1]【第9戦】決勝ヒート - レース結果（貼付）'!A3="DNS",'[1]【第9戦】決勝ヒート - レース結果（貼付）'!A3="DQ"),'[1]【第9戦】決勝ヒート - レース結果（貼付）'!A3,IF(MAX('[1]【第9戦】決勝ヒート - レース結果（貼付）'!A:A)>A13,A13+1,"")) -> 2 | B14: =IFERROR(INDEX('[1]【第9戦】決勝ヒート - レース結果（貼付）'!A3:$Z$50,MATCH($A14,'[1]【第9戦】決勝ヒート - レース結果（貼付）'!A3:$A$50,0),MATCH('【第9戦】決勝ヒート - レース暫定結果表'!B$11,'[1]【第9戦】決勝ヒート - レース結果（貼付）'!$1:$1,0)),"") -> 34 | E14: =IFERROR(INDEX('[1]【第9戦】決勝ヒート - レース結果（貼付）'!$A:$Z,MATCH($B14,'[1]【第9戦】決勝ヒート - レース結果（貼付）'!$B:$B,0),MATCH('【第9戦】決勝ヒート - レース暫定結果表'!E$11,'[1]【第9戦】決勝ヒート - レース結果（貼付）'!$1:$1,0)),"") -> 清水 啓伸 | F14: =IFERROR(INDEX('[1]【第9戦】決勝ヒート - レース結果（貼付）'!$A:$Z,MATCH($B14,'[1]【第9戦】決勝ヒート - レース結果（貼付）'!$B:$B,0),MATCH('【第9戦】決勝ヒート - レース暫定結果表'!F$11,'[1]【第9戦】決勝ヒート - レース結果（貼付）'!$1:$1,0)),"") -> Drago CORSE/TM | G14: =IFERROR(INDEX('[1]【第9戦】決勝ヒート - レース結果（貼付）'!$A:$Z,MATCH($B14,'[1]【第9戦】決勝ヒート - レース結果（貼付）'!$B:$B,0),MATCH('【第9戦】決勝ヒート - レース暫定結果表'!G$11,'[1]【第9戦】決勝ヒート - レース結果（貼付）'!$1:$1,0)),"") -> DragoCORSE | H14: =IFERROR(INDEX('[1]【第9戦】決勝ヒート - レース結果（貼付）'!$A:$Z,MATCH($B14,'[1]【第9戦】決勝ヒート - レース結果（貼付）'!$B:$B,0),MATCH('【第9戦】決勝ヒート - レース暫定結果表'!H$11,'[1]【第9戦】決勝ヒート - レース結果（貼付）'!$1:$1,0)),"") -> BS | I14: =IF(A14="DNS","",IF(A14="DQ","",IFERROR(INDEX('[1]【第9戦】決勝ヒート - レース結果（貼付）'!$A:$Z,MATCH($A14,'[1]【第9戦】決勝ヒート - レース結果（貼付）'!$A:$A,0),MATCH('【第9戦】決勝ヒート - レース暫定結果表'!I$11,'[1]【第9戦】決勝ヒート - レース結果（貼付）'!$1:$1,0)),""))) -> 24 | J14: =IF(A14="DNS","ｽﾀｰﾄ出来ず",IF(A14="DQ","失 格",IFERROR(INDEX('[1]【第9戦】決勝ヒート - レース結果（貼付）'!$A:$Z,MATCH($B14,'[1]【第9戦】決勝ヒート - レース結果（貼付）'!$B:$B,0),MATCH('【第9戦】決勝ヒート - レース暫定結果表'!J$11,'[1]【第9戦】決勝ヒート - レース結果（貼付）'!$1:$1,0)),""))) -> 0.012752199 | K14: =IF(A14="DNS","",IF(A14="DQ","",IFERROR(INDEX('[1]【第9戦】決勝ヒート - レース結果（貼付）'!$A:$Z,MATCH($A14,'[1]【第9戦】決勝ヒート - レース結果（貼付）'!$A:$A,0),MATCH('【第9戦】決勝ヒート - レース暫定結果表'!K$11,'[1]【第9戦】決勝ヒート - レース結果（貼付）'!$1:$1,0)),""))) -> 0.79 | L14: =IF(A14="DNS","",IF(A14="DQ","",IFERROR(INDEX('[1]【第9戦】決勝ヒート - レース結果（貼付）'!$A:$Z,MATCH($A14,'[1]【第9戦】決勝ヒート - レース結果（貼付）'!$A:$A,0),MATCH('【第9戦】決勝ヒート - レース暫定結果表'!L$11,'[1]【第9戦】決勝ヒート - レース結果（貼付）'!$1:$1,0)),""))) -> 0.79 | M14: =IF(A14="DNS","",IF(A14="DQ","",IFERROR(INDEX('[1]【第9戦】決勝ヒート - レース結果（貼付）'!$A:$Z,MATCH($B14,'[1]【第9戦】決勝ヒート - レース結果（貼付）'!$B:$B,0),MATCH('【第9戦】決勝ヒート - レース暫定結果表'!M$11,'[1]【第9戦】決勝ヒート - レース結果（貼付）'!$1:$1,0)),""))) -> 45.271 | N14: =IF(M14<1,"",IF($N$11>M14,"R","")) | Q14: =IF(IFERROR(INDEX('[1]【第9戦】決勝ヒート - レース結果（貼付）'!$A:$Z,MATCH($B14,'[1]【第9戦】決勝ヒート - レース結果（貼付）'!$B:$B,0),MATCH('【第9戦】決勝ヒート - レース暫定結果表'!Q$11,'[1]【第9戦】決勝ヒート - レース結果（貼付）'!$1:$1,0)),"")=0,"",IFERROR(INDEX('[1]【第9戦】決勝ヒート - レース結果（貼付）'!$A:$Z,MATCH($B14,'[1]【第9戦】決勝ヒート - レース結果（貼付）'!$B:$B,0),MATCH('【第9戦】決勝ヒート - レース暫定結果表'!Q$11,'[1]【第9戦】決勝ヒート - レース結果（貼付）'!$1:$1,0)),"")) | R14: =IF(Q14="","",COUNTIF($Q$13:Q14,"<>"&"")) | S14: =IFERROR(RANK(R14,$R$13:$R$47,1),"") | T14: =IF(IFERROR(INDEX('[1]【第9戦】決勝ヒート - レース結果（貼付）'!$A:$Z,MATCH($A14,'[1]【第9戦】決勝ヒート - レース結果（貼付）'!$A:$A,0),MATCH('【第9戦】決勝ヒート - レース暫定結果表'!T$11,'[1]【第9戦】決勝ヒート - レース結果（貼付）'!$1:$1,0)),"")=0,"",IFERROR(INDEX('[1]【第9戦】決勝ヒート - レース結果（貼付）'!$A:$Z,MATCH($A14,'[1]【第9戦】決勝ヒート - レース結果（貼付）'!$A:$A,0),MATCH('【第9戦】決勝ヒート - レース暫定結果表'!T$11,'[1]【第9戦】決勝ヒート - レース結果（貼付）'!$1:$1,0)),"")) | U14: =IF(IFERROR(INDEX('[1]【第9戦】決勝ヒート - レース結果（貼付）'!$A:$Z,MATCH($B14,'[1]【第9戦】決勝ヒート - レース結果（貼付）'!$B:$B,0),MATCH('[1]【第9戦】決勝ヒート - レース正式結果表（印刷）'!U$11,'[1]【第9戦】決勝ヒート - レース結果（貼付）'!$1:$1,0)),"")=0,"",IFERROR(INDEX('[1]【第9戦】決勝ヒート - レース結果（貼付）'!$A:$Z,MATCH($B14,'[1]【第9戦】決勝ヒート - レース結果（貼付）'!$B:$B,0),MATCH('[1]【第9戦】決勝ヒート - レース正式結果表（印刷）'!U$11,'[1]【第9戦】決勝ヒート - レース結果（貼付）'!$1:$1,0)),"")) -> 100.435
A15: =IF(OR('[1]【第9戦】決勝ヒート - レース結果（貼付）'!A4="DNF",'[1]【第9戦】決勝ヒート - レース結果（貼付）'!A4="DNS",'[1]【第9戦】決勝ヒート - レース結果（貼付）'!A4="DQ"),'[1]【第9戦】決勝ヒート - レース結果（貼付）'!A4,IF(MAX('[1]【第9戦】決勝ヒート - レース結果（貼付）'!A:A)>A14,A14+1,"")) -> 3 | B15: =IFERROR(INDEX('[1]【第9戦】決勝ヒート - レース結果（貼付）'!A4:$Z$50,MATCH($A15,'[1]【第9戦】決勝ヒート - レース結果（貼付）'!A4:$A$50,0),MATCH('【第9戦】決勝ヒート - レース暫定結果表'!B$11,'[1]【第9戦】決勝ヒート - レース結果（貼付）'!$1:$1,0)),"") -> 81 | E15: =IFERROR(INDEX('[1]【第9戦】決勝ヒート - レース結果（貼付）'!$A:$Z,MATCH($B15,'[1]【第9戦】決勝ヒート - レース結果（貼付）'!$B:$B,0),MATCH('【第9戦】決勝ヒート - レース暫定結果表'!E$11,'[1]【第9戦】決勝ヒート - レース結果（貼付）'!$1:$1,0)),"") -> 山田 杯利 | F15: =IFERROR(INDEX('[1]【第9戦】決勝ヒート - レース結果（貼付）'!$A:$Z,MATCH($B15,'[1]【第9戦】決勝ヒート - レース結果（貼付）'!$B:$B,0),MATCH('【第9戦】決勝ヒート - レース暫定結果表'!F$11,'[1]【第9戦】決勝ヒート - レース結果（貼付）'!$1:$1,0)),"") -> Drago CORSE/TM | G15: =IFERROR(INDEX('[1]【第9戦】決勝ヒート - レース結果（貼付）'!$A:$Z,MATCH($B15,'[1]【第9戦】決勝ヒート - レース結果（貼付）'!$B:$B,0),MATCH('【第9戦】決勝ヒート - レース暫定結果表'!G$11,'[1]【第9戦】決勝ヒート - レース結果（貼付）'!$1:$1,0)),"") -> DragoCorse | H15: =IFERROR(INDEX('[1]【第9戦】決勝ヒート - レース結果（貼付）'!$A:$Z,MATCH($B15,'[1]【第9戦】決勝ヒート - レース結果（貼付）'!$B:$B,0),MATCH('【第9戦】決勝ヒート - レース暫定結果表'!H$11,'[1]【第9戦】決勝ヒート - レース結果（貼付）'!$1:$1,0)),"") -> BS | I15: =IF(A15="DNS","",IF(A15="DQ","",IFERROR(INDEX('[1]【第9戦】決勝ヒート - レース結果（貼付）'!$A:$Z,MATCH($A15,'[1]【第9戦】決勝ヒート - レース結果（貼付）'!$A:$A,0),MATCH('【第9戦】決勝ヒート - レース暫定結果表'!I$11,'[1]【第9戦】決勝ヒート - レース結果（貼付）'!$1:$1,0)),""))) -> 24 | J15: =IF(A15="DNS","ｽﾀｰﾄ出来ず",IF(A15="DQ","失 格",IFERROR(INDEX('[1]【第9戦】決勝ヒート - レース結果（貼付）'!$A:$Z,MATCH($B15,'[1]【第9戦】決勝ヒート - レース結果（貼付）'!$B:$B,0),MATCH('【第9戦】決勝ヒート - レース暫定結果表'!J$11,'[1]【第9戦】決勝ヒート - レース結果（貼付）'!$1:$1,0)),""))) -> 0.012758808 | K15: =IF(A15="DNS","",IF(A15="DQ","",IFERROR(INDEX('[1]【第9戦】決勝ヒート - レース結果（貼付）'!$A:$Z,MATCH($A15,'[1]【第9戦】決勝ヒート - レース結果（貼付）'!$A:$A,0),MATCH('【第9戦】決勝ヒート - レース暫定結果表'!K$11,'[1]【第9戦】決勝ヒート - レース結果（貼付）'!$1:$1,0)),""))) -> 1.361 | L15: =IF(A15="DNS","",IF(A15="DQ","",IFERROR(INDEX('[1]【第9戦】決勝ヒート - レース結果（貼付）'!$A:$Z,MATCH($A15,'[1]【第9戦】決勝ヒート - レース結果（貼付）'!$A:$A,0),MATCH('【第9戦】決勝ヒート - レース暫定結果表'!L$11,'[1]【第9戦】決勝ヒート - レース結果（貼付）'!$1:$1,0)),""))) -> 0.571 | M15: =IF(A15="DNS","",IF(A15="DQ","",IFERROR(INDEX('[1]【第9戦】決勝ヒート - レース結果（貼付）'!$A:$Z,MATCH($B15,'[1]【第9戦】決勝ヒート - レース結果（貼付）'!$B:$B,0),MATCH('【第9戦】決勝ヒート - レース暫定結果表'!M$11,'[1]【第9戦】決勝ヒート - レース結果（貼付）'!$1:$1,0)),""))) -> 45.321 | N15: =IF(M15<1,"",IF($N$11>M15,"R","")) | Q15: =IF(IFERROR(INDEX('[1]【第9戦】決勝ヒート - レース結果（貼付）'!$A:$Z,MATCH($B15,'[1]【第9戦】決勝ヒート - レース結果（貼付）'!$B:$B,0),MATCH('【第9戦】決勝ヒート - レース暫定結果表'!Q$11,'[1]【第9戦】決勝ヒート - レース結果（貼付）'!$1:$1,0)),"")=0,"",IFERROR(INDEX('[1]【第9戦】決勝ヒート - レース結果（貼付）'!$A:$Z,MATCH($B15,'[1]【第9戦】決勝ヒート - レース結果（貼付）'!$B:$B,0),MATCH('【第9戦】決勝ヒート - レース暫定結果表'!Q$11,'[1]【第9戦】決勝ヒート - レース結果（貼付）'!$1:$1,0)),"")) | R15: =IF(Q15="","",COUNTIF($Q$13:Q15,"<>"&"")) | S15: =IFERROR(RANK(R15,$R$13:$R$47,1),"") | T15: =IF(IFERROR(INDEX('[1]【第9戦】決勝ヒート - レース結果（貼付）'!$A:$Z,MATCH($A15,'[1]【第9戦】決勝ヒート - レース結果（貼付）'!$A:$A,0),MATCH('【第9戦】決勝ヒート - レース暫定結果表'!T$11,'[1]【第9戦】決勝ヒート - レース結果（貼付）'!$1:$1,0)),"")=0,"",IFERROR(INDEX('[1]【第9戦】決勝ヒート - レース結果（貼付）'!$A:$Z,MATCH($A15,'[1]【第9戦】決勝ヒート - レース結果（貼付）'!$A:$A,0),MATCH('【第9戦】決勝ヒート - レース暫定結果表'!T$11,'[1]【第9戦】決勝ヒート - レース結果（貼付）'!$1:$1,0)),"")) | U15: =IF(IFERROR(INDEX('[1]【第9戦】決勝ヒート - レース結果（貼付）'!$A:$Z,MATCH($B15,'[1]【第9戦】決勝ヒート - レース結果（貼付）'!$B:$B,0),MATCH('[1]【第9戦】決勝ヒート - レース正式結果表（印刷）'!U$11,'[1]【第9戦】決勝ヒート - レース結果（貼付）'!$1:$1,0)),"")=0,"",IFERROR(INDEX('[1]【第9戦】決勝ヒート - レース結果（貼付）'!$A:$Z,MATCH($B15,'[1]【第9戦】決勝ヒート - レース結果（貼付）'!$B:$B,0),MATCH('[1]【第9戦】決勝ヒート - レース正式結果表（印刷）'!U$11,'[1]【第9戦】決勝ヒート - レース結果（貼付）'!$1:$1,0)),"")) -> 100.515
A16: =IF(OR('[1]【第9戦】決勝ヒート - レース結果（貼付）'!A5="DNF",'[1]【第9戦】決勝ヒート - レース結果（貼付）'!A5="DNS",'[1]【第9戦】決勝ヒート - レース結果（貼付）'!A5="DQ"),'[1]【第9戦】決勝ヒート - レース結果（貼付）'!A5,IF(MAX('[1]【第9戦】決勝ヒート - レース結果（貼付）'!A:A)>A15,A15+1,"")) -> 4 | B16: =IFERROR(INDEX('[1]【第9戦】決勝ヒート - レース結果（貼付）'!A5:$Z$50,MATCH($A16,'[1]【第9戦】決勝ヒート - レース結果（貼付）'!A5:$A$50,0),MATCH('【第9戦】決勝ヒート - レース暫定結果表'!B$11,'[1]【第9戦】決勝ヒート - レース結果（貼付）'!$1:$1,0)),"") -> 29 | E16: =IFERROR(INDEX('[1]【第9戦】決勝ヒート - レース結果（貼付）'!$A:$Z,MATCH($B16,'[1]【第9戦】決勝ヒート - レース結果（貼付）'!$B:$B,0),MATCH('【第9戦】決勝ヒート - レース暫定結果表'!E$11,'[1]【第9戦】決勝ヒート - レース結果（貼付）'!$1:$1,0)),"") -> 三村 壮太郎 | F16: =IFERROR(INDEX('[1]【第9戦】決勝ヒート - レース結果（貼付）'!$A:$Z,MATCH($B16,'[1]【第9戦】決勝ヒート - レース結果（貼付）'!$B:$B,0),MATCH('【第9戦】決勝ヒート - レース暫定結果表'!F$11,'[1]【第9戦】決勝ヒート - レース結果（貼付）'!$1:$1,0)),"") -> Rosa Drago Corse/TM | G16: =IFERROR(INDEX('[1]【第9戦】決勝ヒート - レース結果（貼付）'!$A:$Z,MATCH($B16,'[1]【第9戦】決勝ヒート - レース結果（貼付）'!$B:$B,0),MATCH('【第9戦】決勝ヒート - レース暫定結果表'!G$11,'[1]【第9戦】決勝ヒート - レース結果（貼付）'!$1:$1,0)),"") -> RosaDragoCorse | H16: =IFERROR(INDEX('[1]【第9戦】決勝ヒート - レース結果（貼付）'!$A:$Z,MATCH($B16,'[1]【第9戦】決勝ヒート - レース結果（貼付）'!$B:$B,0),MATCH('【第9戦】決勝ヒート - レース暫定結果表'!H$11,'[1]【第9戦】決勝ヒート - レース結果（貼付）'!$1:$1,0)),"") -> BS | I16: =IF(A16="DNS","",IF(A16="DQ","",IFERROR(INDEX('[1]【第9戦】決勝ヒート - レース結果（貼付）'!$A:$Z,MATCH($A16,'[1]【第9戦】決勝ヒート - レース結果（貼付）'!$A:$A,0),MATCH('【第9戦】決勝ヒート - レース暫定結果表'!I$11,'[1]【第9戦】決勝ヒート - レース結果（貼付）'!$1:$1,0)),""))) -> 24 | J16: =IF(A16="DNS","ｽﾀｰﾄ出来ず",IF(A16="DQ","失 格",IFERROR(INDEX('[1]【第9戦】決勝ヒート - レース結果（貼付）'!$A:$Z,MATCH($B16,'[1]【第9戦】決勝ヒート - レース結果（貼付）'!$B:$B,0),MATCH('【第9戦】決勝ヒート - レース暫定結果表'!J$11,'[1]【第9戦】決勝ヒート - レース結果（貼付）'!$1:$1,0)),""))) -> 0.012759676 | K16: =IF(A16="DNS","",IF(A16="DQ","",IFERROR(INDEX('[1]【第9戦】決勝ヒート - レース結果（貼付）'!$A:$Z,MATCH($A16,'[1]【第9戦】決勝ヒート - レース結果（貼付）'!$A:$A,0),MATCH('【第9戦】決勝ヒート - レース暫定結果表'!K$11,'[1]【第9戦】決勝ヒート - レース結果（貼付）'!$1:$1,0)),""))) -> 1.436 | L16: =IF(A16="DNS","",IF(A16="DQ","",IFERROR(INDEX('[1]【第9戦】決勝ヒート - レース結果（貼付）'!$A:$Z,MATCH($A16,'[1]【第9戦】決勝ヒート - レース結果（貼付）'!$A:$A,0),MATCH('【第9戦】決勝ヒート - レース暫定結果表'!L$11,'[1]【第9戦】決勝ヒート - レース結果（貼付）'!$1:$1,0)),""))) -> 0.075 | M16: =IF(A16="DNS","",IF(A16="DQ","",IFERROR(INDEX('[1]【第9戦】決勝ヒート - レース結果（貼付）'!$A:$Z,MATCH($B16,'[1]【第9戦】決勝ヒート - レース結果（貼付）'!$B:$B,0),MATCH('【第9戦】決勝ヒート - レース暫定結果表'!M$11,'[1]【第9戦】決勝ヒート - レース結果（貼付）'!$1:$1,0)),""))) -> 45.419 | N16: =IF(M16<1,"",IF($N$11>M16,"R","")) | Q16: =IF(IFERROR(INDEX('[1]【第9戦】決勝ヒート - レース結果（貼付）'!$A:$Z,MATCH($B16,'[1]【第9戦】決勝ヒート - レース結果（貼付）'!$B:$B,0),MATCH('【第9戦】決勝ヒート - レース暫定結果表'!Q$11,'[1]【第9戦】決勝ヒート - レース結果（貼付）'!$1:$1,0)),"")=0,"",IFERROR(INDEX('[1]【第9戦】決勝ヒート - レース結果（貼付）'!$A:$Z,MATCH($B16,'[1]【第9戦】決勝ヒート - レース結果（貼付）'!$B:$B,0),MATCH('【第9戦】決勝ヒート - レース暫定結果表'!Q$11,'[1]【第9戦】決勝ヒート - レース結果（貼付）'!$1:$1,0)),"")) | R16: =IF(Q16="","",COUNTIF($Q$13:Q16,"<>"&"")) | S16: =IFERROR(RANK(R16,$R$13:$R$47,1),"") | T16: =IF(IFERROR(INDEX('[1]【第9戦】決勝ヒート - レース結果（貼付）'!$A:$Z,MATCH($A16,'[1]【第9戦】決勝ヒート - レース結果（貼付）'!$A:$A,0),MATCH('【第9戦】決勝ヒート - レース暫定結果表'!T$11,'[1]【第9戦】決勝ヒート - レース結果（貼付）'!$1:$1,0)),"")=0,"",IFERROR(INDEX('[1]【第9戦】決勝ヒート - レース結果（貼付）'!$A:$Z,MATCH($A16,'[1]【第9戦】決勝ヒート - レース結果（貼付）'!$A:$A,0),MATCH('【第9戦】決勝ヒート - レース暫定結果表'!T$11,'[1]【第9戦】決勝ヒート - レース結果（貼付）'!$1:$1,0)),"")) | U16: =IF(IFERROR(INDEX('[1]【第9戦】決勝ヒート - レース結果（貼付）'!$A:$Z,MATCH($B16,'[1]【第9戦】決勝ヒート - レース結果（貼付）'!$B:$B,0),MATCH('[1]【第9戦】決勝ヒート - レース正式結果表（印刷）'!U$11,'[1]【第9戦】決勝ヒート - レース結果（貼付）'!$1:$1,0)),"")=0,"",IFERROR(INDEX('[1]【第9戦】決勝ヒート - レース結果（貼付）'!$A:$Z,MATCH($B16,'[1]【第9戦】決勝ヒート - レース結果（貼付）'!$B:$B,0),MATCH('[1]【第9戦】決勝ヒート - レース正式結果表（印刷）'!U$11,'[1]【第9戦】決勝ヒート - レース結果（貼付）'!$1:$1,0)),"")) -> 100.39
A17: =IF(OR('[1]【第9戦】決勝ヒート - レース結果（貼付）'!A6="DNF",'[1]【第9戦】決勝ヒート - レース結果（貼付）'!A6="DNS",'[1]【第9戦】決勝ヒート - レース結果（貼付）'!A6="DQ"),'[1]【第9戦】決勝ヒート - レース結果（貼付）'!A6,IF(MAX('[1]【第9戦】決勝ヒート - レース結果（貼付）'!A:A)>A16,A16+1,"")) -> 5 | B17: =IFERROR(INDEX('[1]【第9戦】決勝ヒート - レース結果（貼付）'!A6:$Z$50,MATCH($A17,'[1]【第9戦】決勝ヒート - レース結果（貼付）'!A6:$A$50,0),MATCH('【第9戦】決勝ヒート - レース暫定結果表'!B$11,'[1]【第9戦】決勝ヒート - レース結果（貼付）'!$1:$1,0)),"") -> 18 | E17: =IFERROR(INDEX('[1]【第9戦】決勝ヒート - レース結果（貼付）'!$A:$Z,MATCH($B17,'[1]【第9戦】決勝ヒート - レース結果（貼付）'!$B:$B,0),MATCH('【第9戦】決勝ヒート - レース暫定結果表'!E$11,'[1]【第9戦】決勝ヒート - レース結果（貼付）'!$1:$1,0)),"") -> 野澤 勇翔 | F17: =IFERROR(INDEX('[1]【第9戦】決勝ヒート - レース結果（貼付）'!$A:$Z,MATCH($B17,'[1]【第9戦】決勝ヒート - レース結果（貼付）'!$B:$B,0),MATCH('【第9戦】決勝ヒート - レース暫定結果表'!F$11,'[1]【第9戦】決勝ヒート - レース結果（貼付）'!$1:$1,0)),"") -> Birel ART/IAME | G17: =IFERROR(INDEX('[1]【第9戦】決勝ヒート - レース結果（貼付）'!$A:$Z,MATCH($B17,'[1]【第9戦】決勝ヒート - レース結果（貼付）'!$B:$B,0),MATCH('【第9戦】決勝ヒート - レース暫定結果表'!G$11,'[1]【第9戦】決勝ヒート - レース結果（貼付）'!$1:$1,0)),"") -> bbR.チームエッフェガーラ | H17: =IFERROR(INDEX('[1]【第9戦】決勝ヒート - レース結果（貼付）'!$A:$Z,MATCH($B17,'[1]【第9戦】決勝ヒート - レース結果（貼付）'!$B:$B,0),MATCH('【第9戦】決勝ヒート - レース暫定結果表'!H$11,'[1]【第9戦】決勝ヒート - レース結果（貼付）'!$1:$1,0)),"") -> BS | I17: =IF(A17="DNS","",IF(A17="DQ","",IFERROR(INDEX('[1]【第9戦】決勝ヒート - レース結果（貼付）'!$A:$Z,MATCH($A17,'[1]【第9戦】決勝ヒート - レース結果（貼付）'!$A:$A,0),MATCH('【第9戦】決勝ヒート - レース暫定結果表'!I$11,'[1]【第9戦】決勝ヒート - レース結果（貼付）'!$1:$1,0)),""))) -> 24 | J17: =IF(A17="DNS","ｽﾀｰﾄ出来ず",IF(A17="DQ","失 格",IFERROR(INDEX('[1]【第9戦】決勝ヒート - レース結果（貼付）'!$A:$Z,MATCH($B17,'[1]【第9戦】決勝ヒート - レース結果（貼付）'!$B:$B,0),MATCH('【第9戦】決勝ヒート - レース暫定結果表'!J$11,'[1]【第9戦】決勝ヒート - レース結果（貼付）'!$1:$1,0)),""))) -> 0.012760347 | K17: =IF(A17="DNS","",IF(A17="DQ","",IFERROR(INDEX('[1]【第9戦】決勝ヒート - レース結果（貼付）'!$A:$Z,MATCH($A17,'[1]【第9戦】決勝ヒート - レース結果（貼付）'!$A:$A,0),MATCH('【第9戦】決勝ヒート - レース暫定結果表'!K$11,'[1]【第9戦】決勝ヒート - レース結果（貼付）'!$1:$1,0)),""))) -> 1.494 | L17: =IF(A17="DNS","",IF(A17="DQ","",IFERROR(INDEX('[1]【第9戦】決勝ヒート - レース結果（貼付）'!$A:$Z,MATCH($A17,'[1]【第9戦】決勝ヒート - レース結果（貼付）'!$A:$A,0),MATCH('【第9戦】決勝ヒート - レース暫定結果表'!L$11,'[1]【第9戦】決勝ヒート - レース結果（貼付）'!$1:$1,0)),""))) -> 0.058 | M17: =IF(A17="DNS","",IF(A17="DQ","",IFERROR(INDEX('[1]【第9戦】決勝ヒート - レース結果（貼付）'!$A:$Z,MATCH($B17,'[1]【第9戦】決勝ヒート - レース結果（貼付）'!$B:$B,0),MATCH('【第9戦】決勝ヒート - レース暫定結果表'!M$11,'[1]【第9戦】決勝ヒート - レース結果（貼付）'!$1:$1,0)),""))) -> 45.352 | N17: =IF(M17<1,"",IF($N$11>M17,"R","")) | Q17: =IF(IFERROR(INDEX('[1]【第9戦】決勝ヒート - レース結果（貼付）'!$A:$Z,MATCH($B17,'[1]【第9戦】決勝ヒート - レース結果（貼付）'!$B:$B,0),MATCH('【第9戦】決勝ヒート - レース暫定結果表'!Q$11,'[1]【第9戦】決勝ヒート - レース結果（貼付）'!$1:$1,0)),"")=0,"",IFERROR(INDEX('[1]【第9戦】決勝ヒート - レース結果（貼付）'!$A:$Z,MATCH($B17,'[1]【第9戦】決勝ヒート - レース結果（貼付）'!$B:$B,0),MATCH('【第9戦】決勝ヒート - レース暫定結果表'!Q$11,'[1]【第9戦】決勝ヒート - レース結果（貼付）'!$1:$1,0)),"")) | R17: =IF(Q17="","",COUNTIF($Q$13:Q17,"<>"&"")) | S17: =IFERROR(RANK(R17,$R$13:$R$47,1),"") | T17: =IF(IFERROR(INDEX('[1]【第9戦】決勝ヒート - レース結果（貼付）'!$A:$Z,MATCH($A17,'[1]【第9戦】決勝ヒート - レース結果（貼付）'!$A:$A,0),MATCH('【第9戦】決勝ヒート - レース暫定結果表'!T$11,'[1]【第9戦】決勝ヒート - レース結果（貼付）'!$1:$1,0)),"")=0,"",IFERROR(INDEX('[1]【第9戦】決勝ヒート - レース結果（貼付）'!$A:$Z,MATCH($A17,'[1]【第9戦】決勝ヒート - レース結果（貼付）'!$A:$A,0),MATCH('【第9戦】決勝ヒート - レース暫定結果表'!T$11,'[1]【第9戦】決勝ヒート - レース結果（貼付）'!$1:$1,0)),"")) | U17: =IF(IFERROR(INDEX('[1]【第9戦】決勝ヒート - レース結果（貼付）'!$A:$Z,MATCH($B17,'[1]【第9戦】決勝ヒート - レース結果（貼付）'!$B:$B,0),MATCH('[1]【第9戦】決勝ヒート - レース正式結果表（印刷）'!U$11,'[1]【第9戦】決勝ヒート - レース結果（貼付）'!$1:$1,0)),"")=0,"",IFERROR(INDEX('[1]【第9戦】決勝ヒート - レース結果（貼付）'!$A:$Z,MATCH($B17,'[1]【第9戦】決勝ヒート - レース結果（貼付）'!$B:$B,0),MATCH('[1]【第9戦】決勝ヒート - レース正式結果表（印刷）'!U$11,'[1]【第9戦】決勝ヒート - レース結果（貼付）'!$1:$1,0)),"")) -> 100.404
A18: =IF(OR('[1]【第9戦】決勝ヒート - レース結果（貼付）'!A7="DNF",'[1]【第9戦】決勝ヒート - レース結果（貼付）'!A7="DNS",'[1]【第9戦】決勝ヒート - レース結果（貼付）'!A7="DQ"),'[1]【第9戦】決勝ヒート - レース結果（貼付）'!A7,IF(MAX('[1]【第9戦】決勝ヒート - レース結果（貼付）'!A:A)>A17,A17+1,"")) -> 6 | B18: =IFERROR(INDEX('[1]【第9戦】決勝ヒート - レース結果（貼付）'!A7:$Z$50,MATCH($A18,'[1]【第9戦】決勝ヒート - レース結果（貼付）'!A7:$A$50,0),MATCH('【第9戦】決勝ヒート - レース暫定結果表'!B$11,'[1]【第9戦】決勝ヒート - レース結果（貼付）'!$1:$1,0)),"") -> 1 | E18: =IFERROR(INDEX('[1]【第9戦】決勝ヒート - レース結果（貼付）'!$A:$Z,MATCH($B18,'[1]【第9戦】決勝ヒート - レース結果（貼付）'!$B:$B,0),MATCH('【第9戦】決勝ヒート - レース暫定結果表'!E$11,'[1]【第9戦】決勝ヒート - レース結果（貼付）'!$1:$1,0)),"") -> 佐々木 大樹 | F18: =IFERROR(INDEX('[1]【第9戦】決勝ヒート - レース結果（貼付）'!$A:$Z,MATCH($B18,'[1]【第9戦】決勝ヒート - レース結果（貼付）'!$B:$B,0),MATCH('【第9戦】決勝ヒート - レース暫定結果表'!F$11,'[1]【第9戦】決勝ヒート - レース結果（貼付）'!$1:$1,0)),"") -> TONY KART/VORTEX | G18: =IFERROR(INDEX('[1]【第9戦】決勝ヒート - レース結果（貼付）'!$A:$Z,MATCH($B18,'[1]【第9戦】決勝ヒート - レース結果（貼付）'!$B:$B,0),MATCH('【第9戦】決勝ヒート - レース暫定結果表'!G$11,'[1]【第9戦】決勝ヒート - レース結果（貼付）'!$1:$1,0)),"") -> TONYKART RACING TEAM JAPAN | H18: =IFERROR(INDEX('[1]【第9戦】決勝ヒート - レース結果（貼付）'!$A:$Z,MATCH($B18,'[1]【第9戦】決勝ヒート - レース結果（貼付）'!$B:$B,0),MATCH('【第9戦】決勝ヒート - レース暫定結果表'!H$11,'[1]【第9戦】決勝ヒート - レース結果（貼付）'!$1:$1,0)),"") -> BS | I18: =IF(A18="DNS","",IF(A18="DQ","",IFERROR(INDEX('[1]【第9戦】決勝ヒート - レース結果（貼付）'!$A:$Z,MATCH($A18,'[1]【第9戦】決勝ヒート - レース結果（貼付）'!$A:$A,0),MATCH('【第9戦】決勝ヒート - レース暫定結果表'!I$11,'[1]【第9戦】決勝ヒート - レース結果（貼付）'!$1:$1,0)),""))) -> 24 | J18: =IF(A18="DNS","ｽﾀｰﾄ出来ず",IF(A18="DQ","失 格",IFERROR(INDEX('[1]【第9戦】決勝ヒート - レース結果（貼付）'!$A:$Z,MATCH($B18,'[1]【第9戦】決勝ヒート - レース結果（貼付）'!$B:$B,0),MATCH('【第9戦】決勝ヒート - レース暫定結果表'!J$11,'[1]【第9戦】決勝ヒート - レース結果（貼付）'!$1:$1,0)),""))) -> 0.012763565 | K18: =IF(A18="DNS","",IF(A18="DQ","",IFERROR(INDEX('[1]【第9戦】決勝ヒート - レース結果（貼付）'!$A:$Z,MATCH($A18,'[1]【第9戦】決勝ヒート - レース結果（貼付）'!$A:$A,0),MATCH('【第9戦】決勝ヒート - レース暫定結果表'!K$11,'[1]【第9戦】決勝ヒート - レース結果（貼付）'!$1:$1,0)),""))) -> 1.772 | L18: =IF(A18="DNS","",IF(A18="DQ","",IFERROR(INDEX('[1]【第9戦】決勝ヒート - レース結果（貼付）'!$A:$Z,MATCH($A18,'[1]【第9戦】決勝ヒート - レース結果（貼付）'!$A:$A,0),MATCH('【第9戦】決勝ヒート - レース暫定結果表'!L$11,'[1]【第9戦】決勝ヒート - レース結果（貼付）'!$1:$1,0)),""))) -> 0.278 | M18: =IF(A18="DNS","",IF(A18="DQ","",IFERROR(INDEX('[1]【第9戦】決勝ヒート - レース結果（貼付）'!$A:$Z,MATCH($B18,'[1]【第9戦】決勝ヒート - レース結果（貼付）'!$B:$B,0),MATCH('【第9戦】決勝ヒート - レース暫定結果表'!M$11,'[1]【第9戦】決勝ヒート - レース結果（貼付）'!$1:$1,0)),""))) -> 45.389 | N18: =IF(M18<1,"",IF($N$11>M18,"R","")) | Q18: =IF(IFERROR(INDEX('[1]【第9戦】決勝ヒート - レース結果（貼付）'!$A:$Z,MATCH($B18,'[1]【第9戦】決勝ヒート - レース結果（貼付）'!$B:$B,0),MATCH('【第9戦】決勝ヒート - レース暫定結果表'!Q$11,'[1]【第9戦】決勝ヒート - レース結果（貼付）'!$1:$1,0)),"")=0,"",IFERROR(INDEX('[1]【第9戦】決勝ヒート - レース結果（貼付）'!$A:$Z,MATCH($B18,'[1]【第9戦】決勝ヒート - レース結果（貼付）'!$B:$B,0),MATCH('【第9戦】決勝ヒート - レース暫定結果表'!Q$11,'[1]【第9戦】決勝ヒート - レース結果（貼付）'!$1:$1,0)),"")) | R18: =IF(Q18="","",COUNTIF($Q$13:Q18,"<>"&"")) | S18: =IFERROR(RANK(R18,$R$13:$R$47,1),"") | T18: =IF(IFERROR(INDEX('[1]【第9戦】決勝ヒート - レース結果（貼付）'!$A:$Z,MATCH($A18,'[1]【第9戦】決勝ヒート - レース結果（貼付）'!$A:$A,0),MATCH('【第9戦】決勝ヒート - レース暫定結果表'!T$11,'[1]【第9戦】決勝ヒート - レース結果（貼付）'!$1:$1,0)),"")=0,"",IFERROR(INDEX('[1]【第9戦】決勝ヒート - レース結果（貼付）'!$A:$Z,MATCH($A18,'[1]【第9戦】決勝ヒート - レース結果（貼付）'!$A:$A,0),MATCH('【第9戦】決勝ヒート - レース暫定結果表'!T$11,'[1]【第9戦】決勝ヒート - レース結果（貼付）'!$1:$1,0)),"")) | U18: =IF(IFERROR(INDEX('[1]【第9戦】決勝ヒート - レース結果（貼付）'!$A:$Z,MATCH($B18,'[1]【第9戦】決勝ヒート - レース結果（貼付）'!$B:$B,0),MATCH('[1]【第9戦】決勝ヒート - レース正式結果表（印刷）'!U$11,'[1]【第9戦】決勝ヒート - レース結果（貼付）'!$1:$1,0)),"")=0,"",IFERROR(INDEX('[1]【第9戦】決勝ヒート - レース結果（貼付）'!$A:$Z,MATCH($B18,'[1]【第9戦】決勝ヒート - レース結果（貼付）'!$B:$B,0),MATCH('[1]【第9戦】決勝ヒート - レース正式結果表（印刷）'!U$11,'[1]【第9戦】決勝ヒート - レース結果（貼付）'!$1:$1,0)),"")) -> 100.187
A19: =IF(OR('[1]【第9戦】決勝ヒート - レース結果（貼付）'!A8="DNF",'[1]【第9戦】決勝ヒート - レース結果（貼付）'!A8="DNS",'[1]【第9戦】決勝ヒート - レース結果（貼付）'!A8="DQ"),'[1]【第9戦】決勝ヒート - レース結果（貼付）'!A8,IF(MAX('[1]【第9戦】決勝ヒート - レース結果（貼付）'!A:A)>A18,A18+1,"")) -> 7 | B19: =IFERROR(INDEX('[1]【第9戦】決勝ヒート - レース結果（貼付）'!A8:$Z$50,MATCH($A19,'[1]【第9戦】決勝ヒート - レース結果（貼付）'!A8:$A$50,0),MATCH('【第9戦】決勝ヒート - レース暫定結果表'!B$11,'[1]【第9戦】決勝ヒート - レース結果（貼付）'!$1:$1,0)),"") -> 13 | E19: =IFERROR(INDEX('[1]【第9戦】決勝ヒート - レース結果（貼付）'!$A:$Z,MATCH($B19,'[1]【第9戦】決勝ヒート - レース結果（貼付）'!$B:$B,0),MATCH('【第9戦】決勝ヒート - レース暫定結果表'!E$11,'[1]【第9戦】決勝ヒート - レース結果（貼付）'!$1:$1,0)),"") -> 梅垣 清 | F19: =IFERROR(INDEX('[1]【第9戦】決勝ヒート - レース結果（貼付）'!$A:$Z,MATCH($B19,'[1]【第9戦】決勝ヒート - レース結果（貼付）'!$B:$B,0),MATCH('【第9戦】決勝ヒート - レース暫定結果表'!F$11,'[1]【第9戦】決勝ヒート - レース結果（貼付）'!$1:$1,0)),"") -> Birel ART/IAME | G19: =IFERROR(INDEX('[1]【第9戦】決勝ヒート - レース結果（貼付）'!$A:$Z,MATCH($B19,'[1]【第9戦】決勝ヒート - レース結果（貼付）'!$B:$B,0),MATCH('【第9戦】決勝ヒート - レース暫定結果表'!G$11,'[1]【第9戦】決勝ヒート - レース結果（貼付）'!$1:$1,0)),"") -> BirelART Access Racing | H19: =IFERROR(INDEX('[1]【第9戦】決勝ヒート - レース結果（貼付）'!$A:$Z,MATCH($B19,'[1]【第9戦】決勝ヒート - レース結果（貼付）'!$B:$B,0),MATCH('【第9戦】決勝ヒート - レース暫定結果表'!H$11,'[1]【第9戦】決勝ヒート - レース結果（貼付）'!$1:$1,0)),"") -> BS | I19: =IF(A19="DNS","",IF(A19="DQ","",IFERROR(INDEX('[1]【第9戦】決勝ヒート - レース結果（貼付）'!$A:$Z,MATCH($A19,'[1]【第9戦】決勝ヒート - レース結果（貼付）'!$A:$A,0),MATCH('【第9戦】決勝ヒート - レース暫定結果表'!I$11,'[1]【第9戦】決勝ヒート - レース結果（貼付）'!$1:$1,0)),""))) -> 24 | J19: =IF(A19="DNS","ｽﾀｰﾄ出来ず",IF(A19="DQ","失 格",IFERROR(INDEX('[1]【第9戦】決勝ヒート - レース結果（貼付）'!$A:$Z,MATCH($B19,'[1]【第9戦】決勝ヒート - レース結果（貼付）'!$B:$B,0),MATCH('【第9戦】決勝ヒート - レース暫定結果表'!J$11,'[1]【第9戦】決勝ヒート - レース結果（貼付）'!$1:$1,0)),""))) -> 0.012777164 | K19: =IF(A19="DNS","",IF(A19="DQ","",IFERROR(INDEX('[1]【第9戦】決勝ヒート - レース結果（貼付）'!$A:$Z,MATCH($A19,'[1]【第9戦】決勝ヒート - レース結果（貼付）'!$A:$A,0),MATCH('【第9戦】決勝ヒート - レース暫定結果表'!K$11,'[1]【第9戦】決勝ヒート - レース結果（貼付）'!$1:$1,0)),""))) -> 2.947 | L19: =IF(A19="DNS","",IF(A19="DQ","",IFERROR(INDEX('[1]【第9戦】決勝ヒート - レース結果（貼付）'!$A:$Z,MATCH($A19,'[1]【第9戦】決勝ヒート - レース結果（貼付）'!$A:$A,0),MATCH('【第9戦】決勝ヒート - レース暫定結果表'!L$11,'[1]【第9戦】決勝ヒート - レース結果（貼付）'!$1:$1,0)),""))) -> 1.175 | M19: =IF(A19="DNS","",IF(A19="DQ","",IFERROR(INDEX('[1]【第9戦】決勝ヒート - レース結果（貼付）'!$A:$Z,MATCH($B19,'[1]【第9戦】決勝ヒート - レース結果（貼付）'!$B:$B,0),MATCH('【第9戦】決勝ヒート - レース暫定結果表'!M$11,'[1]【第9戦】決勝ヒート - レース結果（貼付）'!$1:$1,0)),""))) -> 45.454 | N19: =IF(M19<1,"",IF($N$11>M19,"R","")) | Q19: =IF(IFERROR(INDEX('[1]【第9戦】決勝ヒート - レース結果（貼付）'!$A:$Z,MATCH($B19,'[1]【第9戦】決勝ヒート - レース結果（貼付）'!$B:$B,0),MATCH('【第9戦】決勝ヒート - レース暫定結果表'!Q$11,'[1]【第9戦】決勝ヒート - レース結果（貼付）'!$1:$1,0)),"")=0,"",IFERROR(INDEX('[1]【第9戦】決勝ヒート - レース結果（貼付）'!$A:$Z,MATCH($B19,'[1]【第9戦】決勝ヒート - レース結果（貼付）'!$B:$B,0),MATCH('【第9戦】決勝ヒート - レース暫定結果表'!Q$11,'[1]【第9戦】決勝ヒート - レース結果（貼付）'!$1:$1,0)),"")) | R19: =IF(Q19="","",COUNTIF($Q$13:Q19,"<>"&"")) | S19: =IFERROR(RANK(R19,$R$13:$R$47,1),"") | T19: =IF(IFERROR(INDEX('[1]【第9戦】決勝ヒート - レース結果（貼付）'!$A:$Z,MATCH($A19,'[1]【第9戦】決勝ヒート - レース結果（貼付）'!$A:$A,0),MATCH('【第9戦】決勝ヒート - レース暫定結果表'!T$11,'[1]【第9戦】決勝ヒート - レース結果（貼付）'!$1:$1,0)),"")=0,"",IFERROR(INDEX('[1]【第9戦】決勝ヒート - レース結果（貼付）'!$A:$Z,MATCH($A19,'[1]【第9戦】決勝ヒート - レース結果（貼付）'!$A:$A,0),MATCH('【第9戦】決勝ヒート - レース暫定結果表'!T$11,'[1]【第9戦】決勝ヒート - レース結果（貼付）'!$1:$1,0)),"")) | U19: =IF(IFERROR(INDEX('[1]【第9戦】決勝ヒート - レース結果（貼付）'!$A:$Z,MATCH($B19,'[1]【第9戦】決勝ヒート - レース結果（貼付）'!$B:$B,0),MATCH('[1]【第9戦】決勝ヒート - レース正式結果表（印刷）'!U$11,'[1]【第9戦】決勝ヒート - レース結果（貼付）'!$1:$1,0)),"")=0,"",IFERROR(INDEX('[1]【第9戦】決勝ヒート - レース結果（貼付）'!$A:$Z,MATCH($B19,'[1]【第9戦】決勝ヒート - レース結果（貼付）'!$B:$B,0),MATCH('[1]【第9戦】決勝ヒート - レース正式結果表（印刷）'!U$11,'[1]【第9戦】決勝ヒート - レース結果（貼付）'!$1:$1,0)),"")) -> 100.335
A20: =IF(OR('[1]【第9戦】決勝ヒート - レース結果（貼付）'!A9="DNF",'[1]【第9戦】決勝ヒート - レース結果（貼付）'!A9="DNS",'[1]【第9戦】決勝ヒート - レース結果（貼付）'!A9="DQ"),'[1]【第9戦】決勝ヒート - レース結果（貼付）'!A9,IF(MAX('[1]【第9戦】決勝ヒート - レース結果（貼付）'!A:A)>A19,A19+1,"")) -> 8 | B20: =IFERROR(INDEX('[1]【第9戦】決勝ヒート - レース結果（貼付）'!A9:$Z$50,MATCH($A20,'[1]【第9戦】決勝ヒート - レース結果（貼付）'!A9:$A$50,0),MATCH('【第9戦】決勝ヒート - レース暫定結果表'!B$11,'[1]【第9戦】決勝ヒート - レース結果（貼付）'!$1:$1,0)),"") -> 11 | E20: =IFERROR(INDEX('[1]【第9戦】決勝ヒート - レース結果（貼付）'!$A:$Z,MATCH($B20,'[1]【第9戦】決勝ヒート - レース結果（貼付）'!$B:$B,0),MATCH('【第9戦】決勝ヒート - レース暫定結果表'!E$11,'[1]【第9戦】決勝ヒート - レース結果（貼付）'!$1:$1,0)),"") -> 佐野 雄城 | F20: =IFERROR(INDEX('[1]【第9戦】決勝ヒート - レース結果（貼付）'!$A:$Z,MATCH($B20,'[1]【第9戦】決勝ヒート - レース結果（貼付）'!$B:$B,0),MATCH('【第9戦】決勝ヒート - レース暫定結果表'!F$11,'[1]【第9戦】決勝ヒート - レース結果（貼付）'!$1:$1,0)),"") -> Birel ART/IAME | G20: =IFERROR(INDEX('[1]【第9戦】決勝ヒート - レース結果（貼付）'!$A:$Z,MATCH($B20,'[1]【第9戦】決勝ヒート - レース結果（貼付）'!$B:$B,0),MATCH('【第9戦】決勝ヒート - レース暫定結果表'!G$11,'[1]【第9戦】決勝ヒート - レース結果（貼付）'!$1:$1,0)),"") -> BirelART Access Racing | H20: =IFERROR(INDEX('[1]【第9戦】決勝ヒート - レース結果（貼付）'!$A:$Z,MATCH($B20,'[1]【第9戦】決勝ヒート - レース結果（貼付）'!$B:$B,0),MATCH('【第9戦】決勝ヒート - レース暫定結果表'!H$11,'[1]【第9戦】決勝ヒート - レース結果（貼付）'!$1:$1,0)),"") -> BS | I20: =IF(A20="DNS","",IF(A20="DQ","",IFERROR(INDEX('[1]【第9戦】決勝ヒート - レース結果（貼付）'!$A:$Z,MATCH($A20,'[1]【第9戦】決勝ヒート - レース結果（貼付）'!$A:$A,0),MATCH('【第9戦】決勝ヒート - レース暫定結果表'!I$11,'[1]【第9戦】決勝ヒート - レース結果（貼付）'!$1:$1,0)),""))) -> 24 | J20: =IF(A20="DNS","ｽﾀｰﾄ出来ず",IF(A20="DQ","失 格",IFERROR(INDEX('[1]【第9戦】決勝ヒート - レース結果（貼付）'!$A:$Z,MATCH($B20,'[1]【第9戦】決勝ヒート - レース結果（貼付）'!$B:$B,0),MATCH('【第9戦】決勝ヒート - レース暫定結果表'!J$11,'[1]【第9戦】決勝ヒート - レース結果（貼付）'!$1:$1,0)),""))) -> 0.012792963 | K20: =IF(A20="DNS","",IF(A20="DQ","",IFERROR(INDEX('[1]【第9戦】決勝ヒート - レース結果（貼付）'!$A:$Z,MATCH($A20,'[1]【第9戦】決勝ヒート - レース結果（貼付）'!$A:$A,0),MATCH('【第9戦】決勝ヒート - レース暫定結果表'!K$11,'[1]【第9戦】決勝ヒート - レース結果（貼付）'!$1:$1,0)),""))) -> 4.312 | L20: =IF(A20="DNS","",IF(A20="DQ","",IFERROR(INDEX('[1]【第9戦】決勝ヒート - レース結果（貼付）'!$A:$Z,MATCH($A20,'[1]【第9戦】決勝ヒート - レース結果（貼付）'!$A:$A,0),MATCH('【第9戦】決勝ヒート - レース暫定結果表'!L$11,'[1]【第9戦】決勝ヒート - レース結果（貼付）'!$1:$1,0)),""))) -> 1.365 | M20: =IF(A20="DNS","",IF(A20="DQ","",IFERROR(INDEX('[1]【第9戦】決勝ヒート - レース結果（貼付）'!$A:$Z,MATCH($B20,'[1]【第9戦】決勝ヒート - レース結果（貼付）'!$B:$B,0),MATCH('【第9戦】決勝ヒート - レース暫定結果表'!M$11,'[1]【第9戦】決勝ヒート - レース結果（貼付）'!$1:$1,0)),""))) -> 45.541 | N20: =IF(M20<1,"",IF($N$11>M20,"R","")) | Q20: =IF(IFERROR(INDEX('[1]【第9戦】決勝ヒート - レース結果（貼付）'!$A:$Z,MATCH($B20,'[1]【第9戦】決勝ヒート - レース結果（貼付）'!$B:$B,0),MATCH('【第9戦】決勝ヒート - レース暫定結果表'!Q$11,'[1]【第9戦】決勝ヒート - レース結果（貼付）'!$1:$1,0)),"")=0,"",IFERROR(INDEX('[1]【第9戦】決勝ヒート - レース結果（貼付）'!$A:$Z,MATCH($B20,'[1]【第9戦】決勝ヒート - レース結果（貼付）'!$B:$B,0),MATCH('【第9戦】決勝ヒート - レース暫定結果表'!Q$11,'[1]【第9戦】決勝ヒート - レース結果（貼付）'!$1:$1,0)),"")) | R20: =IF(Q20="","",COUNTIF($Q$13:Q20,"<>"&"")) | S20: =IFERROR(RANK(R20,$R$13:$R$47,1),"") | T20: =IF(IFERROR(INDEX('[1]【第9戦】決勝ヒート - レース結果（貼付）'!$A:$Z,MATCH($A20,'[1]【第9戦】決勝ヒート - レース結果（貼付）'!$A:$A,0),MATCH('【第9戦】決勝ヒート - レース暫定結果表'!T$11,'[1]【第9戦】決勝ヒート - レース結果（貼付）'!$1:$1,0)),"")=0,"",IFERROR(INDEX('[1]【第9戦】決勝ヒート - レース結果（貼付）'!$A:$Z,MATCH($A20,'[1]【第9戦】決勝ヒート - レース結果（貼付）'!$A:$A,0),MATCH('【第9戦】決勝ヒート - レース暫定結果表'!T$11,'[1]【第9戦】決勝ヒート - レース結果（貼付）'!$1:$1,0)),"")) | U20: =IF(IFERROR(INDEX('[1]【第9戦】決勝ヒート - レース結果（貼付）'!$A:$Z,MATCH($B20,'[1]【第9戦】決勝ヒート - レース結果（貼付）'!$B:$B,0),MATCH('[1]【第9戦】決勝ヒート - レース正式結果表（印刷）'!U$11,'[1]【第9戦】決勝ヒート - レース結果（貼付）'!$1:$1,0)),"")=0,"",IFERROR(INDEX('[1]【第9戦】決勝ヒート - レース結果（貼付）'!$A:$Z,MATCH($B20,'[1]【第9戦】決勝ヒート - レース結果（貼付）'!$B:$B,0),MATCH('[1]【第9戦】決勝ヒート - レース正式結果表（印刷）'!U$11,'[1]【第9戦】決勝ヒート - レース結果（貼付）'!$1:$1,0)),"")) -> 100.253
A21: =IF(OR('[1]【第9戦】決勝ヒート - レース結果（貼付）'!A10="DNF",'[1]【第9戦】決勝ヒート - レース結果（貼付）'!A10="DNS",'[1]【第9戦】決勝ヒート - レース結果（貼付）'!A10="DQ"),'[1]【第9戦】決勝ヒート - レース結果（貼付）'!A10,IF(MAX('[1]【第9戦】決勝ヒート - レース結果（貼付）'!A:A)>A20,A20+1,"")) -> 9 | B21: =IFERROR(INDEX('[1]【第9戦】決勝ヒート - レース結果（貼付）'!A10:$Z$50,MATCH($A21,'[1]【第9戦】決勝ヒート - レース結果（貼付）'!A10:$A$50,0),MATCH('【第9戦】決勝ヒート - レース暫定結果表'!B$11,'[1]【第9戦】決勝ヒート - レース結果（貼付）'!$1:$1,0)),"") -> 44 | E21: =IFERROR(INDEX('[1]【第9戦】決勝ヒート - レース結果（貼付）'!$A:$Z,MATCH($B21,'[1]【第9戦】決勝ヒート - レース結果（貼付）'!$B:$B,0),MATCH('【第9戦】決勝ヒート - レース暫定結果表'!E$11,'[1]【第9戦】決勝ヒート - レース結果（貼付）'!$1:$1,0)),"") -> 佐藤 凌音 | F21: =IFERROR(INDEX('[1]【第9戦】決勝ヒート - レース結果（貼付）'!$A:$Z,MATCH($B21,'[1]【第9戦】決勝ヒート - レース結果（貼付）'!$B:$B,0),MATCH('【第9戦】決勝ヒート - レース暫定結果表'!F$11,'[1]【第9戦】決勝ヒート - レース結果（貼付）'!$1:$1,0)),"") -> LN KART/TM | G21: =IFERROR(INDEX('[1]【第9戦】決勝ヒート - レース結果（貼付）'!$A:$Z,MATCH($B21,'[1]【第9戦】決勝ヒート - レース結果（貼付）'!$B:$B,0),MATCH('【第9戦】決勝ヒート - レース暫定結果表'!G$11,'[1]【第9戦】決勝ヒート - レース結果（貼付）'!$1:$1,0)),"") -> TOKAIDENSO DSM | H21: =IFERROR(INDEX('[1]【第9戦】決勝ヒート - レース結果（貼付）'!$A:$Z,MATCH($B21,'[1]【第9戦】決勝ヒート - レース結果（貼付）'!$B:$B,0),MATCH('【第9戦】決勝ヒート - レース暫定結果表'!H$11,'[1]【第9戦】決勝ヒート - レース結果（貼付）'!$1:$1,0)),"") -> BS | I21: =IF(A21="DNS","",IF(A21="DQ","",IFERROR(INDEX('[1]【第9戦】決勝ヒート - レース結果（貼付）'!$A:$Z,MATCH($A21,'[1]【第9戦】決勝ヒート - レース結果（貼付）'!$A:$A,0),MATCH('【第9戦】決勝ヒート - レース暫定結果表'!I$11,'[1]【第9戦】決勝ヒート - レース結果（貼付）'!$1:$1,0)),""))) -> 24 | J21: =IF(A21="DNS","ｽﾀｰﾄ出来ず",IF(A21="DQ","失 格",IFERROR(INDEX('[1]【第9戦】決勝ヒート - レース結果（貼付）'!$A:$Z,MATCH($B21,'[1]【第9戦】決勝ヒート - レース結果（貼付）'!$B:$B,0),MATCH('【第9戦】決勝ヒート - レース暫定結果表'!J$11,'[1]【第9戦】決勝ヒート - レース結果（貼付）'!$1:$1,0)),""))) -> 0.012811597 | K21: =IF(A21="DNS","",IF(A21="DQ","",IFERROR(INDEX('[1]【第9戦】決勝ヒート - レース結果（貼付）'!$A:$Z,MATCH($A21,'[1]【第9戦】決勝ヒート - レース結果（貼付）'!$A:$A,0),MATCH('【第9戦】決勝ヒート - レース暫定結果表'!K$11,'[1]【第9戦】決勝ヒート - レース結果（貼付）'!$1:$1,0)),""))) -> 5.922 | L21: =IF(A21="DNS","",IF(A21="DQ","",IFERROR(INDEX('[1]【第9戦】決勝ヒート - レース結果（貼付）'!$A:$Z,MATCH($A21,'[1]【第9戦】決勝ヒート - レース結果（貼付）'!$A:$A,0),MATCH('【第9戦】決勝ヒート - レース暫定結果表'!L$11,'[1]【第9戦】決勝ヒート - レース結果（貼付）'!$1:$1,0)),""))) -> 1.61 | M21: =IF(A21="DNS","",IF(A21="DQ","",IFERROR(INDEX('[1]【第9戦】決勝ヒート - レース結果（貼付）'!$A:$Z,MATCH($B21,'[1]【第9戦】決勝ヒート - レース結果（貼付）'!$B:$B,0),MATCH('【第9戦】決勝ヒート - レース暫定結果表'!M$11,'[1]【第9戦】決勝ヒート - レース結果（貼付）'!$1:$1,0)),""))) -> 45.572 | N21: =IF(M21<1,"",IF($N$11>M21,"R","")) | Q21: =IF(IFERROR(INDEX('[1]【第9戦】決勝ヒート - レース結果（貼付）'!$A:$Z,MATCH($B21,'[1]【第9戦】決勝ヒート - レース結果（貼付）'!$B:$B,0),MATCH('【第9戦】決勝ヒート - レース暫定結果表'!Q$11,'[1]【第9戦】決勝ヒート - レース結果（貼付）'!$1:$1,0)),"")=0,"",IFERROR(INDEX('[1]【第9戦】決勝ヒート - レース結果（貼付）'!$A:$Z,MATCH($B21,'[1]【第9戦】決勝ヒート - レース結果（貼付）'!$B:$B,0),MATCH('【第9戦】決勝ヒート - レース暫定結果表'!Q$11,'[1]【第9戦】決勝ヒート - レース結果（貼付）'!$1:$1,0)),"")) | R21: =IF(Q21="","",COUNTIF($Q$13:Q21,"<>"&"")) | S21: =IFERROR(RANK(R21,$R$13:$R$47,1),"") | T21: =IF(IFERROR(INDEX('[1]【第9戦】決勝ヒート - レース結果（貼付）'!$A:$Z,MATCH($A21,'[1]【第9戦】決勝ヒート - レース結果（貼付）'!$A:$A,0),MATCH('【第9戦】決勝ヒート - レース暫定結果表'!T$11,'[1]【第9戦】決勝ヒート - レース結果（貼付）'!$1:$1,0)),"")=0,"",IFERROR(INDEX('[1]【第9戦】決勝ヒート - レース結果（貼付）'!$A:$Z,MATCH($A21,'[1]【第9戦】決勝ヒート - レース結果（貼付）'!$A:$A,0),MATCH('【第9戦】決勝ヒート - レース暫定結果表'!T$11,'[1]【第9戦】決勝ヒート - レース結果（貼付）'!$1:$1,0)),"")) | U21: =IF(IFERROR(INDEX('[1]【第9戦】決勝ヒート - レース結果（貼付）'!$A:$Z,MATCH($B21,'[1]【第9戦】決勝ヒート - レース結果（貼付）'!$B:$B,0),MATCH('[1]【第9戦】決勝ヒート - レース正式結果表（印刷）'!U$11,'[1]【第9戦】決勝ヒート - レース結果（貼付）'!$1:$1,0)),"")=0,"",IFERROR(INDEX('[1]【第9戦】決勝ヒート - レース結果（貼付）'!$A:$Z,MATCH($B21,'[1]【第9戦】決勝ヒート - レース結果（貼付）'!$B:$B,0),MATCH('[1]【第9戦】決勝ヒート - レース正式結果表（印刷）'!U$11,'[1]【第9戦】決勝ヒート - レース結果（貼付）'!$1:$1,0)),"")) -> 100.11
A22: =IF(OR('[1]【第9戦】決勝ヒート - レース結果（貼付）'!A11="DNF",'[1]【第9戦】決勝ヒート - レース結果（貼付）'!A11="DNS",'[1]【第9戦】決勝ヒート - レース結果（貼付）'!A11="DQ"),'[1]【第9戦】決勝ヒート - レース結果（貼付）'!A11,IF(MAX('[1]【第9戦】決勝ヒート - レース結果（貼付）'!A:A)>A21,A21+1,"")) -> 10 | B22: =IFERROR(INDEX('[1]【第9戦】決勝ヒート - レース結果（貼付）'!A11:$Z$50,MATCH($A22,'[1]【第9戦】決勝ヒート - レース結果（貼付）'!A11:$A$50,0),MATCH('【第9戦】決勝ヒート - レース暫定結果表'!B$11,'[1]【第9戦】決勝ヒート - レース結果（貼付）'!$1:$1,0)),"") -> 77 | E22: =IFERROR(INDEX('[1]【第9戦】決勝ヒート - レース結果（貼付）'!$A:$Z,MATCH($B22,'[1]【第9戦】決勝ヒート - レース結果（貼付）'!$B:$B,0),MATCH('【第9戦】決勝ヒート - レース暫定結果表'!E$11,'[1]【第9戦】決勝ヒート - レース結果（貼付）'!$1:$1,0)),"") -> 渡部 智仁 | F22: =IFERROR(INDEX('[1]【第9戦】決勝ヒート - レース結果（貼付）'!$A:$Z,MATCH($B22,'[1]【第9戦】決勝ヒート - レース結果（貼付）'!$B:$B,0),MATCH('【第9戦】決勝ヒート - レース暫定結果表'!F$11,'[1]【第9戦】決勝ヒート - レース結果（貼付）'!$1:$1,0)),"") -> Rosa Drago CORSE/TM | G22: =IFERROR(INDEX('[1]【第9戦】決勝ヒート - レース結果（貼付）'!$A:$Z,MATCH($B22,'[1]【第9戦】決勝ヒート - レース結果（貼付）'!$B:$B,0),MATCH('【第9戦】決勝ヒート - レース暫定結果表'!G$11,'[1]【第9戦】決勝ヒート - レース結果（貼付）'!$1:$1,0)),"") -> RosaDragoCORSE | H22: =IFERROR(INDEX('[1]【第9戦】決勝ヒート - レース結果（貼付）'!$A:$Z,MATCH($B22,'[1]【第9戦】決勝ヒート - レース結果（貼付）'!$B:$B,0),MATCH('【第9戦】決勝ヒート - レース暫定結果表'!H$11,'[1]【第9戦】決勝ヒート - レース結果（貼付）'!$1:$1,0)),"") -> BS | I22: =IF(A22="DNS","",IF(A22="DQ","",IFERROR(INDEX('[1]【第9戦】決勝ヒート - レース結果（貼付）'!$A:$Z,MATCH($A22,'[1]【第9戦】決勝ヒート - レース結果（貼付）'!$A:$A,0),MATCH('【第9戦】決勝ヒート - レース暫定結果表'!I$11,'[1]【第9戦】決勝ヒート - レース結果（貼付）'!$1:$1,0)),""))) -> 24 | J22: =IF(A22="DNS","ｽﾀｰﾄ出来ず",IF(A22="DQ","失 格",IFERROR(INDEX('[1]【第9戦】決勝ヒート - レース結果（貼付）'!$A:$Z,MATCH($B22,'[1]【第9戦】決勝ヒート - レース結果（貼付）'!$B:$B,0),MATCH('【第9戦】決勝ヒート - レース暫定結果表'!J$11,'[1]【第9戦】決勝ヒート - レース結果（貼付）'!$1:$1,0)),""))) -> 0.012812465 | K22: =IF(A22="DNS","",IF(A22="DQ","",IFERROR(INDEX('[1]【第9戦】決勝ヒート - レース結果（貼付）'!$A:$Z,MATCH($A22,'[1]【第9戦】決勝ヒート - レース結果（貼付）'!$A:$A,0),MATCH('【第9戦】決勝ヒート - レース暫定結果表'!K$11,'[1]【第9戦】決勝ヒート - レース結果（貼付）'!$1:$1,0)),""))) -> 5.997 | L22: =IF(A22="DNS","",IF(A22="DQ","",IFERROR(INDEX('[1]【第9戦】決勝ヒート - レース結果（貼付）'!$A:$Z,MATCH($A22,'[1]【第9戦】決勝ヒート - レース結果（貼付）'!$A:$A,0),MATCH('【第9戦】決勝ヒート - レース暫定結果表'!L$11,'[1]【第9戦】決勝ヒート - レース結果（貼付）'!$1:$1,0)),""))) -> 0.075 | M22: =IF(A22="DNS","",IF(A22="DQ","",IFERROR(INDEX('[1]【第9戦】決勝ヒート - レース結果（貼付）'!$A:$Z,MATCH($B22,'[1]【第9戦】決勝ヒート - レース結果（貼付）'!$B:$B,0),MATCH('【第9戦】決勝ヒート - レース暫定結果表'!M$11,'[1]【第9戦】決勝ヒート - レース結果（貼付）'!$1:$1,0)),""))) -> 45.327 | N22: =IF(M22<1,"",IF($N$11>M22,"R","")) | Q22: =IF(IFERROR(INDEX('[1]【第9戦】決勝ヒート - レース結果（貼付）'!$A:$Z,MATCH($B22,'[1]【第9戦】決勝ヒート - レース結果（貼付）'!$B:$B,0),MATCH('【第9戦】決勝ヒート - レース暫定結果表'!Q$11,'[1]【第9戦】決勝ヒート - レース結果（貼付）'!$1:$1,0)),"")=0,"",IFERROR(INDEX('[1]【第9戦】決勝ヒート - レース結果（貼付）'!$A:$Z,MATCH($B22,'[1]【第9戦】決勝ヒート - レース結果（貼付）'!$B:$B,0),MATCH('【第9戦】決勝ヒート - レース暫定結果表'!Q$11,'[1]【第9戦】決勝ヒート - レース結果（貼付）'!$1:$1,0)),"")) -> 全日本カート選手権統一規則書 第38条(25)(フロントフェアリングが正しい装着状態でない)により5秒加算した。 | R22: =IF(Q22="","",COUNTIF($Q$13:Q22,"<>"&"")) -> 10 | S22: =IFERROR(RANK(R22,$R$13:$R$47,1),"") -> 1 | T22: =IF(IFERROR(INDEX('[1]【第9戦】決勝ヒート - レース結果（貼付）'!$A:$Z,MATCH($A22,'[1]【第9戦】決勝ヒート - レース結果（貼付）'!$A:$A,0),MATCH('【第9戦】決勝ヒート - レース暫定結果表'!T$11,'[1]【第9戦】決勝ヒート - レース結果（貼付）'!$1:$1,0)),"")=0,"",IFERROR(INDEX('[1]【第9戦】決勝ヒート - レース結果（貼付）'!$A:$Z,MATCH($A22,'[1]【第9戦】決勝ヒート - レース結果（貼付）'!$A:$A,0),MATCH('【第9戦】決勝ヒート - レース暫定結果表'!T$11,'[1]【第9戦】決勝ヒート - レース結果（貼付）'!$1:$1,0)),"")) | U22: =IF(IFERROR(INDEX('[1]【第9戦】決勝ヒート - レース結果（貼付）'!$A:$Z,MATCH($B22,'[1]【第9戦】決勝ヒート - レース結果（貼付）'!$B:$B,0),MATCH('[1]【第9戦】決勝ヒート - レース正式結果表（印刷）'!U$11,'[1]【第9戦】決勝ヒート - レース結果（貼付）'!$1:$1,0)),"")=0,"",IFERROR(INDEX('[1]【第9戦】決勝ヒート - レース結果（貼付）'!$A:$Z,MATCH($B22,'[1]【第9戦】決勝ヒート - レース結果（貼付）'!$B:$B,0),MATCH('[1]【第9戦】決勝ヒート - レース正式結果表（印刷）'!U$11,'[1]【第9戦】決勝ヒート - レース結果（貼付）'!$1:$1,0)),"")) -> 99.919
A23: =IF(OR('[1]【第9戦】決勝ヒート - レース結果（貼付）'!A12="DNF",'[1]【第9戦】決勝ヒート - レース結果（貼付）'!A12="DNS",'[1]【第9戦】決勝ヒート - レース結果（貼付）'!A12="DQ"),'[1]【第9戦】決勝ヒート - レース結果（貼付）'!A12,IF(MAX('[1]【第9戦】決勝ヒート - レース結果（貼付）'!A:A)>A22,A22+1,"")) -> 11 | B23: =IFERROR(INDEX('[1]【第9戦】決勝ヒート - レース結果（貼付）'!A12:$Z$50,MATCH($A23,'[1]【第9戦】決勝ヒート - レース結果（貼付）'!A12:$A$50,0),MATCH('【第9戦】決勝ヒート - レース暫定結果表'!B$11,'[1]【第9戦】決勝ヒート - レース結果（貼付）'!$1:$1,0)),"") -> 22 | E23: =IFERROR(INDEX('[1]【第9戦】決勝ヒート - レース結果（貼付）'!$A:$Z,MATCH($B23,'[1]【第9戦】決勝ヒート - レース結果（貼付）'!$B:$B,0),MATCH('【第9戦】決勝ヒート - レース暫定結果表'!E$11,'[1]【第9戦】決勝ヒート - レース結果（貼付）'!$1:$1,0)),"") -> 金子 修 | F23: =IFERROR(INDEX('[1]【第9戦】決勝ヒート - レース結果（貼付）'!$A:$Z,MATCH($B23,'[1]【第9戦】決勝ヒート - レース結果（貼付）'!$B:$B,0),MATCH('【第9戦】決勝ヒート - レース暫定結果表'!F$11,'[1]【第9戦】決勝ヒート - レース結果（貼付）'!$1:$1,0)),"") -> TONY KART/VORTEX | G23: =IFERROR(INDEX('[1]【第9戦】決勝ヒート - レース結果（貼付）'!$A:$Z,MATCH($B23,'[1]【第9戦】決勝ヒート - レース結果（貼付）'!$B:$B,0),MATCH('【第9戦】決勝ヒート - レース暫定結果表'!G$11,'[1]【第9戦】決勝ヒート - レース結果（貼付）'!$1:$1,0)),"") -> TONYKART RACING TEAM JAPAN | H23: =IFERROR(INDEX('[1]【第9戦】決勝ヒート - レース結果（貼付）'!$A:$Z,MATCH($B23,'[1]【第9戦】決勝ヒート - レース結果（貼付）'!$B:$B,0),MATCH('【第9戦】決勝ヒート - レース暫定結果表'!H$11,'[1]【第9戦】決勝ヒート - レース結果（貼付）'!$1:$1,0)),"") -> BS | I23: =IF(A23="DNS","",IF(A23="DQ","",IFERROR(INDEX('[1]【第9戦】決勝ヒート - レース結果（貼付）'!$A:$Z,MATCH($A23,'[1]【第9戦】決勝ヒート - レース結果（貼付）'!$A:$A,0),MATCH('【第9戦】決勝ヒート - レース暫定結果表'!I$11,'[1]【第9戦】決勝ヒート - レース結果（貼付）'!$1:$1,0)),""))) -> 24 | J23: =IF(A23="DNS","ｽﾀｰﾄ出来ず",IF(A23="DQ","失 格",IFERROR(INDEX('[1]【第9戦】決勝ヒート - レース結果（貼付）'!$A:$Z,MATCH($B23,'[1]【第9戦】決勝ヒート - レース結果（貼付）'!$B:$B,0),MATCH('【第9戦】決勝ヒート - レース暫定結果表'!J$11,'[1]【第9戦】決勝ヒート - レース結果（貼付）'!$1:$1,0)),""))) -> 0.012816701 | K23: =IF(A23="DNS","",IF(A23="DQ","",IFERROR(INDEX('[1]【第9戦】決勝ヒート - レース結果（貼付）'!$A:$Z,MATCH($A23,'[1]【第9戦】決勝ヒート - レース結果（貼付）'!$A:$A,0),MATCH('【第9戦】決勝ヒート - レース暫定結果表'!K$11,'[1]【第9戦】決勝ヒート - レース結果（貼付）'!$1:$1,0)),""))) -> 6.363 | L23: =IF(A23="DNS","",IF(A23="DQ","",IFERROR(INDEX('[1]【第9戦】決勝ヒート - レース結果（貼付）'!$A:$Z,MATCH($A23,'[1]【第9戦】決勝ヒート - レース結果（貼付）'!$A:$A,0),MATCH('【第9戦】決勝ヒート - レース暫定結果表'!L$11,'[1]【第9戦】決勝ヒート - レース結果（貼付）'!$1:$1,0)),""))) -> 0.366 | M23: =IF(A23="DNS","",IF(A23="DQ","",IFERROR(INDEX('[1]【第9戦】決勝ヒート - レース結果（貼付）'!$A:$Z,MATCH($B23,'[1]【第9戦】決勝ヒート - レース結果（貼付）'!$B:$B,0),MATCH('【第9戦】決勝ヒート - レース暫定結果表'!M$11,'[1]【第9戦】決勝ヒート - レース結果（貼付）'!$1:$1,0)),""))) -> 45.406 | N23: =IF(M23<1,"",IF($N$11>M23,"R","")) | Q23: =IF(IFERROR(INDEX('[1]【第9戦】決勝ヒート - レース結果（貼付）'!$A:$Z,MATCH($B23,'[1]【第9戦】決勝ヒート - レース結果（貼付）'!$B:$B,0),MATCH('【第9戦】決勝ヒート - レース暫定結果表'!Q$11,'[1]【第9戦】決勝ヒート - レース結果（貼付）'!$1:$1,0)),"")=0,"",IFERROR(INDEX('[1]【第9戦】決勝ヒート - レース結果（貼付）'!$A:$Z,MATCH($B23,'[1]【第9戦】決勝ヒート - レース結果（貼付）'!$B:$B,0),MATCH('【第9戦】決勝ヒート - レース暫定結果表'!Q$11,'[1]【第9戦】決勝ヒート - レース結果（貼付）'!$1:$1,0)),"")) | R23: =IF(Q23="","",COUNTIF($Q$13:Q23,"<>"&"")) | S23: =IFERROR(RANK(R23,$R$13:$R$47,1),"") | T23: =IF(IFERROR(INDEX('[1]【第9戦】決勝ヒート - レース結果（貼付）'!$A:$Z,MATCH($A23,'[1]【第9戦】決勝ヒート - レース結果（貼付）'!$A:$A,0),MATCH('【第9戦】決勝ヒート - レース暫定結果表'!T$11,'[1]【第9戦】決勝ヒート - レース結果（貼付）'!$1:$1,0)),"")=0,"",IFERROR(INDEX('[1]【第9戦】決勝ヒート - レース結果（貼付）'!$A:$Z,MATCH($A23,'[1]【第9戦】決勝ヒート - レース結果（貼付）'!$A:$A,0),MATCH('【第9戦】決勝ヒート - レース暫定結果表'!T$11,'[1]【第9戦】決勝ヒート - レース結果（貼付）'!$1:$1,0)),"")) | U23: =IF(IFERROR(INDEX('[1]【第9戦】決勝ヒート - レース結果（貼付）'!$A:$Z,MATCH($B23,'[1]【第9戦】決勝ヒート - レース結果（貼付）'!$B:$B,0),MATCH('[1]【第9戦】決勝ヒート - レース正式結果表（印刷）'!U$11,'[1]【第9戦】決勝ヒート - レース結果（貼付）'!$1:$1,0)),"")=0,"",IFERROR(INDEX('[1]【第9戦】決勝ヒート - レース結果（貼付）'!$A:$Z,MATCH($B23,'[1]【第9戦】決勝ヒート - レース結果（貼付）'!$B:$B,0),MATCH('[1]【第9戦】決勝ヒート - レース正式結果表（印刷）'!U$11,'[1]【第9戦】決勝ヒート - レース結果（貼付）'!$1:$1,0)),"")) -> 99.851
A24: =IF(OR('[1]【第9戦】決勝ヒート - レース結果（貼付）'!A13="DNF",'[1]【第9戦】決勝ヒート - レース結果（貼付）'!A13="DNS",'[1]【第9戦】決勝ヒート - レース結果（貼付）'!A13="DQ"),'[1]【第9戦】決勝ヒート - レース結果（貼付）'!A13,IF(MAX('[1]【第9戦】決勝ヒート - レース結果（貼付）'!A:A)>A23,A23+1,"")) -> 12 | B24: =IFERROR(INDEX('[1]【第9戦】決勝ヒート - レース結果（貼付）'!A13:$Z$50,MATCH($A24,'[1]【第9戦】決勝ヒート - レース結果（貼付）'!A13:$A$50,0),MATCH('【第9戦】決勝ヒート - レース暫定結果表'!B$11,'[1]【第9戦】決勝ヒート - レース結果（貼付）'!$1:$1,0)),"") -> 69 | E24: =IFERROR(INDEX('[1]【第9戦】決勝ヒート - レース結果（貼付）'!$A:$Z,MATCH($B24,'[1]【第9戦】決勝ヒート - レース結果（貼付）'!$B:$B,0),MATCH('【第9戦】決勝ヒート - レース暫定結果表'!E$11,'[1]【第9戦】決勝ヒート - レース結果（貼付）'!$1:$1,0)),"") -> 半田 昌宗 | F24: =IFERROR(INDEX('[1]【第9戦】決勝ヒート - レース結果（貼付）'!$A:$Z,MATCH($B24,'[1]【第9戦】決勝ヒート - レース結果（貼付）'!$B:$B,0),MATCH('【第9戦】決勝ヒート - レース暫定結果表'!F$11,'[1]【第9戦】決勝ヒート - レース結果（貼付）'!$1:$1,0)),"") -> CRG/TM | G24: =IFERROR(INDEX('[1]【第9戦】決勝ヒート - レース結果（貼付）'!$A:$Z,MATCH($B24,'[1]【第9戦】決勝ヒート - レース結果（貼付）'!$B:$B,0),MATCH('【第9戦】決勝ヒート - レース暫定結果表'!G$11,'[1]【第9戦】決勝ヒート - レース結果（貼付）'!$1:$1,0)),"") -> TEAM WOLF | H24: =IFERROR(INDEX('[1]【第9戦】決勝ヒート - レース結果（貼付）'!$A:$Z,MATCH($B24,'[1]【第9戦】決勝ヒート - レース結果（貼付）'!$B:$B,0),MATCH('【第9戦】決勝ヒート - レース暫定結果表'!H$11,'[1]【第9戦】決勝ヒート - レース結果（貼付）'!$1:$1,0)),"") -> BS | I24: =IF(A24="DNS","",IF(A24="DQ","",IFERROR(INDEX('[1]【第9戦】決勝ヒート - レース結果（貼付）'!$A:$Z,MATCH($A24,'[1]【第9戦】決勝ヒート - レース結果（貼付）'!$A:$A,0),MATCH('【第9戦】決勝ヒート - レース暫定結果表'!I$11,'[1]【第9戦】決勝ヒート - レース結果（貼付）'!$1:$1,0)),""))) -> 24 | J24: =IF(A24="DNS","ｽﾀｰﾄ出来ず",IF(A24="DQ","失 格",IFERROR(INDEX('[1]【第9戦】決勝ヒート - レース結果（貼付）'!$A:$Z,MATCH($B24,'[1]【第9戦】決勝ヒート - レース結果（貼付）'!$B:$B,0),MATCH('【第9戦】決勝ヒート - レース暫定結果表'!J$11,'[1]【第9戦】決勝ヒート - レース結果（貼付）'!$1:$1,0)),""))) -> 0.012817662 | K24: =IF(A24="DNS","",IF(A24="DQ","",IFERROR(INDEX('[1]【第9戦】決勝ヒート - レース結果（貼付）'!$A:$Z,MATCH($A24,'[1]【第9戦】決勝ヒート - レース結果（貼付）'!$A:$A,0),MATCH('【第9戦】決勝ヒート - レース暫定結果表'!K$11,'[1]【第9戦】決勝ヒート - レース結果（貼付）'!$1:$1,0)),""))) -> 6.446 | L24: =IF(A24="DNS","",IF(A24="DQ","",IFERROR(INDEX('[1]【第9戦】決勝ヒート - レース結果（貼付）'!$A:$Z,MATCH($A24,'[1]【第9戦】決勝ヒート - レース結果（貼付）'!$A:$A,0),MATCH('【第9戦】決勝ヒート - レース暫定結果表'!L$11,'[1]【第9戦】決勝ヒート - レース結果（貼付）'!$1:$1,0)),""))) -> 0.083 | M24: =IF(A24="DNS","",IF(A24="DQ","",IFERROR(INDEX('[1]【第9戦】決勝ヒート - レース結果（貼付）'!$A:$Z,MATCH($B24,'[1]【第9戦】決勝ヒート - レース結果（貼付）'!$B:$B,0),MATCH('【第9戦】決勝ヒート - レース暫定結果表'!M$11,'[1]【第9戦】決勝ヒート - レース結果（貼付）'!$1:$1,0)),""))) -> 45.545 | N24: =IF(M24<1,"",IF($N$11>M24,"R","")) | Q24: =IF(IFERROR(INDEX('[1]【第9戦】決勝ヒート - レース結果（貼付）'!$A:$Z,MATCH($B24,'[1]【第9戦】決勝ヒート - レース結果（貼付）'!$B:$B,0),MATCH('【第9戦】決勝ヒート - レース暫定結果表'!Q$11,'[1]【第9戦】決勝ヒート - レース結果（貼付）'!$1:$1,0)),"")=0,"",IFERROR(INDEX('[1]【第9戦】決勝ヒート - レース結果（貼付）'!$A:$Z,MATCH($B24,'[1]【第9戦】決勝ヒート - レース結果（貼付）'!$B:$B,0),MATCH('【第9戦】決勝ヒート - レース暫定結果表'!Q$11,'[1]【第9戦】決勝ヒート - レース結果（貼付）'!$1:$1,0)),"")) | R24: =IF(Q24="","",COUNTIF($Q$13:Q24,"<>"&"")) | S24: =IFERROR(RANK(R24,$R$13:$R$47,1),"") | T24: =IF(IFERROR(INDEX('[1]【第9戦】決勝ヒート - レース結果（貼付）'!$A:$Z,MATCH($A24,'[1]【第9戦】決勝ヒート - レース結果（貼付）'!$A:$A,0),MATCH('【第9戦】決勝ヒート - レース暫定結果表'!T$11,'[1]【第9戦】決勝ヒート - レース結果（貼付）'!$1:$1,0)),"")=0,"",IFERROR(INDEX('[1]【第9戦】決勝ヒート - レース結果（貼付）'!$A:$Z,MATCH($A24,'[1]【第9戦】決勝ヒート - レース結果（貼付）'!$A:$A,0),MATCH('【第9戦】決勝ヒート - レース暫定結果表'!T$11,'[1]【第9戦】決勝ヒート - レース結果（貼付）'!$1:$1,0)),"")) | U24: =IF(IFERROR(INDEX('[1]【第9戦】決勝ヒート - レース結果（貼付）'!$A:$Z,MATCH($B24,'[1]【第9戦】決勝ヒート - レース結果（貼付）'!$B:$B,0),MATCH('[1]【第9戦】決勝ヒート - レース正式結果表（印刷）'!U$11,'[1]【第9戦】決勝ヒート - レース結果（貼付）'!$1:$1,0)),"")=0,"",IFERROR(INDEX('[1]【第9戦】決勝ヒート - レース結果（貼付）'!$A:$Z,MATCH($B24,'[1]【第9戦】決勝ヒート - レース結果（貼付）'!$B:$B,0),MATCH('[1]【第9戦】決勝ヒート - レース正式結果表（印刷）'!U$11,'[1]【第9戦】決勝ヒート - レース結果（貼付）'!$1:$1,0)),"")) -> 100.216
A25: =IF(OR('[1]【第9戦】決勝ヒート - レース結果（貼付）'!A14="DNF",'[1]【第9戦】決勝ヒート - レース結果（貼付）'!A14="DNS",'[1]【第9戦】決勝ヒート - レース結果（貼付）'!A14="DQ"),'[1]【第9戦】決勝ヒート - レース結果（貼付）'!A14,IF(MAX('[1]【第9戦】決勝ヒート - レース結果（貼付）'!A:A)>A24,A24+1,"")) -> 13 | B25: =IFERROR(INDEX('[1]【第9戦】決勝ヒート - レース結果（貼付）'!A14:$Z$50,MATCH($A25,'[1]【第9戦】決勝ヒート - レース結果（貼付）'!A14:$A$50,0),MATCH('【第9戦】決勝ヒート - レース暫定結果表'!B$11,'[1]【第9戦】決勝ヒート - レース結果（貼付）'!$1:$1,0)),"") -> 23 | E25: =IFERROR(INDEX('[1]【第9戦】決勝ヒート - レース結果（貼付）'!$A:$Z,MATCH($B25,'[1]【第9戦】決勝ヒート - レース結果（貼付）'!$B:$B,0),MATCH('【第9戦】決勝ヒート - レース暫定結果表'!E$11,'[1]【第9戦】決勝ヒート - レース結果（貼付）'!$1:$1,0)),"") -> 朝日 ターボ | F25: =IFERROR(INDEX('[1]【第9戦】決勝ヒート - レース結果（貼付）'!$A:$Z,MATCH($B25,'[1]【第9戦】決勝ヒート - レース結果（貼付）'!$B:$B,0),MATCH('【第9戦】決勝ヒート - レース暫定結果表'!F$11,'[1]【第9戦】決勝ヒート - レース結果（貼付）'!$1:$1,0)),"") -> Praga/TM | G25: =IFERROR(INDEX('[1]【第9戦】決勝ヒート - レース結果（貼付）'!$A:$Z,MATCH($B25,'[1]【第9戦】決勝ヒート - レース結果（貼付）'!$B:$B,0),MATCH('【第9戦】決勝ヒート - レース暫定結果表'!G$11,'[1]【第9戦】決勝ヒート - レース結果（貼付）'!$1:$1,0)),"") -> MASUDA RACING PROJECT | H25: =IFERROR(INDEX('[1]【第9戦】決勝ヒート - レース結果（貼付）'!$A:$Z,MATCH($B25,'[1]【第9戦】決勝ヒート - レース結果（貼付）'!$B:$B,0),MATCH('【第9戦】決勝ヒート - レース暫定結果表'!H$11,'[1]【第9戦】決勝ヒート - レース結果（貼付）'!$1:$1,0)),"") -> DL | I25: =IF(A25="DNS","",IF(A25="DQ","",IFERROR(INDEX('[1]【第9戦】決勝ヒート - レース結果（貼付）'!$A:$Z,MATCH($A25,'[1]【第9戦】決勝ヒート - レース結果（貼付）'!$A:$A,0),MATCH('【第9戦】決勝ヒート - レース暫定結果表'!I$11,'[1]【第9戦】決勝ヒート - レース結果（貼付）'!$1:$1,0)),""))) -> 24 | J25: =IF(A25="DNS","ｽﾀｰﾄ出来ず",IF(A25="DQ","失 格",IFERROR(INDEX('[1]【第9戦】決勝ヒート - レース結果（貼付）'!$A:$Z,MATCH($B25,'[1]【第9戦】決勝ヒート - レース結果（貼付）'!$B:$B,0),MATCH('【第9戦】決勝ヒート - レース暫定結果表'!J$11,'[1]【第9戦】決勝ヒート - レース結果（貼付）'!$1:$1,0)),""))) -> 0.012839097 | K25: =IF(A25="DNS","",IF(A25="DQ","",IFERROR(INDEX('[1]【第9戦】決勝ヒート - レース結果（貼付）'!$A:$Z,MATCH($A25,'[1]【第9戦】決勝ヒート - レース結果（貼付）'!$A:$A,0),MATCH('【第9戦】決勝ヒート - レース暫定結果表'!K$11,'[1]【第9戦】決勝ヒート - レース結果（貼付）'!$1:$1,0)),""))) -> 8.298 | L25: =IF(A25="DNS","",IF(A25="DQ","",IFERROR(INDEX('[1]【第9戦】決勝ヒート - レース結果（貼付）'!$A:$Z,MATCH($A25,'[1]【第9戦】決勝ヒート - レース結果（貼付）'!$A:$A,0),MATCH('【第9戦】決勝ヒート - レース暫定結果表'!L$11,'[1]【第9戦】決勝ヒート - レース結果（貼付）'!$1:$1,0)),""))) -> 1.852 | M25: =IF(A25="DNS","",IF(A25="DQ","",IFERROR(INDEX('[1]【第9戦】決勝ヒート - レース結果（貼付）'!$A:$Z,MATCH($B25,'[1]【第9戦】決勝ヒート - レース結果（貼付）'!$B:$B,0),MATCH('【第9戦】決勝ヒート - レース暫定結果表'!M$11,'[1]【第9戦】決勝ヒート - レース結果（貼付）'!$1:$1,0)),""))) -> 45.745 | N25: =IF(M25<1,"",IF($N$11>M25,"R","")) | Q25: =IF(IFERROR(INDEX('[1]【第9戦】決勝ヒート - レース結果（貼付）'!$A:$Z,MATCH($B25,'[1]【第9戦】決勝ヒート - レース結果（貼付）'!$B:$B,0),MATCH('【第9戦】決勝ヒート - レース暫定結果表'!Q$11,'[1]【第9戦】決勝ヒート - レース結果（貼付）'!$1:$1,0)),"")=0,"",IFERROR(INDEX('[1]【第9戦】決勝ヒート - レース結果（貼付）'!$A:$Z,MATCH($B25,'[1]【第9戦】決勝ヒート - レース結果（貼付）'!$B:$B,0),MATCH('【第9戦】決勝ヒート - レース暫定結果表'!Q$11,'[1]【第9戦】決勝ヒート - レース結果（貼付）'!$1:$1,0)),"")) | R25: =IF(Q25="","",COUNTIF($Q$13:Q25,"<>"&"")) | S25: =IFERROR(RANK(R25,$R$13:$R$47,1),"") | T25: =IF(IFERROR(INDEX('[1]【第9戦】決勝ヒート - レース結果（貼付）'!$A:$Z,MATCH($A25,'[1]【第9戦】決勝ヒート - レース結果（貼付）'!$A:$A,0),MATCH('【第9戦】決勝ヒート - レース暫定結果表'!T$11,'[1]【第9戦】決勝ヒート - レース結果（貼付）'!$1:$1,0)),"")=0,"",IFERROR(INDEX('[1]【第9戦】決勝ヒート - レース結果（貼付）'!$A:$Z,MATCH($A25,'[1]【第9戦】決勝ヒート - レース結果（貼付）'!$A:$A,0),MATCH('【第9戦】決勝ヒート - レース暫定結果表'!T$11,'[1]【第9戦】決勝ヒート - レース結果（貼付）'!$1:$1,0)),"")) | U25: =IF(IFERROR(INDEX('[1]【第9戦】決勝ヒート - レース結果（貼付）'!$A:$Z,MATCH($B25,'[1]【第9戦】決勝ヒート - レース結果（貼付）'!$B:$B,0),MATCH('[1]【第9戦】決勝ヒート - レース正式結果表（印刷）'!U$11,'[1]【第9戦】決勝ヒート - レース結果（貼付）'!$1:$1,0)),"")=0,"",IFERROR(INDEX('[1]【第9戦】決勝ヒート - レース結果（貼付）'!$A:$Z,MATCH($B25,'[1]【第9戦】決勝ヒート - レース結果（貼付）'!$B:$B,0),MATCH('[1]【第9戦】決勝ヒート - レース正式結果表（印刷）'!U$11,'[1]【第9戦】決勝ヒート - レース結果（貼付）'!$1:$1,0)),"")) -> 99.91
A26: =IF(OR('[1]【第9戦】決勝ヒート - レース結果（貼付）'!A15="DNF",'[1]【第9戦】決勝ヒート - レース結果（貼付）'!A15="DNS",'[1]【第9戦】決勝ヒート - レース結果（貼付）'!A15="DQ"),'[1]【第9戦】決勝ヒート - レース結果（貼付）'!A15,IF(MAX('[1]【第9戦】決勝ヒート - レース結果（貼付）'!A:A)>A25,A25+1,"")) -> 14 | B26: =IFERROR(INDEX('[1]【第9戦】決勝ヒート - レース結果（貼付）'!A15:$Z$50,MATCH($A26,'[1]【第9戦】決勝ヒート - レース結果（貼付）'!A15:$A$50,0),MATCH('【第9戦】決勝ヒート - レース暫定結果表'!B$11,'[1]【第9戦】決勝ヒート - レース結果（貼付）'!$1:$1,0)),"") -> 89 | E26: =IFERROR(INDEX('[1]【第9戦】決勝ヒート - レース結果（貼付）'!$A:$Z,MATCH($B26,'[1]【第9戦】決勝ヒート - レース結果（貼付）'!$B:$B,0),MATCH('【第9戦】決勝ヒート - レース暫定結果表'!E$11,'[1]【第9戦】決勝ヒート - レース結果（貼付）'!$1:$1,0)),"") -> 加藤 大翔 | F26: =IFERROR(INDEX('[1]【第9戦】決勝ヒート - レース結果（貼付）'!$A:$Z,MATCH($B26,'[1]【第9戦】決勝ヒート - レース結果（貼付）'!$B:$B,0),MATCH('【第9戦】決勝ヒート - レース暫定結果表'!F$11,'[1]【第9戦】決勝ヒート - レース結果（貼付）'!$1:$1,0)),"") -> KR/TM | G26: =IFERROR(INDEX('[1]【第9戦】決勝ヒート - レース結果（貼付）'!$A:$Z,MATCH($B26,'[1]【第9戦】決勝ヒート - レース結果（貼付）'!$B:$B,0),MATCH('【第9戦】決勝ヒート - レース暫定結果表'!G$11,'[1]【第9戦】決勝ヒート - レース結果（貼付）'!$1:$1,0)),"") -> PONOS HIROTEX RACING | H26: =IFERROR(INDEX('[1]【第9戦】決勝ヒート - レース結果（貼付）'!$A:$Z,MATCH($B26,'[1]【第9戦】決勝ヒート - レース結果（貼付）'!$B:$B,0),MATCH('【第9戦】決勝ヒート - レース暫定結果表'!H$11,'[1]【第9戦】決勝ヒート - レース結果（貼付）'!$1:$1,0)),"") -> YH | I26: =IF(A26="DNS","",IF(A26="DQ","",IFERROR(INDEX('[1]【第9戦】決勝ヒート - レース結果（貼付）'!$A:$Z,MATCH($A26,'[1]【第9戦】決勝ヒート - レース結果（貼付）'!$A:$A,0),MATCH('【第9戦】決勝ヒート - レース暫定結果表'!I$11,'[1]【第9戦】決勝ヒート - レース結果（貼付）'!$1:$1,0)),""))) -> 24 | J26: =IF(A26="DNS","ｽﾀｰﾄ出来ず",IF(A26="DQ","失 格",IFERROR(INDEX('[1]【第9戦】決勝ヒート - レース結果（貼付）'!$A:$Z,MATCH($B26,'[1]【第9戦】決勝ヒート - レース結果（貼付）'!$B:$B,0),MATCH('【第9戦】決勝ヒート - レース暫定結果表'!J$11,'[1]【第9戦】決勝ヒート - レース結果（貼付）'!$1:$1,0)),""))) -> 0.012842512 | K26: =IF(A26="DNS","",IF(A26="DQ","",IFERROR(INDEX('[1]【第9戦】決勝ヒート - レース結果（貼付）'!$A:$Z,MATCH($A26,'[1]【第9戦】決勝ヒート - レース結果（貼付）'!$A:$A,0),MATCH('【第9戦】決勝ヒート - レース暫定結果表'!K$11,'[1]【第9戦】決勝ヒート - レース結果（貼付）'!$1:$1,0)),""))) -> 8.593 | L26: =IF(A26="DNS","",IF(A26="DQ","",IFERROR(INDEX('[1]【第9戦】決勝ヒート - レース結果（貼付）'!$A:$Z,MATCH($A26,'[1]【第9戦】決勝ヒート - レース結果（貼付）'!$A:$A,0),MATCH('【第9戦】決勝ヒート - レース暫定結果表'!L$11,'[1]【第9戦】決勝ヒート - レース結果（貼付）'!$1:$1,0)),""))) -> 0.295 | M26: =IF(A26="DNS","",IF(A26="DQ","",IFERROR(INDEX('[1]【第9戦】決勝ヒート - レース結果（貼付）'!$A:$Z,MATCH($B26,'[1]【第9戦】決勝ヒート - レース結果（貼付）'!$B:$B,0),MATCH('【第9戦】決勝ヒート - レース暫定結果表'!M$11,'[1]【第9戦】決勝ヒート - レース結果（貼付）'!$1:$1,0)),""))) -> 45.56 | N26: =IF(M26<1,"",IF($N$11>M26,"R","")) | Q26: =IF(IFERROR(INDEX('[1]【第9戦】決勝ヒート - レース結果（貼付）'!$A:$Z,MATCH($B26,'[1]【第9戦】決勝ヒート - レース結果（貼付）'!$B:$B,0),MATCH('【第9戦】決勝ヒート - レース暫定結果表'!Q$11,'[1]【第9戦】決勝ヒート - レース結果（貼付）'!$1:$1,0)),"")=0,"",IFERROR(INDEX('[1]【第9戦】決勝ヒート - レース結果（貼付）'!$A:$Z,MATCH($B26,'[1]【第9戦】決勝ヒート - レース結果（貼付）'!$B:$B,0),MATCH('【第9戦】決勝ヒート - レース暫定結果表'!Q$11,'[1]【第9戦】決勝ヒート - レース結果（貼付）'!$1:$1,0)),"")) | R26: =IF(Q26="","",COUNTIF($Q$13:Q26,"<>"&"")) | S26: =IFERROR(RANK(R26,$R$13:$R$47,1),"") | T26: =IF(IFERROR(INDEX('[1]【第9戦】決勝ヒート - レース結果（貼付）'!$A:$Z,MATCH($A26,'[1]【第9戦】決勝ヒート - レース結果（貼付）'!$A:$A,0),MATCH('【第9戦】決勝ヒート - レース暫定結果表'!T$11,'[1]【第9戦】決勝ヒート - レース結果（貼付）'!$1:$1,0)),"")=0,"",IFERROR(INDEX('[1]【第9戦】決勝ヒート - レース結果（貼付）'!$A:$Z,MATCH($A26,'[1]【第9戦】決勝ヒート - レース結果（貼付）'!$A:$A,0),MATCH('【第9戦】決勝ヒート - レース暫定結果表'!T$11,'[1]【第9戦】決勝ヒート - レース結果（貼付）'!$1:$1,0)),"")) | U26: =IF(IFERROR(INDEX('[1]【第9戦】決勝ヒート - レース結果（貼付）'!$A:$Z,MATCH($B26,'[1]【第9戦】決勝ヒート - レース結果（貼付）'!$B:$B,0),MATCH('[1]【第9戦】決勝ヒート - レース正式結果表（印刷）'!U$11,'[1]【第9戦】決勝ヒート - レース結果（貼付）'!$1:$1,0)),"")=0,"",IFERROR(INDEX('[1]【第9戦】決勝ヒート - レース結果（貼付）'!$A:$Z,MATCH($B26,'[1]【第9戦】決勝ヒート - レース結果（貼付）'!$B:$B,0),MATCH('[1]【第9戦】決勝ヒート - レース正式結果表（印刷）'!U$11,'[1]【第9戦】決勝ヒート - レース結果（貼付）'!$1:$1,0)),"")) -> 99.473
A27: =IF(OR('[1]【第9戦】決勝ヒート - レース結果（貼付）'!A16="DNF",'[1]【第9戦】決勝ヒート - レース結果（貼付）'!A16="DNS",'[1]【第9戦】決勝ヒート - レース結果（貼付）'!A16="DQ"),'[1]【第9戦】決勝ヒート - レース結果（貼付）'!A16,IF(MAX('[1]【第9戦】決勝ヒート - レース結果（貼付）'!A:A)>A26,A26+1,"")) -> 15 | B27: =IFERROR(INDEX('[1]【第9戦】決勝ヒート - レース結果（貼付）'!A16:$Z$50,MATCH($A27,'[1]【第9戦】決勝ヒート - レース結果（貼付）'!A16:$A$50,0),MATCH('【第9戦】決勝ヒート - レース暫定結果表'!B$11,'[1]【第9戦】決勝ヒート - レース結果（貼付）'!$1:$1,0)),"") -> 51 | E27: =IFERROR(INDEX('[1]【第9戦】決勝ヒート - レース結果（貼付）'!$A:$Z,MATCH($B27,'[1]【第9戦】決勝ヒート - レース結果（貼付）'!$B:$B,0),MATCH('【第9戦】決勝ヒート - レース暫定結果表'!E$11,'[1]【第9戦】決勝ヒート - レース結果（貼付）'!$1:$1,0)),"") -> 堂園 鷲 | F27: =IFERROR(INDEX('[1]【第9戦】決勝ヒート - レース結果（貼付）'!$A:$Z,MATCH($B27,'[1]【第9戦】決勝ヒート - レース結果（貼付）'!$B:$B,0),MATCH('【第9戦】決勝ヒート - レース暫定結果表'!F$11,'[1]【第9戦】決勝ヒート - レース結果（貼付）'!$1:$1,0)),"") -> ENERGY CORCE/TM | G27: =IFERROR(INDEX('[1]【第9戦】決勝ヒート - レース結果（貼付）'!$A:$Z,MATCH($B27,'[1]【第9戦】決勝ヒート - レース結果（貼付）'!$B:$B,0),MATCH('【第9戦】決勝ヒート - レース暫定結果表'!G$11,'[1]【第9戦】決勝ヒート - レース結果（貼付）'!$1:$1,0)),"") -> ENERGY JAPAN | H27: =IFERROR(INDEX('[1]【第9戦】決勝ヒート - レース結果（貼付）'!$A:$Z,MATCH($B27,'[1]【第9戦】決勝ヒート - レース結果（貼付）'!$B:$B,0),MATCH('【第9戦】決勝ヒート - レース暫定結果表'!H$11,'[1]【第9戦】決勝ヒート - レース結果（貼付）'!$1:$1,0)),"") -> BS | I27: =IF(A27="DNS","",IF(A27="DQ","",IFERROR(INDEX('[1]【第9戦】決勝ヒート - レース結果（貼付）'!$A:$Z,MATCH($A27,'[1]【第9戦】決勝ヒート - レース結果（貼付）'!$A:$A,0),MATCH('【第9戦】決勝ヒート - レース暫定結果表'!I$11,'[1]【第9戦】決勝ヒート - レース結果（貼付）'!$1:$1,0)),""))) -> 24 | J27: =IF(A27="DNS","ｽﾀｰﾄ出来ず",IF(A27="DQ","失 格",IFERROR(INDEX('[1]【第9戦】決勝ヒート - レース結果（貼付）'!$A:$Z,MATCH($B27,'[1]【第9戦】決勝ヒート - レース結果（貼付）'!$B:$B,0),MATCH('【第9戦】決勝ヒート - レース暫定結果表'!J$11,'[1]【第9戦】決勝ヒート - レース結果（貼付）'!$1:$1,0)),""))) -> 0.012853553 | K27: =IF(A27="DNS","",IF(A27="DQ","",IFERROR(INDEX('[1]【第9戦】決勝ヒート - レース結果（貼付）'!$A:$Z,MATCH($A27,'[1]【第9戦】決勝ヒート - レース結果（貼付）'!$A:$A,0),MATCH('【第9戦】決勝ヒート - レース暫定結果表'!K$11,'[1]【第9戦】決勝ヒート - レース結果（貼付）'!$1:$1,0)),""))) -> 9.547 | L27: =IF(A27="DNS","",IF(A27="DQ","",IFERROR(INDEX('[1]【第9戦】決勝ヒート - レース結果（貼付）'!$A:$Z,MATCH($A27,'[1]【第9戦】決勝ヒート - レース結果（貼付）'!$A:$A,0),MATCH('【第9戦】決勝ヒート - レース暫定結果表'!L$11,'[1]【第9戦】決勝ヒート - レース結果（貼付）'!$1:$1,0)),""))) -> 0.954 | M27: =IF(A27="DNS","",IF(A27="DQ","",IFERROR(INDEX('[1]【第9戦】決勝ヒート - レース結果（貼付）'!$A:$Z,MATCH($B27,'[1]【第9戦】決勝ヒート - レース結果（貼付）'!$B:$B,0),MATCH('【第9戦】決勝ヒート - レース暫定結果表'!M$11,'[1]【第9戦】決勝ヒート - レース結果（貼付）'!$1:$1,0)),""))) -> 45.059 | Q27: =IF(IFERROR(INDEX('[1]【第9戦】決勝ヒート - レース結果（貼付）'!$A:$Z,MATCH($B27,'[1]【第9戦】決勝ヒート - レース結果（貼付）'!$B:$B,0),MATCH('【第9戦】決勝ヒート - レース暫定結果表'!Q$11,'[1]【第9戦】決勝ヒート - レース結果（貼付）'!$1:$1,0)),"")=0,"",IFERROR(INDEX('[1]【第9戦】決勝ヒート - レース結果（貼付）'!$A:$Z,MATCH($B27,'[1]【第9戦】決勝ヒート - レース結果（貼付）'!$B:$B,0),MATCH('【第9戦】決勝ヒート - レース暫定結果表'!Q$11,'[1]【第9戦】決勝ヒート - レース結果（貼付）'!$1:$1,0)),"")) -> JAF国内ｶｰﾄ競技規則 ｶｰﾄ競技会運営に関する規定 22条(妨害の禁止(プッシング・ブロッキング))違反により、10秒加算とした。 | R27: =IF(Q27="","",COUNTIF($Q$13:Q27,"<>"&"")) -> 15 | S27: =IFERROR(RANK(R27,$R$13:$R$47,1),"") -> 2 | T27: =IF(IFERROR(INDEX('[1]【第9戦】決勝ヒート - レース結果（貼付）'!$A:$Z,MATCH($A27,'[1]【第9戦】決勝ヒート - レース結果（貼付）'!$A:$A,0),MATCH('【第9戦】決勝ヒート - レース暫定結果表'!T$11,'[1]【第9戦】決勝ヒート - レース結果（貼付）'!$1:$1,0)),"")=0,"",IFERROR(INDEX('[1]【第9戦】決勝ヒート - レース結果（貼付）'!$A:$Z,MATCH($A27,'[1]【第9戦】決勝ヒート - レース結果（貼付）'!$A:$A,0),MATCH('【第9戦】決勝ヒート - レース暫定結果表'!T$11,'[1]【第9戦】決勝ヒート - レース結果（貼付）'!$1:$1,0)),"")) | U27: =IF(IFERROR(INDEX('[1]【第9戦】決勝ヒート - レース結果（貼付）'!$A:$Z,MATCH($B27,'[1]【第9戦】決勝ヒート - レース結果（貼付）'!$B:$B,0),MATCH('[1]【第9戦】決勝ヒート - レース正式結果表（印刷）'!U$11,'[1]【第9戦】決勝ヒート - レース結果（貼付）'!$1:$1,0)),"")=0,"",IFERROR(INDEX('[1]【第9戦】決勝ヒート - レース結果（貼付）'!$A:$Z,MATCH($B27,'[1]【第9戦】決勝ヒート - レース結果（貼付）'!$B:$B,0),MATCH('[1]【第9戦】決勝ヒート - レース正式結果表（印刷）'!U$11,'[1]【第9戦】決勝ヒート - レース結果（貼付）'!$1:$1,0)),"")) -> 99.877
A28: =IF(OR('[1]【第9戦】決勝ヒート - レース結果（貼付）'!A17="DNF",'[1]【第9戦】決勝ヒート - レース結果（貼付）'!A17="DNS",'[1]【第9戦】決勝ヒート - レース結果（貼付）'!A17="DQ"),'[1]【第9戦】決勝ヒート - レース結果（貼付）'!A17,IF(MAX('[1]【第9戦】決勝ヒート - レース結果（貼付）'!A:A)>A27,A27+1,"")) -> 16 | B28: =IFERROR(INDEX('[1]【第9戦】決勝ヒート - レース結果（貼付）'!A17:$Z$50,MATCH($A28,'[1]【第9戦】決勝ヒート - レース結果（貼付）'!A17:$A$50,0),MATCH('【第9戦】決勝ヒート - レース暫定結果表'!B$11,'[1]【第9戦】決勝ヒート - レース結果（貼付）'!$1:$1,0)),"") -> 12 | E28: =IFERROR(INDEX('[1]【第9戦】決勝ヒート - レース結果（貼付）'!$A:$Z,MATCH($B28,'[1]【第9戦】決勝ヒート - レース結果（貼付）'!$B:$B,0),MATCH('【第9戦】決勝ヒート - レース暫定結果表'!E$11,'[1]【第9戦】決勝ヒート - レース結果（貼付）'!$1:$1,0)),"") -> 上野 晴紀 | F28: =IFERROR(INDEX('[1]【第9戦】決勝ヒート - レース結果（貼付）'!$A:$Z,MATCH($B28,'[1]【第9戦】決勝ヒート - レース結果（貼付）'!$B:$B,0),MATCH('【第9戦】決勝ヒート - レース暫定結果表'!F$11,'[1]【第9戦】決勝ヒート - レース結果（貼付）'!$1:$1,0)),"") -> Birel ART/IAME | G28: =IFERROR(INDEX('[1]【第9戦】決勝ヒート - レース結果（貼付）'!$A:$Z,MATCH($B28,'[1]【第9戦】決勝ヒート - レース結果（貼付）'!$B:$B,0),MATCH('【第9戦】決勝ヒート - レース暫定結果表'!G$11,'[1]【第9戦】決勝ヒート - レース結果（貼付）'!$1:$1,0)),"") -> BirelART Access Racing | H28: =IFERROR(INDEX('[1]【第9戦】決勝ヒート - レース結果（貼付）'!$A:$Z,MATCH($B28,'[1]【第9戦】決勝ヒート - レース結果（貼付）'!$B:$B,0),MATCH('【第9戦】決勝ヒート - レース暫定結果表'!H$11,'[1]【第9戦】決勝ヒート - レース結果（貼付）'!$1:$1,0)),"") -> BS | I28: =IF(A28="DNS","",IF(A28="DQ","",IFERROR(INDEX('[1]【第9戦】決勝ヒート - レース結果（貼付）'!$A:$Z,MATCH($A28,'[1]【第9戦】決勝ヒート - レース結果（貼付）'!$A:$A,0),MATCH('【第9戦】決勝ヒート - レース暫定結果表'!I$11,'[1]【第9戦】決勝ヒート - レース結果（貼付）'!$1:$1,0)),""))) -> 24 | J28: =IF(A28="DNS","ｽﾀｰﾄ出来ず",IF(A28="DQ","失 格",IFERROR(INDEX('[1]【第9戦】決勝ヒート - レース結果（貼付）'!$A:$Z,MATCH($B28,'[1]【第9戦】決勝ヒート - レース結果（貼付）'!$B:$B,0),MATCH('【第9戦】決勝ヒート - レース暫定結果表'!J$11,'[1]【第9戦】決勝ヒート - レース結果（貼付）'!$1:$1,0)),""))) -> 0.012860162 | K28: =IF(A28="DNS","",IF(A28="DQ","",IFERROR(INDEX('[1]【第9戦】決勝ヒート - レース結果（貼付）'!$A:$Z,MATCH($A28,'[1]【第9戦】決勝ヒート - レース結果（貼付）'!$A:$A,0),MATCH('【第9戦】決勝ヒート - レース暫定結果表'!K$11,'[1]【第9戦】決勝ヒート - レース結果（貼付）'!$1:$1,0)),""))) -> 10.118 | L28: =IF(A28="DNS","",IF(A28="DQ","",IFERROR(INDEX('[1]【第9戦】決勝ヒート - レース結果（貼付）'!$A:$Z,MATCH($A28,'[1]【第9戦】決勝ヒート - レース結果（貼付）'!$A:$A,0),MATCH('【第9戦】決勝ヒート - レース暫定結果表'!L$11,'[1]【第9戦】決勝ヒート - レース結果（貼付）'!$1:$1,0)),""))) -> 0.571 | M28: =IF(A28="DNS","",IF(A28="DQ","",IFERROR(INDEX('[1]【第9戦】決勝ヒート - レース結果（貼付）'!$A:$Z,MATCH($B28,'[1]【第9戦】決勝ヒート - レース結果（貼付）'!$B:$B,0),MATCH('【第9戦】決勝ヒート - レース暫定結果表'!M$11,'[1]【第9戦】決勝ヒート - レース結果（貼付）'!$1:$1,0)),""))) -> 45.593 | N28: =IF(M28<1,"",IF($N$11>M28,"R","")) | Q28: =IF(IFERROR(INDEX('[1]【第9戦】決勝ヒート - レース結果（貼付）'!$A:$Z,MATCH($B28,'[1]【第9戦】決勝ヒート - レース結果（貼付）'!$B:$B,0),MATCH('【第9戦】決勝ヒート - レース暫定結果表'!Q$11,'[1]【第9戦】決勝ヒート - レース結果（貼付）'!$1:$1,0)),"")=0,"",IFERROR(INDEX('[1]【第9戦】決勝ヒート - レース結果（貼付）'!$A:$Z,MATCH($B28,'[1]【第9戦】決勝ヒート - レース結果（貼付）'!$B:$B,0),MATCH('【第9戦】決勝ヒート - レース暫定結果表'!Q$11,'[1]【第9戦】決勝ヒート - レース結果（貼付）'!$1:$1,0)),"")) | R28: =IF(Q28="","",COUNTIF($Q$13:Q28,"<>"&"")) | S28: =IFERROR(RANK(R28,$R$13:$R$47,1),"") | T28: =IF(IFERROR(INDEX('[1]【第9戦】決勝ヒート - レース結果（貼付）'!$A:$Z,MATCH($A28,'[1]【第9戦】決勝ヒート - レース結果（貼付）'!$A:$A,0),MATCH('【第9戦】決勝ヒート - レース暫定結果表'!T$11,'[1]【第9戦】決勝ヒート - レース結果（貼付）'!$1:$1,0)),"")=0,"",IFERROR(INDEX('[1]【第9戦】決勝ヒート - レース結果（貼付）'!$A:$Z,MATCH($A28,'[1]【第9戦】決勝ヒート - レース結果（貼付）'!$A:$A,0),MATCH('【第9戦】決勝ヒート - レース暫定結果表'!T$11,'[1]【第9戦】決勝ヒート - レース結果（貼付）'!$1:$1,0)),"")) | U28: =IF(IFERROR(INDEX('[1]【第9戦】決勝ヒート - レース結果（貼付）'!$A:$Z,MATCH($B28,'[1]【第9戦】決勝ヒート - レース結果（貼付）'!$B:$B,0),MATCH('[1]【第9戦】決勝ヒート - レース正式結果表（印刷）'!U$11,'[1]【第9戦】決勝ヒート - レース結果（貼付）'!$1:$1,0)),"")=0,"",IFERROR(INDEX('[1]【第9戦】決勝ヒート - レース結果（貼付）'!$A:$Z,MATCH($B28,'[1]【第9戦】決勝ヒート - レース結果（貼付）'!$B:$B,0),MATCH('[1]【第9戦】決勝ヒート - レース正式結果表（印刷）'!U$11,'[1]【第9戦】決勝ヒート - レース結果（貼付）'!$1:$1,0)),"")) -> 99.805
A29: =IF(OR('[1]【第9戦】決勝ヒート - レース結果（貼付）'!A18="DNF",'[1]【第9戦】決勝ヒート - レース結果（貼付）'!A18="DNS",'[1]【第9戦】決勝ヒート - レース結果（貼付）'!A18="DQ"),'[1]【第9戦】決勝ヒート - レース結果（貼付）'!A18,IF(MAX('[1]【第9戦】決勝ヒート - レース結果（貼付）'!A:A)>A28,A28+1,"")) -> 17 | B29: =IFERROR(INDEX('[1]【第9戦】決勝ヒート - レース結果（貼付）'!A18:$Z$50,MATCH($A29,'[1]【第9戦】決勝ヒート - レース結果（貼付）'!A18:$A$50,0),MATCH('【第9戦】決勝ヒート - レース暫定結果表'!B$11,'[1]【第9戦】決勝ヒート - レース結果（貼付）'!$1:$1,0)),"") -> 3 | E29: =IFERROR(INDEX('[1]【第9戦】決勝ヒート - レース結果（貼付）'!$A:$Z,MATCH($B29,'[1]【第9戦】決勝ヒート - レース結果（貼付）'!$B:$B,0),MATCH('【第9戦】決勝ヒート - レース暫定結果表'!E$11,'[1]【第9戦】決勝ヒート - レース結果（貼付）'!$1:$1,0)),"") -> 洞地 遼大 | F29: =IFERROR(INDEX('[1]【第9戦】決勝ヒート - レース結果（貼付）'!$A:$Z,MATCH($B29,'[1]【第9戦】決勝ヒート - レース結果（貼付）'!$B:$B,0),MATCH('【第9戦】決勝ヒート - レース暫定結果表'!F$11,'[1]【第9戦】決勝ヒート - レース結果（貼付）'!$1:$1,0)),"") -> KR/TM | G29: =IFERROR(INDEX('[1]【第9戦】決勝ヒート - レース結果（貼付）'!$A:$Z,MATCH($B29,'[1]【第9戦】決勝ヒート - レース結果（貼付）'!$B:$B,0),MATCH('【第9戦】決勝ヒート - レース暫定結果表'!G$11,'[1]【第9戦】決勝ヒート - レース結果（貼付）'!$1:$1,0)),"") -> PONOS HIROTEX RACING | H29: =IFERROR(INDEX('[1]【第9戦】決勝ヒート - レース結果（貼付）'!$A:$Z,MATCH($B29,'[1]【第9戦】決勝ヒート - レース結果（貼付）'!$B:$B,0),MATCH('【第9戦】決勝ヒート - レース暫定結果表'!H$11,'[1]【第9戦】決勝ヒート - レース結果（貼付）'!$1:$1,0)),"") -> DL | I29: =IF(A29="DNS","",IF(A29="DQ","",IFERROR(INDEX('[1]【第9戦】決勝ヒート - レース結果（貼付）'!$A:$Z,MATCH($A29,'[1]【第9戦】決勝ヒート - レース結果（貼付）'!$A:$A,0),MATCH('【第9戦】決勝ヒート - レース暫定結果表'!I$11,'[1]【第9戦】決勝ヒート - レース結果（貼付）'!$1:$1,0)),""))) -> 24 | J29: =IF(A29="DNS","ｽﾀｰﾄ出来ず",IF(A29="DQ","失 格",IFERROR(INDEX('[1]【第9戦】決勝ヒート - レース結果（貼付）'!$A:$Z,MATCH($B29,'[1]【第9戦】決勝ヒート - レース結果（貼付）'!$B:$B,0),MATCH('【第9戦】決勝ヒート - レース暫定結果表'!J$11,'[1]【第9戦】決勝ヒート - レース結果（貼付）'!$1:$1,0)),""))) -> 0.012860405 | K29: =IF(A29="DNS","",IF(A29="DQ","",IFERROR(INDEX('[1]【第9戦】決勝ヒート - レース結果（貼付）'!$A:$Z,MATCH($A29,'[1]【第9戦】決勝ヒート - レース結果（貼付）'!$A:$A,0),MATCH('【第9戦】決勝ヒート - レース暫定結果表'!K$11,'[1]【第9戦】決勝ヒート - レース結果（貼付）'!$1:$1,0)),""))) -> 10.139 | L29: =IF(A29="DNS","",IF(A29="DQ","",IFERROR(INDEX('[1]【第9戦】決勝ヒート - レース結果（貼付）'!$A:$Z,MATCH($A29,'[1]【第9戦】決勝ヒート - レース結果（貼付）'!$A:$A,0),MATCH('【第9戦】決勝ヒート - レース暫定結果表'!L$11,'[1]【第9戦】決勝ヒート - レース結果（貼付）'!$1:$1,0)),""))) -> 0.021 | M29: =IF(A29="DNS","",IF(A29="DQ","",IFERROR(INDEX('[1]【第9戦】決勝ヒート - レース結果（貼付）'!$A:$Z,MATCH($B29,'[1]【第9戦】決勝ヒート - レース結果（貼付）'!$B:$B,0),MATCH('【第9戦】決勝ヒート - レース暫定結果表'!M$11,'[1]【第9戦】決勝ヒート - レース結果（貼付）'!$1:$1,0)),""))) -> 45.785 | N29: =IF(M29<1,"",IF($N$11>M29,"R","")) | Q29: =IF(IFERROR(INDEX('[1]【第9戦】決勝ヒート - レース結果（貼付）'!$A:$Z,MATCH($B29,'[1]【第9戦】決勝ヒート - レース結果（貼付）'!$B:$B,0),MATCH('【第9戦】決勝ヒート - レース暫定結果表'!Q$11,'[1]【第9戦】決勝ヒート - レース結果（貼付）'!$1:$1,0)),"")=0,"",IFERROR(INDEX('[1]【第9戦】決勝ヒート - レース結果（貼付）'!$A:$Z,MATCH($B29,'[1]【第9戦】決勝ヒート - レース結果（貼付）'!$B:$B,0),MATCH('【第9戦】決勝ヒート - レース暫定結果表'!Q$11,'[1]【第9戦】決勝ヒート - レース結果（貼付）'!$1:$1,0)),"")) | R29: =IF(Q29="","",COUNTIF($Q$13:Q29,"<>"&"")) | S29: =IFERROR(RANK(R29,$R$13:$R$47,1),"") | T29: =IF(IFERROR(INDEX('[1]【第9戦】決勝ヒート - レース結果（貼付）'!$A:$Z,MATCH($A29,'[1]【第9戦】決勝ヒート - レース結果（貼付）'!$A:$A,0),MATCH('【第9戦】決勝ヒート - レース暫定結果表'!T$11,'[1]【第9戦】決勝ヒート - レース結果（貼付）'!$1:$1,0)),"")=0,"",IFERROR(INDEX('[1]【第9戦】決勝ヒート - レース結果（貼付）'!$A:$Z,MATCH($A29,'[1]【第9戦】決勝ヒート - レース結果（貼付）'!$A:$A,0),MATCH('【第9戦】決勝ヒート - レース暫定結果表'!T$11,'[1]【第9戦】決勝ヒート - レース結果（貼付）'!$1:$1,0)),"")) | U29: =IF(IFERROR(INDEX('[1]【第9戦】決勝ヒート - レース結果（貼付）'!$A:$Z,MATCH($B29,'[1]【第9戦】決勝ヒート - レース結果（貼付）'!$B:$B,0),MATCH('[1]【第9戦】決勝ヒート - レース正式結果表（印刷）'!U$11,'[1]【第9戦】決勝ヒート - レース結果（貼付）'!$1:$1,0)),"")=0,"",IFERROR(INDEX('[1]【第9戦】決勝ヒート - レース結果（貼付）'!$A:$Z,MATCH($B29,'[1]【第9戦】決勝ヒート - レース結果（貼付）'!$B:$B,0),MATCH('[1]【第9戦】決勝ヒート - レース正式結果表（印刷）'!U$11,'[1]【第9戦】決勝ヒート - レース結果（貼付）'!$1:$1,0)),"")) -> 99.386
A30: =IF(OR('[1]【第9戦】決勝ヒート - レース結果（貼付）'!A19="DNF",'[1]【第9戦】決勝ヒート - レース結果（貼付）'!A19="DNS",'[1]【第9戦】決勝ヒート - レース結果（貼付）'!A19="DQ"),'[1]【第9戦】決勝ヒート - レース結果（貼付）'!A19,IF(MAX('[1]【第9戦】決勝ヒート - レース結果（貼付）'!A:A)>A29,A29+1,"")) -> 18 | B30: =IFERROR(INDEX('[1]【第9戦】決勝ヒート - レース結果（貼付）'!A19:$Z$50,MATCH($A30,'[1]【第9戦】決勝ヒート - レース結果（貼付）'!A19:$A$50,0),MATCH('【第9戦】決勝ヒート - レース暫定結果表'!B$11,'[1]【第9戦】決勝ヒート - レース結果（貼付）'!$1:$1,0)),"") -> 55 | E30: =IFERROR(INDEX('[1]【第9戦】決勝ヒート - レース結果（貼付）'!$A:$Z,MATCH($B30,'[1]【第9戦】決勝ヒート - レース結果（貼付）'!$B:$B,0),MATCH('【第9戦】決勝ヒート - レース暫定結果表'!E$11,'[1]【第9戦】決勝ヒート - レース結果（貼付）'!$1:$1,0)),"") -> 藤井 翔大 | F30: =IFERROR(INDEX('[1]【第9戦】決勝ヒート - レース結果（貼付）'!$A:$Z,MATCH($B30,'[1]【第9戦】決勝ヒート - レース結果（貼付）'!$B:$B,0),MATCH('【第9戦】決勝ヒート - レース暫定結果表'!F$11,'[1]【第9戦】決勝ヒート - レース結果（貼付）'!$1:$1,0)),"") -> Drago CORSE/TM | G30: =IFERROR(INDEX('[1]【第9戦】決勝ヒート - レース結果（貼付）'!$A:$Z,MATCH($B30,'[1]【第9戦】決勝ヒート - レース結果（貼付）'!$B:$B,0),MATCH('【第9戦】決勝ヒート - レース暫定結果表'!G$11,'[1]【第9戦】決勝ヒート - レース結果（貼付）'!$1:$1,0)),"") -> Croc Promotion | H30: =IFERROR(INDEX('[1]【第9戦】決勝ヒート - レース結果（貼付）'!$A:$Z,MATCH($B30,'[1]【第9戦】決勝ヒート - レース結果（貼付）'!$B:$B,0),MATCH('【第9戦】決勝ヒート - レース暫定結果表'!H$11,'[1]【第9戦】決勝ヒート - レース結果（貼付）'!$1:$1,0)),"") -> BS | I30: =IF(A30="DNS","",IF(A30="DQ","",IFERROR(INDEX('[1]【第9戦】決勝ヒート - レース結果（貼付）'!$A:$Z,MATCH($A30,'[1]【第9戦】決勝ヒート - レース結果（貼付）'!$A:$A,0),MATCH('【第9戦】決勝ヒート - レース暫定結果表'!I$11,'[1]【第9戦】決勝ヒート - レース結果（貼付）'!$1:$1,0)),""))) -> 24 | J30: =IF(A30="DNS","ｽﾀｰﾄ出来ず",IF(A30="DQ","失 格",IFERROR(INDEX('[1]【第9戦】決勝ヒート - レース結果（貼付）'!$A:$Z,MATCH($B30,'[1]【第9戦】決勝ヒート - レース結果（貼付）'!$B:$B,0),MATCH('【第9戦】決勝ヒート - レース暫定結果表'!J$11,'[1]【第9戦】決勝ヒート - レース結果（貼付）'!$1:$1,0)),""))) -> 0.012865463 | K30: =IF(A30="DNS","",IF(A30="DQ","",IFERROR(INDEX('[1]【第9戦】決勝ヒート - レース結果（貼付）'!$A:$Z,MATCH($A30,'[1]【第9戦】決勝ヒート - レース結果（貼付）'!$A:$A,0),MATCH('【第9戦】決勝ヒート - レース暫定結果表'!K$11,'[1]【第9戦】決勝ヒート - レース結果（貼付）'!$1:$1,0)),""))) -> 10.576 | L30: =IF(A30="DNS","",IF(A30="DQ","",IFERROR(INDEX('[1]【第9戦】決勝ヒート - レース結果（貼付）'!$A:$Z,MATCH($A30,'[1]【第9戦】決勝ヒート - レース結果（貼付）'!$A:$A,0),MATCH('【第9戦】決勝ヒート - レース暫定結果表'!L$11,'[1]【第9戦】決勝ヒート - レース結果（貼付）'!$1:$1,0)),""))) -> 0.437 | M30: =IF(A30="DNS","",IF(A30="DQ","",IFERROR(INDEX('[1]【第9戦】決勝ヒート - レース結果（貼付）'!$A:$Z,MATCH($B30,'[1]【第9戦】決勝ヒート - レース結果（貼付）'!$B:$B,0),MATCH('【第9戦】決勝ヒート - レース暫定結果表'!M$11,'[1]【第9戦】決勝ヒート - レース結果（貼付）'!$1:$1,0)),""))) -> 45.413 | N30: =IF(M30<1,"",IF($N$11>M30,"R","")) | Q30: =IF(IFERROR(INDEX('[1]【第9戦】決勝ヒート - レース結果（貼付）'!$A:$Z,MATCH($B30,'[1]【第9戦】決勝ヒート - レース結果（貼付）'!$B:$B,0),MATCH('【第9戦】決勝ヒート - レース暫定結果表'!Q$11,'[1]【第9戦】決勝ヒート - レース結果（貼付）'!$1:$1,0)),"")=0,"",IFERROR(INDEX('[1]【第9戦】決勝ヒート - レース結果（貼付）'!$A:$Z,MATCH($B30,'[1]【第9戦】決勝ヒート - レース結果（貼付）'!$B:$B,0),MATCH('【第9戦】決勝ヒート - レース暫定結果表'!Q$11,'[1]【第9戦】決勝ヒート - レース結果（貼付）'!$1:$1,0)),"")) | R30: =IF(Q30="","",COUNTIF($Q$13:Q30,"<>"&"")) | S30: =IFERROR(RANK(R30,$R$13:$R$47,1),"") | T30: =IF(IFERROR(INDEX('[1]【第9戦】決勝ヒート - レース結果（貼付）'!$A:$Z,MATCH($A30,'[1]【第9戦】決勝ヒート - レース結果（貼付）'!$A:$A,0),MATCH('【第9戦】決勝ヒート - レース暫定結果表'!T$11,'[1]【第9戦】決勝ヒート - レース結果（貼付）'!$1:$1,0)),"")=0,"",IFERROR(INDEX('[1]【第9戦】決勝ヒート - レース結果（貼付）'!$A:$Z,MATCH($A30,'[1]【第9戦】決勝ヒート - レース結果（貼付）'!$A:$A,0),MATCH('【第9戦】決勝ヒート - レース暫定結果表'!T$11,'[1]【第9戦】決勝ヒート - レース結果（貼付）'!$1:$1,0)),"")) | U30: =IF(IFERROR(INDEX('[1]【第9戦】決勝ヒート - レース結果（貼付）'!$A:$Z,MATCH($B30,'[1]【第9戦】決勝ヒート - レース結果（貼付）'!$B:$B,0),MATCH('[1]【第9戦】決勝ヒート - レース正式結果表（印刷）'!U$11,'[1]【第9戦】決勝ヒート - レース結果（貼付）'!$1:$1,0)),"")=0,"",IFERROR(INDEX('[1]【第9戦】決勝ヒート - レース結果（貼付）'!$A:$Z,MATCH($B30,'[1]【第9戦】決勝ヒート - レース結果（貼付）'!$B:$B,0),MATCH('[1]【第9戦】決勝ヒート - レース正式結果表（印刷）'!U$11,'[1]【第9戦】決勝ヒート - レース結果（貼付）'!$1:$1,0)),"")) -> 100.2
A31: =IF(OR('[1]【第9戦】決勝ヒート - レース結果（貼付）'!A20="DNF",'[1]【第9戦】決勝ヒート - レース結果（貼付）'!A20="DNS",'[1]【第9戦】決勝ヒート - レース結果（貼付）'!A20="DQ"),'[1]【第9戦】決勝ヒート - レース結果（貼付）'!A20,IF(MAX('[1]【第9戦】決勝ヒート - レース結果（貼付）'!A:A)>A30,A30+1,"")) -> 19 | B31: =IFERROR(INDEX('[1]【第9戦】決勝ヒート - レース結果（貼付）'!A20:$Z$50,MATCH($A31,'[1]【第9戦】決勝ヒート - レース結果（貼付）'!A20:$A$50,0),MATCH('【第9戦】決勝ヒート - レース暫定結果表'!B$11,'[1]【第9戦】決勝ヒート - レース結果（貼付）'!$1:$1,0)),"") -> 64 | E31: =IFERROR(INDEX('[1]【第9戦】決勝ヒート - レース結果（貼付）'!$A:$Z,MATCH($B31,'[1]【第9戦】決勝ヒート - レース結果（貼付）'!$B:$B,0),MATCH('【第9戦】決勝ヒート - レース暫定結果表'!E$11,'[1]【第9戦】決勝ヒート - レース結果（貼付）'!$1:$1,0)),"") -> 井本 大雅 | F31: =IFERROR(INDEX('[1]【第9戦】決勝ヒート - レース結果（貼付）'!$A:$Z,MATCH($B31,'[1]【第9戦】決勝ヒート - レース結果（貼付）'!$B:$B,0),MATCH('【第9戦】決勝ヒート - レース暫定結果表'!F$11,'[1]【第9戦】決勝ヒート - レース結果（貼付）'!$1:$1,0)),"") -> CL/IAME | G31: =IFERROR(INDEX('[1]【第9戦】決勝ヒート - レース結果（貼付）'!$A:$Z,MATCH($B31,'[1]【第9戦】決勝ヒート - レース結果（貼付）'!$B:$B,0),MATCH('【第9戦】決勝ヒート - レース暫定結果表'!G$11,'[1]【第9戦】決勝ヒート - レース結果（貼付）'!$1:$1,0)),"") -> CUORE | H31: =IFERROR(INDEX('[1]【第9戦】決勝ヒート - レース結果（貼付）'!$A:$Z,MATCH($B31,'[1]【第9戦】決勝ヒート - レース結果（貼付）'!$B:$B,0),MATCH('【第9戦】決勝ヒート - レース暫定結果表'!H$11,'[1]【第9戦】決勝ヒート - レース結果（貼付）'!$1:$1,0)),"") -> DL | I31: =IF(A31="DNS","",IF(A31="DQ","",IFERROR(INDEX('[1]【第9戦】決勝ヒート - レース結果（貼付）'!$A:$Z,MATCH($A31,'[1]【第9戦】決勝ヒート - レース結果（貼付）'!$A:$A,0),MATCH('【第9戦】決勝ヒート - レース暫定結果表'!I$11,'[1]【第9戦】決勝ヒート - レース結果（貼付）'!$1:$1,0)),""))) -> 24 | J31: =IF(A31="DNS","ｽﾀｰﾄ出来ず",IF(A31="DQ","失 格",IFERROR(INDEX('[1]【第9戦】決勝ヒート - レース結果（貼付）'!$A:$Z,MATCH($B31,'[1]【第9戦】決勝ヒート - レース結果（貼付）'!$B:$B,0),MATCH('【第9戦】決勝ヒート - レース暫定結果表'!J$11,'[1]【第9戦】決勝ヒート - レース結果（貼付）'!$1:$1,0)),""))) -> 0.012868958 | K31: =IF(A31="DNS","",IF(A31="DQ","",IFERROR(INDEX('[1]【第9戦】決勝ヒート - レース結果（貼付）'!$A:$Z,MATCH($A31,'[1]【第9戦】決勝ヒート - レース結果（貼付）'!$A:$A,0),MATCH('【第9戦】決勝ヒート - レース暫定結果表'!K$11,'[1]【第9戦】決勝ヒート - レース結果（貼付）'!$1:$1,0)),""))) -> 10.878 | L31: =IF(A31="DNS","",IF(A31="DQ","",IFERROR(INDEX('[1]【第9戦】決勝ヒート - レース結果（貼付）'!$A:$Z,MATCH($A31,'[1]【第9戦】決勝ヒート - レース結果（貼付）'!$A:$A,0),MATCH('【第9戦】決勝ヒート - レース暫定結果表'!L$11,'[1]【第9戦】決勝ヒート - レース結果（貼付）'!$1:$1,0)),""))) -> 0.302 | M31: =IF(A31="DNS","",IF(A31="DQ","",IFERROR(INDEX('[1]【第9戦】決勝ヒート - レース結果（貼付）'!$A:$Z,MATCH($B31,'[1]【第9戦】決勝ヒート - レース結果（貼付）'!$B:$B,0),MATCH('【第9戦】決勝ヒート - レース暫定結果表'!M$11,'[1]【第9戦】決勝ヒート - レース結果（貼付）'!$1:$1,0)),""))) -> 45.822 | N31: =IF(M31<1,"",IF($N$11>M31,"R","")) | Q31: =IF(IFERROR(INDEX('[1]【第9戦】決勝ヒート - レース結果（貼付）'!$A:$Z,MATCH($B31,'[1]【第9戦】決勝ヒート - レース結果（貼付）'!$B:$B,0),MATCH('【第9戦】決勝ヒート - レース暫定結果表'!Q$11,'[1]【第9戦】決勝ヒート - レース結果（貼付）'!$1:$1,0)),"")=0,"",IFERROR(INDEX('[1]【第9戦】決勝ヒート - レース結果（貼付）'!$A:$Z,MATCH($B31,'[1]【第9戦】決勝ヒート - レース結果（貼付）'!$B:$B,0),MATCH('【第9戦】決勝ヒート - レース暫定結果表'!Q$11,'[1]【第9戦】決勝ヒート - レース結果（貼付）'!$1:$1,0)),"")) | R31: =IF(Q31="","",COUNTIF($Q$13:Q31,"<>"&"")) | S31: =IFERROR(RANK(R31,$R$13:$R$47,1),"") | T31: =IF(IFERROR(INDEX('[1]【第9戦】決勝ヒート - レース結果（貼付）'!$A:$Z,MATCH($A31,'[1]【第9戦】決勝ヒート - レース結果（貼付）'!$A:$A,0),MATCH('【第9戦】決勝ヒート - レース暫定結果表'!T$11,'[1]【第9戦】決勝ヒート - レース結果（貼付）'!$1:$1,0)),"")=0,"",IFERROR(INDEX('[1]【第9戦】決勝ヒート - レース結果（貼付）'!$A:$Z,MATCH($A31,'[1]【第9戦】決勝ヒート - レース結果（貼付）'!$A:$A,0),MATCH('【第9戦】決勝ヒート - レース暫定結果表'!T$11,'[1]【第9戦】決勝ヒート - レース結果（貼付）'!$1:$1,0)),"")) | U31: =IF(IFERROR(INDEX('[1]【第9戦】決勝ヒート - レース結果（貼付）'!$A:$Z,MATCH($B31,'[1]【第9戦】決勝ヒート - レース結果（貼付）'!$B:$B,0),MATCH('[1]【第9戦】決勝ヒート - レース正式結果表（印刷）'!U$11,'[1]【第9戦】決勝ヒート - レース結果（貼付）'!$1:$1,0)),"")=0,"",IFERROR(INDEX('[1]【第9戦】決勝ヒート - レース結果（貼付）'!$A:$Z,MATCH($B31,'[1]【第9戦】決勝ヒート - レース結果（貼付）'!$B:$B,0),MATCH('[1]【第9戦】決勝ヒート - レース正式結果表（印刷）'!U$11,'[1]【第9戦】決勝ヒート - レース結果（貼付）'!$1:$1,0)),"")) -> 99.306
A32: =IF(OR('[1]【第9戦】決勝ヒート - レース結果（貼付）'!A21="DNF",'[1]【第9戦】決勝ヒート - レース結果（貼付）'!A21="DNS",'[1]【第9戦】決勝ヒート - レース結果（貼付）'!A21="DQ"),'[1]【第9戦】決勝ヒート - レース結果（貼付）'!A21,IF(MAX('[1]【第9戦】決勝ヒート - レース結果（貼付）'!A:A)>A31,A31+1,"")) -> 20 | B32: =IFERROR(INDEX('[1]【第9戦】決勝ヒート - レース結果（貼付）'!A21:$Z$50,MATCH($A32,'[1]【第9戦】決勝ヒート - レース結果（貼付）'!A21:$A$50,0),MATCH('【第9戦】決勝ヒート - レース暫定結果表'!B$11,'[1]【第9戦】決勝ヒート - レース結果（貼付）'!$1:$1,0)),"") -> 24 | E32: =IFERROR(INDEX('[1]【第9戦】決勝ヒート - レース結果（貼付）'!$A:$Z,MATCH($B32,'[1]【第9戦】決勝ヒート - レース結果（貼付）'!$B:$B,0),MATCH('【第9戦】決勝ヒート - レース暫定結果表'!E$11,'[1]【第9戦】決勝ヒート - レース結果（貼付）'!$1:$1,0)),"") -> 田中 風輝 | F32: =IFERROR(INDEX('[1]【第9戦】決勝ヒート - レース結果（貼付）'!$A:$Z,MATCH($B32,'[1]【第9戦】決勝ヒート - レース結果（貼付）'!$B:$B,0),MATCH('【第9戦】決勝ヒート - レース暫定結果表'!F$11,'[1]【第9戦】決勝ヒート - レース結果（貼付）'!$1:$1,0)),"") -> Praga/TM | G32: =IFERROR(INDEX('[1]【第9戦】決勝ヒート - レース結果（貼付）'!$A:$Z,MATCH($B32,'[1]【第9戦】決勝ヒート - レース結果（貼付）'!$B:$B,0),MATCH('【第9戦】決勝ヒート - レース暫定結果表'!G$11,'[1]【第9戦】決勝ヒート - レース結果（貼付）'!$1:$1,0)),"") -> MASUDA RACING PROJECT | H32: =IFERROR(INDEX('[1]【第9戦】決勝ヒート - レース結果（貼付）'!$A:$Z,MATCH($B32,'[1]【第9戦】決勝ヒート - レース結果（貼付）'!$B:$B,0),MATCH('【第9戦】決勝ヒート - レース暫定結果表'!H$11,'[1]【第9戦】決勝ヒート - レース結果（貼付）'!$1:$1,0)),"") -> DL | I32: =IF(A32="DNS","",IF(A32="DQ","",IFERROR(INDEX('[1]【第9戦】決勝ヒート - レース結果（貼付）'!$A:$Z,MATCH($A32,'[1]【第9戦】決勝ヒート - レース結果（貼付）'!$A:$A,0),MATCH('【第9戦】決勝ヒート - レース暫定結果表'!I$11,'[1]【第9戦】決勝ヒート - レース結果（貼付）'!$1:$1,0)),""))) -> 24 | J32: =IF(A32="DNS","ｽﾀｰﾄ出来ず",IF(A32="DQ","失 格",IFERROR(INDEX('[1]【第9戦】決勝ヒート - レース結果（貼付）'!$A:$Z,MATCH($B32,'[1]【第9戦】決勝ヒート - レース結果（貼付）'!$B:$B,0),MATCH('【第9戦】決勝ヒート - レース暫定結果表'!J$11,'[1]【第9戦】決勝ヒート - レース結果（貼付）'!$1:$1,0)),""))) -> 0.012881609 | K32: =IF(A32="DNS","",IF(A32="DQ","",IFERROR(INDEX('[1]【第9戦】決勝ヒート - レース結果（貼付）'!$A:$Z,MATCH($A32,'[1]【第9戦】決勝ヒート - レース結果（貼付）'!$A:$A,0),MATCH('【第9戦】決勝ヒート - レース暫定結果表'!K$11,'[1]【第9戦】決勝ヒート - レース結果（貼付）'!$1:$1,0)),""))) -> 11.971 | L32: =IF(A32="DNS","",IF(A32="DQ","",IFERROR(INDEX('[1]【第9戦】決勝ヒート - レース結果（貼付）'!$A:$Z,MATCH($A32,'[1]【第9戦】決勝ヒート - レース結果（貼付）'!$A:$A,0),MATCH('【第9戦】決勝ヒート - レース暫定結果表'!L$11,'[1]【第9戦】決勝ヒート - レース結果（貼付）'!$1:$1,0)),""))) -> 1.093 | M32: =IF(A32="DNS","",IF(A32="DQ","",IFERROR(INDEX('[1]【第9戦】決勝ヒート - レース結果（貼付）'!$A:$Z,MATCH($B32,'[1]【第9戦】決勝ヒート - レース結果（貼付）'!$B:$B,0),MATCH('【第9戦】決勝ヒート - レース暫定結果表'!M$11,'[1]【第9戦】決勝ヒート - レース結果（貼付）'!$1:$1,0)),""))) -> 45.767 | N32: =IF(M32<1,"",IF($N$11>M32,"R","")) | Q32: =IF(IFERROR(INDEX('[1]【第9戦】決勝ヒート - レース結果（貼付）'!$A:$Z,MATCH($B32,'[1]【第9戦】決勝ヒート - レース結果（貼付）'!$B:$B,0),MATCH('【第9戦】決勝ヒート - レース暫定結果表'!Q$11,'[1]【第9戦】決勝ヒート - レース結果（貼付）'!$1:$1,0)),"")=0,"",IFERROR(INDEX('[1]【第9戦】決勝ヒート - レース結果（貼付）'!$A:$Z,MATCH($B32,'[1]【第9戦】決勝ヒート - レース結果（貼付）'!$B:$B,0),MATCH('【第9戦】決勝ヒート - レース暫定結果表'!Q$11,'[1]【第9戦】決勝ヒート - レース結果（貼付）'!$1:$1,0)),"")) | R32: =IF(Q32="","",COUNTIF($Q$13:Q32,"<>"&"")) | S32: =IFERROR(RANK(R32,$R$13:$R$47,1),"") | T32: =IF(IFERROR(INDEX('[1]【第9戦】決勝ヒート - レース結果（貼付）'!$A:$Z,MATCH($A32,'[1]【第9戦】決勝ヒート - レース結果（貼付）'!$A:$A,0),MATCH('【第9戦】決勝ヒート - レース暫定結果表'!T$11,'[1]【第9戦】決勝ヒート - レース結果（貼付）'!$1:$1,0)),"")=0,"",IFERROR(INDEX('[1]【第9戦】決勝ヒート - レース結果（貼付）'!$A:$Z,MATCH($A32,'[1]【第9戦】決勝ヒート - レース結果（貼付）'!$A:$A,0),MATCH('【第9戦】決勝ヒート - レース暫定結果表'!T$11,'[1]【第9戦】決勝ヒート - レース結果（貼付）'!$1:$1,0)),"")) | U32: =IF(IFERROR(INDEX('[1]【第9戦】決勝ヒート - レース結果（貼付）'!$A:$Z,MATCH($B32,'[1]【第9戦】決勝ヒート - レース結果（貼付）'!$B:$B,0),MATCH('[1]【第9戦】決勝ヒート - レース正式結果表（印刷）'!U$11,'[1]【第9戦】決勝ヒート - レース結果（貼付）'!$1:$1,0)),"")=0,"",IFERROR(INDEX('[1]【第9戦】決勝ヒート - レース結果（貼付）'!$A:$Z,MATCH($B32,'[1]【第9戦】決勝ヒート - レース結果（貼付）'!$B:$B,0),MATCH('[1]【第9戦】決勝ヒート - レース正式結果表（印刷）'!U$11,'[1]【第9戦】決勝ヒート - レース結果（貼付）'!$1:$1,0)),"")) -> 99.425
A33: =IF(OR('[1]【第9戦】決勝ヒート - レース結果（貼付）'!A22="DNF",'[1]【第9戦】決勝ヒート - レース結果（貼付）'!A22="DNS",'[1]【第9戦】決勝ヒート - レース結果（貼付）'!A22="DQ"),'[1]【第9戦】決勝ヒート - レース結果（貼付）'!A22,IF(MAX('[1]【第9戦】決勝ヒート - レース結果（貼付）'!A:A)>A32,A32+1,"")) -> 21 | B33: =IFERROR(INDEX('[1]【第9戦】決勝ヒート - レース結果（貼付）'!A22:$Z$50,MATCH($A33,'[1]【第9戦】決勝ヒート - レース結果（貼付）'!A22:$A$50,0),MATCH('【第9戦】決勝ヒート - レース暫定結果表'!B$11,'[1]【第9戦】決勝ヒート - レース結果（貼付）'!$1:$1,0)),"") -> 14 | E33: =IFERROR(INDEX('[1]【第9戦】決勝ヒート - レース結果（貼付）'!$A:$Z,MATCH($B33,'[1]【第9戦】決勝ヒート - レース結果（貼付）'!$B:$B,0),MATCH('【第9戦】決勝ヒート - レース暫定結果表'!E$11,'[1]【第9戦】決勝ヒート - レース結果（貼付）'!$1:$1,0)),"") -> 浅見 謙心 | F33: =IFERROR(INDEX('[1]【第9戦】決勝ヒート - レース結果（貼付）'!$A:$Z,MATCH($B33,'[1]【第9戦】決勝ヒート - レース結果（貼付）'!$B:$B,0),MATCH('【第9戦】決勝ヒート - レース暫定結果表'!F$11,'[1]【第9戦】決勝ヒート - レース結果（貼付）'!$1:$1,0)),"") -> Birel ART/IAME | G33: =IFERROR(INDEX('[1]【第9戦】決勝ヒート - レース結果（貼付）'!$A:$Z,MATCH($B33,'[1]【第9戦】決勝ヒート - レース結果（貼付）'!$B:$B,0),MATCH('【第9戦】決勝ヒート - レース暫定結果表'!G$11,'[1]【第9戦】決勝ヒート - レース結果（貼付）'!$1:$1,0)),"") -> BirelART Access Racing | H33: =IFERROR(INDEX('[1]【第9戦】決勝ヒート - レース結果（貼付）'!$A:$Z,MATCH($B33,'[1]【第9戦】決勝ヒート - レース結果（貼付）'!$B:$B,0),MATCH('【第9戦】決勝ヒート - レース暫定結果表'!H$11,'[1]【第9戦】決勝ヒート - レース結果（貼付）'!$1:$1,0)),"") -> BS | I33: =IF(A33="DNS","",IF(A33="DQ","",IFERROR(INDEX('[1]【第9戦】決勝ヒート - レース結果（貼付）'!$A:$Z,MATCH($A33,'[1]【第9戦】決勝ヒート - レース結果（貼付）'!$A:$A,0),MATCH('【第9戦】決勝ヒート - レース暫定結果表'!I$11,'[1]【第9戦】決勝ヒート - レース結果（貼付）'!$1:$1,0)),""))) -> 24 | J33: =IF(A33="DNS","ｽﾀｰﾄ出来ず",IF(A33="DQ","失 格",IFERROR(INDEX('[1]【第9戦】決勝ヒート - レース結果（貼付）'!$A:$Z,MATCH($B33,'[1]【第9戦】決勝ヒート - レース結果（貼付）'!$B:$B,0),MATCH('【第9戦】決勝ヒート - レース暫定結果表'!J$11,'[1]【第9戦】決勝ヒート - レース結果（貼付）'!$1:$1,0)),""))) -> 0.012910023 | K33: =IF(A33="DNS","",IF(A33="DQ","",IFERROR(INDEX('[1]【第9戦】決勝ヒート - レース結果（貼付）'!$A:$Z,MATCH($A33,'[1]【第9戦】決勝ヒート - レース結果（貼付）'!$A:$A,0),MATCH('【第9戦】決勝ヒート - レース暫定結果表'!K$11,'[1]【第9戦】決勝ヒート - レース結果（貼付）'!$1:$1,0)),""))) -> 14.426 | L33: =IF(A33="DNS","",IF(A33="DQ","",IFERROR(INDEX('[1]【第9戦】決勝ヒート - レース結果（貼付）'!$A:$Z,MATCH($A33,'[1]【第9戦】決勝ヒート - レース結果（貼付）'!$A:$A,0),MATCH('【第9戦】決勝ヒート - レース暫定結果表'!L$11,'[1]【第9戦】決勝ヒート - レース結果（貼付）'!$1:$1,0)),""))) -> 2.455 | M33: =IF(A33="DNS","",IF(A33="DQ","",IFERROR(INDEX('[1]【第9戦】決勝ヒート - レース結果（貼付）'!$A:$Z,MATCH($B33,'[1]【第9戦】決勝ヒート - レース結果（貼付）'!$B:$B,0),MATCH('【第9戦】決勝ヒート - レース暫定結果表'!M$11,'[1]【第9戦】決勝ヒート - レース結果（貼付）'!$1:$1,0)),""))) -> 45.679 | N33: =IF(M33<1,"",IF($N$11>M33,"R","")) | Q33: =IF(IFERROR(INDEX('[1]【第9戦】決勝ヒート - レース結果（貼付）'!$A:$Z,MATCH($B33,'[1]【第9戦】決勝ヒート - レース結果（貼付）'!$B:$B,0),MATCH('【第9戦】決勝ヒート - レース暫定結果表'!Q$11,'[1]【第9戦】決勝ヒート - レース結果（貼付）'!$1:$1,0)),"")=0,"",IFERROR(INDEX('[1]【第9戦】決勝ヒート - レース結果（貼付）'!$A:$Z,MATCH($B33,'[1]【第9戦】決勝ヒート - レース結果（貼付）'!$B:$B,0),MATCH('【第9戦】決勝ヒート - レース暫定結果表'!Q$11,'[1]【第9戦】決勝ヒート - レース結果（貼付）'!$1:$1,0)),"")) | R33: =IF(Q33="","",COUNTIF($Q$13:Q33,"<>"&"")) | S33: =IFERROR(RANK(R33,$R$13:$R$47,1),"") | T33: =IF(IFERROR(INDEX('[1]【第9戦】決勝ヒート - レース結果（貼付）'!$A:$Z,MATCH($A33,'[1]【第9戦】決勝ヒート - レース結果（貼付）'!$A:$A,0),MATCH('【第9戦】決勝ヒート - レース暫定結果表'!T$11,'[1]【第9戦】決勝ヒート - レース結果（貼付）'!$1:$1,0)),"")=0,"",IFERROR(INDEX('[1]【第9戦】決勝ヒート - レース結果（貼付）'!$A:$Z,MATCH($A33,'[1]【第9戦】決勝ヒート - レース結果（貼付）'!$A:$A,0),MATCH('【第9戦】決勝ヒート - レース暫定結果表'!T$11,'[1]【第9戦】決勝ヒート - レース結果（貼付）'!$1:$1,0)),"")) | U33: =IF(IFERROR(INDEX('[1]【第9戦】決勝ヒート - レース結果（貼付）'!$A:$Z,MATCH($B33,'[1]【第9戦】決勝ヒート - レース結果（貼付）'!$B:$B,0),MATCH('[1]【第9戦】決勝ヒート - レース正式結果表（印刷）'!U$11,'[1]【第9戦】決勝ヒート - レース結果（貼付）'!$1:$1,0)),"")=0,"",IFERROR(INDEX('[1]【第9戦】決勝ヒート - レース結果（貼付）'!$A:$Z,MATCH($B33,'[1]【第9戦】決勝ヒート - レース結果（貼付）'!$B:$B,0),MATCH('[1]【第9戦】決勝ヒート - レース正式結果表（印刷）'!U$11,'[1]【第9戦】決勝ヒート - レース結果（貼付）'!$1:$1,0)),"")) -> 99.617
A34: =IF(OR('[1]【第9戦】決勝ヒート - レース結果（貼付）'!A23="DNF",'[1]【第9戦】決勝ヒート - レース結果（貼付）'!A23="DNS",'[1]【第9戦】決勝ヒート - レース結果（貼付）'!A23="DQ"),'[1]【第9戦】決勝ヒート - レース結果（貼付）'!A23,IF(MAX('[1]【第9戦】決勝ヒート - レース結果（貼付）'!A:A)>A33,A33+1,"")) -> 22 | B34: =IFERROR(INDEX('[1]【第9戦】決勝ヒート - レース結果（貼付）'!A23:$Z$50,MATCH($A34,'[1]【第9戦】決勝ヒート - レース結果（貼付）'!A23:$A$50,0),MATCH('【第9戦】決勝ヒート - レース暫定結果表'!B$11,'[1]【第9戦】決勝ヒート - レース結果（貼付）'!$1:$1,0)),"") -> 67 | E34: =IFERROR(INDEX('[1]【第9戦】決勝ヒート - レース結果（貼付）'!$A:$Z,MATCH($B34,'[1]【第9戦】決勝ヒート - レース結果（貼付）'!$B:$B,0),MATCH('【第9戦】決勝ヒート - レース暫定結果表'!E$11,'[1]【第9戦】決勝ヒート - レース結果（貼付）'!$1:$1,0)),"") -> 田中 照久 | F34: =IFERROR(INDEX('[1]【第9戦】決勝ヒート - レース結果（貼付）'!$A:$Z,MATCH($B34,'[1]【第9戦】決勝ヒート - レース結果（貼付）'!$B:$B,0),MATCH('【第9戦】決勝ヒート - レース暫定結果表'!F$11,'[1]【第9戦】決勝ヒート - レース結果（貼付）'!$1:$1,0)),"") -> GLEA TEQKK02/TM | G34: =IFERROR(INDEX('[1]【第9戦】決勝ヒート - レース結果（貼付）'!$A:$Z,MATCH($B34,'[1]【第9戦】決勝ヒート - レース結果（貼付）'!$B:$B,0),MATCH('【第9戦】決勝ヒート - レース暫定結果表'!G$11,'[1]【第9戦】決勝ヒート - レース結果（貼付）'!$1:$1,0)),"") -> GLEATEQ RACING TEAM | H34: =IFERROR(INDEX('[1]【第9戦】決勝ヒート - レース結果（貼付）'!$A:$Z,MATCH($B34,'[1]【第9戦】決勝ヒート - レース結果（貼付）'!$B:$B,0),MATCH('【第9戦】決勝ヒート - レース暫定結果表'!H$11,'[1]【第9戦】決勝ヒート - レース結果（貼付）'!$1:$1,0)),"") -> BS | I34: =IF(A34="DNS","",IF(A34="DQ","",IFERROR(INDEX('[1]【第9戦】決勝ヒート - レース結果（貼付）'!$A:$Z,MATCH($A34,'[1]【第9戦】決勝ヒート - レース結果（貼付）'!$A:$A,0),MATCH('【第9戦】決勝ヒート - レース暫定結果表'!I$11,'[1]【第9戦】決勝ヒート - レース結果（貼付）'!$1:$1,0)),""))) -> 24 | J34: =IF(A34="DNS","ｽﾀｰﾄ出来ず",IF(A34="DQ","失 格",IFERROR(INDEX('[1]【第9戦】決勝ヒート - レース結果（貼付）'!$A:$Z,MATCH($B34,'[1]【第9戦】決勝ヒート - レース結果（貼付）'!$B:$B,0),MATCH('【第9戦】決勝ヒート - レース暫定結果表'!J$11,'[1]【第9戦】決勝ヒート - レース結果（貼付）'!$1:$1,0)),""))) -> 0.012912512 | K34: =IF(A34="DNS","",IF(A34="DQ","",IFERROR(INDEX('[1]【第9戦】決勝ヒート - レース結果（貼付）'!$A:$Z,MATCH($A34,'[1]【第9戦】決勝ヒート - レース結果（貼付）'!$A:$A,0),MATCH('【第9戦】決勝ヒート - レース暫定結果表'!K$11,'[1]【第9戦】決勝ヒート - レース結果（貼付）'!$1:$1,0)),""))) -> 14.641 | L34: =IF(A34="DNS","",IF(A34="DQ","",IFERROR(INDEX('[1]【第9戦】決勝ヒート - レース結果（貼付）'!$A:$Z,MATCH($A34,'[1]【第9戦】決勝ヒート - レース結果（貼付）'!$A:$A,0),MATCH('【第9戦】決勝ヒート - レース暫定結果表'!L$11,'[1]【第9戦】決勝ヒート - レース結果（貼付）'!$1:$1,0)),""))) -> 0.215 | M34: =IF(A34="DNS","",IF(A34="DQ","",IFERROR(INDEX('[1]【第9戦】決勝ヒート - レース結果（貼付）'!$A:$Z,MATCH($B34,'[1]【第9戦】決勝ヒート - レース結果（貼付）'!$B:$B,0),MATCH('【第9戦】決勝ヒート - レース暫定結果表'!M$11,'[1]【第9戦】決勝ヒート - レース結果（貼付）'!$1:$1,0)),""))) -> 45.804 | N34: =IF(M34<1,"",IF($N$11>M34,"R","")) | Q34: =IF(IFERROR(INDEX('[1]【第9戦】決勝ヒート - レース結果（貼付）'!$A:$Z,MATCH($B34,'[1]【第9戦】決勝ヒート - レース結果（貼付）'!$B:$B,0),MATCH('【第9戦】決勝ヒート - レース暫定結果表'!Q$11,'[1]【第9戦】決勝ヒート - レース結果（貼付）'!$1:$1,0)),"")=0,"",IFERROR(INDEX('[1]【第9戦】決勝ヒート - レース結果（貼付）'!$A:$Z,MATCH($B34,'[1]【第9戦】決勝ヒート - レース結果（貼付）'!$B:$B,0),MATCH('【第9戦】決勝ヒート - レース暫定結果表'!Q$11,'[1]【第9戦】決勝ヒート - レース結果（貼付）'!$1:$1,0)),"")) | R34: =IF(Q34="","",COUNTIF($Q$13:Q34,"<>"&"")) | S34: =IFERROR(RANK(R34,$R$13:$R$47,1),"") | T34: =IF(IFERROR(INDEX('[1]【第9戦】決勝ヒート - レース結果（貼付）'!$A:$Z,MATCH($A34,'[1]【第9戦】決勝ヒート - レース結果（貼付）'!$A:$A,0),MATCH('【第9戦】決勝ヒート - レース暫定結果表'!T$11,'[1]【第9戦】決勝ヒート - レース結果（貼付）'!$1:$1,0)),"")=0,"",IFERROR(INDEX('[1]【第9戦】決勝ヒート - レース結果（貼付）'!$A:$Z,MATCH($A34,'[1]【第9戦】決勝ヒート - レース結果（貼付）'!$A:$A,0),MATCH('【第9戦】決勝ヒート - レース暫定結果表'!T$11,'[1]【第9戦】決勝ヒート - レース結果（貼付）'!$1:$1,0)),"")) | U34: =IF(IFERROR(INDEX('[1]【第9戦】決勝ヒート - レース結果（貼付）'!$A:$Z,MATCH($B34,'[1]【第9戦】決勝ヒート - レース結果（貼付）'!$B:$B,0),MATCH('[1]【第9戦】決勝ヒート - レース正式結果表（印刷）'!U$11,'[1]【第9戦】決勝ヒート - レース結果（貼付）'!$1:$1,0)),"")=0,"",IFERROR(INDEX('[1]【第9戦】決勝ヒート - レース結果（貼付）'!$A:$Z,MATCH($B34,'[1]【第9戦】決勝ヒート - レース結果（貼付）'!$B:$B,0),MATCH('[1]【第9戦】決勝ヒート - レース正式結果表（印刷）'!U$11,'[1]【第9戦】決勝ヒート - レース結果（貼付）'!$1:$1,0)),"")) -> 99.706
A35: =IF(OR('[1]【第9戦】決勝ヒート - レース結果（貼付）'!A24="DNF",'[1]【第9戦】決勝ヒート - レース結果（貼付）'!A24="DNS",'[1]【第9戦】決勝ヒート - レース結果（貼付）'!A24="DQ"),'[1]【第9戦】決勝ヒート - レース結果（貼付）'!A24,IF(MAX('[1]【第9戦】決勝ヒート - レース結果（貼付）'!A:A)>A34,A34+1,"")) -> 23 | B35: =IFERROR(INDEX('[1]【第9戦】決勝ヒート - レース結果（貼付）'!A24:$Z$50,MATCH($A35,'[1]【第9戦】決勝ヒート - レース結果（貼付）'!A24:$A$50,0),MATCH('【第9戦】決勝ヒート - レース暫定結果表'!B$11,'[1]【第9戦】決勝ヒート - レース結果（貼付）'!$1:$1,0)),"") -> 15 | E35: =IFERROR(INDEX('[1]【第9戦】決勝ヒート - レース結果（貼付）'!$A:$Z,MATCH($B35,'[1]【第9戦】決勝ヒート - レース結果（貼付）'!$B:$B,0),MATCH('【第9戦】決勝ヒート - レース暫定結果表'!E$11,'[1]【第9戦】決勝ヒート - レース結果（貼付）'!$1:$1,0)),"") -> 熊谷 憲太 | F35: =IFERROR(INDEX('[1]【第9戦】決勝ヒート - レース結果（貼付）'!$A:$Z,MATCH($B35,'[1]【第9戦】決勝ヒート - レース結果（貼付）'!$B:$B,0),MATCH('【第9戦】決勝ヒート - レース暫定結果表'!F$11,'[1]【第9戦】決勝ヒート - レース結果（貼付）'!$1:$1,0)),"") -> KR/TM | G35: =IFERROR(INDEX('[1]【第9戦】決勝ヒート - レース結果（貼付）'!$A:$Z,MATCH($B35,'[1]【第9戦】決勝ヒート - レース結果（貼付）'!$B:$B,0),MATCH('【第9戦】決勝ヒート - レース暫定結果表'!G$11,'[1]【第9戦】決勝ヒート - レース結果（貼付）'!$1:$1,0)),"") -> kp buzz with HIROTEX | H35: =IFERROR(INDEX('[1]【第9戦】決勝ヒート - レース結果（貼付）'!$A:$Z,MATCH($B35,'[1]【第9戦】決勝ヒート - レース結果（貼付）'!$B:$B,0),MATCH('【第9戦】決勝ヒート - レース暫定結果表'!H$11,'[1]【第9戦】決勝ヒート - レース結果（貼付）'!$1:$1,0)),"") -> BS | I35: =IF(A35="DNS","",IF(A35="DQ","",IFERROR(INDEX('[1]【第9戦】決勝ヒート - レース結果（貼付）'!$A:$Z,MATCH($A35,'[1]【第9戦】決勝ヒート - レース結果（貼付）'!$A:$A,0),MATCH('【第9戦】決勝ヒート - レース暫定結果表'!I$11,'[1]【第9戦】決勝ヒート - レース結果（貼付）'!$1:$1,0)),""))) -> 24 | J35: =IF(A35="DNS","ｽﾀｰﾄ出来ず",IF(A35="DQ","失 格",IFERROR(INDEX('[1]【第9戦】決勝ヒート - レース結果（貼付）'!$A:$Z,MATCH($B35,'[1]【第9戦】決勝ヒート - レース結果（貼付）'!$B:$B,0),MATCH('【第9戦】決勝ヒート - レース暫定結果表'!J$11,'[1]【第9戦】決勝ヒート - レース結果（貼付）'!$1:$1,0)),""))) -> 0.012912581 | K35: =IF(A35="DNS","",IF(A35="DQ","",IFERROR(INDEX('[1]【第9戦】決勝ヒート - レース結果（貼付）'!$A:$Z,MATCH($A35,'[1]【第9戦】決勝ヒート - レース結果（貼付）'!$A:$A,0),MATCH('【第9戦】決勝ヒート - レース暫定結果表'!K$11,'[1]【第9戦】決勝ヒート - レース結果（貼付）'!$1:$1,0)),""))) -> 14.647 | L35: =IF(A35="DNS","",IF(A35="DQ","",IFERROR(INDEX('[1]【第9戦】決勝ヒート - レース結果（貼付）'!$A:$Z,MATCH($A35,'[1]【第9戦】決勝ヒート - レース結果（貼付）'!$A:$A,0),MATCH('【第9戦】決勝ヒート - レース暫定結果表'!L$11,'[1]【第9戦】決勝ヒート - レース結果（貼付）'!$1:$1,0)),""))) -> 0.006 | M35: =IF(A35="DNS","",IF(A35="DQ","",IFERROR(INDEX('[1]【第9戦】決勝ヒート - レース結果（貼付）'!$A:$Z,MATCH($B35,'[1]【第9戦】決勝ヒート - レース結果（貼付）'!$B:$B,0),MATCH('【第9戦】決勝ヒート - レース暫定結果表'!M$11,'[1]【第9戦】決勝ヒート - レース結果（貼付）'!$1:$1,0)),""))) -> 45.455 | N35: =IF(M35<1,"",IF($N$11>M35,"R","")) | Q35: =IF(IFERROR(INDEX('[1]【第9戦】決勝ヒート - レース結果（貼付）'!$A:$Z,MATCH($B35,'[1]【第9戦】決勝ヒート - レース結果（貼付）'!$B:$B,0),MATCH('【第9戦】決勝ヒート - レース暫定結果表'!Q$11,'[1]【第9戦】決勝ヒート - レース結果（貼付）'!$1:$1,0)),"")=0,"",IFERROR(INDEX('[1]【第9戦】決勝ヒート - レース結果（貼付）'!$A:$Z,MATCH($B35,'[1]【第9戦】決勝ヒート - レース結果（貼付）'!$B:$B,0),MATCH('【第9戦】決勝ヒート - レース暫定結果表'!Q$11,'[1]【第9戦】決勝ヒート - レース結果（貼付）'!$1:$1,0)),"")) | R35: =IF(Q35="","",COUNTIF($Q$13:Q35,"<>"&"")) | S35: =IFERROR(RANK(R35,$R$13:$R$47,1),"") | T35: =IF(IFERROR(INDEX('[1]【第9戦】決勝ヒート - レース結果（貼付）'!$A:$Z,MATCH($A35,'[1]【第9戦】決勝ヒート - レース結果（貼付）'!$A:$A,0),MATCH('【第9戦】決勝ヒート - レース暫定結果表'!T$11,'[1]【第9戦】決勝ヒート - レース結果（貼付）'!$1:$1,0)),"")=0,"",IFERROR(INDEX('[1]【第9戦】決勝ヒート - レース結果（貼付）'!$A:$Z,MATCH($A35,'[1]【第9戦】決勝ヒート - レース結果（貼付）'!$A:$A,0),MATCH('【第9戦】決勝ヒート - レース暫定結果表'!T$11,'[1]【第9戦】決勝ヒート - レース結果（貼付）'!$1:$1,0)),"")) | U35: =IF(IFERROR(INDEX('[1]【第9戦】決勝ヒート - レース結果（貼付）'!$A:$Z,MATCH($B35,'[1]【第9戦】決勝ヒート - レース結果（貼付）'!$B:$B,0),MATCH('[1]【第9戦】決勝ヒート - レース正式結果表（印刷）'!U$11,'[1]【第9戦】決勝ヒート - レース結果（貼付）'!$1:$1,0)),"")=0,"",IFERROR(INDEX('[1]【第9戦】決勝ヒート - レース結果（貼付）'!$A:$Z,MATCH($B35,'[1]【第9戦】決勝ヒート - レース結果（貼付）'!$B:$B,0),MATCH('[1]【第9戦】決勝ヒート - レース正式結果表（印刷）'!U$11,'[1]【第9戦】決勝ヒート - レース結果（貼付）'!$1:$1,0)),"")) -> 99.345
A36: =IF(OR('[1]【第9戦】決勝ヒート - レース結果（貼付）'!A25="DNF",'[1]【第9戦】決勝ヒート - レース結果（貼付）'!A25="DNS",'[1]【第9戦】決勝ヒート - レース結果（貼付）'!A25="DQ"),'[1]【第9戦】決勝ヒート - レース結果（貼付）'!A25,IF(MAX('[1]【第9戦】決勝ヒート - レース結果（貼付）'!A:A)>A35,A35+1,"")) -> 24 | B36: =IFERROR(INDEX('[1]【第9戦】決勝ヒート - レース結果（貼付）'!A25:$Z$50,MATCH($A36,'[1]【第9戦】決勝ヒート - レース結果（貼付）'!A25:$A$50,0),MATCH('【第9戦】決勝ヒート - レース暫定結果表'!B$11,'[1]【第9戦】決勝ヒート - レース結果（貼付）'!$1:$1,0)),"") -> 71 | E36: =IFERROR(INDEX('[1]【第9戦】決勝ヒート - レース結果（貼付）'!$A:$Z,MATCH($B36,'[1]【第9戦】決勝ヒート - レース結果（貼付）'!$B:$B,0),MATCH('【第9戦】決勝ヒート - レース暫定結果表'!E$11,'[1]【第9戦】決勝ヒート - レース結果（貼付）'!$1:$1,0)),"") -> 小林 利徠斗 | F36: =IFERROR(INDEX('[1]【第9戦】決勝ヒート - レース結果（貼付）'!$A:$Z,MATCH($B36,'[1]【第9戦】決勝ヒート - レース結果（貼付）'!$B:$B,0),MATCH('【第9戦】決勝ヒート - レース暫定結果表'!F$11,'[1]【第9戦】決勝ヒート - レース結果（貼付）'!$1:$1,0)),"") -> Birel ART/IAME | G36: =IFERROR(INDEX('[1]【第9戦】決勝ヒート - レース結果（貼付）'!$A:$Z,MATCH($B36,'[1]【第9戦】決勝ヒート - レース結果（貼付）'!$B:$B,0),MATCH('【第9戦】決勝ヒート - レース暫定結果表'!G$11,'[1]【第9戦】決勝ヒート - レース結果（貼付）'!$1:$1,0)),"") -> bbR.Super Racing Junkie! | H36: =IFERROR(INDEX('[1]【第9戦】決勝ヒート - レース結果（貼付）'!$A:$Z,MATCH($B36,'[1]【第9戦】決勝ヒート - レース結果（貼付）'!$B:$B,0),MATCH('【第9戦】決勝ヒート - レース暫定結果表'!H$11,'[1]【第9戦】決勝ヒート - レース結果（貼付）'!$1:$1,0)),"") -> DL | I36: =IF(A36="DNS","",IF(A36="DQ","",IFERROR(INDEX('[1]【第9戦】決勝ヒート - レース結果（貼付）'!$A:$Z,MATCH($A36,'[1]【第9戦】決勝ヒート - レース結果（貼付）'!$A:$A,0),MATCH('【第9戦】決勝ヒート - レース暫定結果表'!I$11,'[1]【第9戦】決勝ヒート - レース結果（貼付）'!$1:$1,0)),""))) -> 24 | J36: =IF(A36="DNS","ｽﾀｰﾄ出来ず",IF(A36="DQ","失 格",IFERROR(INDEX('[1]【第9戦】決勝ヒート - レース結果（貼付）'!$A:$Z,MATCH($B36,'[1]【第9戦】決勝ヒート - レース結果（貼付）'!$B:$B,0),MATCH('【第9戦】決勝ヒート - レース暫定結果表'!J$11,'[1]【第9戦】決勝ヒート - レース結果（貼付）'!$1:$1,0)),""))) -> 0.012918553 | K36: =IF(A36="DNS","",IF(A36="DQ","",IFERROR(INDEX('[1]【第9戦】決勝ヒート - レース結果（貼付）'!$A:$Z,MATCH($A36,'[1]【第9戦】決勝ヒート - レース結果（貼付）'!$A:$A,0),MATCH('【第9戦】決勝ヒート - レース暫定結果表'!K$11,'[1]【第9戦】決勝ヒート - レース結果（貼付）'!$1:$1,0)),""))) -> 15.163 | L36: =IF(A36="DNS","",IF(A36="DQ","",IFERROR(INDEX('[1]【第9戦】決勝ヒート - レース結果（貼付）'!$A:$Z,MATCH($A36,'[1]【第9戦】決勝ヒート - レース結果（貼付）'!$A:$A,0),MATCH('【第9戦】決勝ヒート - レース暫定結果表'!L$11,'[1]【第9戦】決勝ヒート - レース結果（貼付）'!$1:$1,0)),""))) -> 0.516 | M36: =IF(A36="DNS","",IF(A36="DQ","",IFERROR(INDEX('[1]【第9戦】決勝ヒート - レース結果（貼付）'!$A:$Z,MATCH($B36,'[1]【第9戦】決勝ヒート - レース結果（貼付）'!$B:$B,0),MATCH('【第9戦】決勝ヒート - レース暫定結果表'!M$11,'[1]【第9戦】決勝ヒート - レース結果（貼付）'!$1:$1,0)),""))) -> 45.704 | N36: =IF(M36<1,"",IF($N$11>M36,"R","")) | Q36: =IF(IFERROR(INDEX('[1]【第9戦】決勝ヒート - レース結果（貼付）'!$A:$Z,MATCH($B36,'[1]【第9戦】決勝ヒート - レース結果（貼付）'!$B:$B,0),MATCH('【第9戦】決勝ヒート - レース暫定結果表'!Q$11,'[1]【第9戦】決勝ヒート - レース結果（貼付）'!$1:$1,0)),"")=0,"",IFERROR(INDEX('[1]【第9戦】決勝ヒート - レース結果（貼付）'!$A:$Z,MATCH($B36,'[1]【第9戦】決勝ヒート - レース結果（貼付）'!$B:$B,0),MATCH('【第9戦】決勝ヒート - レース暫定結果表'!Q$11,'[1]【第9戦】決勝ヒート - レース結果（貼付）'!$1:$1,0)),"")) | R36: =IF(Q36="","",COUNTIF($Q$13:Q36,"<>"&"")) | S36: =IFERROR(RANK(R36,$R$13:$R$47,1),"") | T36: =IF(IFERROR(INDEX('[1]【第9戦】決勝ヒート - レース結果（貼付）'!$A:$Z,MATCH($A36,'[1]【第9戦】決勝ヒート - レース結果（貼付）'!$A:$A,0),MATCH('【第9戦】決勝ヒート - レース暫定結果表'!T$11,'[1]【第9戦】決勝ヒート - レース結果（貼付）'!$1:$1,0)),"")=0,"",IFERROR(INDEX('[1]【第9戦】決勝ヒート - レース結果（貼付）'!$A:$Z,MATCH($A36,'[1]【第9戦】決勝ヒート - レース結果（貼付）'!$A:$A,0),MATCH('【第9戦】決勝ヒート - レース暫定結果表'!T$11,'[1]【第9戦】決勝ヒート - レース結果（貼付）'!$1:$1,0)),"")) | U36: =IF(IFERROR(INDEX('[1]【第9戦】決勝ヒート - レース結果（貼付）'!$A:$Z,MATCH($B36,'[1]【第9戦】決勝ヒート - レース結果（貼付）'!$B:$B,0),MATCH('[1]【第9戦】決勝ヒート - レース正式結果表（印刷）'!U$11,'[1]【第9戦】決勝ヒート - レース結果（貼付）'!$1:$1,0)),"")=0,"",IFERROR(INDEX('[1]【第9戦】決勝ヒート - レース結果（貼付）'!$A:$Z,MATCH($B36,'[1]【第9戦】決勝ヒート - レース結果（貼付）'!$B:$B,0),MATCH('[1]【第9戦】決勝ヒート - レース正式結果表（印刷）'!U$11,'[1]【第9戦】決勝ヒート - レース結果（貼付）'!$1:$1,0)),"")) -> 100.108
A37: =IF(OR('[1]【第9戦】決勝ヒート - レース結果（貼付）'!A26="DNF",'[1]【第9戦】決勝ヒート - レース結果（貼付）'!A26="DNS",'[1]【第9戦】決勝ヒート - レース結果（貼付）'!A26="DQ"),'[1]【第9戦】決勝ヒート - レース結果（貼付）'!A26,IF(MAX('[1]【第9戦】決勝ヒート - レース結果（貼付）'!A:A)>A36,A36+1,"")) -> 25 | B37: =IFERROR(INDEX('[1]【第9戦】決勝ヒート - レース結果（貼付）'!A26:$Z$50,MATCH($A37,'[1]【第9戦】決勝ヒート - レース結果（貼付）'!A26:$A$50,0),MATCH('【第9戦】決勝ヒート - レース暫定結果表'!B$11,'[1]【第9戦】決勝ヒート - レース結果（貼付）'!$1:$1,0)),"") -> 43 | E37: =IFERROR(INDEX('[1]【第9戦】決勝ヒート - レース結果（貼付）'!$A:$Z,MATCH($B37,'[1]【第9戦】決勝ヒート - レース結果（貼付）'!$B:$B,0),MATCH('【第9戦】決勝ヒート - レース暫定結果表'!E$11,'[1]【第9戦】決勝ヒート - レース結果（貼付）'!$1:$1,0)),"") -> 皆木 駿輔 | F37: =IFERROR(INDEX('[1]【第9戦】決勝ヒート - レース結果（貼付）'!$A:$Z,MATCH($B37,'[1]【第9戦】決勝ヒート - レース結果（貼付）'!$B:$B,0),MATCH('【第9戦】決勝ヒート - レース暫定結果表'!F$11,'[1]【第9戦】決勝ヒート - レース結果（貼付）'!$1:$1,0)),"") -> CRO Cpromotion/TM | G37: =IFERROR(INDEX('[1]【第9戦】決勝ヒート - レース結果（貼付）'!$A:$Z,MATCH($B37,'[1]【第9戦】決勝ヒート - レース結果（貼付）'!$B:$B,0),MATCH('【第9戦】決勝ヒート - レース暫定結果表'!G$11,'[1]【第9戦】決勝ヒート - レース結果（貼付）'!$1:$1,0)),"") -> CROC Promotion | H37: =IFERROR(INDEX('[1]【第9戦】決勝ヒート - レース結果（貼付）'!$A:$Z,MATCH($B37,'[1]【第9戦】決勝ヒート - レース結果（貼付）'!$B:$B,0),MATCH('【第9戦】決勝ヒート - レース暫定結果表'!H$11,'[1]【第9戦】決勝ヒート - レース結果（貼付）'!$1:$1,0)),"") -> DL | I37: =IF(A37="DNS","",IF(A37="DQ","",IFERROR(INDEX('[1]【第9戦】決勝ヒート - レース結果（貼付）'!$A:$Z,MATCH($A37,'[1]【第9戦】決勝ヒート - レース結果（貼付）'!$A:$A,0),MATCH('【第9戦】決勝ヒート - レース暫定結果表'!I$11,'[1]【第9戦】決勝ヒート - レース結果（貼付）'!$1:$1,0)),""))) -> 24 | J37: =IF(A37="DNS","ｽﾀｰﾄ出来ず",IF(A37="DQ","失 格",IFERROR(INDEX('[1]【第9戦】決勝ヒート - レース結果（貼付）'!$A:$Z,MATCH($B37,'[1]【第9戦】決勝ヒート - レース結果（貼付）'!$B:$B,0),MATCH('【第9戦】決勝ヒート - レース暫定結果表'!J$11,'[1]【第9戦】決勝ヒート - レース結果（貼付）'!$1:$1,0)),""))) -> 0.012968171 | K37: =IF(A37="DNS","",IF(A37="DQ","",IFERROR(INDEX('[1]【第9戦】決勝ヒート - レース結果（貼付）'!$A:$Z,MATCH($A37,'[1]【第9戦】決勝ヒート - レース結果（貼付）'!$A:$A,0),MATCH('【第9戦】決勝ヒート - レース暫定結果表'!K$11,'[1]【第9戦】決勝ヒート - レース結果（貼付）'!$1:$1,0)),""))) -> 19.45 | L37: =IF(A37="DNS","",IF(A37="DQ","",IFERROR(INDEX('[1]【第9戦】決勝ヒート - レース結果（貼付）'!$A:$Z,MATCH($A37,'[1]【第9戦】決勝ヒート - レース結果（貼付）'!$A:$A,0),MATCH('【第9戦】決勝ヒート - レース暫定結果表'!L$11,'[1]【第9戦】決勝ヒート - レース結果（貼付）'!$1:$1,0)),""))) -> 4.287 | M37: =IF(A37="DNS","",IF(A37="DQ","",IFERROR(INDEX('[1]【第9戦】決勝ヒート - レース結果（貼付）'!$A:$Z,MATCH($B37,'[1]【第9戦】決勝ヒート - レース結果（貼付）'!$B:$B,0),MATCH('【第9戦】決勝ヒート - レース暫定結果表'!M$11,'[1]【第9戦】決勝ヒート - レース結果（貼付）'!$1:$1,0)),""))) -> 45.638 | N37: =IF(M37<1,"",IF($N$11>M37,"R","")) | Q37: =IF(IFERROR(INDEX('[1]【第9戦】決勝ヒート - レース結果（貼付）'!$A:$Z,MATCH($B37,'[1]【第9戦】決勝ヒート - レース結果（貼付）'!$B:$B,0),MATCH('【第9戦】決勝ヒート - レース暫定結果表'!Q$11,'[1]【第9戦】決勝ヒート - レース結果（貼付）'!$1:$1,0)),"")=0,"",IFERROR(INDEX('[1]【第9戦】決勝ヒート - レース結果（貼付）'!$A:$Z,MATCH($B37,'[1]【第9戦】決勝ヒート - レース結果（貼付）'!$B:$B,0),MATCH('【第9戦】決勝ヒート - レース暫定結果表'!Q$11,'[1]【第9戦】決勝ヒート - レース結果（貼付）'!$1:$1,0)),"")) -> 全日本カート選手権統一規則書 第38条(25)(フロントフェアリングが正しい装着状態でない)により5秒加算した。 | R37: =IF(Q37="","",COUNTIF($Q$13:Q37,"<>"&"")) -> 25 | S37: =IFERROR(RANK(R37,$R$13:$R$47,1),"") -> 3 | T37: =IF(IFERROR(INDEX('[1]【第9戦】決勝ヒート - レース結果（貼付）'!$A:$Z,MATCH($A37,'[1]【第9戦】決勝ヒート - レース結果（貼付）'!$A:$A,0),MATCH('【第9戦】決勝ヒート - レース暫定結果表'!T$11,'[1]【第9戦】決勝ヒート - レース結果（貼付）'!$1:$1,0)),"")=0,"",IFERROR(INDEX('[1]【第9戦】決勝ヒート - レース結果（貼付）'!$A:$Z,MATCH($A37,'[1]【第9戦】決勝ヒート - レース結果（貼付）'!$A:$A,0),MATCH('【第9戦】決勝ヒート - レース暫定結果表'!T$11,'[1]【第9戦】決勝ヒート - レース結果（貼付）'!$1:$1,0)),"")) | U37: =IF(IFERROR(INDEX('[1]【第9戦】決勝ヒート - レース結果（貼付）'!$A:$Z,MATCH($B37,'[1]【第9戦】決勝ヒート - レース結果（貼付）'!$B:$B,0),MATCH('[1]【第9戦】決勝ヒート - レース正式結果表（印刷）'!U$11,'[1]【第9戦】決勝ヒート - レース結果（貼付）'!$1:$1,0)),"")=0,"",IFERROR(INDEX('[1]【第9戦】決勝ヒート - レース結果（貼付）'!$A:$Z,MATCH($B37,'[1]【第9戦】決勝ヒート - レース結果（貼付）'!$B:$B,0),MATCH('[1]【第9戦】決勝ヒート - レース正式結果表（印刷）'!U$11,'[1]【第9戦】決勝ヒート - レース結果（貼付）'!$1:$1,0)),"")) -> 99.562
A38: =IF(OR('[1]【第9戦】決勝ヒート - レース結果（貼付）'!A27="DNF",'[1]【第9戦】決勝ヒート - レース結果（貼付）'!A27="DNS",'[1]【第9戦】決勝ヒート - レース結果（貼付）'!A27="DQ"),'[1]【第9戦】決勝ヒート - レース結果（貼付）'!A27,IF(MAX('[1]【第9戦】決勝ヒート - レース結果（貼付）'!A:A)>A37,A37+1,"")) -> 26 | B38: =IFERROR(INDEX('[1]【第9戦】決勝ヒート - レース結果（貼付）'!A27:$Z$50,MATCH($A38,'[1]【第9戦】決勝ヒート - レース結果（貼付）'!A27:$A$50,0),MATCH('【第9戦】決勝ヒート - レース暫定結果表'!B$11,'[1]【第9戦】決勝ヒート - レース結果（貼付）'!$1:$1,0)),"") -> 85 | E38: =IFERROR(INDEX('[1]【第9戦】決勝ヒート - レース結果（貼付）'!$A:$Z,MATCH($B38,'[1]【第9戦】決勝ヒート - レース結果（貼付）'!$B:$B,0),MATCH('【第9戦】決勝ヒート - レース暫定結果表'!E$11,'[1]【第9戦】決勝ヒート - レース結果（貼付）'!$1:$1,0)),"") -> 佐藤 蓮 | F38: =IFERROR(INDEX('[1]【第9戦】決勝ヒート - レース結果（貼付）'!$A:$Z,MATCH($B38,'[1]【第9戦】決勝ヒート - レース結果（貼付）'!$B:$B,0),MATCH('【第9戦】決勝ヒート - レース暫定結果表'!F$11,'[1]【第9戦】決勝ヒート - レース結果（貼付）'!$1:$1,0)),"") -> Drago CORSE/TM | G38: =IFERROR(INDEX('[1]【第9戦】決勝ヒート - レース結果（貼付）'!$A:$Z,MATCH($B38,'[1]【第9戦】決勝ヒート - レース結果（貼付）'!$B:$B,0),MATCH('【第9戦】決勝ヒート - レース暫定結果表'!G$11,'[1]【第9戦】決勝ヒート - レース結果（貼付）'!$1:$1,0)),"") -> Drago Corse | H38: =IFERROR(INDEX('[1]【第9戦】決勝ヒート - レース結果（貼付）'!$A:$Z,MATCH($B38,'[1]【第9戦】決勝ヒート - レース結果（貼付）'!$B:$B,0),MATCH('【第9戦】決勝ヒート - レース暫定結果表'!H$11,'[1]【第9戦】決勝ヒート - レース結果（貼付）'!$1:$1,0)),"") -> YH | I38: =IF(A38="DNS","",IF(A38="DQ","",IFERROR(INDEX('[1]【第9戦】決勝ヒート - レース結果（貼付）'!$A:$Z,MATCH($A38,'[1]【第9戦】決勝ヒート - レース結果（貼付）'!$A:$A,0),MATCH('【第9戦】決勝ヒート - レース暫定結果表'!I$11,'[1]【第9戦】決勝ヒート - レース結果（貼付）'!$1:$1,0)),""))) -> 24 | J38: =IF(A38="DNS","ｽﾀｰﾄ出来ず",IF(A38="DQ","失 格",IFERROR(INDEX('[1]【第9戦】決勝ヒート - レース結果（貼付）'!$A:$Z,MATCH($B38,'[1]【第9戦】決勝ヒート - レース結果（貼付）'!$B:$B,0),MATCH('【第9戦】決勝ヒート - レース暫定結果表'!J$11,'[1]【第9戦】決勝ヒート - レース結果（貼付）'!$1:$1,0)),""))) -> 0.012979873 | K38: =IF(A38="DNS","",IF(A38="DQ","",IFERROR(INDEX('[1]【第9戦】決勝ヒート - レース結果（貼付）'!$A:$Z,MATCH($A38,'[1]【第9戦】決勝ヒート - レース結果（貼付）'!$A:$A,0),MATCH('【第9戦】決勝ヒート - レース暫定結果表'!K$11,'[1]【第9戦】決勝ヒート - レース結果（貼付）'!$1:$1,0)),""))) -> 20.461 | L38: =IF(A38="DNS","",IF(A38="DQ","",IFERROR(INDEX('[1]【第9戦】決勝ヒート - レース結果（貼付）'!$A:$Z,MATCH($A38,'[1]【第9戦】決勝ヒート - レース結果（貼付）'!$A:$A,0),MATCH('【第9戦】決勝ヒート - レース暫定結果表'!L$11,'[1]【第9戦】決勝ヒート - レース結果（貼付）'!$1:$1,0)),""))) -> 1.011 | M38: =IF(A38="DNS","",IF(A38="DQ","",IFERROR(INDEX('[1]【第9戦】決勝ヒート - レース結果（貼付）'!$A:$Z,MATCH($B38,'[1]【第9戦】決勝ヒート - レース結果（貼付）'!$B:$B,0),MATCH('【第9戦】決勝ヒート - レース暫定結果表'!M$11,'[1]【第9戦】決勝ヒート - レース結果（貼付）'!$1:$1,0)),""))) -> 45.551 | N38: =IF(M38<1,"",IF($N$11>M38,"R","")) | Q38: =IF(IFERROR(INDEX('[1]【第9戦】決勝ヒート - レース結果（貼付）'!$A:$Z,MATCH($B38,'[1]【第9戦】決勝ヒート - レース結果（貼付）'!$B:$B,0),MATCH('【第9戦】決勝ヒート - レース暫定結果表'!Q$11,'[1]【第9戦】決勝ヒート - レース結果（貼付）'!$1:$1,0)),"")=0,"",IFERROR(INDEX('[1]【第9戦】決勝ヒート - レース結果（貼付）'!$A:$Z,MATCH($B38,'[1]【第9戦】決勝ヒート - レース結果（貼付）'!$B:$B,0),MATCH('【第9戦】決勝ヒート - レース暫定結果表'!Q$11,'[1]【第9戦】決勝ヒート - レース結果（貼付）'!$1:$1,0)),"")) | R38: =IF(Q38="","",COUNTIF($Q$13:Q38,"<>"&"")) | S38: =IFERROR(RANK(R38,$R$13:$R$47,1),"") | T38: =IF(IFERROR(INDEX('[1]【第9戦】決勝ヒート - レース結果（貼付）'!$A:$Z,MATCH($A38,'[1]【第9戦】決勝ヒート - レース結果（貼付）'!$A:$A,0),MATCH('【第9戦】決勝ヒート - レース暫定結果表'!T$11,'[1]【第9戦】決勝ヒート - レース結果（貼付）'!$1:$1,0)),"")=0,"",IFERROR(INDEX('[1]【第9戦】決勝ヒート - レース結果（貼付）'!$A:$Z,MATCH($A38,'[1]【第9戦】決勝ヒート - レース結果（貼付）'!$A:$A,0),MATCH('【第9戦】決勝ヒート - レース暫定結果表'!T$11,'[1]【第9戦】決勝ヒート - レース結果（貼付）'!$1:$1,0)),"")) | U38: =IF(IFERROR(INDEX('[1]【第9戦】決勝ヒート - レース結果（貼付）'!$A:$Z,MATCH($B38,'[1]【第9戦】決勝ヒート - レース結果（貼付）'!$B:$B,0),MATCH('[1]【第9戦】決勝ヒート - レース正式結果表（印刷）'!U$11,'[1]【第9戦】決勝ヒート - レース結果（貼付）'!$1:$1,0)),"")=0,"",IFERROR(INDEX('[1]【第9戦】決勝ヒート - レース結果（貼付）'!$A:$Z,MATCH($B38,'[1]【第9戦】決勝ヒート - レース結果（貼付）'!$B:$B,0),MATCH('[1]【第9戦】決勝ヒート - レース正式結果表（印刷）'!U$11,'[1]【第9戦】決勝ヒート - レース結果（貼付）'!$1:$1,0)),"")) -> 99.897
A39: =IF(OR('[1]【第9戦】決勝ヒート - レース結果（貼付）'!A28="DNF",'[1]【第9戦】決勝ヒート - レース結果（貼付）'!A28="DNS",'[1]【第9戦】決勝ヒート - レース結果（貼付）'!A28="DQ"),'[1]【第9戦】決勝ヒート - レース結果（貼付）'!A28,IF(MAX('[1]【第9戦】決勝ヒート - レース結果（貼付）'!A:A)>A38,A38+1,"")) -> 27 | B39: =IFERROR(INDEX('[1]【第9戦】決勝ヒート - レース結果（貼付）'!A28:$Z$50,MATCH($A39,'[1]【第9戦】決勝ヒート - レース結果（貼付）'!A28:$A$50,0),MATCH('【第9戦】決勝ヒート - レース暫定結果表'!B$11,'[1]【第9戦】決勝ヒート - レース結果（貼付）'!$1:$1,0)),"") -> 33 | E39: =IFERROR(INDEX('[1]【第9戦】決勝ヒート - レース結果（貼付）'!$A:$Z,MATCH($B39,'[1]【第9戦】決勝ヒート - レース結果（貼付）'!$B:$B,0),MATCH('【第9戦】決勝ヒート - レース暫定結果表'!E$11,'[1]【第9戦】決勝ヒート - レース結果（貼付）'!$1:$1,0)),"") -> 安藤 哉翔 | F39: =IFERROR(INDEX('[1]【第9戦】決勝ヒート - レース結果（貼付）'!$A:$Z,MATCH($B39,'[1]【第9戦】決勝ヒート - レース結果（貼付）'!$B:$B,0),MATCH('【第9戦】決勝ヒート - レース暫定結果表'!F$11,'[1]【第9戦】決勝ヒート - レース結果（貼付）'!$1:$1,0)),"") -> TONY KART/VORTEX | G39: =IFERROR(INDEX('[1]【第9戦】決勝ヒート - レース結果（貼付）'!$A:$Z,MATCH($B39,'[1]【第9戦】決勝ヒート - レース結果（貼付）'!$B:$B,0),MATCH('【第9戦】決勝ヒート - レース暫定結果表'!G$11,'[1]【第9戦】決勝ヒート - レース結果（貼付）'!$1:$1,0)),"") -> TONYKART RACING TEAM JAPAN | H39: =IFERROR(INDEX('[1]【第9戦】決勝ヒート - レース結果（貼付）'!$A:$Z,MATCH($B39,'[1]【第9戦】決勝ヒート - レース結果（貼付）'!$B:$B,0),MATCH('【第9戦】決勝ヒート - レース暫定結果表'!H$11,'[1]【第9戦】決勝ヒート - レース結果（貼付）'!$1:$1,0)),"") -> BS | I39: =IF(A39="DNS","",IF(A39="DQ","",IFERROR(INDEX('[1]【第9戦】決勝ヒート - レース結果（貼付）'!$A:$Z,MATCH($A39,'[1]【第9戦】決勝ヒート - レース結果（貼付）'!$A:$A,0),MATCH('【第9戦】決勝ヒート - レース暫定結果表'!I$11,'[1]【第9戦】決勝ヒート - レース結果（貼付）'!$1:$1,0)),""))) -> 24 | J39: =IF(A39="DNS","ｽﾀｰﾄ出来ず",IF(A39="DQ","失 格",IFERROR(INDEX('[1]【第9戦】決勝ヒート - レース結果（貼付）'!$A:$Z,MATCH($B39,'[1]【第9戦】決勝ヒート - レース結果（貼付）'!$B:$B,0),MATCH('【第9戦】決勝ヒート - レース暫定結果表'!J$11,'[1]【第9戦】決勝ヒート - レース結果（貼付）'!$1:$1,0)),""))) -> 0.012996713 | K39: =IF(A39="DNS","",IF(A39="DQ","",IFERROR(INDEX('[1]【第9戦】決勝ヒート - レース結果（貼付）'!$A:$Z,MATCH($A39,'[1]【第9戦】決勝ヒート - レース結果（貼付）'!$A:$A,0),MATCH('【第9戦】決勝ヒート - レース暫定結果表'!K$11,'[1]【第9戦】決勝ヒート - レース結果（貼付）'!$1:$1,0)),""))) -> 21.916 | L39: =IF(A39="DNS","",IF(A39="DQ","",IFERROR(INDEX('[1]【第9戦】決勝ヒート - レース結果（貼付）'!$A:$Z,MATCH($A39,'[1]【第9戦】決勝ヒート - レース結果（貼付）'!$A:$A,0),MATCH('【第9戦】決勝ヒート - レース暫定結果表'!L$11,'[1]【第9戦】決勝ヒート - レース結果（貼付）'!$1:$1,0)),""))) -> 1.455 | M39: =IF(A39="DNS","",IF(A39="DQ","",IFERROR(INDEX('[1]【第9戦】決勝ヒート - レース結果（貼付）'!$A:$Z,MATCH($B39,'[1]【第9戦】決勝ヒート - レース結果（貼付）'!$B:$B,0),MATCH('【第9戦】決勝ヒート - レース暫定結果表'!M$11,'[1]【第9戦】決勝ヒート - レース結果（貼付）'!$1:$1,0)),""))) -> 45.825 | N39: =IF(M39<1,"",IF($N$11>M39,"R","")) | Q39: =IF(IFERROR(INDEX('[1]【第9戦】決勝ヒート - レース結果（貼付）'!$A:$Z,MATCH($B39,'[1]【第9戦】決勝ヒート - レース結果（貼付）'!$B:$B,0),MATCH('【第9戦】決勝ヒート - レース暫定結果表'!Q$11,'[1]【第9戦】決勝ヒート - レース結果（貼付）'!$1:$1,0)),"")=0,"",IFERROR(INDEX('[1]【第9戦】決勝ヒート - レース結果（貼付）'!$A:$Z,MATCH($B39,'[1]【第9戦】決勝ヒート - レース結果（貼付）'!$B:$B,0),MATCH('【第9戦】決勝ヒート - レース暫定結果表'!Q$11,'[1]【第9戦】決勝ヒート - レース結果（貼付）'!$1:$1,0)),"")) | R39: =IF(Q39="","",COUNTIF($Q$13:Q39,"<>"&"")) | S39: =IFERROR(RANK(R39,$R$13:$R$47,1),"") | T39: =IF(IFERROR(INDEX('[1]【第9戦】決勝ヒート - レース結果（貼付）'!$A:$Z,MATCH($A39,'[1]【第9戦】決勝ヒート - レース結果（貼付）'!$A:$A,0),MATCH('【第9戦】決勝ヒート - レース暫定結果表'!T$11,'[1]【第9戦】決勝ヒート - レース結果（貼付）'!$1:$1,0)),"")=0,"",IFERROR(INDEX('[1]【第9戦】決勝ヒート - レース結果（貼付）'!$A:$Z,MATCH($A39,'[1]【第9戦】決勝ヒート - レース結果（貼付）'!$A:$A,0),MATCH('【第9戦】決勝ヒート - レース暫定結果表'!T$11,'[1]【第9戦】決勝ヒート - レース結果（貼付）'!$1:$1,0)),"")) | U39: =IF(IFERROR(INDEX('[1]【第9戦】決勝ヒート - レース結果（貼付）'!$A:$Z,MATCH($B39,'[1]【第9戦】決勝ヒート - レース結果（貼付）'!$B:$B,0),MATCH('[1]【第9戦】決勝ヒート - レース正式結果表（印刷）'!U$11,'[1]【第9戦】決勝ヒート - レース結果（貼付）'!$1:$1,0)),"")=0,"",IFERROR(INDEX('[1]【第9戦】決勝ヒート - レース結果（貼付）'!$A:$Z,MATCH($B39,'[1]【第9戦】決勝ヒート - レース結果（貼付）'!$B:$B,0),MATCH('[1]【第9戦】決勝ヒート - レース正式結果表（印刷）'!U$11,'[1]【第9戦】決勝ヒート - レース結果（貼付）'!$1:$1,0)),"")) -> 99.3
... A42: =IF(OR('[1]【第9戦】決勝ヒート - レース結果（貼付）'!A31="DNF",'[1]【第9戦】決勝ヒート - レース結果（貼付）'!A31="DNS",'[1]【第9戦】決勝ヒート - レース結果（貼付）'!A31="DQ"),'[1]【第9戦】決勝ヒート - レース結果（貼付）'!A31,IF(MAX('[1]【第9戦】決勝ヒート - レース結果（貼付）'!A:A)>A41,A41+1,"")) -> 30 | B42: =IFERROR(INDEX('[1]【第9戦】決勝ヒート - レース結果（貼付）'!A31:$Z$50,MATCH($A42,'[1]【第9戦】決勝ヒート - レース結果（貼付）'!A31:$A$50,0),MATCH('【第9戦】決勝ヒート - レース暫定結果表'!B$11,'[1]【第9戦】決勝ヒート - レース結果（貼付）'!$1:$1,0)),"") -> 28 | E42: =IFERROR(INDEX('[1]【第9戦】決勝ヒート - レース結果（貼付）'!$A:$Z,MATCH($B42,'[1]【第9戦】決勝ヒート - レース結果（貼付）'!$B:$B,0),MATCH('【第9戦】決勝ヒート - レース暫定結果表'!E$11,'[1]【第9戦】決勝ヒート - レース結果（貼付）'!$1:$1,0)),"") -> 渡会 太一 | F42: =IFERROR(INDEX('[1]【第9戦】決勝ヒート - レース結果（貼付）'!$A:$Z,MATCH($B42,'[1]【第9戦】決勝ヒート - レース結果（貼付）'!$B:$B,0),MATCH('【第9戦】決勝ヒート - レース暫定結果表'!F$11,'[1]【第9戦】決勝ヒート - レース結果（貼付）'!$1:$1,0)),"") -> Drago CORSE/TM | G42: =IFERROR(INDEX('[1]【第9戦】決勝ヒート - レース結果（貼付）'!$A:$Z,MATCH($B42,'[1]【第9戦】決勝ヒート - レース結果（貼付）'!$B:$B,0),MATCH('【第9戦】決勝ヒート - レース暫定結果表'!G$11,'[1]【第9戦】決勝ヒート - レース結果（貼付）'!$1:$1,0)),"") -> DragoCorse | H42: =IFERROR(INDEX('[1]【第9戦】決勝ヒート - レース結果（貼付）'!$A:$Z,MATCH($B42,'[1]【第9戦】決勝ヒート - レース結果（貼付）'!$B:$B,0),MATCH('【第9戦】決勝ヒート - レース暫定結果表'!H$11,'[1]【第9戦】決勝ヒート - レース結果（貼付）'!$1:$1,0)),"") -> YH | I42: =IF(A42="DNS","",IF(A42="DQ","",IFERROR(INDEX('[1]【第9戦】決勝ヒート - レース結果（貼付）'!$A:$Z,MATCH($A42,'[1]【第9戦】決勝ヒート - レース結果（貼付）'!$A:$A,0),MATCH('【第9戦】決勝ヒート - レース暫定結果表'!I$11,'[1]【第9戦】決勝ヒート - レース結果（貼付）'!$1:$1,0)),""))) -> 24 | J42: =IF(A42="DNS","ｽﾀｰﾄ出来ず",IF(A42="DQ","失 格",IFERROR(INDEX('[1]【第9戦】決勝ヒート - レース結果（貼付）'!$A:$Z,MATCH($B42,'[1]【第9戦】決勝ヒート - レース結果（貼付）'!$B:$B,0),MATCH('【第9戦】決勝ヒート - レース暫定結果表'!J$11,'[1]【第9戦】決勝ヒート - レース結果（貼付）'!$1:$1,0)),""))) -> 0.013112037 | K42: =IF(A42="DNS","",IF(A42="DQ","",IFERROR(INDEX('[1]【第9戦】決勝ヒート - レース結果（貼付）'!$A:$Z,MATCH($A42,'[1]【第9戦】決勝ヒート - レース結果（貼付）'!$A:$A,0),MATCH('【第9戦】決勝ヒート - レース暫定結果表'!K$11,'[1]【第9戦】決勝ヒート - レース結果（貼付）'!$1:$1,0)),""))) -> 31.88 | L42: =IF(A42="DNS","",IF(A42="DQ","",IFERROR(INDEX('[1]【第9戦】決勝ヒート - レース結果（貼付）'!$A:$Z,MATCH($A42,'[1]【第9戦】決勝ヒート - レース結果（貼付）'!$A:$A,0),MATCH('【第9戦】決勝ヒート - レース暫定結果表'!L$11,'[1]【第9戦】決勝ヒート - レース結果（貼付）'!$1:$1,0)),""))) -> 3.065 | M42: =IF(A42="DNS","",IF(A42="DQ","",IFERROR(INDEX('[1]【第9戦】決勝ヒート - レース結果（貼付）'!$A:$Z,MATCH($B42,'[1]【第9戦】決勝ヒート - レース結果（貼付）'!$B:$B,0),MATCH('【第9戦】決勝ヒート - レース暫定結果表'!M$11,'[1]【第9戦】決勝ヒート - レース結果（貼付）'!$1:$1,0)),""))) -> 45.946 | N42: =IF(M42<1,"",IF($N$11>M42,"R","")) | Q42: =IF(IFERROR(INDEX('[1]【第9戦】決勝ヒート - レース結果（貼付）'!$A:$Z,MATCH($B42,'[1]【第9戦】決勝ヒート - レース結果（貼付）'!$B:$B,0),MATCH('【第9戦】決勝ヒート - レース暫定結果表'!Q$11,'[1]【第9戦】決勝ヒート - レース結果（貼付）'!$1:$1,0)),"")=0,"",IFERROR(INDEX('[1]【第9戦】決勝ヒート - レース結果（貼付）'!$A:$Z,MATCH($B42,'[1]【第9戦】決勝ヒート - レース結果（貼付）'!$B:$B,0),MATCH('【第9戦】決勝ヒート - レース暫定結果表'!Q$11,'[1]【第9戦】決勝ヒート - レース結果（貼付）'!$1:$1,0)),"")) | R42: =IF(Q42="","",COUNTIF($Q$13:Q42,"<>"&"")) | S42: =IFERROR(RANK(R42,$R$13:$R$47,1),"") | T42: =IF(IFERROR(INDEX('[1]【第9戦】決勝ヒート - レース結果（貼付）'!$A:$Z,MATCH($A42,'[1]【第9戦】決勝ヒート - レース結果（貼付）'!$A:$A,0),MATCH('【第9戦】決勝ヒート - レース暫定結果表'!T$11,'[1]【第9戦】決勝ヒート - レース結果（貼付）'!$1:$1,0)),"")=0,"",IFERROR(INDEX('[1]【第9戦】決勝ヒート - レース結果（貼付）'!$A:$Z,MATCH($A42,'[1]【第9戦】決勝ヒート - レース結果（貼付）'!$A:$A,0),MATCH('【第9戦】決勝ヒート - レース暫定結果表'!T$11,'[1]【第9戦】決勝ヒート - レース結果（貼付）'!$1:$1,0)),"")) | U42: =IF(IFERROR(INDEX('[1]【第9戦】決勝ヒート - レース結果（貼付）'!$A:$Z,MATCH($B42,'[1]【第9戦】決勝ヒート - レース結果（貼付）'!$B:$B,0),MATCH('[1]【第9戦】決勝ヒート - レース正式結果表（印刷）'!U$11,'[1]【第9戦】決勝ヒート - レース結果（貼付）'!$1:$1,0)),"")=0,"",IFERROR(INDEX('[1]【第9戦】決勝ヒート - レース結果（貼付）'!$A:$Z,MATCH($B42,'[1]【第9戦】決勝ヒート - レース結果（貼付）'!$B:$B,0),MATCH('[1]【第9戦】決勝ヒート - レース正式結果表（印刷）'!U$11,'[1]【第9戦】決勝ヒート - レース結果（貼付）'!$1:$1,0)),"")) -> 99.038
A43: 以下ﾌｨﾆｯｼｭﾗｲﾝ不通過：
A44: =IF(OR('[1]【第9戦】決勝ヒート - レース結果（貼付）'!A32="DNF",'[1]【第9戦】決勝ヒート - レース結果（貼付）'!A32="DNS",'[1]【第9戦】決勝ヒート - レース結果（貼付）'!A32="DQ"),'[1]【第9戦】決勝ヒート - レース結果（貼付）'!A32,IF(MAX('[1]【第9戦】決勝ヒート - レース結果（貼付）'!A:A)>A42,A42+1,"")) -> 31 | B44: =IFERROR(INDEX('[1]【第9戦】決勝ヒート - レース結果（貼付）'!A32:$Z$50,MATCH($A44,'[1]【第9戦】決勝ヒート - レース結果（貼付）'!A32:$A$50,0),MATCH('【第9戦】決勝ヒート - レース暫定結果表'!B$11,'[1]【第9戦】決勝ヒート - レース結果（貼付）'!$1:$1,0)),"") -> 19 | E44: =IFERROR(INDEX('[1]【第9戦】決勝ヒート - レース結果（貼付）'!$A:$Z,MATCH($B44,'[1]【第9戦】決勝ヒート - レース結果（貼付）'!$B:$B,0),MATCH('【第9戦】決勝ヒート - レース暫定結果表'!E$11,'[1]【第9戦】決勝ヒート - レース結果（貼付）'!$1:$1,0)),"") -> 中村 仁 | F44: =IFERROR(INDEX('[1]【第9戦】決勝ヒート - レース結果（貼付）'!$A:$Z,MATCH($B44,'[1]【第9戦】決勝ヒート - レース結果（貼付）'!$B:$B,0),MATCH('【第9戦】決勝ヒート - レース暫定結果表'!F$11,'[1]【第9戦】決勝ヒート - レース結果（貼付）'!$1:$1,0)),"") -> REDSPEED/VORTEX | G44: =IFERROR(INDEX('[1]【第9戦】決勝ヒート - レース結果（貼付）'!$A:$Z,MATCH($B44,'[1]【第9戦】決勝ヒート - レース結果（貼付）'!$B:$B,0),MATCH('【第9戦】決勝ヒート - レース暫定結果表'!G$11,'[1]【第9戦】決勝ヒート - レース結果（貼付）'!$1:$1,0)),"") -> Moty's RACING TEAM | H44: =IFERROR(INDEX('[1]【第9戦】決勝ヒート - レース結果（貼付）'!$A:$Z,MATCH($B44,'[1]【第9戦】決勝ヒート - レース結果（貼付）'!$B:$B,0),MATCH('【第9戦】決勝ヒート - レース暫定結果表'!H$11,'[1]【第9戦】決勝ヒート - レース結果（貼付）'!$1:$1,0)),"") -> BS | I44: =IF(A44="DNS","",IF(A44="DQ","",IFERROR(INDEX('[1]【第9戦】決勝ヒート - レース結果（貼付）'!$A:$Z,MATCH($A44,'[1]【第9戦】決勝ヒート - レース結果（貼付）'!$A:$A,0),MATCH('【第9戦】決勝ヒート - レース暫定結果表'!I$11,'[1]【第9戦】決勝ヒート - レース結果（貼付）'!$1:$1,0)),""))) -> 21 | J44: =IF(A44="DNS","ｽﾀｰﾄ出来ず",IF(A44="DQ","失 格",IFERROR(INDEX('[1]【第9戦】決勝ヒート - レース結果（貼付）'!$A:$Z,MATCH($B44,'[1]【第9戦】決勝ヒート - レース結果（貼付）'!$B:$B,0),MATCH('【第9戦】決勝ヒート - レース暫定結果表'!J$11,'[1]【第9戦】決勝ヒート - レース結果（貼付）'!$1:$1,0)),""))) -> 0.012059919 | K44: =IF(A44="DNS","",IF(A44="DQ","",IFERROR(INDEX('[1]【第9戦】決勝ヒート - レース結果（貼付）'!$A:$Z,MATCH($A44,'[1]【第9戦】決勝ヒート - レース結果（貼付）'!$A:$A,0),MATCH('【第9戦】決勝ヒート - レース暫定結果表'!K$11,'[1]【第9戦】決勝ヒート - レース結果（貼付）'!$1:$1,0)),""))) -> 3 Laps | L44: =IF(A44="DNS","",IF(A44="DQ","",IFERROR(INDEX('[1]【第9戦】決勝ヒート - レース結果（貼付）'!$A:$Z,MATCH($A44,'[1]【第9戦】決勝ヒート - レース結果（貼付）'!$A:$A,0),MATCH('【第9戦】決勝ヒート - レース暫定結果表'!L$11,'[1]【第9戦】決勝ヒート - レース結果（貼付）'!$1:$1,0)),""))) -> 3 Laps | M44: =IF(A44="DNS","",IF(A44="DQ","",IFERROR(INDEX('[1]【第9戦】決勝ヒート - レース結果（貼付）'!$A:$Z,MATCH($B44,'[1]【第9戦】決勝ヒート - レース結果（貼付）'!$B:$B,0),MATCH('【第9戦】決勝ヒート - レース暫定結果表'!M$11,'[1]【第9戦】決勝ヒート - レース結果（貼付）'!$1:$1,0)),""))) -> 45.912 | N44: =IF(M44<1,"",IF($N$11>M44,"R","")) | Q44: =IF(IFERROR(INDEX('[1]【第9戦】決勝ヒート - レース結果（貼付）'!$A:$Z,MATCH($B44,'[1]【第9戦】決勝ヒート - レース結果（貼付）'!$B:$B,0),MATCH('【第9戦】決勝ヒート - レース暫定結果表'!Q$11,'[1]【第9戦】決勝ヒート - レース結果（貼付）'!$1:$1,0)),"")=0,"",IFERROR(INDEX('[1]【第9戦】決勝ヒート - レース結果（貼付）'!$A:$Z,MATCH($B44,'[1]【第9戦】決勝ヒート - レース結果（貼付）'!$B:$B,0),MATCH('【第9戦】決勝ヒート - レース暫定結果表'!Q$11,'[1]【第9戦】決勝ヒート - レース結果（貼付）'!$1:$1,0)),"")) -> JAF国内ｶｰﾄ競技規則 ｶｰﾄ競技会運営に関する規定 22条(妨害の禁止(無理な進入))違反により、10秒加算とした。 | R44: =IF(Q44="","",COUNTIF($Q$13:Q44,"<>"&"")) -> 31 | S44: =IFERROR(RANK(R44,$R$13:$R$47,1),"") -> 4 | T44: =IF(IFERROR(INDEX('[1]【第9戦】決勝ヒート - レース結果（貼付）'!$A:$Z,MATCH($A44,'[1]【第9戦】決勝ヒート - レース結果（貼付）'!$A:$A,0),MATCH('【第9戦】決勝ヒート - レース暫定結果表'!T$11,'[1]【第9戦】決勝ヒート - レース結果（貼付）'!$1:$1,0)),"")=0,"",IFERROR(INDEX('[1]【第9戦】決勝ヒート - レース結果（貼付）'!$A:$Z,MATCH($A44,'[1]【第9戦】決勝ヒート - レース結果（貼付）'!$A:$A,0),MATCH('【第9戦】決勝ヒート - レース暫定結果表'!T$11,'[1]【第9戦】決勝ヒート - レース結果（貼付）'!$1:$1,0)),"")) | U44: =IF(IFERROR(INDEX('[1]【第9戦】決勝ヒート - レース結果（貼付）'!$A:$Z,MATCH($B44,'[1]【第9戦】決勝ヒート - レース結果（貼付）'!$B:$B,0),MATCH('[1]【第9戦】決勝ヒート - レース正式結果表（印刷）'!U$11,'[1]【第9戦】決勝ヒート - レース結果（貼付）'!$1:$1,0)),"")=0,"",IFERROR(INDEX('[1]【第9戦】決勝ヒート - レース結果（貼付）'!$A:$Z,MATCH($B44,'[1]【第9戦】決勝ヒート - レース結果（貼付）'!$B:$B,0),MATCH('[1]【第9戦】決勝ヒート - レース正式結果表（印刷）'!U$11,'[1]【第9戦】決勝ヒート - レース結果（貼付）'!$1:$1,0)),"")) -> 99.111
A45: =IF(OR('[1]【第9戦】決勝ヒート - レース結果（貼付）'!A33="DNF",'[1]【第9戦】決勝ヒート - レース結果（貼付）'!A33="DNS",'[1]【第9戦】決勝ヒート - レース結果（貼付）'!A33="DQ"),'[1]【第9戦】決勝ヒート - レース結果（貼付）'!A33,IF(MAX('[1]【第9戦】決勝ヒート - レース結果（貼付）'!A:A)>A44,A44+1,"")) -> 32 | B45: =IFERROR(INDEX('[1]【第9戦】決勝ヒート - レース結果（貼付）'!A33:$Z$50,MATCH($A45,'[1]【第9戦】決勝ヒート - レース結果（貼付）'!A33:$A$50,0),MATCH('【第9戦】決勝ヒート - レース暫定結果表'!B$11,'[1]【第9戦】決勝ヒート - レース結果（貼付）'!$1:$1,0)),"") -> 52 | E45: =IFERROR(INDEX('[1]【第9戦】決勝ヒート - レース結果（貼付）'!$A:$Z,MATCH($B45,'[1]【第9戦】決勝ヒート - レース結果（貼付）'!$B:$B,0),MATCH('【第9戦】決勝ヒート - レース暫定結果表'!E$11,'[1]【第9戦】決勝ヒート - レース結果（貼付）'!$1:$1,0)),"") -> 伊藤 祐 | F45: =IFERROR(INDEX('[1]【第9戦】決勝ヒート - レース結果（貼付）'!$A:$Z,MATCH($B45,'[1]【第9戦】決勝ヒート - レース結果（貼付）'!$B:$B,0),MATCH('【第9戦】決勝ヒート - レース暫定結果表'!F$11,'[1]【第9戦】決勝ヒート - レース結果（貼付）'!$1:$1,0)),"") -> Praga/TM | G45: =IFERROR(INDEX('[1]【第9戦】決勝ヒート - レース結果（貼付）'!$A:$Z,MATCH($B45,'[1]【第9戦】決勝ヒート - レース結果（貼付）'!$B:$B,0),MATCH('【第9戦】決勝ヒート - レース暫定結果表'!G$11,'[1]【第9戦】決勝ヒート - レース結果（貼付）'!$1:$1,0)),"") -> ガレージC | H45: =IFERROR(INDEX('[1]【第9戦】決勝ヒート - レース結果（貼付）'!$A:$Z,MATCH($B45,'[1]【第9戦】決勝ヒート - レース結果（貼付）'!$B:$B,0),MATCH('【第9戦】決勝ヒート - レース暫定結果表'!H$11,'[1]【第9戦】決勝ヒート - レース結果（貼付）'!$1:$1,0)),"") -> DL | I45: =IF(A45="DNS","",IF(A45="DQ","",IFERROR(INDEX('[1]【第9戦】決勝ヒート - レース結果（貼付）'!$A:$Z,MATCH($A45,'[1]【第9戦】決勝ヒート - レース結果（貼付）'!$A:$A,0),MATCH('【第9戦】決勝ヒート - レース暫定結果表'!I$11,'[1]【第9戦】決勝ヒート - レース結果（貼付）'!$1:$1,0)),""))) -> 19 | J45: =IF(A45="DNS","ｽﾀｰﾄ出来ず",IF(A45="DQ","失 格",IFERROR(INDEX('[1]【第9戦】決勝ヒート - レース結果（貼付）'!$A:$Z,MATCH($B45,'[1]【第9戦】決勝ヒート - レース結果（貼付）'!$B:$B,0),MATCH('【第9戦】決勝ヒート - レース暫定結果表'!J$11,'[1]【第9戦】決勝ヒート - レース結果（貼付）'!$1:$1,0)),""))) -> 0.01030265 | K45: =IF(A45="DNS","",IF(A45="DQ","",IFERROR(INDEX('[1]【第9戦】決勝ヒート - レース結果（貼付）'!$A:$Z,MATCH($A45,'[1]【第9戦】決勝ヒート - レース結果（貼付）'!$A:$A,0),MATCH('【第9戦】決勝ヒート - レース暫定結果表'!K$11,'[1]【第9戦】決勝ヒート - レース結果（貼付）'!$1:$1,0)),""))) -> 5 Laps | L45: =IF(A45="DNS","",IF(A45="DQ","",IFERROR(INDEX('[1]【第9戦】決勝ヒート - レース結果（貼付）'!$A:$Z,MATCH($A45,'[1]【第9戦】決勝ヒート - レース結果（貼付）'!$A:$A,0),MATCH('【第9戦】決勝ヒート - レース暫定結果表'!L$11,'[1]【第9戦】決勝ヒート - レース結果（貼付）'!$1:$1,0)),""))) -> 2 Laps | M45: =IF(A45="DNS","",IF(A45="DQ","",IFERROR(INDEX('[1]【第9戦】決勝ヒート - レース結果（貼付）'!$A:$Z,MATCH($B45,'[1]【第9戦】決勝ヒート - レース結果（貼付）'!$B:$B,0),MATCH('【第9戦】決勝ヒート - レース暫定結果表'!M$11,'[1]【第9戦】決勝ヒート - レース結果（貼付）'!$1:$1,0)),""))) -> 45.88 | N45: =IF(M45<1,"",IF($N$11>M45,"R","")) | Q45: =IF(IFERROR(INDEX('[1]【第9戦】決勝ヒート - レース結果（貼付）'!$A:$Z,MATCH($B45,'[1]【第9戦】決勝ヒート - レース結果（貼付）'!$B:$B,0),MATCH('【第9戦】決勝ヒート - レース暫定結果表'!Q$11,'[1]【第9戦】決勝ヒート - レース結果（貼付）'!$1:$1,0)),"")=0,"",IFERROR(INDEX('[1]【第9戦】決勝ヒート - レース結果（貼付）'!$A:$Z,MATCH($B45,'[1]【第9戦】決勝ヒート - レース結果（貼付）'!$B:$B,0),MATCH('【第9戦】決勝ヒート - レース暫定結果表'!Q$11,'[1]【第9戦】決勝ヒート - レース結果（貼付）'!$1:$1,0)),"")) | R45: =IF(Q45="","",COUNTIF($Q$13:Q45,"<>"&"")) | S45: =IFERROR(RANK(R45,$R$13:$R$47,1),"") | T45: =IF(IFERROR(INDEX('[1]【第9戦】決勝ヒート - レース結果（貼付）'!$A:$Z,MATCH($A45,'[1]【第9戦】決勝ヒート - レース結果（貼付）'!$A:$A,0),MATCH('【第9戦】決勝ヒート - レース暫定結果表'!T$11,'[1]【第9戦】決勝ヒート - レース結果（貼付）'!$1:$1,0)),"")=0,"",IFERROR(INDEX('[1]【第9戦】決勝ヒート - レース結果（貼付）'!$A:$Z,MATCH($A45,'[1]【第9戦】決勝ヒート - レース結果（貼付）'!$A:$A,0),MATCH('【第9戦】決勝ヒート - レース暫定結果表'!T$11,'[1]【第9戦】決勝ヒート - レース結果（貼付）'!$1:$1,0)),"")) | U45: =IF(IFERROR(INDEX('[1]【第9戦】決勝ヒート - レース結果（貼付）'!$A:$Z,MATCH($B45,'[1]【第9戦】決勝ヒート - レース結果（貼付）'!$B:$B,0),MATCH('[1]【第9戦】決勝ヒート - レース正式結果表（印刷）'!U$11,'[1]【第9戦】決勝ヒート - レース結果（貼付）'!$1:$1,0)),"")=0,"",IFERROR(INDEX('[1]【第9戦】決勝ヒート - レース結果（貼付）'!$A:$Z,MATCH($B45,'[1]【第9戦】決勝ヒート - レース結果（貼付）'!$B:$B,0),MATCH('[1]【第9戦】決勝ヒート - レース正式結果表（印刷）'!U$11,'[1]【第9戦】決勝ヒート - レース結果（貼付）'!$1:$1,0)),"")) -> 99.18
A46: =IF(OR('[1]【第9戦】決勝ヒート - レース結果（貼付）'!A34="DNF",'[1]【第9戦】決勝ヒート - レース結果（貼付）'!A34="DNS",'[1]【第9戦】決勝ヒート - レース結果（貼付）'!A34="DQ"),'[1]【第9戦】決勝ヒート - レース結果（貼付）'!A34,IF(MAX('[1]【第9戦】決勝ヒート - レース結果（貼付）'!A:A)>A45,A45+1,"")) -> 33 | B46: =IFERROR(INDEX('[1]【第9戦】決勝ヒート - レース結果（貼付）'!A34:$Z$50,MATCH($A46,'[1]【第9戦】決勝ヒート - レース結果（貼付）'!A34:$A$50,0),MATCH('【第9戦】決勝ヒート - レース暫定結果表'!B$11,'[1]【第9戦】決勝ヒート - レース結果（貼付）'!$1:$1,0)),"") -> 7 | E46: =IFERROR(INDEX('[1]【第9戦】決勝ヒート - レース結果（貼付）'!$A:$Z,MATCH($B46,'[1]【第9戦】決勝ヒート - レース結果（貼付）'!$B:$B,0),MATCH('【第9戦】決勝ヒート - レース暫定結果表'!E$11,'[1]【第9戦】決勝ヒート - レース結果（貼付）'!$1:$1,0)),"") -> 高橋 悠之 | F46: =IFERROR(INDEX('[1]【第9戦】決勝ヒート - レース結果（貼付）'!$A:$Z,MATCH($B46,'[1]【第9戦】決勝ヒート - レース結果（貼付）'!$B:$B,0),MATCH('【第9戦】決勝ヒート - レース暫定結果表'!F$11,'[1]【第9戦】決勝ヒート - レース結果（貼付）'!$1:$1,0)),"") -> Birel ART/IAME | G46: =IFERROR(INDEX('[1]【第9戦】決勝ヒート - レース結果（貼付）'!$A:$Z,MATCH($B46,'[1]【第9戦】決勝ヒート - レース結果（貼付）'!$B:$B,0),MATCH('【第9戦】決勝ヒート - レース暫定結果表'!G$11,'[1]【第9戦】決勝ヒート - レース結果（貼付）'!$1:$1,0)),"") -> BirelART Access Racing | H46: =IFERROR(INDEX('[1]【第9戦】決勝ヒート - レース結果（貼付）'!$A:$Z,MATCH($B46,'[1]【第9戦】決勝ヒート - レース結果（貼付）'!$B:$B,0),MATCH('【第9戦】決勝ヒート - レース暫定結果表'!H$11,'[1]【第9戦】決勝ヒート - レース結果（貼付）'!$1:$1,0)),"") -> BS | I46: =IF(A46="DNS","",IF(A46="DQ","",IFERROR(INDEX('[1]【第9戦】決勝ヒート - レース結果（貼付）'!$A:$Z,MATCH($A46,'[1]【第9戦】決勝ヒート - レース結果（貼付）'!$A:$A,0),MATCH('【第9戦】決勝ヒート - レース暫定結果表'!I$11,'[1]【第9戦】決勝ヒート - レース結果（貼付）'!$1:$1,0)),""))) -> 17 | J46: =IF(A46="DNS","ｽﾀｰﾄ出来ず",IF(A46="DQ","失 格",IFERROR(INDEX('[1]【第9戦】決勝ヒート - レース結果（貼付）'!$A:$Z,MATCH($B46,'[1]【第9戦】決勝ヒート - レース結果（貼付）'!$B:$B,0),MATCH('【第9戦】決勝ヒート - レース暫定結果表'!J$11,'[1]【第9戦】決勝ヒート - レース結果（貼付）'!$1:$1,0)),""))) -> 0.0092563194 | K46: =IF(A46="DNS","",IF(A46="DQ","",IFERROR(INDEX('[1]【第9戦】決勝ヒート - レース結果（貼付）'!$A:$Z,MATCH($A46,'[1]【第9戦】決勝ヒート - レース結果（貼付）'!$A:$A,0),MATCH('【第9戦】決勝ヒート - レース暫定結果表'!K$11,'[1]【第9戦】決勝ヒート - レース結果（貼付）'!$1:$1,0)),""))) -> 7 Laps | L46: =IF(A46="DNS","",IF(A46="DQ","",IFERROR(INDEX('[1]【第9戦】決勝ヒート - レース結果（貼付）'!$A:$Z,MATCH($A46,'[1]【第9戦】決勝ヒート - レース結果（貼付）'!$A:$A,0),MATCH('【第9戦】決勝ヒート - レース暫定結果表'!L$11,'[1]【第9戦】決勝ヒート - レース結果（貼付）'!$1:$1,0)),""))) -> 2 Laps | M46: =IF(A46="DNS","",IF(A46="DQ","",IFERROR(INDEX('[1]【第9戦】決勝ヒート - レース結果（貼付）'!$A:$Z,MATCH($B46,'[1]【第9戦】決勝ヒート - レース結果（貼付）'!$B:$B,0),MATCH('【第9戦】決勝ヒート - レース暫定結果表'!M$11,'[1]【第9戦】決勝ヒート - レース結果（貼付）'!$1:$1,0)),""))) -> 45.759 | N46: =IF(M46<1,"",IF($N$11>M46,"R","")) | Q46: =IF(IFERROR(INDEX('[1]【第9戦】決勝ヒート - レース結果（貼付）'!$A:$Z,MATCH($B46,'[1]【第9戦】決勝ヒート - レース結果（貼付）'!$B:$B,0),MATCH('【第9戦】決勝ヒート - レース暫定結果表'!Q$11,'[1]【第9戦】決勝ヒート - レース結果（貼付）'!$1:$1,0)),"")=0,"",IFERROR(INDEX('[1]【第9戦】決勝ヒート - レース結果（貼付）'!$A:$Z,MATCH($B46,'[1]【第9戦】決勝ヒート - レース結果（貼付）'!$B:$B,0),MATCH('【第9戦】決勝ヒート - レース暫定結果表'!Q$11,'[1]【第9戦】決勝ヒート - レース結果（貼付）'!$1:$1,0)),"")) | R46: =IF(Q46="","",COUNTIF($Q$13:Q46,"<>"&"")) | S46: =IFERROR(RANK(R46,$R$13:$R$47,1),"") | T46: =IF(IFERROR(INDEX('[1]【第9戦】決勝ヒート - レース結果（貼付）'!$A:$Z,MATCH($A46,'[1]【第9戦】決勝ヒート - レース結果（貼付）'!$A:$A,0),MATCH('【第9戦】決勝ヒート - レース暫定結果表'!T$11,'[1]【第9戦】決勝ヒート - レース結果（貼付）'!$1:$1,0)),"")=0,"",IFERROR(INDEX('[1]【第9戦】決勝ヒート - レース結果（貼付）'!$A:$Z,MATCH($A46,'[1]【第9戦】決勝ヒート - レース結果（貼付）'!$A:$A,0),MATCH('【第9戦】決勝ヒート - レース暫定結果表'!T$11,'[1]【第9戦】決勝ヒート - レース結果（貼付）'!$1:$1,0)),"")) | U46: =IF(IFERROR(INDEX('[1]【第9戦】決勝ヒート - レース結果（貼付）'!$A:$Z,MATCH($B46,'[1]【第9戦】決勝ヒート - レース結果（貼付）'!$B:$B,0),MATCH('[1]【第9戦】決勝ヒート - レース正式結果表（印刷）'!U$11,'[1]【第9戦】決勝ヒート - レース結果（貼付）'!$1:$1,0)),"")=0,"",IFERROR(INDEX('[1]【第9戦】決勝ヒート - レース結果（貼付）'!$A:$Z,MATCH($B46,'[1]【第9戦】決勝ヒート - レース結果（貼付）'!$B:$B,0),MATCH('[1]【第9戦】決勝ヒート - レース正式結果表（印刷）'!U$11,'[1]【第9戦】決勝ヒート - レース結果（貼付）'!$1:$1,0)),"")) -> 99.443
A47: =IF(OR('[1]【第9戦】決勝ヒート - レース結果（貼付）'!A35="DNF",'[1]【第9戦】決勝ヒート - レース結果（貼付）'!A35="DNS",'[1]【第9戦】決勝ヒート - レース結果（貼付）'!A35="DQ"),'[1]【第9戦】決勝ヒート - レース結果（貼付）'!A35,IF(MAX('[1]【第9戦】決勝ヒート - レース結果（貼付）'!A:A)>A46,A46+1,"")) -> 34 | B47: =IFERROR(INDEX('[1]【第9戦】決勝ヒート - レース結果（貼付）'!A35:$Z$50,MATCH($A47,'[1]【第9戦】決勝ヒート - レース結果（貼付）'!A35:$A$50,0),MATCH('【第9戦】決勝ヒート - レース暫定結果表'!B$11,'[1]【第9戦】決勝ヒート - レース結果（貼付）'!$1:$1,0)),"") -> 27 | E47: =IFERROR(INDEX('[1]【第9戦】決勝ヒート - レース結果（貼付）'!$A:$Z,MATCH($B47,'[1]【第9戦】決勝ヒート - レース結果（貼付）'!$B:$B,0),MATCH('【第9戦】決勝ヒート - レース暫定結果表'!E$11,'[1]【第9戦】決勝ヒート - レース結果（貼付）'!$1:$1,0)),"") -> 渡部 樹 | F47: =IFERROR(INDEX('[1]【第9戦】決勝ヒート - レース結果（貼付）'!$A:$Z,MATCH($B47,'[1]【第9戦】決勝ヒート - レース結果（貼付）'!$B:$B,0),MATCH('【第9戦】決勝ヒート - レース暫定結果表'!F$11,'[1]【第9戦】決勝ヒート - レース結果（貼付）'!$1:$1,0)),"") -> KOSMIC/VORTEX | G47: =IFERROR(INDEX('[1]【第9戦】決勝ヒート - レース結果（貼付）'!$A:$Z,MATCH($B47,'[1]【第9戦】決勝ヒート - レース結果（貼付）'!$B:$B,0),MATCH('【第9戦】決勝ヒート - レース暫定結果表'!G$11,'[1]【第9戦】決勝ヒート - レース結果（貼付）'!$1:$1,0)),"") -> Team KOSMIC Karting | H47: =IFERROR(INDEX('[1]【第9戦】決勝ヒート - レース結果（貼付）'!$A:$Z,MATCH($B47,'[1]【第9戦】決勝ヒート - レース結果（貼付）'!$B:$B,0),MATCH('【第9戦】決勝ヒート - レース暫定結果表'!H$11,'[1]【第9戦】決勝ヒート - レース結果（貼付）'!$1:$1,0)),"") -> BS | I47: =IF(A47="DNS","",IF(A47="DQ","",IFERROR(INDEX('[1]【第9戦】決勝ヒート - レース結果（貼付）'!$A:$Z,MATCH($A47,'[1]【第9戦】決勝ヒート - レース結果（貼付）'!$A:$A,0),MATCH('【第9戦】決勝ヒート - レース暫定結果表'!I$11,'[1]【第9戦】決勝ヒート - レース結果（貼付）'!$1:$1,0)),""))) -> 14 | J47: =IF(A47="DNS","ｽﾀｰﾄ出来ず",IF(A47="DQ","失 格",IFERROR(INDEX('[1]【第9戦】決勝ヒート - レース結果（貼付）'!$A:$Z,MATCH($B47,'[1]【第9戦】決勝ヒート - レース結果（貼付）'!$B:$B,0),MATCH('【第9戦】決勝ヒート - レース暫定結果表'!J$11,'[1]【第9戦】決勝ヒート - レース結果（貼付）'!$1:$1,0)),""))) -> 0.0079105556 | K47: =IF(A47="DNS","",IF(A47="DQ","",IFERROR(INDEX('[1]【第9戦】決勝ヒート - レース結果（貼付）'!$A:$Z,MATCH($A47,'[1]【第9戦】決勝ヒート - レース結果（貼付）'!$A:$A,0),MATCH('【第9戦】決勝ヒート - レース暫定結果表'!K$11,'[1]【第9戦】決勝ヒート - レース結果（貼付）'!$1:$1,0)),""))) -> 10 Laps | L47: =IF(A47="DNS","",IF(A47="DQ","",IFERROR(INDEX('[1]【第9戦】決勝ヒート - レース結果（貼付）'!$A:$Z,MATCH($A47,'[1]【第9戦】決勝ヒート - レース結果（貼付）'!$A:$A,0),MATCH('【第9戦】決勝ヒート - レース暫定結果表'!L$11,'[1]【第9戦】決勝ヒート - レース結果（貼付）'!$1:$1,0)),""))) -> 3 Laps | M47: =IF(A47="DNS","",IF(A47="DQ","",IFERROR(INDEX('[1]【第9戦】決勝ヒート - レース結果（貼付）'!$A:$Z,MATCH($B47,'[1]【第9戦】決勝ヒート - レース結果（貼付）'!$B:$B,0),MATCH('【第9戦】決勝ヒート - レース暫定結果表'!M$11,'[1]【第9戦】決勝ヒート - レース結果（貼付）'!$1:$1,0)),""))) -> 45.99 | N47: =IF(M47<1,"",IF($N$11>M47,"R","")) | Q47: =IF(IFERROR(INDEX('[1]【第9戦】決勝ヒート - レース結果（貼付）'!$A:$Z,MATCH($B47,'[1]【第9戦】決勝ヒート - レース結果（貼付）'!$B:$B,0),MATCH('【第9戦】決勝ヒート - レース暫定結果表'!Q$11,'[1]【第9戦】決勝ヒート - レース結果（貼付）'!$1:$1,0)),"")=0,"",IFERROR(INDEX('[1]【第9戦】決勝ヒート - レース結果（貼付）'!$A:$Z,MATCH($B47,'[1]【第9戦】決勝ヒート - レース結果（貼付）'!$B:$B,0),MATCH('【第9戦】決勝ヒート - レース暫定結果表'!Q$11,'[1]【第9戦】決勝ヒート - レース結果（貼付）'!$1:$1,0)),"")) | R47: =IF(Q47="","",COUNTIF($Q$13:Q47,"<>"&"")) | S47: =IFERROR(RANK(R47,$R$13:$R$47,1),"") | T47: =IF(IFERROR(INDEX('[1]【第9戦】決勝ヒート - レース結果（貼付）'!$A:$Z,MATCH($A47,'[1]【第9戦】決勝ヒート - レース結果（貼付）'!$A:$A,0),MATCH('【第9戦】決勝ヒート - レース暫定結果表'!T$11,'[1]【第9戦】決勝ヒート - レース結果（貼付）'!$1:$1,0)),"")=0,"",IFERROR(INDEX('[1]【第9戦】決勝ヒート - レース結果（貼付）'!$A:$Z,MATCH($A47,'[1]【第9戦】決勝ヒート - レース結果（貼付）'!$A:$A,0),MATCH('【第9戦】決勝ヒート - レース暫定結果表'!T$11,'[1]【第9戦】決勝ヒート - レース結果（貼付）'!$1:$1,0)),"")) | U47: =IF(IFERROR(INDEX('[1]【第9戦】決勝ヒート - レース結果（貼付）'!$A:$Z,MATCH($B47,'[1]【第9戦】決勝ヒート - レース結果（貼付）'!$B:$B,0),MATCH('[1]【第9戦】決勝ヒート - レース正式結果表（印刷）'!U$11,'[1]【第9戦】決勝ヒート - レース結果（貼付）'!$1:$1,0)),"")=0,"",IFERROR(INDEX('[1]【第9戦】決勝ヒート - レース結果（貼付）'!$A:$Z,MATCH($B47,'[1]【第9戦】決勝ヒート - レース結果（貼付）'!$B:$B,0),MATCH('[1]【第9戦】決勝ヒート - レース正式結果表（印刷）'!U$11,'[1]【第9戦】決勝ヒート - レース結果（貼付）'!$1:$1,0)),"")) -> 98.943
A48: 以下ﾌｨﾆｯｼｭﾗｲﾝ不通過：
A50: Fastest Lap | E50: No.51 堂園 鷲 | F50: ENERGY JAPAN | G50: =1.264/MAX($U:$U)*3600 -> 45.058819 | I50: 7/24 | J50: =MAX($U:$U) -> 100.988 | K50: km/h
A54: C700賞：
A56: Fastest Lap | E56: No.81 山田 杯利 | F56: DragoCorse | G56: 44.935121 | I56: 9/12 | J56: 101.266 | K56: km/h
A57: =IF(A58="","","ﾍﾟﾅﾙﾃｨ") -> ﾍﾟﾅﾙﾃｨ
A58: =IF(MAX(R13:R47)<1,"",1) -> 1 | B58: =IF(A58="","","No."&INDEX($A$11:$V$47,MATCH($A58,$S$11:$S$47,0),MATCH("No.",$11:$11,0))) -> No.77 | C58: =INDEX($A$11:$V$47,MATCH($A58,$S$11:$S$47,0),MATCH("コメント",$11:$11,0)) -> 全日本カート選手権統一規則書 第38条(25)(フロントフェアリングが正しい装着状態でない)により5秒加算した。
A59: =IF(A58<COUNTIF($S$12:$S$47,">"&0),A58+1,"") -> 2 | B59: =IF(A59="","","No."&INDEX($A$11:$V$47,MATCH($A59,$S$11:$S$47,0),MATCH("No.",$11:$11,0))) -> No.51 | C59: =INDEX($A$11:$V$47,MATCH($A59,$S$11:$S$47,0),MATCH("コメント",$11:$11,0)) -> JAF国内ｶｰﾄ競技規則 ｶｰﾄ競技会運営に関する規定 22条(妨害の禁止(プッシング・ブロッキング))違反により、10秒加算とした。
A60: =IF(A59<COUNTIF($S$12:$S$47,">"&0),A59+1,"") -> 3 | B60: =IF(A60="","","No."&INDEX($A$11:$V$47,MATCH($A60,$S$11:$S$47,0),MATCH("No.",$11:$11,0))) -> No.43 | C60: =INDEX($A$11:$V$47,MATCH($A60,$S$11:$S$47,0),MATCH("コメント",$11:$11,0)) -> 全日本カート選手権統一規則書 第38条(25)(フロントフェアリングが正しい装着状態でない)により5秒加算した。
A61: =IF(A60<COUNTIF($S$12:$S$47,">"&0),A60+1,"") -> 4 | B61: =IF(A61="","","No."&INDEX($A$11:$V$47,MATCH($A61,$S$11:$S$47,0),MATCH("No.",$11:$11,0))) -> No.19 | C61: =INDEX($A$11:$V$47,MATCH($A61,$S$11:$S$47,0),MATCH("コメント",$11:$11,0)) -> JAF国内ｶｰﾄ競技規則 ｶｰﾄ競技会運営に関する規定 22条(妨害の禁止(無理な進入))違反により、10秒加算とした。
A62: =IF(A61<COUNTIF($S$12:$S$47,">"&0),A61+1,"") | B62: =IF(A62="","","No."&INDEX($A$11:$V$47,MATCH($A62,$S$11:$S$47,0),MATCH("No.",$11:$11,0))) | C62: =INDEX($A$11:$V$47,MATCH($A62,$S$11:$S$47,0),MATCH("コメント",$11:$11,0)) | D62: {=IFERROR(INDEX(#REF!,SMALL(IF(#REF!<>"",ROW(#REF!)),ROW())),"")}
A63: =IF(A62<COUNTIF($S$12:$S$47,">"&0),A62+1,"") | B63: =IF(A63="","","No."&INDEX($A$11:$V$47,MATCH($A63,$S$11:$S$47,0),MATCH("No.",$11:$11,0))) | C63: =INDEX($A$11:$V$47,MATCH($A63,$S$11:$S$47,0),MATCH("コメント",$11:$11,0)) | D63: {=IFERROR(INDEX(#REF!,SMALL(IF(#REF!<>"",ROW(#REF!)),ROW())),"")}
A64: =IF(A63<COUNTIF($S$12:$S$47,">"&0),A63+1,"") | B64: =IF(A64="","","No."&INDEX($A$11:$V$47,MATCH($A64,$S$11:$S$47,0),MATCH("No.",$11:$11,0))) | C64: =INDEX($A$11:$V$47,MATCH($A64,$S$11:$S$47,0),MATCH("コメント",$11:$11,0)) | D64: {=IFERROR(INDEX(#REF!,SMALL(IF(#REF!<>"",ROW(#REF!)),ROW())),"")}
B68: ="審査委員長 ："&" "&[1]各種設定!$D$20 -> 審査委員長 ： Makoto SAITO | G68: ="競技委員長 ："&" "&[1]各種設定!$D$22 -> 競技委員長 ： Toshiaki KUBOTA | J68: ="計時委員長 ："&" "&[1]各種設定!$D$24 -> 計時委員長 ： Tsutomu HAYAKAWA

Sheet 【第9戦】決勝ヒート - レース正式結果表
J6: =+[1]各種設定!D18 -> 44878 | L6: :
A7: =+[1]各種設定!D2 -> 2022年 オートバックス全日本カート選手権 OK部門 第9戦/10戦 | K7: WEATHER: | L7: Fine
K8: COURSE : | L8: Dry
A9: =+[1]各種設定!D4 -> OK | M9: 南コース 1.264Km
A10: 第９戦 決勝ヒート正式結果表
B11: No. | E11: 名前 | F11: Model/Engine | G11: Team | H11: Tires | I11: Laps | J11: Total Time | K11: 差 | L11: GAP | M11: BestLap | N11: =VLOOKUP(A9,[1]コースレコード!$A:$G,3,FALSE) -> 45.239 | Q11: コメント | S11: ペナルティNo. | T11: グリッドコメント | U11: ベスト平均時速
A12: Pos. | B12: No. | E12: Driver | F12: Type | G12: Team | H12: Tire | I12: Laps | J12: Total Time | K12: Delay | L12: Gap | M12: Best
A13: 1 | B13: =IFERROR(INDEX('[1]【第9戦】決勝ヒート - レース結果（貼付）'!A2:$Z$50,MATCH($A13,'[1]【第9戦】決勝ヒート - レース結果（貼付）'!A2:$A$50,0),MATCH('【第9戦】決勝ヒート - レース正式結果表'!B$11,'[1]【第9戦】決勝ヒート - レース結果（貼付）'!$1:$1,0)),"") -> 25 | E13: =IFERROR(INDEX('[1]【第9戦】決勝ヒート - レース結果（貼付）'!$A:$Z,MATCH($B13,'[1]【第9戦】決勝ヒート - レース結果（貼付）'!$B:$B,0),MATCH('【第9戦】決勝ヒート - レース正式結果表'!E$11,'[1]【第9戦】決勝ヒート - レース結果（貼付）'!$1:$1,0)),"") -> 小田 優 | F13: =IFERROR(INDEX('[1]【第9戦】決勝ヒート - レース結果（貼付）'!$A:$Z,MATCH($B13,'[1]【第9戦】決勝ヒート - レース結果（貼付）'!$B:$B,0),MATCH('【第9戦】決勝ヒート - レース正式結果表'!F$11,'[1]【第9戦】決勝ヒート - レース結果（貼付）'!$1:$1,0)),"") -> Drago CORSE/TM | G13: =IFERROR(INDEX('[1]【第9戦】決勝ヒート - レース結果（貼付）'!$A:$Z,MATCH($B13,'[1]【第9戦】決勝ヒート - レース結果（貼付）'!$B:$B,0),MATCH('【第9戦】決勝ヒート - レース正式結果表'!G$11,'[1]【第9戦】決勝ヒート - レース結果（貼付）'!$1:$1,0)),"") -> Drago CORSE | H13: =IFERROR(INDEX('[1]【第9戦】決勝ヒート - レース結果（貼付）'!$A:$Z,MATCH($B13,'[1]【第9戦】決勝ヒート - レース結果（貼付）'!$B:$B,0),MATCH('【第9戦】決勝ヒート - レース正式結果表'!H$11,'[1]【第9戦】決勝ヒート - レース結果（貼付）'!$1:$1,0)),"") -> BS | I13: =IFERROR(INDEX('[1]【第9戦】決勝ヒート - レース結果（貼付）'!$A:$Z,MATCH($B13,'[1]【第9戦】決勝ヒート - レース結果（貼付）'!$B:$B,0),MATCH('【第9戦】決勝ヒート - レース正式結果表'!I$11,'[1]【第9戦】決勝ヒート - レース結果（貼付）'!$1:$1,0)),"") -> 24 | J13: =IF(A13="DNS","ｽﾀｰﾄ出来ず",IF(A13="DQ","失 格",IFERROR(INDEX('[1]【第9戦】決勝ヒート - レース結果（貼付）'!$A:$Z,MATCH($B13,'[1]【第9戦】決勝ヒート - レース結果（貼付）'!$B:$B,0),MATCH('【第9戦】決勝ヒート - レース正式結果表'!J$11,'[1]【第9戦】決勝ヒート - レース結果（貼付）'!$1:$1,0)),""))) -> 0.012743056 | K13: =ROUND((1.264*I13)/(J13*24),2)&"km/h" -> 99.19km/h | M13: =IFERROR(INDEX('[1]【第9戦】決勝ヒート - レース結果（貼付）'!$A:$Z,MATCH($B13,'[1]【第9戦】決勝ヒート - レース結果（貼付）'!$B:$B,0),MATCH('【第9戦】決勝ヒート - レース正式結果表'!M$11,'[1]【第9戦】決勝ヒート - レース結果（貼付）'!$1:$1,0)),"") -> 45.307 | N13: =IF(M13<1,"",IF($N$11>M13,"R","")) | Q13: =IF(IFERROR(INDEX('[1]【第9戦】決勝ヒート - レース結果（貼付）'!$A:$Z,MATCH($B13,'[1]【第9戦】決勝ヒート - レース結果（貼付）'!$B:$B,0),MATCH('【第9戦】決勝ヒート - レース正式結果表'!Q$11,'[1]【第9戦】決勝ヒート - レース結果（貼付）'!$1:$1,0)),"")=0,"",IFERROR(INDEX('[1]【第9戦】決勝ヒート - レース結果（貼付）'!$A:$Z,MATCH($B13,'[1]【第9戦】決勝ヒート - レース結果（貼付）'!$B:$B,0),MATCH('【第9戦】決勝ヒート - レース正式結果表'!Q$11,'[1]【第9戦】決勝ヒート - レース結果（貼付）'!$1:$1,0)),"")) | R13: =IF(Q13="","",COUNTIF($Q$13:Q13,"<>"&"")) | S13: =IFERROR(RANK(R13,$R$13:$R$47,1),"") | T13: =IF(IFERROR(INDEX('[1]【第9戦】決勝ヒート - レース結果（貼付）'!$A:$Z,MATCH($A13,'[1]【第9戦】決勝ヒート - レース結果（貼付）'!$A:$A,0),MATCH('【第9戦】決勝ヒート - レース正式結果表'!T$11,'[1]【第9戦】決勝ヒート - レース結果（貼付）'!$1:$1,0)),"")=0,"",IFERROR(INDEX('[1]【第9戦】決勝ヒート - レース結果（貼付）'!$A:$Z,MATCH($A13,'[1]【第9戦】決勝ヒート - レース結果（貼付）'!$A:$A,0),MATCH('【第9戦】決勝ヒート - レース正式結果表'!T$11,'[1]【第9戦】決勝ヒート - レース結果（貼付）'!$1:$1,0)),"")) | U13: =IF(IFERROR(INDEX('[1]【第9戦】決勝ヒート - レース結果（貼付）'!$A:$Z,MATCH($B13,'[1]【第9戦】決勝ヒート - レース結果（貼付）'!$B:$B,0),MATCH('【第9戦】決勝ヒート - レース正式結果表'!U$11,'[1]【第9戦】決勝ヒート - レース結果（貼付）'!$1:$1,0)),"")=0,"",IFERROR(INDEX('[1]【第9戦】決勝ヒート - レース結果（貼付）'!$A:$Z,MATCH($B13,'[1]【第9戦】決勝ヒート - レース結果（貼付）'!$B:$B,0),MATCH('【第9戦】決勝ヒート - レース正式結果表'!U$11,'[1]【第9戦】決勝ヒート - レース結果（貼付）'!$1:$1,0)),"")) -> 100.988
A14: =IF(OR('[1]【第9戦】決勝ヒート - レース結果（貼付）'!A3="DNF",'[1]【第9戦】決勝ヒート - レース結果（貼付）'!A3="DNS",'[1]【第9戦】決勝ヒート - レース結果（貼付）'!A3="DQ"),'[1]【第9戦】決勝ヒート - レース結果（貼付）'!A3,IF(MAX('[1]【第9戦】決勝ヒート - レース結果（貼付）'!A:A)>A13,A13+1,"")) -> 2 | B14: =IFERROR(INDEX('[1]【第9戦】決勝ヒート - レース結果（貼付）'!A3:$Z$50,MATCH($A14,'[1]【第9戦】決勝ヒート - レース結果（貼付）'!A3:$A$50,0),MATCH('【第9戦】決勝ヒート - レース正式結果表'!B$11,'[1]【第9戦】決勝ヒート - レース結果（貼付）'!$1:$1,0)),"") -> 34 | E14: =IFERROR(INDEX('[1]【第9戦】決勝ヒート - レース結果（貼付）'!$A:$Z,MATCH($B14,'[1]【第9戦】決勝ヒート - レース結果（貼付）'!$B:$B,0),MATCH('【第9戦】決勝ヒート - レース正式結果表'!E$11,'[1]【第9戦】決勝ヒート - レース結果（貼付）'!$1:$1,0)),"") -> 清水 啓伸 | F14: =IFERROR(INDEX('[1]【第9戦】決勝ヒート - レース結果（貼付）'!$A:$Z,MATCH($B14,'[1]【第9戦】決勝ヒート - レース結果（貼付）'!$B:$B,0),MATCH('【第9戦】決勝ヒート - レース正式結果表'!F$11,'[1]【第9戦】決勝ヒート - レース結果（貼付）'!$1:$1,0)),"") -> Drago CORSE/TM | G14: =IFERROR(INDEX('[1]【第9戦】決勝ヒート - レース結果（貼付）'!$A:$Z,MATCH($B14,'[1]【第9戦】決勝ヒート - レース結果（貼付）'!$B:$B,0),MATCH('【第9戦】決勝ヒート - レース正式結果表'!G$11,'[1]【第9戦】決勝ヒート - レース結果（貼付）'!$1:$1,0)),"") -> DragoCORSE | H14: =IFERROR(INDEX('[1]【第9戦】決勝ヒート - レース結果（貼付）'!$A:$Z,MATCH($B14,'[1]【第9戦】決勝ヒート - レース結果（貼付）'!$B:$B,0),MATCH('【第9戦】決勝ヒート - レース正式結果表'!H$11,'[1]【第9戦】決勝ヒート - レース結果（貼付）'!$1:$1,0)),"") -> BS | I14: =IF(A14="DNS","",IF(A14="DQ","",IFERROR(INDEX('[1]【第9戦】決勝ヒート - レース結果（貼付）'!$A:$Z,MATCH($A14,'[1]【第9戦】決勝ヒート - レース結果（貼付）'!$A:$A,0),MATCH('【第9戦】決勝ヒート - レース正式結果表'!I$11,'[1]【第9戦】決勝ヒート - レース結果（貼付）'!$1:$1,0)),""))) -> 24 | J14: =IF(A14="DNS","ｽﾀｰﾄ出来ず",IF(A14="DQ","失 格",IFERROR(INDEX('[1]【第9戦】決勝ヒート - レース結果（貼付）'!$A:$Z,MATCH($B14,'[1]【第9戦】決勝ヒート - レース結果（貼付）'!$B:$B,0),MATCH('【第9戦】決勝ヒート - レース正式結果表'!J$11,'[1]【第9戦】決勝ヒート - レース結果（貼付）'!$1:$1,0)),""))) -> 0.012752199 | K14: =IF(A14="DNS","",IF(A14="DQ","",IFERROR(INDEX('[1]【第9戦】決勝ヒート - レース結果（貼付）'!$A:$Z,MATCH($A14,'[1]【第9戦】決勝ヒート - レース結果（貼付）'!$A:$A,0),MATCH('【第9戦】決勝ヒート - レース正式結果表'!K$11,'[1]【第9戦】決勝ヒート - レース結果（貼付）'!$1:$1,0)),""))) -> 0.79 | L14: =IF(A14="DNS","",IF(A14="DQ","",IFERROR(INDEX('[1]【第9戦】決勝ヒート - レース結果（貼付）'!$A:$Z,MATCH($A14,'[1]【第9戦】決勝ヒート - レース結果（貼付）'!$A:$A,0),MATCH('【第9戦】決勝ヒート - レース正式結果表'!L$11,'[1]【第9戦】決勝ヒート - レース結果（貼付）'!$1:$1,0)),""))) -> 0.79 | M14: =IF(A14="DNS","",IF(A14="DQ","",IFERROR(INDEX('[1]【第9戦】決勝ヒート - レース結果（貼付）'!$A:$Z,MATCH($B14,'[1]【第9戦】決勝ヒート - レース結果（貼付）'!$B:$B,0),MATCH('【第9戦】決勝ヒート - レース正式結果表'!M$11,'[1]【第9戦】決勝ヒート - レース結果（貼付）'!$1:$1,0)),""))) -> 45.271 | N14: =IF(M14<1,"",IF($N$11>M14,"R","")) | Q14: =IF(IFERROR(INDEX('[1]【第9戦】決勝ヒート - レース結果（貼付）'!$A:$Z,MATCH($B14,'[1]【第9戦】決勝ヒート - レース結果（貼付）'!$B:$B,0),MATCH('【第9戦】決勝ヒート - レース正式結果表'!Q$11,'[1]【第9戦】決勝ヒート - レース結果（貼付）'!$1:$1,0)),"")=0,"",IFERROR(INDEX('[1]【第9戦】決勝ヒート - レース結果（貼付）'!$A:$Z,MATCH($B14,'[1]【第9戦】決勝ヒート - レース結果（貼付）'!$B:$B,0),MATCH('【第9戦】決勝ヒート - レース正式結果表'!Q$11,'[1]【第9戦】決勝ヒート - レース結果（貼付）'!$1:$1,0)),"")) | R14: =IF(Q14="","",COUNTIF($Q$13:Q14,"<>"&"")) | S14: =IFERROR(RANK(R14,$R$13:$R$47,1),"") | T14: =IF(IFERROR(INDEX('[1]【第9戦】決勝ヒート - レース結果（貼付）'!$A:$Z,MATCH($A14,'[1]【第9戦】決勝ヒート - レース結果（貼付）'!$A:$A,0),MATCH('【第9戦】決勝ヒート - レース正式結果表'!T$11,'[1]【第9戦】決勝ヒート - レース結果（貼付）'!$1:$1,0)),"")=0,"",IFERROR(INDEX('[1]【第9戦】決勝ヒート - レース結果（貼付）'!$A:$Z,MATCH($A14,'[1]【第9戦】決勝ヒート - レース結果（貼付）'!$A:$A,0),MATCH('【第9戦】決勝ヒート - レース正式結果表'!T$11,'[1]【第9戦】決勝ヒート - レース結果（貼付）'!$1:$1,0)),"")) | U14: =IF(IFERROR(INDEX('[1]【第9戦】決勝ヒート - レース結果（貼付）'!$A:$Z,MATCH($B14,'[1]【第9戦】決勝ヒート - レース結果（貼付）'!$B:$B,0),MATCH('【第9戦】決勝ヒート - レース正式結果表'!U$11,'[1]【第9戦】決勝ヒート - レース結果（貼付）'!$1:$1,0)),"")=0,"",IFERROR(INDEX('[1]【第9戦】決勝ヒート - レース結果（貼付）'!$A:$Z,MATCH($B14,'[1]【第9戦】決勝ヒート - レース結果（貼付）'!$B:$B,0),MATCH('【第9戦】決勝ヒート - レース正式結果表'!U$11,'[1]【第9戦】決勝ヒート - レース結果（貼付）'!$1:$1,0)),"")) -> 100.435
A15: =IF(OR('[1]【第9戦】決勝ヒート - レース結果（貼付）'!A4="DNF",'[1]【第9戦】決勝ヒート - レース結果（貼付）'!A4="DNS",'[1]【第9戦】決勝ヒート - レース結果（貼付）'!A4="DQ"),'[1]【第9戦】決勝ヒート - レース結果（貼付）'!A4,IF(MAX('[1]【第9戦】決勝ヒート - レース結果（貼付）'!A:A)>A14,A14+1,"")) -> 3 | B15: =IFERROR(INDEX('[1]【第9戦】決勝ヒート - レース結果（貼付）'!A4:$Z$50,MATCH($A15,'[1]【第9戦】決勝ヒート - レース結果（貼付）'!A4:$A$50,0),MATCH('【第9戦】決勝ヒート - レース正式結果表'!B$11,'[1]【第9戦】決勝ヒート - レース結果（貼付）'!$1:$1,0)),"") -> 81 | E15: =IFERROR(INDEX('[1]【第9戦】決勝ヒート - レース結果（貼付）'!$A:$Z,MATCH($B15,'[1]【第9戦】決勝ヒート - レース結果（貼付）'!$B:$B,0),MATCH('【第9戦】決勝ヒート - レース正式結果表'!E$11,'[1]【第9戦】決勝ヒート - レース結果（貼付）'!$1:$1,0)),"") -> 山田 杯利 | F15: =IFERROR(INDEX('[1]【第9戦】決勝ヒート - レース結果（貼付）'!$A:$Z,MATCH($B15,'[1]【第9戦】決勝ヒート - レース結果（貼付）'!$B:$B,0),MATCH('【第9戦】決勝ヒート - レース正式結果表'!F$11,'[1]【第9戦】決勝ヒート - レース結果（貼付）'!$1:$1,0)),"") -> Drago CORSE/TM | G15: =IFERROR(INDEX('[1]【第9戦】決勝ヒート - レース結果（貼付）'!$A:$Z,MATCH($B15,'[1]【第9戦】決勝ヒート - レース結果（貼付）'!$B:$B,0),MATCH('【第9戦】決勝ヒート - レース正式結果表'!G$11,'[1]【第9戦】決勝ヒート - レース結果（貼付）'!$1:$1,0)),"") -> DragoCorse | H15: =IFERROR(INDEX('[1]【第9戦】決勝ヒート - レース結果（貼付）'!$A:$Z,MATCH($B15,'[1]【第9戦】決勝ヒート - レース結果（貼付）'!$B:$B,0),MATCH('【第9戦】決勝ヒート - レース正式結果表'!H$11,'[1]【第9戦】決勝ヒート - レース結果（貼付）'!$1:$1,0)),"") -> BS | I15: =IF(A15="DNS","",IF(A15="DQ","",IFERROR(INDEX('[1]【第9戦】決勝ヒート - レース結果（貼付）'!$A:$Z,MATCH($A15,'[1]【第9戦】決勝ヒート - レース結果（貼付）'!$A:$A,0),MATCH('【第9戦】決勝ヒート - レース正式結果表'!I$11,'[1]【第9戦】決勝ヒート - レース結果（貼付）'!$1:$1,0)),""))) -> 24 | J15: =IF(A15="DNS","ｽﾀｰﾄ出来ず",IF(A15="DQ","失 格",IFERROR(INDEX('[1]【第9戦】決勝ヒート - レース結果（貼付）'!$A:$Z,MATCH($B15,'[1]【第9戦】決勝ヒート - レース結果（貼付）'!$B:$B,0),MATCH('【第9戦】決勝ヒート - レース正式結果表'!J$11,'[1]【第9戦】決勝ヒート - レース結果（貼付）'!$1:$1,0)),""))) -> 0.012758808 | K15: =IF(A15="DNS","",IF(A15="DQ","",IFERROR(INDEX('[1]【第9戦】決勝ヒート - レース結果（貼付）'!$A:$Z,MATCH($A15,'[1]【第9戦】決勝ヒート - レース結果（貼付）'!$A:$A,0),MATCH('【第9戦】決勝ヒート - レース正式結果表'!K$11,'[1]【第9戦】決勝ヒート - レース結果（貼付）'!$1:$1,0)),""))) -> 1.361 | L15: =IF(A15="DNS","",IF(A15="DQ","",IFERROR(INDEX('[1]【第9戦】決勝ヒート - レース結果（貼付）'!$A:$Z,MATCH($A15,'[1]【第9戦】決勝ヒート - レース結果（貼付）'!$A:$A,0),MATCH('【第9戦】決勝ヒート - レース正式結果表'!L$11,'[1]【第9戦】決勝ヒート - レース結果（貼付）'!$1:$1,0)),""))) -> 0.571 | M15: =IF(A15="DNS","",IF(A15="DQ","",IFERROR(INDEX('[1]【第9戦】決勝ヒート - レース結果（貼付）'!$A:$Z,MATCH($B15,'[1]【第9戦】決勝ヒート - レース結果（貼付）'!$B:$B,0),MATCH('【第9戦】決勝ヒート - レース正式結果表'!M$11,'[1]【第9戦】決勝ヒート - レース結果（貼付）'!$1:$1,0)),""))) -> 45.321 | N15: =IF(M15<1,"",IF($N$11>M15,"R","")) | Q15: =IF(IFERROR(INDEX('[1]【第9戦】決勝ヒート - レース結果（貼付）'!$A:$Z,MATCH($B15,'[1]【第9戦】決勝ヒート - レース結果（貼付）'!$B:$B,0),MATCH('【第9戦】決勝ヒート - レース正式結果表'!Q$11,'[1]【第9戦】決勝ヒート - レース結果（貼付）'!$1:$1,0)),"")=0,"",IFERROR(INDEX('[1]【第9戦】決勝ヒート - レース結果（貼付）'!$A:$Z,MATCH($B15,'[1]【第9戦】決勝ヒート - レース結果（貼付）'!$B:$B,0),MATCH('【第9戦】決勝ヒート - レース正式結果表'!Q$11,'[1]【第9戦】決勝ヒート - レース結果（貼付）'!$1:$1,0)),"")) | R15: =IF(Q15="","",COUNTIF($Q$13:Q15,"<>"&"")) | S15: =IFERROR(RANK(R15,$R$13:$R$47,1),"") | T15: =IF(IFERROR(INDEX('[1]【第9戦】決勝ヒート - レース結果（貼付）'!$A:$Z,MATCH($A15,'[1]【第9戦】決勝ヒート - レース結果（貼付）'!$A:$A,0),MATCH('【第9戦】決勝ヒート - レース正式結果表'!T$11,'[1]【第9戦】決勝ヒート - レース結果（貼付）'!$1:$1,0)),"")=0,"",IFERROR(INDEX('[1]【第9戦】決勝ヒート - レース結果（貼付）'!$A:$Z,MATCH($A15,'[1]【第9戦】決勝ヒート - レース結果（貼付）'!$A:$A,0),MATCH('【第9戦】決勝ヒート - レース正式結果表'!T$11,'[1]【第9戦】決勝ヒート - レース結果（貼付）'!$1:$1,0)),"")) | U15: =IF(IFERROR(INDEX('[1]【第9戦】決勝ヒート - レース結果（貼付）'!$A:$Z,MATCH($B15,'[1]【第9戦】決勝ヒート - レース結果（貼付）'!$B:$B,0),MATCH('【第9戦】決勝ヒート - レース正式結果表'!U$11,'[1]【第9戦】決勝ヒート - レース結果（貼付）'!$1:$1,0)),"")=0,"",IFERROR(INDEX('[1]【第9戦】決勝ヒート - レース結果（貼付）'!$A:$Z,MATCH($B15,'[1]【第9戦】決勝ヒート - レース結果（貼付）'!$B:$B,0),MATCH('【第9戦】決勝ヒート - レース正式結果表'!U$11,'[1]【第9戦】決勝ヒート - レース結果（貼付）'!$1:$1,0)),"")) -> 100.515
A16: =IF(OR('[1]【第9戦】決勝ヒート - レース結果（貼付）'!A5="DNF",'[1]【第9戦】決勝ヒート - レース結果（貼付）'!A5="DNS",'[1]【第9戦】決勝ヒート - レース結果（貼付）'!A5="DQ"),'[1]【第9戦】決勝ヒート - レース結果（貼付）'!A5,IF(MAX('[1]【第9戦】決勝ヒート - レース結果（貼付）'!A:A)>A15,A15+1,"")) -> 4 | B16: =IFERROR(INDEX('[1]【第9戦】決勝ヒート - レース結果（貼付）'!A5:$Z$50,MATCH($A16,'[1]【第9戦】決勝ヒート - レース結果（貼付）'!A5:$A$50,0),MATCH('【第9戦】決勝ヒート - レース正式結果表'!B$11,'[1]【第9戦】決勝ヒート - レース結果（貼付）'!$1:$1,0)),"") -> 29 | E16: =IFERROR(INDEX('[1]【第9戦】決勝ヒート - レース結果（貼付）'!$A:$Z,MATCH($B16,'[1]【第9戦】決勝ヒート - レース結果（貼付）'!$B:$B,0),MATCH('【第9戦】決勝ヒート - レース正式結果表'!E$11,'[1]【第9戦】決勝ヒート - レース結果（貼付）'!$1:$1,0)),"") -> 三村 壮太郎 | F16: =IFERROR(INDEX('[1]【第9戦】決勝ヒート - レース結果（貼付）'!$A:$Z,MATCH($B16,'[1]【第9戦】決勝ヒート - レース結果（貼付）'!$B:$B,0),MATCH('【第9戦】決勝ヒート - レース正式結果表'!F$11,'[1]【第9戦】決勝ヒート - レース結果（貼付）'!$1:$1,0)),"") -> Rosa Drago Corse/TM | G16: =IFERROR(INDEX('[1]【第9戦】決勝ヒート - レース結果（貼付）'!$A:$Z,MATCH($B16,'[1]【第9戦】決勝ヒート - レース結果（貼付）'!$B:$B,0),MATCH('【第9戦】決勝ヒート - レース正式結果表'!G$11,'[1]【第9戦】決勝ヒート - レース結果（貼付）'!$1:$1,0)),"") -> RosaDragoCorse | H16: =IFERROR(INDEX('[1]【第9戦】決勝ヒート - レース結果（貼付）'!$A:$Z,MATCH($B16,'[1]【第9戦】決勝ヒート - レース結果（貼付）'!$B:$B,0),MATCH('【第9戦】決勝ヒート - レース正式結果表'!H$11,'[1]【第9戦】決勝ヒート - レース結果（貼付）'!$1:$1,0)),"") -> BS | I16: =IF(A16="DNS","",IF(A16="DQ","",IFERROR(INDEX('[1]【第9戦】決勝ヒート - レース結果（貼付）'!$A:$Z,MATCH($A16,'[1]【第9戦】決勝ヒート - レース結果（貼付）'!$A:$A,0),MATCH('【第9戦】決勝ヒート - レース正式結果表'!I$11,'[1]【第9戦】決勝ヒート - レース結果（貼付）'!$1:$1,0)),""))) -> 24 | J16: =IF(A16="DNS","ｽﾀｰﾄ出来ず",IF(A16="DQ","失 格",IFERROR(INDEX('[1]【第9戦】決勝ヒート - レース結果（貼付）'!$A:$Z,MATCH($B16,'[1]【第9戦】決勝ヒート - レース結果（貼付）'!$B:$B,0),MATCH('【第9戦】決勝ヒート - レース正式結果表'!J$11,'[1]【第9戦】決勝ヒート - レース結果（貼付）'!$1:$1,0)),""))) -> 0.012759676 | K16: =IF(A16="DNS","",IF(A16="DQ","",IFERROR(INDEX('[1]【第9戦】決勝ヒート - レース結果（貼付）'!$A:$Z,MATCH($A16,'[1]【第9戦】決勝ヒート - レース結果（貼付）'!$A:$A,0),MATCH('【第9戦】決勝ヒート - レース正式結果表'!K$11,'[1]【第9戦】決勝ヒート - レース結果（貼付）'!$1:$1,0)),""))) -> 1.436 | L16: =IF(A16="DNS","",IF(A16="DQ","",IFERROR(INDEX('[1]【第9戦】決勝ヒート - レース結果（貼付）'!$A:$Z,MATCH($A16,'[1]【第9戦】決勝ヒート - レース結果（貼付）'!$A:$A,0),MATCH('【第9戦】決勝ヒート - レース正式結果表'!L$11,'[1]【第9戦】決勝ヒート - レース結果（貼付）'!$1:$1,0)),""))) -> 0.075 | M16: =IF(A16="DNS","",IF(A16="DQ","",IFERROR(INDEX('[1]【第9戦】決勝ヒート - レース結果（貼付）'!$A:$Z,MATCH($B16,'[1]【第9戦】決勝ヒート - レース結果（貼付）'!$B:$B,0),MATCH('【第9戦】決勝ヒート - レース正式結果表'!M$11,'[1]【第9戦】決勝ヒート - レース結果（貼付）'!$1:$1,0)),""))) -> 45.419 | N16: =IF(M16<1,"",IF($N$11>M16,"R","")) | Q16: =IF(IFERROR(INDEX('[1]【第9戦】決勝ヒート - レース結果（貼付）'!$A:$Z,MATCH($B16,'[1]【第9戦】決勝ヒート - レース結果（貼付）'!$B:$B,0),MATCH('【第9戦】決勝ヒート - レース正式結果表'!Q$11,'[1]【第9戦】決勝ヒート - レース結果（貼付）'!$1:$1,0)),"")=0,"",IFERROR(INDEX('[1]【第9戦】決勝ヒート - レース結果（貼付）'!$A:$Z,MATCH($B16,'[1]【第9戦】決勝ヒート - レース結果（貼付）'!$B:$B,0),MATCH('【第9戦】決勝ヒート - レース正式結果表'!Q$11,'[1]【第9戦】決勝ヒート - レース結果（貼付）'!$1:$1,0)),"")) | R16: =IF(Q16="","",COUNTIF($Q$13:Q16,"<>"&"")) | S16: =IFERROR(RANK(R16,$R$13:$R$47,1),"") | T16: =IF(IFERROR(INDEX('[1]【第9戦】決勝ヒート - レース結果（貼付）'!$A:$Z,MATCH($A16,'[1]【第9戦】決勝ヒート - レース結果（貼付）'!$A:$A,0),MATCH('【第9戦】決勝ヒート - レース正式結果表'!T$11,'[1]【第9戦】決勝ヒート - レース結果（貼付）'!$1:$1,0)),"")=0,"",IFERROR(INDEX('[1]【第9戦】決勝ヒート - レース結果（貼付）'!$A:$Z,MATCH($A16,'[1]【第9戦】決勝ヒート - レース結果（貼付）'!$A:$A,0),MATCH('【第9戦】決勝ヒート - レース正式結果表'!T$11,'[1]【第9戦】決勝ヒート - レース結果（貼付）'!$1:$1,0)),"")) | U16: =IF(IFERROR(INDEX('[1]【第9戦】決勝ヒート - レース結果（貼付）'!$A:$Z,MATCH($B16,'[1]【第9戦】決勝ヒート - レース結果（貼付）'!$B:$B,0),MATCH('【第9戦】決勝ヒート - レース正式結果表'!U$11,'[1]【第9戦】決勝ヒート - レース結果（貼付）'!$1:$1,0)),"")=0,"",IFERROR(INDEX('[1]【第9戦】決勝ヒート - レース結果（貼付）'!$A:$Z,MATCH($B16,'[1]【第9戦】決勝ヒート - レース結果（貼付）'!$B:$B,0),MATCH('【第9戦】決勝ヒート - レース正式結果表'!U$11,'[1]【第9戦】決勝ヒート - レース結果（貼付）'!$1:$1,0)),"")) -> 100.39
A17: =IF(OR('[1]【第9戦】決勝ヒート - レース結果（貼付）'!A6="DNF",'[1]【第9戦】決勝ヒート - レース結果（貼付）'!A6="DNS",'[1]【第9戦】決勝ヒート - レース結果（貼付）'!A6="DQ"),'[1]【第9戦】決勝ヒート - レース結果（貼付）'!A6,IF(MAX('[1]【第9戦】決勝ヒート - レース結果（貼付）'!A:A)>A16,A16+1,"")) -> 5 | B17: =IFERROR(INDEX('[1]【第9戦】決勝ヒート - レース結果（貼付）'!A6:$Z$50,MATCH($A17,'[1]【第9戦】決勝ヒート - レース結果（貼付）'!A6:$A$50,0),MATCH('【第9戦】決勝ヒート - レース正式結果表'!B$11,'[1]【第9戦】決勝ヒート - レース結果（貼付）'!$1:$1,0)),"") -> 18 | E17: =IFERROR(INDEX('[1]【第9戦】決勝ヒート - レース結果（貼付）'!$A:$Z,MATCH($B17,'[1]【第9戦】決勝ヒート - レース結果（貼付）'!$B:$B,0),MATCH('【第9戦】決勝ヒート - レース正式結果表'!E$11,'[1]【第9戦】決勝ヒート - レース結果（貼付）'!$1:$1,0)),"") -> 野澤 勇翔 | F17: =IFERROR(INDEX('[1]【第9戦】決勝ヒート - レース結果（貼付）'!$A:$Z,MATCH($B17,'[1]【第9戦】決勝ヒート - レース結果（貼付）'!$B:$B,0),MATCH('【第9戦】決勝ヒート - レース正式結果表'!F$11,'[1]【第9戦】決勝ヒート - レース結果（貼付）'!$1:$1,0)),"") -> Birel ART/IAME | G17: =IFERROR(INDEX('[1]【第9戦】決勝ヒート - レース結果（貼付）'!$A:$Z,MATCH($B17,'[1]【第9戦】決勝ヒート - レース結果（貼付）'!$B:$B,0),MATCH('【第9戦】決勝ヒート - レース正式結果表'!G$11,'[1]【第9戦】決勝ヒート - レース結果（貼付）'!$1:$1,0)),"") -> bbR.チームエッフェガーラ | H17: =IFERROR(INDEX('[1]【第9戦】決勝ヒート - レース結果（貼付）'!$A:$Z,MATCH($B17,'[1]【第9戦】決勝ヒート - レース結果（貼付）'!$B:$B,0),MATCH('【第9戦】決勝ヒート - レース正式結果表'!H$11,'[1]【第9戦】決勝ヒート - レース結果（貼付）'!$1:$1,0)),"") -> BS | I17: =IF(A17="DNS","",IF(A17="DQ","",IFERROR(INDEX('[1]【第9戦】決勝ヒート - レース結果（貼付）'!$A:$Z,MATCH($A17,'[1]【第9戦】決勝ヒート - レース結果（貼付）'!$A:$A,0),MATCH('【第9戦】決勝ヒート - レース正式結果表'!I$11,'[1]【第9戦】決勝ヒート - レース結果（貼付）'!$1:$1,0)),""))) -> 24 | J17: =IF(A17="DNS","ｽﾀｰﾄ出来ず",IF(A17="DQ","失 格",IFERROR(INDEX('[1]【第9戦】決勝ヒート - レース結果（貼付）'!$A:$Z,MATCH($B17,'[1]【第9戦】決勝ヒート - レース結果（貼付）'!$B:$B,0),MATCH('【第9戦】決勝ヒート - レース正式結果表'!J$11,'[1]【第9戦】決勝ヒート - レース結果（貼付）'!$1:$1,0)),""))) -> 0.012760347 | K17: =IF(A17="DNS","",IF(A17="DQ","",IFERROR(INDEX('[1]【第9戦】決勝ヒート - レース結果（貼付）'!$A:$Z,MATCH($A17,'[1]【第9戦】決勝ヒート - レース結果（貼付）'!$A:$A,0),MATCH('【第9戦】決勝ヒート - レース正式結果表'!K$11,'[1]【第9戦】決勝ヒート - レース結果（貼付）'!$1:$1,0)),""))) -> 1.494 | L17: =IF(A17="DNS","",IF(A17="DQ","",IFERROR(INDEX('[1]【第9戦】決勝ヒート - レース結果（貼付）'!$A:$Z,MATCH($A17,'[1]【第9戦】決勝ヒート - レース結果（貼付）'!$A:$A,0),MATCH('【第9戦】決勝ヒート - レース正式結果表'!L$11,'[1]【第9戦】決勝ヒート - レース結果（貼付）'!$1:$1,0)),""))) -> 0.058 | M17: =IF(A17="DNS","",IF(A17="DQ","",IFERROR(INDEX('[1]【第9戦】決勝ヒート - レース結果（貼付）'!$A:$Z,MATCH($B17,'[1]【第9戦】決勝ヒート - レース結果（貼付）'!$B:$B,0),MATCH('【第9戦】決勝ヒート - レース正式結果表'!M$11,'[1]【第9戦】決勝ヒート - レース結果（貼付）'!$1:$1,0)),""))) -> 45.352 | N17: =IF(M17<1,"",IF($N$11>M17,"R","")) | Q17: =IF(IFERROR(INDEX('[1]【第9戦】決勝ヒート - レース結果（貼付）'!$A:$Z,MATCH($B17,'[1]【第9戦】決勝ヒート - レース結果（貼付）'!$B:$B,0),MATCH('【第9戦】決勝ヒート - レース正式結果表'!Q$11,'[1]【第9戦】決勝ヒート - レース結果（貼付）'!$1:$1,0)),"")=0,"",IFERROR(INDEX('[1]【第9戦】決勝ヒート - レース結果（貼付）'!$A:$Z,MATCH($B17,'[1]【第9戦】決勝ヒート - レース結果（貼付）'!$B:$B,0),MATCH('【第9戦】決勝ヒート - レース正式結果表'!Q$11,'[1]【第9戦】決勝ヒート - レース結果（貼付）'!$1:$1,0)),"")) | R17: =IF(Q17="","",COUNTIF($Q$13:Q17,"<>"&"")) | S17: =IFERROR(RANK(R17,$R$13:$R$47,1),"") | T17: =IF(IFERROR(INDEX('[1]【第9戦】決勝ヒート - レース結果（貼付）'!$A:$Z,MATCH($A17,'[1]【第9戦】決勝ヒート - レース結果（貼付）'!$A:$A,0),MATCH('【第9戦】決勝ヒート - レース正式結果表'!T$11,'[1]【第9戦】決勝ヒート - レース結果（貼付）'!$1:$1,0)),"")=0,"",IFERROR(INDEX('[1]【第9戦】決勝ヒート - レース結果（貼付）'!$A:$Z,MATCH($A17,'[1]【第9戦】決勝ヒート - レース結果（貼付）'!$A:$A,0),MATCH('【第9戦】決勝ヒート - レース正式結果表'!T$11,'[1]【第9戦】決勝ヒート - レース結果（貼付）'!$1:$1,0)),"")) | U17: =IF(IFERROR(INDEX('[1]【第9戦】決勝ヒート - レース結果（貼付）'!$A:$Z,MATCH($B17,'[1]【第9戦】決勝ヒート - レース結果（貼付）'!$B:$B,0),MATCH('【第9戦】決勝ヒート - レース正式結果表'!U$11,'[1]【第9戦】決勝ヒート - レース結果（貼付）'!$1:$1,0)),"")=0,"",IFERROR(INDEX('[1]【第9戦】決勝ヒート - レース結果（貼付）'!$A:$Z,MATCH($B17,'[1]【第9戦】決勝ヒート - レース結果（貼付）'!$B:$B,0),MATCH('【第9戦】決勝ヒート - レース正式結果表'!U$11,'[1]【第9戦】決勝ヒート - レース結果（貼付）'!$1:$1,0)),"")) -> 100.404
A18: =IF(OR('[1]【第9戦】決勝ヒート - レース結果（貼付）'!A7="DNF",'[1]【第9戦】決勝ヒート - レース結果（貼付）'!A7="DNS",'[1]【第9戦】決勝ヒート - レース結果（貼付）'!A7="DQ"),'[1]【第9戦】決勝ヒート - レース結果（貼付）'!A7,IF(MAX('[1]【第9戦】決勝ヒート - レース結果（貼付）'!A:A)>A17,A17+1,"")) -> 6 | B18: =IFERROR(INDEX('[1]【第9戦】決勝ヒート - レース結果（貼付）'!A7:$Z$50,MATCH($A18,'[1]【第9戦】決勝ヒート - レース結果（貼付）'!A7:$A$50,0),MATCH('【第9戦】決勝ヒート - レース正式結果表'!B$11,'[1]【第9戦】決勝ヒート - レース結果（貼付）'!$1:$1,0)),"") -> 1 | E18: =IFERROR(INDEX('[1]【第9戦】決勝ヒート - レース結果（貼付）'!$A:$Z,MATCH($B18,'[1]【第9戦】決勝ヒート - レース結果（貼付）'!$B:$B,0),MATCH('【第9戦】決勝ヒート - レース正式結果表'!E$11,'[1]【第9戦】決勝ヒート - レース結果（貼付）'!$1:$1,0)),"") -> 佐々木 大樹 | F18: =IFERROR(INDEX('[1]【第9戦】決勝ヒート - レース結果（貼付）'!$A:$Z,MATCH($B18,'[1]【第9戦】決勝ヒート - レース結果（貼付）'!$B:$B,0),MATCH('【第9戦】決勝ヒート - レース正式結果表'!F$11,'[1]【第9戦】決勝ヒート - レース結果（貼付）'!$1:$1,0)),"") -> TONY KART/VORTEX | G18: =IFERROR(INDEX('[1]【第9戦】決勝ヒート - レース結果（貼付）'!$A:$Z,MATCH($B18,'[1]【第9戦】決勝ヒート - レース結果（貼付）'!$B:$B,0),MATCH('【第9戦】決勝ヒート - レース正式結果表'!G$11,'[1]【第9戦】決勝ヒート - レース結果（貼付）'!$1:$1,0)),"") -> TONYKART RACING TEAM JAPAN | H18: =IFERROR(INDEX('[1]【第9戦】決勝ヒート - レース結果（貼付）'!$A:$Z,MATCH($B18,'[1]【第9戦】決勝ヒート - レース結果（貼付）'!$B:$B,0),MATCH('【第9戦】決勝ヒート - レース正式結果表'!H$11,'[1]【第9戦】決勝ヒート - レース結果（貼付）'!$1:$1,0)),"") -> BS | I18: =IF(A18="DNS","",IF(A18="DQ","",IFERROR(INDEX('[1]【第9戦】決勝ヒート - レース結果（貼付）'!$A:$Z,MATCH($A18,'[1]【第9戦】決勝ヒート - レース結果（貼付）'!$A:$A,0),MATCH('【第9戦】決勝ヒート - レース正式結果表'!I$11,'[1]【第9戦】決勝ヒート - レース結果（貼付）'!$1:$1,0)),""))) -> 24 | J18: =IF(A18="DNS","ｽﾀｰﾄ出来ず",IF(A18="DQ","失 格",IFERROR(INDEX('[1]【第9戦】決勝ヒート - レース結果（貼付）'!$A:$Z,MATCH($B18,'[1]【第9戦】決勝ヒート - レース結果（貼付）'!$B:$B,0),MATCH('【第9戦】決勝ヒート - レース正式結果表'!J$11,'[1]【第9戦】決勝ヒート - レース結果（貼付）'!$1:$1,0)),""))) -> 0.012763565 | K18: =IF(A18="DNS","",IF(A18="DQ","",IFERROR(INDEX('[1]【第9戦】決勝ヒート - レース結果（貼付）'!$A:$Z,MATCH($A18,'[1]【第9戦】決勝ヒート - レース結果（貼付）'!$A:$A,0),MATCH('【第9戦】決勝ヒート - レース正式結果表'!K$11,'[1]【第9戦】決勝ヒート - レース結果（貼付）'!$1:$1,0)),""))) -> 1.772 | L18: =IF(A18="DNS","",IF(A18="DQ","",IFERROR(INDEX('[1]【第9戦】決勝ヒート - レース結果（貼付）'!$A:$Z,MATCH($A18,'[1]【第9戦】決勝ヒート - レース結果（貼付）'!$A:$A,0),MATCH('【第9戦】決勝ヒート - レース正式結果表'!L$11,'[1]【第9戦】決勝ヒート - レース結果（貼付）'!$1:$1,0)),""))) -> 0.278 | M18: =IF(A18="DNS","",IF(A18="DQ","",IFERROR(INDEX('[1]【第9戦】決勝ヒート - レース結果（貼付）'!$A:$Z,MATCH($B18,'[1]【第9戦】決勝ヒート - レース結果（貼付）'!$B:$B,0),MATCH('【第9戦】決勝ヒート - レース正式結果表'!M$11,'[1]【第9戦】決勝ヒート - レース結果（貼付）'!$1:$1,0)),""))) -> 45.389 | N18: =IF(M18<1,"",IF($N$11>M18,"R","")) | Q18: =IF(IFERROR(INDEX('[1]【第9戦】決勝ヒート - レース結果（貼付）'!$A:$Z,MATCH($B18,'[1]【第9戦】決勝ヒート - レース結果（貼付）'!$B:$B,0),MATCH('【第9戦】決勝ヒート - レース正式結果表'!Q$11,'[1]【第9戦】決勝ヒート - レース結果（貼付）'!$1:$1,0)),"")=0,"",IFERROR(INDEX('[1]【第9戦】決勝ヒート - レース結果（貼付）'!$A:$Z,MATCH($B18,'[1]【第9戦】決勝ヒート - レース結果（貼付）'!$B:$B,0),MATCH('【第9戦】決勝ヒート - レース正式結果表'!Q$11,'[1]【第9戦】決勝ヒート - レース結果（貼付）'!$1:$1,0)),"")) | R18: =IF(Q18="","",COUNTIF($Q$13:Q18,"<>"&"")) | S18: =IFERROR(RANK(R18,$R$13:$R$47,1),"") | T18: =IF(IFERROR(INDEX('[1]【第9戦】決勝ヒート - レース結果（貼付）'!$A:$Z,MATCH($A18,'[1]【第9戦】決勝ヒート - レース結果（貼付）'!$A:$A,0),MATCH('【第9戦】決勝ヒート - レース正式結果表'!T$11,'[1]【第9戦】決勝ヒート - レース結果（貼付）'!$1:$1,0)),"")=0,"",IFERROR(INDEX('[1]【第9戦】決勝ヒート - レース結果（貼付）'!$A:$Z,MATCH($A18,'[1]【第9戦】決勝ヒート - レース結果（貼付）'!$A:$A,0),MATCH('【第9戦】決勝ヒート - レース正式結果表'!T$11,'[1]【第9戦】決勝ヒート - レース結果（貼付）'!$1:$1,0)),"")) | U18: =IF(IFERROR(INDEX('[1]【第9戦】決勝ヒート - レース結果（貼付）'!$A:$Z,MATCH($B18,'[1]【第9戦】決勝ヒート - レース結果（貼付）'!$B:$B,0),MATCH('【第9戦】決勝ヒート - レース正式結果表'!U$11,'[1]【第9戦】決勝ヒート - レース結果（貼付）'!$1:$1,0)),"")=0,"",IFERROR(INDEX('[1]【第9戦】決勝ヒート - レース結果（貼付）'!$A:$Z,MATCH($B18,'[1]【第9戦】決勝ヒート - レース結果（貼付）'!$B:$B,0),MATCH('【第9戦】決勝ヒート - レース正式結果表'!U$11,'[1]【第9戦】決勝ヒート - レース結果（貼付）'!$1:$1,0)),"")) -> 100.187
A19: =IF(OR('[1]【第9戦】決勝ヒート - レース結果（貼付）'!A8="DNF",'[1]【第9戦】決勝ヒート - レース結果（貼付）'!A8="DNS",'[1]【第9戦】決勝ヒート - レース結果（貼付）'!A8="DQ"),'[1]【第9戦】決勝ヒート - レース結果（貼付）'!A8,IF(MAX('[1]【第9戦】決勝ヒート - レース結果（貼付）'!A:A)>A18,A18+1,"")) -> 7 | B19: =IFERROR(INDEX('[1]【第9戦】決勝ヒート - レース結果（貼付）'!A8:$Z$50,MATCH($A19,'[1]【第9戦】決勝ヒート - レース結果（貼付）'!A8:$A$50,0),MATCH('【第9戦】決勝ヒート - レース正式結果表'!B$11,'[1]【第9戦】決勝ヒート - レース結果（貼付）'!$1:$1,0)),"") -> 13 | E19: =IFERROR(INDEX('[1]【第9戦】決勝ヒート - レース結果（貼付）'!$A:$Z,MATCH($B19,'[1]【第9戦】決勝ヒート - レース結果（貼付）'!$B:$B,0),MATCH('【第9戦】決勝ヒート - レース正式結果表'!E$11,'[1]【第9戦】決勝ヒート - レース結果（貼付）'!$1:$1,0)),"") -> 梅垣 清 | F19: =IFERROR(INDEX('[1]【第9戦】決勝ヒート - レース結果（貼付）'!$A:$Z,MATCH($B19,'[1]【第9戦】決勝ヒート - レース結果（貼付）'!$B:$B,0),MATCH('【第9戦】決勝ヒート - レース正式結果表'!F$11,'[1]【第9戦】決勝ヒート - レース結果（貼付）'!$1:$1,0)),"") -> Birel ART/IAME | G19: =IFERROR(INDEX('[1]【第9戦】決勝ヒート - レース結果（貼付）'!$A:$Z,MATCH($B19,'[1]【第9戦】決勝ヒート - レース結果（貼付）'!$B:$B,0),MATCH('【第9戦】決勝ヒート - レース正式結果表'!G$11,'[1]【第9戦】決勝ヒート - レース結果（貼付）'!$1:$1,0)),"") -> BirelART Access Racing | H19: =IFERROR(INDEX('[1]【第9戦】決勝ヒート - レース結果（貼付）'!$A:$Z,MATCH($B19,'[1]【第9戦】決勝ヒート - レース結果（貼付）'!$B:$B,0),MATCH('【第9戦】決勝ヒート - レース正式結果表'!H$11,'[1]【第9戦】決勝ヒート - レース結果（貼付）'!$1:$1,0)),"") -> BS | I19: =IF(A19="DNS","",IF(A19="DQ","",IFERROR(INDEX('[1]【第9戦】決勝ヒート - レース結果（貼付）'!$A:$Z,MATCH($A19,'[1]【第9戦】決勝ヒート - レース結果（貼付）'!$A:$A,0),MATCH('【第9戦】決勝ヒート - レース正式結果表'!I$11,'[1]【第9戦】決勝ヒート - レース結果（貼付）'!$1:$1,0)),""))) -> 24 | J19: =IF(A19="DNS","ｽﾀｰﾄ出来ず",IF(A19="DQ","失 格",IFERROR(INDEX('[1]【第9戦】決勝ヒート - レース結果（貼付）'!$A:$Z,MATCH($B19,'[1]【第9戦】決勝ヒート - レース結果（貼付）'!$B:$B,0),MATCH('【第9戦】決勝ヒート - レース正式結果表'!J$11,'[1]【第9戦】決勝ヒート - レース結果（貼付）'!$1:$1,0)),""))) -> 0.012777164 | K19: =IF(A19="DNS","",IF(A19="DQ","",IFERROR(INDEX('[1]【第9戦】決勝ヒート - レース結果（貼付）'!$A:$Z,MATCH($A19,'[1]【第9戦】決勝ヒート - レース結果（貼付）'!$A:$A,0),MATCH('【第9戦】決勝ヒート - レース正式結果表'!K$11,'[1]【第9戦】決勝ヒート - レース結果（貼付）'!$1:$1,0)),""))) -> 2.947 | L19: =IF(A19="DNS","",IF(A19="DQ","",IFERROR(INDEX('[1]【第9戦】決勝ヒート - レース結果（貼付）'!$A:$Z,MATCH($A19,'[1]【第9戦】決勝ヒート - レース結果（貼付）'!$A:$A,0),MATCH('【第9戦】決勝ヒート - レース正式結果表'!L$11,'[1]【第9戦】決勝ヒート - レース結果（貼付）'!$1:$1,0)),""))) -> 1.175 | M19: =IF(A19="DNS","",IF(A19="DQ","",IFERROR(INDEX('[1]【第9戦】決勝ヒート - レース結果（貼付）'!$A:$Z,MATCH($B19,'[1]【第9戦】決勝ヒート - レース結果（貼付）'!$B:$B,0),MATCH('【第9戦】決勝ヒート - レース正式結果表'!M$11,'[1]【第9戦】決勝ヒート - レース結果（貼付）'!$1:$1,0)),""))) -> 45.454 | N19: =IF(M19<1,"",IF($N$11>M19,"R","")) | Q19: =IF(IFERROR(INDEX('[1]【第9戦】決勝ヒート - レース結果（貼付）'!$A:$Z,MATCH($B19,'[1]【第9戦】決勝ヒート - レース結果（貼付）'!$B:$B,0),MATCH('【第9戦】決勝ヒート - レース正式結果表'!Q$11,'[1]【第9戦】決勝ヒート - レース結果（貼付）'!$1:$1,0)),"")=0,"",IFERROR(INDEX('[1]【第9戦】決勝ヒート - レース結果（貼付）'!$A:$Z,MATCH($B19,'[1]【第9戦】決勝ヒート - レース結果（貼付）'!$B:$B,0),MATCH('【第9戦】決勝ヒート - レース正式結果表'!Q$11,'[1]【第9戦】決勝ヒート - レース結果（貼付）'!$1:$1,0)),"")) | R19: =IF(Q19="","",COUNTIF($Q$13:Q19,"<>"&"")) | S19: =IFERROR(RANK(R19,$R$13:$R$47,1),"") | T19: =IF(IFERROR(INDEX('[1]【第9戦】決勝ヒート - レース結果（貼付）'!$A:$Z,MATCH($A19,'[1]【第9戦】決勝ヒート - レース結果（貼付）'!$A:$A,0),MATCH('【第9戦】決勝ヒート - レース正式結果表'!T$11,'[1]【第9戦】決勝ヒート - レース結果（貼付）'!$1:$1,0)),"")=0,"",IFERROR(INDEX('[1]【第9戦】決勝ヒート - レース結果（貼付）'!$A:$Z,MATCH($A19,'[1]【第9戦】決勝ヒート - レース結果（貼付）'!$A:$A,0),MATCH('【第9戦】決勝ヒート - レース正式結果表'!T$11,'[1]【第9戦】決勝ヒート - レース結果（貼付）'!$1:$1,0)),"")) | U19: =IF(IFERROR(INDEX('[1]【第9戦】決勝ヒート - レース結果（貼付）'!$A:$Z,MATCH($B19,'[1]【第9戦】決勝ヒート - レース結果（貼付）'!$B:$B,0),MATCH('【第9戦】決勝ヒート - レース正式結果表'!U$11,'[1]【第9戦】決勝ヒート - レース結果（貼付）'!$1:$1,0)),"")=0,"",IFERROR(INDEX('[1]【第9戦】決勝ヒート - レース結果（貼付）'!$A:$Z,MATCH($B19,'[1]【第9戦】決勝ヒート - レース結果（貼付）'!$B:$B,0),MATCH('【第9戦】決勝ヒート - レース正式結果表'!U$11,'[1]【第9戦】決勝ヒート - レース結果（貼付）'!$1:$1,0)),"")) -> 100.335
A20: =IF(OR('[1]【第9戦】決勝ヒート - レース結果（貼付）'!A9="DNF",'[1]【第9戦】決勝ヒート - レース結果（貼付）'!A9="DNS",'[1]【第9戦】決勝ヒート - レース結果（貼付）'!A9="DQ"),'[1]【第9戦】決勝ヒート - レース結果（貼付）'!A9,IF(MAX('[1]【第9戦】決勝ヒート - レース結果（貼付）'!A:A)>A19,A19+1,"")) -> 8 | B20: =IFERROR(INDEX('[1]【第9戦】決勝ヒート - レース結果（貼付）'!A9:$Z$50,MATCH($A20,'[1]【第9戦】決勝ヒート - レース結果（貼付）'!A9:$A$50,0),MATCH('【第9戦】決勝ヒート - レース正式結果表'!B$11,'[1]【第9戦】決勝ヒート - レース結果（貼付）'!$1:$1,0)),"") -> 11 | E20: =IFERROR(INDEX('[1]【第9戦】決勝ヒート - レース結果（貼付）'!$A:$Z,MATCH($B20,'[1]【第9戦】決勝ヒート - レース結果（貼付）'!$B:$B,0),MATCH('【第9戦】決勝ヒート - レース正式結果表'!E$11,'[1]【第9戦】決勝ヒート - レース結果（貼付）'!$1:$1,0)),"") -> 佐野 雄城 | F20: =IFERROR(INDEX('[1]【第9戦】決勝ヒート - レース結果（貼付）'!$A:$Z,MATCH($B20,'[1]【第9戦】決勝ヒート - レース結果（貼付）'!$B:$B,0),MATCH('【第9戦】決勝ヒート - レース正式結果表'!F$11,'[1]【第9戦】決勝ヒート - レース結果（貼付）'!$1:$1,0)),"") -> Birel ART/IAME | G20: =IFERROR(INDEX('[1]【第9戦】決勝ヒート - レース結果（貼付）'!$A:$Z,MATCH($B20,'[1]【第9戦】決勝ヒート - レース結果（貼付）'!$B:$B,0),MATCH('【第9戦】決勝ヒート - レース正式結果表'!G$11,'[1]【第9戦】決勝ヒート - レース結果（貼付）'!$1:$1,0)),"") -> BirelART Access Racing | H20: =IFERROR(INDEX('[1]【第9戦】決勝ヒート - レース結果（貼付）'!$A:$Z,MATCH($B20,'[1]【第9戦】決勝ヒート - レース結果（貼付）'!$B:$B,0),MATCH('【第9戦】決勝ヒート - レース正式結果表'!H$11,'[1]【第9戦】決勝ヒート - レース結果（貼付）'!$1:$1,0)),"") -> BS | I20: =IF(A20="DNS","",IF(A20="DQ","",IFERROR(INDEX('[1]【第9戦】決勝ヒート - レース結果（貼付）'!$A:$Z,MATCH($A20,'[1]【第9戦】決勝ヒート - レース結果（貼付）'!$A:$A,0),MATCH('【第9戦】決勝ヒート - レース正式結果表'!I$11,'[1]【第9戦】決勝ヒート - レース結果（貼付）'!$1:$1,0)),""))) -> 24 | J20: =IF(A20="DNS","ｽﾀｰﾄ出来ず",IF(A20="DQ","失 格",IFERROR(INDEX('[1]【第9戦】決勝ヒート - レース結果（貼付）'!$A:$Z,MATCH($B20,'[1]【第9戦】決勝ヒート - レース結果（貼付）'!$B:$B,0),MATCH('【第9戦】決勝ヒート - レース正式結果表'!J$11,'[1]【第9戦】決勝ヒート - レース結果（貼付）'!$1:$1,0)),""))) -> 0.012792963 | K20: =IF(A20="DNS","",IF(A20="DQ","",IFERROR(INDEX('[1]【第9戦】決勝ヒート - レース結果（貼付）'!$A:$Z,MATCH($A20,'[1]【第9戦】決勝ヒート - レース結果（貼付）'!$A:$A,0),MATCH('【第9戦】決勝ヒート - レース正式結果表'!K$11,'[1]【第9戦】決勝ヒート - レース結果（貼付）'!$1:$1,0)),""))) -> 4.312 | L20: =IF(A20="DNS","",IF(A20="DQ","",IFERROR(INDEX('[1]【第9戦】決勝ヒート - レース結果（貼付）'!$A:$Z,MATCH($A20,'[1]【第9戦】決勝ヒート - レース結果（貼付）'!$A:$A,0),MATCH('【第9戦】決勝ヒート - レース正式結果表'!L$11,'[1]【第9戦】決勝ヒート - レース結果（貼付）'!$1:$1,0)),""))) -> 1.365 | M20: =IF(A20="DNS","",IF(A20="DQ","",IFERROR(INDEX('[1]【第9戦】決勝ヒート - レース結果（貼付）'!$A:$Z,MATCH($B20,'[1]【第9戦】決勝ヒート - レース結果（貼付）'!$B:$B,0),MATCH('【第9戦】決勝ヒート - レース正式結果表'!M$11,'[1]【第9戦】決勝ヒート - レース結果（貼付）'!$1:$1,0)),""))) -> 45.541 | N20: =IF(M20<1,"",IF($N$11>M20,"R","")) | Q20: =IF(IFERROR(INDEX('[1]【第9戦】決勝ヒート - レース結果（貼付）'!$A:$Z,MATCH($B20,'[1]【第9戦】決勝ヒート - レース結果（貼付）'!$B:$B,0),MATCH('【第9戦】決勝ヒート - レース正式結果表'!Q$11,'[1]【第9戦】決勝ヒート - レース結果（貼付）'!$1:$1,0)),"")=0,"",IFERROR(INDEX('[1]【第9戦】決勝ヒート - レース結果（貼付）'!$A:$Z,MATCH($B20,'[1]【第9戦】決勝ヒート - レース結果（貼付）'!$B:$B,0),MATCH('【第9戦】決勝ヒート - レース正式結果表'!Q$11,'[1]【第9戦】決勝ヒート - レース結果（貼付）'!$1:$1,0)),"")) | R20: =IF(Q20="","",COUNTIF($Q$13:Q20,"<>"&"")) | S20: =IFERROR(RANK(R20,$R$13:$R$47,1),"") | T20: =IF(IFERROR(INDEX('[1]【第9戦】決勝ヒート - レース結果（貼付）'!$A:$Z,MATCH($A20,'[1]【第9戦】決勝ヒート - レース結果（貼付）'!$A:$A,0),MATCH('【第9戦】決勝ヒート - レース正式結果表'!T$11,'[1]【第9戦】決勝ヒート - レース結果（貼付）'!$1:$1,0)),"")=0,"",IFERROR(INDEX('[1]【第9戦】決勝ヒート - レース結果（貼付）'!$A:$Z,MATCH($A20,'[1]【第9戦】決勝ヒート - レース結果（貼付）'!$A:$A,0),MATCH('【第9戦】決勝ヒート - レース正式結果表'!T$11,'[1]【第9戦】決勝ヒート - レース結果（貼付）'!$1:$1,0)),"")) | U20: =IF(IFERROR(INDEX('[1]【第9戦】決勝ヒート - レース結果（貼付）'!$A:$Z,MATCH($B20,'[1]【第9戦】決勝ヒート - レース結果（貼付）'!$B:$B,0),MATCH('【第9戦】決勝ヒート - レース正式結果表'!U$11,'[1]【第9戦】決勝ヒート - レース結果（貼付）'!$1:$1,0)),"")=0,"",IFERROR(INDEX('[1]【第9戦】決勝ヒート - レース結果（貼付）'!$A:$Z,MATCH($B20,'[1]【第9戦】決勝ヒート - レース結果（貼付）'!$B:$B,0),MATCH('【第9戦】決勝ヒート - レース正式結果表'!U$11,'[1]【第9戦】決勝ヒート - レース結果（貼付）'!$1:$1,0)),"")) -> 100.253
A21: =IF(OR('[1]【第9戦】決勝ヒート - レース結果（貼付）'!A10="DNF",'[1]【第9戦】決勝ヒート - レース結果（貼付）'!A10="DNS",'[1]【第9戦】決勝ヒート - レース結果（貼付）'!A10="DQ"),'[1]【第9戦】決勝ヒート - レース結果（貼付）'!A10,IF(MAX('[1]【第9戦】決勝ヒート - レース結果（貼付）'!A:A)>A20,A20+1,"")) -> 9 | B21: =IFERROR(INDEX('[1]【第9戦】決勝ヒート - レース結果（貼付）'!A10:$Z$50,MATCH($A21,'[1]【第9戦】決勝ヒート - レース結果（貼付）'!A10:$A$50,0),MATCH('【第9戦】決勝ヒート - レース正式結果表'!B$11,'[1]【第9戦】決勝ヒート - レース結果（貼付）'!$1:$1,0)),"") -> 44 | E21: =IFERROR(INDEX('[1]【第9戦】決勝ヒート - レース結果（貼付）'!$A:$Z,MATCH($B21,'[1]【第9戦】決勝ヒート - レース結果（貼付）'!$B:$B,0),MATCH('【第9戦】決勝ヒート - レース正式結果表'!E$11,'[1]【第9戦】決勝ヒート - レース結果（貼付）'!$1:$1,0)),"") -> 佐藤 凌音 | F21: =IFERROR(INDEX('[1]【第9戦】決勝ヒート - レース結果（貼付）'!$A:$Z,MATCH($B21,'[1]【第9戦】決勝ヒート - レース結果（貼付）'!$B:$B,0),MATCH('【第9戦】決勝ヒート - レース正式結果表'!F$11,'[1]【第9戦】決勝ヒート - レース結果（貼付）'!$1:$1,0)),"") -> LN KART/TM | G21: =IFERROR(INDEX('[1]【第9戦】決勝ヒート - レース結果（貼付）'!$A:$Z,MATCH($B21,'[1]【第9戦】決勝ヒート - レース結果（貼付）'!$B:$B,0),MATCH('【第9戦】決勝ヒート - レース正式結果表'!G$11,'[1]【第9戦】決勝ヒート - レース結果（貼付）'!$1:$1,0)),"") -> TOKAIDENSO DSM | H21: =IFERROR(INDEX('[1]【第9戦】決勝ヒート - レース結果（貼付）'!$A:$Z,MATCH($B21,'[1]【第9戦】決勝ヒート - レース結果（貼付）'!$B:$B,0),MATCH('【第9戦】決勝ヒート - レース正式結果表'!H$11,'[1]【第9戦】決勝ヒート - レース結果（貼付）'!$1:$1,0)),"") -> BS | I21: =IF(A21="DNS","",IF(A21="DQ","",IFERROR(INDEX('[1]【第9戦】決勝ヒート - レース結果（貼付）'!$A:$Z,MATCH($A21,'[1]【第9戦】決勝ヒート - レース結果（貼付）'!$A:$A,0),MATCH('【第9戦】決勝ヒート - レース正式結果表'!I$11,'[1]【第9戦】決勝ヒート - レース結果（貼付）'!$1:$1,0)),""))) -> 24 | J21: =IF(A21="DNS","ｽﾀｰﾄ出来ず",IF(A21="DQ","失 格",IFERROR(INDEX('[1]【第9戦】決勝ヒート - レース結果（貼付）'!$A:$Z,MATCH($B21,'[1]【第9戦】決勝ヒート - レース結果（貼付）'!$B:$B,0),MATCH('【第9戦】決勝ヒート - レース正式結果表'!J$11,'[1]【第9戦】決勝ヒート - レース結果（貼付）'!$1:$1,0)),""))) -> 0.012811597 | K21: =IF(A21="DNS","",IF(A21="DQ","",IFERROR(INDEX('[1]【第9戦】決勝ヒート - レース結果（貼付）'!$A:$Z,MATCH($A21,'[1]【第9戦】決勝ヒート - レース結果（貼付）'!$A:$A,0),MATCH('【第9戦】決勝ヒート - レース正式結果表'!K$11,'[1]【第9戦】決勝ヒート - レース結果（貼付）'!$1:$1,0)),""))) -> 5.922 | L21: =IF(A21="DNS","",IF(A21="DQ","",IFERROR(INDEX('[1]【第9戦】決勝ヒート - レース結果（貼付）'!$A:$Z,MATCH($A21,'[1]【第9戦】決勝ヒート - レース結果（貼付）'!$A:$A,0),MATCH('【第9戦】決勝ヒート - レース正式結果表'!L$11,'[1]【第9戦】決勝ヒート - レース結果（貼付）'!$1:$1,0)),""))) -> 1.61 | M21: =IF(A21="DNS","",IF(A21="DQ","",IFERROR(INDEX('[1]【第9戦】決勝ヒート - レース結果（貼付）'!$A:$Z,MATCH($B21,'[1]【第9戦】決勝ヒート - レース結果（貼付）'!$B:$B,0),MATCH('【第9戦】決勝ヒート - レース正式結果表'!M$11,'[1]【第9戦】決勝ヒート - レース結果（貼付）'!$1:$1,0)),""))) -> 45.572 | N21: =IF(M21<1,"",IF($N$11>M21,"R","")) | Q21: =IF(IFERROR(INDEX('[1]【第9戦】決勝ヒート - レース結果（貼付）'!$A:$Z,MATCH($B21,'[1]【第9戦】決勝ヒート - レース結果（貼付）'!$B:$B,0),MATCH('【第9戦】決勝ヒート - レース正式結果表'!Q$11,'[1]【第9戦】決勝ヒート - レース結果（貼付）'!$1:$1,0)),"")=0,"",IFERROR(INDEX('[1]【第9戦】決勝ヒート - レース結果（貼付）'!$A:$Z,MATCH($B21,'[1]【第9戦】決勝ヒート - レース結果（貼付）'!$B:$B,0),MATCH('【第9戦】決勝ヒート - レース正式結果表'!Q$11,'[1]【第9戦】決勝ヒート - レース結果（貼付）'!$1:$1,0)),"")) | R21: =IF(Q21="","",COUNTIF($Q$13:Q21,"<>"&"")) | S21: =IFERROR(RANK(R21,$R$13:$R$47,1),"") | T21: =IF(IFERROR(INDEX('[1]【第9戦】決勝ヒート - レース結果（貼付）'!$A:$Z,MATCH($A21,'[1]【第9戦】決勝ヒート - レース結果（貼付）'!$A:$A,0),MATCH('【第9戦】決勝ヒート - レース正式結果表'!T$11,'[1]【第9戦】決勝ヒート - レース結果（貼付）'!$1:$1,0)),"")=0,"",IFERROR(INDEX('[1]【第9戦】決勝ヒート - レース結果（貼付）'!$A:$Z,MATCH($A21,'[1]【第9戦】決勝ヒート - レース結果（貼付）'!$A:$A,0),MATCH('【第9戦】決勝ヒート - レース正式結果表'!T$11,'[1]【第9戦】決勝ヒート - レース結果（貼付）'!$1:$1,0)),"")) | U21: =IF(IFERROR(INDEX('[1]【第9戦】決勝ヒート - レース結果（貼付）'!$A:$Z,MATCH($B21,'[1]【第9戦】決勝ヒート - レース結果（貼付）'!$B:$B,0),MATCH('【第9戦】決勝ヒート - レース正式結果表'!U$11,'[1]【第9戦】決勝ヒート - レース結果（貼付）'!$1:$1,0)),"")=0,"",IFERROR(INDEX('[1]【第9戦】決勝ヒート - レース結果（貼付）'!$A:$Z,MATCH($B21,'[1]【第9戦】決勝ヒート - レース結果（貼付）'!$B:$B,0),MATCH('【第9戦】決勝ヒート - レース正式結果表'!U$11,'[1]【第9戦】決勝ヒート - レース結果（貼付）'!$1:$1,0)),"")) -> 100.11
A22: 10 | B22: 77 | E22: 渡部 智仁 | F22: Rosa Drago CORSE/TM | G22: RosaDragoCORSE | H22: BS | I22: 24 | J22: 0.012812465 | K22: 5.997 | L22: 0.075 | M22: 45.327 | Q22: 全日本カート選手権統一規則書 第38条(25)(フロントフェアリングが正しい装着状態でない)により5秒加算した。 | R22: 10 | S22: 1 | U22: 99.919
A23: =IF(OR('[1]【第9戦】決勝ヒート - レース結果（貼付）'!A12="DNF",'[1]【第9戦】決勝ヒート - レース結果（貼付）'!A12="DNS",'[1]【第9戦】決勝ヒート - レース結果（貼付）'!A12="DQ"),'[1]【第9戦】決勝ヒート - レース結果（貼付）'!A12,IF(MAX('[1]【第9戦】決勝ヒート - レース結果（貼付）'!A:A)>A22,A22+1,"")) -> 11 | B23: =IFERROR(INDEX('[1]【第9戦】決勝ヒート - レース結果（貼付）'!A12:$Z$50,MATCH($A23,'[1]【第9戦】決勝ヒート - レース結果（貼付）'!A12:$A$50,0),MATCH('【第9戦】決勝ヒート - レース正式結果表'!B$11,'[1]【第9戦】決勝ヒート - レース結果（貼付）'!$1:$1,0)),"") -> 22 | E23: =IFERROR(INDEX('[1]【第9戦】決勝ヒート - レース結果（貼付）'!$A:$Z,MATCH($B23,'[1]【第9戦】決勝ヒート - レース結果（貼付）'!$B:$B,0),MATCH('【第9戦】決勝ヒート - レース正式結果表'!E$11,'[1]【第9戦】決勝ヒート - レース結果（貼付）'!$1:$1,0)),"") -> 金子 修 | F23: =IFERROR(INDEX('[1]【第9戦】決勝ヒート - レース結果（貼付）'!$A:$Z,MATCH($B23,'[1]【第9戦】決勝ヒート - レース結果（貼付）'!$B:$B,0),MATCH('【第9戦】決勝ヒート - レース正式結果表'!F$11,'[1]【第9戦】決勝ヒート - レース結果（貼付）'!$1:$1,0)),"") -> TONY KART/VORTEX | G23: =IFERROR(INDEX('[1]【第9戦】決勝ヒート - レース結果（貼付）'!$A:$Z,MATCH($B23,'[1]【第9戦】決勝ヒート - レース結果（貼付）'!$B:$B,0),MATCH('【第9戦】決勝ヒート - レース正式結果表'!G$11,'[1]【第9戦】決勝ヒート - レース結果（貼付）'!$1:$1,0)),"") -> TONYKART RACING TEAM JAPAN | H23: =IFERROR(INDEX('[1]【第9戦】決勝ヒート - レース結果（貼付）'!$A:$Z,MATCH($B23,'[1]【第9戦】決勝ヒート - レース結果（貼付）'!$B:$B,0),MATCH('【第9戦】決勝ヒート - レース正式結果表'!H$11,'[1]【第9戦】決勝ヒート - レース結果（貼付）'!$1:$1,0)),"") -> BS | I23: =IF(A23="DNS","",IF(A23="DQ","",IFERROR(INDEX('[1]【第9戦】決勝ヒート - レース結果（貼付）'!$A:$Z,MATCH($A23,'[1]【第9戦】決勝ヒート - レース結果（貼付）'!$A:$A,0),MATCH('【第9戦】決勝ヒート - レース正式結果表'!I$11,'[1]【第9戦】決勝ヒート - レース結果（貼付）'!$1:$1,0)),""))) -> 24 | J23: =IF(A23="DNS","ｽﾀｰﾄ出来ず",IF(A23="DQ","失 格",IFERROR(INDEX('[1]【第9戦】決勝ヒート - レース結果（貼付）'!$A:$Z,MATCH($B23,'[1]【第9戦】決勝ヒート - レース結果（貼付）'!$B:$B,0),MATCH('【第9戦】決勝ヒート - レース正式結果表'!J$11,'[1]【第9戦】決勝ヒート - レース結果（貼付）'!$1:$1,0)),""))) -> 0.012816701 | K23: =IF(A23="DNS","",IF(A23="DQ","",IFERROR(INDEX('[1]【第9戦】決勝ヒート - レース結果（貼付）'!$A:$Z,MATCH($A23,'[1]【第9戦】決勝ヒート - レース結果（貼付）'!$A:$A,0),MATCH('【第9戦】決勝ヒート - レース正式結果表'!K$11,'[1]【第9戦】決勝ヒート - レース結果（貼付）'!$1:$1,0)),""))) -> 6.363 | L23: =IF(A23="DNS","",IF(A23="DQ","",IFERROR(INDEX('[1]【第9戦】決勝ヒート - レース結果（貼付）'!$A:$Z,MATCH($A23,'[1]【第9戦】決勝ヒート - レース結果（貼付）'!$A:$A,0),MATCH('【第9戦】決勝ヒート - レース正式結果表'!L$11,'[1]【第9戦】決勝ヒート - レース結果（貼付）'!$1:$1,0)),""))) -> 0.366 | M23: =IF(A23="DNS","",IF(A23="DQ","",IFERROR(INDEX('[1]【第9戦】決勝ヒート - レース結果（貼付）'!$A:$Z,MATCH($B23,'[1]【第9戦】決勝ヒート - レース結果（貼付）'!$B:$B,0),MATCH('【第9戦】決勝ヒート - レース正式結果表'!M$11,'[1]【第9戦】決勝ヒート - レース結果（貼付）'!$1:$1,0)),""))) -> 45.406 | N23: =IF(M23<1,"",IF($N$11>M23,"R","")) | Q23: =IF(IFERROR(INDEX('[1]【第9戦】決勝ヒート - レース結果（貼付）'!$A:$Z,MATCH($B23,'[1]【第9戦】決勝ヒート - レース結果（貼付）'!$B:$B,0),MATCH('【第9戦】決勝ヒート - レース正式結果表'!Q$11,'[1]【第9戦】決勝ヒート - レース結果（貼付）'!$1:$1,0)),"")=0,"",IFERROR(INDEX('[1]【第9戦】決勝ヒート - レース結果（貼付）'!$A:$Z,MATCH($B23,'[1]【第9戦】決勝ヒート - レース結果（貼付）'!$B:$B,0),MATCH('【第9戦】決勝ヒート - レース正式結果表'!Q$11,'[1]【第9戦】決勝ヒート - レース結果（貼付）'!$1:$1,0)),"")) | R23: =IF(Q23="","",COUNTIF($Q$13:Q23,"<>"&"")) | S23: =IFERROR(RANK(R23,$R$13:$R$47,1),"") | T23: =IF(IFERROR(INDEX('[1]【第9戦】決勝ヒート - レース結果（貼付）'!$A:$Z,MATCH($A23,'[1]【第9戦】決勝ヒート - レース結果（貼付）'!$A:$A,0),MATCH('【第9戦】決勝ヒート - レース正式結果表'!T$11,'[1]【第9戦】決勝ヒート - レース結果（貼付）'!$1:$1,0)),"")=0,"",IFERROR(INDEX('[1]【第9戦】決勝ヒート - レース結果（貼付）'!$A:$Z,MATCH($A23,'[1]【第9戦】決勝ヒート - レース結果（貼付）'!$A:$A,0),MATCH('【第9戦】決勝ヒート - レース正式結果表'!T$11,'[1]【第9戦】決勝ヒート - レース結果（貼付）'!$1:$1,0)),"")) | U23: =IF(IFERROR(INDEX('[1]【第9戦】決勝ヒート - レース結果（貼付）'!$A:$Z,MATCH($B23,'[1]【第9戦】決勝ヒート - レース結果（貼付）'!$B:$B,0),MATCH('【第9戦】決勝ヒート - レース正式結果表'!U$11,'[1]【第9戦】決勝ヒート - レース結果（貼付）'!$1:$1,0)),"")=0,"",IFERROR(INDEX('[1]【第9戦】決勝ヒート - レース結果（貼付）'!$A:$Z,MATCH($B23,'[1]【第9戦】決勝ヒート - レース結果（貼付）'!$B:$B,0),MATCH('【第9戦】決勝ヒート - レース正式結果表'!U$11,'[1]【第9戦】決勝ヒート - レース結果（貼付）'!$1:$1,0)),"")) -> 99.851
A24: =IF(OR('[1]【第9戦】決勝ヒート - レース結果（貼付）'!A13="DNF",'[1]【第9戦】決勝ヒート - レース結果（貼付）'!A13="DNS",'[1]【第9戦】決勝ヒート - レース結果（貼付）'!A13="DQ"),'[1]【第9戦】決勝ヒート - レース結果（貼付）'!A13,IF(MAX('[1]【第9戦】決勝ヒート - レース結果（貼付）'!A:A)>A23,A23+1,"")) -> 12 | B24: =IFERROR(INDEX('[1]【第9戦】決勝ヒート - レース結果（貼付）'!A13:$Z$50,MATCH($A24,'[1]【第9戦】決勝ヒート - レース結果（貼付）'!A13:$A$50,0),MATCH('【第9戦】決勝ヒート - レース正式結果表'!B$11,'[1]【第9戦】決勝ヒート - レース結果（貼付）'!$1:$1,0)),"") -> 69 | E24: =IFERROR(INDEX('[1]【第9戦】決勝ヒート - レース結果（貼付）'!$A:$Z,MATCH($B24,'[1]【第9戦】決勝ヒート - レース結果（貼付）'!$B:$B,0),MATCH('【第9戦】決勝ヒート - レース正式結果表'!E$11,'[1]【第9戦】決勝ヒート - レース結果（貼付）'!$1:$1,0)),"") -> 半田 昌宗 | F24: =IFERROR(INDEX('[1]【第9戦】決勝ヒート - レース結果（貼付）'!$A:$Z,MATCH($B24,'[1]【第9戦】決勝ヒート - レース結果（貼付）'!$B:$B,0),MATCH('【第9戦】決勝ヒート - レース正式結果表'!F$11,'[1]【第9戦】決勝ヒート - レース結果（貼付）'!$1:$1,0)),"") -> CRG/TM | G24: =IFERROR(INDEX('[1]【第9戦】決勝ヒート - レース結果（貼付）'!$A:$Z,MATCH($B24,'[1]【第9戦】決勝ヒート - レース結果（貼付）'!$B:$B,0),MATCH('【第9戦】決勝ヒート - レース正式結果表'!G$11,'[1]【第9戦】決勝ヒート - レース結果（貼付）'!$1:$1,0)),"") -> TEAM WOLF | H24: =IFERROR(INDEX('[1]【第9戦】決勝ヒート - レース結果（貼付）'!$A:$Z,MATCH($B24,'[1]【第9戦】決勝ヒート - レース結果（貼付）'!$B:$B,0),MATCH('【第9戦】決勝ヒート - レース正式結果表'!H$11,'[1]【第9戦】決勝ヒート - レース結果（貼付）'!$1:$1,0)),"") -> BS | I24: =IF(A24="DNS","",IF(A24="DQ","",IFERROR(INDEX('[1]【第9戦】決勝ヒート - レース結果（貼付）'!$A:$Z,MATCH($A24,'[1]【第9戦】決勝ヒート - レース結果（貼付）'!$A:$A,0),MATCH('【第9戦】決勝ヒート - レース正式結果表'!I$11,'[1]【第9戦】決勝ヒート - レース結果（貼付）'!$1:$1,0)),""))) -> 24 | J24: =IF(A24="DNS","ｽﾀｰﾄ出来ず",IF(A24="DQ","失 格",IFERROR(INDEX('[1]【第9戦】決勝ヒート - レース結果（貼付）'!$A:$Z,MATCH($B24,'[1]【第9戦】決勝ヒート - レース結果（貼付）'!$B:$B,0),MATCH('【第9戦】決勝ヒート - レース正式結果表'!J$11,'[1]【第9戦】決勝ヒート - レース結果（貼付）'!$1:$1,0)),""))) -> 0.012817662 | K24: =IF(A24="DNS","",IF(A24="DQ","",IFERROR(INDEX('[1]【第9戦】決勝ヒート - レース結果（貼付）'!$A:$Z,MATCH($A24,'[1]【第9戦】決勝ヒート - レース結果（貼付）'!$A:$A,0),MATCH('【第9戦】決勝ヒート - レース正式結果表'!K$11,'[1]【第9戦】決勝ヒート - レース結果（貼付）'!$1:$1,0)),""))) -> 6.446 | L24: =IF(A24="DNS","",IF(A24="DQ","",IFERROR(INDEX('[1]【第9戦】決勝ヒート - レース結果（貼付）'!$A:$Z,MATCH($A24,'[1]【第9戦】決勝ヒート - レース結果（貼付）'!$A:$A,0),MATCH('【第9戦】決勝ヒート - レース正式結果表'!L$11,'[1]【第9戦】決勝ヒート - レース結果（貼付）'!$1:$1,0)),""))) -> 0.083 | M24: =IF(A24="DNS","",IF(A24="DQ","",IFERROR(INDEX('[1]【第9戦】決勝ヒート - レース結果（貼付）'!$A:$Z,MATCH($B24,'[1]【第9戦】決勝ヒート - レース結果（貼付）'!$B:$B,0),MATCH('【第9戦】決勝ヒート - レース正式結果表'!M$11,'[1]【第9戦】決勝ヒート - レース結果（貼付）'!$1:$1,0)),""))) -> 45.545 | N24: =IF(M24<1,"",IF($N$11>M24,"R","")) | Q24: =IF(IFERROR(INDEX('[1]【第9戦】決勝ヒート - レース結果（貼付）'!$A:$Z,MATCH($B24,'[1]【第9戦】決勝ヒート - レース結果（貼付）'!$B:$B,0),MATCH('【第9戦】決勝ヒート - レース正式結果表'!Q$11,'[1]【第9戦】決勝ヒート - レース結果（貼付）'!$1:$1,0)),"")=0,"",IFERROR(INDEX('[1]【第9戦】決勝ヒート - レース結果（貼付）'!$A:$Z,MATCH($B24,'[1]【第9戦】決勝ヒート - レース結果（貼付）'!$B:$B,0),MATCH('【第9戦】決勝ヒート - レース正式結果表'!Q$11,'[1]【第9戦】決勝ヒート - レース結果（貼付）'!$1:$1,0)),"")) | R24: =IF(Q24="","",COUNTIF($Q$13:Q24,"<>"&"")) | S24: =IFERROR(RANK(R24,$R$13:$R$47,1),"") | T24: =IF(IFERROR(INDEX('[1]【第9戦】決勝ヒート - レース結果（貼付）'!$A:$Z,MATCH($A24,'[1]【第9戦】決勝ヒート - レース結果（貼付）'!$A:$A,0),MATCH('【第9戦】決勝ヒート - レース正式結果表'!T$11,'[1]【第9戦】決勝ヒート - レース結果（貼付）'!$1:$1,0)),"")=0,"",IFERROR(INDEX('[1]【第9戦】決勝ヒート - レース結果（貼付）'!$A:$Z,MATCH($A24,'[1]【第9戦】決勝ヒート - レース結果（貼付）'!$A:$A,0),MATCH('【第9戦】決勝ヒート - レース正式結果表'!T$11,'[1]【第9戦】決勝ヒート - レース結果（貼付）'!$1:$1,0)),"")) | U24: =IF(IFERROR(INDEX('[1]【第9戦】決勝ヒート - レース結果（貼付）'!$A:$Z,MATCH($B24,'[1]【第9戦】決勝ヒート - レース結果（貼付）'!$B:$B,0),MATCH('【第9戦】決勝ヒート - レース正式結果表'!U$11,'[1]【第9戦】決勝ヒート - レース結果（貼付）'!$1:$1,0)),"")=0,"",IFERROR(INDEX('[1]【第9戦】決勝ヒート - レース結果（貼付）'!$A:$Z,MATCH($B24,'[1]【第9戦】決勝ヒート - レース結果（貼付）'!$B:$B,0),MATCH('【第9戦】決勝ヒート - レース正式結果表'!U$11,'[1]【第9戦】決勝ヒート - レース結果（貼付）'!$1:$1,0)),"")) -> 100.216
A25: =IF(OR('[1]【第9戦】決勝ヒート - レース結果（貼付）'!A14="DNF",'[1]【第9戦】決勝ヒート - レース結果（貼付）'!A14="DNS",'[1]【第9戦】決勝ヒート - レース結果（貼付）'!A14="DQ"),'[1]【第9戦】決勝ヒート - レース結果（貼付）'!A14,IF(MAX('[1]【第9戦】決勝ヒート - レース結果（貼付）'!A:A)>A24,A24+1,"")) -> 13 | B25: =IFERROR(INDEX('[1]【第9戦】決勝ヒート - レース結果（貼付）'!A14:$Z$50,MATCH($A25,'[1]【第9戦】決勝ヒート - レース結果（貼付）'!A14:$A$50,0),MATCH('【第9戦】決勝ヒート - レース正式結果表'!B$11,'[1]【第9戦】決勝ヒート - レース結果（貼付）'!$1:$1,0)),"") -> 23 | E25: =IFERROR(INDEX('[1]【第9戦】決勝ヒート - レース結果（貼付）'!$A:$Z,MATCH($B25,'[1]【第9戦】決勝ヒート - レース結果（貼付）'!$B:$B,0),MATCH('【第9戦】決勝ヒート - レース正式結果表'!E$11,'[1]【第9戦】決勝ヒート - レース結果（貼付）'!$1:$1,0)),"") -> 朝日 ターボ | F25: =IFERROR(INDEX('[1]【第9戦】決勝ヒート - レース結果（貼付）'!$A:$Z,MATCH($B25,'[1]【第9戦】決勝ヒート - レース結果（貼付）'!$B:$B,0),MATCH('【第9戦】決勝ヒート - レース正式結果表'!F$11,'[1]【第9戦】決勝ヒート - レース結果（貼付）'!$1:$1,0)),"") -> Praga/TM | G25: =IFERROR(INDEX('[1]【第9戦】決勝ヒート - レース結果（貼付）'!$A:$Z,MATCH($B25,'[1]【第9戦】決勝ヒート - レース結果（貼付）'!$B:$B,0),MATCH('【第9戦】決勝ヒート - レース正式結果表'!G$11,'[1]【第9戦】決勝ヒート - レース結果（貼付）'!$1:$1,0)),"") -> MASUDA RACING PROJECT | H25: =IFERROR(INDEX('[1]【第9戦】決勝ヒート - レース結果（貼付）'!$A:$Z,MATCH($B25,'[1]【第9戦】決勝ヒート - レース結果（貼付）'!$B:$B,0),MATCH('【第9戦】決勝ヒート - レース正式結果表'!H$11,'[1]【第9戦】決勝ヒート - レース結果（貼付）'!$1:$1,0)),"") -> DL | I25: =IF(A25="DNS","",IF(A25="DQ","",IFERROR(INDEX('[1]【第9戦】決勝ヒート - レース結果（貼付）'!$A:$Z,MATCH($A25,'[1]【第9戦】決勝ヒート - レース結果（貼付）'!$A:$A,0),MATCH('【第9戦】決勝ヒート - レース正式結果表'!I$11,'[1]【第9戦】決勝ヒート - レース結果（貼付）'!$1:$1,0)),""))) -> 24 | J25: =IF(A25="DNS","ｽﾀｰﾄ出来ず",IF(A25="DQ","失 格",IFERROR(INDEX('[1]【第9戦】決勝ヒート - レース結果（貼付）'!$A:$Z,MATCH($B25,'[1]【第9戦】決勝ヒート - レース結果（貼付）'!$B:$B,0),MATCH('【第9戦】決勝ヒート - レース正式結果表'!J$11,'[1]【第9戦】決勝ヒート - レース結果（貼付）'!$1:$1,0)),""))) -> 0.012839097 | K25: =IF(A25="DNS","",IF(A25="DQ","",IFERROR(INDEX('[1]【第9戦】決勝ヒート - レース結果（貼付）'!$A:$Z,MATCH($A25,'[1]【第9戦】決勝ヒート - レース結果（貼付）'!$A:$A,0),MATCH('【第9戦】決勝ヒート - レース正式結果表'!K$11,'[1]【第9戦】決勝ヒート - レース結果（貼付）'!$1:$1,0)),""))) -> 8.298 | L25: =IF(A25="DNS","",IF(A25="DQ","",IFERROR(INDEX('[1]【第9戦】決勝ヒート - レース結果（貼付）'!$A:$Z,MATCH($A25,'[1]【第9戦】決勝ヒート - レース結果（貼付）'!$A:$A,0),MATCH('【第9戦】決勝ヒート - レース正式結果表'!L$11,'[1]【第9戦】決勝ヒート - レース結果（貼付）'!$1:$1,0)),""))) -> 1.852 | M25: =IF(A25="DNS","",IF(A25="DQ","",IFERROR(INDEX('[1]【第9戦】決勝ヒート - レース結果（貼付）'!$A:$Z,MATCH($B25,'[1]【第9戦】決勝ヒート - レース結果（貼付）'!$B:$B,0),MATCH('【第9戦】決勝ヒート - レース正式結果表'!M$11,'[1]【第9戦】決勝ヒート - レース結果（貼付）'!$1:$1,0)),""))) -> 45.745 | N25: =IF(M25<1,"",IF($N$11>M25,"R","")) | Q25: =IF(IFERROR(INDEX('[1]【第9戦】決勝ヒート - レース結果（貼付）'!$A:$Z,MATCH($B25,'[1]【第9戦】決勝ヒート - レース結果（貼付）'!$B:$B,0),MATCH('【第9戦】決勝ヒート - レース正式結果表'!Q$11,'[1]【第9戦】決勝ヒート - レース結果（貼付）'!$1:$1,0)),"")=0,"",IFERROR(INDEX('[1]【第9戦】決勝ヒート - レース結果（貼付）'!$A:$Z,MATCH($B25,'[1]【第9戦】決勝ヒート - レース結果（貼付）'!$B:$B,0),MATCH('【第9戦】決勝ヒート - レース正式結果表'!Q$11,'[1]【第9戦】決勝ヒート - レース結果（貼付）'!$1:$1,0)),"")) | R25: =IF(Q25="","",COUNTIF($Q$13:Q25,"<>"&"")) | S25: =IFERROR(RANK(R25,$R$13:$R$47,1),"") | T25: =IF(IFERROR(INDEX('[1]【第9戦】決勝ヒート - レース結果（貼付）'!$A:$Z,MATCH($A25,'[1]【第9戦】決勝ヒート - レース結果（貼付）'!$A:$A,0),MATCH('【第9戦】決勝ヒート - レース正式結果表'!T$11,'[1]【第9戦】決勝ヒート - レース結果（貼付）'!$1:$1,0)),"")=0,"",IFERROR(INDEX('[1]【第9戦】決勝ヒート - レース結果（貼付）'!$A:$Z,MATCH($A25,'[1]【第9戦】決勝ヒート - レース結果（貼付）'!$A:$A,0),MATCH('【第9戦】決勝ヒート - レース正式結果表'!T$11,'[1]【第9戦】決勝ヒート - レース結果（貼付）'!$1:$1,0)),"")) | U25: =IF(IFERROR(INDEX('[1]【第9戦】決勝ヒート - レース結果（貼付）'!$A:$Z,MATCH($B25,'[1]【第9戦】決勝ヒート - レース結果（貼付）'!$B:$B,0),MATCH('【第9戦】決勝ヒート - レース正式結果表'!U$11,'[1]【第9戦】決勝ヒート - レース結果（貼付）'!$1:$1,0)),"")=0,"",IFERROR(INDEX('[1]【第9戦】決勝ヒート - レース結果（貼付）'!$A:$Z,MATCH($B25,'[1]【第9戦】決勝ヒート - レース結果（貼付）'!$B:$B,0),MATCH('【第9戦】決勝ヒート - レース正式結果表'!U$11,'[1]【第9戦】決勝ヒート - レース結果（貼付）'!$1:$1,0)),"")) -> 99.91
A26: =IF(OR('[1]【第9戦】決勝ヒート - レース結果（貼付）'!A15="DNF",'[1]【第9戦】決勝ヒート - レース結果（貼付）'!A15="DNS",'[1]【第9戦】決勝ヒート - レース結果（貼付）'!A15="DQ"),'[1]【第9戦】決勝ヒート - レース結果（貼付）'!A15,IF(MAX('[1]【第9戦】決勝ヒート - レース結果（貼付）'!A:A)>A25,A25+1,"")) -> 14 | B26: =IFERROR(INDEX('[1]【第9戦】決勝ヒート - レース結果（貼付）'!A15:$Z$50,MATCH($A26,'[1]【第9戦】決勝ヒート - レース結果（貼付）'!A15:$A$50,0),MATCH('【第9戦】決勝ヒート - レース正式結果表'!B$11,'[1]【第9戦】決勝ヒート - レース結果（貼付）'!$1:$1,0)),"") -> 89 | E26: =IFERROR(INDEX('[1]【第9戦】決勝ヒート - レース結果（貼付）'!$A:$Z,MATCH($B26,'[1]【第9戦】決勝ヒート - レース結果（貼付）'!$B:$B,0),MATCH('【第9戦】決勝ヒート - レース正式結果表'!E$11,'[1]【第9戦】決勝ヒート - レース結果（貼付）'!$1:$1,0)),"") -> 加藤 大翔 | F26: =IFERROR(INDEX('[1]【第9戦】決勝ヒート - レース結果（貼付）'!$A:$Z,MATCH($B26,'[1]【第9戦】決勝ヒート - レース結果（貼付）'!$B:$B,0),MATCH('【第9戦】決勝ヒート - レース正式結果表'!F$11,'[1]【第9戦】決勝ヒート - レース結果（貼付）'!$1:$1,0)),"") -> KR/TM | G26: =IFERROR(INDEX('[1]【第9戦】決勝ヒート - レース結果（貼付）'!$A:$Z,MATCH($B26,'[1]【第9戦】決勝ヒート - レース結果（貼付）'!$B:$B,0),MATCH('【第9戦】決勝ヒート - レース正式結果表'!G$11,'[1]【第9戦】決勝ヒート - レース結果（貼付）'!$1:$1,0)),"") -> PONOS HIROTEX RACING | H26: =IFERROR(INDEX('[1]【第9戦】決勝ヒート - レース結果（貼付）'!$A:$Z,MATCH($B26,'[1]【第9戦】決勝ヒート - レース結果（貼付）'!$B:$B,0),MATCH('【第9戦】決勝ヒート - レース正式結果表'!H$11,'[1]【第9戦】決勝ヒート - レース結果（貼付）'!$1:$1,0)),"") -> YH | I26: =IF(A26="DNS","",IF(A26="DQ","",IFERROR(INDEX('[1]【第9戦】決勝ヒート - レース結果（貼付）'!$A:$Z,MATCH($A26,'[1]【第9戦】決勝ヒート - レース結果（貼付）'!$A:$A,0),MATCH('【第9戦】決勝ヒート - レース正式結果表'!I$11,'[1]【第9戦】決勝ヒート - レース結果（貼付）'!$1:$1,0)),""))) -> 24 | J26: =IF(A26="DNS","ｽﾀｰﾄ出来ず",IF(A26="DQ","失 格",IFERROR(INDEX('[1]【第9戦】決勝ヒート - レース結果（貼付）'!$A:$Z,MATCH($B26,'[1]【第9戦】決勝ヒート - レース結果（貼付）'!$B:$B,0),MATCH('【第9戦】決勝ヒート - レース正式結果表'!J$11,'[1]【第9戦】決勝ヒート - レース結果（貼付）'!$1:$1,0)),""))) -> 0.012842512 | K26: =IF(A26="DNS","",IF(A26="DQ","",IFERROR(INDEX('[1]【第9戦】決勝ヒート - レース結果（貼付）'!$A:$Z,MATCH($A26,'[1]【第9戦】決勝ヒート - レース結果（貼付）'!$A:$A,0),MATCH('【第9戦】決勝ヒート - レース正式結果表'!K$11,'[1]【第9戦】決勝ヒート - レース結果（貼付）'!$1:$1,0)),""))) -> 8.593 | L26: =IF(A26="DNS","",IF(A26="DQ","",IFERROR(INDEX('[1]【第9戦】決勝ヒート - レース結果（貼付）'!$A:$Z,MATCH($A26,'[1]【第9戦】決勝ヒート - レース結果（貼付）'!$A:$A,0),MATCH('【第9戦】決勝ヒート - レース正式結果表'!L$11,'[1]【第9戦】決勝ヒート - レース結果（貼付）'!$1:$1,0)),""))) -> 0.295 | M26: =IF(A26="DNS","",IF(A26="DQ","",IFERROR(INDEX('[1]【第9戦】決勝ヒート - レース結果（貼付）'!$A:$Z,MATCH($B26,'[1]【第9戦】決勝ヒート - レース結果（貼付）'!$B:$B,0),MATCH('【第9戦】決勝ヒート - レース正式結果表'!M$11,'[1]【第9戦】決勝ヒート - レース結果（貼付）'!$1:$1,0)),""))) -> 45.56 | N26: =IF(M26<1,"",IF($N$11>M26,"R","")) | Q26: =IF(IFERROR(INDEX('[1]【第9戦】決勝ヒート - レース結果（貼付）'!$A:$Z,MATCH($B26,'[1]【第9戦】決勝ヒート - レース結果（貼付）'!$B:$B,0),MATCH('【第9戦】決勝ヒート - レース正式結果表'!Q$11,'[1]【第9戦】決勝ヒート - レース結果（貼付）'!$1:$1,0)),"")=0,"",IFERROR(INDEX('[1]【第9戦】決勝ヒート - レース結果（貼付）'!$A:$Z,MATCH($B26,'[1]【第9戦】決勝ヒート - レース結果（貼付）'!$B:$B,0),MATCH('【第9戦】決勝ヒート - レース正式結果表'!Q$11,'[1]【第9戦】決勝ヒート - レース結果（貼付）'!$1:$1,0)),"")) | R26: =IF(Q26="","",COUNTIF($Q$13:Q26,"<>"&"")) | S26: =IFERROR(RANK(R26,$R$13:$R$47,1),"") | T26: =IF(IFERROR(INDEX('[1]【第9戦】決勝ヒート - レース結果（貼付）'!$A:$Z,MATCH($A26,'[1]【第9戦】決勝ヒート - レース結果（貼付）'!$A:$A,0),MATCH('【第9戦】決勝ヒート - レース正式結果表'!T$11,'[1]【第9戦】決勝ヒート - レース結果（貼付）'!$1:$1,0)),"")=0,"",IFERROR(INDEX('[1]【第9戦】決勝ヒート - レース結果（貼付）'!$A:$Z,MATCH($A26,'[1]【第9戦】決勝ヒート - レース結果（貼付）'!$A:$A,0),MATCH('【第9戦】決勝ヒート - レース正式結果表'!T$11,'[1]【第9戦】決勝ヒート - レース結果（貼付）'!$1:$1,0)),"")) | U26: =IF(IFERROR(INDEX('[1]【第9戦】決勝ヒート - レース結果（貼付）'!$A:$Z,MATCH($B26,'[1]【第9戦】決勝ヒート - レース結果（貼付）'!$B:$B,0),MATCH('【第9戦】決勝ヒート - レース正式結果表'!U$11,'[1]【第9戦】決勝ヒート - レース結果（貼付）'!$1:$1,0)),"")=0,"",IFERROR(INDEX('[1]【第9戦】決勝ヒート - レース結果（貼付）'!$A:$Z,MATCH($B26,'[1]【第9戦】決勝ヒート - レース結果（貼付）'!$B:$B,0),MATCH('【第9戦】決勝ヒート - レース正式結果表'!U$11,'[1]【第9戦】決勝ヒート - レース結果（貼付）'!$1:$1,0)),"")) -> 99.473
A27: =IF(OR('[1]【第9戦】決勝ヒート - レース結果（貼付）'!A16="DNF",'[1]【第9戦】決勝ヒート - レース結果（貼付）'!A16="DNS",'[1]【第9戦】決勝ヒート - レース結果（貼付）'!A16="DQ"),'[1]【第9戦】決勝ヒート - レース結果（貼付）'!A16,IF(MAX('[1]【第9戦】決勝ヒート - レース結果（貼付）'!A:A)>A26,A26+1,"")) -> 15 | B27: =IFERROR(INDEX('[1]【第9戦】決勝ヒート - レース結果（貼付）'!A16:$Z$50,MATCH($A27,'[1]【第9戦】決勝ヒート - レース結果（貼付）'!A16:$A$50,0),MATCH('【第9戦】決勝ヒート - レース正式結果表'!B$11,'[1]【第9戦】決勝ヒート - レース結果（貼付）'!$1:$1,0)),"") -> 51 | E27: =IFERROR(INDEX('[1]【第9戦】決勝ヒート - レース結果（貼付）'!$A:$Z,MATCH($B27,'[1]【第9戦】決勝ヒート - レース結果（貼付）'!$B:$B,0),MATCH('【第9戦】決勝ヒート - レース正式結果表'!E$11,'[1]【第9戦】決勝ヒート - レース結果（貼付）'!$1:$1,0)),"") -> 堂園 鷲 | F27: =IFERROR(INDEX('[1]【第9戦】決勝ヒート - レース結果（貼付）'!$A:$Z,MATCH($B27,'[1]【第9戦】決勝ヒート - レース結果（貼付）'!$B:$B,0),MATCH('【第9戦】決勝ヒート - レース正式結果表'!F$11,'[1]【第9戦】決勝ヒート - レース結果（貼付）'!$1:$1,0)),"") -> ENERGY CORCE/TM | G27: =IFERROR(INDEX('[1]【第9戦】決勝ヒート - レース結果（貼付）'!$A:$Z,MATCH($B27,'[1]【第9戦】決勝ヒート - レース結果（貼付）'!$B:$B,0),MATCH('【第9戦】決勝ヒート - レース正式結果表'!G$11,'[1]【第9戦】決勝ヒート - レース結果（貼付）'!$1:$1,0)),"") -> ENERGY JAPAN | H27: =IFERROR(INDEX('[1]【第9戦】決勝ヒート - レース結果（貼付）'!$A:$Z,MATCH($B27,'[1]【第9戦】決勝ヒート - レース結果（貼付）'!$B:$B,0),MATCH('【第9戦】決勝ヒート - レース正式結果表'!H$11,'[1]【第9戦】決勝ヒート - レース結果（貼付）'!$1:$1,0)),"") -> BS | I27: =IF(A27="DNS","",IF(A27="DQ","",IFERROR(INDEX('[1]【第9戦】決勝ヒート - レース結果（貼付）'!$A:$Z,MATCH($A27,'[1]【第9戦】決勝ヒート - レース結果（貼付）'!$A:$A,0),MATCH('【第9戦】決勝ヒート - レース正式結果表'!I$11,'[1]【第9戦】決勝ヒート - レース結果（貼付）'!$1:$1,0)),""))) -> 24 | J27: =IF(A27="DNS","ｽﾀｰﾄ出来ず",IF(A27="DQ","失 格",IFERROR(INDEX('[1]【第9戦】決勝ヒート - レース結果（貼付）'!$A:$Z,MATCH($B27,'[1]【第9戦】決勝ヒート - レース結果（貼付）'!$B:$B,0),MATCH('【第9戦】決勝ヒート - レース正式結果表'!J$11,'[1]【第9戦】決勝ヒート - レース結果（貼付）'!$1:$1,0)),""))) -> 0.012853553 | K27: =IF(A27="DNS","",IF(A27="DQ","",IFERROR(INDEX('[1]【第9戦】決勝ヒート - レース結果（貼付）'!$A:$Z,MATCH($A27,'[1]【第9戦】決勝ヒート - レース結果（貼付）'!$A:$A,0),MATCH('【第9戦】決勝ヒート - レース正式結果表'!K$11,'[1]【第9戦】決勝ヒート - レース結果（貼付）'!$1:$1,0)),""))) -> 9.547 | L27: =IF(A27="DNS","",IF(A27="DQ","",IFERROR(INDEX('[1]【第9戦】決勝ヒート - レース結果（貼付）'!$A:$Z,MATCH($A27,'[1]【第9戦】決勝ヒート - レース結果（貼付）'!$A:$A,0),MATCH('【第9戦】決勝ヒート - レース正式結果表'!L$11,'[1]【第9戦】決勝ヒート - レース結果（貼付）'!$1:$1,0)),""))) -> 0.954 | M27: =IF(A27="DNS","",IF(A27="DQ","",IFERROR(INDEX('[1]【第9戦】決勝ヒート - レース結果（貼付）'!$A:$Z,MATCH($B27,'[1]【第9戦】決勝ヒート - レース結果（貼付）'!$B:$B,0),MATCH('【第9戦】決勝ヒート - レース正式結果表'!M$11,'[1]【第9戦】決勝ヒート - レース結果（貼付）'!$1:$1,0)),""))) -> 45.059 | N27: =IF(M27<1,"",IF($N$11>M27,"R","")) -> R | Q27: =IF(IFERROR(INDEX('[1]【第9戦】決勝ヒート - レース結果（貼付）'!$A:$Z,MATCH($B27,'[1]【第9戦】決勝ヒート - レース結果（貼付）'!$B:$B,0),MATCH('【第9戦】決勝ヒート - レース正式結果表'!Q$11,'[1]【第9戦】決勝ヒート - レース結果（貼付）'!$1:$1,0)),"")=0,"",IFERROR(INDEX('[1]【第9戦】決勝ヒート - レース結果（貼付）'!$A:$Z,MATCH($B27,'[1]【第9戦】決勝ヒート - レース結果（貼付）'!$B:$B,0),MATCH('【第9戦】決勝ヒート - レース正式結果表'!Q$11,'[1]【第9戦】決勝ヒート - レース結果（貼付）'!$1:$1,0)),"")) -> JAF国内ｶｰﾄ競技規則 ｶｰﾄ競技会運営に関する規定 22条(妨害の禁止(プッシング・ブロッキング))違反により、10秒加算とした。 | R27: =IF(Q27="","",COUNTIF($Q$13:Q27,"<>"&"")) -> 15 | S27: =IFERROR(RANK(R27,$R$13:$R$47,1),"") -> 2 | T27: =IF(IFERROR(INDEX('[1]【第9戦】決勝ヒート - レース結果（貼付）'!$A:$Z,MATCH($A27,'[1]【第9戦】決勝ヒート - レース結果（貼付）'!$A:$A,0),MATCH('【第9戦】決勝ヒート - レース正式結果表'!T$11,'[1]【第9戦】決勝ヒート - レース結果（貼付）'!$1:$1,0)),"")=0,"",IFERROR(INDEX('[1]【第9戦】決勝ヒート - レース結果（貼付）'!$A:$Z,MATCH($A27,'[1]【第9戦】決勝ヒート - レース結果（貼付）'!$A:$A,0),MATCH('【第9戦】決勝ヒート - レース正式結果表'!T$11,'[1]【第9戦】決勝ヒート - レース結果（貼付）'!$1:$1,0)),"")) | U27: =IF(IFERROR(INDEX('[1]【第9戦】決勝ヒート - レース結果（貼付）'!$A:$Z,MATCH($B27,'[1]【第9戦】決勝ヒート - レース結果（貼付）'!$B:$B,0),MATCH('【第9戦】決勝ヒート - レース正式結果表'!U$11,'[1]【第9戦】決勝ヒート - レース結果（貼付）'!$1:$1,0)),"")=0,"",IFERROR(INDEX('[1]【第9戦】決勝ヒート - レース結果（貼付）'!$A:$Z,MATCH($B27,'[1]【第9戦】決勝ヒート - レース結果（貼付）'!$B:$B,0),MATCH('【第9戦】決勝ヒート - レース正式結果表'!U$11,'[1]【第9戦】決勝ヒート - レース結果（貼付）'!$1:$1,0)),"")) -> 99.877
A28: =IF(OR('[1]【第9戦】決勝ヒート - レース結果（貼付）'!A17="DNF",'[1]【第9戦】決勝ヒート - レース結果（貼付）'!A17="DNS",'[1]【第9戦】決勝ヒート - レース結果（貼付）'!A17="DQ"),'[1]【第9戦】決勝ヒート - レース結果（貼付）'!A17,IF(MAX('[1]【第9戦】決勝ヒート - レース結果（貼付）'!A:A)>A27,A27+1,"")) -> 16 | B28: =IFERROR(INDEX('[1]【第9戦】決勝ヒート - レース結果（貼付）'!A17:$Z$50,MATCH($A28,'[1]【第9戦】決勝ヒート - レース結果（貼付）'!A17:$A$50,0),MATCH('【第9戦】決勝ヒート - レース正式結果表'!B$11,'[1]【第9戦】決勝ヒート - レース結果（貼付）'!$1:$1,0)),"") -> 12 | E28: =IFERROR(INDEX('[1]【第9戦】決勝ヒート - レース結果（貼付）'!$A:$Z,MATCH($B28,'[1]【第9戦】決勝ヒート - レース結果（貼付）'!$B:$B,0),MATCH('【第9戦】決勝ヒート - レース正式結果表'!E$11,'[1]【第9戦】決勝ヒート - レース結果（貼付）'!$1:$1,0)),"") -> 上野 晴紀 | F28: =IFERROR(INDEX('[1]【第9戦】決勝ヒート - レース結果（貼付）'!$A:$Z,MATCH($B28,'[1]【第9戦】決勝ヒート - レース結果（貼付）'!$B:$B,0),MATCH('【第9戦】決勝ヒート - レース正式結果表'!F$11,'[1]【第9戦】決勝ヒート - レース結果（貼付）'!$1:$1,0)),"") -> Birel ART/IAME | G28: =IFERROR(INDEX('[1]【第9戦】決勝ヒート - レース結果（貼付）'!$A:$Z,MATCH($B28,'[1]【第9戦】決勝ヒート - レース結果（貼付）'!$B:$B,0),MATCH('【第9戦】決勝ヒート - レース正式結果表'!G$11,'[1]【第9戦】決勝ヒート - レース結果（貼付）'!$1:$1,0)),"") -> BirelART Access Racing | H28: =IFERROR(INDEX('[1]【第9戦】決勝ヒート - レース結果（貼付）'!$A:$Z,MATCH($B28,'[1]【第9戦】決勝ヒート - レース結果（貼付）'!$B:$B,0),MATCH('【第9戦】決勝ヒート - レース正式結果表'!H$11,'[1]【第9戦】決勝ヒート - レース結果（貼付）'!$1:$1,0)),"") -> BS | I28: =IF(A28="DNS","",IF(A28="DQ","",IFERROR(INDEX('[1]【第9戦】決勝ヒート - レース結果（貼付）'!$A:$Z,MATCH($A28,'[1]【第9戦】決勝ヒート - レース結果（貼付）'!$A:$A,0),MATCH('【第9戦】決勝ヒート - レース正式結果表'!I$11,'[1]【第9戦】決勝ヒート - レース結果（貼付）'!$1:$1,0)),""))) -> 24 | J28: =IF(A28="DNS","ｽﾀｰﾄ出来ず",IF(A28="DQ","失 格",IFERROR(INDEX('[1]【第9戦】決勝ヒート - レース結果（貼付）'!$A:$Z,MATCH($B28,'[1]【第9戦】決勝ヒート - レース結果（貼付）'!$B:$B,0),MATCH('【第9戦】決勝ヒート - レース正式結果表'!J$11,'[1]【第9戦】決勝ヒート - レース結果（貼付）'!$1:$1,0)),""))) -> 0.012860162 | K28: =IF(A28="DNS","",IF(A28="DQ","",IFERROR(INDEX('[1]【第9戦】決勝ヒート - レース結果（貼付）'!$A:$Z,MATCH($A28,'[1]【第9戦】決勝ヒート - レース結果（貼付）'!$A:$A,0),MATCH('【第9戦】決勝ヒート - レース正式結果表'!K$11,'[1]【第9戦】決勝ヒート - レース結果（貼付）'!$1:$1,0)),""))) -> 10.118 | L28: =IF(A28="DNS","",IF(A28="DQ","",IFERROR(INDEX('[1]【第9戦】決勝ヒート - レース結果（貼付）'!$A:$Z,MATCH($A28,'[1]【第9戦】決勝ヒート - レース結果（貼付）'!$A:$A,0),MATCH('【第9戦】決勝ヒート - レース正式結果表'!L$11,'[1]【第9戦】決勝ヒート - レース結果（貼付）'!$1:$1,0)),""))) -> 0.571 | M28: =IF(A28="DNS","",IF(A28="DQ","",IFERROR(INDEX('[1]【第9戦】決勝ヒート - レース結果（貼付）'!$A:$Z,MATCH($B28,'[1]【第9戦】決勝ヒート - レース結果（貼付）'!$B:$B,0),MATCH('【第9戦】決勝ヒート - レース正式結果表'!M$11,'[1]【第9戦】決勝ヒート - レース結果（貼付）'!$1:$1,0)),""))) -> 45.593 | N28: =IF(M28<1,"",IF($N$11>M28,"R","")) | Q28: =IF(IFERROR(INDEX('[1]【第9戦】決勝ヒート - レース結果（貼付）'!$A:$Z,MATCH($B28,'[1]【第9戦】決勝ヒート - レース結果（貼付）'!$B:$B,0),MATCH('【第9戦】決勝ヒート - レース正式結果表'!Q$11,'[1]【第9戦】決勝ヒート - レース結果（貼付）'!$1:$1,0)),"")=0,"",IFERROR(INDEX('[1]【第9戦】決勝ヒート - レース結果（貼付）'!$A:$Z,MATCH($B28,'[1]【第9戦】決勝ヒート - レース結果（貼付）'!$B:$B,0),MATCH('【第9戦】決勝ヒート - レース正式結果表'!Q$11,'[1]【第9戦】決勝ヒート - レース結果（貼付）'!$1:$1,0)),"")) | R28: =IF(Q28="","",COUNTIF($Q$13:Q28,"<>"&"")) | S28: =IFERROR(RANK(R28,$R$13:$R$47,1),"") | T28: =IF(IFERROR(INDEX('[1]【第9戦】決勝ヒート - レース結果（貼付）'!$A:$Z,MATCH($A28,'[1]【第9戦】決勝ヒート - レース結果（貼付）'!$A:$A,0),MATCH('【第9戦】決勝ヒート - レース正式結果表'!T$11,'[1]【第9戦】決勝ヒート - レース結果（貼付）'!$1:$1,0)),"")=0,"",IFERROR(INDEX('[1]【第9戦】決勝ヒート - レース結果（貼付）'!$A:$Z,MATCH($A28,'[1]【第9戦】決勝ヒート - レース結果（貼付）'!$A:$A,0),MATCH('【第9戦】決勝ヒート - レース正式結果表'!T$11,'[1]【第9戦】決勝ヒート - レース結果（貼付）'!$1:$1,0)),"")) | U28: =IF(IFERROR(INDEX('[1]【第9戦】決勝ヒート - レース結果（貼付）'!$A:$Z,MATCH($B28,'[1]【第9戦】決勝ヒート - レース結果（貼付）'!$B:$B,0),MATCH('【第9戦】決勝ヒート - レース正式結果表'!U$11,'[1]【第9戦】決勝ヒート - レース結果（貼付）'!$1:$1,0)),"")=0,"",IFERROR(INDEX('[1]【第9戦】決勝ヒート - レース結果（貼付）'!$A:$Z,MATCH($B28,'[1]【第9戦】決勝ヒート - レース結果（貼付）'!$B:$B,0),MATCH('【第9戦】決勝ヒート - レース正式結果表'!U$11,'[1]【第9戦】決勝ヒート - レース結果（貼付）'!$1:$1,0)),"")) -> 99.805
A29: =IF(OR('[1]【第9戦】決勝ヒート - レース結果（貼付）'!A18="DNF",'[1]【第9戦】決勝ヒート - レース結果（貼付）'!A18="DNS",'[1]【第9戦】決勝ヒート - レース結果（貼付）'!A18="DQ"),'[1]【第9戦】決勝ヒート - レース結果（貼付）'!A18,IF(MAX('[1]【第9戦】決勝ヒート - レース結果（貼付）'!A:A)>A28,A28+1,"")) -> 17 | B29: =IFERROR(INDEX('[1]【第9戦】決勝ヒート - レース結果（貼付）'!A18:$Z$50,MATCH($A29,'[1]【第9戦】決勝ヒート - レース結果（貼付）'!A18:$A$50,0),MATCH('【第9戦】決勝ヒート - レース正式結果表'!B$11,'[1]【第9戦】決勝ヒート - レース結果（貼付）'!$1:$1,0)),"") -> 3 | E29: =IFERROR(INDEX('[1]【第9戦】決勝ヒート - レース結果（貼付）'!$A:$Z,MATCH($B29,'[1]【第9戦】決勝ヒート - レース結果（貼付）'!$B:$B,0),MATCH('【第9戦】決勝ヒート - レース正式結果表'!E$11,'[1]【第9戦】決勝ヒート - レース結果（貼付）'!$1:$1,0)),"") -> 洞地 遼大 | F29: =IFERROR(INDEX('[1]【第9戦】決勝ヒート - レース結果（貼付）'!$A:$Z,MATCH($B29,'[1]【第9戦】決勝ヒート - レース結果（貼付）'!$B:$B,0),MATCH('【第9戦】決勝ヒート - レース正式結果表'!F$11,'[1]【第9戦】決勝ヒート - レース結果（貼付）'!$1:$1,0)),"") -> KR/TM | G29: =IFERROR(INDEX('[1]【第9戦】決勝ヒート - レース結果（貼付）'!$A:$Z,MATCH($B29,'[1]【第9戦】決勝ヒート - レース結果（貼付）'!$B:$B,0),MATCH('【第9戦】決勝ヒート - レース正式結果表'!G$11,'[1]【第9戦】決勝ヒート - レース結果（貼付）'!$1:$1,0)),"") -> PONOS HIROTEX RACING | H29: =IFERROR(INDEX('[1]【第9戦】決勝ヒート - レース結果（貼付）'!$A:$Z,MATCH($B29,'[1]【第9戦】決勝ヒート - レース結果（貼付）'!$B:$B,0),MATCH('【第9戦】決勝ヒート - レース正式結果表'!H$11,'[1]【第9戦】決勝ヒート - レース結果（貼付）'!$1:$1,0)),"") -> DL | I29: =IF(A29="DNS","",IF(A29="DQ","",IFERROR(INDEX('[1]【第9戦】決勝ヒート - レース結果（貼付）'!$A:$Z,MATCH($A29,'[1]【第9戦】決勝ヒート - レース結果（貼付）'!$A:$A,0),MATCH('【第9戦】決勝ヒート - レース正式結果表'!I$11,'[1]【第9戦】決勝ヒート - レース結果（貼付）'!$1:$1,0)),""))) -> 24 | J29: =IF(A29="DNS","ｽﾀｰﾄ出来ず",IF(A29="DQ","失 格",IFERROR(INDEX('[1]【第9戦】決勝ヒート - レース結果（貼付）'!$A:$Z,MATCH($B29,'[1]【第9戦】決勝ヒート - レース結果（貼付）'!$B:$B,0),MATCH('【第9戦】決勝ヒート - レース正式結果表'!J$11,'[1]【第9戦】決勝ヒート - レース結果（貼付）'!$1:$1,0)),""))) -> 0.012860405 | K29: =IF(A29="DNS","",IF(A29="DQ","",IFERROR(INDEX('[1]【第9戦】決勝ヒート - レース結果（貼付）'!$A:$Z,MATCH($A29,'[1]【第9戦】決勝ヒート - レース結果（貼付）'!$A:$A,0),MATCH('【第9戦】決勝ヒート - レース正式結果表'!K$11,'[1]【第9戦】決勝ヒート - レース結果（貼付）'!$1:$1,0)),""))) -> 10.139 | L29: =IF(A29="DNS","",IF(A29="DQ","",IFERROR(INDEX('[1]【第9戦】決勝ヒート - レース結果（貼付）'!$A:$Z,MATCH($A29,'[1]【第9戦】決勝ヒート - レース結果（貼付）'!$A:$A,0),MATCH('【第9戦】決勝ヒート - レース正式結果表'!L$11,'[1]【第9戦】決勝ヒート - レース結果（貼付）'!$1:$1,0)),""))) -> 0.021 | M29: =IF(A29="DNS","",IF(A29="DQ","",IFERROR(INDEX('[1]【第9戦】決勝ヒート - レース結果（貼付）'!$A:$Z,MATCH($B29,'[1]【第9戦】決勝ヒート - レース結果（貼付）'!$B:$B,0),MATCH('【第9戦】決勝ヒート - レース正式結果表'!M$11,'[1]【第9戦】決勝ヒート - レース結果（貼付）'!$1:$1,0)),""))) -> 45.785 | N29: =IF(M29<1,"",IF($N$11>M29,"R","")) | Q29: =IF(IFERROR(INDEX('[1]【第9戦】決勝ヒート - レース結果（貼付）'!$A:$Z,MATCH($B29,'[1]【第9戦】決勝ヒート - レース結果（貼付）'!$B:$B,0),MATCH('【第9戦】決勝ヒート - レース正式結果表'!Q$11,'[1]【第9戦】決勝ヒート - レース結果（貼付）'!$1:$1,0)),"")=0,"",IFERROR(INDEX('[1]【第9戦】決勝ヒート - レース結果（貼付）'!$A:$Z,MATCH($B29,'[1]【第9戦】決勝ヒート - レース結果（貼付）'!$B:$B,0),MATCH('【第9戦】決勝ヒート - レース正式結果表'!Q$11,'[1]【第9戦】決勝ヒート - レース結果（貼付）'!$1:$1,0)),"")) | R29: =IF(Q29="","",COUNTIF($Q$13:Q29,"<>"&"")) | S29: =IFERROR(RANK(R29,$R$13:$R$47,1),"") | T29: =IF(IFERROR(INDEX('[1]【第9戦】決勝ヒート - レース結果（貼付）'!$A:$Z,MATCH($A29,'[1]【第9戦】決勝ヒート - レース結果（貼付）'!$A:$A,0),MATCH('【第9戦】決勝ヒート - レース正式結果表'!T$11,'[1]【第9戦】決勝ヒート - レース結果（貼付）'!$1:$1,0)),"")=0,"",IFERROR(INDEX('[1]【第9戦】決勝ヒート - レース結果（貼付）'!$A:$Z,MATCH($A29,'[1]【第9戦】決勝ヒート - レース結果（貼付）'!$A:$A,0),MATCH('【第9戦】決勝ヒート - レース正式結果表'!T$11,'[1]【第9戦】決勝ヒート - レース結果（貼付）'!$1:$1,0)),"")) | U29: =IF(IFERROR(INDEX('[1]【第9戦】決勝ヒート - レース結果（貼付）'!$A:$Z,MATCH($B29,'[1]【第9戦】決勝ヒート - レース結果（貼付）'!$B:$B,0),MATCH('【第9戦】決勝ヒート - レース正式結果表'!U$11,'[1]【第9戦】決勝ヒート - レース結果（貼付）'!$1:$1,0)),"")=0,"",IFERROR(INDEX('[1]【第9戦】決勝ヒート - レース結果（貼付）'!$A:$Z,MATCH($B29,'[1]【第9戦】決勝ヒート - レース結果（貼付）'!$B:$B,0),MATCH('【第9戦】決勝ヒート - レース正式結果表'!U$11,'[1]【第9戦】決勝ヒート - レース結果（貼付）'!$1:$1,0)),"")) -> 99.386
A30: =IF(OR('[1]【第9戦】決勝ヒート - レース結果（貼付）'!A19="DNF",'[1]【第9戦】決勝ヒート - レース結果（貼付）'!A19="DNS",'[1]【第9戦】決勝ヒート - レース結果（貼付）'!A19="DQ"),'[1]【第9戦】決勝ヒート - レース結果（貼付）'!A19,IF(MAX('[1]【第9戦】決勝ヒート - レース結果（貼付）'!A:A)>A29,A29+1,"")) -> 18 | B30: =IFERROR(INDEX('[1]【第9戦】決勝ヒート - レース結果（貼付）'!A19:$Z$50,MATCH($A30,'[1]【第9戦】決勝ヒート - レース結果（貼付）'!A19:$A$50,0),MATCH('【第9戦】決勝ヒート - レース正式結果表'!B$11,'[1]【第9戦】決勝ヒート - レース結果（貼付）'!$1:$1,0)),"") -> 55 | E30: =IFERROR(INDEX('[1]【第9戦】決勝ヒート - レース結果（貼付）'!$A:$Z,MATCH($B30,'[1]【第9戦】決勝ヒート - レース結果（貼付）'!$B:$B,0),MATCH('【第9戦】決勝ヒート - レース正式結果表'!E$11,'[1]【第9戦】決勝ヒート - レース結果（貼付）'!$1:$1,0)),"") -> 藤井 翔大 | F30: =IFERROR(INDEX('[1]【第9戦】決勝ヒート - レース結果（貼付）'!$A:$Z,MATCH($B30,'[1]【第9戦】決勝ヒート - レース結果（貼付）'!$B:$B,0),MATCH('【第9戦】決勝ヒート - レース正式結果表'!F$11,'[1]【第9戦】決勝ヒート - レース結果（貼付）'!$1:$1,0)),"") -> Drago CORSE/TM | G30: =IFERROR(INDEX('[1]【第9戦】決勝ヒート - レース結果（貼付）'!$A:$Z,MATCH($B30,'[1]【第9戦】決勝ヒート - レース結果（貼付）'!$B:$B,0),MATCH('【第9戦】決勝ヒート - レース正式結果表'!G$11,'[1]【第9戦】決勝ヒート - レース結果（貼付）'!$1:$1,0)),"") -> Croc Promotion | H30: =IFERROR(INDEX('[1]【第9戦】決勝ヒート - レース結果（貼付）'!$A:$Z,MATCH($B30,'[1]【第9戦】決勝ヒート - レース結果（貼付）'!$B:$B,0),MATCH('【第9戦】決勝ヒート - レース正式結果表'!H$11,'[1]【第9戦】決勝ヒート - レース結果（貼付）'!$1:$1,0)),"") -> BS | I30: =IF(A30="DNS","",IF(A30="DQ","",IFERROR(INDEX('[1]【第9戦】決勝ヒート - レース結果（貼付）'!$A:$Z,MATCH($A30,'[1]【第9戦】決勝ヒート - レース結果（貼付）'!$A:$A,0),MATCH('【第9戦】決勝ヒート - レース正式結果表'!I$11,'[1]【第9戦】決勝ヒート - レース結果（貼付）'!$1:$1,0)),""))) -> 24 | J30: =IF(A30="DNS","ｽﾀｰﾄ出来ず",IF(A30="DQ","失 格",IFERROR(INDEX('[1]【第9戦】決勝ヒート - レース結果（貼付）'!$A:$Z,MATCH($B30,'[1]【第9戦】決勝ヒート - レース結果（貼付）'!$B:$B,0),MATCH('【第9戦】決勝ヒート - レース正式結果表'!J$11,'[1]【第9戦】決勝ヒート - レース結果（貼付）'!$1:$1,0)),""))) -> 0.012865463 | K30: =IF(A30="DNS","",IF(A30="DQ","",IFERROR(INDEX('[1]【第9戦】決勝ヒート - レース結果（貼付）'!$A:$Z,MATCH($A30,'[1]【第9戦】決勝ヒート - レース結果（貼付）'!$A:$A,0),MATCH('【第9戦】決勝ヒート - レース正式結果表'!K$11,'[1]【第9戦】決勝ヒート - レース結果（貼付）'!$1:$1,0)),""))) -> 10.576 | L30: =IF(A30="DNS","",IF(A30="DQ","",IFERROR(INDEX('[1]【第9戦】決勝ヒート - レース結果（貼付）'!$A:$Z,MATCH($A30,'[1]【第9戦】決勝ヒート - レース結果（貼付）'!$A:$A,0),MATCH('【第9戦】決勝ヒート - レース正式結果表'!L$11,'[1]【第9戦】決勝ヒート - レース結果（貼付）'!$1:$1,0)),""))) -> 0.437 | M30: =IF(A30="DNS","",IF(A30="DQ","",IFERROR(INDEX('[1]【第9戦】決勝ヒート - レース結果（貼付）'!$A:$Z,MATCH($B30,'[1]【第9戦】決勝ヒート - レース結果（貼付）'!$B:$B,0),MATCH('【第9戦】決勝ヒート - レース正式結果表'!M$11,'[1]【第9戦】決勝ヒート - レース結果（貼付）'!$1:$1,0)),""))) -> 45.413 | N30: =IF(M30<1,"",IF($N$11>M30,"R","")) | Q30: =IF(IFERROR(INDEX('[1]【第9戦】決勝ヒート - レース結果（貼付）'!$A:$Z,MATCH($B30,'[1]【第9戦】決勝ヒート - レース結果（貼付）'!$B:$B,0),MATCH('【第9戦】決勝ヒート - レース正式結果表'!Q$11,'[1]【第9戦】決勝ヒート - レース結果（貼付）'!$1:$1,0)),"")=0,"",IFERROR(INDEX('[1]【第9戦】決勝ヒート - レース結果（貼付）'!$A:$Z,MATCH($B30,'[1]【第9戦】決勝ヒート - レース結果（貼付）'!$B:$B,0),MATCH('【第9戦】決勝ヒート - レース正式結果表'!Q$11,'[1]【第9戦】決勝ヒート - レース結果（貼付）'!$1:$1,0)),"")) | R30: =IF(Q30="","",COUNTIF($Q$13:Q30,"<>"&"")) | S30: =IFERROR(RANK(R30,$R$13:$R$47,1),"") | T30: =IF(IFERROR(INDEX('[1]【第9戦】決勝ヒート - レース結果（貼付）'!$A:$Z,MATCH($A30,'[1]【第9戦】決勝ヒート - レース結果（貼付）'!$A:$A,0),MATCH('【第9戦】決勝ヒート - レース正式結果表'!T$11,'[1]【第9戦】決勝ヒート - レース結果（貼付）'!$1:$1,0)),"")=0,"",IFERROR(INDEX('[1]【第9戦】決勝ヒート - レース結果（貼付）'!$A:$Z,MATCH($A30,'[1]【第9戦】決勝ヒート - レース結果（貼付）'!$A:$A,0),MATCH('【第9戦】決勝ヒート - レース正式結果表'!T$11,'[1]【第9戦】決勝ヒート - レース結果（貼付）'!$1:$1,0)),"")) | U30: =IF(IFERROR(INDEX('[1]【第9戦】決勝ヒート - レース結果（貼付）'!$A:$Z,MATCH($B30,'[1]【第9戦】決勝ヒート - レース結果（貼付）'!$B:$B,0),MATCH('【第9戦】決勝ヒート - レース正式結果表'!U$11,'[1]【第9戦】決勝ヒート - レース結果（貼付）'!$1:$1,0)),"")=0,"",IFERROR(INDEX('[1]【第9戦】決勝ヒート - レース結果（貼付）'!$A:$Z,MATCH($B30,'[1]【第9戦】決勝ヒート - レース結果（貼付）'!$B:$B,0),MATCH('【第9戦】決勝ヒート - レース正式結果表'!U$11,'[1]【第9戦】決勝ヒート - レース結果（貼付）'!$1:$1,0)),"")) -> 100.2
A31: =IF(OR('[1]【第9戦】決勝ヒート - レース結果（貼付）'!A20="DNF",'[1]【第9戦】決勝ヒート - レース結果（貼付）'!A20="DNS",'[1]【第9戦】決勝ヒート - レース結果（貼付）'!A20="DQ"),'[1]【第9戦】決勝ヒート - レース結果（貼付）'!A20,IF(MAX('[1]【第9戦】決勝ヒート - レース結果（貼付）'!A:A)>A30,A30+1,"")) -> 19 | B31: =IFERROR(INDEX('[1]【第9戦】決勝ヒート - レース結果（貼付）'!A20:$Z$50,MATCH($A31,'[1]【第9戦】決勝ヒート - レース結果（貼付）'!A20:$A$50,0),MATCH('【第9戦】決勝ヒート - レース正式結果表'!B$11,'[1]【第9戦】決勝ヒート - レース結果（貼付）'!$1:$1,0)),"") -> 64 | E31: =IFERROR(INDEX('[1]【第9戦】決勝ヒート - レース結果（貼付）'!$A:$Z,MATCH($B31,'[1]【第9戦】決勝ヒート - レース結果（貼付）'!$B:$B,0),MATCH('【第9戦】決勝ヒート - レース正式結果表'!E$11,'[1]【第9戦】決勝ヒート - レース結果（貼付）'!$1:$1,0)),"") -> 井本 大雅 | F31: =IFERROR(INDEX('[1]【第9戦】決勝ヒート - レース結果（貼付）'!$A:$Z,MATCH($B31,'[1]【第9戦】決勝ヒート - レース結果（貼付）'!$B:$B,0),MATCH('【第9戦】決勝ヒート - レース正式結果表'!F$11,'[1]【第9戦】決勝ヒート - レース結果（貼付）'!$1:$1,0)),"") -> CL/IAME | G31: =IFERROR(INDEX('[1]【第9戦】決勝ヒート - レース結果（貼付）'!$A:$Z,MATCH($B31,'[1]【第9戦】決勝ヒート - レース結果（貼付）'!$B:$B,0),MATCH('【第9戦】決勝ヒート - レース正式結果表'!G$11,'[1]【第9戦】決勝ヒート - レース結果（貼付）'!$1:$1,0)),"") -> CUORE | H31: =IFERROR(INDEX('[1]【第9戦】決勝ヒート - レース結果（貼付）'!$A:$Z,MATCH($B31,'[1]【第9戦】決勝ヒート - レース結果（貼付）'!$B:$B,0),MATCH('【第9戦】決勝ヒート - レース正式結果表'!H$11,'[1]【第9戦】決勝ヒート - レース結果（貼付）'!$1:$1,0)),"") -> DL | I31: =IF(A31="DNS","",IF(A31="DQ","",IFERROR(INDEX('[1]【第9戦】決勝ヒート - レース結果（貼付）'!$A:$Z,MATCH($A31,'[1]【第9戦】決勝ヒート - レース結果（貼付）'!$A:$A,0),MATCH('【第9戦】決勝ヒート - レース正式結果表'!I$11,'[1]【第9戦】決勝ヒート - レース結果（貼付）'!$1:$1,0)),""))) -> 24 | J31: =IF(A31="DNS","ｽﾀｰﾄ出来ず",IF(A31="DQ","失 格",IFERROR(INDEX('[1]【第9戦】決勝ヒート - レース結果（貼付）'!$A:$Z,MATCH($B31,'[1]【第9戦】決勝ヒート - レース結果（貼付）'!$B:$B,0),MATCH('【第9戦】決勝ヒート - レース正式結果表'!J$11,'[1]【第9戦】決勝ヒート - レース結果（貼付）'!$1:$1,0)),""))) -> 0.012868958 | K31: =IF(A31="DNS","",IF(A31="DQ","",IFERROR(INDEX('[1]【第9戦】決勝ヒート - レース結果（貼付）'!$A:$Z,MATCH($A31,'[1]【第9戦】決勝ヒート - レース結果（貼付）'!$A:$A,0),MATCH('【第9戦】決勝ヒート - レース正式結果表'!K$11,'[1]【第9戦】決勝ヒート - レース結果（貼付）'!$1:$1,0)),""))) -> 10.878 | L31: =IF(A31="DNS","",IF(A31="DQ","",IFERROR(INDEX('[1]【第9戦】決勝ヒート - レース結果（貼付）'!$A:$Z,MATCH($A31,'[1]【第9戦】決勝ヒート - レース結果（貼付）'!$A:$A,0),MATCH('【第9戦】決勝ヒート - レース正式結果表'!L$11,'[1]【第9戦】決勝ヒート - レース結果（貼付）'!$1:$1,0)),""))) -> 0.302 | M31: =IF(A31="DNS","",IF(A31="DQ","",IFERROR(INDEX('[1]【第9戦】決勝ヒート - レース結果（貼付）'!$A:$Z,MATCH($B31,'[1]【第9戦】決勝ヒート - レース結果（貼付）'!$B:$B,0),MATCH('【第9戦】決勝ヒート - レース正式結果表'!M$11,'[1]【第9戦】決勝ヒート - レース結果（貼付）'!$1:$1,0)),""))) -> 45.822 | N31: =IF(M31<1,"",IF($N$11>M31,"R","")) | Q31: =IF(IFERROR(INDEX('[1]【第9戦】決勝ヒート - レース結果（貼付）'!$A:$Z,MATCH($B31,'[1]【第9戦】決勝ヒート - レース結果（貼付）'!$B:$B,0),MATCH('【第9戦】決勝ヒート - レース正式結果表'!Q$11,'[1]【第9戦】決勝ヒート - レース結果（貼付）'!$1:$1,0)),"")=0,"",IFERROR(INDEX('[1]【第9戦】決勝ヒート - レース結果（貼付）'!$A:$Z,MATCH($B31,'[1]【第9戦】決勝ヒート - レース結果（貼付）'!$B:$B,0),MATCH('【第9戦】決勝ヒート - レース正式結果表'!Q$11,'[1]【第9戦】決勝ヒート - レース結果（貼付）'!$1:$1,0)),"")) | R31: =IF(Q31="","",COUNTIF($Q$13:Q31,"<>"&"")) | S31: =IFERROR(RANK(R31,$R$13:$R$47,1),"") | T31: =IF(IFERROR(INDEX('[1]【第9戦】決勝ヒート - レース結果（貼付）'!$A:$Z,MATCH($A31,'[1]【第9戦】決勝ヒート - レース結果（貼付）'!$A:$A,0),MATCH('【第9戦】決勝ヒート - レース正式結果表'!T$11,'[1]【第9戦】決勝ヒート - レース結果（貼付）'!$1:$1,0)),"")=0,"",IFERROR(INDEX('[1]【第9戦】決勝ヒート - レース結果（貼付）'!$A:$Z,MATCH($A31,'[1]【第9戦】決勝ヒート - レース結果（貼付）'!$A:$A,0),MATCH('【第9戦】決勝ヒート - レース正式結果表'!T$11,'[1]【第9戦】決勝ヒート - レース結果（貼付）'!$1:$1,0)),"")) | U31: =IF(IFERROR(INDEX('[1]【第9戦】決勝ヒート - レース結果（貼付）'!$A:$Z,MATCH($B31,'[1]【第9戦】決勝ヒート - レース結果（貼付）'!$B:$B,0),MATCH('【第9戦】決勝ヒート - レース正式結果表'!U$11,'[1]【第9戦】決勝ヒート - レース結果（貼付）'!$1:$1,0)),"")=0,"",IFERROR(INDEX('[1]【第9戦】決勝ヒート - レース結果（貼付）'!$A:$Z,MATCH($B31,'[1]【第9戦】決勝ヒート - レース結果（貼付）'!$B:$B,0),MATCH('【第9戦】決勝ヒート - レース正式結果表'!U$11,'[1]【第9戦】決勝ヒート - レース結果（貼付）'!$1:$1,0)),"")) -> 99.306
A32: =IF(OR('[1]【第9戦】決勝ヒート - レース結果（貼付）'!A21="DNF",'[1]【第9戦】決勝ヒート - レース結果（貼付）'!A21="DNS",'[1]【第9戦】決勝ヒート - レース結果（貼付）'!A21="DQ"),'[1]【第9戦】決勝ヒート - レース結果（貼付）'!A21,IF(MAX('[1]【第9戦】決勝ヒート - レース結果（貼付）'!A:A)>A31,A31+1,"")) -> 20 | B32: =IFERROR(INDEX('[1]【第9戦】決勝ヒート - レース結果（貼付）'!A21:$Z$50,MATCH($A32,'[1]【第9戦】決勝ヒート - レース結果（貼付）'!A21:$A$50,0),MATCH('【第9戦】決勝ヒート - レース正式結果表'!B$11,'[1]【第9戦】決勝ヒート - レース結果（貼付）'!$1:$1,0)),"") -> 24 | E32: =IFERROR(INDEX('[1]【第9戦】決勝ヒート - レース結果（貼付）'!$A:$Z,MATCH($B32,'[1]【第9戦】決勝ヒート - レース結果（貼付）'!$B:$B,0),MATCH('【第9戦】決勝ヒート - レース正式結果表'!E$11,'[1]【第9戦】決勝ヒート - レース結果（貼付）'!$1:$1,0)),"") -> 田中 風輝 | F32: =IFERROR(INDEX('[1]【第9戦】決勝ヒート - レース結果（貼付）'!$A:$Z,MATCH($B32,'[1]【第9戦】決勝ヒート - レース結果（貼付）'!$B:$B,0),MATCH('【第9戦】決勝ヒート - レース正式結果表'!F$11,'[1]【第9戦】決勝ヒート - レース結果（貼付）'!$1:$1,0)),"") -> Praga/TM | G32: =IFERROR(INDEX('[1]【第9戦】決勝ヒート - レース結果（貼付）'!$A:$Z,MATCH($B32,'[1]【第9戦】決勝ヒート - レース結果（貼付）'!$B:$B,0),MATCH('【第9戦】決勝ヒート - レース正式結果表'!G$11,'[1]【第9戦】決勝ヒート - レース結果（貼付）'!$1:$1,0)),"") -> MASUDA RACING PROJECT | H32: =IFERROR(INDEX('[1]【第9戦】決勝ヒート - レース結果（貼付）'!$A:$Z,MATCH($B32,'[1]【第9戦】決勝ヒート - レース結果（貼付）'!$B:$B,0),MATCH('【第9戦】決勝ヒート - レース正式結果表'!H$11,'[1]【第9戦】決勝ヒート - レース結果（貼付）'!$1:$1,0)),"") -> DL | I32: =IF(A32="DNS","",IF(A32="DQ","",IFERROR(INDEX('[1]【第9戦】決勝ヒート - レース結果（貼付）'!$A:$Z,MATCH($A32,'[1]【第9戦】決勝ヒート - レース結果（貼付）'!$A:$A,0),MATCH('【第9戦】決勝ヒート - レース正式結果表'!I$11,'[1]【第9戦】決勝ヒート - レース結果（貼付）'!$1:$1,0)),""))) -> 24 | J32: =IF(A32="DNS","ｽﾀｰﾄ出来ず",IF(A32="DQ","失 格",IFERROR(INDEX('[1]【第9戦】決勝ヒート - レース結果（貼付）'!$A:$Z,MATCH($B32,'[1]【第9戦】決勝ヒート - レース結果（貼付）'!$B:$B,0),MATCH('【第9戦】決勝ヒート - レース正式結果表'!J$11,'[1]【第9戦】決勝ヒート - レース結果（貼付）'!$1:$1,0)),""))) -> 0.012881609 | K32: =IF(A32="DNS","",IF(A32="DQ","",IFERROR(INDEX('[1]【第9戦】決勝ヒート - レース結果（貼付）'!$A:$Z,MATCH($A32,'[1]【第9戦】決勝ヒート - レース結果（貼付）'!$A:$A,0),MATCH('【第9戦】決勝ヒート - レース正式結果表'!K$11,'[1]【第9戦】決勝ヒート - レース結果（貼付）'!$1:$1,0)),""))) -> 11.971 | L32: =IF(A32="DNS","",IF(A32="DQ","",IFERROR(INDEX('[1]【第9戦】決勝ヒート - レース結果（貼付）'!$A:$Z,MATCH($A32,'[1]【第9戦】決勝ヒート - レース結果（貼付）'!$A:$A,0),MATCH('【第9戦】決勝ヒート - レース正式結果表'!L$11,'[1]【第9戦】決勝ヒート - レース結果（貼付）'!$1:$1,0)),""))) -> 1.093 | M32: =IF(A32="DNS","",IF(A32="DQ","",IFERROR(INDEX('[1]【第9戦】決勝ヒート - レース結果（貼付）'!$A:$Z,MATCH($B32,'[1]【第9戦】決勝ヒート - レース結果（貼付）'!$B:$B,0),MATCH('【第9戦】決勝ヒート - レース正式結果表'!M$11,'[1]【第9戦】決勝ヒート - レース結果（貼付）'!$1:$1,0)),""))) -> 45.767 | N32: =IF(M32<1,"",IF($N$11>M32,"R","")) | Q32: =IF(IFERROR(INDEX('[1]【第9戦】決勝ヒート - レース結果（貼付）'!$A:$Z,MATCH($B32,'[1]【第9戦】決勝ヒート - レース結果（貼付）'!$B:$B,0),MATCH('【第9戦】決勝ヒート - レース正式結果表'!Q$11,'[1]【第9戦】決勝ヒート - レース結果（貼付）'!$1:$1,0)),"")=0,"",IFERROR(INDEX('[1]【第9戦】決勝ヒート - レース結果（貼付）'!$A:$Z,MATCH($B32,'[1]【第9戦】決勝ヒート - レース結果（貼付）'!$B:$B,0),MATCH('【第9戦】決勝ヒート - レース正式結果表'!Q$11,'[1]【第9戦】決勝ヒート - レース結果（貼付）'!$1:$1,0)),"")) | R32: =IF(Q32="","",COUNTIF($Q$13:Q32,"<>"&"")) | S32: =IFERROR(RANK(R32,$R$13:$R$47,1),"") | T32: =IF(IFERROR(INDEX('[1]【第9戦】決勝ヒート - レース結果（貼付）'!$A:$Z,MATCH($A32,'[1]【第9戦】決勝ヒート - レース結果（貼付）'!$A:$A,0),MATCH('【第9戦】決勝ヒート - レース正式結果表'!T$11,'[1]【第9戦】決勝ヒート - レース結果（貼付）'!$1:$1,0)),"")=0,"",IFERROR(INDEX('[1]【第9戦】決勝ヒート - レース結果（貼付）'!$A:$Z,MATCH($A32,'[1]【第9戦】決勝ヒート - レース結果（貼付）'!$A:$A,0),MATCH('【第9戦】決勝ヒート - レース正式結果表'!T$11,'[1]【第9戦】決勝ヒート - レース結果（貼付）'!$1:$1,0)),"")) | U32: =IF(IFERROR(INDEX('[1]【第9戦】決勝ヒート - レース結果（貼付）'!$A:$Z,MATCH($B32,'[1]【第9戦】決勝ヒート - レース結果（貼付）'!$B:$B,0),MATCH('【第9戦】決勝ヒート - レース正式結果表'!U$11,'[1]【第9戦】決勝ヒート - レース結果（貼付）'!$1:$1,0)),"")=0,"",IFERROR(INDEX('[1]【第9戦】決勝ヒート - レース結果（貼付）'!$A:$Z,MATCH($B32,'[1]【第9戦】決勝ヒート - レース結果（貼付）'!$B:$B,0),MATCH('【第9戦】決勝ヒート - レース正式結果表'!U$11,'[1]【第9戦】決勝ヒート - レース結果（貼付）'!$1:$1,0)),"")) -> 99.425
A33: =IF(OR('[1]【第9戦】決勝ヒート - レース結果（貼付）'!A22="DNF",'[1]【第9戦】決勝ヒート - レース結果（貼付）'!A22="DNS",'[1]【第9戦】決勝ヒート - レース結果（貼付）'!A22="DQ"),'[1]【第9戦】決勝ヒート - レース結果（貼付）'!A22,IF(MAX('[1]【第9戦】決勝ヒート - レース結果（貼付）'!A:A)>A32,A32+1,"")) -> 21 | B33: =IFERROR(INDEX('[1]【第9戦】決勝ヒート - レース結果（貼付）'!A22:$Z$50,MATCH($A33,'[1]【第9戦】決勝ヒート - レース結果（貼付）'!A22:$A$50,0),MATCH('【第9戦】決勝ヒート - レース正式結果表'!B$11,'[1]【第9戦】決勝ヒート - レース結果（貼付）'!$1:$1,0)),"") -> 14 | E33: =IFERROR(INDEX('[1]【第9戦】決勝ヒート - レース結果（貼付）'!$A:$Z,MATCH($B33,'[1]【第9戦】決勝ヒート - レース結果（貼付）'!$B:$B,0),MATCH('【第9戦】決勝ヒート - レース正式結果表'!E$11,'[1]【第9戦】決勝ヒート - レース結果（貼付）'!$1:$1,0)),"") -> 浅見 謙心 | F33: =IFERROR(INDEX('[1]【第9戦】決勝ヒート - レース結果（貼付）'!$A:$Z,MATCH($B33,'[1]【第9戦】決勝ヒート - レース結果（貼付）'!$B:$B,0),MATCH('【第9戦】決勝ヒート - レース正式結果表'!F$11,'[1]【第9戦】決勝ヒート - レース結果（貼付）'!$1:$1,0)),"") -> Birel ART/IAME | G33: =IFERROR(INDEX('[1]【第9戦】決勝ヒート - レース結果（貼付）'!$A:$Z,MATCH($B33,'[1]【第9戦】決勝ヒート - レース結果（貼付）'!$B:$B,0),MATCH('【第9戦】決勝ヒート - レース正式結果表'!G$11,'[1]【第9戦】決勝ヒート - レース結果（貼付）'!$1:$1,0)),"") -> BirelART Access Racing | H33: =IFERROR(INDEX('[1]【第9戦】決勝ヒート - レース結果（貼付）'!$A:$Z,MATCH($B33,'[1]【第9戦】決勝ヒート - レース結果（貼付）'!$B:$B,0),MATCH('【第9戦】決勝ヒート - レース正式結果表'!H$11,'[1]【第9戦】決勝ヒート - レース結果（貼付）'!$1:$1,0)),"") -> BS | I33: =IF(A33="DNS","",IF(A33="DQ","",IFERROR(INDEX('[1]【第9戦】決勝ヒート - レース結果（貼付）'!$A:$Z,MATCH($A33,'[1]【第9戦】決勝ヒート - レース結果（貼付）'!$A:$A,0),MATCH('【第9戦】決勝ヒート - レース正式結果表'!I$11,'[1]【第9戦】決勝ヒート - レース結果（貼付）'!$1:$1,0)),""))) -> 24 | J33: =IF(A33="DNS","ｽﾀｰﾄ出来ず",IF(A33="DQ","失 格",IFERROR(INDEX('[1]【第9戦】決勝ヒート - レース結果（貼付）'!$A:$Z,MATCH($B33,'[1]【第9戦】決勝ヒート - レース結果（貼付）'!$B:$B,0),MATCH('【第9戦】決勝ヒート - レース正式結果表'!J$11,'[1]【第9戦】決勝ヒート - レース結果（貼付）'!$1:$1,0)),""))) -> 0.012910023 | K33: =IF(A33="DNS","",IF(A33="DQ","",IFERROR(INDEX('[1]【第9戦】決勝ヒート - レース結果（貼付）'!$A:$Z,MATCH($A33,'[1]【第9戦】決勝ヒート - レース結果（貼付）'!$A:$A,0),MATCH('【第9戦】決勝ヒート - レース正式結果表'!K$11,'[1]【第9戦】決勝ヒート - レース結果（貼付）'!$1:$1,0)),""))) -> 14.426 | L33: =IF(A33="DNS","",IF(A33="DQ","",IFERROR(INDEX('[1]【第9戦】決勝ヒート - レース結果（貼付）'!$A:$Z,MATCH($A33,'[1]【第9戦】決勝ヒート - レース結果（貼付）'!$A:$A,0),MATCH('【第9戦】決勝ヒート - レース正式結果表'!L$11,'[1]【第9戦】決勝ヒート - レース結果（貼付）'!$1:$1,0)),""))) -> 2.455 | M33: =IF(A33="DNS","",IF(A33="DQ","",IFERROR(INDEX('[1]【第9戦】決勝ヒート - レース結果（貼付）'!$A:$Z,MATCH($B33,'[1]【第9戦】決勝ヒート - レース結果（貼付）'!$B:$B,0),MATCH('【第9戦】決勝ヒート - レース正式結果表'!M$11,'[1]【第9戦】決勝ヒート - レース結果（貼付）'!$1:$1,0)),""))) -> 45.679 | N33: =IF(M33<1,"",IF($N$11>M33,"R","")) | Q33: =IF(IFERROR(INDEX('[1]【第9戦】決勝ヒート - レース結果（貼付）'!$A:$Z,MATCH($B33,'[1]【第9戦】決勝ヒート - レース結果（貼付）'!$B:$B,0),MATCH('【第9戦】決勝ヒート - レース正式結果表'!Q$11,'[1]【第9戦】決勝ヒート - レース結果（貼付）'!$1:$1,0)),"")=0,"",IFERROR(INDEX('[1]【第9戦】決勝ヒート - レース結果（貼付）'!$A:$Z,MATCH($B33,'[1]【第9戦】決勝ヒート - レース結果（貼付）'!$B:$B,0),MATCH('【第9戦】決勝ヒート - レース正式結果表'!Q$11,'[1]【第9戦】決勝ヒート - レース結果（貼付）'!$1:$1,0)),"")) | R33: =IF(Q33="","",COUNTIF($Q$13:Q33,"<>"&"")) | S33: =IFERROR(RANK(R33,$R$13:$R$47,1),"") | T33: =IF(IFERROR(INDEX('[1]【第9戦】決勝ヒート - レース結果（貼付）'!$A:$Z,MATCH($A33,'[1]【第9戦】決勝ヒート - レース結果（貼付）'!$A:$A,0),MATCH('【第9戦】決勝ヒート - レース正式結果表'!T$11,'[1]【第9戦】決勝ヒート - レース結果（貼付）'!$1:$1,0)),"")=0,"",IFERROR(INDEX('[1]【第9戦】決勝ヒート - レース結果（貼付）'!$A:$Z,MATCH($A33,'[1]【第9戦】決勝ヒート - レース結果（貼付）'!$A:$A,0),MATCH('【第9戦】決勝ヒート - レース正式結果表'!T$11,'[1]【第9戦】決勝ヒート - レース結果（貼付）'!$1:$1,0)),"")) | U33: =IF(IFERROR(INDEX('[1]【第9戦】決勝ヒート - レース結果（貼付）'!$A:$Z,MATCH($B33,'[1]【第9戦】決勝ヒート - レース結果（貼付）'!$B:$B,0),MATCH('【第9戦】決勝ヒート - レース正式結果表'!U$11,'[1]【第9戦】決勝ヒート - レース結果（貼付）'!$1:$1,0)),"")=0,"",IFERROR(INDEX('[1]【第9戦】決勝ヒート - レース結果（貼付）'!$A:$Z,MATCH($B33,'[1]【第9戦】決勝ヒート - レース結果（貼付）'!$B:$B,0),MATCH('【第9戦】決勝ヒート - レース正式結果表'!U$11,'[1]【第9戦】決勝ヒート - レース結果（貼付）'!$1:$1,0)),"")) -> 99.617
A34: =IF(OR('[1]【第9戦】決勝ヒート - レース結果（貼付）'!A23="DNF",'[1]【第9戦】決勝ヒート - レース結果（貼付）'!A23="DNS",'[1]【第9戦】決勝ヒート - レース結果（貼付）'!A23="DQ"),'[1]【第9戦】決勝ヒート - レース結果（貼付）'!A23,IF(MAX('[1]【第9戦】決勝ヒート - レース結果（貼付）'!A:A)>A33,A33+1,"")) -> 22 | B34: =IFERROR(INDEX('[1]【第9戦】決勝ヒート - レース結果（貼付）'!A23:$Z$50,MATCH($A34,'[1]【第9戦】決勝ヒート - レース結果（貼付）'!A23:$A$50,0),MATCH('【第9戦】決勝ヒート - レース正式結果表'!B$11,'[1]【第9戦】決勝ヒート - レース結果（貼付）'!$1:$1,0)),"") -> 67 | E34: =IFERROR(INDEX('[1]【第9戦】決勝ヒート - レース結果（貼付）'!$A:$Z,MATCH($B34,'[1]【第9戦】決勝ヒート - レース結果（貼付）'!$B:$B,0),MATCH('【第9戦】決勝ヒート - レース正式結果表'!E$11,'[1]【第9戦】決勝ヒート - レース結果（貼付）'!$1:$1,0)),"") -> 田中 照久 | F34: =IFERROR(INDEX('[1]【第9戦】決勝ヒート - レース結果（貼付）'!$A:$Z,MATCH($B34,'[1]【第9戦】決勝ヒート - レース結果（貼付）'!$B:$B,0),MATCH('【第9戦】決勝ヒート - レース正式結果表'!F$11,'[1]【第9戦】決勝ヒート - レース結果（貼付）'!$1:$1,0)),"") -> GLEA TEQKK02/TM | G34: =IFERROR(INDEX('[1]【第9戦】決勝ヒート - レース結果（貼付）'!$A:$Z,MATCH($B34,'[1]【第9戦】決勝ヒート - レース結果（貼付）'!$B:$B,0),MATCH('【第9戦】決勝ヒート - レース正式結果表'!G$11,'[1]【第9戦】決勝ヒート - レース結果（貼付）'!$1:$1,0)),"") -> GLEATEQ RACING TEAM | H34: =IFERROR(INDEX('[1]【第9戦】決勝ヒート - レース結果（貼付）'!$A:$Z,MATCH($B34,'[1]【第9戦】決勝ヒート - レース結果（貼付）'!$B:$B,0),MATCH('【第9戦】決勝ヒート - レース正式結果表'!H$11,'[1]【第9戦】決勝ヒート - レース結果（貼付）'!$1:$1,0)),"") -> BS | I34: =IF(A34="DNS","",IF(A34="DQ","",IFERROR(INDEX('[1]【第9戦】決勝ヒート - レース結果（貼付）'!$A:$Z,MATCH($A34,'[1]【第9戦】決勝ヒート - レース結果（貼付）'!$A:$A,0),MATCH('【第9戦】決勝ヒート - レース正式結果表'!I$11,'[1]【第9戦】決勝ヒート - レース結果（貼付）'!$1:$1,0)),""))) -> 24 | J34: =IF(A34="DNS","ｽﾀｰﾄ出来ず",IF(A34="DQ","失 格",IFERROR(INDEX('[1]【第9戦】決勝ヒート - レース結果（貼付）'!$A:$Z,MATCH($B34,'[1]【第9戦】決勝ヒート - レース結果（貼付）'!$B:$B,0),MATCH('【第9戦】決勝ヒート - レース正式結果表'!J$11,'[1]【第9戦】決勝ヒート - レース結果（貼付）'!$1:$1,0)),""))) -> 0.012912512 | K34: =IF(A34="DNS","",IF(A34="DQ","",IFERROR(INDEX('[1]【第9戦】決勝ヒート - レース結果（貼付）'!$A:$Z,MATCH($A34,'[1]【第9戦】決勝ヒート - レース結果（貼付）'!$A:$A,0),MATCH('【第9戦】決勝ヒート - レース正式結果表'!K$11,'[1]【第9戦】決勝ヒート - レース結果（貼付）'!$1:$1,0)),""))) -> 14.641 | L34: =IF(A34="DNS","",IF(A34="DQ","",IFERROR(INDEX('[1]【第9戦】決勝ヒート - レース結果（貼付）'!$A:$Z,MATCH($A34,'[1]【第9戦】決勝ヒート - レース結果（貼付）'!$A:$A,0),MATCH('【第9戦】決勝ヒート - レース正式結果表'!L$11,'[1]【第9戦】決勝ヒート - レース結果（貼付）'!$1:$1,0)),""))) -> 0.215 | M34: =IF(A34="DNS","",IF(A34="DQ","",IFERROR(INDEX('[1]【第9戦】決勝ヒート - レース結果（貼付）'!$A:$Z,MATCH($B34,'[1]【第9戦】決勝ヒート - レース結果（貼付）'!$B:$B,0),MATCH('【第9戦】決勝ヒート - レース正式結果表'!M$11,'[1]【第9戦】決勝ヒート - レース結果（貼付）'!$1:$1,0)),""))) -> 45.804 | N34: =IF(M34<1,"",IF($N$11>M34,"R","")) | Q34: =IF(IFERROR(INDEX('[1]【第9戦】決勝ヒート - レース結果（貼付）'!$A:$Z,MATCH($B34,'[1]【第9戦】決勝ヒート - レース結果（貼付）'!$B:$B,0),MATCH('【第9戦】決勝ヒート - レース正式結果表'!Q$11,'[1]【第9戦】決勝ヒート - レース結果（貼付）'!$1:$1,0)),"")=0,"",IFERROR(INDEX('[1]【第9戦】決勝ヒート - レース結果（貼付）'!$A:$Z,MATCH($B34,'[1]【第9戦】決勝ヒート - レース結果（貼付）'!$B:$B,0),MATCH('【第9戦】決勝ヒート - レース正式結果表'!Q$11,'[1]【第9戦】決勝ヒート - レース結果（貼付）'!$1:$1,0)),"")) | R34: =IF(Q34="","",COUNTIF($Q$13:Q34,"<>"&"")) | S34: =IFERROR(RANK(R34,$R$13:$R$47,1),"") | T34: =IF(IFERROR(INDEX('[1]【第9戦】決勝ヒート - レース結果（貼付）'!$A:$Z,MATCH($A34,'[1]【第9戦】決勝ヒート - レース結果（貼付）'!$A:$A,0),MATCH('【第9戦】決勝ヒート - レース正式結果表'!T$11,'[1]【第9戦】決勝ヒート - レース結果（貼付）'!$1:$1,0)),"")=0,"",IFERROR(INDEX('[1]【第9戦】決勝ヒート - レース結果（貼付）'!$A:$Z,MATCH($A34,'[1]【第9戦】決勝ヒート - レース結果（貼付）'!$A:$A,0),MATCH('【第9戦】決勝ヒート - レース正式結果表'!T$11,'[1]【第9戦】決勝ヒート - レース結果（貼付）'!$1:$1,0)),"")) | U34: =IF(IFERROR(INDEX('[1]【第9戦】決勝ヒート - レース結果（貼付）'!$A:$Z,MATCH($B34,'[1]【第9戦】決勝ヒート - レース結果（貼付）'!$B:$B,0),MATCH('【第9戦】決勝ヒート - レース正式結果表'!U$11,'[1]【第9戦】決勝ヒート - レース結果（貼付）'!$1:$1,0)),"")=0,"",IFERROR(INDEX('[1]【第9戦】決勝ヒート - レース結果（貼付）'!$A:$Z,MATCH($B34,'[1]【第9戦】決勝ヒート - レース結果（貼付）'!$B:$B,0),MATCH('【第9戦】決勝ヒート - レース正式結果表'!U$11,'[1]【第9戦】決勝ヒート - レース結果（貼付）'!$1:$1,0)),"")) -> 99.706
... A42: =IF(OR('[1]【第9戦】決勝ヒート - レース結果（貼付）'!A31="DNF",'[1]【第9戦】決勝ヒート - レース結果（貼付）'!A31="DNS",'[1]【第9戦】決勝ヒート - レース結果（貼付）'!A31="DQ"),'[1]【第9戦】決勝ヒート - レース結果（貼付）'!A31,IF(MAX('[1]【第9戦】決勝ヒート - レース結果（貼付）'!A:A)>A41,A41+1,"")) -> 30 | B42: =IFERROR(INDEX('[1]【第9戦】決勝ヒート - レース結果（貼付）'!A31:$Z$50,MATCH($A42,'[1]【第9戦】決勝ヒート - レース結果（貼付）'!A31:$A$50,0),MATCH('【第9戦】決勝ヒート - レース正式結果表'!B$11,'[1]【第9戦】決勝ヒート - レース結果（貼付）'!$1:$1,0)),"") -> 28 | E42: =IFERROR(INDEX('[1]【第9戦】決勝ヒート - レース結果（貼付）'!$A:$Z,MATCH($B42,'[1]【第9戦】決勝ヒート - レース結果（貼付）'!$B:$B,0),MATCH('【第9戦】決勝ヒート - レース正式結果表'!E$11,'[1]【第9戦】決勝ヒート - レース結果（貼付）'!$1:$1,0)),"") -> 渡会 太一 | F42: =IFERROR(INDEX('[1]【第9戦】決勝ヒート - レース結果（貼付）'!$A:$Z,MATCH($B42,'[1]【第9戦】決勝ヒート - レース結果（貼付）'!$B:$B,0),MATCH('【第9戦】決勝ヒート - レース正式結果表'!F$11,'[1]【第9戦】決勝ヒート - レース結果（貼付）'!$1:$1,0)),"") -> Drago CORSE/TM | G42: =IFERROR(INDEX('[1]【第9戦】決勝ヒート - レース結果（貼付）'!$A:$Z,MATCH($B42,'[1]【第9戦】決勝ヒート - レース結果（貼付）'!$B:$B,0),MATCH('【第9戦】決勝ヒート - レース正式結果表'!G$11,'[1]【第9戦】決勝ヒート - レース結果（貼付）'!$1:$1,0)),"") -> DragoCorse | H42: =IFERROR(INDEX('[1]【第9戦】決勝ヒート - レース結果（貼付）'!$A:$Z,MATCH($B42,'[1]【第9戦】決勝ヒート - レース結果（貼付）'!$B:$B,0),MATCH('【第9戦】決勝ヒート - レース正式結果表'!H$11,'[1]【第9戦】決勝ヒート - レース結果（貼付）'!$1:$1,0)),"") -> YH | I42: =IF(A42="DNS","",IF(A42="DQ","",IFERROR(INDEX('[1]【第9戦】決勝ヒート - レース結果（貼付）'!$A:$Z,MATCH($A42,'[1]【第9戦】決勝ヒート - レース結果（貼付）'!$A:$A,0),MATCH('【第9戦】決勝ヒート - レース正式結果表'!I$11,'[1]【第9戦】決勝ヒート - レース結果（貼付）'!$1:$1,0)),""))) -> 24 | J42: =IF(A42="DNS","ｽﾀｰﾄ出来ず",IF(A42="DQ","失 格",IFERROR(INDEX('[1]【第9戦】決勝ヒート - レース結果（貼付）'!$A:$Z,MATCH($B42,'[1]【第9戦】決勝ヒート - レース結果（貼付）'!$B:$B,0),MATCH('【第9戦】決勝ヒート - レース正式結果表'!J$11,'[1]【第9戦】決勝ヒート - レース結果（貼付）'!$1:$1,0)),""))) -> 0.013112037 | K42: =IF(A42="DNS","",IF(A42="DQ","",IFERROR(INDEX('[1]【第9戦】決勝ヒート - レース結果（貼付）'!$A:$Z,MATCH($A42,'[1]【第9戦】決勝ヒート - レース結果（貼付）'!$A:$A,0),MATCH('【第9戦】決勝ヒート - レース正式結果表'!K$11,'[1]【第9戦】決勝ヒート - レース結果（貼付）'!$1:$1,0)),""))) -> 31.88 | L42: =IF(A42="DNS","",IF(A42="DQ","",IFERROR(INDEX('[1]【第9戦】決勝ヒート - レース結果（貼付）'!$A:$Z,MATCH($A42,'[1]【第9戦】決勝ヒート - レース結果（貼付）'!$A:$A,0),MATCH('【第9戦】決勝ヒート - レース正式結果表'!L$11,'[1]【第9戦】決勝ヒート - レース結果（貼付）'!$1:$1,0)),""))) -> 3.065 | M42: =IF(A42="DNS","",IF(A42="DQ","",IFERROR(INDEX('[1]【第9戦】決勝ヒート - レース結果（貼付）'!$A:$Z,MATCH($B42,'[1]【第9戦】決勝ヒート - レース結果（貼付）'!$B:$B,0),MATCH('【第9戦】決勝ヒート - レース正式結果表'!M$11,'[1]【第9戦】決勝ヒート - レース結果（貼付）'!$1:$1,0)),""))) -> 45.946 | N42: =IF(M42<1,"",IF($N$11>M42,"R","")) | Q42: =IF(IFERROR(INDEX('[1]【第9戦】決勝ヒート - レース結果（貼付）'!$A:$Z,MATCH($B42,'[1]【第9戦】決勝ヒート - レース結果（貼付）'!$B:$B,0),MATCH('【第9戦】決勝ヒート - レース正式結果表'!Q$11,'[1]【第9戦】決勝ヒート - レース結果（貼付）'!$1:$1,0)),"")=0,"",IFERROR(INDEX('[1]【第9戦】決勝ヒート - レース結果（貼付）'!$A:$Z,MATCH($B42,'[1]【第9戦】決勝ヒート - レース結果（貼付）'!$B:$B,0),MATCH('【第9戦】決勝ヒート - レース正式結果表'!Q$11,'[1]【第9戦】決勝ヒート - レース結果（貼付）'!$1:$1,0)),"")) | R42: =IF(Q42="","",COUNTIF($Q$13:Q42,"<>"&"")) | S42: =IFERROR(RANK(R42,$R$13:$R$47,1),"") | T42: =IF(IFERROR(INDEX('[1]【第9戦】決勝ヒート - レース結果（貼付）'!$A:$Z,MATCH($A42,'[1]【第9戦】決勝ヒート - レース結果（貼付）'!$A:$A,0),MATCH('【第9戦】決勝ヒート - レース正式結果表'!T$11,'[1]【第9戦】決勝ヒート - レース結果（貼付）'!$1:$1,0)),"")=0,"",IFERROR(INDEX('[1]【第9戦】決勝ヒート - レース結果（貼付）'!$A:$Z,MATCH($A42,'[1]【第9戦】決勝ヒート - レース結果（貼付）'!$A:$A,0),MATCH('【第9戦】決勝ヒート - レース正式結果表'!T$11,'[1]【第9戦】決勝ヒート - レース結果（貼付）'!$1:$1,0)),"")) | U42: =IF(IFERROR(INDEX('[1]【第9戦】決勝ヒート - レース結果（貼付）'!$A:$Z,MATCH($B42,'[1]【第9戦】決勝ヒート - レース結果（貼付）'!$B:$B,0),MATCH('【第9戦】決勝ヒート - レース正式結果表'!U$11,'[1]【第9戦】決勝ヒート - レース結果（貼付）'!$1:$1,0)),"")=0,"",IFERROR(INDEX('[1]【第9戦】決勝ヒート - レース結果（貼付）'!$A:$Z,MATCH($B42,'[1]【第9戦】決勝ヒート - レース結果（貼付）'!$B:$B,0),MATCH('【第9戦】決勝ヒート - レース正式結果表'!U$11,'[1]【第9戦】決勝ヒート - レース結果（貼付）'!$1:$1,0)),"")) -> 99.038
A43: 以下ﾌｨﾆｯｼｭﾗｲﾝ不通過：
A44: =IF(OR('[1]【第9戦】決勝ヒート - レース結果（貼付）'!A32="DNF",'[1]【第9戦】決勝ヒート - レース結果（貼付）'!A32="DNS",'[1]【第9戦】決勝ヒート - レース結果（貼付）'!A32="DQ"),'[1]【第9戦】決勝ヒート - レース結果（貼付）'!A32,IF(MAX('[1]【第9戦】決勝ヒート - レース結果（貼付）'!A:A)>A42,A42+1,"")) -> 31 | B44: =IFERROR(INDEX('[1]【第9戦】決勝ヒート - レース結果（貼付）'!A32:$Z$50,MATCH($A44,'[1]【第9戦】決勝ヒート - レース結果（貼付）'!A32:$A$50,0),MATCH('【第9戦】決勝ヒート - レース正式結果表'!B$11,'[1]【第9戦】決勝ヒート - レース結果（貼付）'!$1:$1,0)),"") -> 19 | E44: =IFERROR(INDEX('[1]【第9戦】決勝ヒート - レース結果（貼付）'!$A:$Z,MATCH($B44,'[1]【第9戦】決勝ヒート - レース結果（貼付）'!$B:$B,0),MATCH('【第9戦】決勝ヒート - レース正式結果表'!E$11,'[1]【第9戦】決勝ヒート - レース結果（貼付）'!$1:$1,0)),"") -> 中村 仁 | F44: =IFERROR(INDEX('[1]【第9戦】決勝ヒート - レース結果（貼付）'!$A:$Z,MATCH($B44,'[1]【第9戦】決勝ヒート - レース結果（貼付）'!$B:$B,0),MATCH('【第9戦】決勝ヒート - レース正式結果表'!F$11,'[1]【第9戦】決勝ヒート - レース結果（貼付）'!$1:$1,0)),"") -> REDSPEED/VORTEX | G44: =IFERROR(INDEX('[1]【第9戦】決勝ヒート - レース結果（貼付）'!$A:$Z,MATCH($B44,'[1]【第9戦】決勝ヒート - レース結果（貼付）'!$B:$B,0),MATCH('【第9戦】決勝ヒート - レース正式結果表'!G$11,'[1]【第9戦】決勝ヒート - レース結果（貼付）'!$1:$1,0)),"") -> Moty's RACING TEAM | H44: =IFERROR(INDEX('[1]【第9戦】決勝ヒート - レース結果（貼付）'!$A:$Z,MATCH($B44,'[1]【第9戦】決勝ヒート - レース結果（貼付）'!$B:$B,0),MATCH('【第9戦】決勝ヒート - レース正式結果表'!H$11,'[1]【第9戦】決勝ヒート - レース結果（貼付）'!$1:$1,0)),"") -> BS | I44: =IF(A44="DNS","",IF(A44="DQ","",IFERROR(INDEX('[1]【第9戦】決勝ヒート - レース結果（貼付）'!$A:$Z,MATCH($A44,'[1]【第9戦】決勝ヒート - レース結果（貼付）'!$A:$A,0),MATCH('【第9戦】決勝ヒート - レース正式結果表'!I$11,'[1]【第9戦】決勝ヒート - レース結果（貼付）'!$1:$1,0)),""))) -> 21 | J44: =IF(A44="DNS","ｽﾀｰﾄ出来ず",IF(A44="DQ","失 格",IFERROR(INDEX('[1]【第9戦】決勝ヒート - レース結果（貼付）'!$A:$Z,MATCH($B44,'[1]【第9戦】決勝ヒート - レース結果（貼付）'!$B:$B,0),MATCH('【第9戦】決勝ヒート - レース正式結果表'!J$11,'[1]【第9戦】決勝ヒート - レース結果（貼付）'!$1:$1,0)),""))) -> 0.012059919 | K44: =IF(A44="DNS","",IF(A44="DQ","",IFERROR(INDEX('[1]【第9戦】決勝ヒート - レース結果（貼付）'!$A:$Z,MATCH($A44,'[1]【第9戦】決勝ヒート - レース結果（貼付）'!$A:$A,0),MATCH('【第9戦】決勝ヒート - レース正式結果表'!K$11,'[1]【第9戦】決勝ヒート - レース結果（貼付）'!$1:$1,0)),""))) -> 3 Laps | L44: =IF(A44="DNS","",IF(A44="DQ","",IFERROR(INDEX('[1]【第9戦】決勝ヒート - レース結果（貼付）'!$A:$Z,MATCH($A44,'[1]【第9戦】決勝ヒート - レース結果（貼付）'!$A:$A,0),MATCH('【第9戦】決勝ヒート - レース正式結果表'!L$11,'[1]【第9戦】決勝ヒート - レース結果（貼付）'!$1:$1,0)),""))) -> 3 Laps | M44: =IF(A44="DNS","",IF(A44="DQ","",IFERROR(INDEX('[1]【第9戦】決勝ヒート - レース結果（貼付）'!$A:$Z,MATCH($B44,'[1]【第9戦】決勝ヒート - レース結果（貼付）'!$B:$B,0),MATCH('【第9戦】決勝ヒート - レース正式結果表'!M$11,'[1]【第9戦】決勝ヒート - レース結果（貼付）'!$1:$1,0)),""))) -> 45.912 | N44: =IF(M44<1,"",IF($N$11>M44,"R","")) | Q44: =IF(IFERROR(INDEX('[1]【第9戦】決勝ヒート - レース結果（貼付）'!$A:$Z,MATCH($B44,'[1]【第9戦】決勝ヒート - レース結果（貼付）'!$B:$B,0),MATCH('【第9戦】決勝ヒート - レース正式結果表'!Q$11,'[1]【第9戦】決勝ヒート - レース結果（貼付）'!$1:$1,0)),"")=0,"",IFERROR(INDEX('[1]【第9戦】決勝ヒート - レース結果（貼付）'!$A:$Z,MATCH($B44,'[1]【第9戦】決勝ヒート - レース結果（貼付）'!$B:$B,0),MATCH('【第9戦】決勝ヒート - レース正式結果表'!Q$11,'[1]【第9戦】決勝ヒート - レース結果（貼付）'!$1:$1,0)),"")) -> JAF国内ｶｰﾄ競技規則 ｶｰﾄ競技会運営に関する規定 22条(妨害の禁止(無理な進入))違反により、10秒加算とした。 | R44: =IF(Q44="","",COUNTIF($Q$13:Q44,"<>"&"")) -> 31 | S44: =IFERROR(RANK(R44,$R$13:$R$47,1),"") -> 4 | T44: =IF(IFERROR(INDEX('[1]【第9戦】決勝ヒート - レース結果（貼付）'!$A:$Z,MATCH($A44,'[1]【第9戦】決勝ヒート - レース結果（貼付）'!$A:$A,0),MATCH('【第9戦】決勝ヒート - レース正式結果表'!T$11,'[1]【第9戦】決勝ヒート - レース結果（貼付）'!$1:$1,0)),"")=0,"",IFERROR(INDEX('[1]【第9戦】決勝ヒート - レース結果（貼付）'!$A:$Z,MATCH($A44,'[1]【第9戦】決勝ヒート - レース結果（貼付）'!$A:$A,0),MATCH('【第9戦】決勝ヒート - レース正式結果表'!T$11,'[1]【第9戦】決勝ヒート - レース結果（貼付）'!$1:$1,0)),"")) | U44: =IF(IFERROR(INDEX('[1]【第9戦】決勝ヒート - レース結果（貼付）'!$A:$Z,MATCH($B44,'[1]【第9戦】決勝ヒート - レース結果（貼付）'!$B:$B,0),MATCH('【第9戦】決勝ヒート - レース正式結果表'!U$11,'[1]【第9戦】決勝ヒート - レース結果（貼付）'!$1:$1,0)),"")=0,"",IFERROR(INDEX('[1]【第9戦】決勝ヒート - レース結果（貼付）'!$A:$Z,MATCH($B44,'[1]【第9戦】決勝ヒート - レース結果（貼付）'!$B:$B,0),MATCH('【第9戦】決勝ヒート - レース正式結果表'!U$11,'[1]【第9戦】決勝ヒート - レース結果（貼付）'!$1:$1,0)),"")) -> 99.111
