Workbook

Sheet 12日_公式練習①-結果表
J6: 44877 | L6: :
A7: =+[1]各種設定!D2 -> 2022年 全日本カート選手権 FS-125/FP-3部門 東西統一競技会 | J7: WEATHER: | K7: Fine
J8: COURSE : | K8: Dry
A9: =+[1]各種設定!D4 -> FP-3 | J9: 南コース 1.264Km
A10: ① Ｇｒ.公式練習(11/12)結果表（No.04の改訂）
B11: No. | C11: クラス | D11: 名前 | E11: Model/Engine | F11: Team | G11: Tires | H11: BestLap | I11: =VLOOKUP(A9,[1]コースレコード!$A:$G,3,FALSE) -> 55.037 | J11: 差 | K11: GAP | P11: コメント | R11: ペナルティNo. | S11: グリッドコメント
A12: Pos. | B12: No. | D12: Driver | E12: Type | F12: Team | G12: Tire | H12: Time | J12: Delay | K12: Gap | L12: Lap
A13: 1 | B13: =IFERROR(INDEX('[1]12日_公式練習①-結果表（貼付）'!A2:$Z$50,MATCH($A13,'[1]12日_公式練習①-結果表（貼付）'!A2:$A$50,0),MATCH('12日_公式練習①-結果表'!B$11,'[1]12日_公式練習①-結果表（貼付）'!$1:$1,0)),"") -> 25 | D13: =IFERROR(INDEX('[1]12日_公式練習①-結果表（貼付）'!$A:$Z,MATCH($B13,'[1]12日_公式練習①-結果表（貼付）'!$B:$B,0),MATCH('12日_公式練習①-結果表'!D$11,'[1]12日_公式練習①-結果表（貼付）'!$1:$1,0)),"") -> 鈴木 恵武 | E13: =IFERROR(INDEX('[1]12日_公式練習①-結果表（貼付）'!$A:$Z,MATCH($B13,'[1]12日_公式練習①-結果表（貼付）'!$B:$B,0),MATCH('12日_公式練習①-結果表'!E$11,'[1]12日_公式練習①-結果表（貼付）'!$1:$1,0)),"") -> KOSMIC/YAMAHA | F13: =IFERROR(INDEX('[1]12日_公式練習①-結果表（貼付）'!$A:$Z,MATCH($B13,'[1]12日_公式練習①-結果表（貼付）'!$B:$B,0),MATCH('12日_公式練習①-結果表'!F$11,'[1]12日_公式練習①-結果表（貼付）'!$1:$1,0)),"") -> Formula Blue 増田スピード | G13: =IFERROR(INDEX('[1]12日_公式練習①-結果表（貼付）'!$A:$Z,MATCH($B13,'[1]12日_公式練習①-結果表（貼付）'!$B:$B,0),MATCH('12日_公式練習①-結果表'!G$11,'[1]12日_公式練習①-結果表（貼付）'!$1:$1,0)),"") -> BS | H13: =IFERROR(INDEX('[1]12日_公式練習①-結果表（貼付）'!$A:$Z,MATCH($B13,'[1]12日_公式練習①-結果表（貼付）'!$B:$B,0),MATCH('12日_公式練習①-結果表'!H$11,'[1]12日_公式練習①-結果表（貼付）'!$1:$1,0)),"") -> 54.422 | J13: =ROUND(INDEX('[1]12日_公式練習①-結果表（貼付）'!$A:$Z,MATCH($B13,'[1]12日_公式練習①-結果表（貼付）'!$B:$B,0),MATCH("ベスト平均時速",'[1]12日_公式練習①-結果表（貼付）'!$1:$1,0)),2)&"km/h" -> 83.61km/h | L13: =IF(A13="DNS","",IF(A13="DQ","",IFERROR(INDEX('[1]12日_公式練習①-結果表（貼付）'!$A:$Z,MATCH($B13,'[1]12日_公式練習①-結果表（貼付）'!$B:$B,0),MATCH("In Lap",'[1]12日_公式練習①-結果表（貼付）'!$1:$1,0))&"/"&INDEX('[1]12日_公式練習①-結果表（貼付）'!$A:$Z,MATCH($B13,'[1]12日_公式練習①-結果表（貼付）'!$B:$B,0),MATCH("Laps",'[1]12日_公式練習①-結果表（貼付）'!$1:$1,0)),""))) -> 5/10 | P13: =IF(IFERROR(INDEX('[1]12日_公式練習①-結果表（貼付）'!$A:$Z,MATCH($B13,'[1]12日_公式練習①-結果表（貼付）'!$B:$B,0),MATCH(P$11,'[1]12日_公式練習①-結果表（貼付）'!$1:$1,0)),"")=0,"",IFERROR(INDEX('[1]12日_公式練習①-結果表（貼付）'!$A:$Z,MATCH($B13,'[1]12日_公式練習①-結果表（貼付）'!$B:$B,0),MATCH(P$11,'[1]12日_公式練習①-結果表（貼付）'!$1:$1,0)),"")) | Q13: =IF(P13="","",COUNTIF($P$13:P13,"<>"&"")) | R13: =IFERROR(RANK(Q13,$Q$13:$Q$46,1),"") | S13: =IF(IFERROR(INDEX('[1]12日_公式練習①-結果表（貼付）'!$A:$Z,MATCH($A13,'[1]12日_公式練習①-結果表（貼付）'!$A:$A,0),MATCH(S$11,'[1]12日_公式練習①-結果表（貼付）'!$1:$1,0)),"")=0,"",IFERROR(INDEX('[1]12日_公式練習①-結果表（貼付）'!$A:$Z,MATCH($A13,'[1]12日_公式練習①-結果表（貼付）'!$A:$A,0),MATCH(S$11,'[1]12日_公式練習①-結果表（貼付）'!$1:$1,0)),""))
A14: =IF(OR('[1]12日_公式練習①-結果表（貼付）'!A3="DNF",'[1]12日_公式練習①-結果表（貼付）'!A3="DNS",'[1]12日_公式練習①-結果表（貼付）'!A3="DQ"),'[1]12日_公式練習①-結果表（貼付）'!A3,IF(MAX('[1]12日_公式練習①-結果表（貼付）'!$A:$A)>A13,A13+1,"")) -> 2 | B14: =IFERROR(INDEX('[1]12日_公式練習①-結果表（貼付）'!A3:$Z$50,MATCH($A14,'[1]12日_公式練習①-結果表（貼付）'!A3:$A$50,0),MATCH('12日_公式練習①-結果表'!B$11,'[1]12日_公式練習①-結果表（貼付）'!$1:$1,0)),"") -> 30 | D14: =IFERROR(INDEX('[1]12日_公式練習①-結果表（貼付）'!$A:$Z,MATCH($B14,'[1]12日_公式練習①-結果表（貼付）'!$B:$B,0),MATCH('12日_公式練習①-結果表'!D$11,'[1]12日_公式練習①-結果表（貼付）'!$1:$1,0)),"") -> 久富 圭 | E14: =IFERROR(INDEX('[1]12日_公式練習①-結果表（貼付）'!$A:$Z,MATCH($B14,'[1]12日_公式練習①-結果表（貼付）'!$B:$B,0),MATCH('12日_公式練習①-結果表'!E$11,'[1]12日_公式練習①-結果表（貼付）'!$1:$1,0)),"") -> TONY KART/YAMAHA | F14: =IFERROR(INDEX('[1]12日_公式練習①-結果表（貼付）'!$A:$Z,MATCH($B14,'[1]12日_公式練習①-結果表（貼付）'!$B:$B,0),MATCH('12日_公式練習①-結果表'!F$11,'[1]12日_公式練習①-結果表（貼付）'!$1:$1,0)),"") -> Formula Blue Ash | G14: =IFERROR(INDEX('[1]12日_公式練習①-結果表（貼付）'!$A:$Z,MATCH($B14,'[1]12日_公式練習①-結果表（貼付）'!$B:$B,0),MATCH('12日_公式練習①-結果表'!G$11,'[1]12日_公式練習①-結果表（貼付）'!$1:$1,0)),"") -> BS | H14: =IF(A14="DNS","ｽﾀｰﾄ出来ず",IF(A14="DQ","失 格",IFERROR(INDEX('[1]12日_公式練習①-結果表（貼付）'!$A:$Z,MATCH($B14,'[1]12日_公式練習①-結果表（貼付）'!$B:$B,0),MATCH('12日_公式練習①-結果表'!H$11,'[1]12日_公式練習①-結果表（貼付）'!$1:$1,0)),""))) -> 54.616 | J14: =IF(A14="DNS","",IF(A14="DQ","",IFERROR(INDEX('[1]12日_公式練習①-結果表（貼付）'!$A:$Z,MATCH($B14,'[1]12日_公式練習①-結果表（貼付）'!$B:$B,0),MATCH('12日_公式練習①-結果表'!J$11,'[1]12日_公式練習①-結果表（貼付）'!$1:$1,0)),""))) -> 0.194 | K14: =IF(A14="DNS","",IF(A14="DQ","",IFERROR(INDEX('[1]12日_公式練習①-結果表（貼付）'!$A:$Z,MATCH($B14,'[1]12日_公式練習①-結果表（貼付）'!$B:$B,0),MATCH('12日_公式練習①-結果表'!K$11,'[1]12日_公式練習①-結果表（貼付）'!$1:$1,0)),""))) -> 0.194 | L14: =IF(A14="DNS","",IF(A14="DQ","",IFERROR(INDEX('[1]12日_公式練習①-結果表（貼付）'!$A:$Z,MATCH($B14,'[1]12日_公式練習①-結果表（貼付）'!$B:$B,0),MATCH("In Lap",'[1]12日_公式練習①-結果表（貼付）'!$1:$1,0))&"/"&INDEX('[1]12日_公式練習①-結果表（貼付）'!$A:$Z,MATCH($B14,'[1]12日_公式練習①-結果表（貼付）'!$B:$B,0),MATCH("Laps",'[1]12日_公式練習①-結果表（貼付）'!$1:$1,0)),""))) -> 6/10 | P14: =IF(IFERROR(INDEX('[1]12日_公式練習①-結果表（貼付）'!$A:$Z,MATCH($B14,'[1]12日_公式練習①-結果表（貼付）'!$B:$B,0),MATCH(P$11,'[1]12日_公式練習①-結果表（貼付）'!$1:$1,0)),"")=0,"",IFERROR(INDEX('[1]12日_公式練習①-結果表（貼付）'!$A:$Z,MATCH($B14,'[1]12日_公式練習①-結果表（貼付）'!$B:$B,0),MATCH(P$11,'[1]12日_公式練習①-結果表（貼付）'!$1:$1,0)),"")) | Q14: =IF(P14="","",COUNTIF($P$13:P14,"<>"&"")) | R14: =IFERROR(RANK(Q14,$Q$13:$Q$46,1),"") | S14: =IF(IFERROR(INDEX('[1]12日_公式練習①-結果表（貼付）'!$A:$Z,MATCH($A14,'[1]12日_公式練習①-結果表（貼付）'!$A:$A,0),MATCH(S$11,'[1]12日_公式練習①-結果表（貼付）'!$1:$1,0)),"")=0,"",IFERROR(INDEX('[1]12日_公式練習①-結果表（貼付）'!$A:$Z,MATCH($A14,'[1]12日_公式練習①-結果表（貼付）'!$A:$A,0),MATCH(S$11,'[1]12日_公式練習①-結果表（貼付）'!$1:$1,0)),""))
A15: =IF(OR('[1]12日_公式練習①-結果表（貼付）'!A4="DNF",'[1]12日_公式練習①-結果表（貼付）'!A4="DNS",'[1]12日_公式練習①-結果表（貼付）'!A4="DQ"),'[1]12日_公式練習①-結果表（貼付）'!A4,IF(MAX('[1]12日_公式練習①-結果表（貼付）'!$A:$A)>A14,A14+1,"")) -> 3 | B15: =IFERROR(INDEX('[1]12日_公式練習①-結果表（貼付）'!A4:$Z$50,MATCH($A15,'[1]12日_公式練習①-結果表（貼付）'!A4:$A$50,0),MATCH('12日_公式練習①-結果表'!B$11,'[1]12日_公式練習①-結果表（貼付）'!$1:$1,0)),"") -> 21 | D15: =IFERROR(INDEX('[1]12日_公式練習①-結果表（貼付）'!$A:$Z,MATCH($B15,'[1]12日_公式練習①-結果表（貼付）'!$B:$B,0),MATCH('12日_公式練習①-結果表'!D$11,'[1]12日_公式練習①-結果表（貼付）'!$1:$1,0)),"") -> 森川 貴光 | E15: =IFERROR(INDEX('[1]12日_公式練習①-結果表（貼付）'!$A:$Z,MATCH($B15,'[1]12日_公式練習①-結果表（貼付）'!$B:$B,0),MATCH('12日_公式練習①-結果表'!E$11,'[1]12日_公式練習①-結果表（貼付）'!$1:$1,0)),"") -> KOSMIC/YAMAHA | F15: =IFERROR(INDEX('[1]12日_公式練習①-結果表（貼付）'!$A:$Z,MATCH($B15,'[1]12日_公式練習①-結果表（貼付）'!$B:$B,0),MATCH('12日_公式練習①-結果表'!F$11,'[1]12日_公式練習①-結果表（貼付）'!$1:$1,0)),"") -> HIRAI PROJECT with Ash | G15: =IFERROR(INDEX('[1]12日_公式練習①-結果表（貼付）'!$A:$Z,MATCH($B15,'[1]12日_公式練習①-結果表（貼付）'!$B:$B,0),MATCH('12日_公式練習①-結果表'!G$11,'[1]12日_公式練習①-結果表（貼付）'!$1:$1,0)),"") -> BS | H15: =IF(A15="DNS","ｽﾀｰﾄ出来ず",IF(A15="DQ","失 格",IFERROR(INDEX('[1]12日_公式練習①-結果表（貼付）'!$A:$Z,MATCH($B15,'[1]12日_公式練習①-結果表（貼付）'!$B:$B,0),MATCH('12日_公式練習①-結果表'!H$11,'[1]12日_公式練習①-結果表（貼付）'!$1:$1,0)),""))) -> 54.862 | J15: =IF(A15="DNS","",IF(A15="DQ","",IFERROR(INDEX('[1]12日_公式練習①-結果表（貼付）'!$A:$Z,MATCH($B15,'[1]12日_公式練習①-結果表（貼付）'!$B:$B,0),MATCH('12日_公式練習①-結果表'!J$11,'[1]12日_公式練習①-結果表（貼付）'!$1:$1,0)),""))) -> 0.44 | K15: =IF(A15="DNS","",IF(A15="DQ","",IFERROR(INDEX('[1]12日_公式練習①-結果表（貼付）'!$A:$Z,MATCH($B15,'[1]12日_公式練習①-結果表（貼付）'!$B:$B,0),MATCH('12日_公式練習①-結果表'!K$11,'[1]12日_公式練習①-結果表（貼付）'!$1:$1,0)),""))) -> 0.246 | L15: =IF(A15="DNS","",IF(A15="DQ","",IFERROR(INDEX('[1]12日_公式練習①-結果表（貼付）'!$A:$Z,MATCH($B15,'[1]12日_公式練習①-結果表（貼付）'!$B:$B,0),MATCH("In Lap",'[1]12日_公式練習①-結果表（貼付）'!$1:$1,0))&"/"&INDEX('[1]12日_公式練習①-結果表（貼付）'!$A:$Z,MATCH($B15,'[1]12日_公式練習①-結果表（貼付）'!$B:$B,0),MATCH("Laps",'[1]12日_公式練習①-結果表（貼付）'!$1:$1,0)),""))) -> 5/10 | P15: =IF(IFERROR(INDEX('[1]12日_公式練習①-結果表（貼付）'!$A:$Z,MATCH($B15,'[1]12日_公式練習①-結果表（貼付）'!$B:$B,0),MATCH(P$11,'[1]12日_公式練習①-結果表（貼付）'!$1:$1,0)),"")=0,"",IFERROR(INDEX('[1]12日_公式練習①-結果表（貼付）'!$A:$Z,MATCH($B15,'[1]12日_公式練習①-結果表（貼付）'!$B:$B,0),MATCH(P$11,'[1]12日_公式練習①-結果表（貼付）'!$1:$1,0)),"")) | Q15: =IF(P15="","",COUNTIF($P$13:P15,"<>"&"")) | R15: =IFERROR(RANK(Q15,$Q$13:$Q$46,1),"") | S15: =IF(IFERROR(INDEX('[1]12日_公式練習①-結果表（貼付）'!$A:$Z,MATCH($A15,'[1]12日_公式練習①-結果表（貼付）'!$A:$A,0),MATCH(S$11,'[1]12日_公式練習①-結果表（貼付）'!$1:$1,0)),"")=0,"",IFERROR(INDEX('[1]12日_公式練習①-結果表（貼付）'!$A:$Z,MATCH($A15,'[1]12日_公式練習①-結果表（貼付）'!$A:$A,0),MATCH(S$11,'[1]12日_公式練習①-結果表（貼付）'!$1:$1,0)),""))
A16: =IF(OR('[1]12日_公式練習①-結果表（貼付）'!A5="DNF",'[1]12日_公式練習①-結果表（貼付）'!A5="DNS",'[1]12日_公式練習①-結果表（貼付）'!A5="DQ"),'[1]12日_公式練習①-結果表（貼付）'!A5,IF(MAX('[1]12日_公式練習①-結果表（貼付）'!$A:$A)>A15,A15+1,"")) -> 4 | B16: =IFERROR(INDEX('[1]12日_公式練習①-結果表（貼付）'!A5:$Z$50,MATCH($A16,'[1]12日_公式練習①-結果表（貼付）'!A5:$A$50,0),MATCH('12日_公式練習①-結果表'!B$11,'[1]12日_公式練習①-結果表（貼付）'!$1:$1,0)),"") -> 47 | D16: =IFERROR(INDEX('[1]12日_公式練習①-結果表（貼付）'!$A:$Z,MATCH($B16,'[1]12日_公式練習①-結果表（貼付）'!$B:$B,0),MATCH('12日_公式練習①-結果表'!D$11,'[1]12日_公式練習①-結果表（貼付）'!$1:$1,0)),"") -> 大島 良介 | E16: =IFERROR(INDEX('[1]12日_公式練習①-結果表（貼付）'!$A:$Z,MATCH($B16,'[1]12日_公式練習①-結果表（貼付）'!$B:$B,0),MATCH('12日_公式練習①-結果表'!E$11,'[1]12日_公式練習①-結果表（貼付）'!$1:$1,0)),"") -> TONY KART/YAMAHA | F16: =IFERROR(INDEX('[1]12日_公式練習①-結果表（貼付）'!$A:$Z,MATCH($B16,'[1]12日_公式練習①-結果表（貼付）'!$B:$B,0),MATCH('12日_公式練習①-結果表'!F$11,'[1]12日_公式練習①-結果表（貼付）'!$1:$1,0)),"") -> RS-1 | G16: =IFERROR(INDEX('[1]12日_公式練習①-結果表（貼付）'!$A:$Z,MATCH($B16,'[1]12日_公式練習①-結果表（貼付）'!$B:$B,0),MATCH('12日_公式練習①-結果表'!G$11,'[1]12日_公式練習①-結果表（貼付）'!$1:$1,0)),"") -> BS | H16: =IF(A16="DNS","ｽﾀｰﾄ出来ず",IF(A16="DQ","失 格",IFERROR(INDEX('[1]12日_公式練習①-結果表（貼付）'!$A:$Z,MATCH($B16,'[1]12日_公式練習①-結果表（貼付）'!$B:$B,0),MATCH('12日_公式練習①-結果表'!H$11,'[1]12日_公式練習①-結果表（貼付）'!$1:$1,0)),""))) -> 54.866 | J16: =IF(A16="DNS","",IF(A16="DQ","",IFERROR(INDEX('[1]12日_公式練習①-結果表（貼付）'!$A:$Z,MATCH($B16,'[1]12日_公式練習①-結果表（貼付）'!$B:$B,0),MATCH('12日_公式練習①-結果表'!J$11,'[1]12日_公式練習①-結果表（貼付）'!$1:$1,0)),""))) -> 0.444 | K16: =IF(A16="DNS","",IF(A16="DQ","",IFERROR(INDEX('[1]12日_公式練習①-結果表（貼付）'!$A:$Z,MATCH($B16,'[1]12日_公式練習①-結果表（貼付）'!$B:$B,0),MATCH('12日_公式練習①-結果表'!K$11,'[1]12日_公式練習①-結果表（貼付）'!$1:$1,0)),""))) -> 0.004 | L16: =IF(A16="DNS","",IF(A16="DQ","",IFERROR(INDEX('[1]12日_公式練習①-結果表（貼付）'!$A:$Z,MATCH($B16,'[1]12日_公式練習①-結果表（貼付）'!$B:$B,0),MATCH("In Lap",'[1]12日_公式練習①-結果表（貼付）'!$1:$1,0))&"/"&INDEX('[1]12日_公式練習①-結果表（貼付）'!$A:$Z,MATCH($B16,'[1]12日_公式練習①-結果表（貼付）'!$B:$B,0),MATCH("Laps",'[1]12日_公式練習①-結果表（貼付）'!$1:$1,0)),""))) -> 2/9 | P16: =IF(IFERROR(INDEX('[1]12日_公式練習①-結果表（貼付）'!$A:$Z,MATCH($B16,'[1]12日_公式練習①-結果表（貼付）'!$B:$B,0),MATCH(P$11,'[1]12日_公式練習①-結果表（貼付）'!$1:$1,0)),"")=0,"",IFERROR(INDEX('[1]12日_公式練習①-結果表（貼付）'!$A:$Z,MATCH($B16,'[1]12日_公式練習①-結果表（貼付）'!$B:$B,0),MATCH(P$11,'[1]12日_公式練習①-結果表（貼付）'!$1:$1,0)),"")) | Q16: =IF(P16="","",COUNTIF($P$13:P16,"<>"&"")) | R16: =IFERROR(RANK(Q16,$Q$13:$Q$46,1),"") | S16: =IF(IFERROR(INDEX('[1]12日_公式練習①-結果表（貼付）'!$A:$Z,MATCH($A16,'[1]12日_公式練習①-結果表（貼付）'!$A:$A,0),MATCH(S$11,'[1]12日_公式練習①-結果表（貼付）'!$1:$1,0)),"")=0,"",IFERROR(INDEX('[1]12日_公式練習①-結果表（貼付）'!$A:$Z,MATCH($A16,'[1]12日_公式練習①-結果表（貼付）'!$A:$A,0),MATCH(S$11,'[1]12日_公式練習①-結果表（貼付）'!$1:$1,0)),""))
A17: =IF(OR('[1]12日_公式練習①-結果表（貼付）'!A6="DNF",'[1]12日_公式練習①-結果表（貼付）'!A6="DNS",'[1]12日_公式練習①-結果表（貼付）'!A6="DQ"),'[1]12日_公式練習①-結果表（貼付）'!A6,IF(MAX('[1]12日_公式練習①-結果表（貼付）'!$A:$A)>A16,A16+1,"")) -> 5 | B17: =IFERROR(INDEX('[1]12日_公式練習①-結果表（貼付）'!A6:$Z$50,MATCH($A17,'[1]12日_公式練習①-結果表（貼付）'!A6:$A$50,0),MATCH('12日_公式練習①-結果表'!B$11,'[1]12日_公式練習①-結果表（貼付）'!$1:$1,0)),"") -> 16 | D17: =IFERROR(INDEX('[1]12日_公式練習①-結果表（貼付）'!$A:$Z,MATCH($B17,'[1]12日_公式練習①-結果表（貼付）'!$B:$B,0),MATCH('12日_公式練習①-結果表'!D$11,'[1]12日_公式練習①-結果表（貼付）'!$1:$1,0)),"") -> 佐藤 こころ | E17: =IFERROR(INDEX('[1]12日_公式練習①-結果表（貼付）'!$A:$Z,MATCH($B17,'[1]12日_公式練習①-結果表（貼付）'!$B:$B,0),MATCH('12日_公式練習①-結果表'!E$11,'[1]12日_公式練習①-結果表（貼付）'!$1:$1,0)),"") -> EXPRIT/YAMAHA | F17: =IFERROR(INDEX('[1]12日_公式練習①-結果表（貼付）'!$A:$Z,MATCH($B17,'[1]12日_公式練習①-結果表（貼付）'!$B:$B,0),MATCH('12日_公式練習①-結果表'!F$11,'[1]12日_公式練習①-結果表（貼付）'!$1:$1,0)),"") -> チームナガオ | G17: =IFERROR(INDEX('[1]12日_公式練習①-結果表（貼付）'!$A:$Z,MATCH($B17,'[1]12日_公式練習①-結果表（貼付）'!$B:$B,0),MATCH('12日_公式練習①-結果表'!G$11,'[1]12日_公式練習①-結果表（貼付）'!$1:$1,0)),"") -> BS | H17: =IF(A17="DNS","ｽﾀｰﾄ出来ず",IF(A17="DQ","失 格",IFERROR(INDEX('[1]12日_公式練習①-結果表（貼付）'!$A:$Z,MATCH($B17,'[1]12日_公式練習①-結果表（貼付）'!$B:$B,0),MATCH('12日_公式練習①-結果表'!H$11,'[1]12日_公式練習①-結果表（貼付）'!$1:$1,0)),""))) -> 54.892 | J17: =IF(A17="DNS","",IF(A17="DQ","",IFERROR(INDEX('[1]12日_公式練習①-結果表（貼付）'!$A:$Z,MATCH($B17,'[1]12日_公式練習①-結果表（貼付）'!$B:$B,0),MATCH('12日_公式練習①-結果表'!J$11,'[1]12日_公式練習①-結果表（貼付）'!$1:$1,0)),""))) -> 0.47 | K17: =IF(A17="DNS","",IF(A17="DQ","",IFERROR(INDEX('[1]12日_公式練習①-結果表（貼付）'!$A:$Z,MATCH($B17,'[1]12日_公式練習①-結果表（貼付）'!$B:$B,0),MATCH('12日_公式練習①-結果表'!K$11,'[1]12日_公式練習①-結果表（貼付）'!$1:$1,0)),""))) -> 0.026 | L17: =IF(A17="DNS","",IF(A17="DQ","",IFERROR(INDEX('[1]12日_公式練習①-結果表（貼付）'!$A:$Z,MATCH($B17,'[1]12日_公式練習①-結果表（貼付）'!$B:$B,0),MATCH("In Lap",'[1]12日_公式練習①-結果表（貼付）'!$1:$1,0))&"/"&INDEX('[1]12日_公式練習①-結果表（貼付）'!$A:$Z,MATCH($B17,'[1]12日_公式練習①-結果表（貼付）'!$B:$B,0),MATCH("Laps",'[1]12日_公式練習①-結果表（貼付）'!$1:$1,0)),""))) -> 4/10 | P17: =IF(IFERROR(INDEX('[1]12日_公式練習①-結果表（貼付）'!$A:$Z,MATCH($B17,'[1]12日_公式練習①-結果表（貼付）'!$B:$B,0),MATCH(P$11,'[1]12日_公式練習①-結果表（貼付）'!$1:$1,0)),"")=0,"",IFERROR(INDEX('[1]12日_公式練習①-結果表（貼付）'!$A:$Z,MATCH($B17,'[1]12日_公式練習①-結果表（貼付）'!$B:$B,0),MATCH(P$11,'[1]12日_公式練習①-結果表（貼付）'!$1:$1,0)),"")) | Q17: =IF(P17="","",COUNTIF($P$13:P17,"<>"&"")) | R17: =IFERROR(RANK(Q17,$Q$13:$Q$46,1),"") | S17: =IF(IFERROR(INDEX('[1]12日_公式練習①-結果表（貼付）'!$A:$Z,MATCH($A17,'[1]12日_公式練習①-結果表（貼付）'!$A:$A,0),MATCH(S$11,'[1]12日_公式練習①-結果表（貼付）'!$1:$1,0)),"")=0,"",IFERROR(INDEX('[1]12日_公式練習①-結果表（貼付）'!$A:$Z,MATCH($A17,'[1]12日_公式練習①-結果表（貼付）'!$A:$A,0),MATCH(S$11,'[1]12日_公式練習①-結果表（貼付）'!$1:$1,0)),""))
A18: =IF(OR('[1]12日_公式練習①-結果表（貼付）'!A7="DNF",'[1]12日_公式練習①-結果表（貼付）'!A7="DNS",'[1]12日_公式練習①-結果表（貼付）'!A7="DQ"),'[1]12日_公式練習①-結果表（貼付）'!A7,IF(MAX('[1]12日_公式練習①-結果表（貼付）'!$A:$A)>A17,A17+1,"")) -> 6 | B18: =IFERROR(INDEX('[1]12日_公式練習①-結果表（貼付）'!A7:$Z$50,MATCH($A18,'[1]12日_公式練習①-結果表（貼付）'!A7:$A$50,0),MATCH('12日_公式練習①-結果表'!B$11,'[1]12日_公式練習①-結果表（貼付）'!$1:$1,0)),"") -> 15 | D18: =IFERROR(INDEX('[1]12日_公式練習①-結果表（貼付）'!$A:$Z,MATCH($B18,'[1]12日_公式練習①-結果表（貼付）'!$B:$B,0),MATCH('12日_公式練習①-結果表'!D$11,'[1]12日_公式練習①-結果表（貼付）'!$1:$1,0)),"") -> 髙田 陽大 | E18: =IFERROR(INDEX('[1]12日_公式練習①-結果表（貼付）'!$A:$Z,MATCH($B18,'[1]12日_公式練習①-結果表（貼付）'!$B:$B,0),MATCH('12日_公式練習①-結果表'!E$11,'[1]12日_公式練習①-結果表（貼付）'!$1:$1,0)),"") -> Birel ART/YAMAHA | F18: =IFERROR(INDEX('[1]12日_公式練習①-結果表（貼付）'!$A:$Z,MATCH($B18,'[1]12日_公式練習①-結果表（貼付）'!$B:$B,0),MATCH('12日_公式練習①-結果表'!F$11,'[1]12日_公式練習①-結果表（貼付）'!$1:$1,0)),"") -> Super Racing Junkie! | G18: =IFERROR(INDEX('[1]12日_公式練習①-結果表（貼付）'!$A:$Z,MATCH($B18,'[1]12日_公式練習①-結果表（貼付）'!$B:$B,0),MATCH('12日_公式練習①-結果表'!G$11,'[1]12日_公式練習①-結果表（貼付）'!$1:$1,0)),"") -> BS | H18: =IF(A18="DNS","ｽﾀｰﾄ出来ず",IF(A18="DQ","失 格",IFERROR(INDEX('[1]12日_公式練習①-結果表（貼付）'!$A:$Z,MATCH($B18,'[1]12日_公式練習①-結果表（貼付）'!$B:$B,0),MATCH('12日_公式練習①-結果表'!H$11,'[1]12日_公式練習①-結果表（貼付）'!$1:$1,0)),""))) -> 54.923 | J18: =IF(A18="DNS","",IF(A18="DQ","",IFERROR(INDEX('[1]12日_公式練習①-結果表（貼付）'!$A:$Z,MATCH($B18,'[1]12日_公式練習①-結果表（貼付）'!$B:$B,0),MATCH('12日_公式練習①-結果表'!J$11,'[1]12日_公式練習①-結果表（貼付）'!$1:$1,0)),""))) -> 0.501 | K18: =IF(A18="DNS","",IF(A18="DQ","",IFERROR(INDEX('[1]12日_公式練習①-結果表（貼付）'!$A:$Z,MATCH($B18,'[1]12日_公式練習①-結果表（貼付）'!$B:$B,0),MATCH('12日_公式練習①-結果表'!K$11,'[1]12日_公式練習①-結果表（貼付）'!$1:$1,0)),""))) -> 0.031 | L18: =IF(A18="DNS","",IF(A18="DQ","",IFERROR(INDEX('[1]12日_公式練習①-結果表（貼付）'!$A:$Z,MATCH($B18,'[1]12日_公式練習①-結果表（貼付）'!$B:$B,0),MATCH("In Lap",'[1]12日_公式練習①-結果表（貼付）'!$1:$1,0))&"/"&INDEX('[1]12日_公式練習①-結果表（貼付）'!$A:$Z,MATCH($B18,'[1]12日_公式練習①-結果表（貼付）'!$B:$B,0),MATCH("Laps",'[1]12日_公式練習①-結果表（貼付）'!$1:$1,0)),""))) -> 5/10 | P18: =IF(IFERROR(INDEX('[1]12日_公式練習①-結果表（貼付）'!$A:$Z,MATCH($B18,'[1]12日_公式練習①-結果表（貼付）'!$B:$B,0),MATCH(P$11,'[1]12日_公式練習①-結果表（貼付）'!$1:$1,0)),"")=0,"",IFERROR(INDEX('[1]12日_公式練習①-結果表（貼付）'!$A:$Z,MATCH($B18,'[1]12日_公式練習①-結果表（貼付）'!$B:$B,0),MATCH(P$11,'[1]12日_公式練習①-結果表（貼付）'!$1:$1,0)),"")) | Q18: =IF(P18="","",COUNTIF($P$13:P18,"<>"&"")) | R18: =IFERROR(RANK(Q18,$Q$13:$Q$46,1),"") | S18: =IF(IFERROR(INDEX('[1]12日_公式練習①-結果表（貼付）'!$A:$Z,MATCH($A18,'[1]12日_公式練習①-結果表（貼付）'!$A:$A,0),MATCH(S$11,'[1]12日_公式練習①-結果表（貼付）'!$1:$1,0)),"")=0,"",IFERROR(INDEX('[1]12日_公式練習①-結果表（貼付）'!$A:$Z,MATCH($A18,'[1]12日_公式練習①-結果表（貼付）'!$A:$A,0),MATCH(S$11,'[1]12日_公式練習①-結果表（貼付）'!$1:$1,0)),""))
A19: =IF(OR('[1]12日_公式練習①-結果表（貼付）'!A8="DNF",'[1]12日_公式練習①-結果表（貼付）'!A8="DNS",'[1]12日_公式練習①-結果表（貼付）'!A8="DQ"),'[1]12日_公式練習①-結果表（貼付）'!A8,IF(MAX('[1]12日_公式練習①-結果表（貼付）'!$A:$A)>A18,A18+1,"")) -> 7 | B19: =IFERROR(INDEX('[1]12日_公式練習①-結果表（貼付）'!A8:$Z$50,MATCH($A19,'[1]12日_公式練習①-結果表（貼付）'!A8:$A$50,0),MATCH('12日_公式練習①-結果表'!B$11,'[1]12日_公式練習①-結果表（貼付）'!$1:$1,0)),"") -> 22 | D19: =IFERROR(INDEX('[1]12日_公式練習①-結果表（貼付）'!$A:$Z,MATCH($B19,'[1]12日_公式練習①-結果表（貼付）'!$B:$B,0),MATCH('12日_公式練習①-結果表'!D$11,'[1]12日_公式練習①-結果表（貼付）'!$1:$1,0)),"") -> 酒井 翔太 | E19: =IFERROR(INDEX('[1]12日_公式練習①-結果表（貼付）'!$A:$Z,MATCH($B19,'[1]12日_公式練習①-結果表（貼付）'!$B:$B,0),MATCH('12日_公式練習①-結果表'!E$11,'[1]12日_公式練習①-結果表（貼付）'!$1:$1,0)),"") -> TONY KART/YAMAHA | F19: =IFERROR(INDEX('[1]12日_公式練習①-結果表（貼付）'!$A:$Z,MATCH($B19,'[1]12日_公式練習①-結果表（貼付）'!$B:$B,0),MATCH('12日_公式練習①-結果表'!F$11,'[1]12日_公式練習①-結果表（貼付）'!$1:$1,0)),"") -> FIRST GARAGE BEMAX | G19: =IFERROR(INDEX('[1]12日_公式練習①-結果表（貼付）'!$A:$Z,MATCH($B19,'[1]12日_公式練習①-結果表（貼付）'!$B:$B,0),MATCH('12日_公式練習①-結果表'!G$11,'[1]12日_公式練習①-結果表（貼付）'!$1:$1,0)),"") -> BS | H19: =IF(A19="DNS","ｽﾀｰﾄ出来ず",IF(A19="DQ","失 格",IFERROR(INDEX('[1]12日_公式練習①-結果表（貼付）'!$A:$Z,MATCH($B19,'[1]12日_公式練習①-結果表（貼付）'!$B:$B,0),MATCH('12日_公式練習①-結果表'!H$11,'[1]12日_公式練習①-結果表（貼付）'!$1:$1,0)),""))) -> 54.97 | J19: =IF(A19="DNS","",IF(A19="DQ","",IFERROR(INDEX('[1]12日_公式練習①-結果表（貼付）'!$A:$Z,MATCH($B19,'[1]12日_公式練習①-結果表（貼付）'!$B:$B,0),MATCH('12日_公式練習①-結果表'!J$11,'[1]12日_公式練習①-結果表（貼付）'!$1:$1,0)),""))) -> 0.548 | K19: =IF(A19="DNS","",IF(A19="DQ","",IFERROR(INDEX('[1]12日_公式練習①-結果表（貼付）'!$A:$Z,MATCH($B19,'[1]12日_公式練習①-結果表（貼付）'!$B:$B,0),MATCH('12日_公式練習①-結果表'!K$11,'[1]12日_公式練習①-結果表（貼付）'!$1:$1,0)),""))) -> 0.047 | L19: =IF(A19="DNS","",IF(A19="DQ","",IFERROR(INDEX('[1]12日_公式練習①-結果表（貼付）'!$A:$Z,MATCH($B19,'[1]12日_公式練習①-結果表（貼付）'!$B:$B,0),MATCH("In Lap",'[1]12日_公式練習①-結果表（貼付）'!$1:$1,0))&"/"&INDEX('[1]12日_公式練習①-結果表（貼付）'!$A:$Z,MATCH($B19,'[1]12日_公式練習①-結果表（貼付）'!$B:$B,0),MATCH("Laps",'[1]12日_公式練習①-結果表（貼付）'!$1:$1,0)),""))) -> 3/4 | P19: =IF(IFERROR(INDEX('[1]12日_公式練習①-結果表（貼付）'!$A:$Z,MATCH($B19,'[1]12日_公式練習①-結果表（貼付）'!$B:$B,0),MATCH(P$11,'[1]12日_公式練習①-結果表（貼付）'!$1:$1,0)),"")=0,"",IFERROR(INDEX('[1]12日_公式練習①-結果表（貼付）'!$A:$Z,MATCH($B19,'[1]12日_公式練習①-結果表（貼付）'!$B:$B,0),MATCH(P$11,'[1]12日_公式練習①-結果表（貼付）'!$1:$1,0)),"")) | Q19: =IF(P19="","",COUNTIF($P$13:P19,"<>"&"")) | R19: =IFERROR(RANK(Q19,$Q$13:$Q$46,1),"") | S19: =IF(IFERROR(INDEX('[1]12日_公式練習①-結果表（貼付）'!$A:$Z,MATCH($A19,'[1]12日_公式練習①-結果表（貼付）'!$A:$A,0),MATCH(S$11,'[1]12日_公式練習①-結果表（貼付）'!$1:$1,0)),"")=0,"",IFERROR(INDEX('[1]12日_公式練習①-結果表（貼付）'!$A:$Z,MATCH($A19,'[1]12日_公式練習①-結果表（貼付）'!$A:$A,0),MATCH(S$11,'[1]12日_公式練習①-結果表（貼付）'!$1:$1,0)),""))
A20: =IF(OR('[1]12日_公式練習①-結果表（貼付）'!A9="DNF",'[1]12日_公式練習①-結果表（貼付）'!A9="DNS",'[1]12日_公式練習①-結果表（貼付）'!A9="DQ"),'[1]12日_公式練習①-結果表（貼付）'!A9,IF(MAX('[1]12日_公式練習①-結果表（貼付）'!$A:$A)>A19,A19+1,"")) -> 8 | B20: =IFERROR(INDEX('[1]12日_公式練習①-結果表（貼付）'!A9:$Z$50,MATCH($A20,'[1]12日_公式練習①-結果表（貼付）'!A9:$A$50,0),MATCH('12日_公式練習①-結果表'!B$11,'[1]12日_公式練習①-結果表（貼付）'!$1:$1,0)),"") -> 86 | D20: =IFERROR(INDEX('[1]12日_公式練習①-結果表（貼付）'!$A:$Z,MATCH($B20,'[1]12日_公式練習①-結果表（貼付）'!$B:$B,0),MATCH('12日_公式練習①-結果表'!D$11,'[1]12日_公式練習①-結果表（貼付）'!$1:$1,0)),"") -> 内海 陽翔 | E20: =IFERROR(INDEX('[1]12日_公式練習①-結果表（貼付）'!$A:$Z,MATCH($B20,'[1]12日_公式練習①-結果表（貼付）'!$B:$B,0),MATCH('12日_公式練習①-結果表'!E$11,'[1]12日_公式練習①-結果表（貼付）'!$1:$1,0)),"") -> REDSPEED/YAMAHA | F20: =IFERROR(INDEX('[1]12日_公式練習①-結果表（貼付）'!$A:$Z,MATCH($B20,'[1]12日_公式練習①-結果表（貼付）'!$B:$B,0),MATCH('12日_公式練習①-結果表'!F$11,'[1]12日_公式練習①-結果表（貼付）'!$1:$1,0)),"") -> シナジーリンクス | G20: =IFERROR(INDEX('[1]12日_公式練習①-結果表（貼付）'!$A:$Z,MATCH($B20,'[1]12日_公式練習①-結果表（貼付）'!$B:$B,0),MATCH('12日_公式練習①-結果表'!G$11,'[1]12日_公式練習①-結果表（貼付）'!$1:$1,0)),"") -> BS | H20: =IF(A20="DNS","ｽﾀｰﾄ出来ず",IF(A20="DQ","失 格",IFERROR(INDEX('[1]12日_公式練習①-結果表（貼付）'!$A:$Z,MATCH($B20,'[1]12日_公式練習①-結果表（貼付）'!$B:$B,0),MATCH('12日_公式練習①-結果表'!H$11,'[1]12日_公式練習①-結果表（貼付）'!$1:$1,0)),""))) -> 54.994 | J20: =IF(A20="DNS","",IF(A20="DQ","",IFERROR(INDEX('[1]12日_公式練習①-結果表（貼付）'!$A:$Z,MATCH($B20,'[1]12日_公式練習①-結果表（貼付）'!$B:$B,0),MATCH('12日_公式練習①-結果表'!J$11,'[1]12日_公式練習①-結果表（貼付）'!$1:$1,0)),""))) -> 0.572 | K20: =IF(A20="DNS","",IF(A20="DQ","",IFERROR(INDEX('[1]12日_公式練習①-結果表（貼付）'!$A:$Z,MATCH($B20,'[1]12日_公式練習①-結果表（貼付）'!$B:$B,0),MATCH('12日_公式練習①-結果表'!K$11,'[1]12日_公式練習①-結果表（貼付）'!$1:$1,0)),""))) -> 0.024 | L20: =IF(A20="DNS","",IF(A20="DQ","",IFERROR(INDEX('[1]12日_公式練習①-結果表（貼付）'!$A:$Z,MATCH($B20,'[1]12日_公式練習①-結果表（貼付）'!$B:$B,0),MATCH("In Lap",'[1]12日_公式練習①-結果表（貼付）'!$1:$1,0))&"/"&INDEX('[1]12日_公式練習①-結果表（貼付）'!$A:$Z,MATCH($B20,'[1]12日_公式練習①-結果表（貼付）'!$B:$B,0),MATCH("Laps",'[1]12日_公式練習①-結果表（貼付）'!$1:$1,0)),""))) -> 4/10 | P20: =IF(IFERROR(INDEX('[1]12日_公式練習①-結果表（貼付）'!$A:$Z,MATCH($B20,'[1]12日_公式練習①-結果表（貼付）'!$B:$B,0),MATCH(P$11,'[1]12日_公式練習①-結果表（貼付）'!$1:$1,0)),"")=0,"",IFERROR(INDEX('[1]12日_公式練習①-結果表（貼付）'!$A:$Z,MATCH($B20,'[1]12日_公式練習①-結果表（貼付）'!$B:$B,0),MATCH(P$11,'[1]12日_公式練習①-結果表（貼付）'!$1:$1,0)),"")) | Q20: =IF(P20="","",COUNTIF($P$13:P20,"<>"&"")) | R20: =IFERROR(RANK(Q20,$Q$13:$Q$46,1),"") | S20: =IF(IFERROR(INDEX('[1]12日_公式練習①-結果表（貼付）'!$A:$Z,MATCH($A20,'[1]12日_公式練習①-結果表（貼付）'!$A:$A,0),MATCH(S$11,'[1]12日_公式練習①-結果表（貼付）'!$1:$1,0)),"")=0,"",IFERROR(INDEX('[1]12日_公式練習①-結果表（貼付）'!$A:$Z,MATCH($A20,'[1]12日_公式練習①-結果表（貼付）'!$A:$A,0),MATCH(S$11,'[1]12日_公式練習①-結果表（貼付）'!$1:$1,0)),""))
A21: =IF(OR('[1]12日_公式練習①-結果表（貼付）'!A10="DNF",'[1]12日_公式練習①-結果表（貼付）'!A10="DNS",'[1]12日_公式練習①-結果表（貼付）'!A10="DQ"),'[1]12日_公式練習①-結果表（貼付）'!A10,IF(MAX('[1]12日_公式練習①-結果表（貼付）'!$A:$A)>A20,A20+1,"")) -> 9 | B21: =IFERROR(INDEX('[1]12日_公式練習①-結果表（貼付）'!A10:$Z$50,MATCH($A21,'[1]12日_公式練習①-結果表（貼付）'!A10:$A$50,0),MATCH('12日_公式練習①-結果表'!B$11,'[1]12日_公式練習①-結果表（貼付）'!$1:$1,0)),"") -> 74 | D21: =IFERROR(INDEX('[1]12日_公式練習①-結果表（貼付）'!$A:$Z,MATCH($B21,'[1]12日_公式練習①-結果表（貼付）'!$B:$B,0),MATCH('12日_公式練習①-結果表'!D$11,'[1]12日_公式練習①-結果表（貼付）'!$1:$1,0)),"") -> 宮地 健太朗 | E21: =IFERROR(INDEX('[1]12日_公式練習①-結果表（貼付）'!$A:$Z,MATCH($B21,'[1]12日_公式練習①-結果表（貼付）'!$B:$B,0),MATCH('12日_公式練習①-結果表'!E$11,'[1]12日_公式練習①-結果表（貼付）'!$1:$1,0)),"") -> INTREPID/YAMAHA | F21: =IFERROR(INDEX('[1]12日_公式練習①-結果表（貼付）'!$A:$Z,MATCH($B21,'[1]12日_公式練習①-結果表（貼付）'!$B:$B,0),MATCH('12日_公式練習①-結果表'!F$11,'[1]12日_公式練習①-結果表（貼付）'!$1:$1,0)),"") -> Ash | G21: =IFERROR(INDEX('[1]12日_公式練習①-結果表（貼付）'!$A:$Z,MATCH($B21,'[1]12日_公式練習①-結果表（貼付）'!$B:$B,0),MATCH('12日_公式練習①-結果表'!G$11,'[1]12日_公式練習①-結果表（貼付）'!$1:$1,0)),"") -> BS | H21: =IF(A21="DNS","ｽﾀｰﾄ出来ず",IF(A21="DQ","失 格",IFERROR(INDEX('[1]12日_公式練習①-結果表（貼付）'!$A:$Z,MATCH($B21,'[1]12日_公式練習①-結果表（貼付）'!$B:$B,0),MATCH('12日_公式練習①-結果表'!H$11,'[1]12日_公式練習①-結果表（貼付）'!$1:$1,0)),""))) -> 55.044 | I21: =IF(H21<1,"",IF($I$11>H21,"R","")) | J21: =IF(A21="DNS","",IF(A21="DQ","",IFERROR(INDEX('[1]12日_公式練習①-結果表（貼付）'!$A:$Z,MATCH($B21,'[1]12日_公式練習①-結果表（貼付）'!$B:$B,0),MATCH('12日_公式練習①-結果表'!J$11,'[1]12日_公式練習①-結果表（貼付）'!$1:$1,0)),""))) -> 0.622 | K21: =IF(A21="DNS","",IF(A21="DQ","",IFERROR(INDEX('[1]12日_公式練習①-結果表（貼付）'!$A:$Z,MATCH($B21,'[1]12日_公式練習①-結果表（貼付）'!$B:$B,0),MATCH('12日_公式練習①-結果表'!K$11,'[1]12日_公式練習①-結果表（貼付）'!$1:$1,0)),""))) -> 0.05 | L21: =IF(A21="DNS","",IF(A21="DQ","",IFERROR(INDEX('[1]12日_公式練習①-結果表（貼付）'!$A:$Z,MATCH($B21,'[1]12日_公式練習①-結果表（貼付）'!$B:$B,0),MATCH("In Lap",'[1]12日_公式練習①-結果表（貼付）'!$1:$1,0))&"/"&INDEX('[1]12日_公式練習①-結果表（貼付）'!$A:$Z,MATCH($B21,'[1]12日_公式練習①-結果表（貼付）'!$B:$B,0),MATCH("Laps",'[1]12日_公式練習①-結果表（貼付）'!$1:$1,0)),""))) -> 9/9 | P21: =IF(IFERROR(INDEX('[1]12日_公式練習①-結果表（貼付）'!$A:$Z,MATCH($B21,'[1]12日_公式練習①-結果表（貼付）'!$B:$B,0),MATCH(P$11,'[1]12日_公式練習①-結果表（貼付）'!$1:$1,0)),"")=0,"",IFERROR(INDEX('[1]12日_公式練習①-結果表（貼付）'!$A:$Z,MATCH($B21,'[1]12日_公式練習①-結果表（貼付）'!$B:$B,0),MATCH(P$11,'[1]12日_公式練習①-結果表（貼付）'!$1:$1,0)),"")) | Q21: =IF(P21="","",COUNTIF($P$13:P21,"<>"&"")) | R21: =IFERROR(RANK(Q21,$Q$13:$Q$46,1),"") | S21: =IF(IFERROR(INDEX('[1]12日_公式練習①-結果表（貼付）'!$A:$Z,MATCH($A21,'[1]12日_公式練習①-結果表（貼付）'!$A:$A,0),MATCH(S$11,'[1]12日_公式練習①-結果表（貼付）'!$1:$1,0)),"")=0,"",IFERROR(INDEX('[1]12日_公式練習①-結果表（貼付）'!$A:$Z,MATCH($A21,'[1]12日_公式練習①-結果表（貼付）'!$A:$A,0),MATCH(S$11,'[1]12日_公式練習①-結果表（貼付）'!$1:$1,0)),""))
A22: =IF(OR('[1]12日_公式練習①-結果表（貼付）'!A11="DNF",'[1]12日_公式練習①-結果表（貼付）'!A11="DNS",'[1]12日_公式練習①-結果表（貼付）'!A11="DQ"),'[1]12日_公式練習①-結果表（貼付）'!A11,IF(MAX('[1]12日_公式練習①-結果表（貼付）'!$A:$A)>A21,A21+1,"")) -> 10 | B22: =IFERROR(INDEX('[1]12日_公式練習①-結果表（貼付）'!A11:$Z$50,MATCH($A22,'[1]12日_公式練習①-結果表（貼付）'!A11:$A$50,0),MATCH('12日_公式練習①-結果表'!B$11,'[1]12日_公式練習①-結果表（貼付）'!$1:$1,0)),"") -> 18 | D22: =IFERROR(INDEX('[1]12日_公式練習①-結果表（貼付）'!$A:$Z,MATCH($B22,'[1]12日_公式練習①-結果表（貼付）'!$B:$B,0),MATCH('12日_公式練習①-結果表'!D$11,'[1]12日_公式練習①-結果表（貼付）'!$1:$1,0)),"") -> 吉田 広樹 | E22: =IFERROR(INDEX('[1]12日_公式練習①-結果表（貼付）'!$A:$Z,MATCH($B22,'[1]12日_公式練習①-結果表（貼付）'!$B:$B,0),MATCH('12日_公式練習①-結果表'!E$11,'[1]12日_公式練習①-結果表（貼付）'!$1:$1,0)),"") -> Birel ART/YAMAHA | F22: =IFERROR(INDEX('[1]12日_公式練習①-結果表（貼付）'!$A:$Z,MATCH($B22,'[1]12日_公式練習①-結果表（貼付）'!$B:$B,0),MATCH('12日_公式練習①-結果表'!F$11,'[1]12日_公式練習①-結果表（貼付）'!$1:$1,0)),"") -> のりものクラブエッフェガーラ | G22: =IFERROR(INDEX('[1]12日_公式練習①-結果表（貼付）'!$A:$Z,MATCH($B22,'[1]12日_公式練習①-結果表（貼付）'!$B:$B,0),MATCH('12日_公式練習①-結果表'!G$11,'[1]12日_公式練習①-結果表（貼付）'!$1:$1,0)),"") -> BS | H22: =IF(A22="DNS","ｽﾀｰﾄ出来ず",IF(A22="DQ","失 格",IFERROR(INDEX('[1]12日_公式練習①-結果表（貼付）'!$A:$Z,MATCH($B22,'[1]12日_公式練習①-結果表（貼付）'!$B:$B,0),MATCH('12日_公式練習①-結果表'!H$11,'[1]12日_公式練習①-結果表（貼付）'!$1:$1,0)),""))) -> 55.063 | I22: =IF(H22<1,"",IF($I$11>H22,"R","")) | J22: =IF(A22="DNS","",IF(A22="DQ","",IFERROR(INDEX('[1]12日_公式練習①-結果表（貼付）'!$A:$Z,MATCH($B22,'[1]12日_公式練習①-結果表（貼付）'!$B:$B,0),MATCH('12日_公式練習①-結果表'!J$11,'[1]12日_公式練習①-結果表（貼付）'!$1:$1,0)),""))) -> 0.641 | K22: =IF(A22="DNS","",IF(A22="DQ","",IFERROR(INDEX('[1]12日_公式練習①-結果表（貼付）'!$A:$Z,MATCH($B22,'[1]12日_公式練習①-結果表（貼付）'!$B:$B,0),MATCH('12日_公式練習①-結果表'!K$11,'[1]12日_公式練習①-結果表（貼付）'!$1:$1,0)),""))) -> 0.019 | L22: =IF(A22="DNS","",IF(A22="DQ","",IFERROR(INDEX('[1]12日_公式練習①-結果表（貼付）'!$A:$Z,MATCH($B22,'[1]12日_公式練習①-結果表（貼付）'!$B:$B,0),MATCH("In Lap",'[1]12日_公式練習①-結果表（貼付）'!$1:$1,0))&"/"&INDEX('[1]12日_公式練習①-結果表（貼付）'!$A:$Z,MATCH($B22,'[1]12日_公式練習①-結果表（貼付）'!$B:$B,0),MATCH("Laps",'[1]12日_公式練習①-結果表（貼付）'!$1:$1,0)),""))) -> 4/10 | P22: =IF(IFERROR(INDEX('[1]12日_公式練習①-結果表（貼付）'!$A:$Z,MATCH($B22,'[1]12日_公式練習①-結果表（貼付）'!$B:$B,0),MATCH(P$11,'[1]12日_公式練習①-結果表（貼付）'!$1:$1,0)),"")=0,"",IFERROR(INDEX('[1]12日_公式練習①-結果表（貼付）'!$A:$Z,MATCH($B22,'[1]12日_公式練習①-結果表（貼付）'!$B:$B,0),MATCH(P$11,'[1]12日_公式練習①-結果表（貼付）'!$1:$1,0)),"")) | Q22: =IF(P22="","",COUNTIF($P$13:P22,"<>"&"")) | R22: =IFERROR(RANK(Q22,$Q$13:$Q$46,1),"") | S22: =IF(IFERROR(INDEX('[1]12日_公式練習①-結果表（貼付）'!$A:$Z,MATCH($A22,'[1]12日_公式練習①-結果表（貼付）'!$A:$A,0),MATCH(S$11,'[1]12日_公式練習①-結果表（貼付）'!$1:$1,0)),"")=0,"",IFERROR(INDEX('[1]12日_公式練習①-結果表（貼付）'!$A:$Z,MATCH($A22,'[1]12日_公式練習①-結果表（貼付）'!$A:$A,0),MATCH(S$11,'[1]12日_公式練習①-結果表（貼付）'!$1:$1,0)),""))
A23: =IF(OR('[1]12日_公式練習①-結果表（貼付）'!A12="DNF",'[1]12日_公式練習①-結果表（貼付）'!A12="DNS",'[1]12日_公式練習①-結果表（貼付）'!A12="DQ"),'[1]12日_公式練習①-結果表（貼付）'!A12,IF(MAX('[1]12日_公式練習①-結果表（貼付）'!$A:$A)>A22,A22+1,"")) -> 11 | B23: =IFERROR(INDEX('[1]12日_公式練習①-結果表（貼付）'!A12:$Z$50,MATCH($A23,'[1]12日_公式練習①-結果表（貼付）'!A12:$A$50,0),MATCH('12日_公式練習①-結果表'!B$11,'[1]12日_公式練習①-結果表（貼付）'!$1:$1,0)),"") -> 51 | D23: =IFERROR(INDEX('[1]12日_公式練習①-結果表（貼付）'!$A:$Z,MATCH($B23,'[1]12日_公式練習①-結果表（貼付）'!$B:$B,0),MATCH('12日_公式練習①-結果表'!D$11,'[1]12日_公式練習①-結果表（貼付）'!$1:$1,0)),"") -> 宮﨑 琉 | E23: =IFERROR(INDEX('[1]12日_公式練習①-結果表（貼付）'!$A:$Z,MATCH($B23,'[1]12日_公式練習①-結果表（貼付）'!$B:$B,0),MATCH('12日_公式練習①-結果表'!E$11,'[1]12日_公式練習①-結果表（貼付）'!$1:$1,0)),"") -> Birel ART/YAMAHA | F23: =IFERROR(INDEX('[1]12日_公式練習①-結果表（貼付）'!$A:$Z,MATCH($B23,'[1]12日_公式練習①-結果表（貼付）'!$B:$B,0),MATCH('12日_公式練習①-結果表'!F$11,'[1]12日_公式練習①-結果表（貼付）'!$1:$1,0)),"") -> ASTECH | G23: =IFERROR(INDEX('[1]12日_公式練習①-結果表（貼付）'!$A:$Z,MATCH($B23,'[1]12日_公式練習①-結果表（貼付）'!$B:$B,0),MATCH('12日_公式練習①-結果表'!G$11,'[1]12日_公式練習①-結果表（貼付）'!$1:$1,0)),"") -> BS | H23: =IF(A23="DNS","ｽﾀｰﾄ出来ず",IF(A23="DQ","失 格",IFERROR(INDEX('[1]12日_公式練習①-結果表（貼付）'!$A:$Z,MATCH($B23,'[1]12日_公式練習①-結果表（貼付）'!$B:$B,0),MATCH('12日_公式練習①-結果表'!H$11,'[1]12日_公式練習①-結果表（貼付）'!$1:$1,0)),""))) -> 55.08 | I23: =IF(H23<1,"",IF($I$11>H23,"R","")) | J23: =IF(A23="DNS","",IF(A23="DQ","",IFERROR(INDEX('[1]12日_公式練習①-結果表（貼付）'!$A:$Z,MATCH($B23,'[1]12日_公式練習①-結果表（貼付）'!$B:$B,0),MATCH('12日_公式練習①-結果表'!J$11,'[1]12日_公式練習①-結果表（貼付）'!$1:$1,0)),""))) -> 0.658 | K23: =IF(A23="DNS","",IF(A23="DQ","",IFERROR(INDEX('[1]12日_公式練習①-結果表（貼付）'!$A:$Z,MATCH($B23,'[1]12日_公式練習①-結果表（貼付）'!$B:$B,0),MATCH('12日_公式練習①-結果表'!K$11,'[1]12日_公式練習①-結果表（貼付）'!$1:$1,0)),""))) -> 0.017 | L23: =IF(A23="DNS","",IF(A23="DQ","",IFERROR(INDEX('[1]12日_公式練習①-結果表（貼付）'!$A:$Z,MATCH($B23,'[1]12日_公式練習①-結果表（貼付）'!$B:$B,0),MATCH("In Lap",'[1]12日_公式練習①-結果表（貼付）'!$1:$1,0))&"/"&INDEX('[1]12日_公式練習①-結果表（貼付）'!$A:$Z,MATCH($B23,'[1]12日_公式練習①-結果表（貼付）'!$B:$B,0),MATCH("Laps",'[1]12日_公式練習①-結果表（貼付）'!$1:$1,0)),""))) -> 3/10 | P23: =IF(IFERROR(INDEX('[1]12日_公式練習①-結果表（貼付）'!$A:$Z,MATCH($B23,'[1]12日_公式練習①-結果表（貼付）'!$B:$B,0),MATCH(P$11,'[1]12日_公式練習①-結果表（貼付）'!$1:$1,0)),"")=0,"",IFERROR(INDEX('[1]12日_公式練習①-結果表（貼付）'!$A:$Z,MATCH($B23,'[1]12日_公式練習①-結果表（貼付）'!$B:$B,0),MATCH(P$11,'[1]12日_公式練習①-結果表（貼付）'!$1:$1,0)),"")) | Q23: =IF(P23="","",COUNTIF($P$13:P23,"<>"&"")) | R23: =IFERROR(RANK(Q23,$Q$13:$Q$46,1),"") | S23: =IF(IFERROR(INDEX('[1]12日_公式練習①-結果表（貼付）'!$A:$Z,MATCH($A23,'[1]12日_公式練習①-結果表（貼付）'!$A:$A,0),MATCH(S$11,'[1]12日_公式練習①-結果表（貼付）'!$1:$1,0)),"")=0,"",IFERROR(INDEX('[1]12日_公式練習①-結果表（貼付）'!$A:$Z,MATCH($A23,'[1]12日_公式練習①-結果表（貼付）'!$A:$A,0),MATCH(S$11,'[1]12日_公式練習①-結果表（貼付）'!$1:$1,0)),""))
A24: =IF(OR('[1]12日_公式練習①-結果表（貼付）'!A13="DNF",'[1]12日_公式練習①-結果表（貼付）'!A13="DNS",'[1]12日_公式練習①-結果表（貼付）'!A13="DQ"),'[1]12日_公式練習①-結果表（貼付）'!A13,IF(MAX('[1]12日_公式練習①-結果表（貼付）'!$A:$A)>A23,A23+1,"")) -> 12 | B24: =IFERROR(INDEX('[1]12日_公式練習①-結果表（貼付）'!A13:$Z$50,MATCH($A24,'[1]12日_公式練習①-結果表（貼付）'!A13:$A$50,0),MATCH('12日_公式練習①-結果表'!B$11,'[1]12日_公式練習①-結果表（貼付）'!$1:$1,0)),"") -> 54 | D24: =IFERROR(INDEX('[1]12日_公式練習①-結果表（貼付）'!$A:$Z,MATCH($B24,'[1]12日_公式練習①-結果表（貼付）'!$B:$B,0),MATCH('12日_公式練習①-結果表'!D$11,'[1]12日_公式練習①-結果表（貼付）'!$1:$1,0)),"") -> 越路 暢哉 | E24: =IFERROR(INDEX('[1]12日_公式練習①-結果表（貼付）'!$A:$Z,MATCH($B24,'[1]12日_公式練習①-結果表（貼付）'!$B:$B,0),MATCH('12日_公式練習①-結果表'!E$11,'[1]12日_公式練習①-結果表（貼付）'!$1:$1,0)),"") -> REDSPEED/YAMAHA | F24: =IFERROR(INDEX('[1]12日_公式練習①-結果表（貼付）'!$A:$Z,MATCH($B24,'[1]12日_公式練習①-結果表（貼付）'!$B:$B,0),MATCH('12日_公式練習①-結果表'!F$11,'[1]12日_公式練習①-結果表（貼付）'!$1:$1,0)),"") -> ONE POINT | G24: =IFERROR(INDEX('[1]12日_公式練習①-結果表（貼付）'!$A:$Z,MATCH($B24,'[1]12日_公式練習①-結果表（貼付）'!$B:$B,0),MATCH('12日_公式練習①-結果表'!G$11,'[1]12日_公式練習①-結果表（貼付）'!$1:$1,0)),"") -> BS | H24: =IF(A24="DNS","ｽﾀｰﾄ出来ず",IF(A24="DQ","失 格",IFERROR(INDEX('[1]12日_公式練習①-結果表（貼付）'!$A:$Z,MATCH($B24,'[1]12日_公式練習①-結果表（貼付）'!$B:$B,0),MATCH('12日_公式練習①-結果表'!H$11,'[1]12日_公式練習①-結果表（貼付）'!$1:$1,0)),""))) -> 55.149 | I24: =IF(H24<1,"",IF($I$11>H24,"R","")) | J24: =IF(A24="DNS","",IF(A24="DQ","",IFERROR(INDEX('[1]12日_公式練習①-結果表（貼付）'!$A:$Z,MATCH($B24,'[1]12日_公式練習①-結果表（貼付）'!$B:$B,0),MATCH('12日_公式練習①-結果表'!J$11,'[1]12日_公式練習①-結果表（貼付）'!$1:$1,0)),""))) -> 0.727 | K24: =IF(A24="DNS","",IF(A24="DQ","",IFERROR(INDEX('[1]12日_公式練習①-結果表（貼付）'!$A:$Z,MATCH($B24,'[1]12日_公式練習①-結果表（貼付）'!$B:$B,0),MATCH('12日_公式練習①-結果表'!K$11,'[1]12日_公式練習①-結果表（貼付）'!$1:$1,0)),""))) -> 0.069 | L24: =IF(A24="DNS","",IF(A24="DQ","",IFERROR(INDEX('[1]12日_公式練習①-結果表（貼付）'!$A:$Z,MATCH($B24,'[1]12日_公式練習①-結果表（貼付）'!$B:$B,0),MATCH("In Lap",'[1]12日_公式練習①-結果表（貼付）'!$1:$1,0))&"/"&INDEX('[1]12日_公式練習①-結果表（貼付）'!$A:$Z,MATCH($B24,'[1]12日_公式練習①-結果表（貼付）'!$B:$B,0),MATCH("Laps",'[1]12日_公式練習①-結果表（貼付）'!$1:$1,0)),""))) -> 5/10 | P24: =IF(IFERROR(INDEX('[1]12日_公式練習①-結果表（貼付）'!$A:$Z,MATCH($B24,'[1]12日_公式練習①-結果表（貼付）'!$B:$B,0),MATCH(P$11,'[1]12日_公式練習①-結果表（貼付）'!$1:$1,0)),"")=0,"",IFERROR(INDEX('[1]12日_公式練習①-結果表（貼付）'!$A:$Z,MATCH($B24,'[1]12日_公式練習①-結果表（貼付）'!$B:$B,0),MATCH(P$11,'[1]12日_公式練習①-結果表（貼付）'!$1:$1,0)),"")) | Q24: =IF(P24="","",COUNTIF($P$13:P24,"<>"&"")) | R24: =IFERROR(RANK(Q24,$Q$13:$Q$46,1),"") | S24: =IF(IFERROR(INDEX('[1]12日_公式練習①-結果表（貼付）'!$A:$Z,MATCH($A24,'[1]12日_公式練習①-結果表（貼付）'!$A:$A,0),MATCH(S$11,'[1]12日_公式練習①-結果表（貼付）'!$1:$1,0)),"")=0,"",IFERROR(INDEX('[1]12日_公式練習①-結果表（貼付）'!$A:$Z,MATCH($A24,'[1]12日_公式練習①-結果表（貼付）'!$A:$A,0),MATCH(S$11,'[1]12日_公式練習①-結果表（貼付）'!$1:$1,0)),""))
A25: =IF(OR('[1]12日_公式練習①-結果表（貼付）'!A14="DNF",'[1]12日_公式練習①-結果表（貼付）'!A14="DNS",'[1]12日_公式練習①-結果表（貼付）'!A14="DQ"),'[1]12日_公式練習①-結果表（貼付）'!A14,IF(MAX('[1]12日_公式練習①-結果表（貼付）'!$A:$A)>A24,A24+1,"")) -> 13 | B25: =IFERROR(INDEX('[1]12日_公式練習①-結果表（貼付）'!A14:$Z$50,MATCH($A25,'[1]12日_公式練習①-結果表（貼付）'!A14:$A$50,0),MATCH('12日_公式練習①-結果表'!B$11,'[1]12日_公式練習①-結果表（貼付）'!$1:$1,0)),"") -> 27 | D25: =IFERROR(INDEX('[1]12日_公式練習①-結果表（貼付）'!$A:$Z,MATCH($B25,'[1]12日_公式練習①-結果表（貼付）'!$B:$B,0),MATCH('12日_公式練習①-結果表'!D$11,'[1]12日_公式練習①-結果表（貼付）'!$1:$1,0)),"") -> 舟橋 弘典 | E25: =IFERROR(INDEX('[1]12日_公式練習①-結果表（貼付）'!$A:$Z,MATCH($B25,'[1]12日_公式練習①-結果表（貼付）'!$B:$B,0),MATCH('12日_公式練習①-結果表'!E$11,'[1]12日_公式練習①-結果表（貼付）'!$1:$1,0)),"") -> KOSMIC/YAMAHA | F25: =IFERROR(INDEX('[1]12日_公式練習①-結果表（貼付）'!$A:$Z,MATCH($B25,'[1]12日_公式練習①-結果表（貼付）'!$B:$B,0),MATCH('12日_公式練習①-結果表'!F$11,'[1]12日_公式練習①-結果表（貼付）'!$1:$1,0)),"") -> HIRAIPROJECT With Ash | G25: =IFERROR(INDEX('[1]12日_公式練習①-結果表（貼付）'!$A:$Z,MATCH($B25,'[1]12日_公式練習①-結果表（貼付）'!$B:$B,0),MATCH('12日_公式練習①-結果表'!G$11,'[1]12日_公式練習①-結果表（貼付）'!$1:$1,0)),"") -> BS | H25: =IF(A25="DNS","ｽﾀｰﾄ出来ず",IF(A25="DQ","失 格",IFERROR(INDEX('[1]12日_公式練習①-結果表（貼付）'!$A:$Z,MATCH($B25,'[1]12日_公式練習①-結果表（貼付）'!$B:$B,0),MATCH('12日_公式練習①-結果表'!H$11,'[1]12日_公式練習①-結果表（貼付）'!$1:$1,0)),""))) -> 55.161 | I25: =IF(H25<1,"",IF($I$11>H25,"R","")) | J25: =IF(A25="DNS","",IF(A25="DQ","",IFERROR(INDEX('[1]12日_公式練習①-結果表（貼付）'!$A:$Z,MATCH($B25,'[1]12日_公式練習①-結果表（貼付）'!$B:$B,0),MATCH('12日_公式練習①-結果表'!J$11,'[1]12日_公式練習①-結果表（貼付）'!$1:$1,0)),""))) -> 0.739 | K25: =IF(A25="DNS","",IF(A25="DQ","",IFERROR(INDEX('[1]12日_公式練習①-結果表（貼付）'!$A:$Z,MATCH($B25,'[1]12日_公式練習①-結果表（貼付）'!$B:$B,0),MATCH('12日_公式練習①-結果表'!K$11,'[1]12日_公式練習①-結果表（貼付）'!$1:$1,0)),""))) -> 0.012 | L25: =IF(A25="DNS","",IF(A25="DQ","",IFERROR(INDEX('[1]12日_公式練習①-結果表（貼付）'!$A:$Z,MATCH($B25,'[1]12日_公式練習①-結果表（貼付）'!$B:$B,0),MATCH("In Lap",'[1]12日_公式練習①-結果表（貼付）'!$1:$1,0))&"/"&INDEX('[1]12日_公式練習①-結果表（貼付）'!$A:$Z,MATCH($B25,'[1]12日_公式練習①-結果表（貼付）'!$B:$B,0),MATCH("Laps",'[1]12日_公式練習①-結果表（貼付）'!$1:$1,0)),""))) -> 4/10 | P25: =IF(IFERROR(INDEX('[1]12日_公式練習①-結果表（貼付）'!$A:$Z,MATCH($B25,'[1]12日_公式練習①-結果表（貼付）'!$B:$B,0),MATCH(P$11,'[1]12日_公式練習①-結果表（貼付）'!$1:$1,0)),"")=0,"",IFERROR(INDEX('[1]12日_公式練習①-結果表（貼付）'!$A:$Z,MATCH($B25,'[1]12日_公式練習①-結果表（貼付）'!$B:$B,0),MATCH(P$11,'[1]12日_公式練習①-結果表（貼付）'!$1:$1,0)),"")) | Q25: =IF(P25="","",COUNTIF($P$13:P25,"<>"&"")) | R25: =IFERROR(RANK(Q25,$Q$13:$Q$46,1),"") | S25: =IF(IFERROR(INDEX('[1]12日_公式練習①-結果表（貼付）'!$A:$Z,MATCH($A25,'[1]12日_公式練習①-結果表（貼付）'!$A:$A,0),MATCH(S$11,'[1]12日_公式練習①-結果表（貼付）'!$1:$1,0)),"")=0,"",IFERROR(INDEX('[1]12日_公式練習①-結果表（貼付）'!$A:$Z,MATCH($A25,'[1]12日_公式練習①-結果表（貼付）'!$A:$A,0),MATCH(S$11,'[1]12日_公式練習①-結果表（貼付）'!$1:$1,0)),""))
A26: =IF(OR('[1]12日_公式練習①-結果表（貼付）'!A15="DNF",'[1]12日_公式練習①-結果表（貼付）'!A15="DNS",'[1]12日_公式練習①-結果表（貼付）'!A15="DQ"),'[1]12日_公式練習①-結果表（貼付）'!A15,IF(MAX('[1]12日_公式練習①-結果表（貼付）'!$A:$A)>A25,A25+1,"")) -> 14 | B26: =IFERROR(INDEX('[1]12日_公式練習①-結果表（貼付）'!A15:$Z$50,MATCH($A26,'[1]12日_公式練習①-結果表（貼付）'!A15:$A$50,0),MATCH('12日_公式練習①-結果表'!B$11,'[1]12日_公式練習①-結果表（貼付）'!$1:$1,0)),"") -> 20 | D26: =IFERROR(INDEX('[1]12日_公式練習①-結果表（貼付）'!$A:$Z,MATCH($B26,'[1]12日_公式練習①-結果表（貼付）'!$B:$B,0),MATCH('12日_公式練習①-結果表'!D$11,'[1]12日_公式練習①-結果表（貼付）'!$1:$1,0)),"") -> 岸 秀行 | E26: =IFERROR(INDEX('[1]12日_公式練習①-結果表（貼付）'!$A:$Z,MATCH($B26,'[1]12日_公式練習①-結果表（貼付）'!$B:$B,0),MATCH('12日_公式練習①-結果表'!E$11,'[1]12日_公式練習①-結果表（貼付）'!$1:$1,0)),"") -> KOSMIC/YAMAHA | F26: =IFERROR(INDEX('[1]12日_公式練習①-結果表（貼付）'!$A:$Z,MATCH($B26,'[1]12日_公式練習①-結果表（貼付）'!$B:$B,0),MATCH('12日_公式練習①-結果表'!F$11,'[1]12日_公式練習①-結果表（貼付）'!$1:$1,0)),"") -> チームナガオ・大阪鶴見法律事務所 | G26: =IFERROR(INDEX('[1]12日_公式練習①-結果表（貼付）'!$A:$Z,MATCH($B26,'[1]12日_公式練習①-結果表（貼付）'!$B:$B,0),MATCH('12日_公式練習①-結果表'!G$11,'[1]12日_公式練習①-結果表（貼付）'!$1:$1,0)),"") -> BS | H26: =IF(A26="DNS","ｽﾀｰﾄ出来ず",IF(A26="DQ","失 格",IFERROR(INDEX('[1]12日_公式練習①-結果表（貼付）'!$A:$Z,MATCH($B26,'[1]12日_公式練習①-結果表（貼付）'!$B:$B,0),MATCH('12日_公式練習①-結果表'!H$11,'[1]12日_公式練習①-結果表（貼付）'!$1:$1,0)),""))) -> 55.224 | I26: =IF(H26<1,"",IF($I$11>H26,"R","")) | J26: =IF(A26="DNS","",IF(A26="DQ","",IFERROR(INDEX('[1]12日_公式練習①-結果表（貼付）'!$A:$Z,MATCH($B26,'[1]12日_公式練習①-結果表（貼付）'!$B:$B,0),MATCH('12日_公式練習①-結果表'!J$11,'[1]12日_公式練習①-結果表（貼付）'!$1:$1,0)),""))) -> 0.802 | K26: =IF(A26="DNS","",IF(A26="DQ","",IFERROR(INDEX('[1]12日_公式練習①-結果表（貼付）'!$A:$Z,MATCH($B26,'[1]12日_公式練習①-結果表（貼付）'!$B:$B,0),MATCH('12日_公式練習①-結果表'!K$11,'[1]12日_公式練習①-結果表（貼付）'!$1:$1,0)),""))) -> 0.063 | L26: =IF(A26="DNS","",IF(A26="DQ","",IFERROR(INDEX('[1]12日_公式練習①-結果表（貼付）'!$A:$Z,MATCH($B26,'[1]12日_公式練習①-結果表（貼付）'!$B:$B,0),MATCH("In Lap",'[1]12日_公式練習①-結果表（貼付）'!$1:$1,0))&"/"&INDEX('[1]12日_公式練習①-結果表（貼付）'!$A:$Z,MATCH($B26,'[1]12日_公式練習①-結果表（貼付）'!$B:$B,0),MATCH("Laps",'[1]12日_公式練習①-結果表（貼付）'!$1:$1,0)),""))) -> 6/10 | P26: =IF(IFERROR(INDEX('[1]12日_公式練習①-結果表（貼付）'!$A:$Z,MATCH($B26,'[1]12日_公式練習①-結果表（貼付）'!$B:$B,0),MATCH(P$11,'[1]12日_公式練習①-結果表（貼付）'!$1:$1,0)),"")=0,"",IFERROR(INDEX('[1]12日_公式練習①-結果表（貼付）'!$A:$Z,MATCH($B26,'[1]12日_公式練習①-結果表（貼付）'!$B:$B,0),MATCH(P$11,'[1]12日_公式練習①-結果表（貼付）'!$1:$1,0)),"")) | Q26: =IF(P26="","",COUNTIF($P$13:P26,"<>"&"")) | R26: =IFERROR(RANK(Q26,$Q$13:$Q$46,1),"") | S26: =IF(IFERROR(INDEX('[1]12日_公式練習①-結果表（貼付）'!$A:$Z,MATCH($A26,'[1]12日_公式練習①-結果表（貼付）'!$A:$A,0),MATCH(S$11,'[1]12日_公式練習①-結果表（貼付）'!$1:$1,0)),"")=0,"",IFERROR(INDEX('[1]12日_公式練習①-結果表（貼付）'!$A:$Z,MATCH($A26,'[1]12日_公式練習①-結果表（貼付）'!$A:$A,0),MATCH(S$11,'[1]12日_公式練習①-結果表（貼付）'!$1:$1,0)),""))
A27: =IF(OR('[1]12日_公式練習①-結果表（貼付）'!A16="DNF",'[1]12日_公式練習①-結果表（貼付）'!A16="DNS",'[1]12日_公式練習①-結果表（貼付）'!A16="DQ"),'[1]12日_公式練習①-結果表（貼付）'!A16,IF(MAX('[1]12日_公式練習①-結果表（貼付）'!$A:$A)>A26,A26+1,"")) -> 15 | B27: =IFERROR(INDEX('[1]12日_公式練習①-結果表（貼付）'!A16:$Z$50,MATCH($A27,'[1]12日_公式練習①-結果表（貼付）'!A16:$A$50,0),MATCH('12日_公式練習①-結果表'!B$11,'[1]12日_公式練習①-結果表（貼付）'!$1:$1,0)),"") -> 34 | D27: =IFERROR(INDEX('[1]12日_公式練習①-結果表（貼付）'!$A:$Z,MATCH($B27,'[1]12日_公式練習①-結果表（貼付）'!$B:$B,0),MATCH('12日_公式練習①-結果表'!D$11,'[1]12日_公式練習①-結果表（貼付）'!$1:$1,0)),"") -> 増田 貴久 | E27: =IFERROR(INDEX('[1]12日_公式練習①-結果表（貼付）'!$A:$Z,MATCH($B27,'[1]12日_公式練習①-結果表（貼付）'!$B:$B,0),MATCH('12日_公式練習①-結果表'!E$11,'[1]12日_公式練習①-結果表（貼付）'!$1:$1,0)),"") -> EXPRIT/YAMAHA | F27: =IFERROR(INDEX('[1]12日_公式練習①-結果表（貼付）'!$A:$Z,MATCH($B27,'[1]12日_公式練習①-結果表（貼付）'!$B:$B,0),MATCH('12日_公式練習①-結果表'!F$11,'[1]12日_公式練習①-結果表（貼付）'!$1:$1,0)),"") -> LUCE MOTOR SPORTS | G27: =IFERROR(INDEX('[1]12日_公式練習①-結果表（貼付）'!$A:$Z,MATCH($B27,'[1]12日_公式練習①-結果表（貼付）'!$B:$B,0),MATCH('12日_公式練習①-結果表'!G$11,'[1]12日_公式練習①-結果表（貼付）'!$1:$1,0)),"") -> BS | H27: =IF(A27="DNS","ｽﾀｰﾄ出来ず",IF(A27="DQ","失 格",IFERROR(INDEX('[1]12日_公式練習①-結果表（貼付）'!$A:$Z,MATCH($B27,'[1]12日_公式練習①-結果表（貼付）'!$B:$B,0),MATCH('12日_公式練習①-結果表'!H$11,'[1]12日_公式練習①-結果表（貼付）'!$1:$1,0)),""))) -> 55.284 | I27: =IF(H27<1,"",IF($I$11>H27,"R","")) | J27: =IF(A27="DNS","",IF(A27="DQ","",IFERROR(INDEX('[1]12日_公式練習①-結果表（貼付）'!$A:$Z,MATCH($B27,'[1]12日_公式練習①-結果表（貼付）'!$B:$B,0),MATCH('12日_公式練習①-結果表'!J$11,'[1]12日_公式練習①-結果表（貼付）'!$1:$1,0)),""))) -> 0.862 | K27: =IF(A27="DNS","",IF(A27="DQ","",IFERROR(INDEX('[1]12日_公式練習①-結果表（貼付）'!$A:$Z,MATCH($B27,'[1]12日_公式練習①-結果表（貼付）'!$B:$B,0),MATCH('12日_公式練習①-結果表'!K$11,'[1]12日_公式練習①-結果表（貼付）'!$1:$1,0)),""))) -> 0.06 | L27: =IF(A27="DNS","",IF(A27="DQ","",IFERROR(INDEX('[1]12日_公式練習①-結果表（貼付）'!$A:$Z,MATCH($B27,'[1]12日_公式練習①-結果表（貼付）'!$B:$B,0),MATCH("In Lap",'[1]12日_公式練習①-結果表（貼付）'!$1:$1,0))&"/"&INDEX('[1]12日_公式練習①-結果表（貼付）'!$A:$Z,MATCH($B27,'[1]12日_公式練習①-結果表（貼付）'!$B:$B,0),MATCH("Laps",'[1]12日_公式練習①-結果表（貼付）'!$1:$1,0)),""))) -> 4/9 | P27: =IF(IFERROR(INDEX('[1]12日_公式練習①-結果表（貼付）'!$A:$Z,MATCH($B27,'[1]12日_公式練習①-結果表（貼付）'!$B:$B,0),MATCH(P$11,'[1]12日_公式練習①-結果表（貼付）'!$1:$1,0)),"")=0,"",IFERROR(INDEX('[1]12日_公式練習①-結果表（貼付）'!$A:$Z,MATCH($B27,'[1]12日_公式練習①-結果表（貼付）'!$B:$B,0),MATCH(P$11,'[1]12日_公式練習①-結果表（貼付）'!$1:$1,0)),"")) | Q27: =IF(P27="","",COUNTIF($P$13:P27,"<>"&"")) | R27: =IFERROR(RANK(Q27,$Q$13:$Q$46,1),"") | S27: =IF(IFERROR(INDEX('[1]12日_公式練習①-結果表（貼付）'!$A:$Z,MATCH($A27,'[1]12日_公式練習①-結果表（貼付）'!$A:$A,0),MATCH(S$11,'[1]12日_公式練習①-結果表（貼付）'!$1:$1,0)),"")=0,"",IFERROR(INDEX('[1]12日_公式練習①-結果表（貼付）'!$A:$Z,MATCH($A27,'[1]12日_公式練習①-結果表（貼付）'!$A:$A,0),MATCH(S$11,'[1]12日_公式練習①-結果表（貼付）'!$1:$1,0)),""))
A28: =IF(OR('[1]12日_公式練習①-結果表（貼付）'!A17="DNF",'[1]12日_公式練習①-結果表（貼付）'!A17="DNS",'[1]12日_公式練習①-結果表（貼付）'!A17="DQ"),'[1]12日_公式練習①-結果表（貼付）'!A17,IF(MAX('[1]12日_公式練習①-結果表（貼付）'!$A:$A)>A27,A27+1,"")) -> 16 | B28: =IFERROR(INDEX('[1]12日_公式練習①-結果表（貼付）'!A17:$Z$50,MATCH($A28,'[1]12日_公式練習①-結果表（貼付）'!A17:$A$50,0),MATCH('12日_公式練習①-結果表'!B$11,'[1]12日_公式練習①-結果表（貼付）'!$1:$1,0)),"") -> 40 | D28: =IFERROR(INDEX('[1]12日_公式練習①-結果表（貼付）'!$A:$Z,MATCH($B28,'[1]12日_公式練習①-結果表（貼付）'!$B:$B,0),MATCH('12日_公式練習①-結果表'!D$11,'[1]12日_公式練習①-結果表（貼付）'!$1:$1,0)),"") -> 大槻 直 | E28: =IFERROR(INDEX('[1]12日_公式練習①-結果表（貼付）'!$A:$Z,MATCH($B28,'[1]12日_公式練習①-結果表（貼付）'!$B:$B,0),MATCH('12日_公式練習①-結果表'!E$11,'[1]12日_公式練習①-結果表（貼付）'!$1:$1,0)),"") -> TONY KART/YAMAHA | F28: =IFERROR(INDEX('[1]12日_公式練習①-結果表（貼付）'!$A:$Z,MATCH($B28,'[1]12日_公式練習①-結果表（貼付）'!$B:$B,0),MATCH('12日_公式練習①-結果表'!F$11,'[1]12日_公式練習①-結果表（貼付）'!$1:$1,0)),"") -> ASH | G28: =IFERROR(INDEX('[1]12日_公式練習①-結果表（貼付）'!$A:$Z,MATCH($B28,'[1]12日_公式練習①-結果表（貼付）'!$B:$B,0),MATCH('12日_公式練習①-結果表'!G$11,'[1]12日_公式練習①-結果表（貼付）'!$1:$1,0)),"") -> BS | H28: =IF(A28="DNS","ｽﾀｰﾄ出来ず",IF(A28="DQ","失 格",IFERROR(INDEX('[1]12日_公式練習①-結果表（貼付）'!$A:$Z,MATCH($B28,'[1]12日_公式練習①-結果表（貼付）'!$B:$B,0),MATCH('12日_公式練習①-結果表'!H$11,'[1]12日_公式練習①-結果表（貼付）'!$1:$1,0)),""))) -> 55.308 | I28: =IF(H28<1,"",IF($I$11>H28,"R","")) | J28: =IF(A28="DNS","",IF(A28="DQ","",IFERROR(INDEX('[1]12日_公式練習①-結果表（貼付）'!$A:$Z,MATCH($B28,'[1]12日_公式練習①-結果表（貼付）'!$B:$B,0),MATCH('12日_公式練習①-結果表'!J$11,'[1]12日_公式練習①-結果表（貼付）'!$1:$1,0)),""))) -> 0.886 | K28: =IF(A28="DNS","",IF(A28="DQ","",IFERROR(INDEX('[1]12日_公式練習①-結果表（貼付）'!$A:$Z,MATCH($B28,'[1]12日_公式練習①-結果表（貼付）'!$B:$B,0),MATCH('12日_公式練習①-結果表'!K$11,'[1]12日_公式練習①-結果表（貼付）'!$1:$1,0)),""))) -> 0.024 | L28: =IF(A28="DNS","",IF(A28="DQ","",IFERROR(INDEX('[1]12日_公式練習①-結果表（貼付）'!$A:$Z,MATCH($B28,'[1]12日_公式練習①-結果表（貼付）'!$B:$B,0),MATCH("In Lap",'[1]12日_公式練習①-結果表（貼付）'!$1:$1,0))&"/"&INDEX('[1]12日_公式練習①-結果表（貼付）'!$A:$Z,MATCH($B28,'[1]12日_公式練習①-結果表（貼付）'!$B:$B,0),MATCH("Laps",'[1]12日_公式練習①-結果表（貼付）'!$1:$1,0)),""))) -> 4/10 | P28: =IF(IFERROR(INDEX('[1]12日_公式練習①-結果表（貼付）'!$A:$Z,MATCH($B28,'[1]12日_公式練習①-結果表（貼付）'!$B:$B,0),MATCH(P$11,'[1]12日_公式練習①-結果表（貼付）'!$1:$1,0)),"")=0,"",IFERROR(INDEX('[1]12日_公式練習①-結果表（貼付）'!$A:$Z,MATCH($B28,'[1]12日_公式練習①-結果表（貼付）'!$B:$B,0),MATCH(P$11,'[1]12日_公式練習①-結果表（貼付）'!$1:$1,0)),"")) | Q28: =IF(P28="","",COUNTIF($P$13:P28,"<>"&"")) | R28: =IFERROR(RANK(Q28,$Q$13:$Q$46,1),"") | S28: =IF(IFERROR(INDEX('[1]12日_公式練習①-結果表（貼付）'!$A:$Z,MATCH($A28,'[1]12日_公式練習①-結果表（貼付）'!$A:$A,0),MATCH(S$11,'[1]12日_公式練習①-結果表（貼付）'!$1:$1,0)),"")=0,"",IFERROR(INDEX('[1]12日_公式練習①-結果表（貼付）'!$A:$Z,MATCH($A28,'[1]12日_公式練習①-結果表（貼付）'!$A:$A,0),MATCH(S$11,'[1]12日_公式練習①-結果表（貼付）'!$1:$1,0)),""))
A29: =IF(OR('[1]12日_公式練習①-結果表（貼付）'!A18="DNF",'[1]12日_公式練習①-結果表（貼付）'!A18="DNS",'[1]12日_公式練習①-結果表（貼付）'!A18="DQ"),'[1]12日_公式練習①-結果表（貼付）'!A18,IF(MAX('[1]12日_公式練習①-結果表（貼付）'!$A:$A)>A28,A28+1,"")) -> 17 | B29: =IFERROR(INDEX('[1]12日_公式練習①-結果表（貼付）'!A18:$Z$50,MATCH($A29,'[1]12日_公式練習①-結果表（貼付）'!A18:$A$50,0),MATCH('12日_公式練習①-結果表'!B$11,'[1]12日_公式練習①-結果表（貼付）'!$1:$1,0)),"") -> 78 | D29: =IFERROR(INDEX('[1]12日_公式練習①-結果表（貼付）'!$A:$Z,MATCH($B29,'[1]12日_公式練習①-結果表（貼付）'!$B:$B,0),MATCH('12日_公式練習①-結果表'!D$11,'[1]12日_公式練習①-結果表（貼付）'!$1:$1,0)),"") -> 小林 海璃 | E29: =IFERROR(INDEX('[1]12日_公式練習①-結果表（貼付）'!$A:$Z,MATCH($B29,'[1]12日_公式練習①-結果表（貼付）'!$B:$B,0),MATCH('12日_公式練習①-結果表'!E$11,'[1]12日_公式練習①-結果表（貼付）'!$1:$1,0)),"") -> EXPRIT/YAMAHA | F29: =IFERROR(INDEX('[1]12日_公式練習①-結果表（貼付）'!$A:$Z,MATCH($B29,'[1]12日_公式練習①-結果表（貼付）'!$B:$B,0),MATCH('12日_公式練習①-結果表'!F$11,'[1]12日_公式練習①-結果表（貼付）'!$1:$1,0)),"") -> ミツサダ PWG RACING | G29: =IFERROR(INDEX('[1]12日_公式練習①-結果表（貼付）'!$A:$Z,MATCH($B29,'[1]12日_公式練習①-結果表（貼付）'!$B:$B,0),MATCH('12日_公式練習①-結果表'!G$11,'[1]12日_公式練習①-結果表（貼付）'!$1:$1,0)),"") -> BS | H29: =IF(A29="DNS","ｽﾀｰﾄ出来ず",IF(A29="DQ","失 格",IFERROR(INDEX('[1]12日_公式練習①-結果表（貼付）'!$A:$Z,MATCH($B29,'[1]12日_公式練習①-結果表（貼付）'!$B:$B,0),MATCH('12日_公式練習①-結果表'!H$11,'[1]12日_公式練習①-結果表（貼付）'!$1:$1,0)),""))) -> 55.321 | I29: =IF(H29<1,"",IF($I$11>H29,"R","")) | J29: =IF(A29="DNS","",IF(A29="DQ","",IFERROR(INDEX('[1]12日_公式練習①-結果表（貼付）'!$A:$Z,MATCH($B29,'[1]12日_公式練習①-結果表（貼付）'!$B:$B,0),MATCH('12日_公式練習①-結果表'!J$11,'[1]12日_公式練習①-結果表（貼付）'!$1:$1,0)),""))) -> 0.899 | K29: =IF(A29="DNS","",IF(A29="DQ","",IFERROR(INDEX('[1]12日_公式練習①-結果表（貼付）'!$A:$Z,MATCH($B29,'[1]12日_公式練習①-結果表（貼付）'!$B:$B,0),MATCH('12日_公式練習①-結果表'!K$11,'[1]12日_公式練習①-結果表（貼付）'!$1:$1,0)),""))) -> 0.013 | L29: =IF(A29="DNS","",IF(A29="DQ","",IFERROR(INDEX('[1]12日_公式練習①-結果表（貼付）'!$A:$Z,MATCH($B29,'[1]12日_公式練習①-結果表（貼付）'!$B:$B,0),MATCH("In Lap",'[1]12日_公式練習①-結果表（貼付）'!$1:$1,0))&"/"&INDEX('[1]12日_公式練習①-結果表（貼付）'!$A:$Z,MATCH($B29,'[1]12日_公式練習①-結果表（貼付）'!$B:$B,0),MATCH("Laps",'[1]12日_公式練習①-結果表（貼付）'!$1:$1,0)),""))) -> 3/10 | P29: =IF(IFERROR(INDEX('[1]12日_公式練習①-結果表（貼付）'!$A:$Z,MATCH($B29,'[1]12日_公式練習①-結果表（貼付）'!$B:$B,0),MATCH(P$11,'[1]12日_公式練習①-結果表（貼付）'!$1:$1,0)),"")=0,"",IFERROR(INDEX('[1]12日_公式練習①-結果表（貼付）'!$A:$Z,MATCH($B29,'[1]12日_公式練習①-結果表（貼付）'!$B:$B,0),MATCH(P$11,'[1]12日_公式練習①-結果表（貼付）'!$1:$1,0)),"")) | Q29: =IF(P29="","",COUNTIF($P$13:P29,"<>"&"")) | R29: =IFERROR(RANK(Q29,$Q$13:$Q$46,1),"") | S29: =IF(IFERROR(INDEX('[1]12日_公式練習①-結果表（貼付）'!$A:$Z,MATCH($A29,'[1]12日_公式練習①-結果表（貼付）'!$A:$A,0),MATCH(S$11,'[1]12日_公式練習①-結果表（貼付）'!$1:$1,0)),"")=0,"",IFERROR(INDEX('[1]12日_公式練習①-結果表（貼付）'!$A:$Z,MATCH($A29,'[1]12日_公式練習①-結果表（貼付）'!$A:$A,0),MATCH(S$11,'[1]12日_公式練習①-結果表（貼付）'!$1:$1,0)),""))
A30: =IF(OR('[1]12日_公式練習①-結果表（貼付）'!A19="DNF",'[1]12日_公式練習①-結果表（貼付）'!A19="DNS",'[1]12日_公式練習①-結果表（貼付）'!A19="DQ"),'[1]12日_公式練習①-結果表（貼付）'!A19,IF(MAX('[1]12日_公式練習①-結果表（貼付）'!$A:$A)>A29,A29+1,"")) -> 18 | B30: =IFERROR(INDEX('[1]12日_公式練習①-結果表（貼付）'!A19:$Z$50,MATCH($A30,'[1]12日_公式練習①-結果表（貼付）'!A19:$A$50,0),MATCH('12日_公式練習①-結果表'!B$11,'[1]12日_公式練習①-結果表（貼付）'!$1:$1,0)),"") -> 36 | D30: =IFERROR(INDEX('[1]12日_公式練習①-結果表（貼付）'!$A:$Z,MATCH($B30,'[1]12日_公式練習①-結果表（貼付）'!$B:$B,0),MATCH('12日_公式練習①-結果表'!D$11,'[1]12日_公式練習①-結果表（貼付）'!$1:$1,0)),"") -> 續木 堂統 | E30: =IFERROR(INDEX('[1]12日_公式練習①-結果表（貼付）'!$A:$Z,MATCH($B30,'[1]12日_公式練習①-結果表（貼付）'!$B:$B,0),MATCH('12日_公式練習①-結果表'!E$11,'[1]12日_公式練習①-結果表（貼付）'!$1:$1,0)),"") -> Praga/YAMAHA | F30: =IFERROR(INDEX('[1]12日_公式練習①-結果表（貼付）'!$A:$Z,MATCH($B30,'[1]12日_公式練習①-結果表（貼付）'!$B:$B,0),MATCH('12日_公式練習①-結果表'!F$11,'[1]12日_公式練習①-結果表（貼付）'!$1:$1,0)),"") -> ガレージC | G30: =IFERROR(INDEX('[1]12日_公式練習①-結果表（貼付）'!$A:$Z,MATCH($B30,'[1]12日_公式練習①-結果表（貼付）'!$B:$B,0),MATCH('12日_公式練習①-結果表'!G$11,'[1]12日_公式練習①-結果表（貼付）'!$1:$1,0)),"") -> BS | H30: =IF(A30="DNS","ｽﾀｰﾄ出来ず",IF(A30="DQ","失 格",IFERROR(INDEX('[1]12日_公式練習①-結果表（貼付）'!$A:$Z,MATCH($B30,'[1]12日_公式練習①-結果表（貼付）'!$B:$B,0),MATCH('12日_公式練習①-結果表'!H$11,'[1]12日_公式練習①-結果表（貼付）'!$1:$1,0)),""))) -> 55.393 | I30: =IF(H30<1,"",IF($I$11>H30,"R","")) | J30: =IF(A30="DNS","",IF(A30="DQ","",IFERROR(INDEX('[1]12日_公式練習①-結果表（貼付）'!$A:$Z,MATCH($B30,'[1]12日_公式練習①-結果表（貼付）'!$B:$B,0),MATCH('12日_公式練習①-結果表'!J$11,'[1]12日_公式練習①-結果表（貼付）'!$1:$1,0)),""))) -> 0.971 | K30: =IF(A30="DNS","",IF(A30="DQ","",IFERROR(INDEX('[1]12日_公式練習①-結果表（貼付）'!$A:$Z,MATCH($B30,'[1]12日_公式練習①-結果表（貼付）'!$B:$B,0),MATCH('12日_公式練習①-結果表'!K$11,'[1]12日_公式練習①-結果表（貼付）'!$1:$1,0)),""))) -> 0.072 | L30: =IF(A30="DNS","",IF(A30="DQ","",IFERROR(INDEX('[1]12日_公式練習①-結果表（貼付）'!$A:$Z,MATCH($B30,'[1]12日_公式練習①-結果表（貼付）'!$B:$B,0),MATCH("In Lap",'[1]12日_公式練習①-結果表（貼付）'!$1:$1,0))&"/"&INDEX('[1]12日_公式練習①-結果表（貼付）'!$A:$Z,MATCH($B30,'[1]12日_公式練習①-結果表（貼付）'!$B:$B,0),MATCH("Laps",'[1]12日_公式練習①-結果表（貼付）'!$1:$1,0)),""))) -> 6/10 | P30: =IF(IFERROR(INDEX('[1]12日_公式練習①-結果表（貼付）'!$A:$Z,MATCH($B30,'[1]12日_公式練習①-結果表（貼付）'!$B:$B,0),MATCH(P$11,'[1]12日_公式練習①-結果表（貼付）'!$1:$1,0)),"")=0,"",IFERROR(INDEX('[1]12日_公式練習①-結果表（貼付）'!$A:$Z,MATCH($B30,'[1]12日_公式練習①-結果表（貼付）'!$B:$B,0),MATCH(P$11,'[1]12日_公式練習①-結果表（貼付）'!$1:$1,0)),"")) | Q30: =IF(P30="","",COUNTIF($P$13:P30,"<>"&"")) | R30: =IFERROR(RANK(Q30,$Q$13:$Q$46,1),"") | S30: =IF(IFERROR(INDEX('[1]12日_公式練習①-結果表（貼付）'!$A:$Z,MATCH($A30,'[1]12日_公式練習①-結果表（貼付）'!$A:$A,0),MATCH(S$11,'[1]12日_公式練習①-結果表（貼付）'!$1:$1,0)),"")=0,"",IFERROR(INDEX('[1]12日_公式練習①-結果表（貼付）'!$A:$Z,MATCH($A30,'[1]12日_公式練習①-結果表（貼付）'!$A:$A,0),MATCH(S$11,'[1]12日_公式練習①-結果表（貼付）'!$1:$1,0)),""))
A31: =IF(OR('[1]12日_公式練習①-結果表（貼付）'!A20="DNF",'[1]12日_公式練習①-結果表（貼付）'!A20="DNS",'[1]12日_公式練習①-結果表（貼付）'!A20="DQ"),'[1]12日_公式練習①-結果表（貼付）'!A20,IF(MAX('[1]12日_公式練習①-結果表（貼付）'!$A:$A)>A30,A30+1,"")) -> 19 | B31: =IFERROR(INDEX('[1]12日_公式練習①-結果表（貼付）'!A20:$Z$50,MATCH($A31,'[1]12日_公式練習①-結果表（貼付）'!A20:$A$50,0),MATCH('12日_公式練習①-結果表'!B$11,'[1]12日_公式練習①-結果表（貼付）'!$1:$1,0)),"") -> 33 | D31: =IFERROR(INDEX('[1]12日_公式練習①-結果表（貼付）'!$A:$Z,MATCH($B31,'[1]12日_公式練習①-結果表（貼付）'!$B:$B,0),MATCH('12日_公式練習①-結果表'!D$11,'[1]12日_公式練習①-結果表（貼付）'!$1:$1,0)),"") -> 田上 龍輝 | E31: =IFERROR(INDEX('[1]12日_公式練習①-結果表（貼付）'!$A:$Z,MATCH($B31,'[1]12日_公式練習①-結果表（貼付）'!$B:$B,0),MATCH('12日_公式練習①-結果表'!E$11,'[1]12日_公式練習①-結果表（貼付）'!$1:$1,0)),"") -> Birel ART/YAMAHA | F31: =IFERROR(INDEX('[1]12日_公式練習①-結果表（貼付）'!$A:$Z,MATCH($B31,'[1]12日_公式練習①-結果表（貼付）'!$B:$B,0),MATCH('12日_公式練習①-結果表'!F$11,'[1]12日_公式練習①-結果表（貼付）'!$1:$1,0)),"") -> チームKBF | G31: =IFERROR(INDEX('[1]12日_公式練習①-結果表（貼付）'!$A:$Z,MATCH($B31,'[1]12日_公式練習①-結果表（貼付）'!$B:$B,0),MATCH('12日_公式練習①-結果表'!G$11,'[1]12日_公式練習①-結果表（貼付）'!$1:$1,0)),"") -> BS | H31: =IF(A31="DNS","ｽﾀｰﾄ出来ず",IF(A31="DQ","失 格",IFERROR(INDEX('[1]12日_公式練習①-結果表（貼付）'!$A:$Z,MATCH($B31,'[1]12日_公式練習①-結果表（貼付）'!$B:$B,0),MATCH('12日_公式練習①-結果表'!H$11,'[1]12日_公式練習①-結果表（貼付）'!$1:$1,0)),""))) -> 計測できず | I31: =IF(H31<1,"",IF($I$11>H31,"R","")) | J31: =IF(A31="DNS","",IF(A31="DQ","",IFERROR(INDEX('[1]12日_公式練習①-結果表（貼付）'!$A:$Z,MATCH($B31,'[1]12日_公式練習①-結果表（貼付）'!$B:$B,0),MATCH('12日_公式練習①-結果表'!J$11,'[1]12日_公式練習①-結果表（貼付）'!$1:$1,0)),""))) -> 0 | K31: =IF(A31="DNS","",IF(A31="DQ","",IFERROR(INDEX('[1]12日_公式練習①-結果表（貼付）'!$A:$Z,MATCH($B31,'[1]12日_公式練習①-結果表（貼付）'!$B:$B,0),MATCH('12日_公式練習①-結果表'!K$11,'[1]12日_公式練習①-結果表（貼付）'!$1:$1,0)),""))) -> 0 | L31: =IF(A31="DNS","",IF(A31="DQ","",IFERROR(INDEX('[1]12日_公式練習①-結果表（貼付）'!$A:$Z,MATCH($B31,'[1]12日_公式練習①-結果表（貼付）'!$B:$B,0),MATCH("In Lap",'[1]12日_公式練習①-結果表（貼付）'!$1:$1,0))&"/"&INDEX('[1]12日_公式練習①-結果表（貼付）'!$A:$Z,MATCH($B31,'[1]12日_公式練習①-結果表（貼付）'!$B:$B,0),MATCH("Laps",'[1]12日_公式練習①-結果表（貼付）'!$1:$1,0)),""))) -> 0/ | P31: =IF(IFERROR(INDEX('[1]12日_公式練習①-結果表（貼付）'!$A:$Z,MATCH($B31,'[1]12日_公式練習①-結果表（貼付）'!$B:$B,0),MATCH(P$11,'[1]12日_公式練習①-結果表（貼付）'!$1:$1,0)),"")=0,"",IFERROR(INDEX('[1]12日_公式練習①-結果表（貼付）'!$A:$Z,MATCH($B31,'[1]12日_公式練習①-結果表（貼付）'!$B:$B,0),MATCH(P$11,'[1]12日_公式練習①-結果表（貼付）'!$1:$1,0)),"")) | Q31: =IF(P31="","",COUNTIF($P$13:P31,"<>"&"")) | R31: =IFERROR(RANK(Q31,$Q$13:$Q$46,1),"") | S31: =IF(IFERROR(INDEX('[1]12日_公式練習①-結果表（貼付）'!$A:$Z,MATCH($A31,'[1]12日_公式練習①-結果表（貼付）'!$A:$A,0),MATCH(S$11,'[1]12日_公式練習①-結果表（貼付）'!$1:$1,0)),"")=0,"",IFERROR(INDEX('[1]12日_公式練習①-結果表（貼付）'!$A:$Z,MATCH($A31,'[1]12日_公式練習①-結果表（貼付）'!$A:$A,0),MATCH(S$11,'[1]12日_公式練習①-結果表（貼付）'!$1:$1,0)),""))
A32: =IF(OR('[1]12日_公式練習①-結果表（貼付）'!A21="DNF",'[1]12日_公式練習①-結果表（貼付）'!A21="DNS",'[1]12日_公式練習①-結果表（貼付）'!A21="DQ"),'[1]12日_公式練習①-結果表（貼付）'!A21,IF(MAX('[1]12日_公式練習①-結果表（貼付）'!$A:$A)>A31,A31+1,"")) | B32: =IFERROR(INDEX('[1]12日_公式練習①-結果表（貼付）'!A21:$Z$50,MATCH($A32,'[1]12日_公式練習①-結果表（貼付）'!A21:$A$50,0),MATCH('12日_公式練習①-結果表'!B$11,'[1]12日_公式練習①-結果表（貼付）'!$1:$1,0)),"") | D32: =IFERROR(INDEX('[1]12日_公式練習①-結果表（貼付）'!$A:$Z,MATCH($B32,'[1]12日_公式練習①-結果表（貼付）'!$B:$B,0),MATCH('12日_公式練習①-結果表'!D$11,'[1]12日_公式練習①-結果表（貼付）'!$1:$1,0)),"") | E32: =IFERROR(INDEX('[1]12日_公式練習①-結果表（貼付）'!$A:$Z,MATCH($B32,'[1]12日_公式練習①-結果表（貼付）'!$B:$B,0),MATCH('12日_公式練習①-結果表'!E$11,'[1]12日_公式練習①-結果表（貼付）'!$1:$1,0)),"") | F32: =IFERROR(INDEX('[1]12日_公式練習①-結果表（貼付）'!$A:$Z,MATCH($B32,'[1]12日_公式練習①-結果表（貼付）'!$B:$B,0),MATCH('12日_公式練習①-結果表'!F$11,'[1]12日_公式練習①-結果表（貼付）'!$1:$1,0)),"") | G32: =IFERROR(INDEX('[1]12日_公式練習①-結果表（貼付）'!$A:$Z,MATCH($B32,'[1]12日_公式練習①-結果表（貼付）'!$B:$B,0),MATCH('12日_公式練習①-結果表'!G$11,'[1]12日_公式練習①-結果表（貼付）'!$1:$1,0)),"") | H32: =IF(A32="DNS","ｽﾀｰﾄ出来ず",IF(A32="DQ","失 格",IFERROR(INDEX('[1]12日_公式練習①-結果表（貼付）'!$A:$Z,MATCH($B32,'[1]12日_公式練習①-結果表（貼付）'!$B:$B,0),MATCH('12日_公式練習①-結果表'!H$11,'[1]12日_公式練習①-結果表（貼付）'!$1:$1,0)),""))) | I32: =IF(H32<1,"",IF($I$11>H32,"R","")) | J32: =IF(A32="DNS","",IF(A32="DQ","",IFERROR(INDEX('[1]12日_公式練習①-結果表（貼付）'!$A:$Z,MATCH($B32,'[1]12日_公式練習①-結果表（貼付）'!$B:$B,0),MATCH('12日_公式練習①-結果表'!J$11,'[1]12日_公式練習①-結果表（貼付）'!$1:$1,0)),""))) | K32: =IF(A32="DNS","",IF(A32="DQ","",IFERROR(INDEX('[1]12日_公式練習①-結果表（貼付）'!$A:$Z,MATCH($B32,'[1]12日_公式練習①-結果表（貼付）'!$B:$B,0),MATCH('12日_公式練習①-結果表'!K$11,'[1]12日_公式練習①-結果表（貼付）'!$1:$1,0)),""))) | L32: =IF(A32="DNS","",IF(A32="DQ","",IFERROR(INDEX('[1]12日_公式練習①-結果表（貼付）'!$A:$Z,MATCH($B32,'[1]12日_公式練習①-結果表（貼付）'!$B:$B,0),MATCH("In Lap",'[1]12日_公式練習①-結果表（貼付）'!$1:$1,0))&"/"&INDEX('[1]12日_公式練習①-結果表（貼付）'!$A:$Z,MATCH($B32,'[1]12日_公式練習①-結果表（貼付）'!$B:$B,0),MATCH("Laps",'[1]12日_公式練習①-結果表（貼付）'!$1:$1,0)),""))) | P32: =IF(IFERROR(INDEX('[1]12日_公式練習①-結果表（貼付）'!$A:$Z,MATCH($B32,'[1]12日_公式練習①-結果表（貼付）'!$B:$B,0),MATCH(P$11,'[1]12日_公式練習①-結果表（貼付）'!$1:$1,0)),"")=0,"",IFERROR(INDEX('[1]12日_公式練習①-結果表（貼付）'!$A:$Z,MATCH($B32,'[1]12日_公式練習①-結果表（貼付）'!$B:$B,0),MATCH(P$11,'[1]12日_公式練習①-結果表（貼付）'!$1:$1,0)),"")) | Q32: =IF(P32="","",COUNTIF($P$13:P32,"<>"&"")) | R32: =IFERROR(RANK(Q32,$Q$13:$Q$46,1),"") | S32: =IF(IFERROR(INDEX('[1]12日_公式練習①-結果表（貼付）'!$A:$Z,MATCH($A32,'[1]12日_公式練習①-結果表（貼付）'!$A:$A,0),MATCH(S$11,'[1]12日_公式練習①-結果表（貼付）'!$1:$1,0)),"")=0,"",IFERROR(INDEX('[1]12日_公式練習①-結果表（貼付）'!$A:$Z,MATCH($A32,'[1]12日_公式練習①-結果表（貼付）'!$A:$A,0),MATCH(S$11,'[1]12日_公式練習①-結果表（貼付）'!$1:$1,0)),""))
... A34: =IF(OR('[1]12日_公式練習①-結果表（貼付）'!A23="DNF",'[1]12日_公式練習①-結果表（貼付）'!A23="DNS",'[1]12日_公式練習①-結果表（貼付）'!A23="DQ"),'[1]12日_公式練習①-結果表（貼付）'!A23,IF(MAX('[1]12日_公式練習①-結果表（貼付）'!$A:$A)>A33,A33+1,"")) | B34: =IFERROR(INDEX('[1]12日_公式練習①-結果表（貼付）'!A23:$Z$50,MATCH($A34,'[1]12日_公式練習①-結果表（貼付）'!A23:$A$50,0),MATCH('12日_公式練習①-結果表'!B$11,'[1]12日_公式練習①-結果表（貼付）'!$1:$1,0)),"") | D34: =IFERROR(INDEX('[1]12日_公式練習①-結果表（貼付）'!$A:$Z,MATCH($B34,'[1]12日_公式練習①-結果表（貼付）'!$B:$B,0),MATCH('12日_公式練習①-結果表'!D$11,'[1]12日_公式練習①-結果表（貼付）'!$1:$1,0)),"") | E34: =IFERROR(INDEX('[1]12日_公式練習①-結果表（貼付）'!$A:$Z,MATCH($B34,'[1]12日_公式練習①-結果表（貼付）'!$B:$B,0),MATCH('12日_公式練習①-結果表'!E$11,'[1]12日_公式練習①-結果表（貼付）'!$1:$1,0)),"") | F34: =IFERROR(INDEX('[1]12日_公式練習①-結果表（貼付）'!$A:$Z,MATCH($B34,'[1]12日_公式練習①-結果表（貼付）'!$B:$B,0),MATCH('12日_公式練習①-結果表'!F$11,'[1]12日_公式練習①-結果表（貼付）'!$1:$1,0)),"") | G34: =IFERROR(INDEX('[1]12日_公式練習①-結果表（貼付）'!$A:$Z,MATCH($B34,'[1]12日_公式練習①-結果表（貼付）'!$B:$B,0),MATCH('12日_公式練習①-結果表'!G$11,'[1]12日_公式練習①-結果表（貼付）'!$1:$1,0)),"") | H34: =IF(A34="DNS","ｽﾀｰﾄ出来ず",IF(A34="DQ","失 格",IFERROR(INDEX('[1]12日_公式練習①-結果表（貼付）'!$A:$Z,MATCH($B34,'[1]12日_公式練習①-結果表（貼付）'!$B:$B,0),MATCH('12日_公式練習①-結果表'!H$11,'[1]12日_公式練習①-結果表（貼付）'!$1:$1,0)),""))) | I34: =IF(H34<1,"",IF($I$11>H34,"R","")) | J34: =IF(A34="DNS","",IF(A34="DQ","",IFERROR(INDEX('[1]12日_公式練習①-結果表（貼付）'!$A:$Z,MATCH($B34,'[1]12日_公式練習①-結果表（貼付）'!$B:$B,0),MATCH('12日_公式練習①-結果表'!J$11,'[1]12日_公式練習①-結果表（貼付）'!$1:$1,0)),""))) | K34: =IF(A34="DNS","",IF(A34="DQ","",IFERROR(INDEX('[1]12日_公式練習①-結果表（貼付）'!$A:$Z,MATCH($B34,'[1]12日_公式練習①-結果表（貼付）'!$B:$B,0),MATCH('12日_公式練習①-結果表'!K$11,'[1]12日_公式練習①-結果表（貼付）'!$1:$1,0)),""))) | L34: =IF(A34="DNS","",IF(A34="DQ","",IFERROR(INDEX('[1]12日_公式練習①-結果表（貼付）'!$A:$Z,MATCH($B34,'[1]12日_公式練習①-結果表（貼付）'!$B:$B,0),MATCH("In Lap",'[1]12日_公式練習①-結果表（貼付）'!$1:$1,0))&"/"&INDEX('[1]12日_公式練習①-結果表（貼付）'!$A:$Z,MATCH($B34,'[1]12日_公式練習①-結果表（貼付）'!$B:$B,0),MATCH("Laps",'[1]12日_公式練習①-結果表（貼付）'!$1:$1,0)),""))) | P34: =IF(IFERROR(INDEX('[1]12日_公式練習①-結果表（貼付）'!$A:$Z,MATCH($B34,'[1]12日_公式練習①-結果表（貼付）'!$B:$B,0),MATCH(P$11,'[1]12日_公式練習①-結果表（貼付）'!$1:$1,0)),"")=0,"",IFERROR(INDEX('[1]12日_公式練習①-結果表（貼付）'!$A:$Z,MATCH($B34,'[1]12日_公式練習①-結果表（貼付）'!$B:$B,0),MATCH(P$11,'[1]12日_公式練習①-結果表（貼付）'!$1:$1,0)),"")) | Q34: =IF(P34="","",COUNTIF($P$13:P34,"<>"&"")) | R34: =IFERROR(RANK(Q34,$Q$13:$Q$46,1),"") | S34: =IF(IFERROR(INDEX('[1]12日_公式練習①-結果表（貼付）'!$A:$Z,MATCH($A34,'[1]12日_公式練習①-結果表（貼付）'!$A:$A,0),MATCH(S$11,'[1]12日_公式練習①-結果表（貼付）'!$1:$1,0)),"")=0,"",IFERROR(INDEX('[1]12日_公式練習①-結果表（貼付）'!$A:$Z,MATCH($A34,'[1]12日_公式練習①-結果表（貼付）'!$A:$A,0),MATCH(S$11,'[1]12日_公式練習①-結果表（貼付）'!$1:$1,0)),""))
A35: 改訂理由：ゼッケンの訂正 No.7をNo.47とした | E35: =IFERROR(INDEX('[1]12日_公式練習①-結果表（貼付）'!$A:$Z,MATCH($B35,'[1]12日_公式練習①-結果表（貼付）'!$B:$B,0),MATCH('12日_公式練習①-結果表'!E$11,'[1]12日_公式練習①-結果表（貼付）'!$1:$1,0)),"") | F35: =IFERROR(INDEX('[1]12日_公式練習①-結果表（貼付）'!$A:$Z,MATCH($B35,'[1]12日_公式練習①-結果表（貼付）'!$B:$B,0),MATCH('12日_公式練習①-結果表'!F$11,'[1]12日_公式練習①-結果表（貼付）'!$1:$1,0)),"") | G35: =IFERROR(INDEX('[1]12日_公式練習①-結果表（貼付）'!$A:$Z,MATCH($B35,'[1]12日_公式練習①-結果表（貼付）'!$B:$B,0),MATCH('12日_公式練習①-結果表'!G$11,'[1]12日_公式練習①-結果表（貼付）'!$1:$1,0)),"") | H35: =IF(A35="DNS","ｽﾀｰﾄ出来ず",IF(A35="DQ","失 格",IFERROR(INDEX('[1]12日_公式練習①-結果表（貼付）'!$A:$Z,MATCH($B35,'[1]12日_公式練習①-結果表（貼付）'!$B:$B,0),MATCH('12日_公式練習①-結果表'!H$11,'[1]12日_公式練習①-結果表（貼付）'!$1:$1,0)),""))) | I35: =IF(H35<1,"",IF($I$11>H35,"R","")) | J35: =IF(A35="DNS","",IF(A35="DQ","",IFERROR(INDEX('[1]12日_公式練習①-結果表（貼付）'!$A:$Z,MATCH($B35,'[1]12日_公式練習①-結果表（貼付）'!$B:$B,0),MATCH('12日_公式練習①-結果表'!J$11,'[1]12日_公式練習①-結果表（貼付）'!$1:$1,0)),""))) | K35: =IF(A35="DNS","",IF(A35="DQ","",IFERROR(INDEX('[1]12日_公式練習①-結果表（貼付）'!$A:$Z,MATCH($B35,'[1]12日_公式練習①-結果表（貼付）'!$B:$B,0),MATCH('12日_公式練習①-結果表'!K$11,'[1]12日_公式練習①-結果表（貼付）'!$1:$1,0)),""))) | L35: =IF(A35="DNS","",IF(A35="DQ","",IFERROR(INDEX('[1]12日_公式練習①-結果表（貼付）'!$A:$Z,MATCH($B35,'[1]12日_公式練習①-結果表（貼付）'!$B:$B,0),MATCH("In Lap",'[1]12日_公式練習①-結果表（貼付）'!$1:$1,0))&"/"&INDEX('[1]12日_公式練習①-結果表（貼付）'!$A:$Z,MATCH($B35,'[1]12日_公式練習①-結果表（貼付）'!$B:$B,0),MATCH("Laps",'[1]12日_公式練習①-結果表（貼付）'!$1:$1,0)),""))) | P35: =IF(IFERROR(INDEX('[1]12日_公式練習①-結果表（貼付）'!$A:$Z,MATCH($B35,'[1]12日_公式練習①-結果表（貼付）'!$B:$B,0),MATCH(P$11,'[1]12日_公式練習①-結果表（貼付）'!$1:$1,0)),"")=0,"",IFERROR(INDEX('[1]12日_公式練習①-結果表（貼付）'!$A:$Z,MATCH($B35,'[1]12日_公式練習①-結果表（貼付）'!$B:$B,0),MATCH(P$11,'[1]12日_公式練習①-結果表（貼付）'!$1:$1,0)),"")) | Q35: =IF(P35="","",COUNTIF($P$13:P35,"<>"&"")) | R35: =IFERROR(RANK(Q35,$Q$13:$Q$46,1),"") | S35: =IF(IFERROR(INDEX('[1]12日_公式練習①-結果表（貼付）'!$A:$Z,MATCH($A35,'[1]12日_公式練習①-結果表（貼付）'!$A:$A,0),MATCH(S$11,'[1]12日_公式練習①-結果表（貼付）'!$1:$1,0)),"")=0,"",IFERROR(INDEX('[1]12日_公式練習①-結果表（貼付）'!$A:$Z,MATCH($A35,'[1]12日_公式練習①-結果表（貼付）'!$A:$A,0),MATCH(S$11,'[1]12日_公式練習①-結果表（貼付）'!$1:$1,0)),""))
A36: =IF(OR('[1]12日_公式練習①-結果表（貼付）'!A25="DNF",'[1]12日_公式練習①-結果表（貼付）'!A25="DNS",'[1]12日_公式練習①-結果表（貼付）'!A25="DQ"),'[1]12日_公式練習①-結果表（貼付）'!A25,IF(MAX('[1]12日_公式練習①-結果表（貼付）'!$A:$A)>A35,A35+1,"")) | B36: =IFERROR(INDEX('[1]12日_公式練習①-結果表（貼付）'!A25:$Z$50,MATCH($A36,'[1]12日_公式練習①-結果表（貼付）'!A25:$A$50,0),MATCH('12日_公式練習①-結果表'!B$11,'[1]12日_公式練習①-結果表（貼付）'!$1:$1,0)),"") | D36: =IFERROR(INDEX('[1]12日_公式練習①-結果表（貼付）'!$A:$Z,MATCH($B36,'[1]12日_公式練習①-結果表（貼付）'!$B:$B,0),MATCH('12日_公式練習①-結果表'!D$11,'[1]12日_公式練習①-結果表（貼付）'!$1:$1,0)),"") | E36: =IFERROR(INDEX('[1]12日_公式練習①-結果表（貼付）'!$A:$Z,MATCH($B36,'[1]12日_公式練習①-結果表（貼付）'!$B:$B,0),MATCH('12日_公式練習①-結果表'!E$11,'[1]12日_公式練習①-結果表（貼付）'!$1:$1,0)),"") | F36: =IFERROR(INDEX('[1]12日_公式練習①-結果表（貼付）'!$A:$Z,MATCH($B36,'[1]12日_公式練習①-結果表（貼付）'!$B:$B,0),MATCH('12日_公式練習①-結果表'!F$11,'[1]12日_公式練習①-結果表（貼付）'!$1:$1,0)),"") | G36: =IFERROR(INDEX('[1]12日_公式練習①-結果表（貼付）'!$A:$Z,MATCH($B36,'[1]12日_公式練習①-結果表（貼付）'!$B:$B,0),MATCH('12日_公式練習①-結果表'!G$11,'[1]12日_公式練習①-結果表（貼付）'!$1:$1,0)),"") | H36: =IF(A36="DNS","ｽﾀｰﾄ出来ず",IF(A36="DQ","失 格",IFERROR(INDEX('[1]12日_公式練習①-結果表（貼付）'!$A:$Z,MATCH($B36,'[1]12日_公式練習①-結果表（貼付）'!$B:$B,0),MATCH('12日_公式練習①-結果表'!H$11,'[1]12日_公式練習①-結果表（貼付）'!$1:$1,0)),""))) | I36: =IF(H36<1,"",IF($I$11>H36,"R","")) | J36: =IF(A36="DNS","",IF(A36="DQ","",IFERROR(INDEX('[1]12日_公式練習①-結果表（貼付）'!$A:$Z,MATCH($B36,'[1]12日_公式練習①-結果表（貼付）'!$B:$B,0),MATCH('12日_公式練習①-結果表'!J$11,'[1]12日_公式練習①-結果表（貼付）'!$1:$1,0)),""))) | K36: =IF(A36="DNS","",IF(A36="DQ","",IFERROR(INDEX('[1]12日_公式練習①-結果表（貼付）'!$A:$Z,MATCH($B36,'[1]12日_公式練習①-結果表（貼付）'!$B:$B,0),MATCH('12日_公式練習①-結果表'!K$11,'[1]12日_公式練習①-結果表（貼付）'!$1:$1,0)),""))) | L36: =IF(A36="DNS","",IF(A36="DQ","",IFERROR(INDEX('[1]12日_公式練習①-結果表（貼付）'!$A:$Z,MATCH($B36,'[1]12日_公式練習①-結果表（貼付）'!$B:$B,0),MATCH("In Lap",'[1]12日_公式練習①-結果表（貼付）'!$1:$1,0))&"/"&INDEX('[1]12日_公式練習①-結果表（貼付）'!$A:$Z,MATCH($B36,'[1]12日_公式練習①-結果表（貼付）'!$B:$B,0),MATCH("Laps",'[1]12日_公式練習①-結果表（貼付）'!$1:$1,0)),""))) | P36: =IF(IFERROR(INDEX('[1]12日_公式練習①-結果表（貼付）'!$A:$Z,MATCH($B36,'[1]12日_公式練習①-結果表（貼付）'!$B:$B,0),MATCH(P$11,'[1]12日_公式練習①-結果表（貼付）'!$1:$1,0)),"")=0,"",IFERROR(INDEX('[1]12日_公式練習①-結果表（貼付）'!$A:$Z,MATCH($B36,'[1]12日_公式練習①-結果表（貼付）'!$B:$B,0),MATCH(P$11,'[1]12日_公式練習①-結果表（貼付）'!$1:$1,0)),"")) | Q36: =IF(P36="","",COUNTIF($P$13:P36,"<>"&"")) | R36: =IFERROR(RANK(Q36,$Q$13:$Q$46,1),"") | S36: =IF(IFERROR(INDEX('[1]12日_公式練習①-結果表（貼付）'!$A:$Z,MATCH($A36,'[1]12日_公式練習①-結果表（貼付）'!$A:$A,0),MATCH(S$11,'[1]12日_公式練習①-結果表（貼付）'!$1:$1,0)),"")=0,"",IFERROR(INDEX('[1]12日_公式練習①-結果表（貼付）'!$A:$Z,MATCH($A36,'[1]12日_公式練習①-結果表（貼付）'!$A:$A,0),MATCH(S$11,'[1]12日_公式練習①-結果表（貼付）'!$1:$1,0)),""))
A37: =IF(OR('[1]12日_公式練習①-結果表（貼付）'!A26="DNF",'[1]12日_公式練習①-結果表（貼付）'!A26="DNS",'[1]12日_公式練習①-結果表（貼付）'!A26="DQ"),'[1]12日_公式練習①-結果表（貼付）'!A26,IF(MAX('[1]12日_公式練習①-結果表（貼付）'!$A:$A)>A36,A36+1,"")) | B37: =IFERROR(INDEX('[1]12日_公式練習①-結果表（貼付）'!A26:$Z$50,MATCH($A37,'[1]12日_公式練習①-結果表（貼付）'!A26:$A$50,0),MATCH('12日_公式練習①-結果表'!B$11,'[1]12日_公式練習①-結果表（貼付）'!$1:$1,0)),"") | D37: =IFERROR(INDEX('[1]12日_公式練習①-結果表（貼付）'!$A:$Z,MATCH($B37,'[1]12日_公式練習①-結果表（貼付）'!$B:$B,0),MATCH('12日_公式練習①-結果表'!D$11,'[1]12日_公式練習①-結果表（貼付）'!$1:$1,0)),"") | E37: =IFERROR(INDEX('[1]12日_公式練習①-結果表（貼付）'!$A:$Z,MATCH($B37,'[1]12日_公式練習①-結果表（貼付）'!$B:$B,0),MATCH('12日_公式練習①-結果表'!E$11,'[1]12日_公式練習①-結果表（貼付）'!$1:$1,0)),"") | F37: =IFERROR(INDEX('[1]12日_公式練習①-結果表（貼付）'!$A:$Z,MATCH($B37,'[1]12日_公式練習①-結果表（貼付）'!$B:$B,0),MATCH('12日_公式練習①-結果表'!F$11,'[1]12日_公式練習①-結果表（貼付）'!$1:$1,0)),"") | G37: =IFERROR(INDEX('[1]12日_公式練習①-結果表（貼付）'!$A:$Z,MATCH($B37,'[1]12日_公式練習①-結果表（貼付）'!$B:$B,0),MATCH('12日_公式練習①-結果表'!G$11,'[1]12日_公式練習①-結果表（貼付）'!$1:$1,0)),"") | H37: =IF(A37="DNS","ｽﾀｰﾄ出来ず",IF(A37="DQ","失 格",IFERROR(INDEX('[1]12日_公式練習①-結果表（貼付）'!$A:$Z,MATCH($B37,'[1]12日_公式練習①-結果表（貼付）'!$B:$B,0),MATCH('12日_公式練習①-結果表'!H$11,'[1]12日_公式練習①-結果表（貼付）'!$1:$1,0)),""))) | I37: =IF(H37<1,"",IF($I$11>H37,"R","")) | J37: =IF(A37="DNS","",IF(A37="DQ","",IFERROR(INDEX('[1]12日_公式練習①-結果表（貼付）'!$A:$Z,MATCH($B37,'[1]12日_公式練習①-結果表（貼付）'!$B:$B,0),MATCH('12日_公式練習①-結果表'!J$11,'[1]12日_公式練習①-結果表（貼付）'!$1:$1,0)),""))) | K37: =IF(A37="DNS","",IF(A37="DQ","",IFERROR(INDEX('[1]12日_公式練習①-結果表（貼付）'!$A:$Z,MATCH($B37,'[1]12日_公式練習①-結果表（貼付）'!$B:$B,0),MATCH('12日_公式練習①-結果表'!K$11,'[1]12日_公式練習①-結果表（貼付）'!$1:$1,0)),""))) | L37: =IF(A37="DNS","",IF(A37="DQ","",IFERROR(INDEX('[1]12日_公式練習①-結果表（貼付）'!$A:$Z,MATCH($B37,'[1]12日_公式練習①-結果表（貼付）'!$B:$B,0),MATCH("In Lap",'[1]12日_公式練習①-結果表（貼付）'!$1:$1,0))&"/"&INDEX('[1]12日_公式練習①-結果表（貼付）'!$A:$Z,MATCH($B37,'[1]12日_公式練習①-結果表（貼付）'!$B:$B,0),MATCH("Laps",'[1]12日_公式練習①-結果表（貼付）'!$1:$1,0)),""))) | P37: =IF(IFERROR(INDEX('[1]12日_公式練習①-結果表（貼付）'!$A:$Z,MATCH($B37,'[1]12日_公式練習①-結果表（貼付）'!$B:$B,0),MATCH(P$11,'[1]12日_公式練習①-結果表（貼付）'!$1:$1,0)),"")=0,"",IFERROR(INDEX('[1]12日_公式練習①-結果表（貼付）'!$A:$Z,MATCH($B37,'[1]12日_公式練習①-結果表（貼付）'!$B:$B,0),MATCH(P$11,'[1]12日_公式練習①-結果表（貼付）'!$1:$1,0)),"")) | Q37: =IF(P37="","",COUNTIF($P$13:P37,"<>"&"")) | R37: =IFERROR(RANK(Q37,$Q$13:$Q$46,1),"") | S37: =IF(IFERROR(INDEX('[1]12日_公式練習①-結果表（貼付）'!$A:$Z,MATCH($A37,'[1]12日_公式練習①-結果表（貼付）'!$A:$A,0),MATCH(S$11,'[1]12日_公式練習①-結果表（貼付）'!$1:$1,0)),"")=0,"",IFERROR(INDEX('[1]12日_公式練習①-結果表（貼付）'!$A:$Z,MATCH($A37,'[1]12日_公式練習①-結果表（貼付）'!$A:$A,0),MATCH(S$11,'[1]12日_公式練習①-結果表（貼付）'!$1:$1,0)),""))
A38: =IF(OR('[1]12日_公式練習①-結果表（貼付）'!A27="DNF",'[1]12日_公式練習①-結果表（貼付）'!A27="DNS",'[1]12日_公式練習①-結果表（貼付）'!A27="DQ"),'[1]12日_公式練習①-結果表（貼付）'!A27,IF(MAX('[1]12日_公式練習①-結果表（貼付）'!$A:$A)>A37,A37+1,"")) | B38: =IFERROR(INDEX('[1]12日_公式練習①-結果表（貼付）'!A27:$Z$50,MATCH($A38,'[1]12日_公式練習①-結果表（貼付）'!A27:$A$50,0),MATCH('12日_公式練習①-結果表'!B$11,'[1]12日_公式練習①-結果表（貼付）'!$1:$1,0)),"") | D38: =IFERROR(INDEX('[1]12日_公式練習①-結果表（貼付）'!$A:$Z,MATCH($B38,'[1]12日_公式練習①-結果表（貼付）'!$B:$B,0),MATCH('12日_公式練習①-結果表'!D$11,'[1]12日_公式練習①-結果表（貼付）'!$1:$1,0)),"") | E38: =IFERROR(INDEX('[1]12日_公式練習①-結果表（貼付）'!$A:$Z,MATCH($B38,'[1]12日_公式練習①-結果表（貼付）'!$B:$B,0),MATCH('12日_公式練習①-結果表'!E$11,'[1]12日_公式練習①-結果表（貼付）'!$1:$1,0)),"") | F38: =IFERROR(INDEX('[1]12日_公式練習①-結果表（貼付）'!$A:$Z,MATCH($B38,'[1]12日_公式練習①-結果表（貼付）'!$B:$B,0),MATCH('12日_公式練習①-結果表'!F$11,'[1]12日_公式練習①-結果表（貼付）'!$1:$1,0)),"") | G38: =IFERROR(INDEX('[1]12日_公式練習①-結果表（貼付）'!$A:$Z,MATCH($B38,'[1]12日_公式練習①-結果表（貼付）'!$B:$B,0),MATCH('12日_公式練習①-結果表'!G$11,'[1]12日_公式練習①-結果表（貼付）'!$1:$1,0)),"") | H38: =IF(A38="DNS","ｽﾀｰﾄ出来ず",IF(A38="DQ","失 格",IFERROR(INDEX('[1]12日_公式練習①-結果表（貼付）'!$A:$Z,MATCH($B38,'[1]12日_公式練習①-結果表（貼付）'!$B:$B,0),MATCH('12日_公式練習①-結果表'!H$11,'[1]12日_公式練習①-結果表（貼付）'!$1:$1,0)),""))) | I38: =IF(H38<1,"",IF($I$11>H38,"R","")) | J38: =IF(A38="DNS","",IF(A38="DQ","",IFERROR(INDEX('[1]12日_公式練習①-結果表（貼付）'!$A:$Z,MATCH($B38,'[1]12日_公式練習①-結果表（貼付）'!$B:$B,0),MATCH('12日_公式練習①-結果表'!J$11,'[1]12日_公式練習①-結果表（貼付）'!$1:$1,0)),""))) | K38: =IF(A38="DNS","",IF(A38="DQ","",IFERROR(INDEX('[1]12日_公式練習①-結果表（貼付）'!$A:$Z,MATCH($B38,'[1]12日_公式練習①-結果表（貼付）'!$B:$B,0),MATCH('12日_公式練習①-結果表'!K$11,'[1]12日_公式練習①-結果表（貼付）'!$1:$1,0)),""))) | L38: =IF(A38="DNS","",IF(A38="DQ","",IFERROR(INDEX('[1]12日_公式練習①-結果表（貼付）'!$A:$Z,MATCH($B38,'[1]12日_公式練習①-結果表（貼付）'!$B:$B,0),MATCH("In Lap",'[1]12日_公式練習①-結果表（貼付）'!$1:$1,0))&"/"&INDEX('[1]12日_公式練習①-結果表（貼付）'!$A:$Z,MATCH($B38,'[1]12日_公式練習①-結果表（貼付）'!$B:$B,0),MATCH("Laps",'[1]12日_公式練習①-結果表（貼付）'!$1:$1,0)),""))) | P38: =IF(IFERROR(INDEX('[1]12日_公式練習①-結果表（貼付）'!$A:$Z,MATCH($B38,'[1]12日_公式練習①-結果表（貼付）'!$B:$B,0),MATCH(P$11,'[1]12日_公式練習①-結果表（貼付）'!$1:$1,0)),"")=0,"",IFERROR(INDEX('[1]12日_公式練習①-結果表（貼付）'!$A:$Z,MATCH($B38,'[1]12日_公式練習①-結果表（貼付）'!$B:$B,0),MATCH(P$11,'[1]12日_公式練習①-結果表（貼付）'!$1:$1,0)),"")) | Q38: =IF(P38="","",COUNTIF($P$13:P38,"<>"&"")) | R38: =IFERROR(RANK(Q38,$Q$13:$Q$46,1),"") | S38: =IF(IFERROR(INDEX('[1]12日_公式練習①-結果表（貼付）'!$A:$Z,MATCH($A38,'[1]12日_公式練習①-結果表（貼付）'!$A:$A,0),MATCH(S$11,'[1]12日_公式練習①-結果表（貼付）'!$1:$1,0)),"")=0,"",IFERROR(INDEX('[1]12日_公式練習①-結果表（貼付）'!$A:$Z,MATCH($A38,'[1]12日_公式練習①-結果表（貼付）'!$A:$A,0),MATCH(S$11,'[1]12日_公式練習①-結果表（貼付）'!$1:$1,0)),""))
A39: =IF(OR('[1]12日_公式練習①-結果表（貼付）'!A28="DNF",'[1]12日_公式練習①-結果表（貼付）'!A28="DNS",'[1]12日_公式練習①-結果表（貼付）'!A28="DQ"),'[1]12日_公式練習①-結果表（貼付）'!A28,IF(MAX('[1]12日_公式練習①-結果表（貼付）'!$A:$A)>A38,A38+1,"")) | B39: =IFERROR(INDEX('[1]12日_公式練習①-結果表（貼付）'!A28:$Z$50,MATCH($A39,'[1]12日_公式練習①-結果表（貼付）'!A28:$A$50,0),MATCH('12日_公式練習①-結果表'!B$11,'[1]12日_公式練習①-結果表（貼付）'!$1:$1,0)),"") | D39: =IFERROR(INDEX('[1]12日_公式練習①-結果表（貼付）'!$A:$Z,MATCH($B39,'[1]12日_公式練習①-結果表（貼付）'!$B:$B,0),MATCH('12日_公式練習①-結果表'!D$11,'[1]12日_公式練習①-結果表（貼付）'!$1:$1,0)),"") | E39: =IFERROR(INDEX('[1]12日_公式練習①-結果表（貼付）'!$A:$Z,MATCH($B39,'[1]12日_公式練習①-結果表（貼付）'!$B:$B,0),MATCH('12日_公式練習①-結果表'!E$11,'[1]12日_公式練習①-結果表（貼付）'!$1:$1,0)),"") | F39: =IFERROR(INDEX('[1]12日_公式練習①-結果表（貼付）'!$A:$Z,MATCH($B39,'[1]12日_公式練習①-結果表（貼付）'!$B:$B,0),MATCH('12日_公式練習①-結果表'!F$11,'[1]12日_公式練習①-結果表（貼付）'!$1:$1,0)),"") | G39: =IFERROR(INDEX('[1]12日_公式練習①-結果表（貼付）'!$A:$Z,MATCH($B39,'[1]12日_公式練習①-結果表（貼付）'!$B:$B,0),MATCH('12日_公式練習①-結果表'!G$11,'[1]12日_公式練習①-結果表（貼付）'!$1:$1,0)),"") | H39: =IF(A39="DNS","ｽﾀｰﾄ出来ず",IF(A39="DQ","失 格",IFERROR(INDEX('[1]12日_公式練習①-結果表（貼付）'!$A:$Z,MATCH($B39,'[1]12日_公式練習①-結果表（貼付）'!$B:$B,0),MATCH('12日_公式練習①-結果表'!H$11,'[1]12日_公式練習①-結果表（貼付）'!$1:$1,0)),""))) | I39: =IF(H39<1,"",IF($I$11>H39,"R","")) | J39: =IF(A39="DNS","",IF(A39="DQ","",IFERROR(INDEX('[1]12日_公式練習①-結果表（貼付）'!$A:$Z,MATCH($B39,'[1]12日_公式練習①-結果表（貼付）'!$B:$B,0),MATCH('12日_公式練習①-結果表'!J$11,'[1]12日_公式練習①-結果表（貼付）'!$1:$1,0)),""))) | K39: =IF(A39="DNS","",IF(A39="DQ","",IFERROR(INDEX('[1]12日_公式練習①-結果表（貼付）'!$A:$Z,MATCH($B39,'[1]12日_公式練習①-結果表（貼付）'!$B:$B,0),MATCH('12日_公式練習①-結果表'!K$11,'[1]12日_公式練習①-結果表（貼付）'!$1:$1,0)),""))) | L39: =IF(A39="DNS","",IF(A39="DQ","",IFERROR(INDEX('[1]12日_公式練習①-結果表（貼付）'!$A:$Z,MATCH($B39,'[1]12日_公式練習①-結果表（貼付）'!$B:$B,0),MATCH("In Lap",'[1]12日_公式練習①-結果表（貼付）'!$1:$1,0))&"/"&INDEX('[1]12日_公式練習①-結果表（貼付）'!$A:$Z,MATCH($B39,'[1]12日_公式練習①-結果表（貼付）'!$B:$B,0),MATCH("Laps",'[1]12日_公式練習①-結果表（貼付）'!$1:$1,0)),""))) | P39: =IF(IFERROR(INDEX('[1]12日_公式練習①-結果表（貼付）'!$A:$Z,MATCH($B39,'[1]12日_公式練習①-結果表（貼付）'!$B:$B,0),MATCH(P$11,'[1]12日_公式練習①-結果表（貼付）'!$1:$1,0)),"")=0,"",IFERROR(INDEX('[1]12日_公式練習①-結果表（貼付）'!$A:$Z,MATCH($B39,'[1]12日_公式練習①-結果表（貼付）'!$B:$B,0),MATCH(P$11,'[1]12日_公式練習①-結果表（貼付）'!$1:$1,0)),"")) | Q39: =IF(P39="","",COUNTIF($P$13:P39,"<>"&"")) | R39: =IFERROR(RANK(Q39,$Q$13:$Q$46,1),"") | S39: =IF(IFERROR(INDEX('[1]12日_公式練習①-結果表（貼付）'!$A:$Z,MATCH($A39,'[1]12日_公式練習①-結果表（貼付）'!$A:$A,0),MATCH(S$11,'[1]12日_公式練習①-結果表（貼付）'!$1:$1,0)),"")=0,"",IFERROR(INDEX('[1]12日_公式練習①-結果表（貼付）'!$A:$Z,MATCH($A39,'[1]12日_公式練習①-結果表（貼付）'!$A:$A,0),MATCH(S$11,'[1]12日_公式練習①-結果表（貼付）'!$1:$1,0)),""))
A40: =IF(OR('[1]12日_公式練習①-結果表（貼付）'!A29="DNF",'[1]12日_公式練習①-結果表（貼付）'!A29="DNS",'[1]12日_公式練習①-結果表（貼付）'!A29="DQ"),'[1]12日_公式練習①-結果表（貼付）'!A29,IF(MAX('[1]12日_公式練習①-結果表（貼付）'!$A:$A)>A39,A39+1,"")) | B40: =IFERROR(INDEX('[1]12日_公式練習①-結果表（貼付）'!A29:$Z$50,MATCH($A40,'[1]12日_公式練習①-結果表（貼付）'!A29:$A$50,0),MATCH('12日_公式練習①-結果表'!B$11,'[1]12日_公式練習①-結果表（貼付）'!$1:$1,0)),"") | D40: =IFERROR(INDEX('[1]12日_公式練習①-結果表（貼付）'!$A:$Z,MATCH($B40,'[1]12日_公式練習①-結果表（貼付）'!$B:$B,0),MATCH('12日_公式練習①-結果表'!D$11,'[1]12日_公式練習①-結果表（貼付）'!$1:$1,0)),"") | E40: =IFERROR(INDEX('[1]12日_公式練習①-結果表（貼付）'!$A:$Z,MATCH($B40,'[1]12日_公式練習①-結果表（貼付）'!$B:$B,0),MATCH('12日_公式練習①-結果表'!E$11,'[1]12日_公式練習①-結果表（貼付）'!$1:$1,0)),"") | F40: =IFERROR(INDEX('[1]12日_公式練習①-結果表（貼付）'!$A:$Z,MATCH($B40,'[1]12日_公式練習①-結果表（貼付）'!$B:$B,0),MATCH('12日_公式練習①-結果表'!F$11,'[1]12日_公式練習①-結果表（貼付）'!$1:$1,0)),"") | G40: =IFERROR(INDEX('[1]12日_公式練習①-結果表（貼付）'!$A:$Z,MATCH($B40,'[1]12日_公式練習①-結果表（貼付）'!$B:$B,0),MATCH('12日_公式練習①-結果表'!G$11,'[1]12日_公式練習①-結果表（貼付）'!$1:$1,0)),"") | H40: =IF(A40="DNS","ｽﾀｰﾄ出来ず",IF(A40="DQ","失 格",IFERROR(INDEX('[1]12日_公式練習①-結果表（貼付）'!$A:$Z,MATCH($B40,'[1]12日_公式練習①-結果表（貼付）'!$B:$B,0),MATCH('12日_公式練習①-結果表'!H$11,'[1]12日_公式練習①-結果表（貼付）'!$1:$1,0)),""))) | I40: =IF(H40<1,"",IF($I$11>H40,"R","")) | J40: =IF(A40="DNS","",IF(A40="DQ","",IFERROR(INDEX('[1]12日_公式練習①-結果表（貼付）'!$A:$Z,MATCH($B40,'[1]12日_公式練習①-結果表（貼付）'!$B:$B,0),MATCH('12日_公式練習①-結果表'!J$11,'[1]12日_公式練習①-結果表（貼付）'!$1:$1,0)),""))) | K40: =IF(A40="DNS","",IF(A40="DQ","",IFERROR(INDEX('[1]12日_公式練習①-結果表（貼付）'!$A:$Z,MATCH($B40,'[1]12日_公式練習①-結果表（貼付）'!$B:$B,0),MATCH('12日_公式練習①-結果表'!K$11,'[1]12日_公式練習①-結果表（貼付）'!$1:$1,0)),""))) | L40: =IF(A40="DNS","",IF(A40="DQ","",IFERROR(INDEX('[1]12日_公式練習①-結果表（貼付）'!$A:$Z,MATCH($B40,'[1]12日_公式練習①-結果表（貼付）'!$B:$B,0),MATCH("In Lap",'[1]12日_公式練習①-結果表（貼付）'!$1:$1,0))&"/"&INDEX('[1]12日_公式練習①-結果表（貼付）'!$A:$Z,MATCH($B40,'[1]12日_公式練習①-結果表（貼付）'!$B:$B,0),MATCH("Laps",'[1]12日_公式練習①-結果表（貼付）'!$1:$1,0)),""))) | P40: =IF(IFERROR(INDEX('[1]12日_公式練習①-結果表（貼付）'!$A:$Z,MATCH($B40,'[1]12日_公式練習①-結果表（貼付）'!$B:$B,0),MATCH(P$11,'[1]12日_公式練習①-結果表（貼付）'!$1:$1,0)),"")=0,"",IFERROR(INDEX('[1]12日_公式練習①-結果表（貼付）'!$A:$Z,MATCH($B40,'[1]12日_公式練習①-結果表（貼付）'!$B:$B,0),MATCH(P$11,'[1]12日_公式練習①-結果表（貼付）'!$1:$1,0)),"")) | Q40: =IF(P40="","",COUNTIF($P$13:P40,"<>"&"")) | R40: =IFERROR(RANK(Q40,$Q$13:$Q$46,1),"") | S40: =IF(IFERROR(INDEX('[1]12日_公式練習①-結果表（貼付）'!$A:$Z,MATCH($A40,'[1]12日_公式練習①-結果表（貼付）'!$A:$A,0),MATCH(S$11,'[1]12日_公式練習①-結果表（貼付）'!$1:$1,0)),"")=0,"",IFERROR(INDEX('[1]12日_公式練習①-結果表（貼付）'!$A:$Z,MATCH($A40,'[1]12日_公式練習①-結果表（貼付）'!$A:$A,0),MATCH(S$11,'[1]12日_公式練習①-結果表（貼付）'!$1:$1,0)),""))
A41: =IF(OR('[1]12日_公式練習①-結果表（貼付）'!A30="DNF",'[1]12日_公式練習①-結果表（貼付）'!A30="DNS",'[1]12日_公式練習①-結果表（貼付）'!A30="DQ"),'[1]12日_公式練習①-結果表（貼付）'!A30,IF(MAX('[1]12日_公式練習①-結果表（貼付）'!$A:$A)>A40,A40+1,"")) | B41: =IFERROR(INDEX('[1]12日_公式練習①-結果表（貼付）'!A30:$Z$50,MATCH($A41,'[1]12日_公式練習①-結果表（貼付）'!A30:$A$50,0),MATCH('12日_公式練習①-結果表'!B$11,'[1]12日_公式練習①-結果表（貼付）'!$1:$1,0)),"") | D41: =IFERROR(INDEX('[1]12日_公式練習①-結果表（貼付）'!$A:$Z,MATCH($B41,'[1]12日_公式練習①-結果表（貼付）'!$B:$B,0),MATCH('12日_公式練習①-結果表'!D$11,'[1]12日_公式練習①-結果表（貼付）'!$1:$1,0)),"") | E41: =IFERROR(INDEX('[1]12日_公式練習①-結果表（貼付）'!$A:$Z,MATCH($B41,'[1]12日_公式練習①-結果表（貼付）'!$B:$B,0),MATCH('12日_公式練習①-結果表'!E$11,'[1]12日_公式練習①-結果表（貼付）'!$1:$1,0)),"") | F41: =IFERROR(INDEX('[1]12日_公式練習①-結果表（貼付）'!$A:$Z,MATCH($B41,'[1]12日_公式練習①-結果表（貼付）'!$B:$B,0),MATCH('12日_公式練習①-結果表'!F$11,'[1]12日_公式練習①-結果表（貼付）'!$1:$1,0)),"") | G41: =IFERROR(INDEX('[1]12日_公式練習①-結果表（貼付）'!$A:$Z,MATCH($B41,'[1]12日_公式練習①-結果表（貼付）'!$B:$B,0),MATCH('12日_公式練習①-結果表'!G$11,'[1]12日_公式練習①-結果表（貼付）'!$1:$1,0)),"") | H41: =IF(A41="DNS","ｽﾀｰﾄ出来ず",IF(A41="DQ","失 格",IFERROR(INDEX('[1]12日_公式練習①-結果表（貼付）'!$A:$Z,MATCH($B41,'[1]12日_公式練習①-結果表（貼付）'!$B:$B,0),MATCH('12日_公式練習①-結果表'!H$11,'[1]12日_公式練習①-結果表（貼付）'!$1:$1,0)),""))) | I41: =IF(H41<1,"",IF($I$11>H41,"R","")) | J41: =IF(A41="DNS","",IF(A41="DQ","",IFERROR(INDEX('[1]12日_公式練習①-結果表（貼付）'!$A:$Z,MATCH($B41,'[1]12日_公式練習①-結果表（貼付）'!$B:$B,0),MATCH('12日_公式練習①-結果表'!J$11,'[1]12日_公式練習①-結果表（貼付）'!$1:$1,0)),""))) | K41: =IF(A41="DNS","",IF(A41="DQ","",IFERROR(INDEX('[1]12日_公式練習①-結果表（貼付）'!$A:$Z,MATCH($B41,'[1]12日_公式練習①-結果表（貼付）'!$B:$B,0),MATCH('12日_公式練習①-結果表'!K$11,'[1]12日_公式練習①-結果表（貼付）'!$1:$1,0)),""))) | L41: =IF(A41="DNS","",IF(A41="DQ","",IFERROR(INDEX('[1]12日_公式練習①-結果表（貼付）'!$A:$Z,MATCH($B41,'[1]12日_公式練習①-結果表（貼付）'!$B:$B,0),MATCH("In Lap",'[1]12日_公式練習①-結果表（貼付）'!$1:$1,0))&"/"&INDEX('[1]12日_公式練習①-結果表（貼付）'!$A:$Z,MATCH($B41,'[1]12日_公式練習①-結果表（貼付）'!$B:$B,0),MATCH("Laps",'[1]12日_公式練習①-結果表（貼付）'!$1:$1,0)),""))) | P41: =IF(IFERROR(INDEX('[1]12日_公式練習①-結果表（貼付）'!$A:$Z,MATCH($B41,'[1]12日_公式練習①-結果表（貼付）'!$B:$B,0),MATCH(P$11,'[1]12日_公式練習①-結果表（貼付）'!$1:$1,0)),"")=0,"",IFERROR(INDEX('[1]12日_公式練習①-結果表（貼付）'!$A:$Z,MATCH($B41,'[1]12日_公式練習①-結果表（貼付）'!$B:$B,0),MATCH(P$11,'[1]12日_公式練習①-結果表（貼付）'!$1:$1,0)),"")) | Q41: =IF(P41="","",COUNTIF($P$13:P41,"<>"&"")) | R41: =IFERROR(RANK(Q41,$Q$13:$Q$46,1),"") | S41: =IF(IFERROR(INDEX('[1]12日_公式練習①-結果表（貼付）'!$A:$Z,MATCH($A41,'[1]12日_公式練習①-結果表（貼付）'!$A:$A,0),MATCH(S$11,'[1]12日_公式練習①-結果表（貼付）'!$1:$1,0)),"")=0,"",IFERROR(INDEX('[1]12日_公式練習①-結果表（貼付）'!$A:$Z,MATCH($A41,'[1]12日_公式練習①-結果表（貼付）'!$A:$A,0),MATCH(S$11,'[1]12日_公式練習①-結果表（貼付）'!$1:$1,0)),""))
A42: =IF(OR('[1]12日_公式練習①-結果表（貼付）'!A31="DNF",'[1]12日_公式練習①-結果表（貼付）'!A31="DNS",'[1]12日_公式練習①-結果表（貼付）'!A31="DQ"),'[1]12日_公式練習①-結果表（貼付）'!A31,IF(MAX('[1]12日_公式練習①-結果表（貼付）'!$A:$A)>A41,A41+1,"")) | B42: =IFERROR(INDEX('[1]12日_公式練習①-結果表（貼付）'!A31:$Z$50,MATCH($A42,'[1]12日_公式練習①-結果表（貼付）'!A31:$A$50,0),MATCH('12日_公式練習①-結果表'!B$11,'[1]12日_公式練習①-結果表（貼付）'!$1:$1,0)),"") | D42: =IFERROR(INDEX('[1]12日_公式練習①-結果表（貼付）'!$A:$Z,MATCH($B42,'[1]12日_公式練習①-結果表（貼付）'!$B:$B,0),MATCH('12日_公式練習①-結果表'!D$11,'[1]12日_公式練習①-結果表（貼付）'!$1:$1,0)),"") | E42: =IFERROR(INDEX('[1]12日_公式練習①-結果表（貼付）'!$A:$Z,MATCH($B42,'[1]12日_公式練習①-結果表（貼付）'!$B:$B,0),MATCH('12日_公式練習①-結果表'!E$11,'[1]12日_公式練習①-結果表（貼付）'!$1:$1,0)),"") | F42: =IFERROR(INDEX('[1]12日_公式練習①-結果表（貼付）'!$A:$Z,MATCH($B42,'[1]12日_公式練習①-結果表（貼付）'!$B:$B,0),MATCH('12日_公式練習①-結果表'!F$11,'[1]12日_公式練習①-結果表（貼付）'!$1:$1,0)),"") | G42: =IFERROR(INDEX('[1]12日_公式練習①-結果表（貼付）'!$A:$Z,MATCH($B42,'[1]12日_公式練習①-結果表（貼付）'!$B:$B,0),MATCH('12日_公式練習①-結果表'!G$11,'[1]12日_公式練習①-結果表（貼付）'!$1:$1,0)),"") | H42: =IF(A42="DNS","ｽﾀｰﾄ出来ず",IF(A42="DQ","失 格",IFERROR(INDEX('[1]12日_公式練習①-結果表（貼付）'!$A:$Z,MATCH($B42,'[1]12日_公式練習①-結果表（貼付）'!$B:$B,0),MATCH('12日_公式練習①-結果表'!H$11,'[1]12日_公式練習①-結果表（貼付）'!$1:$1,0)),""))) | I42: =IF(H42<1,"",IF($I$11>H42,"R","")) | J42: =IF(A42="DNS","",IF(A42="DQ","",IFERROR(INDEX('[1]12日_公式練習①-結果表（貼付）'!$A:$Z,MATCH($B42,'[1]12日_公式練習①-結果表（貼付）'!$B:$B,0),MATCH('12日_公式練習①-結果表'!J$11,'[1]12日_公式練習①-結果表（貼付）'!$1:$1,0)),""))) | K42: =IF(A42="DNS","",IF(A42="DQ","",IFERROR(INDEX('[1]12日_公式練習①-結果表（貼付）'!$A:$Z,MATCH($B42,'[1]12日_公式練習①-結果表（貼付）'!$B:$B,0),MATCH('12日_公式練習①-結果表'!K$11,'[1]12日_公式練習①-結果表（貼付）'!$1:$1,0)),""))) | L42: =IF(A42="DNS","",IF(A42="DQ","",IFERROR(INDEX('[1]12日_公式練習①-結果表（貼付）'!$A:$Z,MATCH($B42,'[1]12日_公式練習①-結果表（貼付）'!$B:$B,0),MATCH("In Lap",'[1]12日_公式練習①-結果表（貼付）'!$1:$1,0))&"/"&INDEX('[1]12日_公式練習①-結果表（貼付）'!$A:$Z,MATCH($B42,'[1]12日_公式練習①-結果表（貼付）'!$B:$B,0),MATCH("Laps",'[1]12日_公式練習①-結果表（貼付）'!$1:$1,0)),""))) | P42: =IF(IFERROR(INDEX('[1]12日_公式練習①-結果表（貼付）'!$A:$Z,MATCH($B42,'[1]12日_公式練習①-結果表（貼付）'!$B:$B,0),MATCH(P$11,'[1]12日_公式練習①-結果表（貼付）'!$1:$1,0)),"")=0,"",IFERROR(INDEX('[1]12日_公式練習①-結果表（貼付）'!$A:$Z,MATCH($B42,'[1]12日_公式練習①-結果表（貼付）'!$B:$B,0),MATCH(P$11,'[1]12日_公式練習①-結果表（貼付）'!$1:$1,0)),"")) | Q42: =IF(P42="","",COUNTIF($P$13:P42,"<>"&"")) | R42: =IFERROR(RANK(Q42,$Q$13:$Q$46,1),"") | S42: =IF(IFERROR(INDEX('[1]12日_公式練習①-結果表（貼付）'!$A:$Z,MATCH($A42,'[1]12日_公式練習①-結果表（貼付）'!$A:$A,0),MATCH(S$11,'[1]12日_公式練習①-結果表（貼付）'!$1:$1,0)),"")=0,"",IFERROR(INDEX('[1]12日_公式練習①-結果表（貼付）'!$A:$Z,MATCH($A42,'[1]12日_公式練習①-結果表（貼付）'!$A:$A,0),MATCH(S$11,'[1]12日_公式練習①-結果表（貼付）'!$1:$1,0)),""))
A43: =IF(OR('[1]12日_公式練習①-結果表（貼付）'!A32="DNF",'[1]12日_公式練習①-結果表（貼付）'!A32="DNS",'[1]12日_公式練習①-結果表（貼付）'!A32="DQ"),'[1]12日_公式練習①-結果表（貼付）'!A32,IF(MAX('[1]12日_公式練習①-結果表（貼付）'!$A:$A)>A42,A42+1,"")) | B43: =IFERROR(INDEX('[1]12日_公式練習①-結果表（貼付）'!A32:$Z$50,MATCH($A43,'[1]12日_公式練習①-結果表（貼付）'!A32:$A$50,0),MATCH('12日_公式練習①-結果表'!B$11,'[1]12日_公式練習①-結果表（貼付）'!$1:$1,0)),"") | D43: =IFERROR(INDEX('[1]12日_公式練習①-結果表（貼付）'!$A:$Z,MATCH($B43,'[1]12日_公式練習①-結果表（貼付）'!$B:$B,0),MATCH('12日_公式練習①-結果表'!D$11,'[1]12日_公式練習①-結果表（貼付）'!$1:$1,0)),"") | E43: =IFERROR(INDEX('[1]12日_公式練習①-結果表（貼付）'!$A:$Z,MATCH($B43,'[1]12日_公式練習①-結果表（貼付）'!$B:$B,0),MATCH('12日_公式練習①-結果表'!E$11,'[1]12日_公式練習①-結果表（貼付）'!$1:$1,0)),"") | F43: =IFERROR(INDEX('[1]12日_公式練習①-結果表（貼付）'!$A:$Z,MATCH($B43,'[1]12日_公式練習①-結果表（貼付）'!$B:$B,0),MATCH('12日_公式練習①-結果表'!F$11,'[1]12日_公式練習①-結果表（貼付）'!$1:$1,0)),"") | G43: =IFERROR(INDEX('[1]12日_公式練習①-結果表（貼付）'!$A:$Z,MATCH($B43,'[1]12日_公式練習①-結果表（貼付）'!$B:$B,0),MATCH('12日_公式練習①-結果表'!G$11,'[1]12日_公式練習①-結果表（貼付）'!$1:$1,0)),"") | H43: =IF(A43="DNS","ｽﾀｰﾄ出来ず",IF(A43="DQ","失 格",IFERROR(INDEX('[1]12日_公式練習①-結果表（貼付）'!$A:$Z,MATCH($B43,'[1]12日_公式練習①-結果表（貼付）'!$B:$B,0),MATCH('12日_公式練習①-結果表'!H$11,'[1]12日_公式練習①-結果表（貼付）'!$1:$1,0)),""))) | I43: =IF(H43<1,"",IF($I$11>H43,"R","")) | J43: =IF(A43="DNS","",IF(A43="DQ","",IFERROR(INDEX('[1]12日_公式練習①-結果表（貼付）'!$A:$Z,MATCH($B43,'[1]12日_公式練習①-結果表（貼付）'!$B:$B,0),MATCH('12日_公式練習①-結果表'!J$11,'[1]12日_公式練習①-結果表（貼付）'!$1:$1,0)),""))) | K43: =IF(A43="DNS","",IF(A43="DQ","",IFERROR(INDEX('[1]12日_公式練習①-結果表（貼付）'!$A:$Z,MATCH($B43,'[1]12日_公式練習①-結果表（貼付）'!$B:$B,0),MATCH('12日_公式練習①-結果表'!K$11,'[1]12日_公式練習①-結果表（貼付）'!$1:$1,0)),""))) | L43: =IF(A43="DNS","",IF(A43="DQ","",IFERROR(INDEX('[1]12日_公式練習①-結果表（貼付）'!$A:$Z,MATCH($B43,'[1]12日_公式練習①-結果表（貼付）'!$B:$B,0),MATCH("In Lap",'[1]12日_公式練習①-結果表（貼付）'!$1:$1,0))&"/"&INDEX('[1]12日_公式練習①-結果表（貼付）'!$A:$Z,MATCH($B43,'[1]12日_公式練習①-結果表（貼付）'!$B:$B,0),MATCH("Laps",'[1]12日_公式練習①-結果表（貼付）'!$1:$1,0)),""))) | P43: =IF(IFERROR(INDEX('[1]12日_公式練習①-結果表（貼付）'!$A:$Z,MATCH($B43,'[1]12日_公式練習①-結果表（貼付）'!$B:$B,0),MATCH(P$11,'[1]12日_公式練習①-結果表（貼付）'!$1:$1,0)),"")=0,"",IFERROR(INDEX('[1]12日_公式練習①-結果表（貼付）'!$A:$Z,MATCH($B43,'[1]12日_公式練習①-結果表（貼付）'!$B:$B,0),MATCH(P$11,'[1]12日_公式練習①-結果表（貼付）'!$1:$1,0)),"")) | Q43: =IF(P43="","",COUNTIF($P$13:P43,"<>"&"")) | R43: =IFERROR(RANK(Q43,$Q$13:$Q$46,1),"") | S43: =IF(IFERROR(INDEX('[1]12日_公式練習①-結果表（貼付）'!$A:$Z,MATCH($A43,'[1]12日_公式練習①-結果表（貼付）'!$A:$A,0),MATCH(S$11,'[1]12日_公式練習①-結果表（貼付）'!$1:$1,0)),"")=0,"",IFERROR(INDEX('[1]12日_公式練習①-結果表（貼付）'!$A:$Z,MATCH($A43,'[1]12日_公式練習①-結果表（貼付）'!$A:$A,0),MATCH(S$11,'[1]12日_公式練習①-結果表（貼付）'!$1:$1,0)),""))
A44: =IF(OR('[1]12日_公式練習①-結果表（貼付）'!A33="DNF",'[1]12日_公式練習①-結果表（貼付）'!A33="DNS",'[1]12日_公式練習①-結果表（貼付）'!A33="DQ"),'[1]12日_公式練習①-結果表（貼付）'!A33,IF(MAX('[1]12日_公式練習①-結果表（貼付）'!$A:$A)>A43,A43+1,"")) | B44: =IFERROR(INDEX('[1]12日_公式練習①-結果表（貼付）'!A33:$Z$50,MATCH($A44,'[1]12日_公式練習①-結果表（貼付）'!A33:$A$50,0),MATCH('12日_公式練習①-結果表'!B$11,'[1]12日_公式練習①-結果表（貼付）'!$1:$1,0)),"") | D44: =IFERROR(INDEX('[1]12日_公式練習①-結果表（貼付）'!$A:$Z,MATCH($B44,'[1]12日_公式練習①-結果表（貼付）'!$B:$B,0),MATCH('12日_公式練習①-結果表'!D$11,'[1]12日_公式練習①-結果表（貼付）'!$1:$1,0)),"") | E44: =IFERROR(INDEX('[1]12日_公式練習①-結果表（貼付）'!$A:$Z,MATCH($B44,'[1]12日_公式練習①-結果表（貼付）'!$B:$B,0),MATCH('12日_公式練習①-結果表'!E$11,'[1]12日_公式練習①-結果表（貼付）'!$1:$1,0)),"") | F44: =IFERROR(INDEX('[1]12日_公式練習①-結果表（貼付）'!$A:$Z,MATCH($B44,'[1]12日_公式練習①-結果表（貼付）'!$B:$B,0),MATCH('12日_公式練習①-結果表'!F$11,'[1]12日_公式練習①-結果表（貼付）'!$1:$1,0)),"") | G44: =IFERROR(INDEX('[1]12日_公式練習①-結果表（貼付）'!$A:$Z,MATCH($B44,'[1]12日_公式練習①-結果表（貼付）'!$B:$B,0),MATCH('12日_公式練習①-結果表'!G$11,'[1]12日_公式練習①-結果表（貼付）'!$1:$1,0)),"") | H44: =IF(A44="DNS","ｽﾀｰﾄ出来ず",IF(A44="DQ","失 格",IFERROR(INDEX('[1]12日_公式練習①-結果表（貼付）'!$A:$Z,MATCH($B44,'[1]12日_公式練習①-結果表（貼付）'!$B:$B,0),MATCH('12日_公式練習①-結果表'!H$11,'[1]12日_公式練習①-結果表（貼付）'!$1:$1,0)),""))) | I44: =IF(H44<1,"",IF($I$11>H44,"R","")) | J44: =IF(A44="DNS","",IF(A44="DQ","",IFERROR(INDEX('[1]12日_公式練習①-結果表（貼付）'!$A:$Z,MATCH($B44,'[1]12日_公式練習①-結果表（貼付）'!$B:$B,0),MATCH('12日_公式練習①-結果表'!J$11,'[1]12日_公式練習①-結果表（貼付）'!$1:$1,0)),""))) | K44: =IF(A44="DNS","",IF(A44="DQ","",IFERROR(INDEX('[1]12日_公式練習①-結果表（貼付）'!$A:$Z,MATCH($B44,'[1]12日_公式練習①-結果表（貼付）'!$B:$B,0),MATCH('12日_公式練習①-結果表'!K$11,'[1]12日_公式練習①-結果表（貼付）'!$1:$1,0)),""))) | L44: =IF(A44="DNS","",IF(A44="DQ","",IFERROR(INDEX('[1]12日_公式練習①-結果表（貼付）'!$A:$Z,MATCH($B44,'[1]12日_公式練習①-結果表（貼付）'!$B:$B,0),MATCH("In Lap",'[1]12日_公式練習①-結果表（貼付）'!$1:$1,0))&"/"&INDEX('[1]12日_公式練習①-結果表（貼付）'!$A:$Z,MATCH($B44,'[1]12日_公式練習①-結果表（貼付）'!$B:$B,0),MATCH("Laps",'[1]12日_公式練習①-結果表（貼付）'!$1:$1,0)),""))) | P44: =IF(IFERROR(INDEX('[1]12日_公式練習①-結果表（貼付）'!$A:$Z,MATCH($B44,'[1]12日_公式練習①-結果表（貼付）'!$B:$B,0),MATCH(P$11,'[1]12日_公式練習①-結果表（貼付）'!$1:$1,0)),"")=0,"",IFERROR(INDEX('[1]12日_公式練習①-結果表（貼付）'!$A:$Z,MATCH($B44,'[1]12日_公式練習①-結果表（貼付）'!$B:$B,0),MATCH(P$11,'[1]12日_公式練習①-結果表（貼付）'!$1:$1,0)),"")) | Q44: =IF(P44="","",COUNTIF($P$13:P44,"<>"&"")) | R44: =IFERROR(RANK(Q44,$Q$13:$Q$46,1),"") | S44: =IF(IFERROR(INDEX('[1]12日_公式練習①-結果表（貼付）'!$A:$Z,MATCH($A44,'[1]12日_公式練習①-結果表（貼付）'!$A:$A,0),MATCH(S$11,'[1]12日_公式練習①-結果表（貼付）'!$1:$1,0)),"")=0,"",IFERROR(INDEX('[1]12日_公式練習①-結果表（貼付）'!$A:$Z,MATCH($A44,'[1]12日_公式練習①-結果表（貼付）'!$A:$A,0),MATCH(S$11,'[1]12日_公式練習①-結果表（貼付）'!$1:$1,0)),""))
A45: =IF(OR('[1]12日_公式練習①-結果表（貼付）'!A34="DNF",'[1]12日_公式練習①-結果表（貼付）'!A34="DNS",'[1]12日_公式練習①-結果表（貼付）'!A34="DQ"),'[1]12日_公式練習①-結果表（貼付）'!A34,IF(MAX('[1]12日_公式練習①-結果表（貼付）'!$A:$A)>A44,A44+1,"")) | B45: =IFERROR(INDEX('[1]12日_公式練習①-結果表（貼付）'!A34:$Z$50,MATCH($A45,'[1]12日_公式練習①-結果表（貼付）'!A34:$A$50,0),MATCH('12日_公式練習①-結果表'!B$11,'[1]12日_公式練習①-結果表（貼付）'!$1:$1,0)),"") | D45: =IFERROR(INDEX('[1]12日_公式練習①-結果表（貼付）'!$A:$Z,MATCH($B45,'[1]12日_公式練習①-結果表（貼付）'!$B:$B,0),MATCH('12日_公式練習①-結果表'!D$11,'[1]12日_公式練習①-結果表（貼付）'!$1:$1,0)),"") | E45: =IFERROR(INDEX('[1]12日_公式練習①-結果表（貼付）'!$A:$Z,MATCH($B45,'[1]12日_公式練習①-結果表（貼付）'!$B:$B,0),MATCH('12日_公式練習①-結果表'!E$11,'[1]12日_公式練習①-結果表（貼付）'!$1:$1,0)),"") | F45: =IFERROR(INDEX('[1]12日_公式練習①-結果表（貼付）'!$A:$Z,MATCH($B45,'[1]12日_公式練習①-結果表（貼付）'!$B:$B,0),MATCH('12日_公式練習①-結果表'!F$11,'[1]12日_公式練習①-結果表（貼付）'!$1:$1,0)),"") | G45: =IFERROR(INDEX('[1]12日_公式練習①-結果表（貼付）'!$A:$Z,MATCH($B45,'[1]12日_公式練習①-結果表（貼付）'!$B:$B,0),MATCH('12日_公式練習①-結果表'!G$11,'[1]12日_公式練習①-結果表（貼付）'!$1:$1,0)),"") | H45: =IF(A45="DNS","ｽﾀｰﾄ出来ず",IF(A45="DQ","失 格",IFERROR(INDEX('[1]12日_公式練習①-結果表（貼付）'!$A:$Z,MATCH($B45,'[1]12日_公式練習①-結果表（貼付）'!$B:$B,0),MATCH('12日_公式練習①-結果表'!H$11,'[1]12日_公式練習①-結果表（貼付）'!$1:$1,0)),""))) | I45: =IF(H45<1,"",IF($I$11>H45,"R","")) | J45: =IF(A45="DNS","",IF(A45="DQ","",IFERROR(INDEX('[1]12日_公式練習①-結果表（貼付）'!$A:$Z,MATCH($B45,'[1]12日_公式練習①-結果表（貼付）'!$B:$B,0),MATCH('12日_公式練習①-結果表'!J$11,'[1]12日_公式練習①-結果表（貼付）'!$1:$1,0)),""))) | K45: =IF(A45="DNS","",IF(A45="DQ","",IFERROR(INDEX('[1]12日_公式練習①-結果表（貼付）'!$A:$Z,MATCH($B45,'[1]12日_公式練習①-結果表（貼付）'!$B:$B,0),MATCH('12日_公式練習①-結果表'!K$11,'[1]12日_公式練習①-結果表（貼付）'!$1:$1,0)),""))) | L45: =IF(A45="DNS","",IF(A45="DQ","",IFERROR(INDEX('[1]12日_公式練習①-結果表（貼付）'!$A:$Z,MATCH($B45,'[1]12日_公式練習①-結果表（貼付）'!$B:$B,0),MATCH("In Lap",'[1]12日_公式練習①-結果表（貼付）'!$1:$1,0))&"/"&INDEX('[1]12日_公式練習①-結果表（貼付）'!$A:$Z,MATCH($B45,'[1]12日_公式練習①-結果表（貼付）'!$B:$B,0),MATCH("Laps",'[1]12日_公式練習①-結果表（貼付）'!$1:$1,0)),""))) | P45: =IF(IFERROR(INDEX('[1]12日_公式練習①-結果表（貼付）'!$A:$Z,MATCH($B45,'[1]12日_公式練習①-結果表（貼付）'!$B:$B,0),MATCH(P$11,'[1]12日_公式練習①-結果表（貼付）'!$1:$1,0)),"")=0,"",IFERROR(INDEX('[1]12日_公式練習①-結果表（貼付）'!$A:$Z,MATCH($B45,'[1]12日_公式練習①-結果表（貼付）'!$B:$B,0),MATCH(P$11,'[1]12日_公式練習①-結果表（貼付）'!$1:$1,0)),"")) | Q45: =IF(P45="","",COUNTIF($P$13:P45,"<>"&"")) | R45: =IFERROR(RANK(Q45,$Q$13:$Q$46,1),"") | S45: =IF(IFERROR(INDEX('[1]12日_公式練習①-結果表（貼付）'!$A:$Z,MATCH($A45,'[1]12日_公式練習①-結果表（貼付）'!$A:$A,0),MATCH(S$11,'[1]12日_公式練習①-結果表（貼付）'!$1:$1,0)),"")=0,"",IFERROR(INDEX('[1]12日_公式練習①-結果表（貼付）'!$A:$Z,MATCH($A45,'[1]12日_公式練習①-結果表（貼付）'!$A:$A,0),MATCH(S$11,'[1]12日_公式練習①-結果表（貼付）'!$1:$1,0)),""))
A46: =IF(OR('[1]12日_公式練習①-結果表（貼付）'!A35="DNF",'[1]12日_公式練習①-結果表（貼付）'!A35="DNS",'[1]12日_公式練習①-結果表（貼付）'!A35="DQ"),'[1]12日_公式練習①-結果表（貼付）'!A35,IF(MAX('[1]12日_公式練習①-結果表（貼付）'!$A:$A)>A45,A45+1,"")) | B46: =IFERROR(INDEX('[1]12日_公式練習①-結果表（貼付）'!A35:$Z$50,MATCH($A46,'[1]12日_公式練習①-結果表（貼付）'!A35:$A$50,0),MATCH('12日_公式練習①-結果表'!B$11,'[1]12日_公式練習①-結果表（貼付）'!$1:$1,0)),"") | D46: =IFERROR(INDEX('[1]12日_公式練習①-結果表（貼付）'!$A:$Z,MATCH($B46,'[1]12日_公式練習①-結果表（貼付）'!$B:$B,0),MATCH('12日_公式練習①-結果表'!D$11,'[1]12日_公式練習①-結果表（貼付）'!$1:$1,0)),"") | E46: =IFERROR(INDEX('[1]12日_公式練習①-結果表（貼付）'!$A:$Z,MATCH($B46,'[1]12日_公式練習①-結果表（貼付）'!$B:$B,0),MATCH('12日_公式練習①-結果表'!E$11,'[1]12日_公式練習①-結果表（貼付）'!$1:$1,0)),"") | F46: =IFERROR(INDEX('[1]12日_公式練習①-結果表（貼付）'!$A:$Z,MATCH($B46,'[1]12日_公式練習①-結果表（貼付）'!$B:$B,0),MATCH('12日_公式練習①-結果表'!F$11,'[1]12日_公式練習①-結果表（貼付）'!$1:$1,0)),"") | G46: =IFERROR(INDEX('[1]12日_公式練習①-結果表（貼付）'!$A:$Z,MATCH($B46,'[1]12日_公式練習①-結果表（貼付）'!$B:$B,0),MATCH('12日_公式練習①-結果表'!G$11,'[1]12日_公式練習①-結果表（貼付）'!$1:$1,0)),"") | H46: =IF(A46="DNS","ｽﾀｰﾄ出来ず",IF(A46="DQ","失 格",IFERROR(INDEX('[1]12日_公式練習①-結果表（貼付）'!$A:$Z,MATCH($B46,'[1]12日_公式練習①-結果表（貼付）'!$B:$B,0),MATCH('12日_公式練習①-結果表'!H$11,'[1]12日_公式練習①-結果表（貼付）'!$1:$1,0)),""))) | I46: =IF(H46<1,"",IF($I$11>H46,"R","")) | J46: =IF(A46="DNS","",IF(A46="DQ","",IFERROR(INDEX('[1]12日_公式練習①-結果表（貼付）'!$A:$Z,MATCH($B46,'[1]12日_公式練習①-結果表（貼付）'!$B:$B,0),MATCH('12日_公式練習①-結果表'!J$11,'[1]12日_公式練習①-結果表（貼付）'!$1:$1,0)),""))) | K46: =IF(A46="DNS","",IF(A46="DQ","",IFERROR(INDEX('[1]12日_公式練習①-結果表（貼付）'!$A:$Z,MATCH($B46,'[1]12日_公式練習①-結果表（貼付）'!$B:$B,0),MATCH('12日_公式練習①-結果表'!K$11,'[1]12日_公式練習①-結果表（貼付）'!$1:$1,0)),""))) | L46: =IF(A46="DNS","",IF(A46="DQ","",IFERROR(INDEX('[1]12日_公式練習①-結果表（貼付）'!$A:$Z,MATCH($B46,'[1]12日_公式練習①-結果表（貼付）'!$B:$B,0),MATCH("In Lap",'[1]12日_公式練習①-結果表（貼付）'!$1:$1,0))&"/"&INDEX('[1]12日_公式練習①-結果表（貼付）'!$A:$Z,MATCH($B46,'[1]12日_公式練習①-結果表（貼付）'!$B:$B,0),MATCH("Laps",'[1]12日_公式練習①-結果表（貼付）'!$1:$1,0)),""))) | P46: =IF(IFERROR(INDEX('[1]12日_公式練習①-結果表（貼付）'!$A:$Z,MATCH($B46,'[1]12日_公式練習①-結果表（貼付）'!$B:$B,0),MATCH(P$11,'[1]12日_公式練習①-結果表（貼付）'!$1:$1,0)),"")=0,"",IFERROR(INDEX('[1]12日_公式練習①-結果表（貼付）'!$A:$Z,MATCH($B46,'[1]12日_公式練習①-結果表（貼付）'!$B:$B,0),MATCH(P$11,'[1]12日_公式練習①-結果表（貼付）'!$1:$1,0)),"")) | Q46: =IF(P46="","",COUNTIF($P$13:P46,"<>"&"")) | R46: =IFERROR(RANK(Q46,$Q$13:$Q$46,1),"") | S46: =IF(IFERROR(INDEX('[1]12日_公式練習①-結果表（貼付）'!$A:$Z,MATCH($A46,'[1]12日_公式練習①-結果表（貼付）'!$A:$A,0),MATCH(S$11,'[1]12日_公式練習①-結果表（貼付）'!$1:$1,0)),"")=0,"",IFERROR(INDEX('[1]12日_公式練習①-結果表（貼付）'!$A:$Z,MATCH($A46,'[1]12日_公式練習①-結果表（貼付）'!$A:$A,0),MATCH(S$11,'[1]12日_公式練習①-結果表（貼付）'!$1:$1,0)),""))
A49: =IF(COUNTIF(I:I,"R")>=1,"R マークの車は、コースレコードを更新しました。従来のレコードタイムは"&" "&TEXT(ROUND($I$11,3),"[<1]m'ss.000;##0.000"),"")
A52: =IF(A53="","","ﾍﾟﾅﾙﾃｨ")
A53: =IF(MAX(Q13:Q46)<1,"",1) | B53: =IF(A53="","","No."&INDEX($A$11:$Y$46,MATCH($A53,$R$11:$R$46,0),MATCH("No.",$11:$11,0))) | C53: =INDEX($A$11:$Y$46,MATCH($A53,$R$11:$R$46,0),MATCH("コメント",$11:$11,0))
A54: =IF(A53<COUNTIF($R$12:$R$46,">"&0),A53+1,"") | B54: =IF(A54="","","No."&INDEX($A$11:$Y$46,MATCH($A54,$R$11:$R$46,0),MATCH("No.",$11:$11,0))) | C54: =INDEX($A$11:$Y$46,MATCH($A54,$R$11:$R$46,0),MATCH("コメント",$11:$11,0))
A55: =IF(A54<COUNTIF($R$12:$R$46,">"&0),A54+1,"") | B55: =IF(A55="","","No."&INDEX($A$11:$Y$46,MATCH($A55,$R$11:$R$46,0),MATCH("No.",$11:$11,0))) | C55: =INDEX($A$11:$Y$46,MATCH($A55,$R$11:$R$46,0),MATCH("コメント",$11:$11,0))
A56: =IF(A55<COUNTIF($R$12:$R$46,">"&0),A55+1,"") | B56: =IF(A56="","","No."&INDEX($A$11:$Y$46,MATCH($A56,$R$11:$R$46,0),MATCH("No.",$11:$11,0))) | C56: =INDEX($A$11:$Y$46,MATCH($A56,$R$11:$R$46,0),MATCH("コメント",$11:$11,0))
A57: =IF(A56<COUNTIF($R$12:$R$46,">"&0),A56+1,"") | B57: =IF(A57="","","No."&INDEX($A$11:$Y$46,MATCH($A57,$R$11:$R$46,0),MATCH("No.",$11:$11,0))) | C57: =INDEX($A$11:$Y$46,MATCH($A57,$R$11:$R$46,0),MATCH("コメント",$11:$11,0))
A58: =IF(A57<COUNTIF($R$12:$R$46,">"&0),A57+1,"") | B58: =IF(A58="","","No."&INDEX($A$11:$Y$46,MATCH($A58,$R$11:$R$46,0),MATCH("No.",$11:$11,0))) | C58: =INDEX($A$11:$Y$46,MATCH($A58,$R$11:$R$46,0),MATCH("コメント",$11:$11,0))
A59: =IF(A58<COUNTIF($R$12:$R$46,">"&0),A58+1,"") | B59: =IF(A59="","","No."&INDEX($A$11:$Y$46,MATCH($A59,$R$11:$R$46,0),MATCH("No.",$11:$11,0))) | C59: =INDEX($A$11:$Y$46,MATCH($A59,$R$11:$R$46,0),MATCH("コメント",$11:$11,0))
A60: =IF(A59<COUNTIF($R$12:$R$46,">"&0),A59+1,"") | B60: =IF(A60="","","No."&INDEX($A$11:$Y$46,MATCH($A60,$R$11:$R$46,0),MATCH("No.",$11:$11,0))) | C60: =INDEX($A$11:$Y$46,MATCH($A60,$R$11:$R$46,0),MATCH("コメント",$11:$11,0))
A61: =IF(A60<COUNTIF($R$12:$R$46,">"&0),A60+1,"") | B61: =IF(A61="","","No."&INDEX($A$11:$Y$46,MATCH($A61,$R$11:$R$46,0),MATCH("No.",$11:$11,0))) | C61: =INDEX($A$11:$Y$46,MATCH($A61,$R$11:$R$46,0),MATCH("コメント",$11:$11,0))
A62: =IF(A61<COUNTIF($R$12:$R$46,">"&0),A61+1,"") | B62: =IF(A62="","","No."&INDEX($A$11:$Y$46,MATCH($A62,$R$11:$R$46,0),MATCH("No.",$11:$11,0))) | C62: =INDEX($A$11:$Y$46,MATCH($A62,$R$11:$R$46,0),MATCH("コメント",$11:$11,0))
A63: =IF(A62<COUNTIF($R$12:$R$46,">"&0),A62+1,"") | B63: =IF(A63="","","No."&INDEX($A$11:$Y$46,MATCH($A63,$R$11:$R$46,0),MATCH("No.",$11:$11,0))) | C63: =INDEX($A$11:$Y$46,MATCH($A63,$R$11:$R$46,0),MATCH("コメント",$11:$11,0))
B64: ="審査委員長 ："&" "&[1]各種設定!$D$20 -> 審査委員長 ： Makoto SAITO | F64: ="競技委員長 ："&" "&[1]各種設定!$D$22 -> 競技委員長 ： Toshiaki KUBOTA | I64: ="計時委員長 ："&" "&[1]各種設定!$D$24 -> 計時委員長 ： Tsutomu HAYAKAWA

Sheet 12日_公式練習②-結果表
J6: 44877 | L6: :
A7: =+[1]各種設定!D2 -> 2022年 全日本カート選手権 FS-125/FP-3部門 東西統一競技会 | J7: WEATHER: | K7: Fine
J8: COURSE : | K8: Dry
A9: =+[1]各種設定!D4 -> FP-3 | J9: 南コース 1.264Km
A10: ② Ｇｒ.公式練習(11/12)結果表
B11: No. | C11: クラス | D11: 名前 | E11: Model/Engine | F11: Team | G11: Tires | H11: BestLap | I11: =VLOOKUP(A9,[1]コースレコード!$A:$G,3,FALSE) -> 55.037 | J11: 差 | K11: GAP | P11: コメント | R11: ペナルティNo. | S11: グリッドコメント
A12: Pos. | B12: No. | D12: Driver | E12: Type | F12: Team | G12: Tire | H12: Time | J12: Delay | K12: Gap | L12: Lap
A13: 1 | B13: =IFERROR(INDEX('[1]12日_公式練習②-結果表（貼付）'!A2:$Z$50,MATCH($A13,'[1]12日_公式練習②-結果表（貼付）'!A2:$A$50,0),MATCH('12日_公式練習②-結果表'!B$11,'[1]12日_公式練習②-結果表（貼付）'!$1:$1,0)),"") -> 14 | D13: =IFERROR(INDEX('[1]12日_公式練習②-結果表（貼付）'!$A:$Z,MATCH($B13,'[1]12日_公式練習②-結果表（貼付）'!$B:$B,0),MATCH('12日_公式練習②-結果表'!D$11,'[1]12日_公式練習②-結果表（貼付）'!$1:$1,0)),"") -> 春日 龍之介 | E13: =IFERROR(INDEX('[1]12日_公式練習②-結果表（貼付）'!$A:$Z,MATCH($B13,'[1]12日_公式練習②-結果表（貼付）'!$B:$B,0),MATCH('12日_公式練習②-結果表'!E$11,'[1]12日_公式練習②-結果表（貼付）'!$1:$1,0)),"") -> XENON KART/YAMAHA | F13: =IFERROR(INDEX('[1]12日_公式練習②-結果表（貼付）'!$A:$Z,MATCH($B13,'[1]12日_公式練習②-結果表（貼付）'!$B:$B,0),MATCH('12日_公式練習②-結果表'!F$11,'[1]12日_公式練習②-結果表（貼付）'!$1:$1,0)),"") -> SPS川口 | G13: =IFERROR(INDEX('[1]12日_公式練習②-結果表（貼付）'!$A:$Z,MATCH($B13,'[1]12日_公式練習②-結果表（貼付）'!$B:$B,0),MATCH('12日_公式練習②-結果表'!G$11,'[1]12日_公式練習②-結果表（貼付）'!$1:$1,0)),"") -> BS | H13: =IFERROR(INDEX('[1]12日_公式練習②-結果表（貼付）'!$A:$Z,MATCH($B13,'[1]12日_公式練習②-結果表（貼付）'!$B:$B,0),MATCH('12日_公式練習②-結果表'!H$11,'[1]12日_公式練習②-結果表（貼付）'!$1:$1,0)),"") -> 54.594 | J13: =ROUND(INDEX('[1]12日_公式練習②-結果表（貼付）'!$A:$Z,MATCH($B13,'[1]12日_公式練習②-結果表（貼付）'!$B:$B,0),MATCH("ベスト平均時速",'[1]12日_公式練習②-結果表（貼付）'!$1:$1,0)),2)&"km/h" -> 83.35km/h | L13: =IF(A13="DNS","",IF(A13="DQ","",IFERROR(INDEX('[1]12日_公式練習②-結果表（貼付）'!$A:$Z,MATCH($B13,'[1]12日_公式練習②-結果表（貼付）'!$B:$B,0),MATCH("In Lap",'[1]12日_公式練習②-結果表（貼付）'!$1:$1,0))&"/"&INDEX('[1]12日_公式練習②-結果表（貼付）'!$A:$Z,MATCH($B13,'[1]12日_公式練習②-結果表（貼付）'!$B:$B,0),MATCH("Laps",'[1]12日_公式練習②-結果表（貼付）'!$1:$1,0)),""))) -> 4/10 | P13: =IF(IFERROR(INDEX('[1]12日_公式練習②-結果表（貼付）'!$A:$Z,MATCH($B13,'[1]12日_公式練習②-結果表（貼付）'!$B:$B,0),MATCH(P$11,'[1]12日_公式練習②-結果表（貼付）'!$1:$1,0)),"")=0,"",IFERROR(INDEX('[1]12日_公式練習②-結果表（貼付）'!$A:$Z,MATCH($B13,'[1]12日_公式練習②-結果表（貼付）'!$B:$B,0),MATCH(P$11,'[1]12日_公式練習②-結果表（貼付）'!$1:$1,0)),"")) | Q13: =IF(P13="","",COUNTIF($P$13:P13,"<>"&"")) | R13: =IFERROR(RANK(Q13,$Q$13:$Q$46,1),"") | S13: =IF(IFERROR(INDEX('[1]12日_公式練習②-結果表（貼付）'!$A:$Z,MATCH($A13,'[1]12日_公式練習②-結果表（貼付）'!$A:$A,0),MATCH(S$11,'[1]12日_公式練習②-結果表（貼付）'!$1:$1,0)),"")=0,"",IFERROR(INDEX('[1]12日_公式練習②-結果表（貼付）'!$A:$Z,MATCH($A13,'[1]12日_公式練習②-結果表（貼付）'!$A:$A,0),MATCH(S$11,'[1]12日_公式練習②-結果表（貼付）'!$1:$1,0)),""))
A14: =IF(OR('[1]12日_公式練習②-結果表（貼付）'!A3="DNF",'[1]12日_公式練習②-結果表（貼付）'!A3="DNS",'[1]12日_公式練習②-結果表（貼付）'!A3="DQ"),'[1]12日_公式練習②-結果表（貼付）'!A3,IF(MAX('[1]12日_公式練習②-結果表（貼付）'!$A:$A)>A13,A13+1,"")) -> 2 | B14: =IFERROR(INDEX('[1]12日_公式練習②-結果表（貼付）'!A3:$Z$50,MATCH($A14,'[1]12日_公式練習②-結果表（貼付）'!A3:$A$50,0),MATCH('12日_公式練習②-結果表'!B$11,'[1]12日_公式練習②-結果表（貼付）'!$1:$1,0)),"") -> 11 | D14: =IFERROR(INDEX('[1]12日_公式練習②-結果表（貼付）'!$A:$Z,MATCH($B14,'[1]12日_公式練習②-結果表（貼付）'!$B:$B,0),MATCH('12日_公式練習②-結果表'!D$11,'[1]12日_公式練習②-結果表（貼付）'!$1:$1,0)),"") -> 富下 李央菜 | E14: =IFERROR(INDEX('[1]12日_公式練習②-結果表（貼付）'!$A:$Z,MATCH($B14,'[1]12日_公式練習②-結果表（貼付）'!$B:$B,0),MATCH('12日_公式練習②-結果表'!E$11,'[1]12日_公式練習②-結果表（貼付）'!$1:$1,0)),"") -> KOSMIC/YAMAHA | F14: =IFERROR(INDEX('[1]12日_公式練習②-結果表（貼付）'!$A:$Z,MATCH($B14,'[1]12日_公式練習②-結果表（貼付）'!$B:$B,0),MATCH('12日_公式練習②-結果表'!F$11,'[1]12日_公式練習②-結果表（貼付）'!$1:$1,0)),"") -> Formula Blue TKC | G14: =IFERROR(INDEX('[1]12日_公式練習②-結果表（貼付）'!$A:$Z,MATCH($B14,'[1]12日_公式練習②-結果表（貼付）'!$B:$B,0),MATCH('12日_公式練習②-結果表'!G$11,'[1]12日_公式練習②-結果表（貼付）'!$1:$1,0)),"") -> BS | H14: =IF(A14="DNS","ｽﾀｰﾄ出来ず",IF(A14="DQ","失 格",IFERROR(INDEX('[1]12日_公式練習②-結果表（貼付）'!$A:$Z,MATCH($B14,'[1]12日_公式練習②-結果表（貼付）'!$B:$B,0),MATCH('12日_公式練習②-結果表'!H$11,'[1]12日_公式練習②-結果表（貼付）'!$1:$1,0)),""))) -> 54.779 | J14: =IF(A14="DNS","",IF(A14="DQ","",IFERROR(INDEX('[1]12日_公式練習②-結果表（貼付）'!$A:$Z,MATCH($B14,'[1]12日_公式練習②-結果表（貼付）'!$B:$B,0),MATCH('12日_公式練習②-結果表'!J$11,'[1]12日_公式練習②-結果表（貼付）'!$1:$1,0)),""))) -> 0.185 | K14: =IF(A14="DNS","",IF(A14="DQ","",IFERROR(INDEX('[1]12日_公式練習②-結果表（貼付）'!$A:$Z,MATCH($B14,'[1]12日_公式練習②-結果表（貼付）'!$B:$B,0),MATCH('12日_公式練習②-結果表'!K$11,'[1]12日_公式練習②-結果表（貼付）'!$1:$1,0)),""))) -> 0.185 | L14: =IF(A14="DNS","",IF(A14="DQ","",IFERROR(INDEX('[1]12日_公式練習②-結果表（貼付）'!$A:$Z,MATCH($B14,'[1]12日_公式練習②-結果表（貼付）'!$B:$B,0),MATCH("In Lap",'[1]12日_公式練習②-結果表（貼付）'!$1:$1,0))&"/"&INDEX('[1]12日_公式練習②-結果表（貼付）'!$A:$Z,MATCH($B14,'[1]12日_公式練習②-結果表（貼付）'!$B:$B,0),MATCH("Laps",'[1]12日_公式練習②-結果表（貼付）'!$1:$1,0)),""))) -> 9/9 | P14: =IF(IFERROR(INDEX('[1]12日_公式練習②-結果表（貼付）'!$A:$Z,MATCH($B14,'[1]12日_公式練習②-結果表（貼付）'!$B:$B,0),MATCH(P$11,'[1]12日_公式練習②-結果表（貼付）'!$1:$1,0)),"")=0,"",IFERROR(INDEX('[1]12日_公式練習②-結果表（貼付）'!$A:$Z,MATCH($B14,'[1]12日_公式練習②-結果表（貼付）'!$B:$B,0),MATCH(P$11,'[1]12日_公式練習②-結果表（貼付）'!$1:$1,0)),"")) | Q14: =IF(P14="","",COUNTIF($P$13:P14,"<>"&"")) | R14: =IFERROR(RANK(Q14,$Q$13:$Q$46,1),"") | S14: =IF(IFERROR(INDEX('[1]12日_公式練習②-結果表（貼付）'!$A:$Z,MATCH($A14,'[1]12日_公式練習②-結果表（貼付）'!$A:$A,0),MATCH(S$11,'[1]12日_公式練習②-結果表（貼付）'!$1:$1,0)),"")=0,"",IFERROR(INDEX('[1]12日_公式練習②-結果表（貼付）'!$A:$Z,MATCH($A14,'[1]12日_公式練習②-結果表（貼付）'!$A:$A,0),MATCH(S$11,'[1]12日_公式練習②-結果表（貼付）'!$1:$1,0)),""))
A15: =IF(OR('[1]12日_公式練習②-結果表（貼付）'!A4="DNF",'[1]12日_公式練習②-結果表（貼付）'!A4="DNS",'[1]12日_公式練習②-結果表（貼付）'!A4="DQ"),'[1]12日_公式練習②-結果表（貼付）'!A4,IF(MAX('[1]12日_公式練習②-結果表（貼付）'!$A:$A)>A14,A14+1,"")) -> 3 | B15: =IFERROR(INDEX('[1]12日_公式練習②-結果表（貼付）'!A4:$Z$50,MATCH($A15,'[1]12日_公式練習②-結果表（貼付）'!A4:$A$50,0),MATCH('12日_公式練習②-結果表'!B$11,'[1]12日_公式練習②-結果表（貼付）'!$1:$1,0)),"") -> 31 | D15: =IFERROR(INDEX('[1]12日_公式練習②-結果表（貼付）'!$A:$Z,MATCH($B15,'[1]12日_公式練習②-結果表（貼付）'!$B:$B,0),MATCH('12日_公式練習②-結果表'!D$11,'[1]12日_公式練習②-結果表（貼付）'!$1:$1,0)),"") -> 飛田 陽宏 | E15: =IFERROR(INDEX('[1]12日_公式練習②-結果表（貼付）'!$A:$Z,MATCH($B15,'[1]12日_公式練習②-結果表（貼付）'!$B:$B,0),MATCH('12日_公式練習②-結果表'!E$11,'[1]12日_公式練習②-結果表（貼付）'!$1:$1,0)),"") -> TONY KART/YAMAHA | F15: =IFERROR(INDEX('[1]12日_公式練習②-結果表（貼付）'!$A:$Z,MATCH($B15,'[1]12日_公式練習②-結果表（貼付）'!$B:$B,0),MATCH('12日_公式練習②-結果表'!F$11,'[1]12日_公式練習②-結果表（貼付）'!$1:$1,0)),"") -> TBT RT with まえだ眼科 | G15: =IFERROR(INDEX('[1]12日_公式練習②-結果表（貼付）'!$A:$Z,MATCH($B15,'[1]12日_公式練習②-結果表（貼付）'!$B:$B,0),MATCH('12日_公式練習②-結果表'!G$11,'[1]12日_公式練習②-結果表（貼付）'!$1:$1,0)),"") -> BS | H15: =IF(A15="DNS","ｽﾀｰﾄ出来ず",IF(A15="DQ","失 格",IFERROR(INDEX('[1]12日_公式練習②-結果表（貼付）'!$A:$Z,MATCH($B15,'[1]12日_公式練習②-結果表（貼付）'!$B:$B,0),MATCH('12日_公式練習②-結果表'!H$11,'[1]12日_公式練習②-結果表（貼付）'!$1:$1,0)),""))) -> 54.812 | J15: =IF(A15="DNS","",IF(A15="DQ","",IFERROR(INDEX('[1]12日_公式練習②-結果表（貼付）'!$A:$Z,MATCH($B15,'[1]12日_公式練習②-結果表（貼付）'!$B:$B,0),MATCH('12日_公式練習②-結果表'!J$11,'[1]12日_公式練習②-結果表（貼付）'!$1:$1,0)),""))) -> 0.218 | K15: =IF(A15="DNS","",IF(A15="DQ","",IFERROR(INDEX('[1]12日_公式練習②-結果表（貼付）'!$A:$Z,MATCH($B15,'[1]12日_公式練習②-結果表（貼付）'!$B:$B,0),MATCH('12日_公式練習②-結果表'!K$11,'[1]12日_公式練習②-結果表（貼付）'!$1:$1,0)),""))) -> 0.033 | L15: =IF(A15="DNS","",IF(A15="DQ","",IFERROR(INDEX('[1]12日_公式練習②-結果表（貼付）'!$A:$Z,MATCH($B15,'[1]12日_公式練習②-結果表（貼付）'!$B:$B,0),MATCH("In Lap",'[1]12日_公式練習②-結果表（貼付）'!$1:$1,0))&"/"&INDEX('[1]12日_公式練習②-結果表（貼付）'!$A:$Z,MATCH($B15,'[1]12日_公式練習②-結果表（貼付）'!$B:$B,0),MATCH("Laps",'[1]12日_公式練習②-結果表（貼付）'!$1:$1,0)),""))) -> 9/10 | P15: =IF(IFERROR(INDEX('[1]12日_公式練習②-結果表（貼付）'!$A:$Z,MATCH($B15,'[1]12日_公式練習②-結果表（貼付）'!$B:$B,0),MATCH(P$11,'[1]12日_公式練習②-結果表（貼付）'!$1:$1,0)),"")=0,"",IFERROR(INDEX('[1]12日_公式練習②-結果表（貼付）'!$A:$Z,MATCH($B15,'[1]12日_公式練習②-結果表（貼付）'!$B:$B,0),MATCH(P$11,'[1]12日_公式練習②-結果表（貼付）'!$1:$1,0)),"")) | Q15: =IF(P15="","",COUNTIF($P$13:P15,"<>"&"")) | R15: =IFERROR(RANK(Q15,$Q$13:$Q$46,1),"") | S15: =IF(IFERROR(INDEX('[1]12日_公式練習②-結果表（貼付）'!$A:$Z,MATCH($A15,'[1]12日_公式練習②-結果表（貼付）'!$A:$A,0),MATCH(S$11,'[1]12日_公式練習②-結果表（貼付）'!$1:$1,0)),"")=0,"",IFERROR(INDEX('[1]12日_公式練習②-結果表（貼付）'!$A:$Z,MATCH($A15,'[1]12日_公式練習②-結果表（貼付）'!$A:$A,0),MATCH(S$11,'[1]12日_公式練習②-結果表（貼付）'!$1:$1,0)),""))
A16: =IF(OR('[1]12日_公式練習②-結果表（貼付）'!A5="DNF",'[1]12日_公式練習②-結果表（貼付）'!A5="DNS",'[1]12日_公式練習②-結果表（貼付）'!A5="DQ"),'[1]12日_公式練習②-結果表（貼付）'!A5,IF(MAX('[1]12日_公式練習②-結果表（貼付）'!$A:$A)>A15,A15+1,"")) -> 4 | B16: =IFERROR(INDEX('[1]12日_公式練習②-結果表（貼付）'!A5:$Z$50,MATCH($A16,'[1]12日_公式練習②-結果表（貼付）'!A5:$A$50,0),MATCH('12日_公式練習②-結果表'!B$11,'[1]12日_公式練習②-結果表（貼付）'!$1:$1,0)),"") -> 17 | D16: =IFERROR(INDEX('[1]12日_公式練習②-結果表（貼付）'!$A:$Z,MATCH($B16,'[1]12日_公式練習②-結果表（貼付）'!$B:$B,0),MATCH('12日_公式練習②-結果表'!D$11,'[1]12日_公式練習②-結果表（貼付）'!$1:$1,0)),"") -> 坂 裕之 | E16: =IFERROR(INDEX('[1]12日_公式練習②-結果表（貼付）'!$A:$Z,MATCH($B16,'[1]12日_公式練習②-結果表（貼付）'!$B:$B,0),MATCH('12日_公式練習②-結果表'!E$11,'[1]12日_公式練習②-結果表（貼付）'!$1:$1,0)),"") -> SWF/YAMAHA | F16: =IFERROR(INDEX('[1]12日_公式練習②-結果表（貼付）'!$A:$Z,MATCH($B16,'[1]12日_公式練習②-結果表（貼付）'!$B:$B,0),MATCH('12日_公式練習②-結果表'!F$11,'[1]12日_公式練習②-結果表（貼付）'!$1:$1,0)),"") -> のりものクラブTIGRE | G16: =IFERROR(INDEX('[1]12日_公式練習②-結果表（貼付）'!$A:$Z,MATCH($B16,'[1]12日_公式練習②-結果表（貼付）'!$B:$B,0),MATCH('12日_公式練習②-結果表'!G$11,'[1]12日_公式練習②-結果表（貼付）'!$1:$1,0)),"") -> BS | H16: =IF(A16="DNS","ｽﾀｰﾄ出来ず",IF(A16="DQ","失 格",IFERROR(INDEX('[1]12日_公式練習②-結果表（貼付）'!$A:$Z,MATCH($B16,'[1]12日_公式練習②-結果表（貼付）'!$B:$B,0),MATCH('12日_公式練習②-結果表'!H$11,'[1]12日_公式練習②-結果表（貼付）'!$1:$1,0)),""))) -> 54.877 | J16: =IF(A16="DNS","",IF(A16="DQ","",IFERROR(INDEX('[1]12日_公式練習②-結果表（貼付）'!$A:$Z,MATCH($B16,'[1]12日_公式練習②-結果表（貼付）'!$B:$B,0),MATCH('12日_公式練習②-結果表'!J$11,'[1]12日_公式練習②-結果表（貼付）'!$1:$1,0)),""))) -> 0.283 | K16: =IF(A16="DNS","",IF(A16="DQ","",IFERROR(INDEX('[1]12日_公式練習②-結果表（貼付）'!$A:$Z,MATCH($B16,'[1]12日_公式練習②-結果表（貼付）'!$B:$B,0),MATCH('12日_公式練習②-結果表'!K$11,'[1]12日_公式練習②-結果表（貼付）'!$1:$1,0)),""))) -> 0.065 | L16: =IF(A16="DNS","",IF(A16="DQ","",IFERROR(INDEX('[1]12日_公式練習②-結果表（貼付）'!$A:$Z,MATCH($B16,'[1]12日_公式練習②-結果表（貼付）'!$B:$B,0),MATCH("In Lap",'[1]12日_公式練習②-結果表（貼付）'!$1:$1,0))&"/"&INDEX('[1]12日_公式練習②-結果表（貼付）'!$A:$Z,MATCH($B16,'[1]12日_公式練習②-結果表（貼付）'!$B:$B,0),MATCH("Laps",'[1]12日_公式練習②-結果表（貼付）'!$1:$1,0)),""))) -> 4/10 | P16: =IF(IFERROR(INDEX('[1]12日_公式練習②-結果表（貼付）'!$A:$Z,MATCH($B16,'[1]12日_公式練習②-結果表（貼付）'!$B:$B,0),MATCH(P$11,'[1]12日_公式練習②-結果表（貼付）'!$1:$1,0)),"")=0,"",IFERROR(INDEX('[1]12日_公式練習②-結果表（貼付）'!$A:$Z,MATCH($B16,'[1]12日_公式練習②-結果表（貼付）'!$B:$B,0),MATCH(P$11,'[1]12日_公式練習②-結果表（貼付）'!$1:$1,0)),"")) | Q16: =IF(P16="","",COUNTIF($P$13:P16,"<>"&"")) | R16: =IFERROR(RANK(Q16,$Q$13:$Q$46,1),"") | S16: =IF(IFERROR(INDEX('[1]12日_公式練習②-結果表（貼付）'!$A:$Z,MATCH($A16,'[1]12日_公式練習②-結果表（貼付）'!$A:$A,0),MATCH(S$11,'[1]12日_公式練習②-結果表（貼付）'!$1:$1,0)),"")=0,"",IFERROR(INDEX('[1]12日_公式練習②-結果表（貼付）'!$A:$Z,MATCH($A16,'[1]12日_公式練習②-結果表（貼付）'!$A:$A,0),MATCH(S$11,'[1]12日_公式練習②-結果表（貼付）'!$1:$1,0)),""))
A17: =IF(OR('[1]12日_公式練習②-結果表（貼付）'!A6="DNF",'[1]12日_公式練習②-結果表（貼付）'!A6="DNS",'[1]12日_公式練習②-結果表（貼付）'!A6="DQ"),'[1]12日_公式練習②-結果表（貼付）'!A6,IF(MAX('[1]12日_公式練習②-結果表（貼付）'!$A:$A)>A16,A16+1,"")) -> 5 | B17: =IFERROR(INDEX('[1]12日_公式練習②-結果表（貼付）'!A6:$Z$50,MATCH($A17,'[1]12日_公式練習②-結果表（貼付）'!A6:$A$50,0),MATCH('12日_公式練習②-結果表'!B$11,'[1]12日_公式練習②-結果表（貼付）'!$1:$1,0)),"") -> 61 | D17: =IFERROR(INDEX('[1]12日_公式練習②-結果表（貼付）'!$A:$Z,MATCH($B17,'[1]12日_公式練習②-結果表（貼付）'!$B:$B,0),MATCH('12日_公式練習②-結果表'!D$11,'[1]12日_公式練習②-結果表（貼付）'!$1:$1,0)),"") -> 寺島 知毅 | E17: =IFERROR(INDEX('[1]12日_公式練習②-結果表（貼付）'!$A:$Z,MATCH($B17,'[1]12日_公式練習②-結果表（貼付）'!$B:$B,0),MATCH('12日_公式練習②-結果表'!E$11,'[1]12日_公式練習②-結果表（貼付）'!$1:$1,0)),"") -> TONY KART/YAMAHA | F17: =IFERROR(INDEX('[1]12日_公式練習②-結果表（貼付）'!$A:$Z,MATCH($B17,'[1]12日_公式練習②-結果表（貼付）'!$B:$B,0),MATCH('12日_公式練習②-結果表'!F$11,'[1]12日_公式練習②-結果表（貼付）'!$1:$1,0)),"") -> 松本レーシング | G17: =IFERROR(INDEX('[1]12日_公式練習②-結果表（貼付）'!$A:$Z,MATCH($B17,'[1]12日_公式練習②-結果表（貼付）'!$B:$B,0),MATCH('12日_公式練習②-結果表'!G$11,'[1]12日_公式練習②-結果表（貼付）'!$1:$1,0)),"") -> BS | H17: =IF(A17="DNS","ｽﾀｰﾄ出来ず",IF(A17="DQ","失 格",IFERROR(INDEX('[1]12日_公式練習②-結果表（貼付）'!$A:$Z,MATCH($B17,'[1]12日_公式練習②-結果表（貼付）'!$B:$B,0),MATCH('12日_公式練習②-結果表'!H$11,'[1]12日_公式練習②-結果表（貼付）'!$1:$1,0)),""))) -> 54.879 | J17: =IF(A17="DNS","",IF(A17="DQ","",IFERROR(INDEX('[1]12日_公式練習②-結果表（貼付）'!$A:$Z,MATCH($B17,'[1]12日_公式練習②-結果表（貼付）'!$B:$B,0),MATCH('12日_公式練習②-結果表'!J$11,'[1]12日_公式練習②-結果表（貼付）'!$1:$1,0)),""))) -> 0.285 | K17: =IF(A17="DNS","",IF(A17="DQ","",IFERROR(INDEX('[1]12日_公式練習②-結果表（貼付）'!$A:$Z,MATCH($B17,'[1]12日_公式練習②-結果表（貼付）'!$B:$B,0),MATCH('12日_公式練習②-結果表'!K$11,'[1]12日_公式練習②-結果表（貼付）'!$1:$1,0)),""))) -> 0.002 | L17: =IF(A17="DNS","",IF(A17="DQ","",IFERROR(INDEX('[1]12日_公式練習②-結果表（貼付）'!$A:$Z,MATCH($B17,'[1]12日_公式練習②-結果表（貼付）'!$B:$B,0),MATCH("In Lap",'[1]12日_公式練習②-結果表（貼付）'!$1:$1,0))&"/"&INDEX('[1]12日_公式練習②-結果表（貼付）'!$A:$Z,MATCH($B17,'[1]12日_公式練習②-結果表（貼付）'!$B:$B,0),MATCH("Laps",'[1]12日_公式練習②-結果表（貼付）'!$1:$1,0)),""))) -> 4/7 | P17: =IF(IFERROR(INDEX('[1]12日_公式練習②-結果表（貼付）'!$A:$Z,MATCH($B17,'[1]12日_公式練習②-結果表（貼付）'!$B:$B,0),MATCH(P$11,'[1]12日_公式練習②-結果表（貼付）'!$1:$1,0)),"")=0,"",IFERROR(INDEX('[1]12日_公式練習②-結果表（貼付）'!$A:$Z,MATCH($B17,'[1]12日_公式練習②-結果表（貼付）'!$B:$B,0),MATCH(P$11,'[1]12日_公式練習②-結果表（貼付）'!$1:$1,0)),"")) | Q17: =IF(P17="","",COUNTIF($P$13:P17,"<>"&"")) | R17: =IFERROR(RANK(Q17,$Q$13:$Q$46,1),"") | S17: =IF(IFERROR(INDEX('[1]12日_公式練習②-結果表（貼付）'!$A:$Z,MATCH($A17,'[1]12日_公式練習②-結果表（貼付）'!$A:$A,0),MATCH(S$11,'[1]12日_公式練習②-結果表（貼付）'!$1:$1,0)),"")=0,"",IFERROR(INDEX('[1]12日_公式練習②-結果表（貼付）'!$A:$Z,MATCH($A17,'[1]12日_公式練習②-結果表（貼付）'!$A:$A,0),MATCH(S$11,'[1]12日_公式練習②-結果表（貼付）'!$1:$1,0)),""))
A18: =IF(OR('[1]12日_公式練習②-結果表（貼付）'!A7="DNF",'[1]12日_公式練習②-結果表（貼付）'!A7="DNS",'[1]12日_公式練習②-結果表（貼付）'!A7="DQ"),'[1]12日_公式練習②-結果表（貼付）'!A7,IF(MAX('[1]12日_公式練習②-結果表（貼付）'!$A:$A)>A17,A17+1,"")) -> 6 | B18: =IFERROR(INDEX('[1]12日_公式練習②-結果表（貼付）'!A7:$Z$50,MATCH($A18,'[1]12日_公式練習②-結果表（貼付）'!A7:$A$50,0),MATCH('12日_公式練習②-結果表'!B$11,'[1]12日_公式練習②-結果表（貼付）'!$1:$1,0)),"") -> 19 | D18: =IFERROR(INDEX('[1]12日_公式練習②-結果表（貼付）'!$A:$Z,MATCH($B18,'[1]12日_公式練習②-結果表（貼付）'!$B:$B,0),MATCH('12日_公式練習②-結果表'!D$11,'[1]12日_公式練習②-結果表（貼付）'!$1:$1,0)),"") -> 蒲生 尚弥 | E18: =IFERROR(INDEX('[1]12日_公式練習②-結果表（貼付）'!$A:$Z,MATCH($B18,'[1]12日_公式練習②-結果表（貼付）'!$B:$B,0),MATCH('12日_公式練習②-結果表'!E$11,'[1]12日_公式練習②-結果表（貼付）'!$1:$1,0)),"") -> CL/YAMAHA | F18: =IFERROR(INDEX('[1]12日_公式練習②-結果表（貼付）'!$A:$Z,MATCH($B18,'[1]12日_公式練習②-結果表（貼付）'!$B:$B,0),MATCH('12日_公式練習②-結果表'!F$11,'[1]12日_公式練習②-結果表（貼付）'!$1:$1,0)),"") -> のりものクラブTIGRE | G18: =IFERROR(INDEX('[1]12日_公式練習②-結果表（貼付）'!$A:$Z,MATCH($B18,'[1]12日_公式練習②-結果表（貼付）'!$B:$B,0),MATCH('12日_公式練習②-結果表'!G$11,'[1]12日_公式練習②-結果表（貼付）'!$1:$1,0)),"") -> BS | H18: =IF(A18="DNS","ｽﾀｰﾄ出来ず",IF(A18="DQ","失 格",IFERROR(INDEX('[1]12日_公式練習②-結果表（貼付）'!$A:$Z,MATCH($B18,'[1]12日_公式練習②-結果表（貼付）'!$B:$B,0),MATCH('12日_公式練習②-結果表'!H$11,'[1]12日_公式練習②-結果表（貼付）'!$1:$1,0)),""))) -> 54.946 | J18: =IF(A18="DNS","",IF(A18="DQ","",IFERROR(INDEX('[1]12日_公式練習②-結果表（貼付）'!$A:$Z,MATCH($B18,'[1]12日_公式練習②-結果表（貼付）'!$B:$B,0),MATCH('12日_公式練習②-結果表'!J$11,'[1]12日_公式練習②-結果表（貼付）'!$1:$1,0)),""))) -> 0.352 | K18: =IF(A18="DNS","",IF(A18="DQ","",IFERROR(INDEX('[1]12日_公式練習②-結果表（貼付）'!$A:$Z,MATCH($B18,'[1]12日_公式練習②-結果表（貼付）'!$B:$B,0),MATCH('12日_公式練習②-結果表'!K$11,'[1]12日_公式練習②-結果表（貼付）'!$1:$1,0)),""))) -> 0.067 | L18: =IF(A18="DNS","",IF(A18="DQ","",IFERROR(INDEX('[1]12日_公式練習②-結果表（貼付）'!$A:$Z,MATCH($B18,'[1]12日_公式練習②-結果表（貼付）'!$B:$B,0),MATCH("In Lap",'[1]12日_公式練習②-結果表（貼付）'!$1:$1,0))&"/"&INDEX('[1]12日_公式練習②-結果表（貼付）'!$A:$Z,MATCH($B18,'[1]12日_公式練習②-結果表（貼付）'!$B:$B,0),MATCH("Laps",'[1]12日_公式練習②-結果表（貼付）'!$1:$1,0)),""))) -> 7/10 | P18: =IF(IFERROR(INDEX('[1]12日_公式練習②-結果表（貼付）'!$A:$Z,MATCH($B18,'[1]12日_公式練習②-結果表（貼付）'!$B:$B,0),MATCH(P$11,'[1]12日_公式練習②-結果表（貼付）'!$1:$1,0)),"")=0,"",IFERROR(INDEX('[1]12日_公式練習②-結果表（貼付）'!$A:$Z,MATCH($B18,'[1]12日_公式練習②-結果表（貼付）'!$B:$B,0),MATCH(P$11,'[1]12日_公式練習②-結果表（貼付）'!$1:$1,0)),"")) | Q18: =IF(P18="","",COUNTIF($P$13:P18,"<>"&"")) | R18: =IFERROR(RANK(Q18,$Q$13:$Q$46,1),"") | S18: =IF(IFERROR(INDEX('[1]12日_公式練習②-結果表（貼付）'!$A:$Z,MATCH($A18,'[1]12日_公式練習②-結果表（貼付）'!$A:$A,0),MATCH(S$11,'[1]12日_公式練習②-結果表（貼付）'!$1:$1,0)),"")=0,"",IFERROR(INDEX('[1]12日_公式練習②-結果表（貼付）'!$A:$Z,MATCH($A18,'[1]12日_公式練習②-結果表（貼付）'!$A:$A,0),MATCH(S$11,'[1]12日_公式練習②-結果表（貼付）'!$1:$1,0)),""))
A19: =IF(OR('[1]12日_公式練習②-結果表（貼付）'!A8="DNF",'[1]12日_公式練習②-結果表（貼付）'!A8="DNS",'[1]12日_公式練習②-結果表（貼付）'!A8="DQ"),'[1]12日_公式練習②-結果表（貼付）'!A8,IF(MAX('[1]12日_公式練習②-結果表（貼付）'!$A:$A)>A18,A18+1,"")) -> 7 | B19: =IFERROR(INDEX('[1]12日_公式練習②-結果表（貼付）'!A8:$Z$50,MATCH($A19,'[1]12日_公式練習②-結果表（貼付）'!A8:$A$50,0),MATCH('12日_公式練習②-結果表'!B$11,'[1]12日_公式練習②-結果表（貼付）'!$1:$1,0)),"") -> 64 | D19: =IFERROR(INDEX('[1]12日_公式練習②-結果表（貼付）'!$A:$Z,MATCH($B19,'[1]12日_公式練習②-結果表（貼付）'!$B:$B,0),MATCH('12日_公式練習②-結果表'!D$11,'[1]12日_公式練習②-結果表（貼付）'!$1:$1,0)),"") -> 角田 侑進 | E19: =IFERROR(INDEX('[1]12日_公式練習②-結果表（貼付）'!$A:$Z,MATCH($B19,'[1]12日_公式練習②-結果表（貼付）'!$B:$B,0),MATCH('12日_公式練習②-結果表'!E$11,'[1]12日_公式練習②-結果表（貼付）'!$1:$1,0)),"") -> KOSMIC/YAMAHA | F19: =IFERROR(INDEX('[1]12日_公式練習②-結果表（貼付）'!$A:$Z,MATCH($B19,'[1]12日_公式練習②-結果表（貼付）'!$B:$B,0),MATCH('12日_公式練習②-結果表'!F$11,'[1]12日_公式練習②-結果表（貼付）'!$1:$1,0)),"") -> HRT | G19: =IFERROR(INDEX('[1]12日_公式練習②-結果表（貼付）'!$A:$Z,MATCH($B19,'[1]12日_公式練習②-結果表（貼付）'!$B:$B,0),MATCH('12日_公式練習②-結果表'!G$11,'[1]12日_公式練習②-結果表（貼付）'!$1:$1,0)),"") -> BS | H19: =IF(A19="DNS","ｽﾀｰﾄ出来ず",IF(A19="DQ","失 格",IFERROR(INDEX('[1]12日_公式練習②-結果表（貼付）'!$A:$Z,MATCH($B19,'[1]12日_公式練習②-結果表（貼付）'!$B:$B,0),MATCH('12日_公式練習②-結果表'!H$11,'[1]12日_公式練習②-結果表（貼付）'!$1:$1,0)),""))) -> 55.021 | J19: =IF(A19="DNS","",IF(A19="DQ","",IFERROR(INDEX('[1]12日_公式練習②-結果表（貼付）'!$A:$Z,MATCH($B19,'[1]12日_公式練習②-結果表（貼付）'!$B:$B,0),MATCH('12日_公式練習②-結果表'!J$11,'[1]12日_公式練習②-結果表（貼付）'!$1:$1,0)),""))) -> 0.427 | K19: =IF(A19="DNS","",IF(A19="DQ","",IFERROR(INDEX('[1]12日_公式練習②-結果表（貼付）'!$A:$Z,MATCH($B19,'[1]12日_公式練習②-結果表（貼付）'!$B:$B,0),MATCH('12日_公式練習②-結果表'!K$11,'[1]12日_公式練習②-結果表（貼付）'!$1:$1,0)),""))) -> 0.075 | L19: =IF(A19="DNS","",IF(A19="DQ","",IFERROR(INDEX('[1]12日_公式練習②-結果表（貼付）'!$A:$Z,MATCH($B19,'[1]12日_公式練習②-結果表（貼付）'!$B:$B,0),MATCH("In Lap",'[1]12日_公式練習②-結果表（貼付）'!$1:$1,0))&"/"&INDEX('[1]12日_公式練習②-結果表（貼付）'!$A:$Z,MATCH($B19,'[1]12日_公式練習②-結果表（貼付）'!$B:$B,0),MATCH("Laps",'[1]12日_公式練習②-結果表（貼付）'!$1:$1,0)),""))) -> 10/10 | P19: =IF(IFERROR(INDEX('[1]12日_公式練習②-結果表（貼付）'!$A:$Z,MATCH($B19,'[1]12日_公式練習②-結果表（貼付）'!$B:$B,0),MATCH(P$11,'[1]12日_公式練習②-結果表（貼付）'!$1:$1,0)),"")=0,"",IFERROR(INDEX('[1]12日_公式練習②-結果表（貼付）'!$A:$Z,MATCH($B19,'[1]12日_公式練習②-結果表（貼付）'!$B:$B,0),MATCH(P$11,'[1]12日_公式練習②-結果表（貼付）'!$1:$1,0)),"")) | Q19: =IF(P19="","",COUNTIF($P$13:P19,"<>"&"")) | R19: =IFERROR(RANK(Q19,$Q$13:$Q$46,1),"") | S19: =IF(IFERROR(INDEX('[1]12日_公式練習②-結果表（貼付）'!$A:$Z,MATCH($A19,'[1]12日_公式練習②-結果表（貼付）'!$A:$A,0),MATCH(S$11,'[1]12日_公式練習②-結果表（貼付）'!$1:$1,0)),"")=0,"",IFERROR(INDEX('[1]12日_公式練習②-結果表（貼付）'!$A:$Z,MATCH($A19,'[1]12日_公式練習②-結果表（貼付）'!$A:$A,0),MATCH(S$11,'[1]12日_公式練習②-結果表（貼付）'!$1:$1,0)),""))
A20: =IF(OR('[1]12日_公式練習②-結果表（貼付）'!A9="DNF",'[1]12日_公式練習②-結果表（貼付）'!A9="DNS",'[1]12日_公式練習②-結果表（貼付）'!A9="DQ"),'[1]12日_公式練習②-結果表（貼付）'!A9,IF(MAX('[1]12日_公式練習②-結果表（貼付）'!$A:$A)>A19,A19+1,"")) -> 8 | B20: =IFERROR(INDEX('[1]12日_公式練習②-結果表（貼付）'!A9:$Z$50,MATCH($A20,'[1]12日_公式練習②-結果表（貼付）'!A9:$A$50,0),MATCH('12日_公式練習②-結果表'!B$11,'[1]12日_公式練習②-結果表（貼付）'!$1:$1,0)),"") -> 55 | D20: =IFERROR(INDEX('[1]12日_公式練習②-結果表（貼付）'!$A:$Z,MATCH($B20,'[1]12日_公式練習②-結果表（貼付）'!$B:$B,0),MATCH('12日_公式練習②-結果表'!D$11,'[1]12日_公式練習②-結果表（貼付）'!$1:$1,0)),"") -> 大井 偉史 | E20: =IFERROR(INDEX('[1]12日_公式練習②-結果表（貼付）'!$A:$Z,MATCH($B20,'[1]12日_公式練習②-結果表（貼付）'!$B:$B,0),MATCH('12日_公式練習②-結果表'!E$11,'[1]12日_公式練習②-結果表（貼付）'!$1:$1,0)),"") -> GILLARD TG17/YAMAHA | F20: =IFERROR(INDEX('[1]12日_公式練習②-結果表（貼付）'!$A:$Z,MATCH($B20,'[1]12日_公式練習②-結果表（貼付）'!$B:$B,0),MATCH('12日_公式練習②-結果表'!F$11,'[1]12日_公式練習②-結果表（貼付）'!$1:$1,0)),"") -> Vifonte with Ash | G20: =IFERROR(INDEX('[1]12日_公式練習②-結果表（貼付）'!$A:$Z,MATCH($B20,'[1]12日_公式練習②-結果表（貼付）'!$B:$B,0),MATCH('12日_公式練習②-結果表'!G$11,'[1]12日_公式練習②-結果表（貼付）'!$1:$1,0)),"") -> BS | H20: =IF(A20="DNS","ｽﾀｰﾄ出来ず",IF(A20="DQ","失 格",IFERROR(INDEX('[1]12日_公式練習②-結果表（貼付）'!$A:$Z,MATCH($B20,'[1]12日_公式練習②-結果表（貼付）'!$B:$B,0),MATCH('12日_公式練習②-結果表'!H$11,'[1]12日_公式練習②-結果表（貼付）'!$1:$1,0)),""))) -> 55.065 | I20: =IF(H20<1,"",IF($I$11>H20,"R","")) | J20: =IF(A20="DNS","",IF(A20="DQ","",IFERROR(INDEX('[1]12日_公式練習②-結果表（貼付）'!$A:$Z,MATCH($B20,'[1]12日_公式練習②-結果表（貼付）'!$B:$B,0),MATCH('12日_公式練習②-結果表'!J$11,'[1]12日_公式練習②-結果表（貼付）'!$1:$1,0)),""))) -> 0.471 | K20: =IF(A20="DNS","",IF(A20="DQ","",IFERROR(INDEX('[1]12日_公式練習②-結果表（貼付）'!$A:$Z,MATCH($B20,'[1]12日_公式練習②-結果表（貼付）'!$B:$B,0),MATCH('12日_公式練習②-結果表'!K$11,'[1]12日_公式練習②-結果表（貼付）'!$1:$1,0)),""))) -> 0.044 | L20: =IF(A20="DNS","",IF(A20="DQ","",IFERROR(INDEX('[1]12日_公式練習②-結果表（貼付）'!$A:$Z,MATCH($B20,'[1]12日_公式練習②-結果表（貼付）'!$B:$B,0),MATCH("In Lap",'[1]12日_公式練習②-結果表（貼付）'!$1:$1,0))&"/"&INDEX('[1]12日_公式練習②-結果表（貼付）'!$A:$Z,MATCH($B20,'[1]12日_公式練習②-結果表（貼付）'!$B:$B,0),MATCH("Laps",'[1]12日_公式練習②-結果表（貼付）'!$1:$1,0)),""))) -> 7/9 | P20: =IF(IFERROR(INDEX('[1]12日_公式練習②-結果表（貼付）'!$A:$Z,MATCH($B20,'[1]12日_公式練習②-結果表（貼付）'!$B:$B,0),MATCH(P$11,'[1]12日_公式練習②-結果表（貼付）'!$1:$1,0)),"")=0,"",IFERROR(INDEX('[1]12日_公式練習②-結果表（貼付）'!$A:$Z,MATCH($B20,'[1]12日_公式練習②-結果表（貼付）'!$B:$B,0),MATCH(P$11,'[1]12日_公式練習②-結果表（貼付）'!$1:$1,0)),"")) | Q20: =IF(P20="","",COUNTIF($P$13:P20,"<>"&"")) | R20: =IFERROR(RANK(Q20,$Q$13:$Q$46,1),"") | S20: =IF(IFERROR(INDEX('[1]12日_公式練習②-結果表（貼付）'!$A:$Z,MATCH($A20,'[1]12日_公式練習②-結果表（貼付）'!$A:$A,0),MATCH(S$11,'[1]12日_公式練習②-結果表（貼付）'!$1:$1,0)),"")=0,"",IFERROR(INDEX('[1]12日_公式練習②-結果表（貼付）'!$A:$Z,MATCH($A20,'[1]12日_公式練習②-結果表（貼付）'!$A:$A,0),MATCH(S$11,'[1]12日_公式練習②-結果表（貼付）'!$1:$1,0)),""))
A21: =IF(OR('[1]12日_公式練習②-結果表（貼付）'!A10="DNF",'[1]12日_公式練習②-結果表（貼付）'!A10="DNS",'[1]12日_公式練習②-結果表（貼付）'!A10="DQ"),'[1]12日_公式練習②-結果表（貼付）'!A10,IF(MAX('[1]12日_公式練習②-結果表（貼付）'!$A:$A)>A20,A20+1,"")) -> 9 | B21: =IFERROR(INDEX('[1]12日_公式練習②-結果表（貼付）'!A10:$Z$50,MATCH($A21,'[1]12日_公式練習②-結果表（貼付）'!A10:$A$50,0),MATCH('12日_公式練習②-結果表'!B$11,'[1]12日_公式練習②-結果表（貼付）'!$1:$1,0)),"") -> 37 | D21: =IFERROR(INDEX('[1]12日_公式練習②-結果表（貼付）'!$A:$Z,MATCH($B21,'[1]12日_公式練習②-結果表（貼付）'!$B:$B,0),MATCH('12日_公式練習②-結果表'!D$11,'[1]12日_公式練習②-結果表（貼付）'!$1:$1,0)),"") -> 佐藤 琉葵 | E21: =IFERROR(INDEX('[1]12日_公式練習②-結果表（貼付）'!$A:$Z,MATCH($B21,'[1]12日_公式練習②-結果表（貼付）'!$B:$B,0),MATCH('12日_公式練習②-結果表'!E$11,'[1]12日_公式練習②-結果表（貼付）'!$1:$1,0)),"") -> LN KART/YAMAHA | F21: =IFERROR(INDEX('[1]12日_公式練習②-結果表（貼付）'!$A:$Z,MATCH($B21,'[1]12日_公式練習②-結果表（貼付）'!$B:$B,0),MATCH('12日_公式練習②-結果表'!F$11,'[1]12日_公式練習②-結果表（貼付）'!$1:$1,0)),"") -> DSM | G21: =IFERROR(INDEX('[1]12日_公式練習②-結果表（貼付）'!$A:$Z,MATCH($B21,'[1]12日_公式練習②-結果表（貼付）'!$B:$B,0),MATCH('12日_公式練習②-結果表'!G$11,'[1]12日_公式練習②-結果表（貼付）'!$1:$1,0)),"") -> BS | H21: =IF(A21="DNS","ｽﾀｰﾄ出来ず",IF(A21="DQ","失 格",IFERROR(INDEX('[1]12日_公式練習②-結果表（貼付）'!$A:$Z,MATCH($B21,'[1]12日_公式練習②-結果表（貼付）'!$B:$B,0),MATCH('12日_公式練習②-結果表'!H$11,'[1]12日_公式練習②-結果表（貼付）'!$1:$1,0)),""))) -> 55.079 | I21: =IF(H21<1,"",IF($I$11>H21,"R","")) | J21: =IF(A21="DNS","",IF(A21="DQ","",IFERROR(INDEX('[1]12日_公式練習②-結果表（貼付）'!$A:$Z,MATCH($B21,'[1]12日_公式練習②-結果表（貼付）'!$B:$B,0),MATCH('12日_公式練習②-結果表'!J$11,'[1]12日_公式練習②-結果表（貼付）'!$1:$1,0)),""))) -> 0.485 | K21: =IF(A21="DNS","",IF(A21="DQ","",IFERROR(INDEX('[1]12日_公式練習②-結果表（貼付）'!$A:$Z,MATCH($B21,'[1]12日_公式練習②-結果表（貼付）'!$B:$B,0),MATCH('12日_公式練習②-結果表'!K$11,'[1]12日_公式練習②-結果表（貼付）'!$1:$1,0)),""))) -> 0.014 | L21: =IF(A21="DNS","",IF(A21="DQ","",IFERROR(INDEX('[1]12日_公式練習②-結果表（貼付）'!$A:$Z,MATCH($B21,'[1]12日_公式練習②-結果表（貼付）'!$B:$B,0),MATCH("In Lap",'[1]12日_公式練習②-結果表（貼付）'!$1:$1,0))&"/"&INDEX('[1]12日_公式練習②-結果表（貼付）'!$A:$Z,MATCH($B21,'[1]12日_公式練習②-結果表（貼付）'!$B:$B,0),MATCH("Laps",'[1]12日_公式練習②-結果表（貼付）'!$1:$1,0)),""))) -> 2/10 | P21: =IF(IFERROR(INDEX('[1]12日_公式練習②-結果表（貼付）'!$A:$Z,MATCH($B21,'[1]12日_公式練習②-結果表（貼付）'!$B:$B,0),MATCH(P$11,'[1]12日_公式練習②-結果表（貼付）'!$1:$1,0)),"")=0,"",IFERROR(INDEX('[1]12日_公式練習②-結果表（貼付）'!$A:$Z,MATCH($B21,'[1]12日_公式練習②-結果表（貼付）'!$B:$B,0),MATCH(P$11,'[1]12日_公式練習②-結果表（貼付）'!$1:$1,0)),"")) | Q21: =IF(P21="","",COUNTIF($P$13:P21,"<>"&"")) | R21: =IFERROR(RANK(Q21,$Q$13:$Q$46,1),"") | S21: =IF(IFERROR(INDEX('[1]12日_公式練習②-結果表（貼付）'!$A:$Z,MATCH($A21,'[1]12日_公式練習②-結果表（貼付）'!$A:$A,0),MATCH(S$11,'[1]12日_公式練習②-結果表（貼付）'!$1:$1,0)),"")=0,"",IFERROR(INDEX('[1]12日_公式練習②-結果表（貼付）'!$A:$Z,MATCH($A21,'[1]12日_公式練習②-結果表（貼付）'!$A:$A,0),MATCH(S$11,'[1]12日_公式練習②-結果表（貼付）'!$1:$1,0)),""))
A22: =IF(OR('[1]12日_公式練習②-結果表（貼付）'!A11="DNF",'[1]12日_公式練習②-結果表（貼付）'!A11="DNS",'[1]12日_公式練習②-結果表（貼付）'!A11="DQ"),'[1]12日_公式練習②-結果表（貼付）'!A11,IF(MAX('[1]12日_公式練習②-結果表（貼付）'!$A:$A)>A21,A21+1,"")) -> 10 | B22: =IFERROR(INDEX('[1]12日_公式練習②-結果表（貼付）'!A11:$Z$50,MATCH($A22,'[1]12日_公式練習②-結果表（貼付）'!A11:$A$50,0),MATCH('12日_公式練習②-結果表'!B$11,'[1]12日_公式練習②-結果表（貼付）'!$1:$1,0)),"") -> 44 | D22: =IFERROR(INDEX('[1]12日_公式練習②-結果表（貼付）'!$A:$Z,MATCH($B22,'[1]12日_公式練習②-結果表（貼付）'!$B:$B,0),MATCH('12日_公式練習②-結果表'!D$11,'[1]12日_公式練習②-結果表（貼付）'!$1:$1,0)),"") -> 中村 海斗 | E22: =IFERROR(INDEX('[1]12日_公式練習②-結果表（貼付）'!$A:$Z,MATCH($B22,'[1]12日_公式練習②-結果表（貼付）'!$B:$B,0),MATCH('12日_公式練習②-結果表'!E$11,'[1]12日_公式練習②-結果表（貼付）'!$1:$1,0)),"") -> TONY KART/YAMAHA | F22: =IFERROR(INDEX('[1]12日_公式練習②-結果表（貼付）'!$A:$Z,MATCH($B22,'[1]12日_公式練習②-結果表（貼付）'!$B:$B,0),MATCH('12日_公式練習②-結果表'!F$11,'[1]12日_公式練習②-結果表（貼付）'!$1:$1,0)),"") -> TEAM NAGAO | G22: =IFERROR(INDEX('[1]12日_公式練習②-結果表（貼付）'!$A:$Z,MATCH($B22,'[1]12日_公式練習②-結果表（貼付）'!$B:$B,0),MATCH('12日_公式練習②-結果表'!G$11,'[1]12日_公式練習②-結果表（貼付）'!$1:$1,0)),"") -> BS | H22: =IF(A22="DNS","ｽﾀｰﾄ出来ず",IF(A22="DQ","失 格",IFERROR(INDEX('[1]12日_公式練習②-結果表（貼付）'!$A:$Z,MATCH($B22,'[1]12日_公式練習②-結果表（貼付）'!$B:$B,0),MATCH('12日_公式練習②-結果表'!H$11,'[1]12日_公式練習②-結果表（貼付）'!$1:$1,0)),""))) -> 55.086 | I22: =IF(H22<1,"",IF($I$11>H22,"R","")) | J22: =IF(A22="DNS","",IF(A22="DQ","",IFERROR(INDEX('[1]12日_公式練習②-結果表（貼付）'!$A:$Z,MATCH($B22,'[1]12日_公式練習②-結果表（貼付）'!$B:$B,0),MATCH('12日_公式練習②-結果表'!J$11,'[1]12日_公式練習②-結果表（貼付）'!$1:$1,0)),""))) -> 0.492 | K22: =IF(A22="DNS","",IF(A22="DQ","",IFERROR(INDEX('[1]12日_公式練習②-結果表（貼付）'!$A:$Z,MATCH($B22,'[1]12日_公式練習②-結果表（貼付）'!$B:$B,0),MATCH('12日_公式練習②-結果表'!K$11,'[1]12日_公式練習②-結果表（貼付）'!$1:$1,0)),""))) -> 0.007 | L22: =IF(A22="DNS","",IF(A22="DQ","",IFERROR(INDEX('[1]12日_公式練習②-結果表（貼付）'!$A:$Z,MATCH($B22,'[1]12日_公式練習②-結果表（貼付）'!$B:$B,0),MATCH("In Lap",'[1]12日_公式練習②-結果表（貼付）'!$1:$1,0))&"/"&INDEX('[1]12日_公式練習②-結果表（貼付）'!$A:$Z,MATCH($B22,'[1]12日_公式練習②-結果表（貼付）'!$B:$B,0),MATCH("Laps",'[1]12日_公式練習②-結果表（貼付）'!$1:$1,0)),""))) -> 5/9 | P22: =IF(IFERROR(INDEX('[1]12日_公式練習②-結果表（貼付）'!$A:$Z,MATCH($B22,'[1]12日_公式練習②-結果表（貼付）'!$B:$B,0),MATCH(P$11,'[1]12日_公式練習②-結果表（貼付）'!$1:$1,0)),"")=0,"",IFERROR(INDEX('[1]12日_公式練習②-結果表（貼付）'!$A:$Z,MATCH($B22,'[1]12日_公式練習②-結果表（貼付）'!$B:$B,0),MATCH(P$11,'[1]12日_公式練習②-結果表（貼付）'!$1:$1,0)),"")) | Q22: =IF(P22="","",COUNTIF($P$13:P22,"<>"&"")) | R22: =IFERROR(RANK(Q22,$Q$13:$Q$46,1),"") | S22: =IF(IFERROR(INDEX('[1]12日_公式練習②-結果表（貼付）'!$A:$Z,MATCH($A22,'[1]12日_公式練習②-結果表（貼付）'!$A:$A,0),MATCH(S$11,'[1]12日_公式練習②-結果表（貼付）'!$1:$1,0)),"")=0,"",IFERROR(INDEX('[1]12日_公式練習②-結果表（貼付）'!$A:$Z,MATCH($A22,'[1]12日_公式練習②-結果表（貼付）'!$A:$A,0),MATCH(S$11,'[1]12日_公式練習②-結果表（貼付）'!$1:$1,0)),""))
A23: =IF(OR('[1]12日_公式練習②-結果表（貼付）'!A12="DNF",'[1]12日_公式練習②-結果表（貼付）'!A12="DNS",'[1]12日_公式練習②-結果表（貼付）'!A12="DQ"),'[1]12日_公式練習②-結果表（貼付）'!A12,IF(MAX('[1]12日_公式練習②-結果表（貼付）'!$A:$A)>A22,A22+1,"")) -> 11 | B23: =IFERROR(INDEX('[1]12日_公式練習②-結果表（貼付）'!A12:$Z$50,MATCH($A23,'[1]12日_公式練習②-結果表（貼付）'!A12:$A$50,0),MATCH('12日_公式練習②-結果表'!B$11,'[1]12日_公式練習②-結果表（貼付）'!$1:$1,0)),"") -> 13 | D23: =IFERROR(INDEX('[1]12日_公式練習②-結果表（貼付）'!$A:$Z,MATCH($B23,'[1]12日_公式練習②-結果表（貼付）'!$B:$B,0),MATCH('12日_公式練習②-結果表'!D$11,'[1]12日_公式練習②-結果表（貼付）'!$1:$1,0)),"") -> 向田 一聡 | E23: =IFERROR(INDEX('[1]12日_公式練習②-結果表（貼付）'!$A:$Z,MATCH($B23,'[1]12日_公式練習②-結果表（貼付）'!$B:$B,0),MATCH('12日_公式練習②-結果表'!E$11,'[1]12日_公式練習②-結果表（貼付）'!$1:$1,0)),"") -> KOSMIC/YAMAHA | F23: =IFERROR(INDEX('[1]12日_公式練習②-結果表（貼付）'!$A:$Z,MATCH($B23,'[1]12日_公式練習②-結果表（貼付）'!$B:$B,0),MATCH('12日_公式練習②-結果表'!F$11,'[1]12日_公式練習②-結果表（貼付）'!$1:$1,0)),"") -> SLT.RT ANT | G23: =IFERROR(INDEX('[1]12日_公式練習②-結果表（貼付）'!$A:$Z,MATCH($B23,'[1]12日_公式練習②-結果表（貼付）'!$B:$B,0),MATCH('12日_公式練習②-結果表'!G$11,'[1]12日_公式練習②-結果表（貼付）'!$1:$1,0)),"") -> BS | H23: =IF(A23="DNS","ｽﾀｰﾄ出来ず",IF(A23="DQ","失 格",IFERROR(INDEX('[1]12日_公式練習②-結果表（貼付）'!$A:$Z,MATCH($B23,'[1]12日_公式練習②-結果表（貼付）'!$B:$B,0),MATCH('12日_公式練習②-結果表'!H$11,'[1]12日_公式練習②-結果表（貼付）'!$1:$1,0)),""))) -> 55.141 | I23: =IF(H23<1,"",IF($I$11>H23,"R","")) | J23: =IF(A23="DNS","",IF(A23="DQ","",IFERROR(INDEX('[1]12日_公式練習②-結果表（貼付）'!$A:$Z,MATCH($B23,'[1]12日_公式練習②-結果表（貼付）'!$B:$B,0),MATCH('12日_公式練習②-結果表'!J$11,'[1]12日_公式練習②-結果表（貼付）'!$1:$1,0)),""))) -> 0.547 | K23: =IF(A23="DNS","",IF(A23="DQ","",IFERROR(INDEX('[1]12日_公式練習②-結果表（貼付）'!$A:$Z,MATCH($B23,'[1]12日_公式練習②-結果表（貼付）'!$B:$B,0),MATCH('12日_公式練習②-結果表'!K$11,'[1]12日_公式練習②-結果表（貼付）'!$1:$1,0)),""))) -> 0.055 | L23: =IF(A23="DNS","",IF(A23="DQ","",IFERROR(INDEX('[1]12日_公式練習②-結果表（貼付）'!$A:$Z,MATCH($B23,'[1]12日_公式練習②-結果表（貼付）'!$B:$B,0),MATCH("In Lap",'[1]12日_公式練習②-結果表（貼付）'!$1:$1,0))&"/"&INDEX('[1]12日_公式練習②-結果表（貼付）'!$A:$Z,MATCH($B23,'[1]12日_公式練習②-結果表（貼付）'!$B:$B,0),MATCH("Laps",'[1]12日_公式練習②-結果表（貼付）'!$1:$1,0)),""))) -> 2/10 | P23: =IF(IFERROR(INDEX('[1]12日_公式練習②-結果表（貼付）'!$A:$Z,MATCH($B23,'[1]12日_公式練習②-結果表（貼付）'!$B:$B,0),MATCH(P$11,'[1]12日_公式練習②-結果表（貼付）'!$1:$1,0)),"")=0,"",IFERROR(INDEX('[1]12日_公式練習②-結果表（貼付）'!$A:$Z,MATCH($B23,'[1]12日_公式練習②-結果表（貼付）'!$B:$B,0),MATCH(P$11,'[1]12日_公式練習②-結果表（貼付）'!$1:$1,0)),"")) | Q23: =IF(P23="","",COUNTIF($P$13:P23,"<>"&"")) | R23: =IFERROR(RANK(Q23,$Q$13:$Q$46,1),"") | S23: =IF(IFERROR(INDEX('[1]12日_公式練習②-結果表（貼付）'!$A:$Z,MATCH($A23,'[1]12日_公式練習②-結果表（貼付）'!$A:$A,0),MATCH(S$11,'[1]12日_公式練習②-結果表（貼付）'!$1:$1,0)),"")=0,"",IFERROR(INDEX('[1]12日_公式練習②-結果表（貼付）'!$A:$Z,MATCH($A23,'[1]12日_公式練習②-結果表（貼付）'!$A:$A,0),MATCH(S$11,'[1]12日_公式練習②-結果表（貼付）'!$1:$1,0)),""))
A24: =IF(OR('[1]12日_公式練習②-結果表（貼付）'!A13="DNF",'[1]12日_公式練習②-結果表（貼付）'!A13="DNS",'[1]12日_公式練習②-結果表（貼付）'!A13="DQ"),'[1]12日_公式練習②-結果表（貼付）'!A13,IF(MAX('[1]12日_公式練習②-結果表（貼付）'!$A:$A)>A23,A23+1,"")) -> 12 | B24: =IFERROR(INDEX('[1]12日_公式練習②-結果表（貼付）'!A13:$Z$50,MATCH($A24,'[1]12日_公式練習②-結果表（貼付）'!A13:$A$50,0),MATCH('12日_公式練習②-結果表'!B$11,'[1]12日_公式練習②-結果表（貼付）'!$1:$1,0)),"") -> 10 | D24: =IFERROR(INDEX('[1]12日_公式練習②-結果表（貼付）'!$A:$Z,MATCH($B24,'[1]12日_公式練習②-結果表（貼付）'!$B:$B,0),MATCH('12日_公式練習②-結果表'!D$11,'[1]12日_公式練習②-結果表（貼付）'!$1:$1,0)),"") -> 大越 武 | E24: =IFERROR(INDEX('[1]12日_公式練習②-結果表（貼付）'!$A:$Z,MATCH($B24,'[1]12日_公式練習②-結果表（貼付）'!$B:$B,0),MATCH('12日_公式練習②-結果表'!E$11,'[1]12日_公式練習②-結果表（貼付）'!$1:$1,0)),"") -> TONY KART/YAMAHA | F24: =IFERROR(INDEX('[1]12日_公式練習②-結果表（貼付）'!$A:$Z,MATCH($B24,'[1]12日_公式練習②-結果表（貼付）'!$B:$B,0),MATCH('12日_公式練習②-結果表'!F$11,'[1]12日_公式練習②-結果表（貼付）'!$1:$1,0)),"") -> BEMAX RACING | G24: =IFERROR(INDEX('[1]12日_公式練習②-結果表（貼付）'!$A:$Z,MATCH($B24,'[1]12日_公式練習②-結果表（貼付）'!$B:$B,0),MATCH('12日_公式練習②-結果表'!G$11,'[1]12日_公式練習②-結果表（貼付）'!$1:$1,0)),"") -> BS | H24: =IF(A24="DNS","ｽﾀｰﾄ出来ず",IF(A24="DQ","失 格",IFERROR(INDEX('[1]12日_公式練習②-結果表（貼付）'!$A:$Z,MATCH($B24,'[1]12日_公式練習②-結果表（貼付）'!$B:$B,0),MATCH('12日_公式練習②-結果表'!H$11,'[1]12日_公式練習②-結果表（貼付）'!$1:$1,0)),""))) -> 55.193 | I24: =IF(H24<1,"",IF($I$11>H24,"R","")) | J24: =IF(A24="DNS","",IF(A24="DQ","",IFERROR(INDEX('[1]12日_公式練習②-結果表（貼付）'!$A:$Z,MATCH($B24,'[1]12日_公式練習②-結果表（貼付）'!$B:$B,0),MATCH('12日_公式練習②-結果表'!J$11,'[1]12日_公式練習②-結果表（貼付）'!$1:$1,0)),""))) -> 0.599 | K24: =IF(A24="DNS","",IF(A24="DQ","",IFERROR(INDEX('[1]12日_公式練習②-結果表（貼付）'!$A:$Z,MATCH($B24,'[1]12日_公式練習②-結果表（貼付）'!$B:$B,0),MATCH('12日_公式練習②-結果表'!K$11,'[1]12日_公式練習②-結果表（貼付）'!$1:$1,0)),""))) -> 0.052 | L24: =IF(A24="DNS","",IF(A24="DQ","",IFERROR(INDEX('[1]12日_公式練習②-結果表（貼付）'!$A:$Z,MATCH($B24,'[1]12日_公式練習②-結果表（貼付）'!$B:$B,0),MATCH("In Lap",'[1]12日_公式練習②-結果表（貼付）'!$1:$1,0))&"/"&INDEX('[1]12日_公式練習②-結果表（貼付）'!$A:$Z,MATCH($B24,'[1]12日_公式練習②-結果表（貼付）'!$B:$B,0),MATCH("Laps",'[1]12日_公式練習②-結果表（貼付）'!$1:$1,0)),""))) -> 9/10 | P24: =IF(IFERROR(INDEX('[1]12日_公式練習②-結果表（貼付）'!$A:$Z,MATCH($B24,'[1]12日_公式練習②-結果表（貼付）'!$B:$B,0),MATCH(P$11,'[1]12日_公式練習②-結果表（貼付）'!$1:$1,0)),"")=0,"",IFERROR(INDEX('[1]12日_公式練習②-結果表（貼付）'!$A:$Z,MATCH($B24,'[1]12日_公式練習②-結果表（貼付）'!$B:$B,0),MATCH(P$11,'[1]12日_公式練習②-結果表（貼付）'!$1:$1,0)),"")) | Q24: =IF(P24="","",COUNTIF($P$13:P24,"<>"&"")) | R24: =IFERROR(RANK(Q24,$Q$13:$Q$46,1),"") | S24: =IF(IFERROR(INDEX('[1]12日_公式練習②-結果表（貼付）'!$A:$Z,MATCH($A24,'[1]12日_公式練習②-結果表（貼付）'!$A:$A,0),MATCH(S$11,'[1]12日_公式練習②-結果表（貼付）'!$1:$1,0)),"")=0,"",IFERROR(INDEX('[1]12日_公式練習②-結果表（貼付）'!$A:$Z,MATCH($A24,'[1]12日_公式練習②-結果表（貼付）'!$A:$A,0),MATCH(S$11,'[1]12日_公式練習②-結果表（貼付）'!$1:$1,0)),""))
A25: =IF(OR('[1]12日_公式練習②-結果表（貼付）'!A14="DNF",'[1]12日_公式練習②-結果表（貼付）'!A14="DNS",'[1]12日_公式練習②-結果表（貼付）'!A14="DQ"),'[1]12日_公式練習②-結果表（貼付）'!A14,IF(MAX('[1]12日_公式練習②-結果表（貼付）'!$A:$A)>A24,A24+1,"")) -> 13 | B25: =IFERROR(INDEX('[1]12日_公式練習②-結果表（貼付）'!A14:$Z$50,MATCH($A25,'[1]12日_公式練習②-結果表（貼付）'!A14:$A$50,0),MATCH('12日_公式練習②-結果表'!B$11,'[1]12日_公式練習②-結果表（貼付）'!$1:$1,0)),"") -> 96 | D25: =IFERROR(INDEX('[1]12日_公式練習②-結果表（貼付）'!$A:$Z,MATCH($B25,'[1]12日_公式練習②-結果表（貼付）'!$B:$B,0),MATCH('12日_公式練習②-結果表'!D$11,'[1]12日_公式練習②-結果表（貼付）'!$1:$1,0)),"") -> 大野 弘志 | E25: =IFERROR(INDEX('[1]12日_公式練習②-結果表（貼付）'!$A:$Z,MATCH($B25,'[1]12日_公式練習②-結果表（貼付）'!$B:$B,0),MATCH('12日_公式練習②-結果表'!E$11,'[1]12日_公式練習②-結果表（貼付）'!$1:$1,0)),"") -> EXPRIT/YAMAHA | F25: =IFERROR(INDEX('[1]12日_公式練習②-結果表（貼付）'!$A:$Z,MATCH($B25,'[1]12日_公式練習②-結果表（貼付）'!$B:$B,0),MATCH('12日_公式練習②-結果表'!F$11,'[1]12日_公式練習②-結果表（貼付）'!$1:$1,0)),"") -> SLT.RT/Team BONJIN | G25: =IFERROR(INDEX('[1]12日_公式練習②-結果表（貼付）'!$A:$Z,MATCH($B25,'[1]12日_公式練習②-結果表（貼付）'!$B:$B,0),MATCH('12日_公式練習②-結果表'!G$11,'[1]12日_公式練習②-結果表（貼付）'!$1:$1,0)),"") -> BS | H25: =IF(A25="DNS","ｽﾀｰﾄ出来ず",IF(A25="DQ","失 格",IFERROR(INDEX('[1]12日_公式練習②-結果表（貼付）'!$A:$Z,MATCH($B25,'[1]12日_公式練習②-結果表（貼付）'!$B:$B,0),MATCH('12日_公式練習②-結果表'!H$11,'[1]12日_公式練習②-結果表（貼付）'!$1:$1,0)),""))) -> 55.27 | I25: =IF(H25<1,"",IF($I$11>H25,"R","")) | J25: =IF(A25="DNS","",IF(A25="DQ","",IFERROR(INDEX('[1]12日_公式練習②-結果表（貼付）'!$A:$Z,MATCH($B25,'[1]12日_公式練習②-結果表（貼付）'!$B:$B,0),MATCH('12日_公式練習②-結果表'!J$11,'[1]12日_公式練習②-結果表（貼付）'!$1:$1,0)),""))) -> 0.676 | K25: =IF(A25="DNS","",IF(A25="DQ","",IFERROR(INDEX('[1]12日_公式練習②-結果表（貼付）'!$A:$Z,MATCH($B25,'[1]12日_公式練習②-結果表（貼付）'!$B:$B,0),MATCH('12日_公式練習②-結果表'!K$11,'[1]12日_公式練習②-結果表（貼付）'!$1:$1,0)),""))) -> 0.077 | L25: =IF(A25="DNS","",IF(A25="DQ","",IFERROR(INDEX('[1]12日_公式練習②-結果表（貼付）'!$A:$Z,MATCH($B25,'[1]12日_公式練習②-結果表（貼付）'!$B:$B,0),MATCH("In Lap",'[1]12日_公式練習②-結果表（貼付）'!$1:$1,0))&"/"&INDEX('[1]12日_公式練習②-結果表（貼付）'!$A:$Z,MATCH($B25,'[1]12日_公式練習②-結果表（貼付）'!$B:$B,0),MATCH("Laps",'[1]12日_公式練習②-結果表（貼付）'!$1:$1,0)),""))) -> 5/10 | P25: =IF(IFERROR(INDEX('[1]12日_公式練習②-結果表（貼付）'!$A:$Z,MATCH($B25,'[1]12日_公式練習②-結果表（貼付）'!$B:$B,0),MATCH(P$11,'[1]12日_公式練習②-結果表（貼付）'!$1:$1,0)),"")=0,"",IFERROR(INDEX('[1]12日_公式練習②-結果表（貼付）'!$A:$Z,MATCH($B25,'[1]12日_公式練習②-結果表（貼付）'!$B:$B,0),MATCH(P$11,'[1]12日_公式練習②-結果表（貼付）'!$1:$1,0)),"")) | Q25: =IF(P25="","",COUNTIF($P$13:P25,"<>"&"")) | R25: =IFERROR(RANK(Q25,$Q$13:$Q$46,1),"") | S25: =IF(IFERROR(INDEX('[1]12日_公式練習②-結果表（貼付）'!$A:$Z,MATCH($A25,'[1]12日_公式練習②-結果表（貼付）'!$A:$A,0),MATCH(S$11,'[1]12日_公式練習②-結果表（貼付）'!$1:$1,0)),"")=0,"",IFERROR(INDEX('[1]12日_公式練習②-結果表（貼付）'!$A:$Z,MATCH($A25,'[1]12日_公式練習②-結果表（貼付）'!$A:$A,0),MATCH(S$11,'[1]12日_公式練習②-結果表（貼付）'!$1:$1,0)),""))
A26: =IF(OR('[1]12日_公式練習②-結果表（貼付）'!A15="DNF",'[1]12日_公式練習②-結果表（貼付）'!A15="DNS",'[1]12日_公式練習②-結果表（貼付）'!A15="DQ"),'[1]12日_公式練習②-結果表（貼付）'!A15,IF(MAX('[1]12日_公式練習②-結果表（貼付）'!$A:$A)>A25,A25+1,"")) -> 14 | B26: =IFERROR(INDEX('[1]12日_公式練習②-結果表（貼付）'!A15:$Z$50,MATCH($A26,'[1]12日_公式練習②-結果表（貼付）'!A15:$A$50,0),MATCH('12日_公式練習②-結果表'!B$11,'[1]12日_公式練習②-結果表（貼付）'!$1:$1,0)),"") -> 71 | D26: =IFERROR(INDEX('[1]12日_公式練習②-結果表（貼付）'!$A:$Z,MATCH($B26,'[1]12日_公式練習②-結果表（貼付）'!$B:$B,0),MATCH('12日_公式練習②-結果表'!D$11,'[1]12日_公式練習②-結果表（貼付）'!$1:$1,0)),"") -> 上田 優季 | E26: =IFERROR(INDEX('[1]12日_公式練習②-結果表（貼付）'!$A:$Z,MATCH($B26,'[1]12日_公式練習②-結果表（貼付）'!$B:$B,0),MATCH('12日_公式練習②-結果表'!E$11,'[1]12日_公式練習②-結果表（貼付）'!$1:$1,0)),"") -> CL/YAMAHA | F26: =IFERROR(INDEX('[1]12日_公式練習②-結果表（貼付）'!$A:$Z,MATCH($B26,'[1]12日_公式練習②-結果表（貼付）'!$B:$B,0),MATCH('12日_公式練習②-結果表'!F$11,'[1]12日_公式練習②-結果表（貼付）'!$1:$1,0)),"") -> カートガレージクラッシュメイト | G26: =IFERROR(INDEX('[1]12日_公式練習②-結果表（貼付）'!$A:$Z,MATCH($B26,'[1]12日_公式練習②-結果表（貼付）'!$B:$B,0),MATCH('12日_公式練習②-結果表'!G$11,'[1]12日_公式練習②-結果表（貼付）'!$1:$1,0)),"") -> BS | H26: =IF(A26="DNS","ｽﾀｰﾄ出来ず",IF(A26="DQ","失 格",IFERROR(INDEX('[1]12日_公式練習②-結果表（貼付）'!$A:$Z,MATCH($B26,'[1]12日_公式練習②-結果表（貼付）'!$B:$B,0),MATCH('12日_公式練習②-結果表'!H$11,'[1]12日_公式練習②-結果表（貼付）'!$1:$1,0)),""))) -> 55.396 | I26: =IF(H26<1,"",IF($I$11>H26,"R","")) | J26: =IF(A26="DNS","",IF(A26="DQ","",IFERROR(INDEX('[1]12日_公式練習②-結果表（貼付）'!$A:$Z,MATCH($B26,'[1]12日_公式練習②-結果表（貼付）'!$B:$B,0),MATCH('12日_公式練習②-結果表'!J$11,'[1]12日_公式練習②-結果表（貼付）'!$1:$1,0)),""))) -> 0.802 | K26: =IF(A26="DNS","",IF(A26="DQ","",IFERROR(INDEX('[1]12日_公式練習②-結果表（貼付）'!$A:$Z,MATCH($B26,'[1]12日_公式練習②-結果表（貼付）'!$B:$B,0),MATCH('12日_公式練習②-結果表'!K$11,'[1]12日_公式練習②-結果表（貼付）'!$1:$1,0)),""))) -> 0.126 | L26: =IF(A26="DNS","",IF(A26="DQ","",IFERROR(INDEX('[1]12日_公式練習②-結果表（貼付）'!$A:$Z,MATCH($B26,'[1]12日_公式練習②-結果表（貼付）'!$B:$B,0),MATCH("In Lap",'[1]12日_公式練習②-結果表（貼付）'!$1:$1,0))&"/"&INDEX('[1]12日_公式練習②-結果表（貼付）'!$A:$Z,MATCH($B26,'[1]12日_公式練習②-結果表（貼付）'!$B:$B,0),MATCH("Laps",'[1]12日_公式練習②-結果表（貼付）'!$1:$1,0)),""))) -> 6/8 | P26: =IF(IFERROR(INDEX('[1]12日_公式練習②-結果表（貼付）'!$A:$Z,MATCH($B26,'[1]12日_公式練習②-結果表（貼付）'!$B:$B,0),MATCH(P$11,'[1]12日_公式練習②-結果表（貼付）'!$1:$1,0)),"")=0,"",IFERROR(INDEX('[1]12日_公式練習②-結果表（貼付）'!$A:$Z,MATCH($B26,'[1]12日_公式練習②-結果表（貼付）'!$B:$B,0),MATCH(P$11,'[1]12日_公式練習②-結果表（貼付）'!$1:$1,0)),"")) | Q26: =IF(P26="","",COUNTIF($P$13:P26,"<>"&"")) | R26: =IFERROR(RANK(Q26,$Q$13:$Q$46,1),"") | S26: =IF(IFERROR(INDEX('[1]12日_公式練習②-結果表（貼付）'!$A:$Z,MATCH($A26,'[1]12日_公式練習②-結果表（貼付）'!$A:$A,0),MATCH(S$11,'[1]12日_公式練習②-結果表（貼付）'!$1:$1,0)),"")=0,"",IFERROR(INDEX('[1]12日_公式練習②-結果表（貼付）'!$A:$Z,MATCH($A26,'[1]12日_公式練習②-結果表（貼付）'!$A:$A,0),MATCH(S$11,'[1]12日_公式練習②-結果表（貼付）'!$1:$1,0)),""))
A27: =IF(OR('[1]12日_公式練習②-結果表（貼付）'!A16="DNF",'[1]12日_公式練習②-結果表（貼付）'!A16="DNS",'[1]12日_公式練習②-結果表（貼付）'!A16="DQ"),'[1]12日_公式練習②-結果表（貼付）'!A16,IF(MAX('[1]12日_公式練習②-結果表（貼付）'!$A:$A)>A26,A26+1,"")) -> 15 | B27: =IFERROR(INDEX('[1]12日_公式練習②-結果表（貼付）'!A16:$Z$50,MATCH($A27,'[1]12日_公式練習②-結果表（貼付）'!A16:$A$50,0),MATCH('12日_公式練習②-結果表'!B$11,'[1]12日_公式練習②-結果表（貼付）'!$1:$1,0)),"") -> 58 | D27: =IFERROR(INDEX('[1]12日_公式練習②-結果表（貼付）'!$A:$Z,MATCH($B27,'[1]12日_公式練習②-結果表（貼付）'!$B:$B,0),MATCH('12日_公式練習②-結果表'!D$11,'[1]12日_公式練習②-結果表（貼付）'!$1:$1,0)),"") -> 江崎 昭彦 | E27: =IFERROR(INDEX('[1]12日_公式練習②-結果表（貼付）'!$A:$Z,MATCH($B27,'[1]12日_公式練習②-結果表（貼付）'!$B:$B,0),MATCH('12日_公式練習②-結果表'!E$11,'[1]12日_公式練習②-結果表（貼付）'!$1:$1,0)),"") -> KOSMIC/YAMAHA | F27: =IFERROR(INDEX('[1]12日_公式練習②-結果表（貼付）'!$A:$Z,MATCH($B27,'[1]12日_公式練習②-結果表（貼付）'!$B:$B,0),MATCH('12日_公式練習②-結果表'!F$11,'[1]12日_公式練習②-結果表（貼付）'!$1:$1,0)),"") -> Ash | G27: =IFERROR(INDEX('[1]12日_公式練習②-結果表（貼付）'!$A:$Z,MATCH($B27,'[1]12日_公式練習②-結果表（貼付）'!$B:$B,0),MATCH('12日_公式練習②-結果表'!G$11,'[1]12日_公式練習②-結果表（貼付）'!$1:$1,0)),"") -> BS | H27: =IF(A27="DNS","ｽﾀｰﾄ出来ず",IF(A27="DQ","失 格",IFERROR(INDEX('[1]12日_公式練習②-結果表（貼付）'!$A:$Z,MATCH($B27,'[1]12日_公式練習②-結果表（貼付）'!$B:$B,0),MATCH('12日_公式練習②-結果表'!H$11,'[1]12日_公式練習②-結果表（貼付）'!$1:$1,0)),""))) -> 55.587 | I27: =IF(H27<1,"",IF($I$11>H27,"R","")) | J27: =IF(A27="DNS","",IF(A27="DQ","",IFERROR(INDEX('[1]12日_公式練習②-結果表（貼付）'!$A:$Z,MATCH($B27,'[1]12日_公式練習②-結果表（貼付）'!$B:$B,0),MATCH('12日_公式練習②-結果表'!J$11,'[1]12日_公式練習②-結果表（貼付）'!$1:$1,0)),""))) -> 0.993 | K27: =IF(A27="DNS","",IF(A27="DQ","",IFERROR(INDEX('[1]12日_公式練習②-結果表（貼付）'!$A:$Z,MATCH($B27,'[1]12日_公式練習②-結果表（貼付）'!$B:$B,0),MATCH('12日_公式練習②-結果表'!K$11,'[1]12日_公式練習②-結果表（貼付）'!$1:$1,0)),""))) -> 0.191 | L27: =IF(A27="DNS","",IF(A27="DQ","",IFERROR(INDEX('[1]12日_公式練習②-結果表（貼付）'!$A:$Z,MATCH($B27,'[1]12日_公式練習②-結果表（貼付）'!$B:$B,0),MATCH("In Lap",'[1]12日_公式練習②-結果表（貼付）'!$1:$1,0))&"/"&INDEX('[1]12日_公式練習②-結果表（貼付）'!$A:$Z,MATCH($B27,'[1]12日_公式練習②-結果表（貼付）'!$B:$B,0),MATCH("Laps",'[1]12日_公式練習②-結果表（貼付）'!$1:$1,0)),""))) -> 10/10 | P27: =IF(IFERROR(INDEX('[1]12日_公式練習②-結果表（貼付）'!$A:$Z,MATCH($B27,'[1]12日_公式練習②-結果表（貼付）'!$B:$B,0),MATCH(P$11,'[1]12日_公式練習②-結果表（貼付）'!$1:$1,0)),"")=0,"",IFERROR(INDEX('[1]12日_公式練習②-結果表（貼付）'!$A:$Z,MATCH($B27,'[1]12日_公式練習②-結果表（貼付）'!$B:$B,0),MATCH(P$11,'[1]12日_公式練習②-結果表（貼付）'!$1:$1,0)),"")) | Q27: =IF(P27="","",COUNTIF($P$13:P27,"<>"&"")) | R27: =IFERROR(RANK(Q27,$Q$13:$Q$46,1),"") | S27: =IF(IFERROR(INDEX('[1]12日_公式練習②-結果表（貼付）'!$A:$Z,MATCH($A27,'[1]12日_公式練習②-結果表（貼付）'!$A:$A,0),MATCH(S$11,'[1]12日_公式練習②-結果表（貼付）'!$1:$1,0)),"")=0,"",IFERROR(INDEX('[1]12日_公式練習②-結果表（貼付）'!$A:$Z,MATCH($A27,'[1]12日_公式練習②-結果表（貼付）'!$A:$A,0),MATCH(S$11,'[1]12日_公式練習②-結果表（貼付）'!$1:$1,0)),""))
A28: =IF(OR('[1]12日_公式練習②-結果表（貼付）'!A17="DNF",'[1]12日_公式練習②-結果表（貼付）'!A17="DNS",'[1]12日_公式練習②-結果表（貼付）'!A17="DQ"),'[1]12日_公式練習②-結果表（貼付）'!A17,IF(MAX('[1]12日_公式練習②-結果表（貼付）'!$A:$A)>A27,A27+1,"")) -> 16 | B28: =IFERROR(INDEX('[1]12日_公式練習②-結果表（貼付）'!A17:$Z$50,MATCH($A28,'[1]12日_公式練習②-結果表（貼付）'!A17:$A$50,0),MATCH('12日_公式練習②-結果表'!B$11,'[1]12日_公式練習②-結果表（貼付）'!$1:$1,0)),"") -> 72 | D28: =IFERROR(INDEX('[1]12日_公式練習②-結果表（貼付）'!$A:$Z,MATCH($B28,'[1]12日_公式練習②-結果表（貼付）'!$B:$B,0),MATCH('12日_公式練習②-結果表'!D$11,'[1]12日_公式練習②-結果表（貼付）'!$1:$1,0)),"") -> 小野 大地 | E28: =IFERROR(INDEX('[1]12日_公式練習②-結果表（貼付）'!$A:$Z,MATCH($B28,'[1]12日_公式練習②-結果表（貼付）'!$B:$B,0),MATCH('12日_公式練習②-結果表'!E$11,'[1]12日_公式練習②-結果表（貼付）'!$1:$1,0)),"") -> KOSMIC/YAMAHA | F28: =IFERROR(INDEX('[1]12日_公式練習②-結果表（貼付）'!$A:$Z,MATCH($B28,'[1]12日_公式練習②-結果表（貼付）'!$B:$B,0),MATCH('12日_公式練習②-結果表'!F$11,'[1]12日_公式練習②-結果表（貼付）'!$1:$1,0)),"") -> チームTKC | G28: =IFERROR(INDEX('[1]12日_公式練習②-結果表（貼付）'!$A:$Z,MATCH($B28,'[1]12日_公式練習②-結果表（貼付）'!$B:$B,0),MATCH('12日_公式練習②-結果表'!G$11,'[1]12日_公式練習②-結果表（貼付）'!$1:$1,0)),"") -> BS | H28: =IF(A28="DNS","ｽﾀｰﾄ出来ず",IF(A28="DQ","失 格",IFERROR(INDEX('[1]12日_公式練習②-結果表（貼付）'!$A:$Z,MATCH($B28,'[1]12日_公式練習②-結果表（貼付）'!$B:$B,0),MATCH('12日_公式練習②-結果表'!H$11,'[1]12日_公式練習②-結果表（貼付）'!$1:$1,0)),""))) -> 55.591 | I28: =IF(H28<1,"",IF($I$11>H28,"R","")) | J28: =IF(A28="DNS","",IF(A28="DQ","",IFERROR(INDEX('[1]12日_公式練習②-結果表（貼付）'!$A:$Z,MATCH($B28,'[1]12日_公式練習②-結果表（貼付）'!$B:$B,0),MATCH('12日_公式練習②-結果表'!J$11,'[1]12日_公式練習②-結果表（貼付）'!$1:$1,0)),""))) -> 0.997 | K28: =IF(A28="DNS","",IF(A28="DQ","",IFERROR(INDEX('[1]12日_公式練習②-結果表（貼付）'!$A:$Z,MATCH($B28,'[1]12日_公式練習②-結果表（貼付）'!$B:$B,0),MATCH('12日_公式練習②-結果表'!K$11,'[1]12日_公式練習②-結果表（貼付）'!$1:$1,0)),""))) -> 0.004 | L28: =IF(A28="DNS","",IF(A28="DQ","",IFERROR(INDEX('[1]12日_公式練習②-結果表（貼付）'!$A:$Z,MATCH($B28,'[1]12日_公式練習②-結果表（貼付）'!$B:$B,0),MATCH("In Lap",'[1]12日_公式練習②-結果表（貼付）'!$1:$1,0))&"/"&INDEX('[1]12日_公式練習②-結果表（貼付）'!$A:$Z,MATCH($B28,'[1]12日_公式練習②-結果表（貼付）'!$B:$B,0),MATCH("Laps",'[1]12日_公式練習②-結果表（貼付）'!$1:$1,0)),""))) -> 6/10 | P28: =IF(IFERROR(INDEX('[1]12日_公式練習②-結果表（貼付）'!$A:$Z,MATCH($B28,'[1]12日_公式練習②-結果表（貼付）'!$B:$B,0),MATCH(P$11,'[1]12日_公式練習②-結果表（貼付）'!$1:$1,0)),"")=0,"",IFERROR(INDEX('[1]12日_公式練習②-結果表（貼付）'!$A:$Z,MATCH($B28,'[1]12日_公式練習②-結果表（貼付）'!$B:$B,0),MATCH(P$11,'[1]12日_公式練習②-結果表（貼付）'!$1:$1,0)),"")) | Q28: =IF(P28="","",COUNTIF($P$13:P28,"<>"&"")) | R28: =IFERROR(RANK(Q28,$Q$13:$Q$46,1),"") | S28: =IF(IFERROR(INDEX('[1]12日_公式練習②-結果表（貼付）'!$A:$Z,MATCH($A28,'[1]12日_公式練習②-結果表（貼付）'!$A:$A,0),MATCH(S$11,'[1]12日_公式練習②-結果表（貼付）'!$1:$1,0)),"")=0,"",IFERROR(INDEX('[1]12日_公式練習②-結果表（貼付）'!$A:$Z,MATCH($A28,'[1]12日_公式練習②-結果表（貼付）'!$A:$A,0),MATCH(S$11,'[1]12日_公式練習②-結果表（貼付）'!$1:$1,0)),""))
A29: =IF(OR('[1]12日_公式練習②-結果表（貼付）'!A18="DNF",'[1]12日_公式練習②-結果表（貼付）'!A18="DNS",'[1]12日_公式練習②-結果表（貼付）'!A18="DQ"),'[1]12日_公式練習②-結果表（貼付）'!A18,IF(MAX('[1]12日_公式練習②-結果表（貼付）'!$A:$A)>A28,A28+1,"")) -> 17 | B29: =IFERROR(INDEX('[1]12日_公式練習②-結果表（貼付）'!A18:$Z$50,MATCH($A29,'[1]12日_公式練習②-結果表（貼付）'!A18:$A$50,0),MATCH('12日_公式練習②-結果表'!B$11,'[1]12日_公式練習②-結果表（貼付）'!$1:$1,0)),"") -> 57 | D29: =IFERROR(INDEX('[1]12日_公式練習②-結果表（貼付）'!$A:$Z,MATCH($B29,'[1]12日_公式練習②-結果表（貼付）'!$B:$B,0),MATCH('12日_公式練習②-結果表'!D$11,'[1]12日_公式練習②-結果表（貼付）'!$1:$1,0)),"") -> 米林 慶晃 | E29: =IFERROR(INDEX('[1]12日_公式練習②-結果表（貼付）'!$A:$Z,MATCH($B29,'[1]12日_公式練習②-結果表（貼付）'!$B:$B,0),MATCH('12日_公式練習②-結果表'!E$11,'[1]12日_公式練習②-結果表（貼付）'!$1:$1,0)),"") -> EXPRIT/YAMAHA | F29: =IFERROR(INDEX('[1]12日_公式練習②-結果表（貼付）'!$A:$Z,MATCH($B29,'[1]12日_公式練習②-結果表（貼付）'!$B:$B,0),MATCH('12日_公式練習②-結果表'!F$11,'[1]12日_公式練習②-結果表（貼付）'!$1:$1,0)),"") -> REON RACING TEAM | G29: =IFERROR(INDEX('[1]12日_公式練習②-結果表（貼付）'!$A:$Z,MATCH($B29,'[1]12日_公式練習②-結果表（貼付）'!$B:$B,0),MATCH('12日_公式練習②-結果表'!G$11,'[1]12日_公式練習②-結果表（貼付）'!$1:$1,0)),"") -> BS | H29: =IF(A29="DNS","ｽﾀｰﾄ出来ず",IF(A29="DQ","失 格",IFERROR(INDEX('[1]12日_公式練習②-結果表（貼付）'!$A:$Z,MATCH($B29,'[1]12日_公式練習②-結果表（貼付）'!$B:$B,0),MATCH('12日_公式練習②-結果表'!H$11,'[1]12日_公式練習②-結果表（貼付）'!$1:$1,0)),""))) -> 55.682 | I29: =IF(H29<1,"",IF($I$11>H29,"R","")) | J29: =IF(A29="DNS","",IF(A29="DQ","",IFERROR(INDEX('[1]12日_公式練習②-結果表（貼付）'!$A:$Z,MATCH($B29,'[1]12日_公式練習②-結果表（貼付）'!$B:$B,0),MATCH('12日_公式練習②-結果表'!J$11,'[1]12日_公式練習②-結果表（貼付）'!$1:$1,0)),""))) -> 1.088 | K29: =IF(A29="DNS","",IF(A29="DQ","",IFERROR(INDEX('[1]12日_公式練習②-結果表（貼付）'!$A:$Z,MATCH($B29,'[1]12日_公式練習②-結果表（貼付）'!$B:$B,0),MATCH('12日_公式練習②-結果表'!K$11,'[1]12日_公式練習②-結果表（貼付）'!$1:$1,0)),""))) -> 0.091 | L29: =IF(A29="DNS","",IF(A29="DQ","",IFERROR(INDEX('[1]12日_公式練習②-結果表（貼付）'!$A:$Z,MATCH($B29,'[1]12日_公式練習②-結果表（貼付）'!$B:$B,0),MATCH("In Lap",'[1]12日_公式練習②-結果表（貼付）'!$1:$1,0))&"/"&INDEX('[1]12日_公式練習②-結果表（貼付）'!$A:$Z,MATCH($B29,'[1]12日_公式練習②-結果表（貼付）'!$B:$B,0),MATCH("Laps",'[1]12日_公式練習②-結果表（貼付）'!$1:$1,0)),""))) -> 6/10 | P29: =IF(IFERROR(INDEX('[1]12日_公式練習②-結果表（貼付）'!$A:$Z,MATCH($B29,'[1]12日_公式練習②-結果表（貼付）'!$B:$B,0),MATCH(P$11,'[1]12日_公式練習②-結果表（貼付）'!$1:$1,0)),"")=0,"",IFERROR(INDEX('[1]12日_公式練習②-結果表（貼付）'!$A:$Z,MATCH($B29,'[1]12日_公式練習②-結果表（貼付）'!$B:$B,0),MATCH(P$11,'[1]12日_公式練習②-結果表（貼付）'!$1:$1,0)),"")) | Q29: =IF(P29="","",COUNTIF($P$13:P29,"<>"&"")) | R29: =IFERROR(RANK(Q29,$Q$13:$Q$46,1),"") | S29: =IF(IFERROR(INDEX('[1]12日_公式練習②-結果表（貼付）'!$A:$Z,MATCH($A29,'[1]12日_公式練習②-結果表（貼付）'!$A:$A,0),MATCH(S$11,'[1]12日_公式練習②-結果表（貼付）'!$1:$1,0)),"")=0,"",IFERROR(INDEX('[1]12日_公式練習②-結果表（貼付）'!$A:$Z,MATCH($A29,'[1]12日_公式練習②-結果表（貼付）'!$A:$A,0),MATCH(S$11,'[1]12日_公式練習②-結果表（貼付）'!$1:$1,0)),""))
A30: =IF(OR('[1]12日_公式練習②-結果表（貼付）'!A19="DNF",'[1]12日_公式練習②-結果表（貼付）'!A19="DNS",'[1]12日_公式練習②-結果表（貼付）'!A19="DQ"),'[1]12日_公式練習②-結果表（貼付）'!A19,IF(MAX('[1]12日_公式練習②-結果表（貼付）'!$A:$A)>A29,A29+1,"")) -> 18 | B30: =IFERROR(INDEX('[1]12日_公式練習②-結果表（貼付）'!A19:$Z$50,MATCH($A30,'[1]12日_公式練習②-結果表（貼付）'!A19:$A$50,0),MATCH('12日_公式練習②-結果表'!B$11,'[1]12日_公式練習②-結果表（貼付）'!$1:$1,0)),"") -> 84 | D30: =IFERROR(INDEX('[1]12日_公式練習②-結果表（貼付）'!$A:$Z,MATCH($B30,'[1]12日_公式練習②-結果表（貼付）'!$B:$B,0),MATCH('12日_公式練習②-結果表'!D$11,'[1]12日_公式練習②-結果表（貼付）'!$1:$1,0)),"") -> 林 零仁 | E30: =IFERROR(INDEX('[1]12日_公式練習②-結果表（貼付）'!$A:$Z,MATCH($B30,'[1]12日_公式練習②-結果表（貼付）'!$B:$B,0),MATCH('12日_公式練習②-結果表'!E$11,'[1]12日_公式練習②-結果表（貼付）'!$1:$1,0)),"") -> EXPRIT/YAMAHA | F30: =IFERROR(INDEX('[1]12日_公式練習②-結果表（貼付）'!$A:$Z,MATCH($B30,'[1]12日_公式練習②-結果表（貼付）'!$B:$B,0),MATCH('12日_公式練習②-結果表'!F$11,'[1]12日_公式練習②-結果表（貼付）'!$1:$1,0)),"") -> ONE POINT | G30: =IFERROR(INDEX('[1]12日_公式練習②-結果表（貼付）'!$A:$Z,MATCH($B30,'[1]12日_公式練習②-結果表（貼付）'!$B:$B,0),MATCH('12日_公式練習②-結果表'!G$11,'[1]12日_公式練習②-結果表（貼付）'!$1:$1,0)),"") -> BS | H30: =IF(A30="DNS","ｽﾀｰﾄ出来ず",IF(A30="DQ","失 格",IFERROR(INDEX('[1]12日_公式練習②-結果表（貼付）'!$A:$Z,MATCH($B30,'[1]12日_公式練習②-結果表（貼付）'!$B:$B,0),MATCH('12日_公式練習②-結果表'!H$11,'[1]12日_公式練習②-結果表（貼付）'!$1:$1,0)),""))) -> 55.838 | I30: =IF(H30<1,"",IF($I$11>H30,"R","")) | J30: =IF(A30="DNS","",IF(A30="DQ","",IFERROR(INDEX('[1]12日_公式練習②-結果表（貼付）'!$A:$Z,MATCH($B30,'[1]12日_公式練習②-結果表（貼付）'!$B:$B,0),MATCH('12日_公式練習②-結果表'!J$11,'[1]12日_公式練習②-結果表（貼付）'!$1:$1,0)),""))) -> 1.244 | K30: =IF(A30="DNS","",IF(A30="DQ","",IFERROR(INDEX('[1]12日_公式練習②-結果表（貼付）'!$A:$Z,MATCH($B30,'[1]12日_公式練習②-結果表（貼付）'!$B:$B,0),MATCH('12日_公式練習②-結果表'!K$11,'[1]12日_公式練習②-結果表（貼付）'!$1:$1,0)),""))) -> 0.156 | L30: =IF(A30="DNS","",IF(A30="DQ","",IFERROR(INDEX('[1]12日_公式練習②-結果表（貼付）'!$A:$Z,MATCH($B30,'[1]12日_公式練習②-結果表（貼付）'!$B:$B,0),MATCH("In Lap",'[1]12日_公式練習②-結果表（貼付）'!$1:$1,0))&"/"&INDEX('[1]12日_公式練習②-結果表（貼付）'!$A:$Z,MATCH($B30,'[1]12日_公式練習②-結果表（貼付）'!$B:$B,0),MATCH("Laps",'[1]12日_公式練習②-結果表（貼付）'!$1:$1,0)),""))) -> 3/8 | P30: =IF(IFERROR(INDEX('[1]12日_公式練習②-結果表（貼付）'!$A:$Z,MATCH($B30,'[1]12日_公式練習②-結果表（貼付）'!$B:$B,0),MATCH(P$11,'[1]12日_公式練習②-結果表（貼付）'!$1:$1,0)),"")=0,"",IFERROR(INDEX('[1]12日_公式練習②-結果表（貼付）'!$A:$Z,MATCH($B30,'[1]12日_公式練習②-結果表（貼付）'!$B:$B,0),MATCH(P$11,'[1]12日_公式練習②-結果表（貼付）'!$1:$1,0)),"")) | Q30: =IF(P30="","",COUNTIF($P$13:P30,"<>"&"")) | R30: =IFERROR(RANK(Q30,$Q$13:$Q$46,1),"") | S30: =IF(IFERROR(INDEX('[1]12日_公式練習②-結果表（貼付）'!$A:$Z,MATCH($A30,'[1]12日_公式練習②-結果表（貼付）'!$A:$A,0),MATCH(S$11,'[1]12日_公式練習②-結果表（貼付）'!$1:$1,0)),"")=0,"",IFERROR(INDEX('[1]12日_公式練習②-結果表（貼付）'!$A:$Z,MATCH($A30,'[1]12日_公式練習②-結果表（貼付）'!$A:$A,0),MATCH(S$11,'[1]12日_公式練習②-結果表（貼付）'!$1:$1,0)),""))
A31: =IF(OR('[1]12日_公式練習②-結果表（貼付）'!A20="DNF",'[1]12日_公式練習②-結果表（貼付）'!A20="DNS",'[1]12日_公式練習②-結果表（貼付）'!A20="DQ"),'[1]12日_公式練習②-結果表（貼付）'!A20,IF(MAX('[1]12日_公式練習②-結果表（貼付）'!$A:$A)>A30,A30+1,"")) | B31: =IFERROR(INDEX('[1]12日_公式練習②-結果表（貼付）'!A20:$Z$50,MATCH($A31,'[1]12日_公式練習②-結果表（貼付）'!A20:$A$50,0),MATCH('12日_公式練習②-結果表'!B$11,'[1]12日_公式練習②-結果表（貼付）'!$1:$1,0)),"") | D31: =IFERROR(INDEX('[1]12日_公式練習②-結果表（貼付）'!$A:$Z,MATCH($B31,'[1]12日_公式練習②-結果表（貼付）'!$B:$B,0),MATCH('12日_公式練習②-結果表'!D$11,'[1]12日_公式練習②-結果表（貼付）'!$1:$1,0)),"") | E31: =IFERROR(INDEX('[1]12日_公式練習②-結果表（貼付）'!$A:$Z,MATCH($B31,'[1]12日_公式練習②-結果表（貼付）'!$B:$B,0),MATCH('12日_公式練習②-結果表'!E$11,'[1]12日_公式練習②-結果表（貼付）'!$1:$1,0)),"") | F31: =IFERROR(INDEX('[1]12日_公式練習②-結果表（貼付）'!$A:$Z,MATCH($B31,'[1]12日_公式練習②-結果表（貼付）'!$B:$B,0),MATCH('12日_公式練習②-結果表'!F$11,'[1]12日_公式練習②-結果表（貼付）'!$1:$1,0)),"") | G31: =IFERROR(INDEX('[1]12日_公式練習②-結果表（貼付）'!$A:$Z,MATCH($B31,'[1]12日_公式練習②-結果表（貼付）'!$B:$B,0),MATCH('12日_公式練習②-結果表'!G$11,'[1]12日_公式練習②-結果表（貼付）'!$1:$1,0)),"") | H31: =IF(A31="DNS","ｽﾀｰﾄ出来ず",IF(A31="DQ","失 格",IFERROR(INDEX('[1]12日_公式練習②-結果表（貼付）'!$A:$Z,MATCH($B31,'[1]12日_公式練習②-結果表（貼付）'!$B:$B,0),MATCH('12日_公式練習②-結果表'!H$11,'[1]12日_公式練習②-結果表（貼付）'!$1:$1,0)),""))) | I31: =IF(H31<1,"",IF($I$11>H31,"R","")) | J31: =IF(A31="DNS","",IF(A31="DQ","",IFERROR(INDEX('[1]12日_公式練習②-結果表（貼付）'!$A:$Z,MATCH($B31,'[1]12日_公式練習②-結果表（貼付）'!$B:$B,0),MATCH('12日_公式練習②-結果表'!J$11,'[1]12日_公式練習②-結果表（貼付）'!$1:$1,0)),""))) | K31: =IF(A31="DNS","",IF(A31="DQ","",IFERROR(INDEX('[1]12日_公式練習②-結果表（貼付）'!$A:$Z,MATCH($B31,'[1]12日_公式練習②-結果表（貼付）'!$B:$B,0),MATCH('12日_公式練習②-結果表'!K$11,'[1]12日_公式練習②-結果表（貼付）'!$1:$1,0)),""))) | L31: =IF(A31="DNS","",IF(A31="DQ","",IFERROR(INDEX('[1]12日_公式練習②-結果表（貼付）'!$A:$Z,MATCH($B31,'[1]12日_公式練習②-結果表（貼付）'!$B:$B,0),MATCH("In Lap",'[1]12日_公式練習②-結果表（貼付）'!$1:$1,0))&"/"&INDEX('[1]12日_公式練習②-結果表（貼付）'!$A:$Z,MATCH($B31,'[1]12日_公式練習②-結果表（貼付）'!$B:$B,0),MATCH("Laps",'[1]12日_公式練習②-結果表（貼付）'!$1:$1,0)),""))) | P31: =IF(IFERROR(INDEX('[1]12日_公式練習②-結果表（貼付）'!$A:$Z,MATCH($B31,'[1]12日_公式練習②-結果表（貼付）'!$B:$B,0),MATCH(P$11,'[1]12日_公式練習②-結果表（貼付）'!$1:$1,0)),"")=0,"",IFERROR(INDEX('[1]12日_公式練習②-結果表（貼付）'!$A:$Z,MATCH($B31,'[1]12日_公式練習②-結果表（貼付）'!$B:$B,0),MATCH(P$11,'[1]12日_公式練習②-結果表（貼付）'!$1:$1,0)),"")) | Q31: =IF(P31="","",COUNTIF($P$13:P31,"<>"&"")) | R31: =IFERROR(RANK(Q31,$Q$13:$Q$46,1),"") | S31: =IF(IFERROR(INDEX('[1]12日_公式練習②-結果表（貼付）'!$A:$Z,MATCH($A31,'[1]12日_公式練習②-結果表（貼付）'!$A:$A,0),MATCH(S$11,'[1]12日_公式練習②-結果表（貼付）'!$1:$1,0)),"")=0,"",IFERROR(INDEX('[1]12日_公式練習②-結果表（貼付）'!$A:$Z,MATCH($A31,'[1]12日_公式練習②-結果表（貼付）'!$A:$A,0),MATCH(S$11,'[1]12日_公式練習②-結果表（貼付）'!$1:$1,0)),""))
... A46: =IF(OR('[1]12日_公式練習②-結果表（貼付）'!A35="DNF",'[1]12日_公式練習②-結果表（貼付）'!A35="DNS",'[1]12日_公式練習②-結果表（貼付）'!A35="DQ"),'[1]12日_公式練習②-結果表（貼付）'!A35,IF(MAX('[1]12日_公式練習②-結果表（貼付）'!$A:$A)>A45,A45+1,"")) | B46: =IFERROR(INDEX('[1]12日_公式練習②-結果表（貼付）'!A35:$Z$50,MATCH($A46,'[1]12日_公式練習②-結果表（貼付）'!A35:$A$50,0),MATCH('12日_公式練習②-結果表'!B$11,'[1]12日_公式練習②-結果表（貼付）'!$1:$1,0)),"") | D46: =IFERROR(INDEX('[1]12日_公式練習②-結果表（貼付）'!$A:$Z,MATCH($B46,'[1]12日_公式練習②-結果表（貼付）'!$B:$B,0),MATCH('12日_公式練習②-結果表'!D$11,'[1]12日_公式練習②-結果表（貼付）'!$1:$1,0)),"") | E46: =IFERROR(INDEX('[1]12日_公式練習②-結果表（貼付）'!$A:$Z,MATCH($B46,'[1]12日_公式練習②-結果表（貼付）'!$B:$B,0),MATCH('12日_公式練習②-結果表'!E$11,'[1]12日_公式練習②-結果表（貼付）'!$1:$1,0)),"") | F46: =IFERROR(INDEX('[1]12日_公式練習②-結果表（貼付）'!$A:$Z,MATCH($B46,'[1]12日_公式練習②-結果表（貼付）'!$B:$B,0),MATCH('12日_公式練習②-結果表'!F$11,'[1]12日_公式練習②-結果表（貼付）'!$1:$1,0)),"") | G46: =IFERROR(INDEX('[1]12日_公式練習②-結果表（貼付）'!$A:$Z,MATCH($B46,'[1]12日_公式練習②-結果表（貼付）'!$B:$B,0),MATCH('12日_公式練習②-結果表'!G$11,'[1]12日_公式練習②-結果表（貼付）'!$1:$1,0)),"") | H46: =IF(A46="DNS","ｽﾀｰﾄ出来ず",IF(A46="DQ","失 格",IFERROR(INDEX('[1]12日_公式練習②-結果表（貼付）'!$A:$Z,MATCH($B46,'[1]12日_公式練習②-結果表（貼付）'!$B:$B,0),MATCH('12日_公式練習②-結果表'!H$11,'[1]12日_公式練習②-結果表（貼付）'!$1:$1,0)),""))) | I46: =IF(H46<1,"",IF($I$11>H46,"R","")) | J46: =IF(A46="DNS","",IF(A46="DQ","",IFERROR(INDEX('[1]12日_公式練習②-結果表（貼付）'!$A:$Z,MATCH($B46,'[1]12日_公式練習②-結果表（貼付）'!$B:$B,0),MATCH('12日_公式練習②-結果表'!J$11,'[1]12日_公式練習②-結果表（貼付）'!$1:$1,0)),""))) | K46: =IF(A46="DNS","",IF(A46="DQ","",IFERROR(INDEX('[1]12日_公式練習②-結果表（貼付）'!$A:$Z,MATCH($B46,'[1]12日_公式練習②-結果表（貼付）'!$B:$B,0),MATCH('12日_公式練習②-結果表'!K$11,'[1]12日_公式練習②-結果表（貼付）'!$1:$1,0)),""))) | L46: =IF(A46="DNS","",IF(A46="DQ","",IFERROR(INDEX('[1]12日_公式練習②-結果表（貼付）'!$A:$Z,MATCH($B46,'[1]12日_公式練習②-結果表（貼付）'!$B:$B,0),MATCH("In Lap",'[1]12日_公式練習②-結果表（貼付）'!$1:$1,0))&"/"&INDEX('[1]12日_公式練習②-結果表（貼付）'!$A:$Z,MATCH($B46,'[1]12日_公式練習②-結果表（貼付）'!$B:$B,0),MATCH("Laps",'[1]12日_公式練習②-結果表（貼付）'!$1:$1,0)),""))) | P46: =IF(IFERROR(INDEX('[1]12日_公式練習②-結果表（貼付）'!$A:$Z,MATCH($B46,'[1]12日_公式練習②-結果表（貼付）'!$B:$B,0),MATCH(P$11,'[1]12日_公式練習②-結果表（貼付）'!$1:$1,0)),"")=0,"",IFERROR(INDEX('[1]12日_公式練習②-結果表（貼付）'!$A:$Z,MATCH($B46,'[1]12日_公式練習②-結果表（貼付）'!$B:$B,0),MATCH(P$11,'[1]12日_公式練習②-結果表（貼付）'!$1:$1,0)),"")) | Q46: =IF(P46="","",COUNTIF($P$13:P46,"<>"&"")) | R46: =IFERROR(RANK(Q46,$Q$13:$Q$46,1),"") | S46: =IF(IFERROR(INDEX('[1]12日_公式練習②-結果表（貼付）'!$A:$Z,MATCH($A46,'[1]12日_公式練習②-結果表（貼付）'!$A:$A,0),MATCH(S$11,'[1]12日_公式練習②-結果表（貼付）'!$1:$1,0)),"")=0,"",IFERROR(INDEX('[1]12日_公式練習②-結果表（貼付）'!$A:$Z,MATCH($A46,'[1]12日_公式練習②-結果表（貼付）'!$A:$A,0),MATCH(S$11,'[1]12日_公式練習②-結果表（貼付）'!$1:$1,0)),""))
A49: =IF(COUNTIF(I:I,"R")>=1,"R マークの車は、コースレコードを更新しました。従来のレコードタイムは"&" "&TEXT(ROUND($I$11,3),"[<1]m'ss.000;##0.000"),"")
A52: =IF(A53="","","ﾍﾟﾅﾙﾃｨ")
A53: =IF(MAX(Q13:Q46)<1,"",1) | B53: =IF(A53="","","No."&INDEX($A$11:$Y$46,MATCH($A53,$R$11:$R$46,0),MATCH("No.",$11:$11,0))) | C53: =INDEX($A$11:$Y$46,MATCH($A53,$R$11:$R$46,0),MATCH("コメント",$11:$11,0))
A54: =IF(A53<COUNTIF($R$12:$R$46,">"&0),A53+1,"") | B54: =IF(A54="","","No."&INDEX($A$11:$Y$46,MATCH($A54,$R$11:$R$46,0),MATCH("No.",$11:$11,0))) | C54: =INDEX($A$11:$Y$46,MATCH($A54,$R$11:$R$46,0),MATCH("コメント",$11:$11,0))
A55: =IF(A54<COUNTIF($R$12:$R$46,">"&0),A54+1,"") | B55: =IF(A55="","","No."&INDEX($A$11:$Y$46,MATCH($A55,$R$11:$R$46,0),MATCH("No.",$11:$11,0))) | C55: =INDEX($A$11:$Y$46,MATCH($A55,$R$11:$R$46,0),MATCH("コメント",$11:$11,0))
A56: =IF(A55<COUNTIF($R$12:$R$46,">"&0),A55+1,"") | B56: =IF(A56="","","No."&INDEX($A$11:$Y$46,MATCH($A56,$R$11:$R$46,0),MATCH("No.",$11:$11,0))) | C56: =INDEX($A$11:$Y$46,MATCH($A56,$R$11:$R$46,0),MATCH("コメント",$11:$11,0))
A57: =IF(A56<COUNTIF($R$12:$R$46,">"&0),A56+1,"") | B57: =IF(A57="","","No."&INDEX($A$11:$Y$46,MATCH($A57,$R$11:$R$46,0),MATCH("No.",$11:$11,0))) | C57: =INDEX($A$11:$Y$46,MATCH($A57,$R$11:$R$46,0),MATCH("コメント",$11:$11,0))
A58: =IF(A57<COUNTIF($R$12:$R$46,">"&0),A57+1,"") | B58: =IF(A58="","","No."&INDEX($A$11:$Y$46,MATCH($A58,$R$11:$R$46,0),MATCH("No.",$11:$11,0))) | C58: =INDEX($A$11:$Y$46,MATCH($A58,$R$11:$R$46,0),MATCH("コメント",$11:$11,0))
A59: =IF(A58<COUNTIF($R$12:$R$46,">"&0),A58+1,"") | B59: =IF(A59="","","No."&INDEX($A$11:$Y$46,MATCH($A59,$R$11:$R$46,0),MATCH("No.",$11:$11,0))) | C59: =INDEX($A$11:$Y$46,MATCH($A59,$R$11:$R$46,0),MATCH("コメント",$11:$11,0))
A60: =IF(A59<COUNTIF($R$12:$R$46,">"&0),A59+1,"") | B60: =IF(A60="","","No."&INDEX($A$11:$Y$46,MATCH($A60,$R$11:$R$46,0),MATCH("No.",$11:$11,0))) | C60: =INDEX($A$11:$Y$46,MATCH($A60,$R$11:$R$46,0),MATCH("コメント",$11:$11,0))
A61: =IF(A60<COUNTIF($R$12:$R$46,">"&0),A60+1,"") | B61: =IF(A61="","","No."&INDEX($A$11:$Y$46,MATCH($A61,$R$11:$R$46,0),MATCH("No.",$11:$11,0))) | C61: =INDEX($A$11:$Y$46,MATCH($A61,$R$11:$R$46,0),MATCH("コメント",$11:$11,0))
A62: =IF(A61<COUNTIF($R$12:$R$46,">"&0),A61+1,"") | B62: =IF(A62="","","No."&INDEX($A$11:$Y$46,MATCH($A62,$R$11:$R$46,0),MATCH("No.",$11:$11,0))) | C62: =INDEX($A$11:$Y$46,MATCH($A62,$R$11:$R$46,0),MATCH("コメント",$11:$11,0))
A63: =IF(A62<COUNTIF($R$12:$R$46,">"&0),A62+1,"") | B63: =IF(A63="","","No."&INDEX($A$11:$Y$46,MATCH($A63,$R$11:$R$46,0),MATCH("No.",$11:$11,0))) | C63: =INDEX($A$11:$Y$46,MATCH($A63,$R$11:$R$46,0),MATCH("コメント",$11:$11,0))
B64: ="審査委員長 ："&" "&[1]各種設定!$D$20 -> 審査委員長 ： Makoto SAITO | F64: ="競技委員長 ："&" "&[1]各種設定!$D$22 -> 競技委員長 ： Toshiaki KUBOTA | I64: ="計時委員長 ："&" "&[1]各種設定!$D$24 -> 計時委員長 ： Tsutomu HAYAKAWA

Sheet 13日_公式練習①-結果表
J6: 44878 | L6: :
A7: =+[1]各種設定!D2 -> 2022年 全日本カート選手権 FS-125/FP-3部門 東西統一競技会 | J7: WEATHER: | K7: Cloudy
J8: COURSE : | K8: Dry
A9: =+[1]各種設定!D4 -> FP-3 | J9: 南コース 1.264Km
A10: ① Ｇｒ.公式練習（11/13）結果表
B11: No. | C11: クラス | D11: 名前 | E11: Model/Engine | F11: Team | G11: Tires | H11: BestLap | I11: =VLOOKUP(A9,[1]コースレコード!$A:$G,3,FALSE) -> 55.037 | J11: 差 | K11: GAP | P11: コメント | R11: ペナルティNo. | S11: グリッドコメント
A12: Pos. | B12: No. | D12: Driver | E12: Type | F12: Team | G12: Tire | H12: Time | J12: Delay | K12: Gap | L12: Lap
A13: 1 | B13: =IFERROR(INDEX('[1]13日_公式練習①-結果表（貼付）'!A2:$Z$50,MATCH($A13,'[1]13日_公式練習①-結果表（貼付）'!A2:$A$50,0),MATCH('13日_公式練習①-結果表'!B$11,'[1]13日_公式練習①-結果表（貼付）'!$1:$1,0)),"") -> 15 | D13: =IFERROR(INDEX('[1]13日_公式練習①-結果表（貼付）'!$A:$Z,MATCH($B13,'[1]13日_公式練習①-結果表（貼付）'!$B:$B,0),MATCH('13日_公式練習①-結果表'!D$11,'[1]13日_公式練習①-結果表（貼付）'!$1:$1,0)),"") -> 髙田 陽大 | E13: =IFERROR(INDEX('[1]13日_公式練習①-結果表（貼付）'!$A:$Z,MATCH($B13,'[1]13日_公式練習①-結果表（貼付）'!$B:$B,0),MATCH('13日_公式練習①-結果表'!E$11,'[1]13日_公式練習①-結果表（貼付）'!$1:$1,0)),"") -> Birel ART/YAMAHA | F13: =IFERROR(INDEX('[1]13日_公式練習①-結果表（貼付）'!$A:$Z,MATCH($B13,'[1]13日_公式練習①-結果表（貼付）'!$B:$B,0),MATCH('13日_公式練習①-結果表'!F$11,'[1]13日_公式練習①-結果表（貼付）'!$1:$1,0)),"") -> Super Racing Junkie! | G13: =IFERROR(INDEX('[1]13日_公式練習①-結果表（貼付）'!$A:$Z,MATCH($B13,'[1]13日_公式練習①-結果表（貼付）'!$B:$B,0),MATCH('13日_公式練習①-結果表'!G$11,'[1]13日_公式練習①-結果表（貼付）'!$1:$1,0)),"") -> BS | H13: =IFERROR(INDEX('[1]13日_公式練習①-結果表（貼付）'!$A:$Z,MATCH($B13,'[1]13日_公式練習①-結果表（貼付）'!$B:$B,0),MATCH('13日_公式練習①-結果表'!H$11,'[1]13日_公式練習①-結果表（貼付）'!$1:$1,0)),"") -> 54.776 | J13: =ROUND(INDEX('[1]13日_公式練習①-結果表（貼付）'!$A:$Z,MATCH($B13,'[1]13日_公式練習①-結果表（貼付）'!$B:$B,0),MATCH("ベスト平均時速",'[1]13日_公式練習①-結果表（貼付）'!$1:$1,0)),2)&"km/h" -> 83.07km/h | L13: =IF(A13="DNS","",IF(A13="DQ","",IFERROR(INDEX('[1]13日_公式練習①-結果表（貼付）'!$A:$Z,MATCH($B13,'[1]13日_公式練習①-結果表（貼付）'!$B:$B,0),MATCH("In Lap",'[1]13日_公式練習①-結果表（貼付）'!$1:$1,0))&"/"&INDEX('[1]13日_公式練習①-結果表（貼付）'!$A:$Z,MATCH($B13,'[1]13日_公式練習①-結果表（貼付）'!$B:$B,0),MATCH("Laps",'[1]13日_公式練習①-結果表（貼付）'!$1:$1,0)),""))) -> 10/10 | P13: =IF(IFERROR(INDEX('[1]13日_公式練習①-結果表（貼付）'!$A:$Z,MATCH($B13,'[1]13日_公式練習①-結果表（貼付）'!$B:$B,0),MATCH(P$11,'[1]13日_公式練習①-結果表（貼付）'!$1:$1,0)),"")=0,"",IFERROR(INDEX('[1]13日_公式練習①-結果表（貼付）'!$A:$Z,MATCH($B13,'[1]13日_公式練習①-結果表（貼付）'!$B:$B,0),MATCH(P$11,'[1]13日_公式練習①-結果表（貼付）'!$1:$1,0)),"")) | Q13: =IF(P13="","",COUNTIF($P$13:P13,"<>"&"")) | R13: =IFERROR(RANK(Q13,$Q$13:$Q$46,1),"") | S13: =IF(IFERROR(INDEX('[1]13日_公式練習①-結果表（貼付）'!$A:$Z,MATCH($A13,'[1]13日_公式練習①-結果表（貼付）'!$A:$A,0),MATCH(S$11,'[1]13日_公式練習①-結果表（貼付）'!$1:$1,0)),"")=0,"",IFERROR(INDEX('[1]13日_公式練習①-結果表（貼付）'!$A:$Z,MATCH($A13,'[1]13日_公式練習①-結果表（貼付）'!$A:$A,0),MATCH(S$11,'[1]13日_公式練習①-結果表（貼付）'!$1:$1,0)),""))
A14: =IF(OR('[1]13日_公式練習①-結果表（貼付）'!A3="DNF",'[1]13日_公式練習①-結果表（貼付）'!A3="DNS",'[1]13日_公式練習①-結果表（貼付）'!A3="DQ"),'[1]13日_公式練習①-結果表（貼付）'!A3,IF(MAX('[1]13日_公式練習①-結果表（貼付）'!$A:$A)>A13,A13+1,"")) -> 2 | B14: =IFERROR(INDEX('[1]13日_公式練習①-結果表（貼付）'!A3:$Z$50,MATCH($A14,'[1]13日_公式練習①-結果表（貼付）'!A3:$A$50,0),MATCH('13日_公式練習①-結果表'!B$11,'[1]13日_公式練習①-結果表（貼付）'!$1:$1,0)),"") -> 47 | D14: =IFERROR(INDEX('[1]13日_公式練習①-結果表（貼付）'!$A:$Z,MATCH($B14,'[1]13日_公式練習①-結果表（貼付）'!$B:$B,0),MATCH('13日_公式練習①-結果表'!D$11,'[1]13日_公式練習①-結果表（貼付）'!$1:$1,0)),"") -> 大島 良介 | E14: =IFERROR(INDEX('[1]13日_公式練習①-結果表（貼付）'!$A:$Z,MATCH($B14,'[1]13日_公式練習①-結果表（貼付）'!$B:$B,0),MATCH('13日_公式練習①-結果表'!E$11,'[1]13日_公式練習①-結果表（貼付）'!$1:$1,0)),"") -> TONY KART/YAMAHA | F14: =IFERROR(INDEX('[1]13日_公式練習①-結果表（貼付）'!$A:$Z,MATCH($B14,'[1]13日_公式練習①-結果表（貼付）'!$B:$B,0),MATCH('13日_公式練習①-結果表'!F$11,'[1]13日_公式練習①-結果表（貼付）'!$1:$1,0)),"") -> RS-1 | G14: =IFERROR(INDEX('[1]13日_公式練習①-結果表（貼付）'!$A:$Z,MATCH($B14,'[1]13日_公式練習①-結果表（貼付）'!$B:$B,0),MATCH('13日_公式練習①-結果表'!G$11,'[1]13日_公式練習①-結果表（貼付）'!$1:$1,0)),"") -> BS | H14: =IF(A14="DNS","ｽﾀｰﾄ出来ず",IF(A14="DQ","失 格",IFERROR(INDEX('[1]13日_公式練習①-結果表（貼付）'!$A:$Z,MATCH($B14,'[1]13日_公式練習①-結果表（貼付）'!$B:$B,0),MATCH('13日_公式練習①-結果表'!H$11,'[1]13日_公式練習①-結果表（貼付）'!$1:$1,0)),""))) -> 54.906 | J14: =IF(A14="DNS","",IF(A14="DQ","",IFERROR(INDEX('[1]13日_公式練習①-結果表（貼付）'!$A:$Z,MATCH($B14,'[1]13日_公式練習①-結果表（貼付）'!$B:$B,0),MATCH('13日_公式練習①-結果表'!J$11,'[1]13日_公式練習①-結果表（貼付）'!$1:$1,0)),""))) -> 0.13 | K14: =IF(A14="DNS","",IF(A14="DQ","",IFERROR(INDEX('[1]13日_公式練習①-結果表（貼付）'!$A:$Z,MATCH($B14,'[1]13日_公式練習①-結果表（貼付）'!$B:$B,0),MATCH('13日_公式練習①-結果表'!K$11,'[1]13日_公式練習①-結果表（貼付）'!$1:$1,0)),""))) -> 0.13 | L14: =IF(A14="DNS","",IF(A14="DQ","",IFERROR(INDEX('[1]13日_公式練習①-結果表（貼付）'!$A:$Z,MATCH($B14,'[1]13日_公式練習①-結果表（貼付）'!$B:$B,0),MATCH("In Lap",'[1]13日_公式練習①-結果表（貼付）'!$1:$1,0))&"/"&INDEX('[1]13日_公式練習①-結果表（貼付）'!$A:$Z,MATCH($B14,'[1]13日_公式練習①-結果表（貼付）'!$B:$B,0),MATCH("Laps",'[1]13日_公式練習①-結果表（貼付）'!$1:$1,0)),""))) -> 4/8 | P14: =IF(IFERROR(INDEX('[1]13日_公式練習①-結果表（貼付）'!$A:$Z,MATCH($B14,'[1]13日_公式練習①-結果表（貼付）'!$B:$B,0),MATCH(P$11,'[1]13日_公式練習①-結果表（貼付）'!$1:$1,0)),"")=0,"",IFERROR(INDEX('[1]13日_公式練習①-結果表（貼付）'!$A:$Z,MATCH($B14,'[1]13日_公式練習①-結果表（貼付）'!$B:$B,0),MATCH(P$11,'[1]13日_公式練習①-結果表（貼付）'!$1:$1,0)),"")) | Q14: =IF(P14="","",COUNTIF($P$13:P14,"<>"&"")) | R14: =IFERROR(RANK(Q14,$Q$13:$Q$46,1),"") | S14: =IF(IFERROR(INDEX('[1]13日_公式練習①-結果表（貼付）'!$A:$Z,MATCH($A14,'[1]13日_公式練習①-結果表（貼付）'!$A:$A,0),MATCH(S$11,'[1]13日_公式練習①-結果表（貼付）'!$1:$1,0)),"")=0,"",IFERROR(INDEX('[1]13日_公式練習①-結果表（貼付）'!$A:$Z,MATCH($A14,'[1]13日_公式練習①-結果表（貼付）'!$A:$A,0),MATCH(S$11,'[1]13日_公式練習①-結果表（貼付）'!$1:$1,0)),""))
A15: =IF(OR('[1]13日_公式練習①-結果表（貼付）'!A4="DNF",'[1]13日_公式練習①-結果表（貼付）'!A4="DNS",'[1]13日_公式練習①-結果表（貼付）'!A4="DQ"),'[1]13日_公式練習①-結果表（貼付）'!A4,IF(MAX('[1]13日_公式練習①-結果表（貼付）'!$A:$A)>A14,A14+1,"")) -> 3 | B15: =IFERROR(INDEX('[1]13日_公式練習①-結果表（貼付）'!A4:$Z$50,MATCH($A15,'[1]13日_公式練習①-結果表（貼付）'!A4:$A$50,0),MATCH('13日_公式練習①-結果表'!B$11,'[1]13日_公式練習①-結果表（貼付）'!$1:$1,0)),"") -> 18 | D15: =IFERROR(INDEX('[1]13日_公式練習①-結果表（貼付）'!$A:$Z,MATCH($B15,'[1]13日_公式練習①-結果表（貼付）'!$B:$B,0),MATCH('13日_公式練習①-結果表'!D$11,'[1]13日_公式練習①-結果表（貼付）'!$1:$1,0)),"") -> 吉田 広樹 | E15: =IFERROR(INDEX('[1]13日_公式練習①-結果表（貼付）'!$A:$Z,MATCH($B15,'[1]13日_公式練習①-結果表（貼付）'!$B:$B,0),MATCH('13日_公式練習①-結果表'!E$11,'[1]13日_公式練習①-結果表（貼付）'!$1:$1,0)),"") -> Birel ART/YAMAHA | F15: =IFERROR(INDEX('[1]13日_公式練習①-結果表（貼付）'!$A:$Z,MATCH($B15,'[1]13日_公式練習①-結果表（貼付）'!$B:$B,0),MATCH('13日_公式練習①-結果表'!F$11,'[1]13日_公式練習①-結果表（貼付）'!$1:$1,0)),"") -> のりものクラブエッフェガーラ | G15: =IFERROR(INDEX('[1]13日_公式練習①-結果表（貼付）'!$A:$Z,MATCH($B15,'[1]13日_公式練習①-結果表（貼付）'!$B:$B,0),MATCH('13日_公式練習①-結果表'!G$11,'[1]13日_公式練習①-結果表（貼付）'!$1:$1,0)),"") -> BS | H15: =IF(A15="DNS","ｽﾀｰﾄ出来ず",IF(A15="DQ","失 格",IFERROR(INDEX('[1]13日_公式練習①-結果表（貼付）'!$A:$Z,MATCH($B15,'[1]13日_公式練習①-結果表（貼付）'!$B:$B,0),MATCH('13日_公式練習①-結果表'!H$11,'[1]13日_公式練習①-結果表（貼付）'!$1:$1,0)),""))) -> 54.966 | J15: =IF(A15="DNS","",IF(A15="DQ","",IFERROR(INDEX('[1]13日_公式練習①-結果表（貼付）'!$A:$Z,MATCH($B15,'[1]13日_公式練習①-結果表（貼付）'!$B:$B,0),MATCH('13日_公式練習①-結果表'!J$11,'[1]13日_公式練習①-結果表（貼付）'!$1:$1,0)),""))) -> 0.19 | K15: =IF(A15="DNS","",IF(A15="DQ","",IFERROR(INDEX('[1]13日_公式練習①-結果表（貼付）'!$A:$Z,MATCH($B15,'[1]13日_公式練習①-結果表（貼付）'!$B:$B,0),MATCH('13日_公式練習①-結果表'!K$11,'[1]13日_公式練習①-結果表（貼付）'!$1:$1,0)),""))) -> 0.06 | L15: =IF(A15="DNS","",IF(A15="DQ","",IFERROR(INDEX('[1]13日_公式練習①-結果表（貼付）'!$A:$Z,MATCH($B15,'[1]13日_公式練習①-結果表（貼付）'!$B:$B,0),MATCH("In Lap",'[1]13日_公式練習①-結果表（貼付）'!$1:$1,0))&"/"&INDEX('[1]13日_公式練習①-結果表（貼付）'!$A:$Z,MATCH($B15,'[1]13日_公式練習①-結果表（貼付）'!$B:$B,0),MATCH("Laps",'[1]13日_公式練習①-結果表（貼付）'!$1:$1,0)),""))) -> 4/10 | P15: =IF(IFERROR(INDEX('[1]13日_公式練習①-結果表（貼付）'!$A:$Z,MATCH($B15,'[1]13日_公式練習①-結果表（貼付）'!$B:$B,0),MATCH(P$11,'[1]13日_公式練習①-結果表（貼付）'!$1:$1,0)),"")=0,"",IFERROR(INDEX('[1]13日_公式練習①-結果表（貼付）'!$A:$Z,MATCH($B15,'[1]13日_公式練習①-結果表（貼付）'!$B:$B,0),MATCH(P$11,'[1]13日_公式練習①-結果表（貼付）'!$1:$1,0)),"")) | Q15: =IF(P15="","",COUNTIF($P$13:P15,"<>"&"")) | R15: =IFERROR(RANK(Q15,$Q$13:$Q$46,1),"") | S15: =IF(IFERROR(INDEX('[1]13日_公式練習①-結果表（貼付）'!$A:$Z,MATCH($A15,'[1]13日_公式練習①-結果表（貼付）'!$A:$A,0),MATCH(S$11,'[1]13日_公式練習①-結果表（貼付）'!$1:$1,0)),"")=0,"",IFERROR(INDEX('[1]13日_公式練習①-結果表（貼付）'!$A:$Z,MATCH($A15,'[1]13日_公式練習①-結果表（貼付）'!$A:$A,0),MATCH(S$11,'[1]13日_公式練習①-結果表（貼付）'!$1:$1,0)),""))
A16: =IF(OR('[1]13日_公式練習①-結果表（貼付）'!A5="DNF",'[1]13日_公式練習①-結果表（貼付）'!A5="DNS",'[1]13日_公式練習①-結果表（貼付）'!A5="DQ"),'[1]13日_公式練習①-結果表（貼付）'!A5,IF(MAX('[1]13日_公式練習①-結果表（貼付）'!$A:$A)>A15,A15+1,"")) -> 4 | B16: =IFERROR(INDEX('[1]13日_公式練習①-結果表（貼付）'!A5:$Z$50,MATCH($A16,'[1]13日_公式練習①-結果表（貼付）'!A5:$A$50,0),MATCH('13日_公式練習①-結果表'!B$11,'[1]13日_公式練習①-結果表（貼付）'!$1:$1,0)),"") -> 30 | D16: =IFERROR(INDEX('[1]13日_公式練習①-結果表（貼付）'!$A:$Z,MATCH($B16,'[1]13日_公式練習①-結果表（貼付）'!$B:$B,0),MATCH('13日_公式練習①-結果表'!D$11,'[1]13日_公式練習①-結果表（貼付）'!$1:$1,0)),"") -> 久富 圭 | E16: =IFERROR(INDEX('[1]13日_公式練習①-結果表（貼付）'!$A:$Z,MATCH($B16,'[1]13日_公式練習①-結果表（貼付）'!$B:$B,0),MATCH('13日_公式練習①-結果表'!E$11,'[1]13日_公式練習①-結果表（貼付）'!$1:$1,0)),"") -> TONY KART/YAMAHA | F16: =IFERROR(INDEX('[1]13日_公式練習①-結果表（貼付）'!$A:$Z,MATCH($B16,'[1]13日_公式練習①-結果表（貼付）'!$B:$B,0),MATCH('13日_公式練習①-結果表'!F$11,'[1]13日_公式練習①-結果表（貼付）'!$1:$1,0)),"") -> Formula Blue Ash | G16: =IFERROR(INDEX('[1]13日_公式練習①-結果表（貼付）'!$A:$Z,MATCH($B16,'[1]13日_公式練習①-結果表（貼付）'!$B:$B,0),MATCH('13日_公式練習①-結果表'!G$11,'[1]13日_公式練習①-結果表（貼付）'!$1:$1,0)),"") -> BS | H16: =IF(A16="DNS","ｽﾀｰﾄ出来ず",IF(A16="DQ","失 格",IFERROR(INDEX('[1]13日_公式練習①-結果表（貼付）'!$A:$Z,MATCH($B16,'[1]13日_公式練習①-結果表（貼付）'!$B:$B,0),MATCH('13日_公式練習①-結果表'!H$11,'[1]13日_公式練習①-結果表（貼付）'!$1:$1,0)),""))) -> 54.97 | J16: =IF(A16="DNS","",IF(A16="DQ","",IFERROR(INDEX('[1]13日_公式練習①-結果表（貼付）'!$A:$Z,MATCH($B16,'[1]13日_公式練習①-結果表（貼付）'!$B:$B,0),MATCH('13日_公式練習①-結果表'!J$11,'[1]13日_公式練習①-結果表（貼付）'!$1:$1,0)),""))) -> 0.194 | K16: =IF(A16="DNS","",IF(A16="DQ","",IFERROR(INDEX('[1]13日_公式練習①-結果表（貼付）'!$A:$Z,MATCH($B16,'[1]13日_公式練習①-結果表（貼付）'!$B:$B,0),MATCH('13日_公式練習①-結果表'!K$11,'[1]13日_公式練習①-結果表（貼付）'!$1:$1,0)),""))) -> 0.004 | L16: =IF(A16="DNS","",IF(A16="DQ","",IFERROR(INDEX('[1]13日_公式練習①-結果表（貼付）'!$A:$Z,MATCH($B16,'[1]13日_公式練習①-結果表（貼付）'!$B:$B,0),MATCH("In Lap",'[1]13日_公式練習①-結果表（貼付）'!$1:$1,0))&"/"&INDEX('[1]13日_公式練習①-結果表（貼付）'!$A:$Z,MATCH($B16,'[1]13日_公式練習①-結果表（貼付）'!$B:$B,0),MATCH("Laps",'[1]13日_公式練習①-結果表（貼付）'!$1:$1,0)),""))) -> 8/10 | P16: =IF(IFERROR(INDEX('[1]13日_公式練習①-結果表（貼付）'!$A:$Z,MATCH($B16,'[1]13日_公式練習①-結果表（貼付）'!$B:$B,0),MATCH(P$11,'[1]13日_公式練習①-結果表（貼付）'!$1:$1,0)),"")=0,"",IFERROR(INDEX('[1]13日_公式練習①-結果表（貼付）'!$A:$Z,MATCH($B16,'[1]13日_公式練習①-結果表（貼付）'!$B:$B,0),MATCH(P$11,'[1]13日_公式練習①-結果表（貼付）'!$1:$1,0)),"")) | Q16: =IF(P16="","",COUNTIF($P$13:P16,"<>"&"")) | R16: =IFERROR(RANK(Q16,$Q$13:$Q$46,1),"") | S16: =IF(IFERROR(INDEX('[1]13日_公式練習①-結果表（貼付）'!$A:$Z,MATCH($A16,'[1]13日_公式練習①-結果表（貼付）'!$A:$A,0),MATCH(S$11,'[1]13日_公式練習①-結果表（貼付）'!$1:$1,0)),"")=0,"",IFERROR(INDEX('[1]13日_公式練習①-結果表（貼付）'!$A:$Z,MATCH($A16,'[1]13日_公式練習①-結果表（貼付）'!$A:$A,0),MATCH(S$11,'[1]13日_公式練習①-結果表（貼付）'!$1:$1,0)),""))
A17: =IF(OR('[1]13日_公式練習①-結果表（貼付）'!A6="DNF",'[1]13日_公式練習①-結果表（貼付）'!A6="DNS",'[1]13日_公式練習①-結果表（貼付）'!A6="DQ"),'[1]13日_公式練習①-結果表（貼付）'!A6,IF(MAX('[1]13日_公式練習①-結果表（貼付）'!$A:$A)>A16,A16+1,"")) -> 5 | B17: =IFERROR(INDEX('[1]13日_公式練習①-結果表（貼付）'!A6:$Z$50,MATCH($A17,'[1]13日_公式練習①-結果表（貼付）'!A6:$A$50,0),MATCH('13日_公式練習①-結果表'!B$11,'[1]13日_公式練習①-結果表（貼付）'!$1:$1,0)),"") -> 51 | D17: =IFERROR(INDEX('[1]13日_公式練習①-結果表（貼付）'!$A:$Z,MATCH($B17,'[1]13日_公式練習①-結果表（貼付）'!$B:$B,0),MATCH('13日_公式練習①-結果表'!D$11,'[1]13日_公式練習①-結果表（貼付）'!$1:$1,0)),"") -> 宮﨑 琉 | E17: =IFERROR(INDEX('[1]13日_公式練習①-結果表（貼付）'!$A:$Z,MATCH($B17,'[1]13日_公式練習①-結果表（貼付）'!$B:$B,0),MATCH('13日_公式練習①-結果表'!E$11,'[1]13日_公式練習①-結果表（貼付）'!$1:$1,0)),"") -> Birel ART/YAMAHA | F17: =IFERROR(INDEX('[1]13日_公式練習①-結果表（貼付）'!$A:$Z,MATCH($B17,'[1]13日_公式練習①-結果表（貼付）'!$B:$B,0),MATCH('13日_公式練習①-結果表'!F$11,'[1]13日_公式練習①-結果表（貼付）'!$1:$1,0)),"") -> ASTECH | G17: =IFERROR(INDEX('[1]13日_公式練習①-結果表（貼付）'!$A:$Z,MATCH($B17,'[1]13日_公式練習①-結果表（貼付）'!$B:$B,0),MATCH('13日_公式練習①-結果表'!G$11,'[1]13日_公式練習①-結果表（貼付）'!$1:$1,0)),"") -> BS | H17: =IF(A17="DNS","ｽﾀｰﾄ出来ず",IF(A17="DQ","失 格",IFERROR(INDEX('[1]13日_公式練習①-結果表（貼付）'!$A:$Z,MATCH($B17,'[1]13日_公式練習①-結果表（貼付）'!$B:$B,0),MATCH('13日_公式練習①-結果表'!H$11,'[1]13日_公式練習①-結果表（貼付）'!$1:$1,0)),""))) -> 54.99 | J17: =IF(A17="DNS","",IF(A17="DQ","",IFERROR(INDEX('[1]13日_公式練習①-結果表（貼付）'!$A:$Z,MATCH($B17,'[1]13日_公式練習①-結果表（貼付）'!$B:$B,0),MATCH('13日_公式練習①-結果表'!J$11,'[1]13日_公式練習①-結果表（貼付）'!$1:$1,0)),""))) -> 0.214 | K17: =IF(A17="DNS","",IF(A17="DQ","",IFERROR(INDEX('[1]13日_公式練習①-結果表（貼付）'!$A:$Z,MATCH($B17,'[1]13日_公式練習①-結果表（貼付）'!$B:$B,0),MATCH('13日_公式練習①-結果表'!K$11,'[1]13日_公式練習①-結果表（貼付）'!$1:$1,0)),""))) -> 0.02 | L17: =IF(A17="DNS","",IF(A17="DQ","",IFERROR(INDEX('[1]13日_公式練習①-結果表（貼付）'!$A:$Z,MATCH($B17,'[1]13日_公式練習①-結果表（貼付）'!$B:$B,0),MATCH("In Lap",'[1]13日_公式練習①-結果表（貼付）'!$1:$1,0))&"/"&INDEX('[1]13日_公式練習①-結果表（貼付）'!$A:$Z,MATCH($B17,'[1]13日_公式練習①-結果表（貼付）'!$B:$B,0),MATCH("Laps",'[1]13日_公式練習①-結果表（貼付）'!$1:$1,0)),""))) -> 7/10 | P17: =IF(IFERROR(INDEX('[1]13日_公式練習①-結果表（貼付）'!$A:$Z,MATCH($B17,'[1]13日_公式練習①-結果表（貼付）'!$B:$B,0),MATCH(P$11,'[1]13日_公式練習①-結果表（貼付）'!$1:$1,0)),"")=0,"",IFERROR(INDEX('[1]13日_公式練習①-結果表（貼付）'!$A:$Z,MATCH($B17,'[1]13日_公式練習①-結果表（貼付）'!$B:$B,0),MATCH(P$11,'[1]13日_公式練習①-結果表（貼付）'!$1:$1,0)),"")) | Q17: =IF(P17="","",COUNTIF($P$13:P17,"<>"&"")) | R17: =IFERROR(RANK(Q17,$Q$13:$Q$46,1),"") | S17: =IF(IFERROR(INDEX('[1]13日_公式練習①-結果表（貼付）'!$A:$Z,MATCH($A17,'[1]13日_公式練習①-結果表（貼付）'!$A:$A,0),MATCH(S$11,'[1]13日_公式練習①-結果表（貼付）'!$1:$1,0)),"")=0,"",IFERROR(INDEX('[1]13日_公式練習①-結果表（貼付）'!$A:$Z,MATCH($A17,'[1]13日_公式練習①-結果表（貼付）'!$A:$A,0),MATCH(S$11,'[1]13日_公式練習①-結果表（貼付）'!$1:$1,0)),""))
A18: =IF(OR('[1]13日_公式練習①-結果表（貼付）'!A7="DNF",'[1]13日_公式練習①-結果表（貼付）'!A7="DNS",'[1]13日_公式練習①-結果表（貼付）'!A7="DQ"),'[1]13日_公式練習①-結果表（貼付）'!A7,IF(MAX('[1]13日_公式練習①-結果表（貼付）'!$A:$A)>A17,A17+1,"")) -> 6 | B18: =IFERROR(INDEX('[1]13日_公式練習①-結果表（貼付）'!A7:$Z$50,MATCH($A18,'[1]13日_公式練習①-結果表（貼付）'!A7:$A$50,0),MATCH('13日_公式練習①-結果表'!B$11,'[1]13日_公式練習①-結果表（貼付）'!$1:$1,0)),"") -> 25 | D18: =IFERROR(INDEX('[1]13日_公式練習①-結果表（貼付）'!$A:$Z,MATCH($B18,'[1]13日_公式練習①-結果表（貼付）'!$B:$B,0),MATCH('13日_公式練習①-結果表'!D$11,'[1]13日_公式練習①-結果表（貼付）'!$1:$1,0)),"") -> 鈴木 恵武 | E18: =IFERROR(INDEX('[1]13日_公式練習①-結果表（貼付）'!$A:$Z,MATCH($B18,'[1]13日_公式練習①-結果表（貼付）'!$B:$B,0),MATCH('13日_公式練習①-結果表'!E$11,'[1]13日_公式練習①-結果表（貼付）'!$1:$1,0)),"") -> KOSMIC/YAMAHA | F18: =IFERROR(INDEX('[1]13日_公式練習①-結果表（貼付）'!$A:$Z,MATCH($B18,'[1]13日_公式練習①-結果表（貼付）'!$B:$B,0),MATCH('13日_公式練習①-結果表'!F$11,'[1]13日_公式練習①-結果表（貼付）'!$1:$1,0)),"") -> Formula Blue 増田スピード | G18: =IFERROR(INDEX('[1]13日_公式練習①-結果表（貼付）'!$A:$Z,MATCH($B18,'[1]13日_公式練習①-結果表（貼付）'!$B:$B,0),MATCH('13日_公式練習①-結果表'!G$11,'[1]13日_公式練習①-結果表（貼付）'!$1:$1,0)),"") -> BS | H18: =IF(A18="DNS","ｽﾀｰﾄ出来ず",IF(A18="DQ","失 格",IFERROR(INDEX('[1]13日_公式練習①-結果表（貼付）'!$A:$Z,MATCH($B18,'[1]13日_公式練習①-結果表（貼付）'!$B:$B,0),MATCH('13日_公式練習①-結果表'!H$11,'[1]13日_公式練習①-結果表（貼付）'!$1:$1,0)),""))) -> 55.026 | J18: =IF(A18="DNS","",IF(A18="DQ","",IFERROR(INDEX('[1]13日_公式練習①-結果表（貼付）'!$A:$Z,MATCH($B18,'[1]13日_公式練習①-結果表（貼付）'!$B:$B,0),MATCH('13日_公式練習①-結果表'!J$11,'[1]13日_公式練習①-結果表（貼付）'!$1:$1,0)),""))) -> 0.25 | K18: =IF(A18="DNS","",IF(A18="DQ","",IFERROR(INDEX('[1]13日_公式練習①-結果表（貼付）'!$A:$Z,MATCH($B18,'[1]13日_公式練習①-結果表（貼付）'!$B:$B,0),MATCH('13日_公式練習①-結果表'!K$11,'[1]13日_公式練習①-結果表（貼付）'!$1:$1,0)),""))) -> 0.036 | L18: =IF(A18="DNS","",IF(A18="DQ","",IFERROR(INDEX('[1]13日_公式練習①-結果表（貼付）'!$A:$Z,MATCH($B18,'[1]13日_公式練習①-結果表（貼付）'!$B:$B,0),MATCH("In Lap",'[1]13日_公式練習①-結果表（貼付）'!$1:$1,0))&"/"&INDEX('[1]13日_公式練習①-結果表（貼付）'!$A:$Z,MATCH($B18,'[1]13日_公式練習①-結果表（貼付）'!$B:$B,0),MATCH("Laps",'[1]13日_公式練習①-結果表（貼付）'!$1:$1,0)),""))) -> 5/10 | P18: =IF(IFERROR(INDEX('[1]13日_公式練習①-結果表（貼付）'!$A:$Z,MATCH($B18,'[1]13日_公式練習①-結果表（貼付）'!$B:$B,0),MATCH(P$11,'[1]13日_公式練習①-結果表（貼付）'!$1:$1,0)),"")=0,"",IFERROR(INDEX('[1]13日_公式練習①-結果表（貼付）'!$A:$Z,MATCH($B18,'[1]13日_公式練習①-結果表（貼付）'!$B:$B,0),MATCH(P$11,'[1]13日_公式練習①-結果表（貼付）'!$1:$1,0)),"")) | Q18: =IF(P18="","",COUNTIF($P$13:P18,"<>"&"")) | R18: =IFERROR(RANK(Q18,$Q$13:$Q$46,1),"") | S18: =IF(IFERROR(INDEX('[1]13日_公式練習①-結果表（貼付）'!$A:$Z,MATCH($A18,'[1]13日_公式練習①-結果表（貼付）'!$A:$A,0),MATCH(S$11,'[1]13日_公式練習①-結果表（貼付）'!$1:$1,0)),"")=0,"",IFERROR(INDEX('[1]13日_公式練習①-結果表（貼付）'!$A:$Z,MATCH($A18,'[1]13日_公式練習①-結果表（貼付）'!$A:$A,0),MATCH(S$11,'[1]13日_公式練習①-結果表（貼付）'!$1:$1,0)),""))
A19: =IF(OR('[1]13日_公式練習①-結果表（貼付）'!A8="DNF",'[1]13日_公式練習①-結果表（貼付）'!A8="DNS",'[1]13日_公式練習①-結果表（貼付）'!A8="DQ"),'[1]13日_公式練習①-結果表（貼付）'!A8,IF(MAX('[1]13日_公式練習①-結果表（貼付）'!$A:$A)>A18,A18+1,"")) -> 7 | B19: =IFERROR(INDEX('[1]13日_公式練習①-結果表（貼付）'!A8:$Z$50,MATCH($A19,'[1]13日_公式練習①-結果表（貼付）'!A8:$A$50,0),MATCH('13日_公式練習①-結果表'!B$11,'[1]13日_公式練習①-結果表（貼付）'!$1:$1,0)),"") -> 27 | D19: =IFERROR(INDEX('[1]13日_公式練習①-結果表（貼付）'!$A:$Z,MATCH($B19,'[1]13日_公式練習①-結果表（貼付）'!$B:$B,0),MATCH('13日_公式練習①-結果表'!D$11,'[1]13日_公式練習①-結果表（貼付）'!$1:$1,0)),"") -> 舟橋 弘典 | E19: =IFERROR(INDEX('[1]13日_公式練習①-結果表（貼付）'!$A:$Z,MATCH($B19,'[1]13日_公式練習①-結果表（貼付）'!$B:$B,0),MATCH('13日_公式練習①-結果表'!E$11,'[1]13日_公式練習①-結果表（貼付）'!$1:$1,0)),"") -> KOSMIC/YAMAHA | F19: =IFERROR(INDEX('[1]13日_公式練習①-結果表（貼付）'!$A:$Z,MATCH($B19,'[1]13日_公式練習①-結果表（貼付）'!$B:$B,0),MATCH('13日_公式練習①-結果表'!F$11,'[1]13日_公式練習①-結果表（貼付）'!$1:$1,0)),"") -> HIRAIPROJECT With Ash | G19: =IFERROR(INDEX('[1]13日_公式練習①-結果表（貼付）'!$A:$Z,MATCH($B19,'[1]13日_公式練習①-結果表（貼付）'!$B:$B,0),MATCH('13日_公式練習①-結果表'!G$11,'[1]13日_公式練習①-結果表（貼付）'!$1:$1,0)),"") -> BS | H19: =IF(A19="DNS","ｽﾀｰﾄ出来ず",IF(A19="DQ","失 格",IFERROR(INDEX('[1]13日_公式練習①-結果表（貼付）'!$A:$Z,MATCH($B19,'[1]13日_公式練習①-結果表（貼付）'!$B:$B,0),MATCH('13日_公式練習①-結果表'!H$11,'[1]13日_公式練習①-結果表（貼付）'!$1:$1,0)),""))) -> 55.089 | I19: =IF(H19<1,"",IF($I$11>H19,"R","")) | J19: =IF(A19="DNS","",IF(A19="DQ","",IFERROR(INDEX('[1]13日_公式練習①-結果表（貼付）'!$A:$Z,MATCH($B19,'[1]13日_公式練習①-結果表（貼付）'!$B:$B,0),MATCH('13日_公式練習①-結果表'!J$11,'[1]13日_公式練習①-結果表（貼付）'!$1:$1,0)),""))) -> 0.313 | K19: =IF(A19="DNS","",IF(A19="DQ","",IFERROR(INDEX('[1]13日_公式練習①-結果表（貼付）'!$A:$Z,MATCH($B19,'[1]13日_公式練習①-結果表（貼付）'!$B:$B,0),MATCH('13日_公式練習①-結果表'!K$11,'[1]13日_公式練習①-結果表（貼付）'!$1:$1,0)),""))) -> 0.063 | L19: =IF(A19="DNS","",IF(A19="DQ","",IFERROR(INDEX('[1]13日_公式練習①-結果表（貼付）'!$A:$Z,MATCH($B19,'[1]13日_公式練習①-結果表（貼付）'!$B:$B,0),MATCH("In Lap",'[1]13日_公式練習①-結果表（貼付）'!$1:$1,0))&"/"&INDEX('[1]13日_公式練習①-結果表（貼付）'!$A:$Z,MATCH($B19,'[1]13日_公式練習①-結果表（貼付）'!$B:$B,0),MATCH("Laps",'[1]13日_公式練習①-結果表（貼付）'!$1:$1,0)),""))) -> 10/10 | P19: =IF(IFERROR(INDEX('[1]13日_公式練習①-結果表（貼付）'!$A:$Z,MATCH($B19,'[1]13日_公式練習①-結果表（貼付）'!$B:$B,0),MATCH(P$11,'[1]13日_公式練習①-結果表（貼付）'!$1:$1,0)),"")=0,"",IFERROR(INDEX('[1]13日_公式練習①-結果表（貼付）'!$A:$Z,MATCH($B19,'[1]13日_公式練習①-結果表（貼付）'!$B:$B,0),MATCH(P$11,'[1]13日_公式練習①-結果表（貼付）'!$1:$1,0)),"")) | Q19: =IF(P19="","",COUNTIF($P$13:P19,"<>"&"")) | R19: =IFERROR(RANK(Q19,$Q$13:$Q$46,1),"") | S19: =IF(IFERROR(INDEX('[1]13日_公式練習①-結果表（貼付）'!$A:$Z,MATCH($A19,'[1]13日_公式練習①-結果表（貼付）'!$A:$A,0),MATCH(S$11,'[1]13日_公式練習①-結果表（貼付）'!$1:$1,0)),"")=0,"",IFERROR(INDEX('[1]13日_公式練習①-結果表（貼付）'!$A:$Z,MATCH($A19,'[1]13日_公式練習①-結果表（貼付）'!$A:$A,0),MATCH(S$11,'[1]13日_公式練習①-結果表（貼付）'!$1:$1,0)),""))
A20: =IF(OR('[1]13日_公式練習①-結果表（貼付）'!A9="DNF",'[1]13日_公式練習①-結果表（貼付）'!A9="DNS",'[1]13日_公式練習①-結果表（貼付）'!A9="DQ"),'[1]13日_公式練習①-結果表（貼付）'!A9,IF(MAX('[1]13日_公式練習①-結果表（貼付）'!$A:$A)>A19,A19+1,"")) -> 8 | B20: =IFERROR(INDEX('[1]13日_公式練習①-結果表（貼付）'!A9:$Z$50,MATCH($A20,'[1]13日_公式練習①-結果表（貼付）'!A9:$A$50,0),MATCH('13日_公式練習①-結果表'!B$11,'[1]13日_公式練習①-結果表（貼付）'!$1:$1,0)),"") -> 22 | D20: =IFERROR(INDEX('[1]13日_公式練習①-結果表（貼付）'!$A:$Z,MATCH($B20,'[1]13日_公式練習①-結果表（貼付）'!$B:$B,0),MATCH('13日_公式練習①-結果表'!D$11,'[1]13日_公式練習①-結果表（貼付）'!$1:$1,0)),"") -> 酒井 翔太 | E20: =IFERROR(INDEX('[1]13日_公式練習①-結果表（貼付）'!$A:$Z,MATCH($B20,'[1]13日_公式練習①-結果表（貼付）'!$B:$B,0),MATCH('13日_公式練習①-結果表'!E$11,'[1]13日_公式練習①-結果表（貼付）'!$1:$1,0)),"") -> TONY KART/YAMAHA | F20: =IFERROR(INDEX('[1]13日_公式練習①-結果表（貼付）'!$A:$Z,MATCH($B20,'[1]13日_公式練習①-結果表（貼付）'!$B:$B,0),MATCH('13日_公式練習①-結果表'!F$11,'[1]13日_公式練習①-結果表（貼付）'!$1:$1,0)),"") -> FIRST GARAGE BEMAX | G20: =IFERROR(INDEX('[1]13日_公式練習①-結果表（貼付）'!$A:$Z,MATCH($B20,'[1]13日_公式練習①-結果表（貼付）'!$B:$B,0),MATCH('13日_公式練習①-結果表'!G$11,'[1]13日_公式練習①-結果表（貼付）'!$1:$1,0)),"") -> BS | H20: =IF(A20="DNS","ｽﾀｰﾄ出来ず",IF(A20="DQ","失 格",IFERROR(INDEX('[1]13日_公式練習①-結果表（貼付）'!$A:$Z,MATCH($B20,'[1]13日_公式練習①-結果表（貼付）'!$B:$B,0),MATCH('13日_公式練習①-結果表'!H$11,'[1]13日_公式練習①-結果表（貼付）'!$1:$1,0)),""))) -> 55.096 | I20: =IF(H20<1,"",IF($I$11>H20,"R","")) | J20: =IF(A20="DNS","",IF(A20="DQ","",IFERROR(INDEX('[1]13日_公式練習①-結果表（貼付）'!$A:$Z,MATCH($B20,'[1]13日_公式練習①-結果表（貼付）'!$B:$B,0),MATCH('13日_公式練習①-結果表'!J$11,'[1]13日_公式練習①-結果表（貼付）'!$1:$1,0)),""))) -> 0.32 | K20: =IF(A20="DNS","",IF(A20="DQ","",IFERROR(INDEX('[1]13日_公式練習①-結果表（貼付）'!$A:$Z,MATCH($B20,'[1]13日_公式練習①-結果表（貼付）'!$B:$B,0),MATCH('13日_公式練習①-結果表'!K$11,'[1]13日_公式練習①-結果表（貼付）'!$1:$1,0)),""))) -> 0.007 | L20: =IF(A20="DNS","",IF(A20="DQ","",IFERROR(INDEX('[1]13日_公式練習①-結果表（貼付）'!$A:$Z,MATCH($B20,'[1]13日_公式練習①-結果表（貼付）'!$B:$B,0),MATCH("In Lap",'[1]13日_公式練習①-結果表（貼付）'!$1:$1,0))&"/"&INDEX('[1]13日_公式練習①-結果表（貼付）'!$A:$Z,MATCH($B20,'[1]13日_公式練習①-結果表（貼付）'!$B:$B,0),MATCH("Laps",'[1]13日_公式練習①-結果表（貼付）'!$1:$1,0)),""))) -> 9/10 | P20: =IF(IFERROR(INDEX('[1]13日_公式練習①-結果表（貼付）'!$A:$Z,MATCH($B20,'[1]13日_公式練習①-結果表（貼付）'!$B:$B,0),MATCH(P$11,'[1]13日_公式練習①-結果表（貼付）'!$1:$1,0)),"")=0,"",IFERROR(INDEX('[1]13日_公式練習①-結果表（貼付）'!$A:$Z,MATCH($B20,'[1]13日_公式練習①-結果表（貼付）'!$B:$B,0),MATCH(P$11,'[1]13日_公式練習①-結果表（貼付）'!$1:$1,0)),"")) | Q20: =IF(P20="","",COUNTIF($P$13:P20,"<>"&"")) | R20: =IFERROR(RANK(Q20,$Q$13:$Q$46,1),"") | S20: =IF(IFERROR(INDEX('[1]13日_公式練習①-結果表（貼付）'!$A:$Z,MATCH($A20,'[1]13日_公式練習①-結果表（貼付）'!$A:$A,0),MATCH(S$11,'[1]13日_公式練習①-結果表（貼付）'!$1:$1,0)),"")=0,"",IFERROR(INDEX('[1]13日_公式練習①-結果表（貼付）'!$A:$Z,MATCH($A20,'[1]13日_公式練習①-結果表（貼付）'!$A:$A,0),MATCH(S$11,'[1]13日_公式練習①-結果表（貼付）'!$1:$1,0)),""))
A21: =IF(OR('[1]13日_公式練習①-結果表（貼付）'!A10="DNF",'[1]13日_公式練習①-結果表（貼付）'!A10="DNS",'[1]13日_公式練習①-結果表（貼付）'!A10="DQ"),'[1]13日_公式練習①-結果表（貼付）'!A10,IF(MAX('[1]13日_公式練習①-結果表（貼付）'!$A:$A)>A20,A20+1,"")) -> 9 | B21: =IFERROR(INDEX('[1]13日_公式練習①-結果表（貼付）'!A10:$Z$50,MATCH($A21,'[1]13日_公式練習①-結果表（貼付）'!A10:$A$50,0),MATCH('13日_公式練習①-結果表'!B$11,'[1]13日_公式練習①-結果表（貼付）'!$1:$1,0)),"") -> 78 | D21: =IFERROR(INDEX('[1]13日_公式練習①-結果表（貼付）'!$A:$Z,MATCH($B21,'[1]13日_公式練習①-結果表（貼付）'!$B:$B,0),MATCH('13日_公式練習①-結果表'!D$11,'[1]13日_公式練習①-結果表（貼付）'!$1:$1,0)),"") -> 小林 海璃 | E21: =IFERROR(INDEX('[1]13日_公式練習①-結果表（貼付）'!$A:$Z,MATCH($B21,'[1]13日_公式練習①-結果表（貼付）'!$B:$B,0),MATCH('13日_公式練習①-結果表'!E$11,'[1]13日_公式練習①-結果表（貼付）'!$1:$1,0)),"") -> EXPRIT/YAMAHA | F21: =IFERROR(INDEX('[1]13日_公式練習①-結果表（貼付）'!$A:$Z,MATCH($B21,'[1]13日_公式練習①-結果表（貼付）'!$B:$B,0),MATCH('13日_公式練習①-結果表'!F$11,'[1]13日_公式練習①-結果表（貼付）'!$1:$1,0)),"") -> ミツサダ PWG RACING | G21: =IFERROR(INDEX('[1]13日_公式練習①-結果表（貼付）'!$A:$Z,MATCH($B21,'[1]13日_公式練習①-結果表（貼付）'!$B:$B,0),MATCH('13日_公式練習①-結果表'!G$11,'[1]13日_公式練習①-結果表（貼付）'!$1:$1,0)),"") -> BS | H21: =IF(A21="DNS","ｽﾀｰﾄ出来ず",IF(A21="DQ","失 格",IFERROR(INDEX('[1]13日_公式練習①-結果表（貼付）'!$A:$Z,MATCH($B21,'[1]13日_公式練習①-結果表（貼付）'!$B:$B,0),MATCH('13日_公式練習①-結果表'!H$11,'[1]13日_公式練習①-結果表（貼付）'!$1:$1,0)),""))) -> 55.211 | I21: =IF(H21<1,"",IF($I$11>H21,"R","")) | J21: =IF(A21="DNS","",IF(A21="DQ","",IFERROR(INDEX('[1]13日_公式練習①-結果表（貼付）'!$A:$Z,MATCH($B21,'[1]13日_公式練習①-結果表（貼付）'!$B:$B,0),MATCH('13日_公式練習①-結果表'!J$11,'[1]13日_公式練習①-結果表（貼付）'!$1:$1,0)),""))) -> 0.435 | K21: =IF(A21="DNS","",IF(A21="DQ","",IFERROR(INDEX('[1]13日_公式練習①-結果表（貼付）'!$A:$Z,MATCH($B21,'[1]13日_公式練習①-結果表（貼付）'!$B:$B,0),MATCH('13日_公式練習①-結果表'!K$11,'[1]13日_公式練習①-結果表（貼付）'!$1:$1,0)),""))) -> 0.115 | L21: =IF(A21="DNS","",IF(A21="DQ","",IFERROR(INDEX('[1]13日_公式練習①-結果表（貼付）'!$A:$Z,MATCH($B21,'[1]13日_公式練習①-結果表（貼付）'!$B:$B,0),MATCH("In Lap",'[1]13日_公式練習①-結果表（貼付）'!$1:$1,0))&"/"&INDEX('[1]13日_公式練習①-結果表（貼付）'!$A:$Z,MATCH($B21,'[1]13日_公式練習①-結果表（貼付）'!$B:$B,0),MATCH("Laps",'[1]13日_公式練習①-結果表（貼付）'!$1:$1,0)),""))) -> 4/10 | P21: =IF(IFERROR(INDEX('[1]13日_公式練習①-結果表（貼付）'!$A:$Z,MATCH($B21,'[1]13日_公式練習①-結果表（貼付）'!$B:$B,0),MATCH(P$11,'[1]13日_公式練習①-結果表（貼付）'!$1:$1,0)),"")=0,"",IFERROR(INDEX('[1]13日_公式練習①-結果表（貼付）'!$A:$Z,MATCH($B21,'[1]13日_公式練習①-結果表（貼付）'!$B:$B,0),MATCH(P$11,'[1]13日_公式練習①-結果表（貼付）'!$1:$1,0)),"")) | Q21: =IF(P21="","",COUNTIF($P$13:P21,"<>"&"")) | R21: =IFERROR(RANK(Q21,$Q$13:$Q$46,1),"") | S21: =IF(IFERROR(INDEX('[1]13日_公式練習①-結果表（貼付）'!$A:$Z,MATCH($A21,'[1]13日_公式練習①-結果表（貼付）'!$A:$A,0),MATCH(S$11,'[1]13日_公式練習①-結果表（貼付）'!$1:$1,0)),"")=0,"",IFERROR(INDEX('[1]13日_公式練習①-結果表（貼付）'!$A:$Z,MATCH($A21,'[1]13日_公式練習①-結果表（貼付）'!$A:$A,0),MATCH(S$11,'[1]13日_公式練習①-結果表（貼付）'!$1:$1,0)),""))
A22: =IF(OR('[1]13日_公式練習①-結果表（貼付）'!A11="DNF",'[1]13日_公式練習①-結果表（貼付）'!A11="DNS",'[1]13日_公式練習①-結果表（貼付）'!A11="DQ"),'[1]13日_公式練習①-結果表（貼付）'!A11,IF(MAX('[1]13日_公式練習①-結果表（貼付）'!$A:$A)>A21,A21+1,"")) -> 10 | B22: =IFERROR(INDEX('[1]13日_公式練習①-結果表（貼付）'!A11:$Z$50,MATCH($A22,'[1]13日_公式練習①-結果表（貼付）'!A11:$A$50,0),MATCH('13日_公式練習①-結果表'!B$11,'[1]13日_公式練習①-結果表（貼付）'!$1:$1,0)),"") -> 40 | D22: =IFERROR(INDEX('[1]13日_公式練習①-結果表（貼付）'!$A:$Z,MATCH($B22,'[1]13日_公式練習①-結果表（貼付）'!$B:$B,0),MATCH('13日_公式練習①-結果表'!D$11,'[1]13日_公式練習①-結果表（貼付）'!$1:$1,0)),"") -> 大槻 直 | E22: =IFERROR(INDEX('[1]13日_公式練習①-結果表（貼付）'!$A:$Z,MATCH($B22,'[1]13日_公式練習①-結果表（貼付）'!$B:$B,0),MATCH('13日_公式練習①-結果表'!E$11,'[1]13日_公式練習①-結果表（貼付）'!$1:$1,0)),"") -> TONY KART/YAMAHA | F22: =IFERROR(INDEX('[1]13日_公式練習①-結果表（貼付）'!$A:$Z,MATCH($B22,'[1]13日_公式練習①-結果表（貼付）'!$B:$B,0),MATCH('13日_公式練習①-結果表'!F$11,'[1]13日_公式練習①-結果表（貼付）'!$1:$1,0)),"") -> ASH | G22: =IFERROR(INDEX('[1]13日_公式練習①-結果表（貼付）'!$A:$Z,MATCH($B22,'[1]13日_公式練習①-結果表（貼付）'!$B:$B,0),MATCH('13日_公式練習①-結果表'!G$11,'[1]13日_公式練習①-結果表（貼付）'!$1:$1,0)),"") -> BS | H22: =IF(A22="DNS","ｽﾀｰﾄ出来ず",IF(A22="DQ","失 格",IFERROR(INDEX('[1]13日_公式練習①-結果表（貼付）'!$A:$Z,MATCH($B22,'[1]13日_公式練習①-結果表（貼付）'!$B:$B,0),MATCH('13日_公式練習①-結果表'!H$11,'[1]13日_公式練習①-結果表（貼付）'!$1:$1,0)),""))) -> 55.222 | I22: =IF(H22<1,"",IF($I$11>H22,"R","")) | J22: =IF(A22="DNS","",IF(A22="DQ","",IFERROR(INDEX('[1]13日_公式練習①-結果表（貼付）'!$A:$Z,MATCH($B22,'[1]13日_公式練習①-結果表（貼付）'!$B:$B,0),MATCH('13日_公式練習①-結果表'!J$11,'[1]13日_公式練習①-結果表（貼付）'!$1:$1,0)),""))) -> 0.446 | K22: =IF(A22="DNS","",IF(A22="DQ","",IFERROR(INDEX('[1]13日_公式練習①-結果表（貼付）'!$A:$Z,MATCH($B22,'[1]13日_公式練習①-結果表（貼付）'!$B:$B,0),MATCH('13日_公式練習①-結果表'!K$11,'[1]13日_公式練習①-結果表（貼付）'!$1:$1,0)),""))) -> 0.011 | L22: =IF(A22="DNS","",IF(A22="DQ","",IFERROR(INDEX('[1]13日_公式練習①-結果表（貼付）'!$A:$Z,MATCH($B22,'[1]13日_公式練習①-結果表（貼付）'!$B:$B,0),MATCH("In Lap",'[1]13日_公式練習①-結果表（貼付）'!$1:$1,0))&"/"&INDEX('[1]13日_公式練習①-結果表（貼付）'!$A:$Z,MATCH($B22,'[1]13日_公式練習①-結果表（貼付）'!$B:$B,0),MATCH("Laps",'[1]13日_公式練習①-結果表（貼付）'!$1:$1,0)),""))) -> 4/9 | P22: =IF(IFERROR(INDEX('[1]13日_公式練習①-結果表（貼付）'!$A:$Z,MATCH($B22,'[1]13日_公式練習①-結果表（貼付）'!$B:$B,0),MATCH(P$11,'[1]13日_公式練習①-結果表（貼付）'!$1:$1,0)),"")=0,"",IFERROR(INDEX('[1]13日_公式練習①-結果表（貼付）'!$A:$Z,MATCH($B22,'[1]13日_公式練習①-結果表（貼付）'!$B:$B,0),MATCH(P$11,'[1]13日_公式練習①-結果表（貼付）'!$1:$1,0)),"")) | Q22: =IF(P22="","",COUNTIF($P$13:P22,"<>"&"")) | R22: =IFERROR(RANK(Q22,$Q$13:$Q$46,1),"") | S22: =IF(IFERROR(INDEX('[1]13日_公式練習①-結果表（貼付）'!$A:$Z,MATCH($A22,'[1]13日_公式練習①-結果表（貼付）'!$A:$A,0),MATCH(S$11,'[1]13日_公式練習①-結果表（貼付）'!$1:$1,0)),"")=0,"",IFERROR(INDEX('[1]13日_公式練習①-結果表（貼付）'!$A:$Z,MATCH($A22,'[1]13日_公式練習①-結果表（貼付）'!$A:$A,0),MATCH(S$11,'[1]13日_公式練習①-結果表（貼付）'!$1:$1,0)),""))
A23: =IF(OR('[1]13日_公式練習①-結果表（貼付）'!A12="DNF",'[1]13日_公式練習①-結果表（貼付）'!A12="DNS",'[1]13日_公式練習①-結果表（貼付）'!A12="DQ"),'[1]13日_公式練習①-結果表（貼付）'!A12,IF(MAX('[1]13日_公式練習①-結果表（貼付）'!$A:$A)>A22,A22+1,"")) -> 11 | B23: =IFERROR(INDEX('[1]13日_公式練習①-結果表（貼付）'!A12:$Z$50,MATCH($A23,'[1]13日_公式練習①-結果表（貼付）'!A12:$A$50,0),MATCH('13日_公式練習①-結果表'!B$11,'[1]13日_公式練習①-結果表（貼付）'!$1:$1,0)),"") -> 33 | D23: =IFERROR(INDEX('[1]13日_公式練習①-結果表（貼付）'!$A:$Z,MATCH($B23,'[1]13日_公式練習①-結果表（貼付）'!$B:$B,0),MATCH('13日_公式練習①-結果表'!D$11,'[1]13日_公式練習①-結果表（貼付）'!$1:$1,0)),"") -> 田上 龍輝 | E23: =IFERROR(INDEX('[1]13日_公式練習①-結果表（貼付）'!$A:$Z,MATCH($B23,'[1]13日_公式練習①-結果表（貼付）'!$B:$B,0),MATCH('13日_公式練習①-結果表'!E$11,'[1]13日_公式練習①-結果表（貼付）'!$1:$1,0)),"") -> Birel ART/YAMAHA | F23: =IFERROR(INDEX('[1]13日_公式練習①-結果表（貼付）'!$A:$Z,MATCH($B23,'[1]13日_公式練習①-結果表（貼付）'!$B:$B,0),MATCH('13日_公式練習①-結果表'!F$11,'[1]13日_公式練習①-結果表（貼付）'!$1:$1,0)),"") -> チームKBF | G23: =IFERROR(INDEX('[1]13日_公式練習①-結果表（貼付）'!$A:$Z,MATCH($B23,'[1]13日_公式練習①-結果表（貼付）'!$B:$B,0),MATCH('13日_公式練習①-結果表'!G$11,'[1]13日_公式練習①-結果表（貼付）'!$1:$1,0)),"") -> BS | H23: =IF(A23="DNS","ｽﾀｰﾄ出来ず",IF(A23="DQ","失 格",IFERROR(INDEX('[1]13日_公式練習①-結果表（貼付）'!$A:$Z,MATCH($B23,'[1]13日_公式練習①-結果表（貼付）'!$B:$B,0),MATCH('13日_公式練習①-結果表'!H$11,'[1]13日_公式練習①-結果表（貼付）'!$1:$1,0)),""))) -> 55.257 | I23: =IF(H23<1,"",IF($I$11>H23,"R","")) | J23: =IF(A23="DNS","",IF(A23="DQ","",IFERROR(INDEX('[1]13日_公式練習①-結果表（貼付）'!$A:$Z,MATCH($B23,'[1]13日_公式練習①-結果表（貼付）'!$B:$B,0),MATCH('13日_公式練習①-結果表'!J$11,'[1]13日_公式練習①-結果表（貼付）'!$1:$1,0)),""))) -> 0.481 | K23: =IF(A23="DNS","",IF(A23="DQ","",IFERROR(INDEX('[1]13日_公式練習①-結果表（貼付）'!$A:$Z,MATCH($B23,'[1]13日_公式練習①-結果表（貼付）'!$B:$B,0),MATCH('13日_公式練習①-結果表'!K$11,'[1]13日_公式練習①-結果表（貼付）'!$1:$1,0)),""))) -> 0.035 | L23: =IF(A23="DNS","",IF(A23="DQ","",IFERROR(INDEX('[1]13日_公式練習①-結果表（貼付）'!$A:$Z,MATCH($B23,'[1]13日_公式練習①-結果表（貼付）'!$B:$B,0),MATCH("In Lap",'[1]13日_公式練習①-結果表（貼付）'!$1:$1,0))&"/"&INDEX('[1]13日_公式練習①-結果表（貼付）'!$A:$Z,MATCH($B23,'[1]13日_公式練習①-結果表（貼付）'!$B:$B,0),MATCH("Laps",'[1]13日_公式練習①-結果表（貼付）'!$1:$1,0)),""))) -> 10/10 | P23: =IF(IFERROR(INDEX('[1]13日_公式練習①-結果表（貼付）'!$A:$Z,MATCH($B23,'[1]13日_公式練習①-結果表（貼付）'!$B:$B,0),MATCH(P$11,'[1]13日_公式練習①-結果表（貼付）'!$1:$1,0)),"")=0,"",IFERROR(INDEX('[1]13日_公式練習①-結果表（貼付）'!$A:$Z,MATCH($B23,'[1]13日_公式練習①-結果表（貼付）'!$B:$B,0),MATCH(P$11,'[1]13日_公式練習①-結果表（貼付）'!$1:$1,0)),"")) | Q23: =IF(P23="","",COUNTIF($P$13:P23,"<>"&"")) | R23: =IFERROR(RANK(Q23,$Q$13:$Q$46,1),"") | S23: =IF(IFERROR(INDEX('[1]13日_公式練習①-結果表（貼付）'!$A:$Z,MATCH($A23,'[1]13日_公式練習①-結果表（貼付）'!$A:$A,0),MATCH(S$11,'[1]13日_公式練習①-結果表（貼付）'!$1:$1,0)),"")=0,"",IFERROR(INDEX('[1]13日_公式練習①-結果表（貼付）'!$A:$Z,MATCH($A23,'[1]13日_公式練習①-結果表（貼付）'!$A:$A,0),MATCH(S$11,'[1]13日_公式練習①-結果表（貼付）'!$1:$1,0)),""))
A24: =IF(OR('[1]13日_公式練習①-結果表（貼付）'!A13="DNF",'[1]13日_公式練習①-結果表（貼付）'!A13="DNS",'[1]13日_公式練習①-結果表（貼付）'!A13="DQ"),'[1]13日_公式練習①-結果表（貼付）'!A13,IF(MAX('[1]13日_公式練習①-結果表（貼付）'!$A:$A)>A23,A23+1,"")) -> 12 | B24: =IFERROR(INDEX('[1]13日_公式練習①-結果表（貼付）'!A13:$Z$50,MATCH($A24,'[1]13日_公式練習①-結果表（貼付）'!A13:$A$50,0),MATCH('13日_公式練習①-結果表'!B$11,'[1]13日_公式練習①-結果表（貼付）'!$1:$1,0)),"") -> 74 | D24: =IFERROR(INDEX('[1]13日_公式練習①-結果表（貼付）'!$A:$Z,MATCH($B24,'[1]13日_公式練習①-結果表（貼付）'!$B:$B,0),MATCH('13日_公式練習①-結果表'!D$11,'[1]13日_公式練習①-結果表（貼付）'!$1:$1,0)),"") -> 宮地 健太朗 | E24: =IFERROR(INDEX('[1]13日_公式練習①-結果表（貼付）'!$A:$Z,MATCH($B24,'[1]13日_公式練習①-結果表（貼付）'!$B:$B,0),MATCH('13日_公式練習①-結果表'!E$11,'[1]13日_公式練習①-結果表（貼付）'!$1:$1,0)),"") -> INTREPID/YAMAHA | F24: =IFERROR(INDEX('[1]13日_公式練習①-結果表（貼付）'!$A:$Z,MATCH($B24,'[1]13日_公式練習①-結果表（貼付）'!$B:$B,0),MATCH('13日_公式練習①-結果表'!F$11,'[1]13日_公式練習①-結果表（貼付）'!$1:$1,0)),"") -> Ash | G24: =IFERROR(INDEX('[1]13日_公式練習①-結果表（貼付）'!$A:$Z,MATCH($B24,'[1]13日_公式練習①-結果表（貼付）'!$B:$B,0),MATCH('13日_公式練習①-結果表'!G$11,'[1]13日_公式練習①-結果表（貼付）'!$1:$1,0)),"") -> BS | H24: =IF(A24="DNS","ｽﾀｰﾄ出来ず",IF(A24="DQ","失 格",IFERROR(INDEX('[1]13日_公式練習①-結果表（貼付）'!$A:$Z,MATCH($B24,'[1]13日_公式練習①-結果表（貼付）'!$B:$B,0),MATCH('13日_公式練習①-結果表'!H$11,'[1]13日_公式練習①-結果表（貼付）'!$1:$1,0)),""))) -> 55.302 | I24: =IF(H24<1,"",IF($I$11>H24,"R","")) | J24: =IF(A24="DNS","",IF(A24="DQ","",IFERROR(INDEX('[1]13日_公式練習①-結果表（貼付）'!$A:$Z,MATCH($B24,'[1]13日_公式練習①-結果表（貼付）'!$B:$B,0),MATCH('13日_公式練習①-結果表'!J$11,'[1]13日_公式練習①-結果表（貼付）'!$1:$1,0)),""))) -> 0.526 | K24: =IF(A24="DNS","",IF(A24="DQ","",IFERROR(INDEX('[1]13日_公式練習①-結果表（貼付）'!$A:$Z,MATCH($B24,'[1]13日_公式練習①-結果表（貼付）'!$B:$B,0),MATCH('13日_公式練習①-結果表'!K$11,'[1]13日_公式練習①-結果表（貼付）'!$1:$1,0)),""))) -> 0.045 | L24: =IF(A24="DNS","",IF(A24="DQ","",IFERROR(INDEX('[1]13日_公式練習①-結果表（貼付）'!$A:$Z,MATCH($B24,'[1]13日_公式練習①-結果表（貼付）'!$B:$B,0),MATCH("In Lap",'[1]13日_公式練習①-結果表（貼付）'!$1:$1,0))&"/"&INDEX('[1]13日_公式練習①-結果表（貼付）'!$A:$Z,MATCH($B24,'[1]13日_公式練習①-結果表（貼付）'!$B:$B,0),MATCH("Laps",'[1]13日_公式練習①-結果表（貼付）'!$1:$1,0)),""))) -> 7/7 | P24: =IF(IFERROR(INDEX('[1]13日_公式練習①-結果表（貼付）'!$A:$Z,MATCH($B24,'[1]13日_公式練習①-結果表（貼付）'!$B:$B,0),MATCH(P$11,'[1]13日_公式練習①-結果表（貼付）'!$1:$1,0)),"")=0,"",IFERROR(INDEX('[1]13日_公式練習①-結果表（貼付）'!$A:$Z,MATCH($B24,'[1]13日_公式練習①-結果表（貼付）'!$B:$B,0),MATCH(P$11,'[1]13日_公式練習①-結果表（貼付）'!$1:$1,0)),"")) | Q24: =IF(P24="","",COUNTIF($P$13:P24,"<>"&"")) | R24: =IFERROR(RANK(Q24,$Q$13:$Q$46,1),"") | S24: =IF(IFERROR(INDEX('[1]13日_公式練習①-結果表（貼付）'!$A:$Z,MATCH($A24,'[1]13日_公式練習①-結果表（貼付）'!$A:$A,0),MATCH(S$11,'[1]13日_公式練習①-結果表（貼付）'!$1:$1,0)),"")=0,"",IFERROR(INDEX('[1]13日_公式練習①-結果表（貼付）'!$A:$Z,MATCH($A24,'[1]13日_公式練習①-結果表（貼付）'!$A:$A,0),MATCH(S$11,'[1]13日_公式練習①-結果表（貼付）'!$1:$1,0)),""))
A25: =IF(OR('[1]13日_公式練習①-結果表（貼付）'!A14="DNF",'[1]13日_公式練習①-結果表（貼付）'!A14="DNS",'[1]13日_公式練習①-結果表（貼付）'!A14="DQ"),'[1]13日_公式練習①-結果表（貼付）'!A14,IF(MAX('[1]13日_公式練習①-結果表（貼付）'!$A:$A)>A24,A24+1,"")) -> 13 | B25: =IFERROR(INDEX('[1]13日_公式練習①-結果表（貼付）'!A14:$Z$50,MATCH($A25,'[1]13日_公式練習①-結果表（貼付）'!A14:$A$50,0),MATCH('13日_公式練習①-結果表'!B$11,'[1]13日_公式練習①-結果表（貼付）'!$1:$1,0)),"") -> 86 | D25: =IFERROR(INDEX('[1]13日_公式練習①-結果表（貼付）'!$A:$Z,MATCH($B25,'[1]13日_公式練習①-結果表（貼付）'!$B:$B,0),MATCH('13日_公式練習①-結果表'!D$11,'[1]13日_公式練習①-結果表（貼付）'!$1:$1,0)),"") -> 内海 陽翔 | E25: =IFERROR(INDEX('[1]13日_公式練習①-結果表（貼付）'!$A:$Z,MATCH($B25,'[1]13日_公式練習①-結果表（貼付）'!$B:$B,0),MATCH('13日_公式練習①-結果表'!E$11,'[1]13日_公式練習①-結果表（貼付）'!$1:$1,0)),"") -> REDSPEED/YAMAHA | F25: =IFERROR(INDEX('[1]13日_公式練習①-結果表（貼付）'!$A:$Z,MATCH($B25,'[1]13日_公式練習①-結果表（貼付）'!$B:$B,0),MATCH('13日_公式練習①-結果表'!F$11,'[1]13日_公式練習①-結果表（貼付）'!$1:$1,0)),"") -> シナジーリンクス | G25: =IFERROR(INDEX('[1]13日_公式練習①-結果表（貼付）'!$A:$Z,MATCH($B25,'[1]13日_公式練習①-結果表（貼付）'!$B:$B,0),MATCH('13日_公式練習①-結果表'!G$11,'[1]13日_公式練習①-結果表（貼付）'!$1:$1,0)),"") -> BS | H25: =IF(A25="DNS","ｽﾀｰﾄ出来ず",IF(A25="DQ","失 格",IFERROR(INDEX('[1]13日_公式練習①-結果表（貼付）'!$A:$Z,MATCH($B25,'[1]13日_公式練習①-結果表（貼付）'!$B:$B,0),MATCH('13日_公式練習①-結果表'!H$11,'[1]13日_公式練習①-結果表（貼付）'!$1:$1,0)),""))) -> 55.414 | I25: =IF(H25<1,"",IF($I$11>H25,"R","")) | J25: =IF(A25="DNS","",IF(A25="DQ","",IFERROR(INDEX('[1]13日_公式練習①-結果表（貼付）'!$A:$Z,MATCH($B25,'[1]13日_公式練習①-結果表（貼付）'!$B:$B,0),MATCH('13日_公式練習①-結果表'!J$11,'[1]13日_公式練習①-結果表（貼付）'!$1:$1,0)),""))) -> 0.638 | K25: =IF(A25="DNS","",IF(A25="DQ","",IFERROR(INDEX('[1]13日_公式練習①-結果表（貼付）'!$A:$Z,MATCH($B25,'[1]13日_公式練習①-結果表（貼付）'!$B:$B,0),MATCH('13日_公式練習①-結果表'!K$11,'[1]13日_公式練習①-結果表（貼付）'!$1:$1,0)),""))) -> 0.112 | L25: =IF(A25="DNS","",IF(A25="DQ","",IFERROR(INDEX('[1]13日_公式練習①-結果表（貼付）'!$A:$Z,MATCH($B25,'[1]13日_公式練習①-結果表（貼付）'!$B:$B,0),MATCH("In Lap",'[1]13日_公式練習①-結果表（貼付）'!$1:$1,0))&"/"&INDEX('[1]13日_公式練習①-結果表（貼付）'!$A:$Z,MATCH($B25,'[1]13日_公式練習①-結果表（貼付）'!$B:$B,0),MATCH("Laps",'[1]13日_公式練習①-結果表（貼付）'!$1:$1,0)),""))) -> 5/6 | P25: =IF(IFERROR(INDEX('[1]13日_公式練習①-結果表（貼付）'!$A:$Z,MATCH($B25,'[1]13日_公式練習①-結果表（貼付）'!$B:$B,0),MATCH(P$11,'[1]13日_公式練習①-結果表（貼付）'!$1:$1,0)),"")=0,"",IFERROR(INDEX('[1]13日_公式練習①-結果表（貼付）'!$A:$Z,MATCH($B25,'[1]13日_公式練習①-結果表（貼付）'!$B:$B,0),MATCH(P$11,'[1]13日_公式練習①-結果表（貼付）'!$1:$1,0)),"")) | Q25: =IF(P25="","",COUNTIF($P$13:P25,"<>"&"")) | R25: =IFERROR(RANK(Q25,$Q$13:$Q$46,1),"") | S25: =IF(IFERROR(INDEX('[1]13日_公式練習①-結果表（貼付）'!$A:$Z,MATCH($A25,'[1]13日_公式練習①-結果表（貼付）'!$A:$A,0),MATCH(S$11,'[1]13日_公式練習①-結果表（貼付）'!$1:$1,0)),"")=0,"",IFERROR(INDEX('[1]13日_公式練習①-結果表（貼付）'!$A:$Z,MATCH($A25,'[1]13日_公式練習①-結果表（貼付）'!$A:$A,0),MATCH(S$11,'[1]13日_公式練習①-結果表（貼付）'!$1:$1,0)),""))
A26: =IF(OR('[1]13日_公式練習①-結果表（貼付）'!A15="DNF",'[1]13日_公式練習①-結果表（貼付）'!A15="DNS",'[1]13日_公式練習①-結果表（貼付）'!A15="DQ"),'[1]13日_公式練習①-結果表（貼付）'!A15,IF(MAX('[1]13日_公式練習①-結果表（貼付）'!$A:$A)>A25,A25+1,"")) -> 14 | B26: =IFERROR(INDEX('[1]13日_公式練習①-結果表（貼付）'!A15:$Z$50,MATCH($A26,'[1]13日_公式練習①-結果表（貼付）'!A15:$A$50,0),MATCH('13日_公式練習①-結果表'!B$11,'[1]13日_公式練習①-結果表（貼付）'!$1:$1,0)),"") -> 21 | D26: =IFERROR(INDEX('[1]13日_公式練習①-結果表（貼付）'!$A:$Z,MATCH($B26,'[1]13日_公式練習①-結果表（貼付）'!$B:$B,0),MATCH('13日_公式練習①-結果表'!D$11,'[1]13日_公式練習①-結果表（貼付）'!$1:$1,0)),"") -> 森川 貴光 | E26: =IFERROR(INDEX('[1]13日_公式練習①-結果表（貼付）'!$A:$Z,MATCH($B26,'[1]13日_公式練習①-結果表（貼付）'!$B:$B,0),MATCH('13日_公式練習①-結果表'!E$11,'[1]13日_公式練習①-結果表（貼付）'!$1:$1,0)),"") -> KOSMIC/YAMAHA | F26: =IFERROR(INDEX('[1]13日_公式練習①-結果表（貼付）'!$A:$Z,MATCH($B26,'[1]13日_公式練習①-結果表（貼付）'!$B:$B,0),MATCH('13日_公式練習①-結果表'!F$11,'[1]13日_公式練習①-結果表（貼付）'!$1:$1,0)),"") -> HIRAI PROJECT with Ash | G26: =IFERROR(INDEX('[1]13日_公式練習①-結果表（貼付）'!$A:$Z,MATCH($B26,'[1]13日_公式練習①-結果表（貼付）'!$B:$B,0),MATCH('13日_公式練習①-結果表'!G$11,'[1]13日_公式練習①-結果表（貼付）'!$1:$1,0)),"") -> BS | H26: =IF(A26="DNS","ｽﾀｰﾄ出来ず",IF(A26="DQ","失 格",IFERROR(INDEX('[1]13日_公式練習①-結果表（貼付）'!$A:$Z,MATCH($B26,'[1]13日_公式練習①-結果表（貼付）'!$B:$B,0),MATCH('13日_公式練習①-結果表'!H$11,'[1]13日_公式練習①-結果表（貼付）'!$1:$1,0)),""))) -> 55.428 | I26: =IF(H26<1,"",IF($I$11>H26,"R","")) | J26: =IF(A26="DNS","",IF(A26="DQ","",IFERROR(INDEX('[1]13日_公式練習①-結果表（貼付）'!$A:$Z,MATCH($B26,'[1]13日_公式練習①-結果表（貼付）'!$B:$B,0),MATCH('13日_公式練習①-結果表'!J$11,'[1]13日_公式練習①-結果表（貼付）'!$1:$1,0)),""))) -> 0.652 | K26: =IF(A26="DNS","",IF(A26="DQ","",IFERROR(INDEX('[1]13日_公式練習①-結果表（貼付）'!$A:$Z,MATCH($B26,'[1]13日_公式練習①-結果表（貼付）'!$B:$B,0),MATCH('13日_公式練習①-結果表'!K$11,'[1]13日_公式練習①-結果表（貼付）'!$1:$1,0)),""))) -> 0.014 | L26: =IF(A26="DNS","",IF(A26="DQ","",IFERROR(INDEX('[1]13日_公式練習①-結果表（貼付）'!$A:$Z,MATCH($B26,'[1]13日_公式練習①-結果表（貼付）'!$B:$B,0),MATCH("In Lap",'[1]13日_公式練習①-結果表（貼付）'!$1:$1,0))&"/"&INDEX('[1]13日_公式練習①-結果表（貼付）'!$A:$Z,MATCH($B26,'[1]13日_公式練習①-結果表（貼付）'!$B:$B,0),MATCH("Laps",'[1]13日_公式練習①-結果表（貼付）'!$1:$1,0)),""))) -> 4/6 | P26: =IF(IFERROR(INDEX('[1]13日_公式練習①-結果表（貼付）'!$A:$Z,MATCH($B26,'[1]13日_公式練習①-結果表（貼付）'!$B:$B,0),MATCH(P$11,'[1]13日_公式練習①-結果表（貼付）'!$1:$1,0)),"")=0,"",IFERROR(INDEX('[1]13日_公式練習①-結果表（貼付）'!$A:$Z,MATCH($B26,'[1]13日_公式練習①-結果表（貼付）'!$B:$B,0),MATCH(P$11,'[1]13日_公式練習①-結果表（貼付）'!$1:$1,0)),"")) | Q26: =IF(P26="","",COUNTIF($P$13:P26,"<>"&"")) | R26: =IFERROR(RANK(Q26,$Q$13:$Q$46,1),"") | S26: =IF(IFERROR(INDEX('[1]13日_公式練習①-結果表（貼付）'!$A:$Z,MATCH($A26,'[1]13日_公式練習①-結果表（貼付）'!$A:$A,0),MATCH(S$11,'[1]13日_公式練習①-結果表（貼付）'!$1:$1,0)),"")=0,"",IFERROR(INDEX('[1]13日_公式練習①-結果表（貼付）'!$A:$Z,MATCH($A26,'[1]13日_公式練習①-結果表（貼付）'!$A:$A,0),MATCH(S$11,'[1]13日_公式練習①-結果表（貼付）'!$1:$1,0)),""))
A27: =IF(OR('[1]13日_公式練習①-結果表（貼付）'!A16="DNF",'[1]13日_公式練習①-結果表（貼付）'!A16="DNS",'[1]13日_公式練習①-結果表（貼付）'!A16="DQ"),'[1]13日_公式練習①-結果表（貼付）'!A16,IF(MAX('[1]13日_公式練習①-結果表（貼付）'!$A:$A)>A26,A26+1,"")) -> 15 | B27: =IFERROR(INDEX('[1]13日_公式練習①-結果表（貼付）'!A16:$Z$50,MATCH($A27,'[1]13日_公式練習①-結果表（貼付）'!A16:$A$50,0),MATCH('13日_公式練習①-結果表'!B$11,'[1]13日_公式練習①-結果表（貼付）'!$1:$1,0)),"") -> 20 | D27: =IFERROR(INDEX('[1]13日_公式練習①-結果表（貼付）'!$A:$Z,MATCH($B27,'[1]13日_公式練習①-結果表（貼付）'!$B:$B,0),MATCH('13日_公式練習①-結果表'!D$11,'[1]13日_公式練習①-結果表（貼付）'!$1:$1,0)),"") -> 岸 秀行 | E27: =IFERROR(INDEX('[1]13日_公式練習①-結果表（貼付）'!$A:$Z,MATCH($B27,'[1]13日_公式練習①-結果表（貼付）'!$B:$B,0),MATCH('13日_公式練習①-結果表'!E$11,'[1]13日_公式練習①-結果表（貼付）'!$1:$1,0)),"") -> KOSMIC/YAMAHA | F27: =IFERROR(INDEX('[1]13日_公式練習①-結果表（貼付）'!$A:$Z,MATCH($B27,'[1]13日_公式練習①-結果表（貼付）'!$B:$B,0),MATCH('13日_公式練習①-結果表'!F$11,'[1]13日_公式練習①-結果表（貼付）'!$1:$1,0)),"") -> チームナガオ・大阪鶴見法律事務所 | G27: =IFERROR(INDEX('[1]13日_公式練習①-結果表（貼付）'!$A:$Z,MATCH($B27,'[1]13日_公式練習①-結果表（貼付）'!$B:$B,0),MATCH('13日_公式練習①-結果表'!G$11,'[1]13日_公式練習①-結果表（貼付）'!$1:$1,0)),"") -> BS | H27: =IF(A27="DNS","ｽﾀｰﾄ出来ず",IF(A27="DQ","失 格",IFERROR(INDEX('[1]13日_公式練習①-結果表（貼付）'!$A:$Z,MATCH($B27,'[1]13日_公式練習①-結果表（貼付）'!$B:$B,0),MATCH('13日_公式練習①-結果表'!H$11,'[1]13日_公式練習①-結果表（貼付）'!$1:$1,0)),""))) -> 55.51 | I27: =IF(H27<1,"",IF($I$11>H27,"R","")) | J27: =IF(A27="DNS","",IF(A27="DQ","",IFERROR(INDEX('[1]13日_公式練習①-結果表（貼付）'!$A:$Z,MATCH($B27,'[1]13日_公式練習①-結果表（貼付）'!$B:$B,0),MATCH('13日_公式練習①-結果表'!J$11,'[1]13日_公式練習①-結果表（貼付）'!$1:$1,0)),""))) -> 0.734 | K27: =IF(A27="DNS","",IF(A27="DQ","",IFERROR(INDEX('[1]13日_公式練習①-結果表（貼付）'!$A:$Z,MATCH($B27,'[1]13日_公式練習①-結果表（貼付）'!$B:$B,0),MATCH('13日_公式練習①-結果表'!K$11,'[1]13日_公式練習①-結果表（貼付）'!$1:$1,0)),""))) -> 0.082 | L27: =IF(A27="DNS","",IF(A27="DQ","",IFERROR(INDEX('[1]13日_公式練習①-結果表（貼付）'!$A:$Z,MATCH($B27,'[1]13日_公式練習①-結果表（貼付）'!$B:$B,0),MATCH("In Lap",'[1]13日_公式練習①-結果表（貼付）'!$1:$1,0))&"/"&INDEX('[1]13日_公式練習①-結果表（貼付）'!$A:$Z,MATCH($B27,'[1]13日_公式練習①-結果表（貼付）'!$B:$B,0),MATCH("Laps",'[1]13日_公式練習①-結果表（貼付）'!$1:$1,0)),""))) -> 10/10 | P27: =IF(IFERROR(INDEX('[1]13日_公式練習①-結果表（貼付）'!$A:$Z,MATCH($B27,'[1]13日_公式練習①-結果表（貼付）'!$B:$B,0),MATCH(P$11,'[1]13日_公式練習①-結果表（貼付）'!$1:$1,0)),"")=0,"",IFERROR(INDEX('[1]13日_公式練習①-結果表（貼付）'!$A:$Z,MATCH($B27,'[1]13日_公式練習①-結果表（貼付）'!$B:$B,0),MATCH(P$11,'[1]13日_公式練習①-結果表（貼付）'!$1:$1,0)),"")) | Q27: =IF(P27="","",COUNTIF($P$13:P27,"<>"&"")) | R27: =IFERROR(RANK(Q27,$Q$13:$Q$46,1),"") | S27: =IF(IFERROR(INDEX('[1]13日_公式練習①-結果表（貼付）'!$A:$Z,MATCH($A27,'[1]13日_公式練習①-結果表（貼付）'!$A:$A,0),MATCH(S$11,'[1]13日_公式練習①-結果表（貼付）'!$1:$1,0)),"")=0,"",IFERROR(INDEX('[1]13日_公式練習①-結果表（貼付）'!$A:$Z,MATCH($A27,'[1]13日_公式練習①-結果表（貼付）'!$A:$A,0),MATCH(S$11,'[1]13日_公式練習①-結果表（貼付）'!$1:$1,0)),""))
A28: =IF(OR('[1]13日_公式練習①-結果表（貼付）'!A17="DNF",'[1]13日_公式練習①-結果表（貼付）'!A17="DNS",'[1]13日_公式練習①-結果表（貼付）'!A17="DQ"),'[1]13日_公式練習①-結果表（貼付）'!A17,IF(MAX('[1]13日_公式練習①-結果表（貼付）'!$A:$A)>A27,A27+1,"")) -> 16 | B28: =IFERROR(INDEX('[1]13日_公式練習①-結果表（貼付）'!A17:$Z$50,MATCH($A28,'[1]13日_公式練習①-結果表（貼付）'!A17:$A$50,0),MATCH('13日_公式練習①-結果表'!B$11,'[1]13日_公式練習①-結果表（貼付）'!$1:$1,0)),"") -> 16 | D28: =IFERROR(INDEX('[1]13日_公式練習①-結果表（貼付）'!$A:$Z,MATCH($B28,'[1]13日_公式練習①-結果表（貼付）'!$B:$B,0),MATCH('13日_公式練習①-結果表'!D$11,'[1]13日_公式練習①-結果表（貼付）'!$1:$1,0)),"") -> 佐藤 こころ | E28: =IFERROR(INDEX('[1]13日_公式練習①-結果表（貼付）'!$A:$Z,MATCH($B28,'[1]13日_公式練習①-結果表（貼付）'!$B:$B,0),MATCH('13日_公式練習①-結果表'!E$11,'[1]13日_公式練習①-結果表（貼付）'!$1:$1,0)),"") -> EXPRIT/YAMAHA | F28: =IFERROR(INDEX('[1]13日_公式練習①-結果表（貼付）'!$A:$Z,MATCH($B28,'[1]13日_公式練習①-結果表（貼付）'!$B:$B,0),MATCH('13日_公式練習①-結果表'!F$11,'[1]13日_公式練習①-結果表（貼付）'!$1:$1,0)),"") -> チームナガオ | G28: =IFERROR(INDEX('[1]13日_公式練習①-結果表（貼付）'!$A:$Z,MATCH($B28,'[1]13日_公式練習①-結果表（貼付）'!$B:$B,0),MATCH('13日_公式練習①-結果表'!G$11,'[1]13日_公式練習①-結果表（貼付）'!$1:$1,0)),"") -> BS | H28: =IF(A28="DNS","ｽﾀｰﾄ出来ず",IF(A28="DQ","失 格",IFERROR(INDEX('[1]13日_公式練習①-結果表（貼付）'!$A:$Z,MATCH($B28,'[1]13日_公式練習①-結果表（貼付）'!$B:$B,0),MATCH('13日_公式練習①-結果表'!H$11,'[1]13日_公式練習①-結果表（貼付）'!$1:$1,0)),""))) -> 55.531 | I28: =IF(H28<1,"",IF($I$11>H28,"R","")) | J28: =IF(A28="DNS","",IF(A28="DQ","",IFERROR(INDEX('[1]13日_公式練習①-結果表（貼付）'!$A:$Z,MATCH($B28,'[1]13日_公式練習①-結果表（貼付）'!$B:$B,0),MATCH('13日_公式練習①-結果表'!J$11,'[1]13日_公式練習①-結果表（貼付）'!$1:$1,0)),""))) -> 0.755 | K28: =IF(A28="DNS","",IF(A28="DQ","",IFERROR(INDEX('[1]13日_公式練習①-結果表（貼付）'!$A:$Z,MATCH($B28,'[1]13日_公式練習①-結果表（貼付）'!$B:$B,0),MATCH('13日_公式練習①-結果表'!K$11,'[1]13日_公式練習①-結果表（貼付）'!$1:$1,0)),""))) -> 0.021 | L28: =IF(A28="DNS","",IF(A28="DQ","",IFERROR(INDEX('[1]13日_公式練習①-結果表（貼付）'!$A:$Z,MATCH($B28,'[1]13日_公式練習①-結果表（貼付）'!$B:$B,0),MATCH("In Lap",'[1]13日_公式練習①-結果表（貼付）'!$1:$1,0))&"/"&INDEX('[1]13日_公式練習①-結果表（貼付）'!$A:$Z,MATCH($B28,'[1]13日_公式練習①-結果表（貼付）'!$B:$B,0),MATCH("Laps",'[1]13日_公式練習①-結果表（貼付）'!$1:$1,0)),""))) -> 6/7 | P28: =IF(IFERROR(INDEX('[1]13日_公式練習①-結果表（貼付）'!$A:$Z,MATCH($B28,'[1]13日_公式練習①-結果表（貼付）'!$B:$B,0),MATCH(P$11,'[1]13日_公式練習①-結果表（貼付）'!$1:$1,0)),"")=0,"",IFERROR(INDEX('[1]13日_公式練習①-結果表（貼付）'!$A:$Z,MATCH($B28,'[1]13日_公式練習①-結果表（貼付）'!$B:$B,0),MATCH(P$11,'[1]13日_公式練習①-結果表（貼付）'!$1:$1,0)),"")) | Q28: =IF(P28="","",COUNTIF($P$13:P28,"<>"&"")) | R28: =IFERROR(RANK(Q28,$Q$13:$Q$46,1),"") | S28: =IF(IFERROR(INDEX('[1]13日_公式練習①-結果表（貼付）'!$A:$Z,MATCH($A28,'[1]13日_公式練習①-結果表（貼付）'!$A:$A,0),MATCH(S$11,'[1]13日_公式練習①-結果表（貼付）'!$1:$1,0)),"")=0,"",IFERROR(INDEX('[1]13日_公式練習①-結果表（貼付）'!$A:$Z,MATCH($A28,'[1]13日_公式練習①-結果表（貼付）'!$A:$A,0),MATCH(S$11,'[1]13日_公式練習①-結果表（貼付）'!$1:$1,0)),""))
A29: =IF(OR('[1]13日_公式練習①-結果表（貼付）'!A18="DNF",'[1]13日_公式練習①-結果表（貼付）'!A18="DNS",'[1]13日_公式練習①-結果表（貼付）'!A18="DQ"),'[1]13日_公式練習①-結果表（貼付）'!A18,IF(MAX('[1]13日_公式練習①-結果表（貼付）'!$A:$A)>A28,A28+1,"")) -> 17 | B29: =IFERROR(INDEX('[1]13日_公式練習①-結果表（貼付）'!A18:$Z$50,MATCH($A29,'[1]13日_公式練習①-結果表（貼付）'!A18:$A$50,0),MATCH('13日_公式練習①-結果表'!B$11,'[1]13日_公式練習①-結果表（貼付）'!$1:$1,0)),"") -> 34 | D29: =IFERROR(INDEX('[1]13日_公式練習①-結果表（貼付）'!$A:$Z,MATCH($B29,'[1]13日_公式練習①-結果表（貼付）'!$B:$B,0),MATCH('13日_公式練習①-結果表'!D$11,'[1]13日_公式練習①-結果表（貼付）'!$1:$1,0)),"") -> 増田 貴久 | E29: =IFERROR(INDEX('[1]13日_公式練習①-結果表（貼付）'!$A:$Z,MATCH($B29,'[1]13日_公式練習①-結果表（貼付）'!$B:$B,0),MATCH('13日_公式練習①-結果表'!E$11,'[1]13日_公式練習①-結果表（貼付）'!$1:$1,0)),"") -> EXPRIT/YAMAHA | F29: =IFERROR(INDEX('[1]13日_公式練習①-結果表（貼付）'!$A:$Z,MATCH($B29,'[1]13日_公式練習①-結果表（貼付）'!$B:$B,0),MATCH('13日_公式練習①-結果表'!F$11,'[1]13日_公式練習①-結果表（貼付）'!$1:$1,0)),"") -> LUCE MOTOR SPORTS | G29: =IFERROR(INDEX('[1]13日_公式練習①-結果表（貼付）'!$A:$Z,MATCH($B29,'[1]13日_公式練習①-結果表（貼付）'!$B:$B,0),MATCH('13日_公式練習①-結果表'!G$11,'[1]13日_公式練習①-結果表（貼付）'!$1:$1,0)),"") -> BS | H29: =IF(A29="DNS","ｽﾀｰﾄ出来ず",IF(A29="DQ","失 格",IFERROR(INDEX('[1]13日_公式練習①-結果表（貼付）'!$A:$Z,MATCH($B29,'[1]13日_公式練習①-結果表（貼付）'!$B:$B,0),MATCH('13日_公式練習①-結果表'!H$11,'[1]13日_公式練習①-結果表（貼付）'!$1:$1,0)),""))) -> 55.564 | I29: =IF(H29<1,"",IF($I$11>H29,"R","")) | J29: =IF(A29="DNS","",IF(A29="DQ","",IFERROR(INDEX('[1]13日_公式練習①-結果表（貼付）'!$A:$Z,MATCH($B29,'[1]13日_公式練習①-結果表（貼付）'!$B:$B,0),MATCH('13日_公式練習①-結果表'!J$11,'[1]13日_公式練習①-結果表（貼付）'!$1:$1,0)),""))) -> 0.788 | K29: =IF(A29="DNS","",IF(A29="DQ","",IFERROR(INDEX('[1]13日_公式練習①-結果表（貼付）'!$A:$Z,MATCH($B29,'[1]13日_公式練習①-結果表（貼付）'!$B:$B,0),MATCH('13日_公式練習①-結果表'!K$11,'[1]13日_公式練習①-結果表（貼付）'!$1:$1,0)),""))) -> 0.033 | L29: =IF(A29="DNS","",IF(A29="DQ","",IFERROR(INDEX('[1]13日_公式練習①-結果表（貼付）'!$A:$Z,MATCH($B29,'[1]13日_公式練習①-結果表（貼付）'!$B:$B,0),MATCH("In Lap",'[1]13日_公式練習①-結果表（貼付）'!$1:$1,0))&"/"&INDEX('[1]13日_公式練習①-結果表（貼付）'!$A:$Z,MATCH($B29,'[1]13日_公式練習①-結果表（貼付）'!$B:$B,0),MATCH("Laps",'[1]13日_公式練習①-結果表（貼付）'!$1:$1,0)),""))) -> 6/7 | P29: =IF(IFERROR(INDEX('[1]13日_公式練習①-結果表（貼付）'!$A:$Z,MATCH($B29,'[1]13日_公式練習①-結果表（貼付）'!$B:$B,0),MATCH(P$11,'[1]13日_公式練習①-結果表（貼付）'!$1:$1,0)),"")=0,"",IFERROR(INDEX('[1]13日_公式練習①-結果表（貼付）'!$A:$Z,MATCH($B29,'[1]13日_公式練習①-結果表（貼付）'!$B:$B,0),MATCH(P$11,'[1]13日_公式練習①-結果表（貼付）'!$1:$1,0)),"")) | Q29: =IF(P29="","",COUNTIF($P$13:P29,"<>"&"")) | R29: =IFERROR(RANK(Q29,$Q$13:$Q$46,1),"") | S29: =IF(IFERROR(INDEX('[1]13日_公式練習①-結果表（貼付）'!$A:$Z,MATCH($A29,'[1]13日_公式練習①-結果表（貼付）'!$A:$A,0),MATCH(S$11,'[1]13日_公式練習①-結果表（貼付）'!$1:$1,0)),"")=0,"",IFERROR(INDEX('[1]13日_公式練習①-結果表（貼付）'!$A:$Z,MATCH($A29,'[1]13日_公式練習①-結果表（貼付）'!$A:$A,0),MATCH(S$11,'[1]13日_公式練習①-結果表（貼付）'!$1:$1,0)),""))
A30: =IF(OR('[1]13日_公式練習①-結果表（貼付）'!A19="DNF",'[1]13日_公式練習①-結果表（貼付）'!A19="DNS",'[1]13日_公式練習①-結果表（貼付）'!A19="DQ"),'[1]13日_公式練習①-結果表（貼付）'!A19,IF(MAX('[1]13日_公式練習①-結果表（貼付）'!$A:$A)>A29,A29+1,"")) -> 18 | B30: =IFERROR(INDEX('[1]13日_公式練習①-結果表（貼付）'!A19:$Z$50,MATCH($A30,'[1]13日_公式練習①-結果表（貼付）'!A19:$A$50,0),MATCH('13日_公式練習①-結果表'!B$11,'[1]13日_公式練習①-結果表（貼付）'!$1:$1,0)),"") -> 54 | D30: =IFERROR(INDEX('[1]13日_公式練習①-結果表（貼付）'!$A:$Z,MATCH($B30,'[1]13日_公式練習①-結果表（貼付）'!$B:$B,0),MATCH('13日_公式練習①-結果表'!D$11,'[1]13日_公式練習①-結果表（貼付）'!$1:$1,0)),"") -> 越路 暢哉 | E30: =IFERROR(INDEX('[1]13日_公式練習①-結果表（貼付）'!$A:$Z,MATCH($B30,'[1]13日_公式練習①-結果表（貼付）'!$B:$B,0),MATCH('13日_公式練習①-結果表'!E$11,'[1]13日_公式練習①-結果表（貼付）'!$1:$1,0)),"") -> REDSPEED/YAMAHA | F30: =IFERROR(INDEX('[1]13日_公式練習①-結果表（貼付）'!$A:$Z,MATCH($B30,'[1]13日_公式練習①-結果表（貼付）'!$B:$B,0),MATCH('13日_公式練習①-結果表'!F$11,'[1]13日_公式練習①-結果表（貼付）'!$1:$1,0)),"") -> ONE POINT | G30: =IFERROR(INDEX('[1]13日_公式練習①-結果表（貼付）'!$A:$Z,MATCH($B30,'[1]13日_公式練習①-結果表（貼付）'!$B:$B,0),MATCH('13日_公式練習①-結果表'!G$11,'[1]13日_公式練習①-結果表（貼付）'!$1:$1,0)),"") -> BS | H30: =IF(A30="DNS","ｽﾀｰﾄ出来ず",IF(A30="DQ","失 格",IFERROR(INDEX('[1]13日_公式練習①-結果表（貼付）'!$A:$Z,MATCH($B30,'[1]13日_公式練習①-結果表（貼付）'!$B:$B,0),MATCH('13日_公式練習①-結果表'!H$11,'[1]13日_公式練習①-結果表（貼付）'!$1:$1,0)),""))) -> 55.753 | I30: =IF(H30<1,"",IF($I$11>H30,"R","")) | J30: =IF(A30="DNS","",IF(A30="DQ","",IFERROR(INDEX('[1]13日_公式練習①-結果表（貼付）'!$A:$Z,MATCH($B30,'[1]13日_公式練習①-結果表（貼付）'!$B:$B,0),MATCH('13日_公式練習①-結果表'!J$11,'[1]13日_公式練習①-結果表（貼付）'!$1:$1,0)),""))) -> 0.977 | K30: =IF(A30="DNS","",IF(A30="DQ","",IFERROR(INDEX('[1]13日_公式練習①-結果表（貼付）'!$A:$Z,MATCH($B30,'[1]13日_公式練習①-結果表（貼付）'!$B:$B,0),MATCH('13日_公式練習①-結果表'!K$11,'[1]13日_公式練習①-結果表（貼付）'!$1:$1,0)),""))) -> 0.189 | L30: =IF(A30="DNS","",IF(A30="DQ","",IFERROR(INDEX('[1]13日_公式練習①-結果表（貼付）'!$A:$Z,MATCH($B30,'[1]13日_公式練習①-結果表（貼付）'!$B:$B,0),MATCH("In Lap",'[1]13日_公式練習①-結果表（貼付）'!$1:$1,0))&"/"&INDEX('[1]13日_公式練習①-結果表（貼付）'!$A:$Z,MATCH($B30,'[1]13日_公式練習①-結果表（貼付）'!$B:$B,0),MATCH("Laps",'[1]13日_公式練習①-結果表（貼付）'!$1:$1,0)),""))) -> 6/6 | P30: =IF(IFERROR(INDEX('[1]13日_公式練習①-結果表（貼付）'!$A:$Z,MATCH($B30,'[1]13日_公式練習①-結果表（貼付）'!$B:$B,0),MATCH(P$11,'[1]13日_公式練習①-結果表（貼付）'!$1:$1,0)),"")=0,"",IFERROR(INDEX('[1]13日_公式練習①-結果表（貼付）'!$A:$Z,MATCH($B30,'[1]13日_公式練習①-結果表（貼付）'!$B:$B,0),MATCH(P$11,'[1]13日_公式練習①-結果表（貼付）'!$1:$1,0)),"")) | Q30: =IF(P30="","",COUNTIF($P$13:P30,"<>"&"")) | R30: =IFERROR(RANK(Q30,$Q$13:$Q$46,1),"") | S30: =IF(IFERROR(INDEX('[1]13日_公式練習①-結果表（貼付）'!$A:$Z,MATCH($A30,'[1]13日_公式練習①-結果表（貼付）'!$A:$A,0),MATCH(S$11,'[1]13日_公式練習①-結果表（貼付）'!$1:$1,0)),"")=0,"",IFERROR(INDEX('[1]13日_公式練習①-結果表（貼付）'!$A:$Z,MATCH($A30,'[1]13日_公式練習①-結果表（貼付）'!$A:$A,0),MATCH(S$11,'[1]13日_公式練習①-結果表（貼付）'!$1:$1,0)),""))
... A46: =IF(OR('[1]13日_公式練習①-結果表（貼付）'!A35="DNF",'[1]13日_公式練習①-結果表（貼付）'!A35="DNS",'[1]13日_公式練習①-結果表（貼付）'!A35="DQ"),'[1]13日_公式練習①-結果表（貼付）'!A35,IF(MAX('[1]13日_公式練習①-結果表（貼付）'!$A:$A)>A45,A45+1,"")) | B46: =IFERROR(INDEX('[1]13日_公式練習①-結果表（貼付）'!A35:$Z$50,MATCH($A46,'[1]13日_公式練習①-結果表（貼付）'!A35:$A$50,0),MATCH('13日_公式練習①-結果表'!B$11,'[1]13日_公式練習①-結果表（貼付）'!$1:$1,0)),"") | D46: =IFERROR(INDEX('[1]13日_公式練習①-結果表（貼付）'!$A:$Z,MATCH($B46,'[1]13日_公式練習①-結果表（貼付）'!$B:$B,0),MATCH('13日_公式練習①-結果表'!D$11,'[1]13日_公式練習①-結果表（貼付）'!$1:$1,0)),"") | E46: =IFERROR(INDEX('[1]13日_公式練習①-結果表（貼付）'!$A:$Z,MATCH($B46,'[1]13日_公式練習①-結果表（貼付）'!$B:$B,0),MATCH('13日_公式練習①-結果表'!E$11,'[1]13日_公式練習①-結果表（貼付）'!$1:$1,0)),"") | F46: =IFERROR(INDEX('[1]13日_公式練習①-結果表（貼付）'!$A:$Z,MATCH($B46,'[1]13日_公式練習①-結果表（貼付）'!$B:$B,0),MATCH('13日_公式練習①-結果表'!F$11,'[1]13日_公式練習①-結果表（貼付）'!$1:$1,0)),"") | G46: =IFERROR(INDEX('[1]13日_公式練習①-結果表（貼付）'!$A:$Z,MATCH($B46,'[1]13日_公式練習①-結果表（貼付）'!$B:$B,0),MATCH('13日_公式練習①-結果表'!G$11,'[1]13日_公式練習①-結果表（貼付）'!$1:$1,0)),"") | H46: =IF(A46="DNS","ｽﾀｰﾄ出来ず",IF(A46="DQ","失 格",IFERROR(INDEX('[1]13日_公式練習①-結果表（貼付）'!$A:$Z,MATCH($B46,'[1]13日_公式練習①-結果表（貼付）'!$B:$B,0),MATCH('13日_公式練習①-結果表'!H$11,'[1]13日_公式練習①-結果表（貼付）'!$1:$1,0)),""))) | I46: =IF(H46<1,"",IF($I$11>H46,"R","")) | J46: =IF(A46="DNS","",IF(A46="DQ","",IFERROR(INDEX('[1]13日_公式練習①-結果表（貼付）'!$A:$Z,MATCH($B46,'[1]13日_公式練習①-結果表（貼付）'!$B:$B,0),MATCH('13日_公式練習①-結果表'!J$11,'[1]13日_公式練習①-結果表（貼付）'!$1:$1,0)),""))) | K46: =IF(A46="DNS","",IF(A46="DQ","",IFERROR(INDEX('[1]13日_公式練習①-結果表（貼付）'!$A:$Z,MATCH($B46,'[1]13日_公式練習①-結果表（貼付）'!$B:$B,0),MATCH('13日_公式練習①-結果表'!K$11,'[1]13日_公式練習①-結果表（貼付）'!$1:$1,0)),""))) | L46: =IF(A46="DNS","",IF(A46="DQ","",IFERROR(INDEX('[1]13日_公式練習①-結果表（貼付）'!$A:$Z,MATCH($B46,'[1]13日_公式練習①-結果表（貼付）'!$B:$B,0),MATCH("In Lap",'[1]13日_公式練習①-結果表（貼付）'!$1:$1,0))&"/"&INDEX('[1]13日_公式練習①-結果表（貼付）'!$A:$Z,MATCH($B46,'[1]13日_公式練習①-結果表（貼付）'!$B:$B,0),MATCH("Laps",'[1]13日_公式練習①-結果表（貼付）'!$1:$1,0)),""))) | P46: =IF(IFERROR(INDEX('[1]13日_公式練習①-結果表（貼付）'!$A:$Z,MATCH($B46,'[1]13日_公式練習①-結果表（貼付）'!$B:$B,0),MATCH(P$11,'[1]13日_公式練習①-結果表（貼付）'!$1:$1,0)),"")=0,"",IFERROR(INDEX('[1]13日_公式練習①-結果表（貼付）'!$A:$Z,MATCH($B46,'[1]13日_公式練習①-結果表（貼付）'!$B:$B,0),MATCH(P$11,'[1]13日_公式練習①-結果表（貼付）'!$1:$1,0)),"")) | Q46: =IF(P46="","",COUNTIF($P$13:P46,"<>"&"")) | R46: =IFERROR(RANK(Q46,$Q$13:$Q$46,1),"") | S46: =IF(IFERROR(INDEX('[1]13日_公式練習①-結果表（貼付）'!$A:$Z,MATCH($A46,'[1]13日_公式練習①-結果表（貼付）'!$A:$A,0),MATCH(S$11,'[1]13日_公式練習①-結果表（貼付）'!$1:$1,0)),"")=0,"",IFERROR(INDEX('[1]13日_公式練習①-結果表（貼付）'!$A:$Z,MATCH($A46,'[1]13日_公式練習①-結果表（貼付）'!$A:$A,0),MATCH(S$11,'[1]13日_公式練習①-結果表（貼付）'!$1:$1,0)),""))
A49: =IF(COUNTIF(I:I,"R")>=1,"R マークの車は、コースレコードを更新しました。従来のレコードタイムは"&" "&TEXT(ROUND($I$11,3),"[<1]m'ss.000;##0.000"),"")
A52: =IF(A53="","","ﾍﾟﾅﾙﾃｨ")
A53: =IF(MAX(Q13:Q46)<1,"",1) | B53: =IF(A53="","","No."&INDEX($A$11:$Y$46,MATCH($A53,$R$11:$R$46,0),MATCH("No.",$11:$11,0))) | C53: =INDEX($A$11:$Y$46,MATCH($A53,$R$11:$R$46,0),MATCH("コメント",$11:$11,0))
A54: =IF(A53<COUNTIF($R$12:$R$46,">"&0),A53+1,"") | B54: =IF(A54="","","No."&INDEX($A$11:$Y$46,MATCH($A54,$R$11:$R$46,0),MATCH("No.",$11:$11,0))) | C54: =INDEX($A$11:$Y$46,MATCH($A54,$R$11:$R$46,0),MATCH("コメント",$11:$11,0))
A55: =IF(A54<COUNTIF($R$12:$R$46,">"&0),A54+1,"") | B55: =IF(A55="","","No."&INDEX($A$11:$Y$46,MATCH($A55,$R$11:$R$46,0),MATCH("No.",$11:$11,0))) | C55: =INDEX($A$11:$Y$46,MATCH($A55,$R$11:$R$46,0),MATCH("コメント",$11:$11,0))
A56: =IF(A55<COUNTIF($R$12:$R$46,">"&0),A55+1,"") | B56: =IF(A56="","","No."&INDEX($A$11:$Y$46,MATCH($A56,$R$11:$R$46,0),MATCH("No.",$11:$11,0))) | C56: =INDEX($A$11:$Y$46,MATCH($A56,$R$11:$R$46,0),MATCH("コメント",$11:$11,0))
A57: =IF(A56<COUNTIF($R$12:$R$46,">"&0),A56+1,"") | B57: =IF(A57="","","No."&INDEX($A$11:$Y$46,MATCH($A57,$R$11:$R$46,0),MATCH("No.",$11:$11,0))) | C57: =INDEX($A$11:$Y$46,MATCH($A57,$R$11:$R$46,0),MATCH("コメント",$11:$11,0))
A58: =IF(A57<COUNTIF($R$12:$R$46,">"&0),A57+1,"") | B58: =IF(A58="","","No."&INDEX($A$11:$Y$46,MATCH($A58,$R$11:$R$46,0),MATCH("No.",$11:$11,0))) | C58: =INDEX($A$11:$Y$46,MATCH($A58,$R$11:$R$46,0),MATCH("コメント",$11:$11,0))
A59: =IF(A58<COUNTIF($R$12:$R$46,">"&0),A58+1,"") | B59: =IF(A59="","","No."&INDEX($A$11:$Y$46,MATCH($A59,$R$11:$R$46,0),MATCH("No.",$11:$11,0))) | C59: =INDEX($A$11:$Y$46,MATCH($A59,$R$11:$R$46,0),MATCH("コメント",$11:$11,0))
A60: =IF(A59<COUNTIF($R$12:$R$46,">"&0),A59+1,"") | B60: =IF(A60="","","No."&INDEX($A$11:$Y$46,MATCH($A60,$R$11:$R$46,0),MATCH("No.",$11:$11,0))) | C60: =INDEX($A$11:$Y$46,MATCH($A60,$R$11:$R$46,0),MATCH("コメント",$11:$11,0))
A61: =IF(A60<COUNTIF($R$12:$R$46,">"&0),A60+1,"") | B61: =IF(A61="","","No."&INDEX($A$11:$Y$46,MATCH($A61,$R$11:$R$46,0),MATCH("No.",$11:$11,0))) | C61: =INDEX($A$11:$Y$46,MATCH($A61,$R$11:$R$46,0),MATCH("コメント",$11:$11,0))
A62: =IF(A61<COUNTIF($R$12:$R$46,">"&0),A61+1,"") | B62: =IF(A62="","","No."&INDEX($A$11:$Y$46,MATCH($A62,$R$11:$R$46,0),MATCH("No.",$11:$11,0))) | C62: =INDEX($A$11:$Y$46,MATCH($A62,$R$11:$R$46,0),MATCH("コメント",$11:$11,0))
A63: =IF(A62<COUNTIF($R$12:$R$46,">"&0),A62+1,"") | B63: =IF(A63="","","No."&INDEX($A$11:$Y$46,MATCH($A63,$R$11:$R$46,0),MATCH("No.",$11:$11,0))) | C63: =INDEX($A$11:$Y$46,MATCH($A63,$R$11:$R$46,0),MATCH("コメント",$11:$11,0))
B64: ="審査委員長 ："&" "&[1]各種設定!$D$20 -> 審査委員長 ： Makoto SAITO | F64: ="競技委員長 ："&" "&[1]各種設定!$D$22 -> 競技委員長 ： Toshiaki KUBOTA | I64: ="計時委員長 ："&" "&[1]各種設定!$D$24 -> 計時委員長 ： Tsutomu HAYAKAWA

Sheet 13日_公式練習②-結果表
J6: 44878 | L6: :
A7: =+[1]各種設定!D2 -> 2022年 全日本カート選手権 FS-125/FP-3部門 東西統一競技会 | J7: WEATHER: | K7: Cloudy
J8: COURSE : | K8: Dry
A9: =+[1]各種設定!D4 -> FP-3 | J9: 南コース 1.264Km
A10: ② Ｇｒ.公式練習（11/13）結果表
B11: No. | C11: クラス | D11: 名前 | E11: Model/Engine | F11: Team | G11: Tires | H11: BestLap | I11: =VLOOKUP(A9,[1]コースレコード!$A:$G,3,FALSE) -> 55.037 | J11: 差 | K11: GAP | P11: コメント | R11: ペナルティNo. | S11: グリッドコメント
A12: Pos. | B12: No. | D12: Driver | E12: Type | F12: Team | G12: Tire | H12: Time | J12: Delay | K12: Gap | L12: Lap
