Workbook

Sheet 予選ヒート-総合結果表
F6: =+[1]各種設定!D18 -> 44878 | H6: :
A7: =+[1]各種設定!D2 -> 2022年 全日本カート選手権 FS-125/FP-3部門 東西統一競技会 | G7: WEATHER： | H7: Fine
G8: COURSE : | H8: Dry
A9: =+[1]各種設定!D4 -> FP-3 | G9: 南コース 1.264Km
A10: 予選ヒート 総合結果表
B11: No. | C11: ポイント | D11: 名前 | E11: Model/Engine | F11: Team | G11: Tires | H11: 予選Time | L11: コメント | N11: ペナルティNo. | O11: グリッドコメント
A12: Pos. | B12: No. | C12: Point. | D12: Driver | E12: Type | F12: Team | G12: Tire | H12: 予選Time
A13: 1 | B13: =IFERROR(INDEX('[1]予選ヒート-総合結果表（整列）'!A2:$Z$50,MATCH($A13,'[1]予選ヒート-総合結果表（整列）'!A2:$A$50,0),MATCH('予選ヒート-総合結果表'!B$11,'[1]予選ヒート-総合結果表（整列）'!$1:$1,0)),"") -> 14 | C13: =IFERROR(INDEX('[1]予選ヒート-総合結果表（整列）'!$A:$Z,MATCH($B13,'[1]予選ヒート-総合結果表（整列）'!$B:$B,0),MATCH('予選ヒート-総合結果表'!C$11,'[1]予選ヒート-総合結果表（整列）'!$1:$1,0)),"") | D13: =IFERROR(INDEX('[1]予選ヒート-総合結果表（整列）'!$A:$Z,MATCH($B13,'[1]予選ヒート-総合結果表（整列）'!$B:$B,0),MATCH('予選ヒート-総合結果表'!D$11,'[1]予選ヒート-総合結果表（整列）'!$1:$1,0)),"") -> 春日 龍之介 | E13: =IFERROR(INDEX('[1]予選ヒート-総合結果表（整列）'!$A:$Z,MATCH($B13,'[1]予選ヒート-総合結果表（整列）'!$B:$B,0),MATCH('予選ヒート-総合結果表'!E$11,'[1]予選ヒート-総合結果表（整列）'!$1:$1,0)),"") -> XENON KART/YAMAHA | F13: =IFERROR(INDEX('[1]予選ヒート-総合結果表（整列）'!$A:$Z,MATCH($B13,'[1]予選ヒート-総合結果表（整列）'!$B:$B,0),MATCH('予選ヒート-総合結果表'!F$11,'[1]予選ヒート-総合結果表（整列）'!$1:$1,0)),"") -> SPS川口 | G13: =IFERROR(INDEX('[1]予選ヒート-総合結果表（整列）'!$A:$Z,MATCH($B13,'[1]予選ヒート-総合結果表（整列）'!$B:$B,0),MATCH('予選ヒート-総合結果表'!G$11,'[1]予選ヒート-総合結果表（整列）'!$1:$1,0)),"") -> BS | H13: =IFERROR(INDEX('[1]予選ヒート-総合結果表（整列）'!$A:$Z,MATCH($B13,'[1]予選ヒート-総合結果表（整列）'!$B:$B,0),MATCH('予選ヒート-総合結果表'!H$11,'[1]予選ヒート-総合結果表（整列）'!$1:$1,0)),"") -> 54.207 | L13: =IF(IFERROR(INDEX('[1]予選ヒート-総合結果表（整列）'!$A:$Z,MATCH($B13,'[1]予選ヒート-総合結果表（整列）'!$B:$B,0),MATCH(L$11,'[1]予選ヒート-総合結果表（整列）'!$1:$1,0)),"")=0,"",IFERROR(INDEX('[1]予選ヒート-総合結果表（整列）'!$A:$Z,MATCH($B13,'[1]予選ヒート-総合結果表（整列）'!$B:$B,0),MATCH(L$11,'[1]予選ヒート-総合結果表（整列）'!$1:$1,0)),"")) | M13: =IF(L13="","",COUNTIF($L$13:L13,"<>"&"")) | N13: =IFERROR(RANK(M13,$M$13:$M$46,1),"") | O13: =IF(IFERROR(INDEX('[1]予選ヒート-総合結果表（整列）'!$A:$Z,MATCH($A13,'[1]予選ヒート-総合結果表（整列）'!$A:$A,0),MATCH(O$11,'[1]予選ヒート-総合結果表（整列）'!$1:$1,0)),"")=0,"",IFERROR(INDEX('[1]予選ヒート-総合結果表（整列）'!$A:$Z,MATCH($A13,'[1]予選ヒート-総合結果表（整列）'!$A:$A,0),MATCH(O$11,'[1]予選ヒート-総合結果表（整列）'!$1:$1,0)),""))
A14: =IF(OR('[1]予選ヒート-総合結果表（整列）'!A3="DNF",'[1]予選ヒート-総合結果表（整列）'!A3="DNS",'[1]予選ヒート-総合結果表（整列）'!A3="DQ"),'[1]予選ヒート-総合結果表（整列）'!A3,IF(MAX('[1]予選ヒート-総合結果表（整列）'!$A:$A)>A13,A13+1,"")) -> 2 | B14: =IFERROR(INDEX('[1]予選ヒート-総合結果表（整列）'!A3:$Z$50,MATCH($A14,'[1]予選ヒート-総合結果表（整列）'!A3:$A$50,0),MATCH('予選ヒート-総合結果表'!B$11,'[1]予選ヒート-総合結果表（整列）'!$1:$1,0)),"") -> 11 | C14: =IFERROR(INDEX('[1]予選ヒート-総合結果表（整列）'!$A:$Z,MATCH($B14,'[1]予選ヒート-総合結果表（整列）'!$B:$B,0),MATCH('予選ヒート-総合結果表'!C$11,'[1]予選ヒート-総合結果表（整列）'!$1:$1,0)),"") | D14: =IFERROR(INDEX('[1]予選ヒート-総合結果表（整列）'!$A:$Z,MATCH($B14,'[1]予選ヒート-総合結果表（整列）'!$B:$B,0),MATCH('予選ヒート-総合結果表'!D$11,'[1]予選ヒート-総合結果表（整列）'!$1:$1,0)),"") -> 富下 李央菜 | E14: =IFERROR(INDEX('[1]予選ヒート-総合結果表（整列）'!$A:$Z,MATCH($B14,'[1]予選ヒート-総合結果表（整列）'!$B:$B,0),MATCH('予選ヒート-総合結果表'!E$11,'[1]予選ヒート-総合結果表（整列）'!$1:$1,0)),"") -> KOSMIC/YAMAHA | F14: =IFERROR(INDEX('[1]予選ヒート-総合結果表（整列）'!$A:$Z,MATCH($B14,'[1]予選ヒート-総合結果表（整列）'!$B:$B,0),MATCH('予選ヒート-総合結果表'!F$11,'[1]予選ヒート-総合結果表（整列）'!$1:$1,0)),"") -> Formula Blue TKC | G14: =IFERROR(INDEX('[1]予選ヒート-総合結果表（整列）'!$A:$Z,MATCH($B14,'[1]予選ヒート-総合結果表（整列）'!$B:$B,0),MATCH('予選ヒート-総合結果表'!G$11,'[1]予選ヒート-総合結果表（整列）'!$1:$1,0)),"") -> BS | H14: =IFERROR(INDEX('[1]予選ヒート-総合結果表（整列）'!$A:$Z,MATCH($B14,'[1]予選ヒート-総合結果表（整列）'!$B:$B,0),MATCH('予選ヒート-総合結果表'!H$11,'[1]予選ヒート-総合結果表（整列）'!$1:$1,0)),"") -> 54.419 | L14: =IF(IFERROR(INDEX('[1]予選ヒート-総合結果表（整列）'!$A:$Z,MATCH($B14,'[1]予選ヒート-総合結果表（整列）'!$B:$B,0),MATCH(L$11,'[1]予選ヒート-総合結果表（整列）'!$1:$1,0)),"")=0,"",IFERROR(INDEX('[1]予選ヒート-総合結果表（整列）'!$A:$Z,MATCH($B14,'[1]予選ヒート-総合結果表（整列）'!$B:$B,0),MATCH(L$11,'[1]予選ヒート-総合結果表（整列）'!$1:$1,0)),"")) | M14: =IF(L14="","",COUNTIF($L$13:L14,"<>"&"")) | N14: =IFERROR(RANK(M14,$M$13:$M$46,1),"") | O14: =IF(IFERROR(INDEX('[1]予選ヒート-総合結果表（整列）'!$A:$Z,MATCH($A14,'[1]予選ヒート-総合結果表（整列）'!$A:$A,0),MATCH(O$11,'[1]予選ヒート-総合結果表（整列）'!$1:$1,0)),"")=0,"",IFERROR(INDEX('[1]予選ヒート-総合結果表（整列）'!$A:$Z,MATCH($A14,'[1]予選ヒート-総合結果表（整列）'!$A:$A,0),MATCH(O$11,'[1]予選ヒート-総合結果表（整列）'!$1:$1,0)),""))
A15: =IF(OR('[1]予選ヒート-総合結果表（整列）'!A4="DNF",'[1]予選ヒート-総合結果表（整列）'!A4="DNS",'[1]予選ヒート-総合結果表（整列）'!A4="DQ"),'[1]予選ヒート-総合結果表（整列）'!A4,IF(MAX('[1]予選ヒート-総合結果表（整列）'!$A:$A)>A14,A14+1,"")) -> 3 | B15: =IFERROR(INDEX('[1]予選ヒート-総合結果表（整列）'!A4:$Z$50,MATCH($A15,'[1]予選ヒート-総合結果表（整列）'!A4:$A$50,0),MATCH('予選ヒート-総合結果表'!B$11,'[1]予選ヒート-総合結果表（整列）'!$1:$1,0)),"") -> 40 | C15: =IFERROR(INDEX('[1]予選ヒート-総合結果表（整列）'!$A:$Z,MATCH($B15,'[1]予選ヒート-総合結果表（整列）'!$B:$B,0),MATCH('予選ヒート-総合結果表'!C$11,'[1]予選ヒート-総合結果表（整列）'!$1:$1,0)),"") | D15: =IFERROR(INDEX('[1]予選ヒート-総合結果表（整列）'!$A:$Z,MATCH($B15,'[1]予選ヒート-総合結果表（整列）'!$B:$B,0),MATCH('予選ヒート-総合結果表'!D$11,'[1]予選ヒート-総合結果表（整列）'!$1:$1,0)),"") -> 大槻 直 | E15: =IFERROR(INDEX('[1]予選ヒート-総合結果表（整列）'!$A:$Z,MATCH($B15,'[1]予選ヒート-総合結果表（整列）'!$B:$B,0),MATCH('予選ヒート-総合結果表'!E$11,'[1]予選ヒート-総合結果表（整列）'!$1:$1,0)),"") -> TONY KART/YAMAHA | F15: =IFERROR(INDEX('[1]予選ヒート-総合結果表（整列）'!$A:$Z,MATCH($B15,'[1]予選ヒート-総合結果表（整列）'!$B:$B,0),MATCH('予選ヒート-総合結果表'!F$11,'[1]予選ヒート-総合結果表（整列）'!$1:$1,0)),"") -> ASH | G15: =IFERROR(INDEX('[1]予選ヒート-総合結果表（整列）'!$A:$Z,MATCH($B15,'[1]予選ヒート-総合結果表（整列）'!$B:$B,0),MATCH('予選ヒート-総合結果表'!G$11,'[1]予選ヒート-総合結果表（整列）'!$1:$1,0)),"") -> BS | H15: =IFERROR(INDEX('[1]予選ヒート-総合結果表（整列）'!$A:$Z,MATCH($B15,'[1]予選ヒート-総合結果表（整列）'!$B:$B,0),MATCH('予選ヒート-総合結果表'!H$11,'[1]予選ヒート-総合結果表（整列）'!$1:$1,0)),"") -> 54.518 | L15: =IF(IFERROR(INDEX('[1]予選ヒート-総合結果表（整列）'!$A:$Z,MATCH($B15,'[1]予選ヒート-総合結果表（整列）'!$B:$B,0),MATCH(L$11,'[1]予選ヒート-総合結果表（整列）'!$1:$1,0)),"")=0,"",IFERROR(INDEX('[1]予選ヒート-総合結果表（整列）'!$A:$Z,MATCH($B15,'[1]予選ヒート-総合結果表（整列）'!$B:$B,0),MATCH(L$11,'[1]予選ヒート-総合結果表（整列）'!$1:$1,0)),"")) | M15: =IF(L15="","",COUNTIF($L$13:L15,"<>"&"")) | N15: =IFERROR(RANK(M15,$M$13:$M$46,1),"") | O15: =IF(IFERROR(INDEX('[1]予選ヒート-総合結果表（整列）'!$A:$Z,MATCH($A15,'[1]予選ヒート-総合結果表（整列）'!$A:$A,0),MATCH(O$11,'[1]予選ヒート-総合結果表（整列）'!$1:$1,0)),"")=0,"",IFERROR(INDEX('[1]予選ヒート-総合結果表（整列）'!$A:$Z,MATCH($A15,'[1]予選ヒート-総合結果表（整列）'!$A:$A,0),MATCH(O$11,'[1]予選ヒート-総合結果表（整列）'!$1:$1,0)),""))
A16: =IF(OR('[1]予選ヒート-総合結果表（整列）'!A5="DNF",'[1]予選ヒート-総合結果表（整列）'!A5="DNS",'[1]予選ヒート-総合結果表（整列）'!A5="DQ"),'[1]予選ヒート-総合結果表（整列）'!A5,IF(MAX('[1]予選ヒート-総合結果表（整列）'!$A:$A)>A15,A15+1,"")) -> 4 | B16: =IFERROR(INDEX('[1]予選ヒート-総合結果表（整列）'!A5:$Z$50,MATCH($A16,'[1]予選ヒート-総合結果表（整列）'!A5:$A$50,0),MATCH('予選ヒート-総合結果表'!B$11,'[1]予選ヒート-総合結果表（整列）'!$1:$1,0)),"") -> 84 | C16: =IFERROR(INDEX('[1]予選ヒート-総合結果表（整列）'!$A:$Z,MATCH($B16,'[1]予選ヒート-総合結果表（整列）'!$B:$B,0),MATCH('予選ヒート-総合結果表'!C$11,'[1]予選ヒート-総合結果表（整列）'!$1:$1,0)),"") | D16: =IFERROR(INDEX('[1]予選ヒート-総合結果表（整列）'!$A:$Z,MATCH($B16,'[1]予選ヒート-総合結果表（整列）'!$B:$B,0),MATCH('予選ヒート-総合結果表'!D$11,'[1]予選ヒート-総合結果表（整列）'!$1:$1,0)),"") -> 林 零仁 | E16: =IFERROR(INDEX('[1]予選ヒート-総合結果表（整列）'!$A:$Z,MATCH($B16,'[1]予選ヒート-総合結果表（整列）'!$B:$B,0),MATCH('予選ヒート-総合結果表'!E$11,'[1]予選ヒート-総合結果表（整列）'!$1:$1,0)),"") -> EXPRIT/YAMAHA | F16: =IFERROR(INDEX('[1]予選ヒート-総合結果表（整列）'!$A:$Z,MATCH($B16,'[1]予選ヒート-総合結果表（整列）'!$B:$B,0),MATCH('予選ヒート-総合結果表'!F$11,'[1]予選ヒート-総合結果表（整列）'!$1:$1,0)),"") -> ONE POINT | G16: =IFERROR(INDEX('[1]予選ヒート-総合結果表（整列）'!$A:$Z,MATCH($B16,'[1]予選ヒート-総合結果表（整列）'!$B:$B,0),MATCH('予選ヒート-総合結果表'!G$11,'[1]予選ヒート-総合結果表（整列）'!$1:$1,0)),"") -> BS | H16: =IFERROR(INDEX('[1]予選ヒート-総合結果表（整列）'!$A:$Z,MATCH($B16,'[1]予選ヒート-総合結果表（整列）'!$B:$B,0),MATCH('予選ヒート-総合結果表'!H$11,'[1]予選ヒート-総合結果表（整列）'!$1:$1,0)),"") -> 55.231 | L16: =IF(IFERROR(INDEX('[1]予選ヒート-総合結果表（整列）'!$A:$Z,MATCH($B16,'[1]予選ヒート-総合結果表（整列）'!$B:$B,0),MATCH(L$11,'[1]予選ヒート-総合結果表（整列）'!$1:$1,0)),"")=0,"",IFERROR(INDEX('[1]予選ヒート-総合結果表（整列）'!$A:$Z,MATCH($B16,'[1]予選ヒート-総合結果表（整列）'!$B:$B,0),MATCH(L$11,'[1]予選ヒート-総合結果表（整列）'!$1:$1,0)),"")) | M16: =IF(L16="","",COUNTIF($L$13:L16,"<>"&"")) | N16: =IFERROR(RANK(M16,$M$13:$M$46,1),"") | O16: =IF(IFERROR(INDEX('[1]予選ヒート-総合結果表（整列）'!$A:$Z,MATCH($A16,'[1]予選ヒート-総合結果表（整列）'!$A:$A,0),MATCH(O$11,'[1]予選ヒート-総合結果表（整列）'!$1:$1,0)),"")=0,"",IFERROR(INDEX('[1]予選ヒート-総合結果表（整列）'!$A:$Z,MATCH($A16,'[1]予選ヒート-総合結果表（整列）'!$A:$A,0),MATCH(O$11,'[1]予選ヒート-総合結果表（整列）'!$1:$1,0)),""))
A17: =IF(OR('[1]予選ヒート-総合結果表（整列）'!A6="DNF",'[1]予選ヒート-総合結果表（整列）'!A6="DNS",'[1]予選ヒート-総合結果表（整列）'!A6="DQ"),'[1]予選ヒート-総合結果表（整列）'!A6,IF(MAX('[1]予選ヒート-総合結果表（整列）'!$A:$A)>A16,A16+1,"")) -> 5 | B17: =IFERROR(INDEX('[1]予選ヒート-総合結果表（整列）'!A6:$Z$50,MATCH($A17,'[1]予選ヒート-総合結果表（整列）'!A6:$A$50,0),MATCH('予選ヒート-総合結果表'!B$11,'[1]予選ヒート-総合結果表（整列）'!$1:$1,0)),"") -> 61 | C17: =IFERROR(INDEX('[1]予選ヒート-総合結果表（整列）'!$A:$Z,MATCH($B17,'[1]予選ヒート-総合結果表（整列）'!$B:$B,0),MATCH('予選ヒート-総合結果表'!C$11,'[1]予選ヒート-総合結果表（整列）'!$1:$1,0)),"") | D17: =IFERROR(INDEX('[1]予選ヒート-総合結果表（整列）'!$A:$Z,MATCH($B17,'[1]予選ヒート-総合結果表（整列）'!$B:$B,0),MATCH('予選ヒート-総合結果表'!D$11,'[1]予選ヒート-総合結果表（整列）'!$1:$1,0)),"") -> 寺島 知毅 | E17: =IFERROR(INDEX('[1]予選ヒート-総合結果表（整列）'!$A:$Z,MATCH($B17,'[1]予選ヒート-総合結果表（整列）'!$B:$B,0),MATCH('予選ヒート-総合結果表'!E$11,'[1]予選ヒート-総合結果表（整列）'!$1:$1,0)),"") -> TONY KART/YAMAHA | F17: =IFERROR(INDEX('[1]予選ヒート-総合結果表（整列）'!$A:$Z,MATCH($B17,'[1]予選ヒート-総合結果表（整列）'!$B:$B,0),MATCH('予選ヒート-総合結果表'!F$11,'[1]予選ヒート-総合結果表（整列）'!$1:$1,0)),"") -> 松本レーシング | G17: =IFERROR(INDEX('[1]予選ヒート-総合結果表（整列）'!$A:$Z,MATCH($B17,'[1]予選ヒート-総合結果表（整列）'!$B:$B,0),MATCH('予選ヒート-総合結果表'!G$11,'[1]予選ヒート-総合結果表（整列）'!$1:$1,0)),"") -> BS | H17: =IFERROR(INDEX('[1]予選ヒート-総合結果表（整列）'!$A:$Z,MATCH($B17,'[1]予選ヒート-総合結果表（整列）'!$B:$B,0),MATCH('予選ヒート-総合結果表'!H$11,'[1]予選ヒート-総合結果表（整列）'!$1:$1,0)),"") -> 54.648 | L17: =IF(IFERROR(INDEX('[1]予選ヒート-総合結果表（整列）'!$A:$Z,MATCH($B17,'[1]予選ヒート-総合結果表（整列）'!$B:$B,0),MATCH(L$11,'[1]予選ヒート-総合結果表（整列）'!$1:$1,0)),"")=0,"",IFERROR(INDEX('[1]予選ヒート-総合結果表（整列）'!$A:$Z,MATCH($B17,'[1]予選ヒート-総合結果表（整列）'!$B:$B,0),MATCH(L$11,'[1]予選ヒート-総合結果表（整列）'!$1:$1,0)),"")) | M17: =IF(L17="","",COUNTIF($L$13:L17,"<>"&"")) | N17: =IFERROR(RANK(M17,$M$13:$M$46,1),"") | O17: =IF(IFERROR(INDEX('[1]予選ヒート-総合結果表（整列）'!$A:$Z,MATCH($A17,'[1]予選ヒート-総合結果表（整列）'!$A:$A,0),MATCH(O$11,'[1]予選ヒート-総合結果表（整列）'!$1:$1,0)),"")=0,"",IFERROR(INDEX('[1]予選ヒート-総合結果表（整列）'!$A:$Z,MATCH($A17,'[1]予選ヒート-総合結果表（整列）'!$A:$A,0),MATCH(O$11,'[1]予選ヒート-総合結果表（整列）'!$1:$1,0)),""))
A18: =IF(OR('[1]予選ヒート-総合結果表（整列）'!A7="DNF",'[1]予選ヒート-総合結果表（整列）'!A7="DNS",'[1]予選ヒート-総合結果表（整列）'!A7="DQ"),'[1]予選ヒート-総合結果表（整列）'!A7,IF(MAX('[1]予選ヒート-総合結果表（整列）'!$A:$A)>A17,A17+1,"")) -> 6 | B18: =IFERROR(INDEX('[1]予選ヒート-総合結果表（整列）'!A7:$Z$50,MATCH($A18,'[1]予選ヒート-総合結果表（整列）'!A7:$A$50,0),MATCH('予選ヒート-総合結果表'!B$11,'[1]予選ヒート-総合結果表（整列）'!$1:$1,0)),"") -> 37 | C18: =IFERROR(INDEX('[1]予選ヒート-総合結果表（整列）'!$A:$Z,MATCH($B18,'[1]予選ヒート-総合結果表（整列）'!$B:$B,0),MATCH('予選ヒート-総合結果表'!C$11,'[1]予選ヒート-総合結果表（整列）'!$1:$1,0)),"") | D18: =IFERROR(INDEX('[1]予選ヒート-総合結果表（整列）'!$A:$Z,MATCH($B18,'[1]予選ヒート-総合結果表（整列）'!$B:$B,0),MATCH('予選ヒート-総合結果表'!D$11,'[1]予選ヒート-総合結果表（整列）'!$1:$1,0)),"") -> 佐藤 琉葵 | E18: =IFERROR(INDEX('[1]予選ヒート-総合結果表（整列）'!$A:$Z,MATCH($B18,'[1]予選ヒート-総合結果表（整列）'!$B:$B,0),MATCH('予選ヒート-総合結果表'!E$11,'[1]予選ヒート-総合結果表（整列）'!$1:$1,0)),"") -> LN KART/YAMAHA | F18: =IFERROR(INDEX('[1]予選ヒート-総合結果表（整列）'!$A:$Z,MATCH($B18,'[1]予選ヒート-総合結果表（整列）'!$B:$B,0),MATCH('予選ヒート-総合結果表'!F$11,'[1]予選ヒート-総合結果表（整列）'!$1:$1,0)),"") -> DSM | G18: =IFERROR(INDEX('[1]予選ヒート-総合結果表（整列）'!$A:$Z,MATCH($B18,'[1]予選ヒート-総合結果表（整列）'!$B:$B,0),MATCH('予選ヒート-総合結果表'!G$11,'[1]予選ヒート-総合結果表（整列）'!$1:$1,0)),"") -> BS | H18: =IFERROR(INDEX('[1]予選ヒート-総合結果表（整列）'!$A:$Z,MATCH($B18,'[1]予選ヒート-総合結果表（整列）'!$B:$B,0),MATCH('予選ヒート-総合結果表'!H$11,'[1]予選ヒート-総合結果表（整列）'!$1:$1,0)),"") -> 55.027 | L18: =IF(IFERROR(INDEX('[1]予選ヒート-総合結果表（整列）'!$A:$Z,MATCH($B18,'[1]予選ヒート-総合結果表（整列）'!$B:$B,0),MATCH(L$11,'[1]予選ヒート-総合結果表（整列）'!$1:$1,0)),"")=0,"",IFERROR(INDEX('[1]予選ヒート-総合結果表（整列）'!$A:$Z,MATCH($B18,'[1]予選ヒート-総合結果表（整列）'!$B:$B,0),MATCH(L$11,'[1]予選ヒート-総合結果表（整列）'!$1:$1,0)),"")) -> 全日本カート選手権統一規則書 第38条(25)(フロントフェアリングが正しい装着状態でない)により5秒加算した。 | M18: =IF(L18="","",COUNTIF($L$13:L18,"<>"&"")) -> 6 | N18: =IFERROR(RANK(M18,$M$13:$M$46,1),"") -> 1 | O18: =IF(IFERROR(INDEX('[1]予選ヒート-総合結果表（整列）'!$A:$Z,MATCH($A18,'[1]予選ヒート-総合結果表（整列）'!$A:$A,0),MATCH(O$11,'[1]予選ヒート-総合結果表（整列）'!$1:$1,0)),"")=0,"",IFERROR(INDEX('[1]予選ヒート-総合結果表（整列）'!$A:$Z,MATCH($A18,'[1]予選ヒート-総合結果表（整列）'!$A:$A,0),MATCH(O$11,'[1]予選ヒート-総合結果表（整列）'!$1:$1,0)),""))
A19: =IF(OR('[1]予選ヒート-総合結果表（整列）'!A8="DNF",'[1]予選ヒート-総合結果表（整列）'!A8="DNS",'[1]予選ヒート-総合結果表（整列）'!A8="DQ"),'[1]予選ヒート-総合結果表（整列）'!A8,IF(MAX('[1]予選ヒート-総合結果表（整列）'!$A:$A)>A18,A18+1,"")) -> 7 | B19: =IFERROR(INDEX('[1]予選ヒート-総合結果表（整列）'!A8:$Z$50,MATCH($A19,'[1]予選ヒート-総合結果表（整列）'!A8:$A$50,0),MATCH('予選ヒート-総合結果表'!B$11,'[1]予選ヒート-総合結果表（整列）'!$1:$1,0)),"") -> 30 | C19: =IFERROR(INDEX('[1]予選ヒート-総合結果表（整列）'!$A:$Z,MATCH($B19,'[1]予選ヒート-総合結果表（整列）'!$B:$B,0),MATCH('予選ヒート-総合結果表'!C$11,'[1]予選ヒート-総合結果表（整列）'!$1:$1,0)),"") | D19: =IFERROR(INDEX('[1]予選ヒート-総合結果表（整列）'!$A:$Z,MATCH($B19,'[1]予選ヒート-総合結果表（整列）'!$B:$B,0),MATCH('予選ヒート-総合結果表'!D$11,'[1]予選ヒート-総合結果表（整列）'!$1:$1,0)),"") -> 久富 圭 | E19: =IFERROR(INDEX('[1]予選ヒート-総合結果表（整列）'!$A:$Z,MATCH($B19,'[1]予選ヒート-総合結果表（整列）'!$B:$B,0),MATCH('予選ヒート-総合結果表'!E$11,'[1]予選ヒート-総合結果表（整列）'!$1:$1,0)),"") -> TONY KART/YAMAHA | F19: =IFERROR(INDEX('[1]予選ヒート-総合結果表（整列）'!$A:$Z,MATCH($B19,'[1]予選ヒート-総合結果表（整列）'!$B:$B,0),MATCH('予選ヒート-総合結果表'!F$11,'[1]予選ヒート-総合結果表（整列）'!$1:$1,0)),"") -> Formula Blue Ash | G19: =IFERROR(INDEX('[1]予選ヒート-総合結果表（整列）'!$A:$Z,MATCH($B19,'[1]予選ヒート-総合結果表（整列）'!$B:$B,0),MATCH('予選ヒート-総合結果表'!G$11,'[1]予選ヒート-総合結果表（整列）'!$1:$1,0)),"") -> BS | H19: =IFERROR(INDEX('[1]予選ヒート-総合結果表（整列）'!$A:$Z,MATCH($B19,'[1]予選ヒート-総合結果表（整列）'!$B:$B,0),MATCH('予選ヒート-総合結果表'!H$11,'[1]予選ヒート-総合結果表（整列）'!$1:$1,0)),"") -> 54.384 | L19: =IF(IFERROR(INDEX('[1]予選ヒート-総合結果表（整列）'!$A:$Z,MATCH($B19,'[1]予選ヒート-総合結果表（整列）'!$B:$B,0),MATCH(L$11,'[1]予選ヒート-総合結果表（整列）'!$1:$1,0)),"")=0,"",IFERROR(INDEX('[1]予選ヒート-総合結果表（整列）'!$A:$Z,MATCH($B19,'[1]予選ヒート-総合結果表（整列）'!$B:$B,0),MATCH(L$11,'[1]予選ヒート-総合結果表（整列）'!$1:$1,0)),"")) | M19: =IF(L19="","",COUNTIF($L$13:L19,"<>"&"")) | N19: =IFERROR(RANK(M19,$M$13:$M$46,1),"") | O19: =IF(IFERROR(INDEX('[1]予選ヒート-総合結果表（整列）'!$A:$Z,MATCH($A19,'[1]予選ヒート-総合結果表（整列）'!$A:$A,0),MATCH(O$11,'[1]予選ヒート-総合結果表（整列）'!$1:$1,0)),"")=0,"",IFERROR(INDEX('[1]予選ヒート-総合結果表（整列）'!$A:$Z,MATCH($A19,'[1]予選ヒート-総合結果表（整列）'!$A:$A,0),MATCH(O$11,'[1]予選ヒート-総合結果表（整列）'!$1:$1,0)),""))
A20: =IF(OR('[1]予選ヒート-総合結果表（整列）'!A9="DNF",'[1]予選ヒート-総合結果表（整列）'!A9="DNS",'[1]予選ヒート-総合結果表（整列）'!A9="DQ"),'[1]予選ヒート-総合結果表（整列）'!A9,IF(MAX('[1]予選ヒート-総合結果表（整列）'!$A:$A)>A19,A19+1,"")) -> 8 | B20: =IFERROR(INDEX('[1]予選ヒート-総合結果表（整列）'!A9:$Z$50,MATCH($A20,'[1]予選ヒート-総合結果表（整列）'!A9:$A$50,0),MATCH('予選ヒート-総合結果表'!B$11,'[1]予選ヒート-総合結果表（整列）'!$1:$1,0)),"") -> 47 | C20: =IFERROR(INDEX('[1]予選ヒート-総合結果表（整列）'!$A:$Z,MATCH($B20,'[1]予選ヒート-総合結果表（整列）'!$B:$B,0),MATCH('予選ヒート-総合結果表'!C$11,'[1]予選ヒート-総合結果表（整列）'!$1:$1,0)),"") | D20: =IFERROR(INDEX('[1]予選ヒート-総合結果表（整列）'!$A:$Z,MATCH($B20,'[1]予選ヒート-総合結果表（整列）'!$B:$B,0),MATCH('予選ヒート-総合結果表'!D$11,'[1]予選ヒート-総合結果表（整列）'!$1:$1,0)),"") -> 大島 良介 | E20: =IFERROR(INDEX('[1]予選ヒート-総合結果表（整列）'!$A:$Z,MATCH($B20,'[1]予選ヒート-総合結果表（整列）'!$B:$B,0),MATCH('予選ヒート-総合結果表'!E$11,'[1]予選ヒート-総合結果表（整列）'!$1:$1,0)),"") -> TONY KART/YAMAHA | F20: =IFERROR(INDEX('[1]予選ヒート-総合結果表（整列）'!$A:$Z,MATCH($B20,'[1]予選ヒート-総合結果表（整列）'!$B:$B,0),MATCH('予選ヒート-総合結果表'!F$11,'[1]予選ヒート-総合結果表（整列）'!$1:$1,0)),"") -> RS-1 | G20: =IFERROR(INDEX('[1]予選ヒート-総合結果表（整列）'!$A:$Z,MATCH($B20,'[1]予選ヒート-総合結果表（整列）'!$B:$B,0),MATCH('予選ヒート-総合結果表'!G$11,'[1]予選ヒート-総合結果表（整列）'!$1:$1,0)),"") -> BS | H20: =IFERROR(INDEX('[1]予選ヒート-総合結果表（整列）'!$A:$Z,MATCH($B20,'[1]予選ヒート-総合結果表（整列）'!$B:$B,0),MATCH('予選ヒート-総合結果表'!H$11,'[1]予選ヒート-総合結果表（整列）'!$1:$1,0)),"") -> 54.529 | L20: =IF(IFERROR(INDEX('[1]予選ヒート-総合結果表（整列）'!$A:$Z,MATCH($B20,'[1]予選ヒート-総合結果表（整列）'!$B:$B,0),MATCH(L$11,'[1]予選ヒート-総合結果表（整列）'!$1:$1,0)),"")=0,"",IFERROR(INDEX('[1]予選ヒート-総合結果表（整列）'!$A:$Z,MATCH($B20,'[1]予選ヒート-総合結果表（整列）'!$B:$B,0),MATCH(L$11,'[1]予選ヒート-総合結果表（整列）'!$1:$1,0)),"")) | M20: =IF(L20="","",COUNTIF($L$13:L20,"<>"&"")) | N20: =IFERROR(RANK(M20,$M$13:$M$46,1),"") | O20: =IF(IFERROR(INDEX('[1]予選ヒート-総合結果表（整列）'!$A:$Z,MATCH($A20,'[1]予選ヒート-総合結果表（整列）'!$A:$A,0),MATCH(O$11,'[1]予選ヒート-総合結果表（整列）'!$1:$1,0)),"")=0,"",IFERROR(INDEX('[1]予選ヒート-総合結果表（整列）'!$A:$Z,MATCH($A20,'[1]予選ヒート-総合結果表（整列）'!$A:$A,0),MATCH(O$11,'[1]予選ヒート-総合結果表（整列）'!$1:$1,0)),""))
A21: =IF(OR('[1]予選ヒート-総合結果表（整列）'!A10="DNF",'[1]予選ヒート-総合結果表（整列）'!A10="DNS",'[1]予選ヒート-総合結果表（整列）'!A10="DQ"),'[1]予選ヒート-総合結果表（整列）'!A10,IF(MAX('[1]予選ヒート-総合結果表（整列）'!$A:$A)>A20,A20+1,"")) -> 9 | B21: =IFERROR(INDEX('[1]予選ヒート-総合結果表（整列）'!A10:$Z$50,MATCH($A21,'[1]予選ヒート-総合結果表（整列）'!A10:$A$50,0),MATCH('予選ヒート-総合結果表'!B$11,'[1]予選ヒート-総合結果表（整列）'!$1:$1,0)),"") -> 19 | C21: =IFERROR(INDEX('[1]予選ヒート-総合結果表（整列）'!$A:$Z,MATCH($B21,'[1]予選ヒート-総合結果表（整列）'!$B:$B,0),MATCH('予選ヒート-総合結果表'!C$11,'[1]予選ヒート-総合結果表（整列）'!$1:$1,0)),"") | D21: =IFERROR(INDEX('[1]予選ヒート-総合結果表（整列）'!$A:$Z,MATCH($B21,'[1]予選ヒート-総合結果表（整列）'!$B:$B,0),MATCH('予選ヒート-総合結果表'!D$11,'[1]予選ヒート-総合結果表（整列）'!$1:$1,0)),"") -> 蒲生 尚弥 | E21: =IFERROR(INDEX('[1]予選ヒート-総合結果表（整列）'!$A:$Z,MATCH($B21,'[1]予選ヒート-総合結果表（整列）'!$B:$B,0),MATCH('予選ヒート-総合結果表'!E$11,'[1]予選ヒート-総合結果表（整列）'!$1:$1,0)),"") -> CL/YAMAHA | F21: =IFERROR(INDEX('[1]予選ヒート-総合結果表（整列）'!$A:$Z,MATCH($B21,'[1]予選ヒート-総合結果表（整列）'!$B:$B,0),MATCH('予選ヒート-総合結果表'!F$11,'[1]予選ヒート-総合結果表（整列）'!$1:$1,0)),"") -> のりものクラブTIGRE | G21: =IFERROR(INDEX('[1]予選ヒート-総合結果表（整列）'!$A:$Z,MATCH($B21,'[1]予選ヒート-総合結果表（整列）'!$B:$B,0),MATCH('予選ヒート-総合結果表'!G$11,'[1]予選ヒート-総合結果表（整列）'!$1:$1,0)),"") -> BS | H21: =IFERROR(INDEX('[1]予選ヒート-総合結果表（整列）'!$A:$Z,MATCH($B21,'[1]予選ヒート-総合結果表（整列）'!$B:$B,0),MATCH('予選ヒート-総合結果表'!H$11,'[1]予選ヒート-総合結果表（整列）'!$1:$1,0)),"") -> 54.738 | L21: =IF(IFERROR(INDEX('[1]予選ヒート-総合結果表（整列）'!$A:$Z,MATCH($B21,'[1]予選ヒート-総合結果表（整列）'!$B:$B,0),MATCH(L$11,'[1]予選ヒート-総合結果表（整列）'!$1:$1,0)),"")=0,"",IFERROR(INDEX('[1]予選ヒート-総合結果表（整列）'!$A:$Z,MATCH($B21,'[1]予選ヒート-総合結果表（整列）'!$B:$B,0),MATCH(L$11,'[1]予選ヒート-総合結果表（整列）'!$1:$1,0)),"")) | M21: =IF(L21="","",COUNTIF($L$13:L21,"<>"&"")) | N21: =IFERROR(RANK(M21,$M$13:$M$46,1),"") | O21: =IF(IFERROR(INDEX('[1]予選ヒート-総合結果表（整列）'!$A:$Z,MATCH($A21,'[1]予選ヒート-総合結果表（整列）'!$A:$A,0),MATCH(O$11,'[1]予選ヒート-総合結果表（整列）'!$1:$1,0)),"")=0,"",IFERROR(INDEX('[1]予選ヒート-総合結果表（整列）'!$A:$Z,MATCH($A21,'[1]予選ヒート-総合結果表（整列）'!$A:$A,0),MATCH(O$11,'[1]予選ヒート-総合結果表（整列）'!$1:$1,0)),""))
A22: =IF(OR('[1]予選ヒート-総合結果表（整列）'!A11="DNF",'[1]予選ヒート-総合結果表（整列）'!A11="DNS",'[1]予選ヒート-総合結果表（整列）'!A11="DQ"),'[1]予選ヒート-総合結果表（整列）'!A11,IF(MAX('[1]予選ヒート-総合結果表（整列）'!$A:$A)>A21,A21+1,"")) -> 10 | B22: =IFERROR(INDEX('[1]予選ヒート-総合結果表（整列）'!A11:$Z$50,MATCH($A22,'[1]予選ヒート-総合結果表（整列）'!A11:$A$50,0),MATCH('予選ヒート-総合結果表'!B$11,'[1]予選ヒート-総合結果表（整列）'!$1:$1,0)),"") -> 74 | C22: =IFERROR(INDEX('[1]予選ヒート-総合結果表（整列）'!$A:$Z,MATCH($B22,'[1]予選ヒート-総合結果表（整列）'!$B:$B,0),MATCH('予選ヒート-総合結果表'!C$11,'[1]予選ヒート-総合結果表（整列）'!$1:$1,0)),"") | D22: =IFERROR(INDEX('[1]予選ヒート-総合結果表（整列）'!$A:$Z,MATCH($B22,'[1]予選ヒート-総合結果表（整列）'!$B:$B,0),MATCH('予選ヒート-総合結果表'!D$11,'[1]予選ヒート-総合結果表（整列）'!$1:$1,0)),"") -> 宮地 健太朗 | E22: =IFERROR(INDEX('[1]予選ヒート-総合結果表（整列）'!$A:$Z,MATCH($B22,'[1]予選ヒート-総合結果表（整列）'!$B:$B,0),MATCH('予選ヒート-総合結果表'!E$11,'[1]予選ヒート-総合結果表（整列）'!$1:$1,0)),"") -> INTREPID/YAMAHA | F22: =IFERROR(INDEX('[1]予選ヒート-総合結果表（整列）'!$A:$Z,MATCH($B22,'[1]予選ヒート-総合結果表（整列）'!$B:$B,0),MATCH('予選ヒート-総合結果表'!F$11,'[1]予選ヒート-総合結果表（整列）'!$1:$1,0)),"") -> Ash | G22: =IFERROR(INDEX('[1]予選ヒート-総合結果表（整列）'!$A:$Z,MATCH($B22,'[1]予選ヒート-総合結果表（整列）'!$B:$B,0),MATCH('予選ヒート-総合結果表'!G$11,'[1]予選ヒート-総合結果表（整列）'!$1:$1,0)),"") -> BS | H22: =IFERROR(INDEX('[1]予選ヒート-総合結果表（整列）'!$A:$Z,MATCH($B22,'[1]予選ヒート-総合結果表（整列）'!$B:$B,0),MATCH('予選ヒート-総合結果表'!H$11,'[1]予選ヒート-総合結果表（整列）'!$1:$1,0)),"") -> 54.965 | L22: =IF(IFERROR(INDEX('[1]予選ヒート-総合結果表（整列）'!$A:$Z,MATCH($B22,'[1]予選ヒート-総合結果表（整列）'!$B:$B,0),MATCH(L$11,'[1]予選ヒート-総合結果表（整列）'!$1:$1,0)),"")=0,"",IFERROR(INDEX('[1]予選ヒート-総合結果表（整列）'!$A:$Z,MATCH($B22,'[1]予選ヒート-総合結果表（整列）'!$B:$B,0),MATCH(L$11,'[1]予選ヒート-総合結果表（整列）'!$1:$1,0)),"")) | M22: =IF(L22="","",COUNTIF($L$13:L22,"<>"&"")) | N22: =IFERROR(RANK(M22,$M$13:$M$46,1),"") | O22: =IF(IFERROR(INDEX('[1]予選ヒート-総合結果表（整列）'!$A:$Z,MATCH($A22,'[1]予選ヒート-総合結果表（整列）'!$A:$A,0),MATCH(O$11,'[1]予選ヒート-総合結果表（整列）'!$1:$1,0)),"")=0,"",IFERROR(INDEX('[1]予選ヒート-総合結果表（整列）'!$A:$Z,MATCH($A22,'[1]予選ヒート-総合結果表（整列）'!$A:$A,0),MATCH(O$11,'[1]予選ヒート-総合結果表（整列）'!$1:$1,0)),""))
A23: =IF(OR('[1]予選ヒート-総合結果表（整列）'!A12="DNF",'[1]予選ヒート-総合結果表（整列）'!A12="DNS",'[1]予選ヒート-総合結果表（整列）'!A12="DQ"),'[1]予選ヒート-総合結果表（整列）'!A12,IF(MAX('[1]予選ヒート-総合結果表（整列）'!$A:$A)>A22,A22+1,"")) -> 11 | B23: =IFERROR(INDEX('[1]予選ヒート-総合結果表（整列）'!A12:$Z$50,MATCH($A23,'[1]予選ヒート-総合結果表（整列）'!A12:$A$50,0),MATCH('予選ヒート-総合結果表'!B$11,'[1]予選ヒート-総合結果表（整列）'!$1:$1,0)),"") -> 31 | C23: =IFERROR(INDEX('[1]予選ヒート-総合結果表（整列）'!$A:$Z,MATCH($B23,'[1]予選ヒート-総合結果表（整列）'!$B:$B,0),MATCH('予選ヒート-総合結果表'!C$11,'[1]予選ヒート-総合結果表（整列）'!$1:$1,0)),"") | D23: =IFERROR(INDEX('[1]予選ヒート-総合結果表（整列）'!$A:$Z,MATCH($B23,'[1]予選ヒート-総合結果表（整列）'!$B:$B,0),MATCH('予選ヒート-総合結果表'!D$11,'[1]予選ヒート-総合結果表（整列）'!$1:$1,0)),"") -> 飛田 陽宏 | E23: =IFERROR(INDEX('[1]予選ヒート-総合結果表（整列）'!$A:$Z,MATCH($B23,'[1]予選ヒート-総合結果表（整列）'!$B:$B,0),MATCH('予選ヒート-総合結果表'!E$11,'[1]予選ヒート-総合結果表（整列）'!$1:$1,0)),"") -> TONY KART/YAMAHA | F23: =IFERROR(INDEX('[1]予選ヒート-総合結果表（整列）'!$A:$Z,MATCH($B23,'[1]予選ヒート-総合結果表（整列）'!$B:$B,0),MATCH('予選ヒート-総合結果表'!F$11,'[1]予選ヒート-総合結果表（整列）'!$1:$1,0)),"") -> TBT RT with まえだ眼科 | G23: =IFERROR(INDEX('[1]予選ヒート-総合結果表（整列）'!$A:$Z,MATCH($B23,'[1]予選ヒート-総合結果表（整列）'!$B:$B,0),MATCH('予選ヒート-総合結果表'!G$11,'[1]予選ヒート-総合結果表（整列）'!$1:$1,0)),"") -> BS | H23: =IFERROR(INDEX('[1]予選ヒート-総合結果表（整列）'!$A:$Z,MATCH($B23,'[1]予選ヒート-総合結果表（整列）'!$B:$B,0),MATCH('予選ヒート-総合結果表'!H$11,'[1]予選ヒート-総合結果表（整列）'!$1:$1,0)),"") -> 54.424 | L23: =IF(IFERROR(INDEX('[1]予選ヒート-総合結果表（整列）'!$A:$Z,MATCH($B23,'[1]予選ヒート-総合結果表（整列）'!$B:$B,0),MATCH(L$11,'[1]予選ヒート-総合結果表（整列）'!$1:$1,0)),"")=0,"",IFERROR(INDEX('[1]予選ヒート-総合結果表（整列）'!$A:$Z,MATCH($B23,'[1]予選ヒート-総合結果表（整列）'!$B:$B,0),MATCH(L$11,'[1]予選ヒート-総合結果表（整列）'!$1:$1,0)),"")) | M23: =IF(L23="","",COUNTIF($L$13:L23,"<>"&"")) | N23: =IFERROR(RANK(M23,$M$13:$M$46,1),"") | O23: =IF(IFERROR(INDEX('[1]予選ヒート-総合結果表（整列）'!$A:$Z,MATCH($A23,'[1]予選ヒート-総合結果表（整列）'!$A:$A,0),MATCH(O$11,'[1]予選ヒート-総合結果表（整列）'!$1:$1,0)),"")=0,"",IFERROR(INDEX('[1]予選ヒート-総合結果表（整列）'!$A:$Z,MATCH($A23,'[1]予選ヒート-総合結果表（整列）'!$A:$A,0),MATCH(O$11,'[1]予選ヒート-総合結果表（整列）'!$1:$1,0)),""))
A24: =IF(OR('[1]予選ヒート-総合結果表（整列）'!A13="DNF",'[1]予選ヒート-総合結果表（整列）'!A13="DNS",'[1]予選ヒート-総合結果表（整列）'!A13="DQ"),'[1]予選ヒート-総合結果表（整列）'!A13,IF(MAX('[1]予選ヒート-総合結果表（整列）'!$A:$A)>A23,A23+1,"")) -> 12 | B24: =IFERROR(INDEX('[1]予選ヒート-総合結果表（整列）'!A13:$Z$50,MATCH($A24,'[1]予選ヒート-総合結果表（整列）'!A13:$A$50,0),MATCH('予選ヒート-総合結果表'!B$11,'[1]予選ヒート-総合結果表（整列）'!$1:$1,0)),"") -> 44 | C24: =IFERROR(INDEX('[1]予選ヒート-総合結果表（整列）'!$A:$Z,MATCH($B24,'[1]予選ヒート-総合結果表（整列）'!$B:$B,0),MATCH('予選ヒート-総合結果表'!C$11,'[1]予選ヒート-総合結果表（整列）'!$1:$1,0)),"") | D24: =IFERROR(INDEX('[1]予選ヒート-総合結果表（整列）'!$A:$Z,MATCH($B24,'[1]予選ヒート-総合結果表（整列）'!$B:$B,0),MATCH('予選ヒート-総合結果表'!D$11,'[1]予選ヒート-総合結果表（整列）'!$1:$1,0)),"") -> 中村 海斗 | E24: =IFERROR(INDEX('[1]予選ヒート-総合結果表（整列）'!$A:$Z,MATCH($B24,'[1]予選ヒート-総合結果表（整列）'!$B:$B,0),MATCH('予選ヒート-総合結果表'!E$11,'[1]予選ヒート-総合結果表（整列）'!$1:$1,0)),"") -> TONY KART/YAMAHA | F24: =IFERROR(INDEX('[1]予選ヒート-総合結果表（整列）'!$A:$Z,MATCH($B24,'[1]予選ヒート-総合結果表（整列）'!$B:$B,0),MATCH('予選ヒート-総合結果表'!F$11,'[1]予選ヒート-総合結果表（整列）'!$1:$1,0)),"") -> TEAM NAGAO | G24: =IFERROR(INDEX('[1]予選ヒート-総合結果表（整列）'!$A:$Z,MATCH($B24,'[1]予選ヒート-総合結果表（整列）'!$B:$B,0),MATCH('予選ヒート-総合結果表'!G$11,'[1]予選ヒート-総合結果表（整列）'!$1:$1,0)),"") -> BS | H24: =IFERROR(INDEX('[1]予選ヒート-総合結果表（整列）'!$A:$Z,MATCH($B24,'[1]予選ヒート-総合結果表（整列）'!$B:$B,0),MATCH('予選ヒート-総合結果表'!H$11,'[1]予選ヒート-総合結果表（整列）'!$1:$1,0)),"") -> 54.745 | L24: =IF(IFERROR(INDEX('[1]予選ヒート-総合結果表（整列）'!$A:$Z,MATCH($B24,'[1]予選ヒート-総合結果表（整列）'!$B:$B,0),MATCH(L$11,'[1]予選ヒート-総合結果表（整列）'!$1:$1,0)),"")=0,"",IFERROR(INDEX('[1]予選ヒート-総合結果表（整列）'!$A:$Z,MATCH($B24,'[1]予選ヒート-総合結果表（整列）'!$B:$B,0),MATCH(L$11,'[1]予選ヒート-総合結果表（整列）'!$1:$1,0)),"")) | M24: =IF(L24="","",COUNTIF($L$13:L24,"<>"&"")) | N24: =IFERROR(RANK(M24,$M$13:$M$46,1),"") | O24: =IF(IFERROR(INDEX('[1]予選ヒート-総合結果表（整列）'!$A:$Z,MATCH($A24,'[1]予選ヒート-総合結果表（整列）'!$A:$A,0),MATCH(O$11,'[1]予選ヒート-総合結果表（整列）'!$1:$1,0)),"")=0,"",IFERROR(INDEX('[1]予選ヒート-総合結果表（整列）'!$A:$Z,MATCH($A24,'[1]予選ヒート-総合結果表（整列）'!$A:$A,0),MATCH(O$11,'[1]予選ヒート-総合結果表（整列）'!$1:$1,0)),""))
A25: =IF(OR('[1]予選ヒート-総合結果表（整列）'!A14="DNF",'[1]予選ヒート-総合結果表（整列）'!A14="DNS",'[1]予選ヒート-総合結果表（整列）'!A14="DQ"),'[1]予選ヒート-総合結果表（整列）'!A14,IF(MAX('[1]予選ヒート-総合結果表（整列）'!$A:$A)>A24,A24+1,"")) -> 13 | B25: =IFERROR(INDEX('[1]予選ヒート-総合結果表（整列）'!A14:$Z$50,MATCH($A25,'[1]予選ヒート-総合結果表（整列）'!A14:$A$50,0),MATCH('予選ヒート-総合結果表'!B$11,'[1]予選ヒート-総合結果表（整列）'!$1:$1,0)),"") -> 25 | C25: =IFERROR(INDEX('[1]予選ヒート-総合結果表（整列）'!$A:$Z,MATCH($B25,'[1]予選ヒート-総合結果表（整列）'!$B:$B,0),MATCH('予選ヒート-総合結果表'!C$11,'[1]予選ヒート-総合結果表（整列）'!$1:$1,0)),"") | D25: =IFERROR(INDEX('[1]予選ヒート-総合結果表（整列）'!$A:$Z,MATCH($B25,'[1]予選ヒート-総合結果表（整列）'!$B:$B,0),MATCH('予選ヒート-総合結果表'!D$11,'[1]予選ヒート-総合結果表（整列）'!$1:$1,0)),"") -> 鈴木 恵武 | E25: =IFERROR(INDEX('[1]予選ヒート-総合結果表（整列）'!$A:$Z,MATCH($B25,'[1]予選ヒート-総合結果表（整列）'!$B:$B,0),MATCH('予選ヒート-総合結果表'!E$11,'[1]予選ヒート-総合結果表（整列）'!$1:$1,0)),"") -> KOSMIC/YAMAHA | F25: =IFERROR(INDEX('[1]予選ヒート-総合結果表（整列）'!$A:$Z,MATCH($B25,'[1]予選ヒート-総合結果表（整列）'!$B:$B,0),MATCH('予選ヒート-総合結果表'!F$11,'[1]予選ヒート-総合結果表（整列）'!$1:$1,0)),"") -> Formula Blue 増田スピード | G25: =IFERROR(INDEX('[1]予選ヒート-総合結果表（整列）'!$A:$Z,MATCH($B25,'[1]予選ヒート-総合結果表（整列）'!$B:$B,0),MATCH('予選ヒート-総合結果表'!G$11,'[1]予選ヒート-総合結果表（整列）'!$1:$1,0)),"") -> BS | H25: =IFERROR(INDEX('[1]予選ヒート-総合結果表（整列）'!$A:$Z,MATCH($B25,'[1]予選ヒート-総合結果表（整列）'!$B:$B,0),MATCH('予選ヒート-総合結果表'!H$11,'[1]予選ヒート-総合結果表（整列）'!$1:$1,0)),"") -> 54.448 | L25: =IF(IFERROR(INDEX('[1]予選ヒート-総合結果表（整列）'!$A:$Z,MATCH($B25,'[1]予選ヒート-総合結果表（整列）'!$B:$B,0),MATCH(L$11,'[1]予選ヒート-総合結果表（整列）'!$1:$1,0)),"")=0,"",IFERROR(INDEX('[1]予選ヒート-総合結果表（整列）'!$A:$Z,MATCH($B25,'[1]予選ヒート-総合結果表（整列）'!$B:$B,0),MATCH(L$11,'[1]予選ヒート-総合結果表（整列）'!$1:$1,0)),"")) | M25: =IF(L25="","",COUNTIF($L$13:L25,"<>"&"")) | N25: =IFERROR(RANK(M25,$M$13:$M$46,1),"") | O25: =IF(IFERROR(INDEX('[1]予選ヒート-総合結果表（整列）'!$A:$Z,MATCH($A25,'[1]予選ヒート-総合結果表（整列）'!$A:$A,0),MATCH(O$11,'[1]予選ヒート-総合結果表（整列）'!$1:$1,0)),"")=0,"",IFERROR(INDEX('[1]予選ヒート-総合結果表（整列）'!$A:$Z,MATCH($A25,'[1]予選ヒート-総合結果表（整列）'!$A:$A,0),MATCH(O$11,'[1]予選ヒート-総合結果表（整列）'!$1:$1,0)),""))
... A46: =IF(OR('[1]予選ヒート-総合結果表（整列）'!A35="DNF",'[1]予選ヒート-総合結果表（整列）'!A35="DNS",'[1]予選ヒート-総合結果表（整列）'!A35="DQ"),'[1]予選ヒート-総合結果表（整列）'!A35,IF(MAX('[1]予選ヒート-総合結果表（整列）'!$A:$A)>A45,A45+1,"")) -> 34 | B46: =IFERROR(INDEX('[1]予選ヒート-総合結果表（整列）'!A35:$Z$50,MATCH($A46,'[1]予選ヒート-総合結果表（整列）'!A35:$A$50,0),MATCH('予選ヒート-総合結果表'!B$11,'[1]予選ヒート-総合結果表（整列）'!$1:$1,0)),"") -> 72 | C46: =IFERROR(INDEX('[1]予選ヒート-総合結果表（整列）'!$A:$Z,MATCH($B46,'[1]予選ヒート-総合結果表（整列）'!$B:$B,0),MATCH('予選ヒート-総合結果表'!C$11,'[1]予選ヒート-総合結果表（整列）'!$1:$1,0)),"") | D46: =IFERROR(INDEX('[1]予選ヒート-総合結果表（整列）'!$A:$Z,MATCH($B46,'[1]予選ヒート-総合結果表（整列）'!$B:$B,0),MATCH('予選ヒート-総合結果表'!D$11,'[1]予選ヒート-総合結果表（整列）'!$1:$1,0)),"") -> 小野 大地 | E46: =IFERROR(INDEX('[1]予選ヒート-総合結果表（整列）'!$A:$Z,MATCH($B46,'[1]予選ヒート-総合結果表（整列）'!$B:$B,0),MATCH('予選ヒート-総合結果表'!E$11,'[1]予選ヒート-総合結果表（整列）'!$1:$1,0)),"") -> KOSMIC/YAMAHA | F46: =IFERROR(INDEX('[1]予選ヒート-総合結果表（整列）'!$A:$Z,MATCH($B46,'[1]予選ヒート-総合結果表（整列）'!$B:$B,0),MATCH('予選ヒート-総合結果表'!F$11,'[1]予選ヒート-総合結果表（整列）'!$1:$1,0)),"") -> チームTKC | G46: =IFERROR(INDEX('[1]予選ヒート-総合結果表（整列）'!$A:$Z,MATCH($B46,'[1]予選ヒート-総合結果表（整列）'!$B:$B,0),MATCH('予選ヒート-総合結果表'!G$11,'[1]予選ヒート-総合結果表（整列）'!$1:$1,0)),"") -> BS | H46: =IFERROR(INDEX('[1]予選ヒート-総合結果表（整列）'!$A:$Z,MATCH($B46,'[1]予選ヒート-総合結果表（整列）'!$B:$B,0),MATCH('予選ヒート-総合結果表'!H$11,'[1]予選ヒート-総合結果表（整列）'!$1:$1,0)),"") -> 55.311 | L46: =IF(IFERROR(INDEX('[1]予選ヒート-総合結果表（整列）'!$A:$Z,MATCH($B46,'[1]予選ヒート-総合結果表（整列）'!$B:$B,0),MATCH(L$11,'[1]予選ヒート-総合結果表（整列）'!$1:$1,0)),"")=0,"",IFERROR(INDEX('[1]予選ヒート-総合結果表（整列）'!$A:$Z,MATCH($B46,'[1]予選ヒート-総合結果表（整列）'!$B:$B,0),MATCH(L$11,'[1]予選ヒート-総合結果表（整列）'!$1:$1,0)),"")) | M46: =IF(L46="","",COUNTIF($L$13:L46,"<>"&"")) | N46: =IFERROR(RANK(M46,$M$13:$M$46,1),"") | O46: =IF(IFERROR(INDEX('[1]予選ヒート-総合結果表（整列）'!$A:$Z,MATCH($A46,'[1]予選ヒート-総合結果表（整列）'!$A:$A,0),MATCH(O$11,'[1]予選ヒート-総合結果表（整列）'!$1:$1,0)),"")=0,"",IFERROR(INDEX('[1]予選ヒート-総合結果表（整列）'!$A:$Z,MATCH($A46,'[1]予選ヒート-総合結果表（整列）'!$A:$A,0),MATCH(O$11,'[1]予選ヒート-総合結果表（整列）'!$1:$1,0)),""))
A47: =IF(OR('[1]予選ヒート-総合結果表（整列）'!A36="DNF",'[1]予選ヒート-総合結果表（整列）'!A36="DNS",'[1]予選ヒート-総合結果表（整列）'!A36="DQ"),'[1]予選ヒート-総合結果表（整列）'!A36,IF(MAX('[1]予選ヒート-総合結果表（整列）'!$A:$A)>A46,A46+1,"")) -> 35 | B47: =IFERROR(INDEX('[1]予選ヒート-総合結果表（整列）'!A36:$Z$50,MATCH($A47,'[1]予選ヒート-総合結果表（整列）'!A36:$A$50,0),MATCH('予選ヒート-総合結果表'!B$11,'[1]予選ヒート-総合結果表（整列）'!$1:$1,0)),"") -> 17 | C47: =IFERROR(INDEX('[1]予選ヒート-総合結果表（整列）'!$A:$Z,MATCH($B47,'[1]予選ヒート-総合結果表（整列）'!$B:$B,0),MATCH('予選ヒート-総合結果表'!C$11,'[1]予選ヒート-総合結果表（整列）'!$1:$1,0)),"") | D47: =IFERROR(INDEX('[1]予選ヒート-総合結果表（整列）'!$A:$Z,MATCH($B47,'[1]予選ヒート-総合結果表（整列）'!$B:$B,0),MATCH('予選ヒート-総合結果表'!D$11,'[1]予選ヒート-総合結果表（整列）'!$1:$1,0)),"") -> 坂 裕之 | E47: =IFERROR(INDEX('[1]予選ヒート-総合結果表（整列）'!$A:$Z,MATCH($B47,'[1]予選ヒート-総合結果表（整列）'!$B:$B,0),MATCH('予選ヒート-総合結果表'!E$11,'[1]予選ヒート-総合結果表（整列）'!$1:$1,0)),"") -> SWF/YAMAHA | F47: =IFERROR(INDEX('[1]予選ヒート-総合結果表（整列）'!$A:$Z,MATCH($B47,'[1]予選ヒート-総合結果表（整列）'!$B:$B,0),MATCH('予選ヒート-総合結果表'!F$11,'[1]予選ヒート-総合結果表（整列）'!$1:$1,0)),"") -> のりものクラブTIGRE | G47: =IFERROR(INDEX('[1]予選ヒート-総合結果表（整列）'!$A:$Z,MATCH($B47,'[1]予選ヒート-総合結果表（整列）'!$B:$B,0),MATCH('予選ヒート-総合結果表'!G$11,'[1]予選ヒート-総合結果表（整列）'!$1:$1,0)),"") -> BS | H47: =IFERROR(INDEX('[1]予選ヒート-総合結果表（整列）'!$A:$Z,MATCH($B47,'[1]予選ヒート-総合結果表（整列）'!$B:$B,0),MATCH('予選ヒート-総合結果表'!H$11,'[1]予選ヒート-総合結果表（整列）'!$1:$1,0)),"") -> 55.023
A48: =IF(OR('[1]予選ヒート-総合結果表（整列）'!A37="DNF",'[1]予選ヒート-総合結果表（整列）'!A37="DNS",'[1]予選ヒート-総合結果表（整列）'!A37="DQ"),'[1]予選ヒート-総合結果表（整列）'!A37,IF(MAX('[1]予選ヒート-総合結果表（整列）'!$A:$A)>A47,A47+1,"")) -> 36 | B48: =IFERROR(INDEX('[1]予選ヒート-総合結果表（整列）'!A37:$Z$50,MATCH($A48,'[1]予選ヒート-総合結果表（整列）'!A37:$A$50,0),MATCH('予選ヒート-総合結果表'!B$11,'[1]予選ヒート-総合結果表（整列）'!$1:$1,0)),"") -> 54 | C48: =IFERROR(INDEX('[1]予選ヒート-総合結果表（整列）'!$A:$Z,MATCH($B48,'[1]予選ヒート-総合結果表（整列）'!$B:$B,0),MATCH('予選ヒート-総合結果表'!C$11,'[1]予選ヒート-総合結果表（整列）'!$1:$1,0)),"") | D48: =IFERROR(INDEX('[1]予選ヒート-総合結果表（整列）'!$A:$Z,MATCH($B48,'[1]予選ヒート-総合結果表（整列）'!$B:$B,0),MATCH('予選ヒート-総合結果表'!D$11,'[1]予選ヒート-総合結果表（整列）'!$1:$1,0)),"") -> 越路 暢哉 | E48: =IFERROR(INDEX('[1]予選ヒート-総合結果表（整列）'!$A:$Z,MATCH($B48,'[1]予選ヒート-総合結果表（整列）'!$B:$B,0),MATCH('予選ヒート-総合結果表'!E$11,'[1]予選ヒート-総合結果表（整列）'!$1:$1,0)),"") -> REDSPEED/YAMAHA | F48: =IFERROR(INDEX('[1]予選ヒート-総合結果表（整列）'!$A:$Z,MATCH($B48,'[1]予選ヒート-総合結果表（整列）'!$B:$B,0),MATCH('予選ヒート-総合結果表'!F$11,'[1]予選ヒート-総合結果表（整列）'!$1:$1,0)),"") -> ONE POINT | G48: =IFERROR(INDEX('[1]予選ヒート-総合結果表（整列）'!$A:$Z,MATCH($B48,'[1]予選ヒート-総合結果表（整列）'!$B:$B,0),MATCH('予選ヒート-総合結果表'!G$11,'[1]予選ヒート-総合結果表（整列）'!$1:$1,0)),"") -> BS | H48: =IFERROR(INDEX('[1]予選ヒート-総合結果表（整列）'!$A:$Z,MATCH($B48,'[1]予選ヒート-総合結果表（整列）'!$B:$B,0),MATCH('予選ヒート-総合結果表'!H$11,'[1]予選ヒート-総合結果表（整列）'!$1:$1,0)),"") -> 55.126
A49: =IF(OR('[1]予選ヒート-総合結果表（整列）'!A38="DNF",'[1]予選ヒート-総合結果表（整列）'!A38="DNS",'[1]予選ヒート-総合結果表（整列）'!A38="DQ"),'[1]予選ヒート-総合結果表（整列）'!A38,IF(MAX('[1]予選ヒート-総合結果表（整列）'!$A:$A)>A48,A48+1,"")) -> 37 | B49: =IFERROR(INDEX('[1]予選ヒート-総合結果表（整列）'!A38:$Z$50,MATCH($A49,'[1]予選ヒート-総合結果表（整列）'!A38:$A$50,0),MATCH('予選ヒート-総合結果表'!B$11,'[1]予選ヒート-総合結果表（整列）'!$1:$1,0)),"") -> 58 | C49: =IFERROR(INDEX('[1]予選ヒート-総合結果表（整列）'!$A:$Z,MATCH($B49,'[1]予選ヒート-総合結果表（整列）'!$B:$B,0),MATCH('予選ヒート-総合結果表'!C$11,'[1]予選ヒート-総合結果表（整列）'!$1:$1,0)),"") | D49: =IFERROR(INDEX('[1]予選ヒート-総合結果表（整列）'!$A:$Z,MATCH($B49,'[1]予選ヒート-総合結果表（整列）'!$B:$B,0),MATCH('予選ヒート-総合結果表'!D$11,'[1]予選ヒート-総合結果表（整列）'!$1:$1,0)),"") -> 江崎 昭彦 | E49: =IFERROR(INDEX('[1]予選ヒート-総合結果表（整列）'!$A:$Z,MATCH($B49,'[1]予選ヒート-総合結果表（整列）'!$B:$B,0),MATCH('予選ヒート-総合結果表'!E$11,'[1]予選ヒート-総合結果表（整列）'!$1:$1,0)),"") -> KOSMIC/YAMAHA | F49: =IFERROR(INDEX('[1]予選ヒート-総合結果表（整列）'!$A:$Z,MATCH($B49,'[1]予選ヒート-総合結果表（整列）'!$B:$B,0),MATCH('予選ヒート-総合結果表'!F$11,'[1]予選ヒート-総合結果表（整列）'!$1:$1,0)),"") -> Ash | G49: =IFERROR(INDEX('[1]予選ヒート-総合結果表（整列）'!$A:$Z,MATCH($B49,'[1]予選ヒート-総合結果表（整列）'!$B:$B,0),MATCH('予選ヒート-総合結果表'!G$11,'[1]予選ヒート-総合結果表（整列）'!$1:$1,0)),"") -> BS | H49: =IFERROR(INDEX('[1]予選ヒート-総合結果表（整列）'!$A:$Z,MATCH($B49,'[1]予選ヒート-総合結果表（整列）'!$B:$B,0),MATCH('予選ヒート-総合結果表'!H$11,'[1]予選ヒート-総合結果表（整列）'!$1:$1,0)),"") -> 55.467
A50: =IF(OR('[1]予選ヒート-総合結果表（整列）'!A39="DNF",'[1]予選ヒート-総合結果表（整列）'!A39="DNS",'[1]予選ヒート-総合結果表（整列）'!A39="DQ"),'[1]予選ヒート-総合結果表（整列）'!A39,IF(MAX('[1]予選ヒート-総合結果表（整列）'!$A:$A)>A49,A49+1,"")) | B50: =IFERROR(INDEX('[1]予選ヒート-総合結果表（整列）'!A39:$Z$50,MATCH($A50,'[1]予選ヒート-総合結果表（整列）'!A39:$A$50,0),MATCH('予選ヒート-総合結果表'!B$11,'[1]予選ヒート-総合結果表（整列）'!$1:$1,0)),"") | C50: =IFERROR(INDEX('[1]予選ヒート-総合結果表（整列）'!$A:$Z,MATCH($B50,'[1]予選ヒート-総合結果表（整列）'!$B:$B,0),MATCH('予選ヒート-総合結果表'!C$11,'[1]予選ヒート-総合結果表（整列）'!$1:$1,0)),"") | D50: =IFERROR(INDEX('[1]予選ヒート-総合結果表（整列）'!$A:$Z,MATCH($B50,'[1]予選ヒート-総合結果表（整列）'!$B:$B,0),MATCH('予選ヒート-総合結果表'!D$11,'[1]予選ヒート-総合結果表（整列）'!$1:$1,0)),"") | E50: =IFERROR(INDEX('[1]予選ヒート-総合結果表（整列）'!$A:$Z,MATCH($B50,'[1]予選ヒート-総合結果表（整列）'!$B:$B,0),MATCH('予選ヒート-総合結果表'!E$11,'[1]予選ヒート-総合結果表（整列）'!$1:$1,0)),"") | F50: =IFERROR(INDEX('[1]予選ヒート-総合結果表（整列）'!$A:$Z,MATCH($B50,'[1]予選ヒート-総合結果表（整列）'!$B:$B,0),MATCH('予選ヒート-総合結果表'!F$11,'[1]予選ヒート-総合結果表（整列）'!$1:$1,0)),"") | G50: =IFERROR(INDEX('[1]予選ヒート-総合結果表（整列）'!$A:$Z,MATCH($B50,'[1]予選ヒート-総合結果表（整列）'!$B:$B,0),MATCH('予選ヒート-総合結果表'!G$11,'[1]予選ヒート-総合結果表（整列）'!$1:$1,0)),"") | H50: =IFERROR(INDEX('[1]予選ヒート-総合結果表（整列）'!$A:$Z,MATCH($B50,'[1]予選ヒート-総合結果表（整列）'!$B:$B,0),MATCH('予選ヒート-総合結果表'!H$11,'[1]予選ヒート-総合結果表（整列）'!$1:$1,0)),"")
A51: =IF(OR('[1]予選ヒート-総合結果表（整列）'!A40="DNF",'[1]予選ヒート-総合結果表（整列）'!A40="DNS",'[1]予選ヒート-総合結果表（整列）'!A40="DQ"),'[1]予選ヒート-総合結果表（整列）'!A40,IF(MAX('[1]予選ヒート-総合結果表（整列）'!$A:$A)>A50,A50+1,"")) | B51: =IFERROR(INDEX('[1]予選ヒート-総合結果表（整列）'!A40:$Z$50,MATCH($A51,'[1]予選ヒート-総合結果表（整列）'!A40:$A$50,0),MATCH('予選ヒート-総合結果表'!B$11,'[1]予選ヒート-総合結果表（整列）'!$1:$1,0)),"") | C51: =IFERROR(INDEX('[1]予選ヒート-総合結果表（整列）'!$A:$Z,MATCH($B51,'[1]予選ヒート-総合結果表（整列）'!$B:$B,0),MATCH('予選ヒート-総合結果表'!C$11,'[1]予選ヒート-総合結果表（整列）'!$1:$1,0)),"") | D51: =IFERROR(INDEX('[1]予選ヒート-総合結果表（整列）'!$A:$Z,MATCH($B51,'[1]予選ヒート-総合結果表（整列）'!$B:$B,0),MATCH('予選ヒート-総合結果表'!D$11,'[1]予選ヒート-総合結果表（整列）'!$1:$1,0)),"") | E51: =IFERROR(INDEX('[1]予選ヒート-総合結果表（整列）'!$A:$Z,MATCH($B51,'[1]予選ヒート-総合結果表（整列）'!$B:$B,0),MATCH('予選ヒート-総合結果表'!E$11,'[1]予選ヒート-総合結果表（整列）'!$1:$1,0)),"") | F51: =IFERROR(INDEX('[1]予選ヒート-総合結果表（整列）'!$A:$Z,MATCH($B51,'[1]予選ヒート-総合結果表（整列）'!$B:$B,0),MATCH('予選ヒート-総合結果表'!F$11,'[1]予選ヒート-総合結果表（整列）'!$1:$1,0)),"") | G51: =IFERROR(INDEX('[1]予選ヒート-総合結果表（整列）'!$A:$Z,MATCH($B51,'[1]予選ヒート-総合結果表（整列）'!$B:$B,0),MATCH('予選ヒート-総合結果表'!G$11,'[1]予選ヒート-総合結果表（整列）'!$1:$1,0)),"") | H51: =IFERROR(INDEX('[1]予選ヒート-総合結果表（整列）'!$A:$Z,MATCH($B51,'[1]予選ヒート-総合結果表（整列）'!$B:$B,0),MATCH('予選ヒート-総合結果表'!H$11,'[1]予選ヒート-総合結果表（整列）'!$1:$1,0)),"")
A52: =IF(OR('[1]予選ヒート-総合結果表（整列）'!A41="DNF",'[1]予選ヒート-総合結果表（整列）'!A41="DNS",'[1]予選ヒート-総合結果表（整列）'!A41="DQ"),'[1]予選ヒート-総合結果表（整列）'!A41,IF(MAX('[1]予選ヒート-総合結果表（整列）'!$A:$A)>A51,A51+1,"")) | B52: =IFERROR(INDEX('[1]予選ヒート-総合結果表（整列）'!A41:$Z$50,MATCH($A52,'[1]予選ヒート-総合結果表（整列）'!A41:$A$50,0),MATCH('予選ヒート-総合結果表'!B$11,'[1]予選ヒート-総合結果表（整列）'!$1:$1,0)),"") | C52: =IFERROR(INDEX('[1]予選ヒート-総合結果表（整列）'!$A:$Z,MATCH($B52,'[1]予選ヒート-総合結果表（整列）'!$B:$B,0),MATCH('予選ヒート-総合結果表'!C$11,'[1]予選ヒート-総合結果表（整列）'!$1:$1,0)),"") | D52: =IFERROR(INDEX('[1]予選ヒート-総合結果表（整列）'!$A:$Z,MATCH($B52,'[1]予選ヒート-総合結果表（整列）'!$B:$B,0),MATCH('予選ヒート-総合結果表'!D$11,'[1]予選ヒート-総合結果表（整列）'!$1:$1,0)),"") | E52: =IFERROR(INDEX('[1]予選ヒート-総合結果表（整列）'!$A:$Z,MATCH($B52,'[1]予選ヒート-総合結果表（整列）'!$B:$B,0),MATCH('予選ヒート-総合結果表'!E$11,'[1]予選ヒート-総合結果表（整列）'!$1:$1,0)),"") | F52: =IFERROR(INDEX('[1]予選ヒート-総合結果表（整列）'!$A:$Z,MATCH($B52,'[1]予選ヒート-総合結果表（整列）'!$B:$B,0),MATCH('予選ヒート-総合結果表'!F$11,'[1]予選ヒート-総合結果表（整列）'!$1:$1,0)),"") | G52: =IFERROR(INDEX('[1]予選ヒート-総合結果表（整列）'!$A:$Z,MATCH($B52,'[1]予選ヒート-総合結果表（整列）'!$B:$B,0),MATCH('予選ヒート-総合結果表'!G$11,'[1]予選ヒート-総合結果表（整列）'!$1:$1,0)),"") | H52: =IFERROR(INDEX('[1]予選ヒート-総合結果表（整列）'!$A:$Z,MATCH($B52,'[1]予選ヒート-総合結果表（整列）'!$B:$B,0),MATCH('予選ヒート-総合結果表'!H$11,'[1]予選ヒート-総合結果表（整列）'!$1:$1,0)),"")
A53: =IF(A54="","","ﾍﾟﾅﾙﾃｨ") -> ﾍﾟﾅﾙﾃｨ | H53: =IFERROR(INDEX('[1]予選ヒート-総合結果表（整列）'!$A:$Z,MATCH($B53,'[1]予選ヒート-総合結果表（整列）'!$B:$B,0),MATCH('予選ヒート-総合結果表'!H$11,'[1]予選ヒート-総合結果表（整列）'!$1:$1,0)),"")
A54: =IF(MAX(M13:M46)<1,"",1) -> 1 | B54: =IF(A54="","","No."&INDEX($A$11:$U$46,MATCH($A54,$N$11:$N$46,0),MATCH("No.",$11:$11,0))) -> No.37 | C54: =INDEX($A$11:$U$46,MATCH($A54,$N$11:$N$46,0),MATCH("コメント",$11:$11,0)) -> 全日本カート選手権統一規則書 第38条(25)(フロントフェアリングが正しい装着状態でない)により5秒加算した。 | H54: =IFERROR(INDEX('[1]予選ヒート-総合結果表（整列）'!$A:$Z,MATCH($B54,'[1]予選ヒート-総合結果表（整列）'!$B:$B,0),MATCH('予選ヒート-総合結果表'!H$11,'[1]予選ヒート-総合結果表（整列）'!$1:$1,0)),"")
A55: =IF(A54<COUNTIF($N$12:$N$46,">"&0),A54+1,"") -> 2 | B55: =IF(A55="","","No."&INDEX($A$11:$U$46,MATCH($A55,$N$11:$N$46,0),MATCH("No.",$11:$11,0))) -> No.55 | C55: =INDEX($A$11:$U$46,MATCH($A55,$N$11:$N$46,0),MATCH("コメント",$11:$11,0)) -> 全日本カート選手権統一規則書 第38条(25)(フロントフェアリングが正しい装着状態でない)により5秒加算した。 | H55: =IFERROR(INDEX('[1]予選ヒート-総合結果表（整列）'!$A:$Z,MATCH($B55,'[1]予選ヒート-総合結果表（整列）'!$B:$B,0),MATCH('予選ヒート-総合結果表'!H$11,'[1]予選ヒート-総合結果表（整列）'!$1:$1,0)),"")
A56: =IF(A55<COUNTIF($N$12:$N$46,">"&0),A55+1,"") -> 3 | B56: =IF(A56="","","No."&INDEX($A$11:$U$46,MATCH($A56,$N$11:$N$46,0),MATCH("No.",$11:$11,0))) -> No.18 | C56: =INDEX($A$11:$U$46,MATCH($A56,$N$11:$N$46,0),MATCH("コメント",$11:$11,0)) -> 全日本カート選手権統一規則書 第38条(25)(フロントフェアリングが正しい装着状態でない)により5秒加算した。 | H56: =IFERROR(INDEX('[1]予選ヒート-総合結果表（整列）'!$A:$Z,MATCH($B56,'[1]予選ヒート-総合結果表（整列）'!$B:$B,0),MATCH('予選ヒート-総合結果表'!H$11,'[1]予選ヒート-総合結果表（整列）'!$1:$1,0)),"")
A57: =IF(A56<COUNTIF($N$12:$N$46,">"&0),A56+1,"") -> 4 | B57: =IF(A57="","","No."&INDEX($A$11:$U$46,MATCH($A57,$N$11:$N$46,0),MATCH("No.",$11:$11,0))) -> No.27 | C57: =INDEX($A$11:$U$46,MATCH($A57,$N$11:$N$46,0),MATCH("コメント",$11:$11,0)) -> 全日本カート選手権統一規則書 第38条(25)(フロントフェアリングが正しい装着状態でない)により5秒加算した。 | H57: =IFERROR(INDEX('[1]予選ヒート-総合結果表（整列）'!$A:$Z,MATCH($B57,'[1]予選ヒート-総合結果表（整列）'!$B:$B,0),MATCH('予選ヒート-総合結果表'!H$11,'[1]予選ヒート-総合結果表（整列）'!$1:$1,0)),"")
A58: =IF(A57<COUNTIF($N$12:$N$46,">"&0),A57+1,"") | B58: =IF(A58="","","No."&INDEX($A$11:$U$46,MATCH($A58,$N$11:$N$46,0),MATCH("No.",$11:$11,0))) | C58: =INDEX($A$11:$U$46,MATCH($A58,$N$11:$N$46,0),MATCH("コメント",$11:$11,0)) | H58: =IFERROR(INDEX('[1]予選ヒート-総合結果表（整列）'!$A:$Z,MATCH($B58,'[1]予選ヒート-総合結果表（整列）'!$B:$B,0),MATCH('予選ヒート-総合結果表'!H$11,'[1]予選ヒート-総合結果表（整列）'!$1:$1,0)),"")
A59: =IF(A58<COUNTIF($N$12:$N$46,">"&0),A58+1,"") | B59: =IF(A59="","","No."&INDEX($A$11:$U$46,MATCH($A59,$N$11:$N$46,0),MATCH("No.",$11:$11,0))) | C59: =INDEX($A$11:$U$46,MATCH($A59,$N$11:$N$46,0),MATCH("コメント",$11:$11,0)) | H59: =IFERROR(INDEX('[1]予選ヒート-総合結果表（整列）'!$A:$Z,MATCH($B59,'[1]予選ヒート-総合結果表（整列）'!$B:$B,0),MATCH('予選ヒート-総合結果表'!H$11,'[1]予選ヒート-総合結果表（整列）'!$1:$1,0)),"")
A60: =IF(A59<COUNTIF($N$12:$N$46,">"&0),A59+1,"") | B60: =IF(A60="","","No."&INDEX($A$11:$U$46,MATCH($A60,$N$11:$N$46,0),MATCH("No.",$11:$11,0))) | C60: =INDEX($A$11:$U$46,MATCH($A60,$N$11:$N$46,0),MATCH("コメント",$11:$11,0)) | H60: =IFERROR(INDEX('[1]予選ヒート-総合結果表（整列）'!$A:$Z,MATCH($B60,'[1]予選ヒート-総合結果表（整列）'!$B:$B,0),MATCH('予選ヒート-総合結果表'!H$11,'[1]予選ヒート-総合結果表（整列）'!$1:$1,0)),"")
A61: =IF(A60<COUNTIF($N$12:$N$46,">"&0),A60+1,"") | B61: =IF(A61="","","No."&INDEX($A$11:$U$46,MATCH($A61,$N$11:$N$46,0),MATCH("No.",$11:$11,0))) | C61: =INDEX($A$11:$U$46,MATCH($A61,$N$11:$N$46,0),MATCH("コメント",$11:$11,0)) | H61: =IFERROR(INDEX('[1]予選ヒート-総合結果表（整列）'!$A:$Z,MATCH($B61,'[1]予選ヒート-総合結果表（整列）'!$B:$B,0),MATCH('予選ヒート-総合結果表'!H$11,'[1]予選ヒート-総合結果表（整列）'!$1:$1,0)),"")
A62: =IF(A61<COUNTIF($N$12:$N$46,">"&0),A61+1,"") | B62: =IF(A62="","","No."&INDEX($A$11:$U$46,MATCH($A62,$N$11:$N$46,0),MATCH("No.",$11:$11,0))) | C62: =INDEX($A$11:$U$46,MATCH($A62,$N$11:$N$46,0),MATCH("コメント",$11:$11,0)) | H62: =IFERROR(INDEX('[1]予選ヒート-総合結果表（整列）'!$A:$Z,MATCH($B62,'[1]予選ヒート-総合結果表（整列）'!$B:$B,0),MATCH('予選ヒート-総合結果表'!H$11,'[1]予選ヒート-総合結果表（整列）'!$1:$1,0)),"")
A63: =IF(A62<COUNTIF($N$12:$N$46,">"&0),A62+1,"") | B63: =IF(A63="","","No."&INDEX($A$11:$U$46,MATCH($A63,$N$11:$N$46,0),MATCH("No.",$11:$11,0))) | C63: =INDEX($A$11:$U$46,MATCH($A63,$N$11:$N$46,0),MATCH("コメント",$11:$11,0)) | H63: =IFERROR(INDEX('[1]予選ヒート-総合結果表（整列）'!$A:$Z,MATCH($B63,'[1]予選ヒート-総合結果表（整列）'!$B:$B,0),MATCH('予選ヒート-総合結果表'!H$11,'[1]予選ヒート-総合結果表（整列）'!$1:$1,0)),"")
A64: =IF(A63<COUNTIF($N$12:$N$46,">"&0),A63+1,"") | B64: =IF(A64="","","No."&INDEX($A$11:$U$46,MATCH($A64,$N$11:$N$46,0),MATCH("No.",$11:$11,0))) | C64: =INDEX($A$11:$U$46,MATCH($A64,$N$11:$N$46,0),MATCH("コメント",$11:$11,0)) | H64: =IFERROR(INDEX('[1]予選ヒート-総合結果表（整列）'!$A:$Z,MATCH($B64,'[1]予選ヒート-総合結果表（整列）'!$B:$B,0),MATCH('予選ヒート-総合結果表'!H$11,'[1]予選ヒート-総合結果表（整列）'!$1:$1,0)),"")
B65: ="審査委員長 ："&" "&[1]各種設定!$D$20 -> 審査委員長 ： Makoto SAITO | E65: ="競技委員長 ："&" "&[1]各種設定!$D$22 -> 競技委員長 ： Toshiaki KUBOTA | F65: ="計時委員長 ："&" "&[1]各種設定!$D$24 -> 計時委員長 ： Tsutomu HAYAKAWA

Sheet 予選ヒートAGr-レース結果表
J6: 44878 | L6: :
A7: =+[1]各種設定!D2 -> 2022年 全日本カート選手権 FS-125/FP-3部門 東西統一競技会 | J7: WEATHER: | K7: Rain
J8: COURSE : | K8: Dry/Wet
A9: =+[1]各種設定!D4 -> FP-3 | J9: 南コース 1.264Km
A10: Ａ Ｇｒ.予選ヒート結果表
B11: No. | C11: ポイント | D11: 名前 | E11: Model/Engine | F11: Team | G11: Tires | H11: Laps | I11: Total Time | J11: 差 | K11: Gap | L11: BestLap | M11: =VLOOKUP(A9,[1]コースレコード!$A:$C,3,FALSE) -> 55.037 | P11: コメント | R11: ペナルティNo. | S11: グリッドコメント | U11: ベスト平均時速
A12: Pos. | B12: No. | C12: Point. | D12: Driver | E12: Type | F12: Team | G12: Tire | H12: Laps | I12: Total Time | J12: Delay | K12: Gap | L12: Best
A13: 1 | B13: =IFERROR(INDEX('[1]予選ヒートAGr-レース結果表（貼付）'!A2:$Z$50,MATCH($A13,'[1]予選ヒートAGr-レース結果表（貼付）'!A2:$A$50,0),MATCH('[1]公式予選（TT）①-結果表（印刷）'!B$11,'[1]予選ヒートAGr-レース結果表（貼付）'!$1:$1,0)),"") -> 14 | C13: 0 | D13: =IFERROR(INDEX('[1]予選ヒートAGr-レース結果表（貼付）'!$A:$Z,MATCH($B13,'[1]予選ヒートAGr-レース結果表（貼付）'!$B:$B,0),MATCH('予選ヒートAGr-レース結果表'!D$11,'[1]予選ヒートAGr-レース結果表（貼付）'!$1:$1,0)),"") -> 春日 龍之介 | E13: =IFERROR(INDEX('[1]予選ヒートAGr-レース結果表（貼付）'!$A:$Z,MATCH($B13,'[1]予選ヒートAGr-レース結果表（貼付）'!$B:$B,0),MATCH('予選ヒートAGr-レース結果表'!E$11,'[1]予選ヒートAGr-レース結果表（貼付）'!$1:$1,0)),"") -> XENON KART/YAMAHA | F13: =IFERROR(INDEX('[1]予選ヒートAGr-レース結果表（貼付）'!$A:$Z,MATCH($B13,'[1]予選ヒートAGr-レース結果表（貼付）'!$B:$B,0),MATCH('予選ヒートAGr-レース結果表'!F$11,'[1]予選ヒートAGr-レース結果表（貼付）'!$1:$1,0)),"") -> SPS川口 | G13: =IFERROR(INDEX('[1]予選ヒートAGr-レース結果表（貼付）'!$A:$Z,MATCH($B13,'[1]予選ヒートAGr-レース結果表（貼付）'!$B:$B,0),MATCH('予選ヒートAGr-レース結果表'!G$11,'[1]予選ヒートAGr-レース結果表（貼付）'!$1:$1,0)),"") -> BS | H13: =IFERROR(INDEX('[1]予選ヒートAGr-レース結果表（貼付）'!$A:$Z,MATCH($B13,'[1]予選ヒートAGr-レース結果表（貼付）'!$B:$B,0),MATCH('予選ヒートAGr-レース結果表'!H$11,'[1]予選ヒートAGr-レース結果表（貼付）'!$1:$1,0)),"") -> 12 | I13: =INDEX('[1]予選ヒートAGr-レース結果表（貼付）'!$A:$Z,MATCH($B13,'[1]予選ヒートAGr-レース結果表（貼付）'!$B:$B,0),MATCH('予選ヒートAGr-レース結果表'!I$11,'[1]予選ヒートAGr-レース結果表（貼付）'!$1:$1,0)) -> 0.0078478125 | J13: =ROUND((1.264*H13)/(I13*24),2)&"km/h" -> 80.53km/h | L13: =IF(A13="DNS","",IF(A13="DQ","",INDEX('[1]予選ヒートAGr-レース結果表（貼付）'!$A:$Z,MATCH($B13,'[1]予選ヒートAGr-レース結果表（貼付）'!$B:$B,0),MATCH('予選ヒートAGr-レース結果表'!L$11,'[1]予選ヒートAGr-レース結果表（貼付）'!$1:$1,0)))) -> 54.937 | P13: =IF(IFERROR(INDEX('[1]予選ヒートAGr-レース結果表（貼付）'!$A:$Z,MATCH($B13,'[1]予選ヒートAGr-レース結果表（貼付）'!$B:$B,0),MATCH(P$11,'[1]予選ヒートAGr-レース結果表（貼付）'!$1:$1,0)),"")=0,"",IFERROR(INDEX('[1]予選ヒートAGr-レース結果表（貼付）'!$A:$Z,MATCH($B13,'[1]予選ヒートAGr-レース結果表（貼付）'!$B:$B,0),MATCH(P$11,'[1]予選ヒートAGr-レース結果表（貼付）'!$1:$1,0)),"")) | Q13: =IF(P13="","",COUNTIF($P$13:P13,"<>"&"")) | R13: =IFERROR(RANK(Q13,$Q$13:$Q$43,1),"") | S13: =IF(IFERROR(INDEX('[1]予選ヒートAGr-レース結果表（貼付）'!$A:$Z,MATCH($A13,'[1]予選ヒートAGr-レース結果表（貼付）'!$A:$A,0),MATCH(S$11,'[1]予選ヒートAGr-レース結果表（貼付）'!$1:$1,0)),"")=0,"",IFERROR(INDEX('[1]予選ヒートAGr-レース結果表（貼付）'!$A:$Z,MATCH($A13,'[1]予選ヒートAGr-レース結果表（貼付）'!$A:$A,0),MATCH(S$11,'[1]予選ヒートAGr-レース結果表（貼付）'!$1:$1,0)),"")) | U13: =IF(IFERROR(INDEX('[1]予選ヒートAGr-レース結果表（貼付）'!$A:$Z,MATCH($B13,'[1]予選ヒートAGr-レース結果表（貼付）'!$B:$B,0),MATCH(U$11,'[1]予選ヒートAGr-レース結果表（貼付）'!$1:$1,0)),"")=0,"",IFERROR(INDEX('[1]予選ヒートAGr-レース結果表（貼付）'!$A:$Z,MATCH($B13,'[1]予選ヒートAGr-レース結果表（貼付）'!$B:$B,0),MATCH(U$11,'[1]予選ヒートAGr-レース結果表（貼付）'!$1:$1,0)),"")) -> 82.829
A14: =IF(OR('[1]予選ヒートAGr-レース結果表（貼付）'!A3="DNF",'[1]予選ヒートAGr-レース結果表（貼付）'!A3="DNS",'[1]予選ヒートAGr-レース結果表（貼付）'!A3="DQ"),'[1]予選ヒートAGr-レース結果表（貼付）'!A3,IF(MAX('[1]予選ヒートAGr-レース結果表（貼付）'!$A:$A)>A13,A13+1,"")) -> 2 | B14: =IFERROR(INDEX('[1]予選ヒートAGr-レース結果表（貼付）'!A3:$Z$50,MATCH($A14,'[1]予選ヒートAGr-レース結果表（貼付）'!A3:$A$50,0),MATCH('[1]公式予選（TT）①-結果表（印刷）'!B$11,'[1]予選ヒートAGr-レース結果表（貼付）'!$1:$1,0)),"") -> 40 | C14: 2 | D14: =IFERROR(INDEX('[1]予選ヒートAGr-レース結果表（貼付）'!$A:$Z,MATCH($A14,'[1]予選ヒートAGr-レース結果表（貼付）'!$A:$A,0),MATCH('予選ヒートAGr-レース結果表'!D$11,'[1]予選ヒートAGr-レース結果表（貼付）'!$1:$1,0)),"") -> 大槻 直 | E14: =IFERROR(INDEX('[1]予選ヒートAGr-レース結果表（貼付）'!$A:$Z,MATCH($B14,'[1]予選ヒートAGr-レース結果表（貼付）'!$B:$B,0),MATCH('予選ヒートAGr-レース結果表'!E$11,'[1]予選ヒートAGr-レース結果表（貼付）'!$1:$1,0)),"") -> TONY KART/YAMAHA | F14: =IFERROR(INDEX('[1]予選ヒートAGr-レース結果表（貼付）'!$A:$Z,MATCH($B14,'[1]予選ヒートAGr-レース結果表（貼付）'!$B:$B,0),MATCH('予選ヒートAGr-レース結果表'!F$11,'[1]予選ヒートAGr-レース結果表（貼付）'!$1:$1,0)),"") -> ASH | G14: =IFERROR(INDEX('[1]予選ヒートAGr-レース結果表（貼付）'!$A:$Z,MATCH($B14,'[1]予選ヒートAGr-レース結果表（貼付）'!$B:$B,0),MATCH('予選ヒートAGr-レース結果表'!G$11,'[1]予選ヒートAGr-レース結果表（貼付）'!$1:$1,0)),"") -> BS | H14: =IFERROR(INDEX('[1]予選ヒートAGr-レース結果表（貼付）'!$A:$Z,MATCH($B14,'[1]予選ヒートAGr-レース結果表（貼付）'!$B:$B,0),MATCH('予選ヒートAGr-レース結果表'!H$11,'[1]予選ヒートAGr-レース結果表（貼付）'!$1:$1,0)),"") -> 12 | I14: =INDEX('[1]予選ヒートAGr-レース結果表（貼付）'!$A:$Z,MATCH($B14,'[1]予選ヒートAGr-レース結果表（貼付）'!$B:$B,0),MATCH('予選ヒートAGr-レース結果表'!I$11,'[1]予選ヒートAGr-レース結果表（貼付）'!$1:$1,0)) -> 0.0079145139 | J14: =IFERROR(IF(A14="DNS","",IF(A14="DQ","",INDEX('[1]予選ヒートAGr-レース結果表（貼付）'!$A:$Z,MATCH($B14,'[1]予選ヒートAGr-レース結果表（貼付）'!$B:$B,0),MATCH('予選ヒートAGr-レース結果表'!J$11,'[1]予選ヒートAGr-レース結果表（貼付）'!$1:$1,0)))),"") -> 5.763 | K14: =IFERROR(IF(A14="DNS","",IF(A14="DQ","",INDEX('[1]予選ヒートAGr-レース結果表（貼付）'!$A:$Z,MATCH($B14,'[1]予選ヒートAGr-レース結果表（貼付）'!$B:$B,0),MATCH('予選ヒートAGr-レース結果表'!K$11,'[1]予選ヒートAGr-レース結果表（貼付）'!$1:$1,0)))),"") -> 5.763 | L14: =IFERROR(IF(A14="DNS","",IF(A14="DQ","",INDEX('[1]予選ヒートAGr-レース結果表（貼付）'!$A:$Z,MATCH($B14,'[1]予選ヒートAGr-レース結果表（貼付）'!$B:$B,0),MATCH('予選ヒートAGr-レース結果表'!L$11,'[1]予選ヒートAGr-レース結果表（貼付）'!$1:$1,0)))),"") -> 55.369 | M14: =IF(L14<1,"",IF($M$11>L14,"R","")) | P14: =IF(IFERROR(INDEX('[1]予選ヒートAGr-レース結果表（貼付）'!$A:$Z,MATCH($B14,'[1]予選ヒートAGr-レース結果表（貼付）'!$B:$B,0),MATCH(P$11,'[1]予選ヒートAGr-レース結果表（貼付）'!$1:$1,0)),"")=0,"",IFERROR(INDEX('[1]予選ヒートAGr-レース結果表（貼付）'!$A:$Z,MATCH($B14,'[1]予選ヒートAGr-レース結果表（貼付）'!$B:$B,0),MATCH(P$11,'[1]予選ヒートAGr-レース結果表（貼付）'!$1:$1,0)),"")) | Q14: =IF(P14="","",COUNTIF($P$13:P14,"<>"&"")) | R14: =IFERROR(RANK(Q14,$Q$13:$Q$43,1),"") | S14: =IF(IFERROR(INDEX('[1]予選ヒートAGr-レース結果表（貼付）'!$A:$Z,MATCH($A14,'[1]予選ヒートAGr-レース結果表（貼付）'!$A:$A,0),MATCH(S$11,'[1]予選ヒートAGr-レース結果表（貼付）'!$1:$1,0)),"")=0,"",IFERROR(INDEX('[1]予選ヒートAGr-レース結果表（貼付）'!$A:$Z,MATCH($A14,'[1]予選ヒートAGr-レース結果表（貼付）'!$A:$A,0),MATCH(S$11,'[1]予選ヒートAGr-レース結果表（貼付）'!$1:$1,0)),"")) | U14: =IF(IFERROR(INDEX('[1]予選ヒートAGr-レース結果表（貼付）'!$A:$Z,MATCH($B14,'[1]予選ヒートAGr-レース結果表（貼付）'!$B:$B,0),MATCH(U$11,'[1]予選ヒートAGr-レース結果表（貼付）'!$1:$1,0)),"")=0,"",IFERROR(INDEX('[1]予選ヒートAGr-レース結果表（貼付）'!$A:$Z,MATCH($B14,'[1]予選ヒートAGr-レース結果表（貼付）'!$B:$B,0),MATCH(U$11,'[1]予選ヒートAGr-レース結果表（貼付）'!$1:$1,0)),"")) -> 82.183
A15: =IF(OR('[1]予選ヒートAGr-レース結果表（貼付）'!A4="DNF",'[1]予選ヒートAGr-レース結果表（貼付）'!A4="DNS",'[1]予選ヒートAGr-レース結果表（貼付）'!A4="DQ"),'[1]予選ヒートAGr-レース結果表（貼付）'!A4,IF(MAX('[1]予選ヒートAGr-レース結果表（貼付）'!$A:$A)>A14,A14+1,"")) -> 3 | B15: =IFERROR(INDEX('[1]予選ヒートAGr-レース結果表（貼付）'!A4:$Z$50,MATCH($A15,'[1]予選ヒートAGr-レース結果表（貼付）'!A4:$A$50,0),MATCH('[1]公式予選（TT）①-結果表（印刷）'!B$11,'[1]予選ヒートAGr-レース結果表（貼付）'!$1:$1,0)),"") -> 61 | C15: 3 | D15: =IFERROR(INDEX('[1]予選ヒートAGr-レース結果表（貼付）'!$A:$Z,MATCH($A15,'[1]予選ヒートAGr-レース結果表（貼付）'!$A:$A,0),MATCH('予選ヒートAGr-レース結果表'!D$11,'[1]予選ヒートAGr-レース結果表（貼付）'!$1:$1,0)),"") -> 寺島 知毅 | E15: =IFERROR(INDEX('[1]予選ヒートAGr-レース結果表（貼付）'!$A:$Z,MATCH($B15,'[1]予選ヒートAGr-レース結果表（貼付）'!$B:$B,0),MATCH('予選ヒートAGr-レース結果表'!E$11,'[1]予選ヒートAGr-レース結果表（貼付）'!$1:$1,0)),"") -> TONY KART/YAMAHA | F15: =IFERROR(INDEX('[1]予選ヒートAGr-レース結果表（貼付）'!$A:$Z,MATCH($B15,'[1]予選ヒートAGr-レース結果表（貼付）'!$B:$B,0),MATCH('予選ヒートAGr-レース結果表'!F$11,'[1]予選ヒートAGr-レース結果表（貼付）'!$1:$1,0)),"") -> 松本レーシング | G15: =IFERROR(INDEX('[1]予選ヒートAGr-レース結果表（貼付）'!$A:$Z,MATCH($B15,'[1]予選ヒートAGr-レース結果表（貼付）'!$B:$B,0),MATCH('予選ヒートAGr-レース結果表'!G$11,'[1]予選ヒートAGr-レース結果表（貼付）'!$1:$1,0)),"") -> BS | H15: =IFERROR(INDEX('[1]予選ヒートAGr-レース結果表（貼付）'!$A:$Z,MATCH($B15,'[1]予選ヒートAGr-レース結果表（貼付）'!$B:$B,0),MATCH('予選ヒートAGr-レース結果表'!H$11,'[1]予選ヒートAGr-レース結果表（貼付）'!$1:$1,0)),"") -> 12 | I15: =INDEX('[1]予選ヒートAGr-レース結果表（貼付）'!$A:$Z,MATCH($B15,'[1]予選ヒートAGr-レース結果表（貼付）'!$B:$B,0),MATCH('予選ヒートAGr-レース結果表'!I$11,'[1]予選ヒートAGr-レース結果表（貼付）'!$1:$1,0)) -> 0.0079188773 | J15: =IFERROR(IF(A15="DNS","",IF(A15="DQ","",INDEX('[1]予選ヒートAGr-レース結果表（貼付）'!$A:$Z,MATCH($B15,'[1]予選ヒートAGr-レース結果表（貼付）'!$B:$B,0),MATCH('予選ヒートAGr-レース結果表'!J$11,'[1]予選ヒートAGr-レース結果表（貼付）'!$1:$1,0)))),"") -> 6.14 | K15: =IFERROR(IF(A15="DNS","",IF(A15="DQ","",INDEX('[1]予選ヒートAGr-レース結果表（貼付）'!$A:$Z,MATCH($B15,'[1]予選ヒートAGr-レース結果表（貼付）'!$B:$B,0),MATCH('予選ヒートAGr-レース結果表'!K$11,'[1]予選ヒートAGr-レース結果表（貼付）'!$1:$1,0)))),"") -> 0.377 | L15: =IFERROR(IF(A15="DNS","",IF(A15="DQ","",INDEX('[1]予選ヒートAGr-レース結果表（貼付）'!$A:$Z,MATCH($B15,'[1]予選ヒートAGr-レース結果表（貼付）'!$B:$B,0),MATCH('予選ヒートAGr-レース結果表'!L$11,'[1]予選ヒートAGr-レース結果表（貼付）'!$1:$1,0)))),"") -> 55.417 | M15: =IF(L15<1,"",IF($M$11>L15,"R","")) | P15: =IF(IFERROR(INDEX('[1]予選ヒートAGr-レース結果表（貼付）'!$A:$Z,MATCH($B15,'[1]予選ヒートAGr-レース結果表（貼付）'!$B:$B,0),MATCH(P$11,'[1]予選ヒートAGr-レース結果表（貼付）'!$1:$1,0)),"")=0,"",IFERROR(INDEX('[1]予選ヒートAGr-レース結果表（貼付）'!$A:$Z,MATCH($B15,'[1]予選ヒートAGr-レース結果表（貼付）'!$B:$B,0),MATCH(P$11,'[1]予選ヒートAGr-レース結果表（貼付）'!$1:$1,0)),"")) | Q15: =IF(P15="","",COUNTIF($P$13:P15,"<>"&"")) | R15: =IFERROR(RANK(Q15,$Q$13:$Q$43,1),"") | S15: =IF(IFERROR(INDEX('[1]予選ヒートAGr-レース結果表（貼付）'!$A:$Z,MATCH($A15,'[1]予選ヒートAGr-レース結果表（貼付）'!$A:$A,0),MATCH(S$11,'[1]予選ヒートAGr-レース結果表（貼付）'!$1:$1,0)),"")=0,"",IFERROR(INDEX('[1]予選ヒートAGr-レース結果表（貼付）'!$A:$Z,MATCH($A15,'[1]予選ヒートAGr-レース結果表（貼付）'!$A:$A,0),MATCH(S$11,'[1]予選ヒートAGr-レース結果表（貼付）'!$1:$1,0)),"")) | U15: =IF(IFERROR(INDEX('[1]予選ヒートAGr-レース結果表（貼付）'!$A:$Z,MATCH($B15,'[1]予選ヒートAGr-レース結果表（貼付）'!$B:$B,0),MATCH(U$11,'[1]予選ヒートAGr-レース結果表（貼付）'!$1:$1,0)),"")=0,"",IFERROR(INDEX('[1]予選ヒートAGr-レース結果表（貼付）'!$A:$Z,MATCH($B15,'[1]予選ヒートAGr-レース結果表（貼付）'!$B:$B,0),MATCH(U$11,'[1]予選ヒートAGr-レース結果表（貼付）'!$1:$1,0)),"")) -> 82.112
A16: =IF(OR('[1]予選ヒートAGr-レース結果表（貼付）'!A5="DNF",'[1]予選ヒートAGr-レース結果表（貼付）'!A5="DNS",'[1]予選ヒートAGr-レース結果表（貼付）'!A5="DQ"),'[1]予選ヒートAGr-レース結果表（貼付）'!A5,IF(MAX('[1]予選ヒートAGr-レース結果表（貼付）'!$A:$A)>A15,A15+1,"")) -> 4 | B16: =IFERROR(INDEX('[1]予選ヒートAGr-レース結果表（貼付）'!A5:$Z$50,MATCH($A16,'[1]予選ヒートAGr-レース結果表（貼付）'!A5:$A$50,0),MATCH('[1]公式予選（TT）①-結果表（印刷）'!B$11,'[1]予選ヒートAGr-レース結果表（貼付）'!$1:$1,0)),"") -> 30 | C16: 4 | D16: =IFERROR(INDEX('[1]予選ヒートAGr-レース結果表（貼付）'!$A:$Z,MATCH($A16,'[1]予選ヒートAGr-レース結果表（貼付）'!$A:$A,0),MATCH('予選ヒートAGr-レース結果表'!D$11,'[1]予選ヒートAGr-レース結果表（貼付）'!$1:$1,0)),"") -> 久富 圭 | E16: =IFERROR(INDEX('[1]予選ヒートAGr-レース結果表（貼付）'!$A:$Z,MATCH($B16,'[1]予選ヒートAGr-レース結果表（貼付）'!$B:$B,0),MATCH('予選ヒートAGr-レース結果表'!E$11,'[1]予選ヒートAGr-レース結果表（貼付）'!$1:$1,0)),"") -> TONY KART/YAMAHA | F16: =IFERROR(INDEX('[1]予選ヒートAGr-レース結果表（貼付）'!$A:$Z,MATCH($B16,'[1]予選ヒートAGr-レース結果表（貼付）'!$B:$B,0),MATCH('予選ヒートAGr-レース結果表'!F$11,'[1]予選ヒートAGr-レース結果表（貼付）'!$1:$1,0)),"") -> Formula Blue Ash | G16: =IFERROR(INDEX('[1]予選ヒートAGr-レース結果表（貼付）'!$A:$Z,MATCH($B16,'[1]予選ヒートAGr-レース結果表（貼付）'!$B:$B,0),MATCH('予選ヒートAGr-レース結果表'!G$11,'[1]予選ヒートAGr-レース結果表（貼付）'!$1:$1,0)),"") -> BS | H16: =IFERROR(INDEX('[1]予選ヒートAGr-レース結果表（貼付）'!$A:$Z,MATCH($B16,'[1]予選ヒートAGr-レース結果表（貼付）'!$B:$B,0),MATCH('予選ヒートAGr-レース結果表'!H$11,'[1]予選ヒートAGr-レース結果表（貼付）'!$1:$1,0)),"") -> 12 | I16: =INDEX('[1]予選ヒートAGr-レース結果表（貼付）'!$A:$Z,MATCH($B16,'[1]予選ヒートAGr-レース結果表（貼付）'!$B:$B,0),MATCH('予選ヒートAGr-レース結果表'!I$11,'[1]予選ヒートAGr-レース結果表（貼付）'!$1:$1,0)) -> 0.0079452894 | J16: =IFERROR(IF(A16="DNS","",IF(A16="DQ","",INDEX('[1]予選ヒートAGr-レース結果表（貼付）'!$A:$Z,MATCH($B16,'[1]予選ヒートAGr-レース結果表（貼付）'!$B:$B,0),MATCH('予選ヒートAGr-レース結果表'!J$11,'[1]予選ヒートAGr-レース結果表（貼付）'!$1:$1,0)))),"") -> 8.422 | K16: =IFERROR(IF(A16="DNS","",IF(A16="DQ","",INDEX('[1]予選ヒートAGr-レース結果表（貼付）'!$A:$Z,MATCH($B16,'[1]予選ヒートAGr-レース結果表（貼付）'!$B:$B,0),MATCH('予選ヒートAGr-レース結果表'!K$11,'[1]予選ヒートAGr-レース結果表（貼付）'!$1:$1,0)))),"") -> 2.282 | L16: =IFERROR(IF(A16="DNS","",IF(A16="DQ","",INDEX('[1]予選ヒートAGr-レース結果表（貼付）'!$A:$Z,MATCH($B16,'[1]予選ヒートAGr-レース結果表（貼付）'!$B:$B,0),MATCH('予選ヒートAGr-レース結果表'!L$11,'[1]予選ヒートAGr-レース結果表（貼付）'!$1:$1,0)))),"") -> 55.256 | M16: =IF(L16<1,"",IF($M$11>L16,"R","")) | P16: =IF(IFERROR(INDEX('[1]予選ヒートAGr-レース結果表（貼付）'!$A:$Z,MATCH($B16,'[1]予選ヒートAGr-レース結果表（貼付）'!$B:$B,0),MATCH(P$11,'[1]予選ヒートAGr-レース結果表（貼付）'!$1:$1,0)),"")=0,"",IFERROR(INDEX('[1]予選ヒートAGr-レース結果表（貼付）'!$A:$Z,MATCH($B16,'[1]予選ヒートAGr-レース結果表（貼付）'!$B:$B,0),MATCH(P$11,'[1]予選ヒートAGr-レース結果表（貼付）'!$1:$1,0)),"")) | Q16: =IF(P16="","",COUNTIF($P$13:P16,"<>"&"")) | R16: =IFERROR(RANK(Q16,$Q$13:$Q$43,1),"") | S16: =IF(IFERROR(INDEX('[1]予選ヒートAGr-レース結果表（貼付）'!$A:$Z,MATCH($A16,'[1]予選ヒートAGr-レース結果表（貼付）'!$A:$A,0),MATCH(S$11,'[1]予選ヒートAGr-レース結果表（貼付）'!$1:$1,0)),"")=0,"",IFERROR(INDEX('[1]予選ヒートAGr-レース結果表（貼付）'!$A:$Z,MATCH($A16,'[1]予選ヒートAGr-レース結果表（貼付）'!$A:$A,0),MATCH(S$11,'[1]予選ヒートAGr-レース結果表（貼付）'!$1:$1,0)),"")) | U16: =IF(IFERROR(INDEX('[1]予選ヒートAGr-レース結果表（貼付）'!$A:$Z,MATCH($B16,'[1]予選ヒートAGr-レース結果表（貼付）'!$B:$B,0),MATCH(U$11,'[1]予選ヒートAGr-レース結果表（貼付）'!$1:$1,0)),"")=0,"",IFERROR(INDEX('[1]予選ヒートAGr-レース結果表（貼付）'!$A:$Z,MATCH($B16,'[1]予選ヒートAGr-レース結果表（貼付）'!$B:$B,0),MATCH(U$11,'[1]予選ヒートAGr-レース結果表（貼付）'!$1:$1,0)),"")) -> 82.351
A17: =IF(OR('[1]予選ヒートAGr-レース結果表（貼付）'!A6="DNF",'[1]予選ヒートAGr-レース結果表（貼付）'!A6="DNS",'[1]予選ヒートAGr-レース結果表（貼付）'!A6="DQ"),'[1]予選ヒートAGr-レース結果表（貼付）'!A6,IF(MAX('[1]予選ヒートAGr-レース結果表（貼付）'!$A:$A)>A16,A16+1,"")) -> 5 | B17: =IFERROR(INDEX('[1]予選ヒートAGr-レース結果表（貼付）'!A6:$Z$50,MATCH($A17,'[1]予選ヒートAGr-レース結果表（貼付）'!A6:$A$50,0),MATCH('[1]公式予選（TT）①-結果表（印刷）'!B$11,'[1]予選ヒートAGr-レース結果表（貼付）'!$1:$1,0)),"") -> 74 | C17: 5 | D17: =IFERROR(INDEX('[1]予選ヒートAGr-レース結果表（貼付）'!$A:$Z,MATCH($A17,'[1]予選ヒートAGr-レース結果表（貼付）'!$A:$A,0),MATCH('予選ヒートAGr-レース結果表'!D$11,'[1]予選ヒートAGr-レース結果表（貼付）'!$1:$1,0)),"") -> 宮地 健太朗 | E17: =IFERROR(INDEX('[1]予選ヒートAGr-レース結果表（貼付）'!$A:$Z,MATCH($B17,'[1]予選ヒートAGr-レース結果表（貼付）'!$B:$B,0),MATCH('予選ヒートAGr-レース結果表'!E$11,'[1]予選ヒートAGr-レース結果表（貼付）'!$1:$1,0)),"") -> INTREPID/YAMAHA | F17: =IFERROR(INDEX('[1]予選ヒートAGr-レース結果表（貼付）'!$A:$Z,MATCH($B17,'[1]予選ヒートAGr-レース結果表（貼付）'!$B:$B,0),MATCH('予選ヒートAGr-レース結果表'!F$11,'[1]予選ヒートAGr-レース結果表（貼付）'!$1:$1,0)),"") -> Ash | G17: =IFERROR(INDEX('[1]予選ヒートAGr-レース結果表（貼付）'!$A:$Z,MATCH($B17,'[1]予選ヒートAGr-レース結果表（貼付）'!$B:$B,0),MATCH('予選ヒートAGr-レース結果表'!G$11,'[1]予選ヒートAGr-レース結果表（貼付）'!$1:$1,0)),"") -> BS | H17: =IFERROR(INDEX('[1]予選ヒートAGr-レース結果表（貼付）'!$A:$Z,MATCH($B17,'[1]予選ヒートAGr-レース結果表（貼付）'!$B:$B,0),MATCH('予選ヒートAGr-レース結果表'!H$11,'[1]予選ヒートAGr-レース結果表（貼付）'!$1:$1,0)),"") -> 12 | I17: =INDEX('[1]予選ヒートAGr-レース結果表（貼付）'!$A:$Z,MATCH($B17,'[1]予選ヒートAGr-レース結果表（貼付）'!$B:$B,0),MATCH('予選ヒートAGr-レース結果表'!I$11,'[1]予選ヒートAGr-レース結果表（貼付）'!$1:$1,0)) -> 0.0079501273 | J17: =IFERROR(IF(A17="DNS","",IF(A17="DQ","",INDEX('[1]予選ヒートAGr-レース結果表（貼付）'!$A:$Z,MATCH($B17,'[1]予選ヒートAGr-レース結果表（貼付）'!$B:$B,0),MATCH('予選ヒートAGr-レース結果表'!J$11,'[1]予選ヒートAGr-レース結果表（貼付）'!$1:$1,0)))),"") -> 8.84 | K17: =IFERROR(IF(A17="DNS","",IF(A17="DQ","",INDEX('[1]予選ヒートAGr-レース結果表（貼付）'!$A:$Z,MATCH($B17,'[1]予選ヒートAGr-レース結果表（貼付）'!$B:$B,0),MATCH('予選ヒートAGr-レース結果表'!K$11,'[1]予選ヒートAGr-レース結果表（貼付）'!$1:$1,0)))),"") -> 0.418 | L17: =IFERROR(IF(A17="DNS","",IF(A17="DQ","",INDEX('[1]予選ヒートAGr-レース結果表（貼付）'!$A:$Z,MATCH($B17,'[1]予選ヒートAGr-レース結果表（貼付）'!$B:$B,0),MATCH('予選ヒートAGr-レース結果表'!L$11,'[1]予選ヒートAGr-レース結果表（貼付）'!$1:$1,0)))),"") -> 55.364 | M17: =IF(L17<1,"",IF($M$11>L17,"R","")) | P17: =IF(IFERROR(INDEX('[1]予選ヒートAGr-レース結果表（貼付）'!$A:$Z,MATCH($B17,'[1]予選ヒートAGr-レース結果表（貼付）'!$B:$B,0),MATCH(P$11,'[1]予選ヒートAGr-レース結果表（貼付）'!$1:$1,0)),"")=0,"",IFERROR(INDEX('[1]予選ヒートAGr-レース結果表（貼付）'!$A:$Z,MATCH($B17,'[1]予選ヒートAGr-レース結果表（貼付）'!$B:$B,0),MATCH(P$11,'[1]予選ヒートAGr-レース結果表（貼付）'!$1:$1,0)),"")) | Q17: =IF(P17="","",COUNTIF($P$13:P17,"<>"&"")) | R17: =IFERROR(RANK(Q17,$Q$13:$Q$43,1),"") | S17: =IF(IFERROR(INDEX('[1]予選ヒートAGr-レース結果表（貼付）'!$A:$Z,MATCH($A17,'[1]予選ヒートAGr-レース結果表（貼付）'!$A:$A,0),MATCH(S$11,'[1]予選ヒートAGr-レース結果表（貼付）'!$1:$1,0)),"")=0,"",IFERROR(INDEX('[1]予選ヒートAGr-レース結果表（貼付）'!$A:$Z,MATCH($A17,'[1]予選ヒートAGr-レース結果表（貼付）'!$A:$A,0),MATCH(S$11,'[1]予選ヒートAGr-レース結果表（貼付）'!$1:$1,0)),"")) | U17: =IF(IFERROR(INDEX('[1]予選ヒートAGr-レース結果表（貼付）'!$A:$Z,MATCH($B17,'[1]予選ヒートAGr-レース結果表（貼付）'!$B:$B,0),MATCH(U$11,'[1]予選ヒートAGr-レース結果表（貼付）'!$1:$1,0)),"")=0,"",IFERROR(INDEX('[1]予選ヒートAGr-レース結果表（貼付）'!$A:$Z,MATCH($B17,'[1]予選ヒートAGr-レース結果表（貼付）'!$B:$B,0),MATCH(U$11,'[1]予選ヒートAGr-レース結果表（貼付）'!$1:$1,0)),"")) -> 82.191
A18: =IF(OR('[1]予選ヒートAGr-レース結果表（貼付）'!A7="DNF",'[1]予選ヒートAGr-レース結果表（貼付）'!A7="DNS",'[1]予選ヒートAGr-レース結果表（貼付）'!A7="DQ"),'[1]予選ヒートAGr-レース結果表（貼付）'!A7,IF(MAX('[1]予選ヒートAGr-レース結果表（貼付）'!$A:$A)>A17,A17+1,"")) -> 6 | B18: =IFERROR(INDEX('[1]予選ヒートAGr-レース結果表（貼付）'!A7:$Z$50,MATCH($A18,'[1]予選ヒートAGr-レース結果表（貼付）'!A7:$A$50,0),MATCH('[1]公式予選（TT）①-結果表（印刷）'!B$11,'[1]予選ヒートAGr-レース結果表（貼付）'!$1:$1,0)),"") -> 31 | C18: 6 | D18: =IFERROR(INDEX('[1]予選ヒートAGr-レース結果表（貼付）'!$A:$Z,MATCH($A18,'[1]予選ヒートAGr-レース結果表（貼付）'!$A:$A,0),MATCH('予選ヒートAGr-レース結果表'!D$11,'[1]予選ヒートAGr-レース結果表（貼付）'!$1:$1,0)),"") -> 飛田 陽宏 | E18: =IFERROR(INDEX('[1]予選ヒートAGr-レース結果表（貼付）'!$A:$Z,MATCH($B18,'[1]予選ヒートAGr-レース結果表（貼付）'!$B:$B,0),MATCH('予選ヒートAGr-レース結果表'!E$11,'[1]予選ヒートAGr-レース結果表（貼付）'!$1:$1,0)),"") -> TONY KART/YAMAHA | F18: =IFERROR(INDEX('[1]予選ヒートAGr-レース結果表（貼付）'!$A:$Z,MATCH($B18,'[1]予選ヒートAGr-レース結果表（貼付）'!$B:$B,0),MATCH('予選ヒートAGr-レース結果表'!F$11,'[1]予選ヒートAGr-レース結果表（貼付）'!$1:$1,0)),"") -> TBT RT with まえだ眼科 | G18: =IFERROR(INDEX('[1]予選ヒートAGr-レース結果表（貼付）'!$A:$Z,MATCH($B18,'[1]予選ヒートAGr-レース結果表（貼付）'!$B:$B,0),MATCH('予選ヒートAGr-レース結果表'!G$11,'[1]予選ヒートAGr-レース結果表（貼付）'!$1:$1,0)),"") -> BS | H18: =IFERROR(INDEX('[1]予選ヒートAGr-レース結果表（貼付）'!$A:$Z,MATCH($B18,'[1]予選ヒートAGr-レース結果表（貼付）'!$B:$B,0),MATCH('予選ヒートAGr-レース結果表'!H$11,'[1]予選ヒートAGr-レース結果表（貼付）'!$1:$1,0)),"") -> 12 | I18: =INDEX('[1]予選ヒートAGr-レース結果表（貼付）'!$A:$Z,MATCH($B18,'[1]予選ヒートAGr-レース結果表（貼付）'!$B:$B,0),MATCH('予選ヒートAGr-レース結果表'!I$11,'[1]予選ヒートAGr-レース結果表（貼付）'!$1:$1,0)) -> 0.007972338 | J18: =IFERROR(IF(A18="DNS","",IF(A18="DQ","",INDEX('[1]予選ヒートAGr-レース結果表（貼付）'!$A:$Z,MATCH($B18,'[1]予選ヒートAGr-レース結果表（貼付）'!$B:$B,0),MATCH('予選ヒートAGr-レース結果表'!J$11,'[1]予選ヒートAGr-レース結果表（貼付）'!$1:$1,0)))),"") -> 10.759 | K18: =IFERROR(IF(A18="DNS","",IF(A18="DQ","",INDEX('[1]予選ヒートAGr-レース結果表（貼付）'!$A:$Z,MATCH($B18,'[1]予選ヒートAGr-レース結果表（貼付）'!$B:$B,0),MATCH('予選ヒートAGr-レース結果表'!K$11,'[1]予選ヒートAGr-レース結果表（貼付）'!$1:$1,0)))),"") -> 1.919 | L18: =IFERROR(IF(A18="DNS","",IF(A18="DQ","",INDEX('[1]予選ヒートAGr-レース結果表（貼付）'!$A:$Z,MATCH($B18,'[1]予選ヒートAGr-レース結果表（貼付）'!$B:$B,0),MATCH('予選ヒートAGr-レース結果表'!L$11,'[1]予選ヒートAGr-レース結果表（貼付）'!$1:$1,0)))),"") -> 55.345 | M18: =IF(L18<1,"",IF($M$11>L18,"R","")) | P18: =IF(IFERROR(INDEX('[1]予選ヒートAGr-レース結果表（貼付）'!$A:$Z,MATCH($B18,'[1]予選ヒートAGr-レース結果表（貼付）'!$B:$B,0),MATCH(P$11,'[1]予選ヒートAGr-レース結果表（貼付）'!$1:$1,0)),"")=0,"",IFERROR(INDEX('[1]予選ヒートAGr-レース結果表（貼付）'!$A:$Z,MATCH($B18,'[1]予選ヒートAGr-レース結果表（貼付）'!$B:$B,0),MATCH(P$11,'[1]予選ヒートAGr-レース結果表（貼付）'!$1:$1,0)),"")) | Q18: =IF(P18="","",COUNTIF($P$13:P18,"<>"&"")) | R18: =IFERROR(RANK(Q18,$Q$13:$Q$43,1),"") | S18: =IF(IFERROR(INDEX('[1]予選ヒートAGr-レース結果表（貼付）'!$A:$Z,MATCH($A18,'[1]予選ヒートAGr-レース結果表（貼付）'!$A:$A,0),MATCH(S$11,'[1]予選ヒートAGr-レース結果表（貼付）'!$1:$1,0)),"")=0,"",IFERROR(INDEX('[1]予選ヒートAGr-レース結果表（貼付）'!$A:$Z,MATCH($A18,'[1]予選ヒートAGr-レース結果表（貼付）'!$A:$A,0),MATCH(S$11,'[1]予選ヒートAGr-レース結果表（貼付）'!$1:$1,0)),"")) | U18: =IF(IFERROR(INDEX('[1]予選ヒートAGr-レース結果表（貼付）'!$A:$Z,MATCH($B18,'[1]予選ヒートAGr-レース結果表（貼付）'!$B:$B,0),MATCH(U$11,'[1]予選ヒートAGr-レース結果表（貼付）'!$1:$1,0)),"")=0,"",IFERROR(INDEX('[1]予選ヒートAGr-レース結果表（貼付）'!$A:$Z,MATCH($B18,'[1]予選ヒートAGr-レース結果表（貼付）'!$B:$B,0),MATCH(U$11,'[1]予選ヒートAGr-レース結果表（貼付）'!$1:$1,0)),"")) -> 82.219
