Workbook

Sheet 予選ヒート-総合結果表
F6: =+[1]各種設定!D18 -> 44878 | H6: :
A7: =+[1]各種設定!D2 -> 2022年 全日本カート選手権 FS-125/FP-3部門 東西統一競技会 | G7: WEATHER： | H7: Fine
G8: COURSE : | H8: Dry
A9: =+[1]各種設定!D4 -> FP-3 | G9: 南コース 1.264Km
A10: 予選ヒート 総合結果表
B11: No. | C11: ポイント | D11: 名前 | E11: Model/Engine | F11: Team | G11: Tires | H11: 予選Time | L11: コメント | N11: ペナルティNo. | O11: グリッドコメント
A12: Pos. | B12: No. | C12: Point. | D12: Driver | E12: Type | F12: Team | G12: Tire | H12: 予選Time
A13: 1 | B13: =IFERROR(INDEX('[1]予選ヒート-総合結果表（整列）'!A2:$Z$50,MATCH($A13,'[1]予選ヒート-総合結果表（整列）'!A2:$A$50,0),MATCH('予選ヒート-総合結果表'!B$11,'[1]予選ヒート-総合結果表（整列）'!$1:$1,0)),"") -> 14 | C13: =IFERROR(INDEX('[1]予選ヒート-総合結果表（整列）'!$A:$Z,MATCH($B13,'[1]予選ヒート-総合結果表（整列）'!$B:$B,0),MATCH('予選ヒート-総合結果表'!C$11,'[1]予選ヒート-総合結果表（整列）'!$1:$1,0)),"") | D13: =IFERROR(INDEX('[1]予選ヒート-総合結果表（整列）'!$A:$Z,MATCH($B13,'[1]予選ヒート-総合結果表（整列）'!$B:$B,0),MATCH('予選ヒート-総合結果表'!D$11,'[1]予選ヒート-総合結果表（整列）'!$1:$1,0)),"") -> 春日 龍之介 | E13: =IFERROR(INDEX('[1]予選ヒート-総合結果表（整列）'!$A:$Z,MATCH($B13,'[1]予選ヒート-総合結果表（整列）'!$B:$B,0),MATCH('予選ヒート-総合結果表'!E$11,'[1]予選ヒート-総合結果表（整列）'!$1:$1,0)),"") -> XENON KART/YAMAHA | F13: =IFERROR(INDEX('[1]予選ヒート-総合結果表（整列）'!$A:$Z,MATCH($B13,'[1]予選ヒート-総合結果表（整列）'!$B:$B,0),MATCH('予選ヒート-総合結果表'!F$11,'[1]予選ヒート-総合結果表（整列）'!$1:$1,0)),"") -> SPS川口 | G13: =IFERROR(INDEX('[1]予選ヒート-総合結果表（整列）'!$A:$Z,MATCH($B13,'[1]予選ヒート-総合結果表（整列）'!$B:$B,0),MATCH('予選ヒート-総合結果表'!G$11,'[1]予選ヒート-総合結果表（整列）'!$1:$1,0)),"") -> BS | H13: =IFERROR(INDEX('[1]予選ヒート-総合結果表（整列）'!$A:$Z,MATCH($B13,'[1]予選ヒート-総合結果表（整列）'!$B:$B,0),MATCH('予選ヒート-総合結果表'!H$11,'[1]予選ヒート-総合結果表（整列）'!$1:$1,0)),"") -> 54.207 | L13: =IF(IFERROR(INDEX('[1]予選ヒート-総合結果表（整列）'!$A:$Z,MATCH($B13,'[1]予選ヒート-総合結果表（整列）'!$B:$B,0),MATCH(L$11,'[1]予選ヒート-総合結果表（整列）'!$1:$1,0)),"")=0,"",IFERROR(INDEX('[1]予選ヒート-総合結果表（整列）'!$A:$Z,MATCH($B13,'[1]予選ヒート-総合結果表（整列）'!$B:$B,0),MATCH(L$11,'[1]予選ヒート-総合結果表（整列）'!$1:$1,0)),"")) | M13: =IF(L13="","",COUNTIF($L$13:L13,"<>"&"")) | N13: =IFERROR(RANK(M13,$M$13:$M$46,1),"") | O13: =IF(IFERROR(INDEX('[1]予選ヒート-総合結果表（整列）'!$A:$Z,MATCH($A13,'[1]予選ヒート-総合結果表（整列）'!$A:$A,0),MATCH(O$11,'[1]予選ヒート-総合結果表（整列）'!$1:$1,0)),"")=0,"",IFERROR(INDEX('[1]予選ヒート-総合結果表（整列）'!$A:$Z,MATCH($A13,'[1]予選ヒート-総合結果表（整列）'!$A:$A,0),MATCH(O$11,'[1]予選ヒート-総合結果表（整列）'!$1:$1,0)),""))
A14: =IF(OR('[1]予選ヒート-総合結果表（整列）'!A3="DNF",'[1]予選ヒート-総合結果表（整列）'!A3="DNS",'[1]予選ヒート-総合結果表（整列）'!A3="DQ"),'[1]予選ヒート-総合結果表（整列）'!A3,IF(MAX('[1]予選ヒート-総合結果表（整列）'!$A:$A)>A13,A13+1,"")) -> 2 | B14: =IFERROR(INDEX('[1]予選ヒート-総合結果表（整列）'!A3:$Z$50,MATCH($A14,'[1]予選ヒート-総合結果表（整列）'!A3:$A$50,0),MATCH('予選ヒート-総合結果表'!B$11,'[1]予選ヒート-総合結果表（整列）'!$1:$1,0)),"") -> 11 | C14: =IFERROR(INDEX('[1]予選ヒート-総合結果表（整列）'!$A:$Z,MATCH($B14,'[1]予選ヒート-総合結果表（整列）'!$B:$B,0),MATCH('予選ヒート-総合結果表'!C$11,'[1]予選ヒート-総合結果表（整列）'!$1:$1,0)),"") | D14: =IFERROR(INDEX('[1]予選ヒート-総合結果表（整列）'!$A:$Z,MATCH($B14,'[1]予選ヒート-総合結果表（整列）'!$B:$B,0),MATCH('予選ヒート-総合結果表'!D$11,'[1]予選ヒート-総合結果表（整列）'!$1:$1,0)),"") -> 富下 李央菜 | E14: =IFERROR(INDEX('[1]予選ヒート-総合結果表（整列）'!$A:$Z,MATCH($B14,'[1]予選ヒート-総合結果表（整列）'!$B:$B,0),MATCH('予選ヒート-総合結果表'!E$11,'[1]予選ヒート-総合結果表（整列）'!$1:$1,0)),"") -> KOSMIC/YAMAHA | F14: =IFERROR(INDEX('[1]予選ヒート-総合結果表（整列）'!$A:$Z,MATCH($B14,'[1]予選ヒート-総合結果表（整列）'!$B:$B,0),MATCH('予選ヒート-総合結果表'!F$11,'[1]予選ヒート-総合結果表（整列）'!$1:$1,0)),"") -> Formula Blue TKC | G14: =IFERROR(INDEX('[1]予選ヒート-総合結果表（整列）'!$A:$Z,MATCH($B14,'[1]予選ヒート-総合結果表（整列）'!$B:$B,0),MATCH('予選ヒート-総合結果表'!G$11,'[1]予選ヒート-総合結果表（整列）'!$1:$1,0)),"") -> BS | H14: =IFERROR(INDEX('[1]予選ヒート-総合結果表（整列）'!$A:$Z,MATCH($B14,'[1]予選ヒート-総合結果表（整列）'!$B:$B,0),MATCH('予選ヒート-総合結果表'!H$11,'[1]予選ヒート-総合結果表（整列）'!$1:$1,0)),"") -> 54.419 | L14: =IF(IFERROR(INDEX('[1]予選ヒート-総合結果表（整列）'!$A:$Z,MATCH($B14,'[1]予選ヒート-総合結果表（整列）'!$B:$B,0),MATCH(L$11,'[1]予選ヒート-総合結果表（整列）'!$1:$1,0)),"")=0,"",IFERROR(INDEX('[1]予選ヒート-総合結果表（整列）'!$A:$Z,MATCH($B14,'[1]予選ヒート-総合結果表（整列）'!$B:$B,0),MATCH(L$11,'[1]予選ヒート-総合結果表（整列）'!$1:$1,0)),"")) | M14: =IF(L14="","",COUNTIF($L$13:L14,"<>"&"")) | N14: =IFERROR(RANK(M14,$M$13:$M$46,1),"") | O14: =IF(IFERROR(INDEX('[1]予選ヒート-総合結果表（整列）'!$A:$Z,MATCH($A14,'[1]予選ヒート-総合結果表（整列）'!$A:$A,0),MATCH(O$11,'[1]予選ヒート-総合結果表（整列）'!$1:$1,0)),"")=0,"",IFERROR(INDEX('[1]予選ヒート-総合結果表（整列）'!$A:$Z,MATCH($A14,'[1]予選ヒート-総合結果表（整列）'!$A:$A,0),MATCH(O$11,'[1]予選ヒート-総合結果表（整列）'!$1:$1,0)),""))
A15: =IF(OR('[1]予選ヒート-総合結果表（整列）'!A4="DNF",'[1]予選ヒート-総合結果表（整列）'!A4="DNS",'[1]予選ヒート-総合結果表（整列）'!A4="DQ"),'[1]予選ヒート-総合結果表（整列）'!A4,IF(MAX('[1]予選ヒート-総合結果表（整列）'!$A:$A)>A14,A14+1,"")) -> 3 | B15: =IFERROR(INDEX('[1]予選ヒート-総合結果表（整列）'!A4:$Z$50,MATCH($A15,'[1]予選ヒート-総合結果表（整列）'!A4:$A$50,0),MATCH('予選ヒート-総合結果表'!B$11,'[1]予選ヒート-総合結果表（整列）'!$1:$1,0)),"") -> 40 | C15: =IFERROR(INDEX('[1]予選ヒート-総合結果表（整列）'!$A:$Z,MATCH($B15,'[1]予選ヒート-総合結果表（整列）'!$B:$B,0),MATCH('予選ヒート-総合結果表'!C$11,'[1]予選ヒート-総合結果表（整列）'!$1:$1,0)),"") | D15: =IFERROR(INDEX('[1]予選ヒート-総合結果表（整列）'!$A:$Z,MATCH($B15,'[1]予選ヒート-総合結果表（整列）'!$B:$B,0),MATCH('予選ヒート-総合結果表'!D$11,'[1]予選ヒート-総合結果表（整列）'!$1:$1,0)),"") -> 大槻 直 | E15: =IFERROR(INDEX('[1]予選ヒート-総合結果表（整列）'!$A:$Z,MATCH($B15,'[1]予選ヒート-総合結果表（整列）'!$B:$B,0),MATCH('予選ヒート-総合結果表'!E$11,'[1]予選ヒート-総合結果表（整列）'!$1:$1,0)),"") -> TONY KART/YAMAHA | F15: =IFERROR(INDEX('[1]予選ヒート-総合結果表（整列）'!$A:$Z,MATCH($B15,'[1]予選ヒート-総合結果表（整列）'!$B:$B,0),MATCH('予選ヒート-総合結果表'!F$11,'[1]予選ヒート-総合結果表（整列）'!$1:$1,0)),"") -> ASH | G15: =IFERROR(INDEX('[1]予選ヒート-総合結果表（整列）'!$A:$Z,MATCH($B15,'[1]予選ヒート-総合結果表（整列）'!$B:$B,0),MATCH('予選ヒート-総合結果表'!G$11,'[1]予選ヒート-総合結果表（整列）'!$1:$1,0)),"") -> BS | H15: =IFERROR(INDEX('[1]予選ヒート-総合結果表（整列）'!$A:$Z,MATCH($B15,'[1]予選ヒート-総合結果表（整列）'!$B:$B,0),MATCH('予選ヒート-総合結果表'!H$11,'[1]予選ヒート-総合結果表（整列）'!$1:$1,0)),"") -> 54.518 | L15: =IF(IFERROR(INDEX('[1]予選ヒート-総合結果表（整列）'!$A:$Z,MATCH($B15,'[1]予選ヒート-総合結果表（整列）'!$B:$B,0),MATCH(L$11,'[1]予選ヒート-総合結果表（整列）'!$1:$1,0)),"")=0,"",IFERROR(INDEX('[1]予選ヒート-総合結果表（整列）'!$A:$Z,MATCH($B15,'[1]予選ヒート-総合結果表（整列）'!$B:$B,0),MATCH(L$11,'[1]予選ヒート-総合結果表（整列）'!$1:$1,0)),"")) | M15: =IF(L15="","",COUNTIF($L$13:L15,"<>"&"")) | N15: =IFERROR(RANK(M15,$M$13:$M$46,1),"") | O15: =IF(IFERROR(INDEX('[1]予選ヒート-総合結果表（整列）'!$A:$Z,MATCH($A15,'[1]予選ヒート-総合結果表（整列）'!$A:$A,0),MATCH(O$11,'[1]予選ヒート-総合結果表（整列）'!$1:$1,0)),"")=0,"",IFERROR(INDEX('[1]予選ヒート-総合結果表（整列）'!$A:$Z,MATCH($A15,'[1]予選ヒート-総合結果表（整列）'!$A:$A,0),MATCH(O$11,'[1]予選ヒート-総合結果表（整列）'!$1:$1,0)),""))
A16: =IF(OR('[1]予選ヒート-総合結果表（整列）'!A5="DNF",'[1]予選ヒート-総合結果表（整列）'!A5="DNS",'[1]予選ヒート-総合結果表（整列）'!A5="DQ"),'[1]予選ヒート-総合結果表（整列）'!A5,IF(MAX('[1]予選ヒート-総合結果表（整列）'!$A:$A)>A15,A15+1,"")) -> 4 | B16: =IFERROR(INDEX('[1]予選ヒート-総合結果表（整列）'!A5:$Z$50,MATCH($A16,'[1]予選ヒート-総合結果表（整列）'!A5:$A$50,0),MATCH('予選ヒート-総合結果表'!B$11,'[1]予選ヒート-総合結果表（整列）'!$1:$1,0)),"") -> 84 | C16: =IFERROR(INDEX('[1]予選ヒート-総合結果表（整列）'!$A:$Z,MATCH($B16,'[1]予選ヒート-総合結果表（整列）'!$B:$B,0),MATCH('予選ヒート-総合結果表'!C$11,'[1]予選ヒート-総合結果表（整列）'!$1:$1,0)),"") | D16: =IFERROR(INDEX('[1]予選ヒート-総合結果表（整列）'!$A:$Z,MATCH($B16,'[1]予選ヒート-総合結果表（整列）'!$B:$B,0),MATCH('予選ヒート-総合結果表'!D$11,'[1]予選ヒート-総合結果表（整列）'!$1:$1,0)),"") -> 林 零仁 | E16: =IFERROR(INDEX('[1]予選ヒート-総合結果表（整列）'!$A:$Z,MATCH($B16,'[1]予選ヒート-総合結果表（整列）'!$B:$B,0),MATCH('予選ヒート-総合結果表'!E$11,'[1]予選ヒート-総合結果表（整列）'!$1:$1,0)),"") -> EXPRIT/YAMAHA | F16: =IFERROR(INDEX('[1]予選ヒート-総合結果表（整列）'!$A:$Z,MATCH($B16,'[1]予選ヒート-総合結果表（整列）'!$B:$B,0),MATCH('予選ヒート-総合結果表'!F$11,'[1]予選ヒート-総合結果表（整列）'!$1:$1,0)),"") -> ONE POINT | G16: =IFERROR(INDEX('[1]予選ヒート-総合結果表（整列）'!$A:$Z,MATCH($B16,'[1]予選ヒート-総合結果表（整列）'!$B:$B,0),MATCH('予選ヒート-総合結果表'!G$11,'[1]予選ヒート-総合結果表（整列）'!$1:$1,0)),"") -> BS | H16: =IFERROR(INDEX('[1]予選ヒート-総合結果表（整列）'!$A:$Z,MATCH($B16,'[1]予選ヒート-総合結果表（整列）'!$B:$B,0),MATCH('予選ヒート-総合結果表'!H$11,'[1]予選ヒート-総合結果表（整列）'!$1:$1,0)),"") -> 55.231 | L16: =IF(IFERROR(INDEX('[1]予選ヒート-総合結果表（整列）'!$A:$Z,MATCH($B16,'[1]予選ヒート-総合結果表（整列）'!$B:$B,0),MATCH(L$11,'[1]予選ヒート-総合結果表（整列）'!$1:$1,0)),"")=0,"",IFERROR(INDEX('[1]予選ヒート-総合結果表（整列）'!$A:$Z,MATCH($B16,'[1]予選ヒート-総合結果表（整列）'!$B:$B,0),MATCH(L$11,'[1]予選ヒート-総合結果表（整列）'!$1:$1,0)),"")) | M16: =IF(L16="","",COUNTIF($L$13:L16,"<>"&"")) | N16: =IFERROR(RANK(M16,$M$13:$M$46,1),"") | O16: =IF(IFERROR(INDEX('[1]予選ヒート-総合結果表（整列）'!$A:$Z,MATCH($A16,'[1]予選ヒート-総合結果表（整列）'!$A:$A,0),MATCH(O$11,'[1]予選ヒート-総合結果表（整列）'!$1:$1,0)),"")=0,"",IFERROR(INDEX('[1]予選ヒート-総合結果表（整列）'!$A:$Z,MATCH($A16,'[1]予選ヒート-総合結果表（整列）'!$A:$A,0),MATCH(O$11,'[1]予選ヒート-総合結果表（整列）'!$1:$1,0)),""))
A17: =IF(OR('[1]予選ヒート-総合結果表（整列）'!A6="DNF",'[1]予選ヒート-総合結果表（整列）'!A6="DNS",'[1]予選ヒート-総合結果表（整列）'!A6="DQ"),'[1]予選ヒート-総合結果表（整列）'!A6,IF(MAX('[1]予選ヒート-総合結果表（整列）'!$A:$A)>A16,A16+1,"")) -> 5 | B17: =IFERROR(INDEX('[1]予選ヒート-総合結果表（整列）'!A6:$Z$50,MATCH($A17,'[1]予選ヒート-総合結果表（整列）'!A6:$A$50,0),MATCH('予選ヒート-総合結果表'!B$11,'[1]予選ヒート-総合結果表（整列）'!$1:$1,0)),"") -> 61 | C17: =IFERROR(INDEX('[1]予選ヒート-総合結果表（整列）'!$A:$Z,MATCH($B17,'[1]予選ヒート-総合結果表（整列）'!$B:$B,0),MATCH('予選ヒート-総合結果表'!C$11,'[1]予選ヒート-総合結果表（整列）'!$1:$1,0)),"") | D17: =IFERROR(INDEX('[1]予選ヒート-総合結果表（整列）'!$A:$Z,MATCH($B17,'[1]予選ヒート-総合結果表（整列）'!$B:$B,0),MATCH('予選ヒート-総合結果表'!D$11,'[1]予選ヒート-総合結果表（整列）'!$1:$1,0)),"") -> 寺島 知毅 | E17: =IFERROR(INDEX('[1]予選ヒート-総合結果表（整列）'!$A:$Z,MATCH($B17,'[1]予選ヒート-総合結果表（整列）'!$B:$B,0),MATCH('予選ヒート-総合結果表'!E$11,'[1]予選ヒート-総合結果表（整列）'!$1:$1,0)),"") -> TONY KART/YAMAHA | F17: =IFERROR(INDEX('[1]予選ヒート-総合結果表（整列）'!$A:$Z,MATCH($B17,'[1]予選ヒート-総合結果表（整列）'!$B:$B,0),MATCH('予選ヒート-総合結果表'!F$11,'[1]予選ヒート-総合結果表（整列）'!$1:$1,0)),"") -> 松本レーシング | G17: =IFERROR(INDEX('[1]予選ヒート-総合結果表（整列）'!$A:$Z,MATCH($B17,'[1]予選ヒート-総合結果表（整列）'!$B:$B,0),MATCH('予選ヒート-総合結果表'!G$11,'[1]予選ヒート-総合結果表（整列）'!$1:$1,0)),"") -> BS | H17: =IFERROR(INDEX('[1]予選ヒート-総合結果表（整列）'!$A:$Z,MATCH($B17,'[1]予選ヒート-総合結果表（整列）'!$B:$B,0),MATCH('予選ヒート-総合結果表'!H$11,'[1]予選ヒート-総合結果表（整列）'!$1:$1,0)),"") -> 54.648 | L17: =IF(IFERROR(INDEX('[1]予選ヒート-総合結果表（整列）'!$A:$Z,MATCH($B17,'[1]予選ヒート-総合結果表（整列）'!$B:$B,0),MATCH(L$11,'[1]予選ヒート-総合結果表（整列）'!$1:$1,0)),"")=0,"",IFERROR(INDEX('[1]予選ヒート-総合結果表（整列）'!$A:$Z,MATCH($B17,'[1]予選ヒート-総合結果表（整列）'!$B:$B,0),MATCH(L$11,'[1]予選ヒート-総合結果表（整列）'!$1:$1,0)),"")) | M17: =IF(L17="","",COUNTIF($L$13:L17,"<>"&"")) | N17: =IFERROR(RANK(M17,$M$13:$M$46,1),"") | O17: =IF(IFERROR(INDEX('[1]予選ヒート-総合結果表（整列）'!$A:$Z,MATCH($A17,'[1]予選ヒート-総合結果表（整列）'!$A:$A,0),MATCH(O$11,'[1]予選ヒート-総合結果表（整列）'!$1:$1,0)),"")=0,"",IFERROR(INDEX('[1]予選ヒート-総合結果表（整列）'!$A:$Z,MATCH($A17,'[1]予選ヒート-総合結果表（整列）'!$A:$A,0),MATCH(O$11,'[1]予選ヒート-総合結果表（整列）'!$1:$1,0)),""))
A18: =IF(OR('[1]予選ヒート-総合結果表（整列）'!A7="DNF",'[1]予選ヒート-総合結果表（整列）'!A7="DNS",'[1]予選ヒート-総合結果表（整列）'!A7="DQ"),'[1]予選ヒート-総合結果表（整列）'!A7,IF(MAX('[1]予選ヒート-総合結果表（整列）'!$A:$A)>A17,A17+1,"")) -> 6 | B18: =IFERROR(INDEX('[1]予選ヒート-総合結果表（整列）'!A7:$Z$50,MATCH($A18,'[1]予選ヒート-総合結果表（整列）'!A7:$A$50,0),MATCH('予選ヒート-総合結果表'!B$11,'[1]予選ヒート-総合結果表（整列）'!$1:$1,0)),"") -> 37 | C18: =IFERROR(INDEX('[1]予選ヒート-総合結果表（整列）'!$A:$Z,MATCH($B18,'[1]予選ヒート-総合結果表（整列）'!$B:$B,0),MATCH('予選ヒート-総合結果表'!C$11,'[1]予選ヒート-総合結果表（整列）'!$1:$1,0)),"") | D18: =IFERROR(INDEX('[1]予選ヒート-総合結果表（整列）'!$A:$Z,MATCH($B18,'[1]予選ヒート-総合結果表（整列）'!$B:$B,0),MATCH('予選ヒート-総合結果表'!D$11,'[1]予選ヒート-総合結果表（整列）'!$1:$1,0)),"") -> 佐藤 琉葵 | E18: =IFERROR(INDEX('[1]予選ヒート-総合結果表（整列）'!$A:$Z,MATCH($B18,'[1]予選ヒート-総合結果表（整列）'!$B:$B,0),MATCH('予選ヒート-総合結果表'!E$11,'[1]予選ヒート-総合結果表（整列）'!$1:$1,0)),"") -> LN KART/YAMAHA | F18: =IFERROR(INDEX('[1]予選ヒート-総合結果表（整列）'!$A:$Z,MATCH($B18,'[1]予選ヒート-総合結果表（整列）'!$B:$B,0),MATCH('予選ヒート-総合結果表'!F$11,'[1]予選ヒート-総合結果表（整列）'!$1:$1,0)),"") -> DSM | G18: =IFERROR(INDEX('[1]予選ヒート-総合結果表（整列）'!$A:$Z,MATCH($B18,'[1]予選ヒート-総合結果表（整列）'!$B:$B,0),MATCH('予選ヒート-総合結果表'!G$11,'[1]予選ヒート-総合結果表（整列）'!$1:$1,0)),"") -> BS | H18: =IFERROR(INDEX('[1]予選ヒート-総合結果表（整列）'!$A:$Z,MATCH($B18,'[1]予選ヒート-総合結果表（整列）'!$B:$B,0),MATCH('予選ヒート-総合結果表'!H$11,'[1]予選ヒート-総合結果表（整列）'!$1:$1,0)),"") -> 55.027 | L18: =IF(IFERROR(INDEX('[1]予選ヒート-総合結果表（整列）'!$A:$Z,MATCH($B18,'[1]予選ヒート-総合結果表（整列）'!$B:$B,0),MATCH(L$11,'[1]予選ヒート-総合結果表（整列）'!$1:$1,0)),"")=0,"",IFERROR(INDEX('[1]予選ヒート-総合結果表（整列）'!$A:$Z,MATCH($B18,'[1]予選ヒート-総合結果表（整列）'!$B:$B,0),MATCH(L$11,'[1]予選ヒート-総合結果表（整列）'!$1:$1,0)),"")) -> 全日本カート選手権統一規則書 第38条(25)(フロントフェアリングが正しい装着状態でない)により5秒加算した。 | M18: =IF(L18="","",COUNTIF($L$13:L18,"<>"&"")) -> 6 | N18: =IFERROR(RANK(M18,$M$13:$M$46,1),"") -> 1 | O18: =IF(IFERROR(INDEX('[1]予選ヒート-総合結果表（整列）'!$A:$Z,MATCH($A18,'[1]予選ヒート-総合結果表（整列）'!$A:$A,0),MATCH(O$11,'[1]予選ヒート-総合結果表（整列）'!$1:$1,0)),"")=0,"",IFERROR(INDEX('[1]予選ヒート-総合結果表（整列）'!$A:$Z,MATCH($A18,'[1]予選ヒート-総合結果表（整列）'!$A:$A,0),MATCH(O$11,'[1]予選ヒート-総合結果表（整列）'!$1:$1,0)),""))
A19: =IF(OR('[1]予選ヒート-総合結果表（整列）'!A8="DNF",'[1]予選ヒート-総合結果表（整列）'!A8="DNS",'[1]予選ヒート-総合結果表（整列）'!A8="DQ"),'[1]予選ヒート-総合結果表（整列）'!A8,IF(MAX('[1]予選ヒート-総合結果表（整列）'!$A:$A)>A18,A18+1,"")) -> 7 | B19: =IFERROR(INDEX('[1]予選ヒート-総合結果表（整列）'!A8:$Z$50,MATCH($A19,'[1]予選ヒート-総合結果表（整列）'!A8:$A$50,0),MATCH('予選ヒート-総合結果表'!B$11,'[1]予選ヒート-総合結果表（整列）'!$1:$1,0)),"") -> 30 | C19: =IFERROR(INDEX('[1]予選ヒート-総合結果表（整列）'!$A:$Z,MATCH($B19,'[1]予選ヒート-総合結果表（整列）'!$B:$B,0),MATCH('予選ヒート-総合結果表'!C$11,'[1]予選ヒート-総合結果表（整列）'!$1:$1,0)),"") | D19: =IFERROR(INDEX('[1]予選ヒート-総合結果表（整列）'!$A:$Z,MATCH($B19,'[1]予選ヒート-総合結果表（整列）'!$B:$B,0),MATCH('予選ヒート-総合結果表'!D$11,'[1]予選ヒート-総合結果表（整列）'!$1:$1,0)),"") -> 久富 圭 | E19: =IFERROR(INDEX('[1]予選ヒート-総合結果表（整列）'!$A:$Z,MATCH($B19,'[1]予選ヒート-総合結果表（整列）'!$B:$B,0),MATCH('予選ヒート-総合結果表'!E$11,'[1]予選ヒート-総合結果表（整列）'!$1:$1,0)),"") -> TONY KART/YAMAHA | F19: =IFERROR(INDEX('[1]予選ヒート-総合結果表（整列）'!$A:$Z,MATCH($B19,'[1]予選ヒート-総合結果表（整列）'!$B:$B,0),MATCH('予選ヒート-総合結果表'!F$11,'[1]予選ヒート-総合結果表（整列）'!$1:$1,0)),"") -> Formula Blue Ash | G19: =IFERROR(INDEX('[1]予選ヒート-総合結果表（整列）'!$A:$Z,MATCH($B19,'[1]予選ヒート-総合結果表（整列）'!$B:$B,0),MATCH('予選ヒート-総合結果表'!G$11,'[1]予選ヒート-総合結果表（整列）'!$1:$1,0)),"") -> BS | H19: =IFERROR(INDEX('[1]予選ヒート-総合結果表（整列）'!$A:$Z,MATCH($B19,'[1]予選ヒート-総合結果表（整列）'!$B:$B,0),MATCH('予選ヒート-総合結果表'!H$11,'[1]予選ヒート-総合結果表（整列）'!$1:$1,0)),"") -> 54.384 | L19: =IF(IFERROR(INDEX('[1]予選ヒート-総合結果表（整列）'!$A:$Z,MATCH($B19,'[1]予選ヒート-総合結果表（整列）'!$B:$B,0),MATCH(L$11,'[1]予選ヒート-総合結果表（整列）'!$1:$1,0)),"")=0,"",IFERROR(INDEX('[1]予選ヒート-総合結果表（整列）'!$A:$Z,MATCH($B19,'[1]予選ヒート-総合結果表（整列）'!$B:$B,0),MATCH(L$11,'[1]予選ヒート-総合結果表（整列）'!$1:$1,0)),"")) | M19: =IF(L19="","",COUNTIF($L$13:L19,"<>"&"")) | N19: =IFERROR(RANK(M19,$M$13:$M$46,1),"") | O19: =IF(IFERROR(INDEX('[1]予選ヒート-総合結果表（整列）'!$A:$Z,MATCH($A19,'[1]予選ヒート-総合結果表（整列）'!$A:$A,0),MATCH(O$11,'[1]予選ヒート-総合結果表（整列）'!$1:$1,0)),"")=0,"",IFERROR(INDEX('[1]予選ヒート-総合結果表（整列）'!$A:$Z,MATCH($A19,'[1]予選ヒート-総合結果表（整列）'!$A:$A,0),MATCH(O$11,'[1]予選ヒート-総合結果表（整列）'!$1:$1,0)),""))
A20: =IF(OR('[1]予選ヒート-総合結果表（整列）'!A9="DNF",'[1]予選ヒート-総合結果表（整列）'!A9="DNS",'[1]予選ヒート-総合結果表（整列）'!A9="DQ"),'[1]予選ヒート-総合結果表（整列）'!A9,IF(MAX('[1]予選ヒート-総合結果表（整列）'!$A:$A)>A19,A19+1,"")) -> 8 | B20: =IFERROR(INDEX('[1]予選ヒート-総合結果表（整列）'!A9:$Z$50,MATCH($A20,'[1]予選ヒート-総合結果表（整列）'!A9:$A$50,0),MATCH('予選ヒート-総合結果表'!B$11,'[1]予選ヒート-総合結果表（整列）'!$1:$1,0)),"") -> 47 | C20: =IFERROR(INDEX('[1]予選ヒート-総合結果表（整列）'!$A:$Z,MATCH($B20,'[1]予選ヒート-総合結果表（整列）'!$B:$B,0),MATCH('予選ヒート-総合結果表'!C$11,'[1]予選ヒート-総合結果表（整列）'!$1:$1,0)),"") | D20: =IFERROR(INDEX('[1]予選ヒート-総合結果表（整列）'!$A:$Z,MATCH($B20,'[1]予選ヒート-総合結果表（整列）'!$B:$B,0),MATCH('予選ヒート-総合結果表'!D$11,'[1]予選ヒート-総合結果表（整列）'!$1:$1,0)),"") -> 大島 良介 | E20: =IFERROR(INDEX('[1]予選ヒート-総合結果表（整列）'!$A:$Z,MATCH($B20,'[1]予選ヒート-総合結果表（整列）'!$B:$B,0),MATCH('予選ヒート-総合結果表'!E$11,'[1]予選ヒート-総合結果表（整列）'!$1:$1,0)),"") -> TONY KART/YAMAHA | F20: =IFERROR(INDEX('[1]予選ヒート-総合結果表（整列）'!$A:$Z,MATCH($B20,'[1]予選ヒート-総合結果表（整列）'!$B:$B,0),MATCH('予選ヒート-総合結果表'!F$11,'[1]予選ヒート-総合結果表（整列）'!$1:$1,0)),"") -> RS-1 | G20: =IFERROR(INDEX('[1]予選ヒート-総合結果表（整列）'!$A:$Z,MATCH($B20,'[1]予選ヒート-総合結果表（整列）'!$B:$B,0),MATCH('予選ヒート-総合結果表'!G$11,'[1]予選ヒート-総合結果表（整列）'!$1:$1,0)),"") -> BS | H20: =IFERROR(INDEX('[1]予選ヒート-総合結果表（整列）'!$A:$Z,MATCH($B20,'[1]予選ヒート-総合結果表（整列）'!$B:$B,0),MATCH('予選ヒート-総合結果表'!H$11,'[1]予選ヒート-総合結果表（整列）'!$1:$1,0)),"") -> 54.529 | L20: =IF(IFERROR(INDEX('[1]予選ヒート-総合結果表（整列）'!$A:$Z,MATCH($B20,'[1]予選ヒート-総合結果表（整列）'!$B:$B,0),MATCH(L$11,'[1]予選ヒート-総合結果表（整列）'!$1:$1,0)),"")=0,"",IFERROR(INDEX('[1]予選ヒート-総合結果表（整列）'!$A:$Z,MATCH($B20,'[1]予選ヒート-総合結果表（整列）'!$B:$B,0),MATCH(L$11,'[1]予選ヒート-総合結果表（整列）'!$1:$1,0)),"")) | M20: =IF(L20="","",COUNTIF($L$13:L20,"<>"&"")) | N20: =IFERROR(RANK(M20,$M$13:$M$46,1),"") | O20: =IF(IFERROR(INDEX('[1]予選ヒート-総合結果表（整列）'!$A:$Z,MATCH($A20,'[1]予選ヒート-総合結果表（整列）'!$A:$A,0),MATCH(O$11,'[1]予選ヒート-総合結果表（整列）'!$1:$1,0)),"")=0,"",IFERROR(INDEX('[1]予選ヒート-総合結果表（整列）'!$A:$Z,MATCH($A20,'[1]予選ヒート-総合結果表（整列）'!$A:$A,0),MATCH(O$11,'[1]予選ヒート-総合結果表（整列）'!$1:$1,0)),""))
A21: =IF(OR('[1]予選ヒート-総合結果表（整列）'!A10="DNF",'[1]予選ヒート-総合結果表（整列）'!A10="DNS",'[1]予選ヒート-総合結果表（整列）'!A10="DQ"),'[1]予選ヒート-総合結果表（整列）'!A10,IF(MAX('[1]予選ヒート-総合結果表（整列）'!$A:$A)>A20,A20+1,"")) -> 9 | B21: =IFERROR(INDEX('[1]予選ヒート-総合結果表（整列）'!A10:$Z$50,MATCH($A21,'[1]予選ヒート-総合結果表（整列）'!A10:$A$50,0),MATCH('予選ヒート-総合結果表'!B$11,'[1]予選ヒート-総合結果表（整列）'!$1:$1,0)),"") -> 19 | C21: =IFERROR(INDEX('[1]予選ヒート-総合結果表（整列）'!$A:$Z,MATCH($B21,'[1]予選ヒート-総合結果表（整列）'!$B:$B,0),MATCH('予選ヒート-総合結果表'!C$11,'[1]予選ヒート-総合結果表（整列）'!$1:$1,0)),"") | D21: =IFERROR(INDEX('[1]予選ヒート-総合結果表（整列）'!$A:$Z,MATCH($B21,'[1]予選ヒート-総合結果表（整列）'!$B:$B,0),MATCH('予選ヒート-総合結果表'!D$11,'[1]予選ヒート-総合結果表（整列）'!$1:$1,0)),"") -> 蒲生 尚弥 | E21: =IFERROR(INDEX('[1]予選ヒート-総合結果表（整列）'!$A:$Z,MATCH($B21,'[1]予選ヒート-総合結果表（整列）'!$B:$B,0),MATCH('予選ヒート-総合結果表'!E$11,'[1]予選ヒート-総合結果表（整列）'!$1:$1,0)),"") -> CL/YAMAHA | F21: =IFERROR(INDEX('[1]予選ヒート-総合結果表（整列）'!$A:$Z,MATCH($B21,'[1]予選ヒート-総合結果表（整列）'!$B:$B,0),MATCH('予選ヒート-総合結果表'!F$11,'[1]予選ヒート-総合結果表（整列）'!$1:$1,0)),"") -> のりものクラブTIGRE | G21: =IFERROR(INDEX('[1]予選ヒート-総合結果表（整列）'!$A:$Z,MATCH($B21,'[1]予選ヒート-総合結果表（整列）'!$B:$B,0),MATCH('予選ヒート-総合結果表'!G$11,'[1]予選ヒート-総合結果表（整列）'!$1:$1,0)),"") -> BS | H21: =IFERROR(INDEX('[1]予選ヒート-総合結果表（整列）'!$A:$Z,MATCH($B21,'[1]予選ヒート-総合結果表（整列）'!$B:$B,0),MATCH('予選ヒート-総合結果表'!H$11,'[1]予選ヒート-総合結果表（整列）'!$1:$1,0)),"") -> 54.738 | L21: =IF(IFERROR(INDEX('[1]予選ヒート-総合結果表（整列）'!$A:$Z,MATCH($B21,'[1]予選ヒート-総合結果表（整列）'!$B:$B,0),MATCH(L$11,'[1]予選ヒート-総合結果表（整列）'!$1:$1,0)),"")=0,"",IFERROR(INDEX('[1]予選ヒート-総合結果表（整列）'!$A:$Z,MATCH($B21,'[1]予選ヒート-総合結果表（整列）'!$B:$B,0),MATCH(L$11,'[1]予選ヒート-総合結果表（整列）'!$1:$1,0)),"")) | M21: =IF(L21="","",COUNTIF($L$13:L21,"<>"&"")) | N21: =IFERROR(RANK(M21,$M$13:$M$46,1),"") | O21: =IF(IFERROR(INDEX('[1]予選ヒート-総合結果表（整列）'!$A:$Z,MATCH($A21,'[1]予選ヒート-総合結果表（整列）'!$A:$A,0),MATCH(O$11,'[1]予選ヒート-総合結果表（整列）'!$1:$1,0)),"")=0,"",IFERROR(INDEX('[1]予選ヒート-総合結果表（整列）'!$A:$Z,MATCH($A21,'[1]予選ヒート-総合結果表（整列）'!$A:$A,0),MATCH(O$11,'[1]予選ヒート-総合結果表（整列）'!$1:$1,0)),""))
A22: =IF(OR('[1]予選ヒート-総合結果表（整列）'!A11="DNF",'[1]予選ヒート-総合結果表（整列）'!A11="DNS",'[1]予選ヒート-総合結果表（整列）'!A11="DQ"),'[1]予選ヒート-総合結果表（整列）'!A11,IF(MAX('[1]予選ヒート-総合結果表（整列）'!$A:$A)>A21,A21+1,"")) -> 10 | B22: =IFERROR(INDEX('[1]予選ヒート-総合結果表（整列）'!A11:$Z$50,MATCH($A22,'[1]予選ヒート-総合結果表（整列）'!A11:$A$50,0),MATCH('予選ヒート-総合結果表'!B$11,'[1]予選ヒート-総合結果表（整列）'!$1:$1,0)),"") -> 74 | C22: =IFERROR(INDEX('[1]予選ヒート-総合結果表（整列）'!$A:$Z,MATCH($B22,'[1]予選ヒート-総合結果表（整列）'!$B:$B,0),MATCH('予選ヒート-総合結果表'!C$11,'[1]予選ヒート-総合結果表（整列）'!$1:$1,0)),"") | D22: =IFERROR(INDEX('[1]予選ヒート-総合結果表（整列）'!$A:$Z,MATCH($B22,'[1]予選ヒート-総合結果表（整列）'!$B:$B,0),MATCH('予選ヒート-総合結果表'!D$11,'[1]予選ヒート-総合結果表（整列）'!$1:$1,0)),"") -> 宮地 健太朗 | E22: =IFERROR(INDEX('[1]予選ヒート-総合結果表（整列）'!$A:$Z,MATCH($B22,'[1]予選ヒート-総合結果表（整列）'!$B:$B,0),MATCH('予選ヒート-総合結果表'!E$11,'[1]予選ヒート-総合結果表（整列）'!$1:$1,0)),"") -> INTREPID/YAMAHA | F22: =IFERROR(INDEX('[1]予選ヒート-総合結果表（整列）'!$A:$Z,MATCH($B22,'[1]予選ヒート-総合結果表（整列）'!$B:$B,0),MATCH('予選ヒート-総合結果表'!F$11,'[1]予選ヒート-総合結果表（整列）'!$1:$1,0)),"") -> Ash | G22: =IFERROR(INDEX('[1]予選ヒート-総合結果表（整列）'!$A:$Z,MATCH($B22,'[1]予選ヒート-総合結果表（整列）'!$B:$B,0),MATCH('予選ヒート-総合結果表'!G$11,'[1]予選ヒート-総合結果表（整列）'!$1:$1,0)),"") -> BS | H22: =IFERROR(INDEX('[1]予選ヒート-総合結果表（整列）'!$A:$Z,MATCH($B22,'[1]予選ヒート-総合結果表（整列）'!$B:$B,0),MATCH('予選ヒート-総合結果表'!H$11,'[1]予選ヒート-総合結果表（整列）'!$1:$1,0)),"") -> 54.965 | L22: =IF(IFERROR(INDEX('[1]予選ヒート-総合結果表（整列）'!$A:$Z,MATCH($B22,'[1]予選ヒート-総合結果表（整列）'!$B:$B,0),MATCH(L$11,'[1]予選ヒート-総合結果表（整列）'!$1:$1,0)),"")=0,"",IFERROR(INDEX('[1]予選ヒート-総合結果表（整列）'!$A:$Z,MATCH($B22,'[1]予選ヒート-総合結果表（整列）'!$B:$B,0),MATCH(L$11,'[1]予選ヒート-総合結果表（整列）'!$1:$1,0)),"")) | M22: =IF(L22="","",COUNTIF($L$13:L22,"<>"&"")) | N22: =IFERROR(RANK(M22,$M$13:$M$46,1),"") | O22: =IF(IFERROR(INDEX('[1]予選ヒート-総合結果表（整列）'!$A:$Z,MATCH($A22,'[1]予選ヒート-総合結果表（整列）'!$A:$A,0),MATCH(O$11,'[1]予選ヒート-総合結果表（整列）'!$1:$1,0)),"")=0,"",IFERROR(INDEX('[1]予選ヒート-総合結果表（整列）'!$A:$Z,MATCH($A22,'[1]予選ヒート-総合結果表（整列）'!$A:$A,0),MATCH(O$11,'[1]予選ヒート-総合結果表（整列）'!$1:$1,0)),""))
A23: =IF(OR('[1]予選ヒート-総合結果表（整列）'!A12="DNF",'[1]予選ヒート-総合結果表（整列）'!A12="DNS",'[1]予選ヒート-総合結果表（整列）'!A12="DQ"),'[1]予選ヒート-総合結果表（整列）'!A12,IF(MAX('[1]予選ヒート-総合結果表（整列）'!$A:$A)>A22,A22+1,"")) -> 11 | B23: =IFERROR(INDEX('[1]予選ヒート-総合結果表（整列）'!A12:$Z$50,MATCH($A23,'[1]予選ヒート-総合結果表（整列）'!A12:$A$50,0),MATCH('予選ヒート-総合結果表'!B$11,'[1]予選ヒート-総合結果表（整列）'!$1:$1,0)),"") -> 31 | C23: =IFERROR(INDEX('[1]予選ヒート-総合結果表（整列）'!$A:$Z,MATCH($B23,'[1]予選ヒート-総合結果表（整列）'!$B:$B,0),MATCH('予選ヒート-総合結果表'!C$11,'[1]予選ヒート-総合結果表（整列）'!$1:$1,0)),"") | D23: =IFERROR(INDEX('[1]予選ヒート-総合結果表（整列）'!$A:$Z,MATCH($B23,'[1]予選ヒート-総合結果表（整列）'!$B:$B,0),MATCH('予選ヒート-総合結果表'!D$11,'[1]予選ヒート-総合結果表（整列）'!$1:$1,0)),"") -> 飛田 陽宏 | E23: =IFERROR(INDEX('[1]予選ヒート-総合結果表（整列）'!$A:$Z,MATCH($B23,'[1]予選ヒート-総合結果表（整列）'!$B:$B,0),MATCH('予選ヒート-総合結果表'!E$11,'[1]予選ヒート-総合結果表（整列）'!$1:$1,0)),"") -> TONY KART/YAMAHA | F23: =IFERROR(INDEX('[1]予選ヒート-総合結果表（整列）'!$A:$Z,MATCH($B23,'[1]予選ヒート-総合結果表（整列）'!$B:$B,0),MATCH('予選ヒート-総合結果表'!F$11,'[1]予選ヒート-総合結果表（整列）'!$1:$1,0)),"") -> TBT RT with まえだ眼科 | G23: =IFERROR(INDEX('[1]予選ヒート-総合結果表（整列）'!$A:$Z,MATCH($B23,'[1]予選ヒート-総合結果表（整列）'!$B:$B,0),MATCH('予選ヒート-総合結果表'!G$11,'[1]予選ヒート-総合結果表（整列）'!$1:$1,0)),"") -> BS | H23: =IFERROR(INDEX('[1]予選ヒート-総合結果表（整列）'!$A:$Z,MATCH($B23,'[1]予選ヒート-総合結果表（整列）'!$B:$B,0),MATCH('予選ヒート-総合結果表'!H$11,'[1]予選ヒート-総合結果表（整列）'!$1:$1,0)),"") -> 54.424 | L23: =IF(IFERROR(INDEX('[1]予選ヒート-総合結果表（整列）'!$A:$Z,MATCH($B23,'[1]予選ヒート-総合結果表（整列）'!$B:$B,0),MATCH(L$11,'[1]予選ヒート-総合結果表（整列）'!$1:$1,0)),"")=0,"",IFERROR(INDEX('[1]予選ヒート-総合結果表（整列）'!$A:$Z,MATCH($B23,'[1]予選ヒート-総合結果表（整列）'!$B:$B,0),MATCH(L$11,'[1]予選ヒート-総合結果表（整列）'!$1:$1,0)),"")) | M23: =IF(L23="","",COUNTIF($L$13:L23,"<>"&"")) | N23: =IFERROR(RANK(M23,$M$13:$M$46,1),"") | O23: =IF(IFERROR(INDEX('[1]予選ヒート-総合結果表（整列）'!$A:$Z,MATCH($A23,'[1]予選ヒート-総合結果表（整列）'!$A:$A,0),MATCH(O$11,'[1]予選ヒート-総合結果表（整列）'!$1:$1,0)),"")=0,"",IFERROR(INDEX('[1]予選ヒート-総合結果表（整列）'!$A:$Z,MATCH($A23,'[1]予選ヒート-総合結果表（整列）'!$A:$A,0),MATCH(O$11,'[1]予選ヒート-総合結果表（整列）'!$1:$1,0)),""))
A24: =IF(OR('[1]予選ヒート-総合結果表（整列）'!A13="DNF",'[1]予選ヒート-総合結果表（整列）'!A13="DNS",'[1]予選ヒート-総合結果表（整列）'!A13="DQ"),'[1]予選ヒート-総合結果表（整列）'!A13,IF(MAX('[1]予選ヒート-総合結果表（整列）'!$A:$A)>A23,A23+1,"")) -> 12 | B24: =IFERROR(INDEX('[1]予選ヒート-総合結果表（整列）'!A13:$Z$50,MATCH($A24,'[1]予選ヒート-総合結果表（整列）'!A13:$A$50,0),MATCH('予選ヒート-総合結果表'!B$11,'[1]予選ヒート-総合結果表（整列）'!$1:$1,0)),"") -> 44 | C24: =IFERROR(INDEX('[1]予選ヒート-総合結果表（整列）'!$A:$Z,MATCH($B24,'[1]予選ヒート-総合結果表（整列）'!$B:$B,0),MATCH('予選ヒート-総合結果表'!C$11,'[1]予選ヒート-総合結果表（整列）'!$1:$1,0)),"") | D24: =IFERROR(INDEX('[1]予選ヒート-総合結果表（整列）'!$A:$Z,MATCH($B24,'[1]予選ヒート-総合結果表（整列）'!$B:$B,0),MATCH('予選ヒート-総合結果表'!D$11,'[1]予選ヒート-総合結果表（整列）'!$1:$1,0)),"") -> 中村 海斗 | E24: =IFERROR(INDEX('[1]予選ヒート-総合結果表（整列）'!$A:$Z,MATCH($B24,'[1]予選ヒート-総合結果表（整列）'!$B:$B,0),MATCH('予選ヒート-総合結果表'!E$11,'[1]予選ヒート-総合結果表（整列）'!$1:$1,0)),"") -> TONY KART/YAMAHA | F24: =IFERROR(INDEX('[1]予選ヒート-総合結果表（整列）'!$A:$Z,MATCH($B24,'[1]予選ヒート-総合結果表（整列）'!$B:$B,0),MATCH('予選ヒート-総合結果表'!F$11,'[1]予選ヒート-総合結果表（整列）'!$1:$1,0)),"") -> TEAM NAGAO | G24: =IFERROR(INDEX('[1]予選ヒート-総合結果表（整列）'!$A:$Z,MATCH($B24,'[1]予選ヒート-総合結果表（整列）'!$B:$B,0),MATCH('予選ヒート-総合結果表'!G$11,'[1]予選ヒート-総合結果表（整列）'!$1:$1,0)),"") -> BS | H24: =IFERROR(INDEX('[1]予選ヒート-総合結果表（整列）'!$A:$Z,MATCH($B24,'[1]予選ヒート-総合結果表（整列）'!$B:$B,0),MATCH('予選ヒート-総合結果表'!H$11,'[1]予選ヒート-総合結果表（整列）'!$1:$1,0)),"") -> 54.745 | L24: =IF(IFERROR(INDEX('[1]予選ヒート-総合結果表（整列）'!$A:$Z,MATCH($B24,'[1]予選ヒート-総合結果表（整列）'!$B:$B,0),MATCH(L$11,'[1]予選ヒート-総合結果表（整列）'!$1:$1,0)),"")=0,"",IFERROR(INDEX('[1]予選ヒート-総合結果表（整列）'!$A:$Z,MATCH($B24,'[1]予選ヒート-総合結果表（整列）'!$B:$B,0),MATCH(L$11,'[1]予選ヒート-総合結果表（整列）'!$1:$1,0)),"")) | M24: =IF(L24="","",COUNTIF($L$13:L24,"<>"&"")) | N24: =IFERROR(RANK(M24,$M$13:$M$46,1),"") | O24: =IF(IFERROR(INDEX('[1]予選ヒート-総合結果表（整列）'!$A:$Z,MATCH($A24,'[1]予選ヒート-総合結果表（整列）'!$A:$A,0),MATCH(O$11,'[1]予選ヒート-総合結果表（整列）'!$1:$1,0)),"")=0,"",IFERROR(INDEX('[1]予選ヒート-総合結果表（整列）'!$A:$Z,MATCH($A24,'[1]予選ヒート-総合結果表（整列）'!$A:$A,0),MATCH(O$11,'[1]予選ヒート-総合結果表（整列）'!$1:$1,0)),""))
A25: =IF(OR('[1]予選ヒート-総合結果表（整列）'!A14="DNF",'[1]予選ヒート-総合結果表（整列）'!A14="DNS",'[1]予選ヒート-総合結果表（整列）'!A14="DQ"),'[1]予選ヒート-総合結果表（整列）'!A14,IF(MAX('[1]予選ヒート-総合結果表（整列）'!$A:$A)>A24,A24+1,"")) -> 13 | B25: =IFERROR(INDEX('[1]予選ヒート-総合結果表（整列）'!A14:$Z$50,MATCH($A25,'[1]予選ヒート-総合結果表（整列）'!A14:$A$50,0),MATCH('予選ヒート-総合結果表'!B$11,'[1]予選ヒート-総合結果表（整列）'!$1:$1,0)),"") -> 25 | C25: =IFERROR(INDEX('[1]予選ヒート-総合結果表（整列）'!$A:$Z,MATCH($B25,'[1]予選ヒート-総合結果表（整列）'!$B:$B,0),MATCH('予選ヒート-総合結果表'!C$11,'[1]予選ヒート-総合結果表（整列）'!$1:$1,0)),"") | D25: =IFERROR(INDEX('[1]予選ヒート-総合結果表（整列）'!$A:$Z,MATCH($B25,'[1]予選ヒート-総合結果表（整列）'!$B:$B,0),MATCH('予選ヒート-総合結果表'!D$11,'[1]予選ヒート-総合結果表（整列）'!$1:$1,0)),"") -> 鈴木 恵武 | E25: =IFERROR(INDEX('[1]予選ヒート-総合結果表（整列）'!$A:$Z,MATCH($B25,'[1]予選ヒート-総合結果表（整列）'!$B:$B,0),MATCH('予選ヒート-総合結果表'!E$11,'[1]予選ヒート-総合結果表（整列）'!$1:$1,0)),"") -> KOSMIC/YAMAHA | F25: =IFERROR(INDEX('[1]予選ヒート-総合結果表（整列）'!$A:$Z,MATCH($B25,'[1]予選ヒート-総合結果表（整列）'!$B:$B,0),MATCH('予選ヒート-総合結果表'!F$11,'[1]予選ヒート-総合結果表（整列）'!$1:$1,0)),"") -> Formula Blue 増田スピード | G25: =IFERROR(INDEX('[1]予選ヒート-総合結果表（整列）'!$A:$Z,MATCH($B25,'[1]予選ヒート-総合結果表（整列）'!$B:$B,0),MATCH('予選ヒート-総合結果表'!G$11,'[1]予選ヒート-総合結果表（整列）'!$1:$1,0)),"") -> BS | H25: =IFERROR(INDEX('[1]予選ヒート-総合結果表（整列）'!$A:$Z,MATCH($B25,'[1]予選ヒート-総合結果表（整列）'!$B:$B,0),MATCH('予選ヒート-総合結果表'!H$11,'[1]予選ヒート-総合結果表（整列）'!$1:$1,0)),"") -> 54.448 | L25: =IF(IFERROR(INDEX('[1]予選ヒート-総合結果表（整列）'!$A:$Z,MATCH($B25,'[1]予選ヒート-総合結果表（整列）'!$B:$B,0),MATCH(L$11,'[1]予選ヒート-総合結果表（整列）'!$1:$1,0)),"")=0,"",IFERROR(INDEX('[1]予選ヒート-総合結果表（整列）'!$A:$Z,MATCH($B25,'[1]予選ヒート-総合結果表（整列）'!$B:$B,0),MATCH(L$11,'[1]予選ヒート-総合結果表（整列）'!$1:$1,0)),"")) | M25: =IF(L25="","",COUNTIF($L$13:L25,"<>"&"")) | N25: =IFERROR(RANK(M25,$M$13:$M$46,1),"") | O25: =IF(IFERROR(INDEX('[1]予選ヒート-総合結果表（整列）'!$A:$Z,MATCH($A25,'[1]予選ヒート-総合結果表（整列）'!$A:$A,0),MATCH(O$11,'[1]予選ヒート-総合結果表（整列）'!$1:$1,0)),"")=0,"",IFERROR(INDEX('[1]予選ヒート-総合結果表（整列）'!$A:$Z,MATCH($A25,'[1]予選ヒート-総合結果表（整列）'!$A:$A,0),MATCH(O$11,'[1]予選ヒート-総合結果表（整列）'!$1:$1,0)),""))
... A46: =IF(OR('[1]予選ヒート-総合結果表（整列）'!A35="DNF",'[1]予選ヒート-総合結果表（整列）'!A35="DNS",'[1]予選ヒート-総合結果表（整列）'!A35="DQ"),'[1]予選ヒート-総合結果表（整列）'!A35,IF(MAX('[1]予選ヒート-総合結果表（整列）'!$A:$A)>A45,A45+1,"")) -> 34 | B46: =IFERROR(INDEX('[1]予選ヒート-総合結果表（整列）'!A35:$Z$50,MATCH($A46,'[1]予選ヒート-総合結果表（整列）'!A35:$A$50,0),MATCH('予選ヒート-総合結果表'!B$11,'[1]予選ヒート-総合結果表（整列）'!$1:$1,0)),"") -> 72 | C46: =IFERROR(INDEX('[1]予選ヒート-総合結果表（整列）'!$A:$Z,MATCH($B46,'[1]予選ヒート-総合結果表（整列）'!$B:$B,0),MATCH('予選ヒート-総合結果表'!C$11,'[1]予選ヒート-総合結果表（整列）'!$1:$1,0)),"") | D46: =IFERROR(INDEX('[1]予選ヒート-総合結果表（整列）'!$A:$Z,MATCH($B46,'[1]予選ヒート-総合結果表（整列）'!$B:$B,0),MATCH('予選ヒート-総合結果表'!D$11,'[1]予選ヒート-総合結果表（整列）'!$1:$1,0)),"") -> 小野 大地 | E46: =IFERROR(INDEX('[1]予選ヒート-総合結果表（整列）'!$A:$Z,MATCH($B46,'[1]予選ヒート-総合結果表（整列）'!$B:$B,0),MATCH('予選ヒート-総合結果表'!E$11,'[1]予選ヒート-総合結果表（整列）'!$1:$1,0)),"") -> KOSMIC/YAMAHA | F46: =IFERROR(INDEX('[1]予選ヒート-総合結果表（整列）'!$A:$Z,MATCH($B46,'[1]予選ヒート-総合結果表（整列）'!$B:$B,0),MATCH('予選ヒート-総合結果表'!F$11,'[1]予選ヒート-総合結果表（整列）'!$1:$1,0)),"") -> チームTKC | G46: =IFERROR(INDEX('[1]予選ヒート-総合結果表（整列）'!$A:$Z,MATCH($B46,'[1]予選ヒート-総合結果表（整列）'!$B:$B,0),MATCH('予選ヒート-総合結果表'!G$11,'[1]予選ヒート-総合結果表（整列）'!$1:$1,0)),"") -> BS | H46: =IFERROR(INDEX('[1]予選ヒート-総合結果表（整列）'!$A:$Z,MATCH($B46,'[1]予選ヒート-総合結果表（整列）'!$B:$B,0),MATCH('予選ヒート-総合結果表'!H$11,'[1]予選ヒート-総合結果表（整列）'!$1:$1,0)),"") -> 55.311 | L46: =IF(IFERROR(INDEX('[1]予選ヒート-総合結果表（整列）'!$A:$Z,MATCH($B46,'[1]予選ヒート-総合結果表（整列）'!$B:$B,0),MATCH(L$11,'[1]予選ヒート-総合結果表（整列）'!$1:$1,0)),"")=0,"",IFERROR(INDEX('[1]予選ヒート-総合結果表（整列）'!$A:$Z,MATCH($B46,'[1]予選ヒート-総合結果表（整列）'!$B:$B,0),MATCH(L$11,'[1]予選ヒート-総合結果表（整列）'!$1:$1,0)),"")) | M46: =IF(L46="","",COUNTIF($L$13:L46,"<>"&"")) | N46: =IFERROR(RANK(M46,$M$13:$M$46,1),"") | O46: =IF(IFERROR(INDEX('[1]予選ヒート-総合結果表（整列）'!$A:$Z,MATCH($A46,'[1]予選ヒート-総合結果表（整列）'!$A:$A,0),MATCH(O$11,'[1]予選ヒート-総合結果表（整列）'!$1:$1,0)),"")=0,"",IFERROR(INDEX('[1]予選ヒート-総合結果表（整列）'!$A:$Z,MATCH($A46,'[1]予選ヒート-総合結果表（整列）'!$A:$A,0),MATCH(O$11,'[1]予選ヒート-総合結果表（整列）'!$1:$1,0)),""))
A47: =IF(OR('[1]予選ヒート-総合結果表（整列）'!A36="DNF",'[1]予選ヒート-総合結果表（整列）'!A36="DNS",'[1]予選ヒート-総合結果表（整列）'!A36="DQ"),'[1]予選ヒート-総合結果表（整列）'!A36,IF(MAX('[1]予選ヒート-総合結果表（整列）'!$A:$A)>A46,A46+1,"")) -> 35 | B47: =IFERROR(INDEX('[1]予選ヒート-総合結果表（整列）'!A36:$Z$50,MATCH($A47,'[1]予選ヒート-総合結果表（整列）'!A36:$A$50,0),MATCH('予選ヒート-総合結果表'!B$11,'[1]予選ヒート-総合結果表（整列）'!$1:$1,0)),"") -> 17 | C47: =IFERROR(INDEX('[1]予選ヒート-総合結果表（整列）'!$A:$Z,MATCH($B47,'[1]予選ヒート-総合結果表（整列）'!$B:$B,0),MATCH('予選ヒート-総合結果表'!C$11,'[1]予選ヒート-総合結果表（整列）'!$1:$1,0)),"") | D47: =IFERROR(INDEX('[1]予選ヒート-総合結果表（整列）'!$A:$Z,MATCH($B47,'[1]予選ヒート-総合結果表（整列）'!$B:$B,0),MATCH('予選ヒート-総合結果表'!D$11,'[1]予選ヒート-総合結果表（整列）'!$1:$1,0)),"") -> 坂 裕之 | E47: =IFERROR(INDEX('[1]予選ヒート-総合結果表（整列）'!$A:$Z,MATCH($B47,'[1]予選ヒート-総合結果表（整列）'!$B:$B,0),MATCH('予選ヒート-総合結果表'!E$11,'[1]予選ヒート-総合結果表（整列）'!$1:$1,0)),"") -> SWF/YAMAHA | F47: =IFERROR(INDEX('[1]予選ヒート-総合結果表（整列）'!$A:$Z,MATCH($B47,'[1]予選ヒート-総合結果表（整列）'!$B:$B,0),MATCH('予選ヒート-総合結果表'!F$11,'[1]予選ヒート-総合結果表（整列）'!$1:$1,0)),"") -> のりものクラブTIGRE | G47: =IFERROR(INDEX('[1]予選ヒート-総合結果表（整列）'!$A:$Z,MATCH($B47,'[1]予選ヒート-総合結果表（整列）'!$B:$B,0),MATCH('予選ヒート-総合結果表'!G$11,'[1]予選ヒート-総合結果表（整列）'!$1:$1,0)),"") -> BS | H47: =IFERROR(INDEX('[1]予選ヒート-総合結果表（整列）'!$A:$Z,MATCH($B47,'[1]予選ヒート-総合結果表（整列）'!$B:$B,0),MATCH('予選ヒート-総合結果表'!H$11,'[1]予選ヒート-総合結果表（整列）'!$1:$1,0)),"") -> 55.023
A48: =IF(OR('[1]予選ヒート-総合結果表（整列）'!A37="DNF",'[1]予選ヒート-総合結果表（整列）'!A37="DNS",'[1]予選ヒート-総合結果表（整列）'!A37="DQ"),'[1]予選ヒート-総合結果表（整列）'!A37,IF(MAX('[1]予選ヒート-総合結果表（整列）'!$A:$A)>A47,A47+1,"")) -> 36 | B48: =IFERROR(INDEX('[1]予選ヒート-総合結果表（整列）'!A37:$Z$50,MATCH($A48,'[1]予選ヒート-総合結果表（整列）'!A37:$A$50,0),MATCH('予選ヒート-総合結果表'!B$11,'[1]予選ヒート-総合結果表（整列）'!$1:$1,0)),"") -> 54 | C48: =IFERROR(INDEX('[1]予選ヒート-総合結果表（整列）'!$A:$Z,MATCH($B48,'[1]予選ヒート-総合結果表（整列）'!$B:$B,0),MATCH('予選ヒート-総合結果表'!C$11,'[1]予選ヒート-総合結果表（整列）'!$1:$1,0)),"") | D48: =IFERROR(INDEX('[1]予選ヒート-総合結果表（整列）'!$A:$Z,MATCH($B48,'[1]予選ヒート-総合結果表（整列）'!$B:$B,0),MATCH('予選ヒート-総合結果表'!D$11,'[1]予選ヒート-総合結果表（整列）'!$1:$1,0)),"") -> 越路 暢哉 | E48: =IFERROR(INDEX('[1]予選ヒート-総合結果表（整列）'!$A:$Z,MATCH($B48,'[1]予選ヒート-総合結果表（整列）'!$B:$B,0),MATCH('予選ヒート-総合結果表'!E$11,'[1]予選ヒート-総合結果表（整列）'!$1:$1,0)),"") -> REDSPEED/YAMAHA | F48: =IFERROR(INDEX('[1]予選ヒート-総合結果表（整列）'!$A:$Z,MATCH($B48,'[1]予選ヒート-総合結果表（整列）'!$B:$B,0),MATCH('予選ヒート-総合結果表'!F$11,'[1]予選ヒート-総合結果表（整列）'!$1:$1,0)),"") -> ONE POINT | G48: =IFERROR(INDEX('[1]予選ヒート-総合結果表（整列）'!$A:$Z,MATCH($B48,'[1]予選ヒート-総合結果表（整列）'!$B:$B,0),MATCH('予選ヒート-総合結果表'!G$11,'[1]予選ヒート-総合結果表（整列）'!$1:$1,0)),"") -> BS | H48: =IFERROR(INDEX('[1]予選ヒート-総合結果表（整列）'!$A:$Z,MATCH($B48,'[1]予選ヒート-総合結果表（整列）'!$B:$B,0),MATCH('予選ヒート-総合結果表'!H$11,'[1]予選ヒート-総合結果表（整列）'!$1:$1,0)),"") -> 55.126
A49: =IF(OR('[1]予選ヒート-総合結果表（整列）'!A38="DNF",'[1]予選ヒート-総合結果表（整列）'!A38="DNS",'[1]予選ヒート-総合結果表（整列）'!A38="DQ"),'[1]予選ヒート-総合結果表（整列）'!A38,IF(MAX('[1]予選ヒート-総合結果表（整列）'!$A:$A)>A48,A48+1,"")) -> 37 | B49: =IFERROR(INDEX('[1]予選ヒート-総合結果表（整列）'!A38:$Z$50,MATCH($A49,'[1]予選ヒート-総合結果表（整列）'!A38:$A$50,0),MATCH('予選ヒート-総合結果表'!B$11,'[1]予選ヒート-総合結果表（整列）'!$1:$1,0)),"") -> 58 | C49: =IFERROR(INDEX('[1]予選ヒート-総合結果表（整列）'!$A:$Z,MATCH($B49,'[1]予選ヒート-総合結果表（整列）'!$B:$B,0),MATCH('予選ヒート-総合結果表'!C$11,'[1]予選ヒート-総合結果表（整列）'!$1:$1,0)),"") | D49: =IFERROR(INDEX('[1]予選ヒート-総合結果表（整列）'!$A:$Z,MATCH($B49,'[1]予選ヒート-総合結果表（整列）'!$B:$B,0),MATCH('予選ヒート-総合結果表'!D$11,'[1]予選ヒート-総合結果表（整列）'!$1:$1,0)),"") -> 江崎 昭彦 | E49: =IFERROR(INDEX('[1]予選ヒート-総合結果表（整列）'!$A:$Z,MATCH($B49,'[1]予選ヒート-総合結果表（整列）'!$B:$B,0),MATCH('予選ヒート-総合結果表'!E$11,'[1]予選ヒート-総合結果表（整列）'!$1:$1,0)),"") -> KOSMIC/YAMAHA | F49: =IFERROR(INDEX('[1]予選ヒート-総合結果表（整列）'!$A:$Z,MATCH($B49,'[1]予選ヒート-総合結果表（整列）'!$B:$B,0),MATCH('予選ヒート-総合結果表'!F$11,'[1]予選ヒート-総合結果表（整列）'!$1:$1,0)),"") -> Ash | G49: =IFERROR(INDEX('[1]予選ヒート-総合結果表（整列）'!$A:$Z,MATCH($B49,'[1]予選ヒート-総合結果表（整列）'!$B:$B,0),MATCH('予選ヒート-総合結果表'!G$11,'[1]予選ヒート-総合結果表（整列）'!$1:$1,0)),"") -> BS | H49: =IFERROR(INDEX('[1]予選ヒート-総合結果表（整列）'!$A:$Z,MATCH($B49,'[1]予選ヒート-総合結果表（整列）'!$B:$B,0),MATCH('予選ヒート-総合結果表'!H$11,'[1]予選ヒート-総合結果表（整列）'!$1:$1,0)),"") -> 55.467
A50: =IF(OR('[1]予選ヒート-総合結果表（整列）'!A39="DNF",'[1]予選ヒート-総合結果表（整列）'!A39="DNS",'[1]予選ヒート-総合結果表（整列）'!A39="DQ"),'[1]予選ヒート-総合結果表（整列）'!A39,IF(MAX('[1]予選ヒート-総合結果表（整列）'!$A:$A)>A49,A49+1,"")) | B50: =IFERROR(INDEX('[1]予選ヒート-総合結果表（整列）'!A39:$Z$50,MATCH($A50,'[1]予選ヒート-総合結果表（整列）'!A39:$A$50,0),MATCH('予選ヒート-総合結果表'!B$11,'[1]予選ヒート-総合結果表（整列）'!$1:$1,0)),"") | C50: =IFERROR(INDEX('[1]予選ヒート-総合結果表（整列）'!$A:$Z,MATCH($B50,'[1]予選ヒート-総合結果表（整列）'!$B:$B,0),MATCH('予選ヒート-総合結果表'!C$11,'[1]予選ヒート-総合結果表（整列）'!$1:$1,0)),"") | D50: =IFERROR(INDEX('[1]予選ヒート-総合結果表（整列）'!$A:$Z,MATCH($B50,'[1]予選ヒート-総合結果表（整列）'!$B:$B,0),MATCH('予選ヒート-総合結果表'!D$11,'[1]予選ヒート-総合結果表（整列）'!$1:$1,0)),"") | E50: =IFERROR(INDEX('[1]予選ヒート-総合結果表（整列）'!$A:$Z,MATCH($B50,'[1]予選ヒート-総合結果表（整列）'!$B:$B,0),MATCH('予選ヒート-総合結果表'!E$11,'[1]予選ヒート-総合結果表（整列）'!$1:$1,0)),"") | F50: =IFERROR(INDEX('[1]予選ヒート-総合結果表（整列）'!$A:$Z,MATCH($B50,'[1]予選ヒート-総合結果表（整列）'!$B:$B,0),MATCH('予選ヒート-総合結果表'!F$11,'[1]予選ヒート-総合結果表（整列）'!$1:$1,0)),"") | G50: =IFERROR(INDEX('[1]予選ヒート-総合結果表（整列）'!$A:$Z,MATCH($B50,'[1]予選ヒート-総合結果表（整列）'!$B:$B,0),MATCH('予選ヒート-総合結果表'!G$11,'[1]予選ヒート-総合結果表（整列）'!$1:$1,0)),"") | H50: =IFERROR(INDEX('[1]予選ヒート-総合結果表（整列）'!$A:$Z,MATCH($B50,'[1]予選ヒート-総合結果表（整列）'!$B:$B,0),MATCH('予選ヒート-総合結果表'!H$11,'[1]予選ヒート-総合結果表（整列）'!$1:$1,0)),"")
A51: =IF(OR('[1]予選ヒート-総合結果表（整列）'!A40="DNF",'[1]予選ヒート-総合結果表（整列）'!A40="DNS",'[1]予選ヒート-総合結果表（整列）'!A40="DQ"),'[1]予選ヒート-総合結果表（整列）'!A40,IF(MAX('[1]予選ヒート-総合結果表（整列）'!$A:$A)>A50,A50+1,"")) | B51: =IFERROR(INDEX('[1]予選ヒート-総合結果表（整列）'!A40:$Z$50,MATCH($A51,'[1]予選ヒート-総合結果表（整列）'!A40:$A$50,0),MATCH('予選ヒート-総合結果表'!B$11,'[1]予選ヒート-総合結果表（整列）'!$1:$1,0)),"") | C51: =IFERROR(INDEX('[1]予選ヒート-総合結果表（整列）'!$A:$Z,MATCH($B51,'[1]予選ヒート-総合結果表（整列）'!$B:$B,0),MATCH('予選ヒート-総合結果表'!C$11,'[1]予選ヒート-総合結果表（整列）'!$1:$1,0)),"") | D51: =IFERROR(INDEX('[1]予選ヒート-総合結果表（整列）'!$A:$Z,MATCH($B51,'[1]予選ヒート-総合結果表（整列）'!$B:$B,0),MATCH('予選ヒート-総合結果表'!D$11,'[1]予選ヒート-総合結果表（整列）'!$1:$1,0)),"") | E51: =IFERROR(INDEX('[1]予選ヒート-総合結果表（整列）'!$A:$Z,MATCH($B51,'[1]予選ヒート-総合結果表（整列）'!$B:$B,0),MATCH('予選ヒート-総合結果表'!E$11,'[1]予選ヒート-総合結果表（整列）'!$1:$1,0)),"") | F51: =IFERROR(INDEX('[1]予選ヒート-総合結果表（整列）'!$A:$Z,MATCH($B51,'[1]予選ヒート-総合結果表（整列）'!$B:$B,0),MATCH('予選ヒート-総合結果表'!F$11,'[1]予選ヒート-総合結果表（整列）'!$1:$1,0)),"") | G51: =IFERROR(INDEX('[1]予選ヒート-総合結果表（整列）'!$A:$Z,MATCH($B51,'[1]予選ヒート-総合結果表（整列）'!$B:$B,0),MATCH('予選ヒート-総合結果表'!G$11,'[1]予選ヒート-総合結果表（整列）'!$1:$1,0)),"") | H51: =IFERROR(INDEX('[1]予選ヒート-総合結果表（整列）'!$A:$Z,MATCH($B51,'[1]予選ヒート-総合結果表（整列）'!$B:$B,0),MATCH('予選ヒート-総合結果表'!H$11,'[1]予選ヒート-総合結果表（整列）'!$1:$1,0)),"")
A52: =IF(OR('[1]予選ヒート-総合結果表（整列）'!A41="DNF",'[1]予選ヒート-総合結果表（整列）'!A41="DNS",'[1]予選ヒート-総合結果表（整列）'!A41="DQ"),'[1]予選ヒート-総合結果表（整列）'!A41,IF(MAX('[1]予選ヒート-総合結果表（整列）'!$A:$A)>A51,A51+1,"")) | B52: =IFERROR(INDEX('[1]予選ヒート-総合結果表（整列）'!A41:$Z$50,MATCH($A52,'[1]予選ヒート-総合結果表（整列）'!A41:$A$50,0),MATCH('予選ヒート-総合結果表'!B$11,'[1]予選ヒート-総合結果表（整列）'!$1:$1,0)),"") | C52: =IFERROR(INDEX('[1]予選ヒート-総合結果表（整列）'!$A:$Z,MATCH($B52,'[1]予選ヒート-総合結果表（整列）'!$B:$B,0),MATCH('予選ヒート-総合結果表'!C$11,'[1]予選ヒート-総合結果表（整列）'!$1:$1,0)),"") | D52: =IFERROR(INDEX('[1]予選ヒート-総合結果表（整列）'!$A:$Z,MATCH($B52,'[1]予選ヒート-総合結果表（整列）'!$B:$B,0),MATCH('予選ヒート-総合結果表'!D$11,'[1]予選ヒート-総合結果表（整列）'!$1:$1,0)),"") | E52: =IFERROR(INDEX('[1]予選ヒート-総合結果表（整列）'!$A:$Z,MATCH($B52,'[1]予選ヒート-総合結果表（整列）'!$B:$B,0),MATCH('予選ヒート-総合結果表'!E$11,'[1]予選ヒート-総合結果表（整列）'!$1:$1,0)),"") | F52: =IFERROR(INDEX('[1]予選ヒート-総合結果表（整列）'!$A:$Z,MATCH($B52,'[1]予選ヒート-総合結果表（整列）'!$B:$B,0),MATCH('予選ヒート-総合結果表'!F$11,'[1]予選ヒート-総合結果表（整列）'!$1:$1,0)),"") | G52: =IFERROR(INDEX('[1]予選ヒート-総合結果表（整列）'!$A:$Z,MATCH($B52,'[1]予選ヒート-総合結果表（整列）'!$B:$B,0),MATCH('予選ヒート-総合結果表'!G$11,'[1]予選ヒート-総合結果表（整列）'!$1:$1,0)),"") | H52: =IFERROR(INDEX('[1]予選ヒート-総合結果表（整列）'!$A:$Z,MATCH($B52,'[1]予選ヒート-総合結果表（整列）'!$B:$B,0),MATCH('予選ヒート-総合結果表'!H$11,'[1]予選ヒート-総合結果表（整列）'!$1:$1,0)),"")
A53: =IF(A54="","","ﾍﾟﾅﾙﾃｨ") -> ﾍﾟﾅﾙﾃｨ | H53: =IFERROR(INDEX('[1]予選ヒート-総合結果表（整列）'!$A:$Z,MATCH($B53,'[1]予選ヒート-総合結果表（整列）'!$B:$B,0),MATCH('予選ヒート-総合結果表'!H$11,'[1]予選ヒート-総合結果表（整列）'!$1:$1,0)),"")
A54: =IF(MAX(M13:M46)<1,"",1) -> 1 | B54: =IF(A54="","","No."&INDEX($A$11:$U$46,MATCH($A54,$N$11:$N$46,0),MATCH("No.",$11:$11,0))) -> No.37 | C54: =INDEX($A$11:$U$46,MATCH($A54,$N$11:$N$46,0),MATCH("コメント",$11:$11,0)) -> 全日本カート選手権統一規則書 第38条(25)(フロントフェアリングが正しい装着状態でない)により5秒加算した。 | H54: =IFERROR(INDEX('[1]予選ヒート-総合結果表（整列）'!$A:$Z,MATCH($B54,'[1]予選ヒート-総合結果表（整列）'!$B:$B,0),MATCH('予選ヒート-総合結果表'!H$11,'[1]予選ヒート-総合結果表（整列）'!$1:$1,0)),"")
A55: =IF(A54<COUNTIF($N$12:$N$46,">"&0),A54+1,"") -> 2 | B55: =IF(A55="","","No."&INDEX($A$11:$U$46,MATCH($A55,$N$11:$N$46,0),MATCH("No.",$11:$11,0))) -> No.55 | C55: =INDEX($A$11:$U$46,MATCH($A55,$N$11:$N$46,0),MATCH("コメント",$11:$11,0)) -> 全日本カート選手権統一規則書 第38条(25)(フロントフェアリングが正しい装着状態でない)により5秒加算した。 | H55: =IFERROR(INDEX('[1]予選ヒート-総合結果表（整列）'!$A:$Z,MATCH($B55,'[1]予選ヒート-総合結果表（整列）'!$B:$B,0),MATCH('予選ヒート-総合結果表'!H$11,'[1]予選ヒート-総合結果表（整列）'!$1:$1,0)),"")
A56: =IF(A55<COUNTIF($N$12:$N$46,">"&0),A55+1,"") -> 3 | B56: =IF(A56="","","No."&INDEX($A$11:$U$46,MATCH($A56,$N$11:$N$46,0),MATCH("No.",$11:$11,0))) -> No.18 | C56: =INDEX($A$11:$U$46,MATCH($A56,$N$11:$N$46,0),MATCH("コメント",$11:$11,0)) -> 全日本カート選手権統一規則書 第38条(25)(フロントフェアリングが正しい装着状態でない)により5秒加算した。 | H56: =IFERROR(INDEX('[1]予選ヒート-総合結果表（整列）'!$A:$Z,MATCH($B56,'[1]予選ヒート-総合結果表（整列）'!$B:$B,0),MATCH('予選ヒート-総合結果表'!H$11,'[1]予選ヒート-総合結果表（整列）'!$1:$1,0)),"")
A57: =IF(A56<COUNTIF($N$12:$N$46,">"&0),A56+1,"") -> 4 | B57: =IF(A57="","","No."&INDEX($A$11:$U$46,MATCH($A57,$N$11:$N$46,0),MATCH("No.",$11:$11,0))) -> No.27 | C57: =INDEX($A$11:$U$46,MATCH($A57,$N$11:$N$46,0),MATCH("コメント",$11:$11,0)) -> 全日本カート選手権統一規則書 第38条(25)(フロントフェアリングが正しい装着状態でない)により5秒加算した。 | H57: =IFERROR(INDEX('[1]予選ヒート-総合結果表（整列）'!$A:$Z,MATCH($B57,'[1]予選ヒート-総合結果表（整列）'!$B:$B,0),MATCH('予選ヒート-総合結果表'!H$11,'[1]予選ヒート-総合結果表（整列）'!$1:$1,0)),"")
A58: =IF(A57<COUNTIF($N$12:$N$46,">"&0),A57+1,"") | B58: =IF(A58="","","No."&INDEX($A$11:$U$46,MATCH($A58,$N$11:$N$46,0),MATCH("No.",$11:$11,0))) | C58: =INDEX($A$11:$U$46,MATCH($A58,$N$11:$N$46,0),MATCH("コメント",$11:$11,0)) | H58: =IFERROR(INDEX('[1]予選ヒート-総合結果表（整列）'!$A:$Z,MATCH($B58,'[1]予選ヒート-総合結果表（整列）'!$B:$B,0),MATCH('予選ヒート-総合結果表'!H$11,'[1]予選ヒート-総合結果表（整列）'!$1:$1,0)),"")
A59: =IF(A58<COUNTIF($N$12:$N$46,">"&0),A58+1,"") | B59: =IF(A59="","","No."&INDEX($A$11:$U$46,MATCH($A59,$N$11:$N$46,0),MATCH("No.",$11:$11,0))) | C59: =INDEX($A$11:$U$46,MATCH($A59,$N$11:$N$46,0),MATCH("コメント",$11:$11,0)) | H59: =IFERROR(INDEX('[1]予選ヒート-総合結果表（整列）'!$A:$Z,MATCH($B59,'[1]予選ヒート-総合結果表（整列）'!$B:$B,0),MATCH('予選ヒート-総合結果表'!H$11,'[1]予選ヒート-総合結果表（整列）'!$1:$1,0)),"")
A60: =IF(A59<COUNTIF($N$12:$N$46,">"&0),A59+1,"") | B60: =IF(A60="","","No."&INDEX($A$11:$U$46,MATCH($A60,$N$11:$N$46,0),MATCH("No.",$11:$11,0))) | C60: =INDEX($A$11:$U$46,MATCH($A60,$N$11:$N$46,0),MATCH("コメント",$11:$11,0)) | H60: =IFERROR(INDEX('[1]予選ヒート-総合結果表（整列）'!$A:$Z,MATCH($B60,'[1]予選ヒート-総合結果表（整列）'!$B:$B,0),MATCH('予選ヒート-総合結果表'!H$11,'[1]予選ヒート-総合結果表（整列）'!$1:$1,0)),"")
A61: =IF(A60<COUNTIF($N$12:$N$46,">"&0),A60+1,"") | B61: =IF(A61="","","No."&INDEX($A$11:$U$46,MATCH($A61,$N$11:$N$46,0),MATCH("No.",$11:$11,0))) | C61: =INDEX($A$11:$U$46,MATCH($A61,$N$11:$N$46,0),MATCH("コメント",$11:$11,0)) | H61: =IFERROR(INDEX('[1]予選ヒート-総合結果表（整列）'!$A:$Z,MATCH($B61,'[1]予選ヒート-総合結果表（整列）'!$B:$B,0),MATCH('予選ヒート-総合結果表'!H$11,'[1]予選ヒート-総合結果表（整列）'!$1:$1,0)),"")
A62: =IF(A61<COUNTIF($N$12:$N$46,">"&0),A61+1,"") | B62: =IF(A62="","","No."&INDEX($A$11:$U$46,MATCH($A62,$N$11:$N$46,0),MATCH("No.",$11:$11,0))) | C62: =INDEX($A$11:$U$46,MATCH($A62,$N$11:$N$46,0),MATCH("コメント",$11:$11,0)) | H62: =IFERROR(INDEX('[1]予選ヒート-総合結果表（整列）'!$A:$Z,MATCH($B62,'[1]予選ヒート-総合結果表（整列）'!$B:$B,0),MATCH('予選ヒート-総合結果表'!H$11,'[1]予選ヒート-総合結果表（整列）'!$1:$1,0)),"")
A63: =IF(A62<COUNTIF($N$12:$N$46,">"&0),A62+1,"") | B63: =IF(A63="","","No."&INDEX($A$11:$U$46,MATCH($A63,$N$11:$N$46,0),MATCH("No.",$11:$11,0))) | C63: =INDEX($A$11:$U$46,MATCH($A63,$N$11:$N$46,0),MATCH("コメント",$11:$11,0)) | H63: =IFERROR(INDEX('[1]予選ヒート-総合結果表（整列）'!$A:$Z,MATCH($B63,'[1]予選ヒート-総合結果表（整列）'!$B:$B,0),MATCH('予選ヒート-総合結果表'!H$11,'[1]予選ヒート-総合結果表（整列）'!$1:$1,0)),"")
A64: =IF(A63<COUNTIF($N$12:$N$46,">"&0),A63+1,"") | B64: =IF(A64="","","No."&INDEX($A$11:$U$46,MATCH($A64,$N$11:$N$46,0),MATCH("No.",$11:$11,0))) | C64: =INDEX($A$11:$U$46,MATCH($A64,$N$11:$N$46,0),MATCH("コメント",$11:$11,0)) | H64: =IFERROR(INDEX('[1]予選ヒート-総合結果表（整列）'!$A:$Z,MATCH($B64,'[1]予選ヒート-総合結果表（整列）'!$B:$B,0),MATCH('予選ヒート-総合結果表'!H$11,'[1]予選ヒート-総合結果表（整列）'!$1:$1,0)),"")
B65: ="審査委員長 ："&" "&[1]各種設定!$D$20 -> 審査委員長 ： Makoto SAITO | E65: ="競技委員長 ："&" "&[1]各種設定!$D$22 -> 競技委員長 ： Toshiaki KUBOTA | F65: ="計時委員長 ："&" "&[1]各種設定!$D$24 -> 計時委員長 ： Tsutomu HAYAKAWA

Sheet 予選ヒートAGr-レース結果表
J6: 44878 | L6: :
A7: =+[1]各種設定!D2 -> 2022年 全日本カート選手権 FS-125/FP-3部門 東西統一競技会 | J7: WEATHER: | K7: Rain
J8: COURSE : | K8: Dry/Wet
A9: =+[1]各種設定!D4 -> FP-3 | J9: 南コース 1.264Km
A10: Ａ Ｇｒ.予選ヒート結果表
B11: No. | C11: ポイント | D11: 名前 | E11: Model/Engine | F11: Team | G11: Tires | H11: Laps | I11: Total Time | J11: 差 | K11: Gap | L11: BestLap | M11: =VLOOKUP(A9,[1]コースレコード!$A:$C,3,FALSE) -> 55.037 | P11: コメント | R11: ペナルティNo. | S11: グリッドコメント | U11: ベスト平均時速
A12: Pos. | B12: No. | C12: Point. | D12: Driver | E12: Type | F12: Team | G12: Tire | H12: Laps | I12: Total Time | J12: Delay | K12: Gap | L12: Best
A13: 1 | B13: =IFERROR(INDEX('[1]予選ヒートAGr-レース結果表（貼付）'!A2:$Z$50,MATCH($A13,'[1]予選ヒートAGr-レース結果表（貼付）'!A2:$A$50,0),MATCH('[1]公式予選（TT）①-結果表（印刷）'!B$11,'[1]予選ヒートAGr-レース結果表（貼付）'!$1:$1,0)),"") -> 14 | C13: 0 | D13: =IFERROR(INDEX('[1]予選ヒートAGr-レース結果表（貼付）'!$A:$Z,MATCH($B13,'[1]予選ヒートAGr-レース結果表（貼付）'!$B:$B,0),MATCH('予選ヒートAGr-レース結果表'!D$11,'[1]予選ヒートAGr-レース結果表（貼付）'!$1:$1,0)),"") -> 春日 龍之介 | E13: =IFERROR(INDEX('[1]予選ヒートAGr-レース結果表（貼付）'!$A:$Z,MATCH($B13,'[1]予選ヒートAGr-レース結果表（貼付）'!$B:$B,0),MATCH('予選ヒートAGr-レース結果表'!E$11,'[1]予選ヒートAGr-レース結果表（貼付）'!$1:$1,0)),"") -> XENON KART/YAMAHA | F13: =IFERROR(INDEX('[1]予選ヒートAGr-レース結果表（貼付）'!$A:$Z,MATCH($B13,'[1]予選ヒートAGr-レース結果表（貼付）'!$B:$B,0),MATCH('予選ヒートAGr-レース結果表'!F$11,'[1]予選ヒートAGr-レース結果表（貼付）'!$1:$1,0)),"") -> SPS川口 | G13: =IFERROR(INDEX('[1]予選ヒートAGr-レース結果表（貼付）'!$A:$Z,MATCH($B13,'[1]予選ヒートAGr-レース結果表（貼付）'!$B:$B,0),MATCH('予選ヒートAGr-レース結果表'!G$11,'[1]予選ヒートAGr-レース結果表（貼付）'!$1:$1,0)),"") -> BS | H13: =IFERROR(INDEX('[1]予選ヒートAGr-レース結果表（貼付）'!$A:$Z,MATCH($B13,'[1]予選ヒートAGr-レース結果表（貼付）'!$B:$B,0),MATCH('予選ヒートAGr-レース結果表'!H$11,'[1]予選ヒートAGr-レース結果表（貼付）'!$1:$1,0)),"") -> 12 | I13: =INDEX('[1]予選ヒートAGr-レース結果表（貼付）'!$A:$Z,MATCH($B13,'[1]予選ヒートAGr-レース結果表（貼付）'!$B:$B,0),MATCH('予選ヒートAGr-レース結果表'!I$11,'[1]予選ヒートAGr-レース結果表（貼付）'!$1:$1,0)) -> 0.0078478125 | J13: =ROUND((1.264*H13)/(I13*24),2)&"km/h" -> 80.53km/h | L13: =IF(A13="DNS","",IF(A13="DQ","",INDEX('[1]予選ヒートAGr-レース結果表（貼付）'!$A:$Z,MATCH($B13,'[1]予選ヒートAGr-レース結果表（貼付）'!$B:$B,0),MATCH('予選ヒートAGr-レース結果表'!L$11,'[1]予選ヒートAGr-レース結果表（貼付）'!$1:$1,0)))) -> 54.937 | P13: =IF(IFERROR(INDEX('[1]予選ヒートAGr-レース結果表（貼付）'!$A:$Z,MATCH($B13,'[1]予選ヒートAGr-レース結果表（貼付）'!$B:$B,0),MATCH(P$11,'[1]予選ヒートAGr-レース結果表（貼付）'!$1:$1,0)),"")=0,"",IFERROR(INDEX('[1]予選ヒートAGr-レース結果表（貼付）'!$A:$Z,MATCH($B13,'[1]予選ヒートAGr-レース結果表（貼付）'!$B:$B,0),MATCH(P$11,'[1]予選ヒートAGr-レース結果表（貼付）'!$1:$1,0)),"")) | Q13: =IF(P13="","",COUNTIF($P$13:P13,"<>"&"")) | R13: =IFERROR(RANK(Q13,$Q$13:$Q$43,1),"") | S13: =IF(IFERROR(INDEX('[1]予選ヒートAGr-レース結果表（貼付）'!$A:$Z,MATCH($A13,'[1]予選ヒートAGr-レース結果表（貼付）'!$A:$A,0),MATCH(S$11,'[1]予選ヒートAGr-レース結果表（貼付）'!$1:$1,0)),"")=0,"",IFERROR(INDEX('[1]予選ヒートAGr-レース結果表（貼付）'!$A:$Z,MATCH($A13,'[1]予選ヒートAGr-レース結果表（貼付）'!$A:$A,0),MATCH(S$11,'[1]予選ヒートAGr-レース結果表（貼付）'!$1:$1,0)),"")) | U13: =IF(IFERROR(INDEX('[1]予選ヒートAGr-レース結果表（貼付）'!$A:$Z,MATCH($B13,'[1]予選ヒートAGr-レース結果表（貼付）'!$B:$B,0),MATCH(U$11,'[1]予選ヒートAGr-レース結果表（貼付）'!$1:$1,0)),"")=0,"",IFERROR(INDEX('[1]予選ヒートAGr-レース結果表（貼付）'!$A:$Z,MATCH($B13,'[1]予選ヒートAGr-レース結果表（貼付）'!$B:$B,0),MATCH(U$11,'[1]予選ヒートAGr-レース結果表（貼付）'!$1:$1,0)),"")) -> 82.829
A14: =IF(OR('[1]予選ヒートAGr-レース結果表（貼付）'!A3="DNF",'[1]予選ヒートAGr-レース結果表（貼付）'!A3="DNS",'[1]予選ヒートAGr-レース結果表（貼付）'!A3="DQ"),'[1]予選ヒートAGr-レース結果表（貼付）'!A3,IF(MAX('[1]予選ヒートAGr-レース結果表（貼付）'!$A:$A)>A13,A13+1,"")) -> 2 | B14: =IFERROR(INDEX('[1]予選ヒートAGr-レース結果表（貼付）'!A3:$Z$50,MATCH($A14,'[1]予選ヒートAGr-レース結果表（貼付）'!A3:$A$50,0),MATCH('[1]公式予選（TT）①-結果表（印刷）'!B$11,'[1]予選ヒートAGr-レース結果表（貼付）'!$1:$1,0)),"") -> 40 | C14: 2 | D14: =IFERROR(INDEX('[1]予選ヒートAGr-レース結果表（貼付）'!$A:$Z,MATCH($A14,'[1]予選ヒートAGr-レース結果表（貼付）'!$A:$A,0),MATCH('予選ヒートAGr-レース結果表'!D$11,'[1]予選ヒートAGr-レース結果表（貼付）'!$1:$1,0)),"") -> 大槻 直 | E14: =IFERROR(INDEX('[1]予選ヒートAGr-レース結果表（貼付）'!$A:$Z,MATCH($B14,'[1]予選ヒートAGr-レース結果表（貼付）'!$B:$B,0),MATCH('予選ヒートAGr-レース結果表'!E$11,'[1]予選ヒートAGr-レース結果表（貼付）'!$1:$1,0)),"") -> TONY KART/YAMAHA | F14: =IFERROR(INDEX('[1]予選ヒートAGr-レース結果表（貼付）'!$A:$Z,MATCH($B14,'[1]予選ヒートAGr-レース結果表（貼付）'!$B:$B,0),MATCH('予選ヒートAGr-レース結果表'!F$11,'[1]予選ヒートAGr-レース結果表（貼付）'!$1:$1,0)),"") -> ASH | G14: =IFERROR(INDEX('[1]予選ヒートAGr-レース結果表（貼付）'!$A:$Z,MATCH($B14,'[1]予選ヒートAGr-レース結果表（貼付）'!$B:$B,0),MATCH('予選ヒートAGr-レース結果表'!G$11,'[1]予選ヒートAGr-レース結果表（貼付）'!$1:$1,0)),"") -> BS | H14: =IFERROR(INDEX('[1]予選ヒートAGr-レース結果表（貼付）'!$A:$Z,MATCH($B14,'[1]予選ヒートAGr-レース結果表（貼付）'!$B:$B,0),MATCH('予選ヒートAGr-レース結果表'!H$11,'[1]予選ヒートAGr-レース結果表（貼付）'!$1:$1,0)),"") -> 12 | I14: =INDEX('[1]予選ヒートAGr-レース結果表（貼付）'!$A:$Z,MATCH($B14,'[1]予選ヒートAGr-レース結果表（貼付）'!$B:$B,0),MATCH('予選ヒートAGr-レース結果表'!I$11,'[1]予選ヒートAGr-レース結果表（貼付）'!$1:$1,0)) -> 0.0079145139 | J14: =IFERROR(IF(A14="DNS","",IF(A14="DQ","",INDEX('[1]予選ヒートAGr-レース結果表（貼付）'!$A:$Z,MATCH($B14,'[1]予選ヒートAGr-レース結果表（貼付）'!$B:$B,0),MATCH('予選ヒートAGr-レース結果表'!J$11,'[1]予選ヒートAGr-レース結果表（貼付）'!$1:$1,0)))),"") -> 5.763 | K14: =IFERROR(IF(A14="DNS","",IF(A14="DQ","",INDEX('[1]予選ヒートAGr-レース結果表（貼付）'!$A:$Z,MATCH($B14,'[1]予選ヒートAGr-レース結果表（貼付）'!$B:$B,0),MATCH('予選ヒートAGr-レース結果表'!K$11,'[1]予選ヒートAGr-レース結果表（貼付）'!$1:$1,0)))),"") -> 5.763 | L14: =IFERROR(IF(A14="DNS","",IF(A14="DQ","",INDEX('[1]予選ヒートAGr-レース結果表（貼付）'!$A:$Z,MATCH($B14,'[1]予選ヒートAGr-レース結果表（貼付）'!$B:$B,0),MATCH('予選ヒートAGr-レース結果表'!L$11,'[1]予選ヒートAGr-レース結果表（貼付）'!$1:$1,0)))),"") -> 55.369 | M14: =IF(L14<1,"",IF($M$11>L14,"R","")) | P14: =IF(IFERROR(INDEX('[1]予選ヒートAGr-レース結果表（貼付）'!$A:$Z,MATCH($B14,'[1]予選ヒートAGr-レース結果表（貼付）'!$B:$B,0),MATCH(P$11,'[1]予選ヒートAGr-レース結果表（貼付）'!$1:$1,0)),"")=0,"",IFERROR(INDEX('[1]予選ヒートAGr-レース結果表（貼付）'!$A:$Z,MATCH($B14,'[1]予選ヒートAGr-レース結果表（貼付）'!$B:$B,0),MATCH(P$11,'[1]予選ヒートAGr-レース結果表（貼付）'!$1:$1,0)),"")) | Q14: =IF(P14="","",COUNTIF($P$13:P14,"<>"&"")) | R14: =IFERROR(RANK(Q14,$Q$13:$Q$43,1),"") | S14: =IF(IFERROR(INDEX('[1]予選ヒートAGr-レース結果表（貼付）'!$A:$Z,MATCH($A14,'[1]予選ヒートAGr-レース結果表（貼付）'!$A:$A,0),MATCH(S$11,'[1]予選ヒートAGr-レース結果表（貼付）'!$1:$1,0)),"")=0,"",IFERROR(INDEX('[1]予選ヒートAGr-レース結果表（貼付）'!$A:$Z,MATCH($A14,'[1]予選ヒートAGr-レース結果表（貼付）'!$A:$A,0),MATCH(S$11,'[1]予選ヒートAGr-レース結果表（貼付）'!$1:$1,0)),"")) | U14: =IF(IFERROR(INDEX('[1]予選ヒートAGr-レース結果表（貼付）'!$A:$Z,MATCH($B14,'[1]予選ヒートAGr-レース結果表（貼付）'!$B:$B,0),MATCH(U$11,'[1]予選ヒートAGr-レース結果表（貼付）'!$1:$1,0)),"")=0,"",IFERROR(INDEX('[1]予選ヒートAGr-レース結果表（貼付）'!$A:$Z,MATCH($B14,'[1]予選ヒートAGr-レース結果表（貼付）'!$B:$B,0),MATCH(U$11,'[1]予選ヒートAGr-レース結果表（貼付）'!$1:$1,0)),"")) -> 82.183
A15: =IF(OR('[1]予選ヒートAGr-レース結果表（貼付）'!A4="DNF",'[1]予選ヒートAGr-レース結果表（貼付）'!A4="DNS",'[1]予選ヒートAGr-レース結果表（貼付）'!A4="DQ"),'[1]予選ヒートAGr-レース結果表（貼付）'!A4,IF(MAX('[1]予選ヒートAGr-レース結果表（貼付）'!$A:$A)>A14,A14+1,"")) -> 3 | B15: =IFERROR(INDEX('[1]予選ヒートAGr-レース結果表（貼付）'!A4:$Z$50,MATCH($A15,'[1]予選ヒートAGr-レース結果表（貼付）'!A4:$A$50,0),MATCH('[1]公式予選（TT）①-結果表（印刷）'!B$11,'[1]予選ヒートAGr-レース結果表（貼付）'!$1:$1,0)),"") -> 61 | C15: 3 | D15: =IFERROR(INDEX('[1]予選ヒートAGr-レース結果表（貼付）'!$A:$Z,MATCH($A15,'[1]予選ヒートAGr-レース結果表（貼付）'!$A:$A,0),MATCH('予選ヒートAGr-レース結果表'!D$11,'[1]予選ヒートAGr-レース結果表（貼付）'!$1:$1,0)),"") -> 寺島 知毅 | E15: =IFERROR(INDEX('[1]予選ヒートAGr-レース結果表（貼付）'!$A:$Z,MATCH($B15,'[1]予選ヒートAGr-レース結果表（貼付）'!$B:$B,0),MATCH('予選ヒートAGr-レース結果表'!E$11,'[1]予選ヒートAGr-レース結果表（貼付）'!$1:$1,0)),"") -> TONY KART/YAMAHA | F15: =IFERROR(INDEX('[1]予選ヒートAGr-レース結果表（貼付）'!$A:$Z,MATCH($B15,'[1]予選ヒートAGr-レース結果表（貼付）'!$B:$B,0),MATCH('予選ヒートAGr-レース結果表'!F$11,'[1]予選ヒートAGr-レース結果表（貼付）'!$1:$1,0)),"") -> 松本レーシング | G15: =IFERROR(INDEX('[1]予選ヒートAGr-レース結果表（貼付）'!$A:$Z,MATCH($B15,'[1]予選ヒートAGr-レース結果表（貼付）'!$B:$B,0),MATCH('予選ヒートAGr-レース結果表'!G$11,'[1]予選ヒートAGr-レース結果表（貼付）'!$1:$1,0)),"") -> BS | H15: =IFERROR(INDEX('[1]予選ヒートAGr-レース結果表（貼付）'!$A:$Z,MATCH($B15,'[1]予選ヒートAGr-レース結果表（貼付）'!$B:$B,0),MATCH('予選ヒートAGr-レース結果表'!H$11,'[1]予選ヒートAGr-レース結果表（貼付）'!$1:$1,0)),"") -> 12 | I15: =INDEX('[1]予選ヒートAGr-レース結果表（貼付）'!$A:$Z,MATCH($B15,'[1]予選ヒートAGr-レース結果表（貼付）'!$B:$B,0),MATCH('予選ヒートAGr-レース結果表'!I$11,'[1]予選ヒートAGr-レース結果表（貼付）'!$1:$1,0)) -> 0.0079188773 | J15: =IFERROR(IF(A15="DNS","",IF(A15="DQ","",INDEX('[1]予選ヒートAGr-レース結果表（貼付）'!$A:$Z,MATCH($B15,'[1]予選ヒートAGr-レース結果表（貼付）'!$B:$B,0),MATCH('予選ヒートAGr-レース結果表'!J$11,'[1]予選ヒートAGr-レース結果表（貼付）'!$1:$1,0)))),"") -> 6.14 | K15: =IFERROR(IF(A15="DNS","",IF(A15="DQ","",INDEX('[1]予選ヒートAGr-レース結果表（貼付）'!$A:$Z,MATCH($B15,'[1]予選ヒートAGr-レース結果表（貼付）'!$B:$B,0),MATCH('予選ヒートAGr-レース結果表'!K$11,'[1]予選ヒートAGr-レース結果表（貼付）'!$1:$1,0)))),"") -> 0.377 | L15: =IFERROR(IF(A15="DNS","",IF(A15="DQ","",INDEX('[1]予選ヒートAGr-レース結果表（貼付）'!$A:$Z,MATCH($B15,'[1]予選ヒートAGr-レース結果表（貼付）'!$B:$B,0),MATCH('予選ヒートAGr-レース結果表'!L$11,'[1]予選ヒートAGr-レース結果表（貼付）'!$1:$1,0)))),"") -> 55.417 | M15: =IF(L15<1,"",IF($M$11>L15,"R","")) | P15: =IF(IFERROR(INDEX('[1]予選ヒートAGr-レース結果表（貼付）'!$A:$Z,MATCH($B15,'[1]予選ヒートAGr-レース結果表（貼付）'!$B:$B,0),MATCH(P$11,'[1]予選ヒートAGr-レース結果表（貼付）'!$1:$1,0)),"")=0,"",IFERROR(INDEX('[1]予選ヒートAGr-レース結果表（貼付）'!$A:$Z,MATCH($B15,'[1]予選ヒートAGr-レース結果表（貼付）'!$B:$B,0),MATCH(P$11,'[1]予選ヒートAGr-レース結果表（貼付）'!$1:$1,0)),"")) | Q15: =IF(P15="","",COUNTIF($P$13:P15,"<>"&"")) | R15: =IFERROR(RANK(Q15,$Q$13:$Q$43,1),"") | S15: =IF(IFERROR(INDEX('[1]予選ヒートAGr-レース結果表（貼付）'!$A:$Z,MATCH($A15,'[1]予選ヒートAGr-レース結果表（貼付）'!$A:$A,0),MATCH(S$11,'[1]予選ヒートAGr-レース結果表（貼付）'!$1:$1,0)),"")=0,"",IFERROR(INDEX('[1]予選ヒートAGr-レース結果表（貼付）'!$A:$Z,MATCH($A15,'[1]予選ヒートAGr-レース結果表（貼付）'!$A:$A,0),MATCH(S$11,'[1]予選ヒートAGr-レース結果表（貼付）'!$1:$1,0)),"")) | U15: =IF(IFERROR(INDEX('[1]予選ヒートAGr-レース結果表（貼付）'!$A:$Z,MATCH($B15,'[1]予選ヒートAGr-レース結果表（貼付）'!$B:$B,0),MATCH(U$11,'[1]予選ヒートAGr-レース結果表（貼付）'!$1:$1,0)),"")=0,"",IFERROR(INDEX('[1]予選ヒートAGr-レース結果表（貼付）'!$A:$Z,MATCH($B15,'[1]予選ヒートAGr-レース結果表（貼付）'!$B:$B,0),MATCH(U$11,'[1]予選ヒートAGr-レース結果表（貼付）'!$1:$1,0)),"")) -> 82.112
A16: =IF(OR('[1]予選ヒートAGr-レース結果表（貼付）'!A5="DNF",'[1]予選ヒートAGr-レース結果表（貼付）'!A5="DNS",'[1]予選ヒートAGr-レース結果表（貼付）'!A5="DQ"),'[1]予選ヒートAGr-レース結果表（貼付）'!A5,IF(MAX('[1]予選ヒートAGr-レース結果表（貼付）'!$A:$A)>A15,A15+1,"")) -> 4 | B16: =IFERROR(INDEX('[1]予選ヒートAGr-レース結果表（貼付）'!A5:$Z$50,MATCH($A16,'[1]予選ヒートAGr-レース結果表（貼付）'!A5:$A$50,0),MATCH('[1]公式予選（TT）①-結果表（印刷）'!B$11,'[1]予選ヒートAGr-レース結果表（貼付）'!$1:$1,0)),"") -> 30 | C16: 4 | D16: =IFERROR(INDEX('[1]予選ヒートAGr-レース結果表（貼付）'!$A:$Z,MATCH($A16,'[1]予選ヒートAGr-レース結果表（貼付）'!$A:$A,0),MATCH('予選ヒートAGr-レース結果表'!D$11,'[1]予選ヒートAGr-レース結果表（貼付）'!$1:$1,0)),"") -> 久富 圭 | E16: =IFERROR(INDEX('[1]予選ヒートAGr-レース結果表（貼付）'!$A:$Z,MATCH($B16,'[1]予選ヒートAGr-レース結果表（貼付）'!$B:$B,0),MATCH('予選ヒートAGr-レース結果表'!E$11,'[1]予選ヒートAGr-レース結果表（貼付）'!$1:$1,0)),"") -> TONY KART/YAMAHA | F16: =IFERROR(INDEX('[1]予選ヒートAGr-レース結果表（貼付）'!$A:$Z,MATCH($B16,'[1]予選ヒートAGr-レース結果表（貼付）'!$B:$B,0),MATCH('予選ヒートAGr-レース結果表'!F$11,'[1]予選ヒートAGr-レース結果表（貼付）'!$1:$1,0)),"") -> Formula Blue Ash | G16: =IFERROR(INDEX('[1]予選ヒートAGr-レース結果表（貼付）'!$A:$Z,MATCH($B16,'[1]予選ヒートAGr-レース結果表（貼付）'!$B:$B,0),MATCH('予選ヒートAGr-レース結果表'!G$11,'[1]予選ヒートAGr-レース結果表（貼付）'!$1:$1,0)),"") -> BS | H16: =IFERROR(INDEX('[1]予選ヒートAGr-レース結果表（貼付）'!$A:$Z,MATCH($B16,'[1]予選ヒートAGr-レース結果表（貼付）'!$B:$B,0),MATCH('予選ヒートAGr-レース結果表'!H$11,'[1]予選ヒートAGr-レース結果表（貼付）'!$1:$1,0)),"") -> 12 | I16: =INDEX('[1]予選ヒートAGr-レース結果表（貼付）'!$A:$Z,MATCH($B16,'[1]予選ヒートAGr-レース結果表（貼付）'!$B:$B,0),MATCH('予選ヒートAGr-レース結果表'!I$11,'[1]予選ヒートAGr-レース結果表（貼付）'!$1:$1,0)) -> 0.0079452894 | J16: =IFERROR(IF(A16="DNS","",IF(A16="DQ","",INDEX('[1]予選ヒートAGr-レース結果表（貼付）'!$A:$Z,MATCH($B16,'[1]予選ヒートAGr-レース結果表（貼付）'!$B:$B,0),MATCH('予選ヒートAGr-レース結果表'!J$11,'[1]予選ヒートAGr-レース結果表（貼付）'!$1:$1,0)))),"") -> 8.422 | K16: =IFERROR(IF(A16="DNS","",IF(A16="DQ","",INDEX('[1]予選ヒートAGr-レース結果表（貼付）'!$A:$Z,MATCH($B16,'[1]予選ヒートAGr-レース結果表（貼付）'!$B:$B,0),MATCH('予選ヒートAGr-レース結果表'!K$11,'[1]予選ヒートAGr-レース結果表（貼付）'!$1:$1,0)))),"") -> 2.282 | L16: =IFERROR(IF(A16="DNS","",IF(A16="DQ","",INDEX('[1]予選ヒートAGr-レース結果表（貼付）'!$A:$Z,MATCH($B16,'[1]予選ヒートAGr-レース結果表（貼付）'!$B:$B,0),MATCH('予選ヒートAGr-レース結果表'!L$11,'[1]予選ヒートAGr-レース結果表（貼付）'!$1:$1,0)))),"") -> 55.256 | M16: =IF(L16<1,"",IF($M$11>L16,"R","")) | P16: =IF(IFERROR(INDEX('[1]予選ヒートAGr-レース結果表（貼付）'!$A:$Z,MATCH($B16,'[1]予選ヒートAGr-レース結果表（貼付）'!$B:$B,0),MATCH(P$11,'[1]予選ヒートAGr-レース結果表（貼付）'!$1:$1,0)),"")=0,"",IFERROR(INDEX('[1]予選ヒートAGr-レース結果表（貼付）'!$A:$Z,MATCH($B16,'[1]予選ヒートAGr-レース結果表（貼付）'!$B:$B,0),MATCH(P$11,'[1]予選ヒートAGr-レース結果表（貼付）'!$1:$1,0)),"")) | Q16: =IF(P16="","",COUNTIF($P$13:P16,"<>"&"")) | R16: =IFERROR(RANK(Q16,$Q$13:$Q$43,1),"") | S16: =IF(IFERROR(INDEX('[1]予選ヒートAGr-レース結果表（貼付）'!$A:$Z,MATCH($A16,'[1]予選ヒートAGr-レース結果表（貼付）'!$A:$A,0),MATCH(S$11,'[1]予選ヒートAGr-レース結果表（貼付）'!$1:$1,0)),"")=0,"",IFERROR(INDEX('[1]予選ヒートAGr-レース結果表（貼付）'!$A:$Z,MATCH($A16,'[1]予選ヒートAGr-レース結果表（貼付）'!$A:$A,0),MATCH(S$11,'[1]予選ヒートAGr-レース結果表（貼付）'!$1:$1,0)),"")) | U16: =IF(IFERROR(INDEX('[1]予選ヒートAGr-レース結果表（貼付）'!$A:$Z,MATCH($B16,'[1]予選ヒートAGr-レース結果表（貼付）'!$B:$B,0),MATCH(U$11,'[1]予選ヒートAGr-レース結果表（貼付）'!$1:$1,0)),"")=0,"",IFERROR(INDEX('[1]予選ヒートAGr-レース結果表（貼付）'!$A:$Z,MATCH($B16,'[1]予選ヒートAGr-レース結果表（貼付）'!$B:$B,0),MATCH(U$11,'[1]予選ヒートAGr-レース結果表（貼付）'!$1:$1,0)),"")) -> 82.351
A17: =IF(OR('[1]予選ヒートAGr-レース結果表（貼付）'!A6="DNF",'[1]予選ヒートAGr-レース結果表（貼付）'!A6="DNS",'[1]予選ヒートAGr-レース結果表（貼付）'!A6="DQ"),'[1]予選ヒートAGr-レース結果表（貼付）'!A6,IF(MAX('[1]予選ヒートAGr-レース結果表（貼付）'!$A:$A)>A16,A16+1,"")) -> 5 | B17: =IFERROR(INDEX('[1]予選ヒートAGr-レース結果表（貼付）'!A6:$Z$50,MATCH($A17,'[1]予選ヒートAGr-レース結果表（貼付）'!A6:$A$50,0),MATCH('[1]公式予選（TT）①-結果表（印刷）'!B$11,'[1]予選ヒートAGr-レース結果表（貼付）'!$1:$1,0)),"") -> 74 | C17: 5 | D17: =IFERROR(INDEX('[1]予選ヒートAGr-レース結果表（貼付）'!$A:$Z,MATCH($A17,'[1]予選ヒートAGr-レース結果表（貼付）'!$A:$A,0),MATCH('予選ヒートAGr-レース結果表'!D$11,'[1]予選ヒートAGr-レース結果表（貼付）'!$1:$1,0)),"") -> 宮地 健太朗 | E17: =IFERROR(INDEX('[1]予選ヒートAGr-レース結果表（貼付）'!$A:$Z,MATCH($B17,'[1]予選ヒートAGr-レース結果表（貼付）'!$B:$B,0),MATCH('予選ヒートAGr-レース結果表'!E$11,'[1]予選ヒートAGr-レース結果表（貼付）'!$1:$1,0)),"") -> INTREPID/YAMAHA | F17: =IFERROR(INDEX('[1]予選ヒートAGr-レース結果表（貼付）'!$A:$Z,MATCH($B17,'[1]予選ヒートAGr-レース結果表（貼付）'!$B:$B,0),MATCH('予選ヒートAGr-レース結果表'!F$11,'[1]予選ヒートAGr-レース結果表（貼付）'!$1:$1,0)),"") -> Ash | G17: =IFERROR(INDEX('[1]予選ヒートAGr-レース結果表（貼付）'!$A:$Z,MATCH($B17,'[1]予選ヒートAGr-レース結果表（貼付）'!$B:$B,0),MATCH('予選ヒートAGr-レース結果表'!G$11,'[1]予選ヒートAGr-レース結果表（貼付）'!$1:$1,0)),"") -> BS | H17: =IFERROR(INDEX('[1]予選ヒートAGr-レース結果表（貼付）'!$A:$Z,MATCH($B17,'[1]予選ヒートAGr-レース結果表（貼付）'!$B:$B,0),MATCH('予選ヒートAGr-レース結果表'!H$11,'[1]予選ヒートAGr-レース結果表（貼付）'!$1:$1,0)),"") -> 12 | I17: =INDEX('[1]予選ヒートAGr-レース結果表（貼付）'!$A:$Z,MATCH($B17,'[1]予選ヒートAGr-レース結果表（貼付）'!$B:$B,0),MATCH('予選ヒートAGr-レース結果表'!I$11,'[1]予選ヒートAGr-レース結果表（貼付）'!$1:$1,0)) -> 0.0079501273 | J17: =IFERROR(IF(A17="DNS","",IF(A17="DQ","",INDEX('[1]予選ヒートAGr-レース結果表（貼付）'!$A:$Z,MATCH($B17,'[1]予選ヒートAGr-レース結果表（貼付）'!$B:$B,0),MATCH('予選ヒートAGr-レース結果表'!J$11,'[1]予選ヒートAGr-レース結果表（貼付）'!$1:$1,0)))),"") -> 8.84 | K17: =IFERROR(IF(A17="DNS","",IF(A17="DQ","",INDEX('[1]予選ヒートAGr-レース結果表（貼付）'!$A:$Z,MATCH($B17,'[1]予選ヒートAGr-レース結果表（貼付）'!$B:$B,0),MATCH('予選ヒートAGr-レース結果表'!K$11,'[1]予選ヒートAGr-レース結果表（貼付）'!$1:$1,0)))),"") -> 0.418 | L17: =IFERROR(IF(A17="DNS","",IF(A17="DQ","",INDEX('[1]予選ヒートAGr-レース結果表（貼付）'!$A:$Z,MATCH($B17,'[1]予選ヒートAGr-レース結果表（貼付）'!$B:$B,0),MATCH('予選ヒートAGr-レース結果表'!L$11,'[1]予選ヒートAGr-レース結果表（貼付）'!$1:$1,0)))),"") -> 55.364 | M17: =IF(L17<1,"",IF($M$11>L17,"R","")) | P17: =IF(IFERROR(INDEX('[1]予選ヒートAGr-レース結果表（貼付）'!$A:$Z,MATCH($B17,'[1]予選ヒートAGr-レース結果表（貼付）'!$B:$B,0),MATCH(P$11,'[1]予選ヒートAGr-レース結果表（貼付）'!$1:$1,0)),"")=0,"",IFERROR(INDEX('[1]予選ヒートAGr-レース結果表（貼付）'!$A:$Z,MATCH($B17,'[1]予選ヒートAGr-レース結果表（貼付）'!$B:$B,0),MATCH(P$11,'[1]予選ヒートAGr-レース結果表（貼付）'!$1:$1,0)),"")) | Q17: =IF(P17="","",COUNTIF($P$13:P17,"<>"&"")) | R17: =IFERROR(RANK(Q17,$Q$13:$Q$43,1),"") | S17: =IF(IFERROR(INDEX('[1]予選ヒートAGr-レース結果表（貼付）'!$A:$Z,MATCH($A17,'[1]予選ヒートAGr-レース結果表（貼付）'!$A:$A,0),MATCH(S$11,'[1]予選ヒートAGr-レース結果表（貼付）'!$1:$1,0)),"")=0,"",IFERROR(INDEX('[1]予選ヒートAGr-レース結果表（貼付）'!$A:$Z,MATCH($A17,'[1]予選ヒートAGr-レース結果表（貼付）'!$A:$A,0),MATCH(S$11,'[1]予選ヒートAGr-レース結果表（貼付）'!$1:$1,0)),"")) | U17: =IF(IFERROR(INDEX('[1]予選ヒートAGr-レース結果表（貼付）'!$A:$Z,MATCH($B17,'[1]予選ヒートAGr-レース結果表（貼付）'!$B:$B,0),MATCH(U$11,'[1]予選ヒートAGr-レース結果表（貼付）'!$1:$1,0)),"")=0,"",IFERROR(INDEX('[1]予選ヒートAGr-レース結果表（貼付）'!$A:$Z,MATCH($B17,'[1]予選ヒートAGr-レース結果表（貼付）'!$B:$B,0),MATCH(U$11,'[1]予選ヒートAGr-レース結果表（貼付）'!$1:$1,0)),"")) -> 82.191
A18: =IF(OR('[1]予選ヒートAGr-レース結果表（貼付）'!A7="DNF",'[1]予選ヒートAGr-レース結果表（貼付）'!A7="DNS",'[1]予選ヒートAGr-レース結果表（貼付）'!A7="DQ"),'[1]予選ヒートAGr-レース結果表（貼付）'!A7,IF(MAX('[1]予選ヒートAGr-レース結果表（貼付）'!$A:$A)>A17,A17+1,"")) -> 6 | B18: =IFERROR(INDEX('[1]予選ヒートAGr-レース結果表（貼付）'!A7:$Z$50,MATCH($A18,'[1]予選ヒートAGr-レース結果表（貼付）'!A7:$A$50,0),MATCH('[1]公式予選（TT）①-結果表（印刷）'!B$11,'[1]予選ヒートAGr-レース結果表（貼付）'!$1:$1,0)),"") -> 31 | C18: 6 | D18: =IFERROR(INDEX('[1]予選ヒートAGr-レース結果表（貼付）'!$A:$Z,MATCH($A18,'[1]予選ヒートAGr-レース結果表（貼付）'!$A:$A,0),MATCH('予選ヒートAGr-レース結果表'!D$11,'[1]予選ヒートAGr-レース結果表（貼付）'!$1:$1,0)),"") -> 飛田 陽宏 | E18: =IFERROR(INDEX('[1]予選ヒートAGr-レース結果表（貼付）'!$A:$Z,MATCH($B18,'[1]予選ヒートAGr-レース結果表（貼付）'!$B:$B,0),MATCH('予選ヒートAGr-レース結果表'!E$11,'[1]予選ヒートAGr-レース結果表（貼付）'!$1:$1,0)),"") -> TONY KART/YAMAHA | F18: =IFERROR(INDEX('[1]予選ヒートAGr-レース結果表（貼付）'!$A:$Z,MATCH($B18,'[1]予選ヒートAGr-レース結果表（貼付）'!$B:$B,0),MATCH('予選ヒートAGr-レース結果表'!F$11,'[1]予選ヒートAGr-レース結果表（貼付）'!$1:$1,0)),"") -> TBT RT with まえだ眼科 | G18: =IFERROR(INDEX('[1]予選ヒートAGr-レース結果表（貼付）'!$A:$Z,MATCH($B18,'[1]予選ヒートAGr-レース結果表（貼付）'!$B:$B,0),MATCH('予選ヒートAGr-レース結果表'!G$11,'[1]予選ヒートAGr-レース結果表（貼付）'!$1:$1,0)),"") -> BS | H18: =IFERROR(INDEX('[1]予選ヒートAGr-レース結果表（貼付）'!$A:$Z,MATCH($B18,'[1]予選ヒートAGr-レース結果表（貼付）'!$B:$B,0),MATCH('予選ヒートAGr-レース結果表'!H$11,'[1]予選ヒートAGr-レース結果表（貼付）'!$1:$1,0)),"") -> 12 | I18: =INDEX('[1]予選ヒートAGr-レース結果表（貼付）'!$A:$Z,MATCH($B18,'[1]予選ヒートAGr-レース結果表（貼付）'!$B:$B,0),MATCH('予選ヒートAGr-レース結果表'!I$11,'[1]予選ヒートAGr-レース結果表（貼付）'!$1:$1,0)) -> 0.007972338 | J18: =IFERROR(IF(A18="DNS","",IF(A18="DQ","",INDEX('[1]予選ヒートAGr-レース結果表（貼付）'!$A:$Z,MATCH($B18,'[1]予選ヒートAGr-レース結果表（貼付）'!$B:$B,0),MATCH('予選ヒートAGr-レース結果表'!J$11,'[1]予選ヒートAGr-レース結果表（貼付）'!$1:$1,0)))),"") -> 10.759 | K18: =IFERROR(IF(A18="DNS","",IF(A18="DQ","",INDEX('[1]予選ヒートAGr-レース結果表（貼付）'!$A:$Z,MATCH($B18,'[1]予選ヒートAGr-レース結果表（貼付）'!$B:$B,0),MATCH('予選ヒートAGr-レース結果表'!K$11,'[1]予選ヒートAGr-レース結果表（貼付）'!$1:$1,0)))),"") -> 1.919 | L18: =IFERROR(IF(A18="DNS","",IF(A18="DQ","",INDEX('[1]予選ヒートAGr-レース結果表（貼付）'!$A:$Z,MATCH($B18,'[1]予選ヒートAGr-レース結果表（貼付）'!$B:$B,0),MATCH('予選ヒートAGr-レース結果表'!L$11,'[1]予選ヒートAGr-レース結果表（貼付）'!$1:$1,0)))),"") -> 55.345 | M18: =IF(L18<1,"",IF($M$11>L18,"R","")) | P18: =IF(IFERROR(INDEX('[1]予選ヒートAGr-レース結果表（貼付）'!$A:$Z,MATCH($B18,'[1]予選ヒートAGr-レース結果表（貼付）'!$B:$B,0),MATCH(P$11,'[1]予選ヒートAGr-レース結果表（貼付）'!$1:$1,0)),"")=0,"",IFERROR(INDEX('[1]予選ヒートAGr-レース結果表（貼付）'!$A:$Z,MATCH($B18,'[1]予選ヒートAGr-レース結果表（貼付）'!$B:$B,0),MATCH(P$11,'[1]予選ヒートAGr-レース結果表（貼付）'!$1:$1,0)),"")) | Q18: =IF(P18="","",COUNTIF($P$13:P18,"<>"&"")) | R18: =IFERROR(RANK(Q18,$Q$13:$Q$43,1),"") | S18: =IF(IFERROR(INDEX('[1]予選ヒートAGr-レース結果表（貼付）'!$A:$Z,MATCH($A18,'[1]予選ヒートAGr-レース結果表（貼付）'!$A:$A,0),MATCH(S$11,'[1]予選ヒートAGr-レース結果表（貼付）'!$1:$1,0)),"")=0,"",IFERROR(INDEX('[1]予選ヒートAGr-レース結果表（貼付）'!$A:$Z,MATCH($A18,'[1]予選ヒートAGr-レース結果表（貼付）'!$A:$A,0),MATCH(S$11,'[1]予選ヒートAGr-レース結果表（貼付）'!$1:$1,0)),"")) | U18: =IF(IFERROR(INDEX('[1]予選ヒートAGr-レース結果表（貼付）'!$A:$Z,MATCH($B18,'[1]予選ヒートAGr-レース結果表（貼付）'!$B:$B,0),MATCH(U$11,'[1]予選ヒートAGr-レース結果表（貼付）'!$1:$1,0)),"")=0,"",IFERROR(INDEX('[1]予選ヒートAGr-レース結果表（貼付）'!$A:$Z,MATCH($B18,'[1]予選ヒートAGr-レース結果表（貼付）'!$B:$B,0),MATCH(U$11,'[1]予選ヒートAGr-レース結果表（貼付）'!$1:$1,0)),"")) -> 82.219
A19: =IF(OR('[1]予選ヒートAGr-レース結果表（貼付）'!A8="DNF",'[1]予選ヒートAGr-レース結果表（貼付）'!A8="DNS",'[1]予選ヒートAGr-レース結果表（貼付）'!A8="DQ"),'[1]予選ヒートAGr-レース結果表（貼付）'!A8,IF(MAX('[1]予選ヒートAGr-レース結果表（貼付）'!$A:$A)>A18,A18+1,"")) -> 7 | B19: =IFERROR(INDEX('[1]予選ヒートAGr-レース結果表（貼付）'!A8:$Z$50,MATCH($A19,'[1]予選ヒートAGr-レース結果表（貼付）'!A8:$A$50,0),MATCH('[1]公式予選（TT）①-結果表（印刷）'!B$11,'[1]予選ヒートAGr-レース結果表（貼付）'!$1:$1,0)),"") -> 13 | C19: 7 | D19: =IFERROR(INDEX('[1]予選ヒートAGr-レース結果表（貼付）'!$A:$Z,MATCH($A19,'[1]予選ヒートAGr-レース結果表（貼付）'!$A:$A,0),MATCH('予選ヒートAGr-レース結果表'!D$11,'[1]予選ヒートAGr-レース結果表（貼付）'!$1:$1,0)),"") -> 向田 一聡 | E19: =IFERROR(INDEX('[1]予選ヒートAGr-レース結果表（貼付）'!$A:$Z,MATCH($B19,'[1]予選ヒートAGr-レース結果表（貼付）'!$B:$B,0),MATCH('予選ヒートAGr-レース結果表'!E$11,'[1]予選ヒートAGr-レース結果表（貼付）'!$1:$1,0)),"") -> KOSMIC/YAMAHA | F19: =IFERROR(INDEX('[1]予選ヒートAGr-レース結果表（貼付）'!$A:$Z,MATCH($B19,'[1]予選ヒートAGr-レース結果表（貼付）'!$B:$B,0),MATCH('予選ヒートAGr-レース結果表'!F$11,'[1]予選ヒートAGr-レース結果表（貼付）'!$1:$1,0)),"") -> SLT.RT ANT | G19: =IFERROR(INDEX('[1]予選ヒートAGr-レース結果表（貼付）'!$A:$Z,MATCH($B19,'[1]予選ヒートAGr-レース結果表（貼付）'!$B:$B,0),MATCH('予選ヒートAGr-レース結果表'!G$11,'[1]予選ヒートAGr-レース結果表（貼付）'!$1:$1,0)),"") -> BS | H19: =IFERROR(INDEX('[1]予選ヒートAGr-レース結果表（貼付）'!$A:$Z,MATCH($B19,'[1]予選ヒートAGr-レース結果表（貼付）'!$B:$B,0),MATCH('予選ヒートAGr-レース結果表'!H$11,'[1]予選ヒートAGr-レース結果表（貼付）'!$1:$1,0)),"") -> 12 | I19: =INDEX('[1]予選ヒートAGr-レース結果表（貼付）'!$A:$Z,MATCH($B19,'[1]予選ヒートAGr-レース結果表（貼付）'!$B:$B,0),MATCH('予選ヒートAGr-レース結果表'!I$11,'[1]予選ヒートAGr-レース結果表（貼付）'!$1:$1,0)) -> 0.0079762847 | J19: =IFERROR(IF(A19="DNS","",IF(A19="DQ","",INDEX('[1]予選ヒートAGr-レース結果表（貼付）'!$A:$Z,MATCH($B19,'[1]予選ヒートAGr-レース結果表（貼付）'!$B:$B,0),MATCH('予選ヒートAGr-レース結果表'!J$11,'[1]予選ヒートAGr-レース結果表（貼付）'!$1:$1,0)))),"") -> 11.1 | K19: =IFERROR(IF(A19="DNS","",IF(A19="DQ","",INDEX('[1]予選ヒートAGr-レース結果表（貼付）'!$A:$Z,MATCH($B19,'[1]予選ヒートAGr-レース結果表（貼付）'!$B:$B,0),MATCH('予選ヒートAGr-レース結果表'!K$11,'[1]予選ヒートAGr-レース結果表（貼付）'!$1:$1,0)))),"") -> 0.341 | L19: =IFERROR(IF(A19="DNS","",IF(A19="DQ","",INDEX('[1]予選ヒートAGr-レース結果表（貼付）'!$A:$Z,MATCH($B19,'[1]予選ヒートAGr-レース結果表（貼付）'!$B:$B,0),MATCH('予選ヒートAGr-レース結果表'!L$11,'[1]予選ヒートAGr-レース結果表（貼付）'!$1:$1,0)))),"") -> 55.699 | M19: =IF(L19<1,"",IF($M$11>L19,"R","")) | P19: =IF(IFERROR(INDEX('[1]予選ヒートAGr-レース結果表（貼付）'!$A:$Z,MATCH($B19,'[1]予選ヒートAGr-レース結果表（貼付）'!$B:$B,0),MATCH(P$11,'[1]予選ヒートAGr-レース結果表（貼付）'!$1:$1,0)),"")=0,"",IFERROR(INDEX('[1]予選ヒートAGr-レース結果表（貼付）'!$A:$Z,MATCH($B19,'[1]予選ヒートAGr-レース結果表（貼付）'!$B:$B,0),MATCH(P$11,'[1]予選ヒートAGr-レース結果表（貼付）'!$1:$1,0)),"")) | Q19: =IF(P19="","",COUNTIF($P$13:P19,"<>"&"")) | R19: =IFERROR(RANK(Q19,$Q$13:$Q$43,1),"") | S19: =IF(IFERROR(INDEX('[1]予選ヒートAGr-レース結果表（貼付）'!$A:$Z,MATCH($A19,'[1]予選ヒートAGr-レース結果表（貼付）'!$A:$A,0),MATCH(S$11,'[1]予選ヒートAGr-レース結果表（貼付）'!$1:$1,0)),"")=0,"",IFERROR(INDEX('[1]予選ヒートAGr-レース結果表（貼付）'!$A:$Z,MATCH($A19,'[1]予選ヒートAGr-レース結果表（貼付）'!$A:$A,0),MATCH(S$11,'[1]予選ヒートAGr-レース結果表（貼付）'!$1:$1,0)),"")) | U19: =IF(IFERROR(INDEX('[1]予選ヒートAGr-レース結果表（貼付）'!$A:$Z,MATCH($B19,'[1]予選ヒートAGr-レース結果表（貼付）'!$B:$B,0),MATCH(U$11,'[1]予選ヒートAGr-レース結果表（貼付）'!$1:$1,0)),"")=0,"",IFERROR(INDEX('[1]予選ヒートAGr-レース結果表（貼付）'!$A:$Z,MATCH($B19,'[1]予選ヒートAGr-レース結果表（貼付）'!$B:$B,0),MATCH(U$11,'[1]予選ヒートAGr-レース結果表（貼付）'!$1:$1,0)),"")) -> 81.696
A20: =IF(OR('[1]予選ヒートAGr-レース結果表（貼付）'!A9="DNF",'[1]予選ヒートAGr-レース結果表（貼付）'!A9="DNS",'[1]予選ヒートAGr-レース結果表（貼付）'!A9="DQ"),'[1]予選ヒートAGr-レース結果表（貼付）'!A9,IF(MAX('[1]予選ヒートAGr-レース結果表（貼付）'!$A:$A)>A19,A19+1,"")) -> 8 | B20: =IFERROR(INDEX('[1]予選ヒートAGr-レース結果表（貼付）'!A9:$Z$50,MATCH($A20,'[1]予選ヒートAGr-レース結果表（貼付）'!A9:$A$50,0),MATCH('[1]公式予選（TT）①-結果表（印刷）'!B$11,'[1]予選ヒートAGr-レース結果表（貼付）'!$1:$1,0)),"") -> 33 | C20: 8 | D20: =IFERROR(INDEX('[1]予選ヒートAGr-レース結果表（貼付）'!$A:$Z,MATCH($A20,'[1]予選ヒートAGr-レース結果表（貼付）'!$A:$A,0),MATCH('予選ヒートAGr-レース結果表'!D$11,'[1]予選ヒートAGr-レース結果表（貼付）'!$1:$1,0)),"") -> 田上 龍輝 | E20: =IFERROR(INDEX('[1]予選ヒートAGr-レース結果表（貼付）'!$A:$Z,MATCH($B20,'[1]予選ヒートAGr-レース結果表（貼付）'!$B:$B,0),MATCH('予選ヒートAGr-レース結果表'!E$11,'[1]予選ヒートAGr-レース結果表（貼付）'!$1:$1,0)),"") -> Birel ART/YAMAHA | F20: =IFERROR(INDEX('[1]予選ヒートAGr-レース結果表（貼付）'!$A:$Z,MATCH($B20,'[1]予選ヒートAGr-レース結果表（貼付）'!$B:$B,0),MATCH('予選ヒートAGr-レース結果表'!F$11,'[1]予選ヒートAGr-レース結果表（貼付）'!$1:$1,0)),"") -> チームKBF | G20: =IFERROR(INDEX('[1]予選ヒートAGr-レース結果表（貼付）'!$A:$Z,MATCH($B20,'[1]予選ヒートAGr-レース結果表（貼付）'!$B:$B,0),MATCH('予選ヒートAGr-レース結果表'!G$11,'[1]予選ヒートAGr-レース結果表（貼付）'!$1:$1,0)),"") -> BS | H20: =IFERROR(INDEX('[1]予選ヒートAGr-レース結果表（貼付）'!$A:$Z,MATCH($B20,'[1]予選ヒートAGr-レース結果表（貼付）'!$B:$B,0),MATCH('予選ヒートAGr-レース結果表'!H$11,'[1]予選ヒートAGr-レース結果表（貼付）'!$1:$1,0)),"") -> 12 | I20: =INDEX('[1]予選ヒートAGr-レース結果表（貼付）'!$A:$Z,MATCH($B20,'[1]予選ヒートAGr-レース結果表（貼付）'!$B:$B,0),MATCH('予選ヒートAGr-レース結果表'!I$11,'[1]予選ヒートAGr-レース結果表（貼付）'!$1:$1,0)) -> 0.0079822801 | J20: =IFERROR(IF(A20="DNS","",IF(A20="DQ","",INDEX('[1]予選ヒートAGr-レース結果表（貼付）'!$A:$Z,MATCH($B20,'[1]予選ヒートAGr-レース結果表（貼付）'!$B:$B,0),MATCH('予選ヒートAGr-レース結果表'!J$11,'[1]予選ヒートAGr-レース結果表（貼付）'!$1:$1,0)))),"") -> 11.618 | K20: =IFERROR(IF(A20="DNS","",IF(A20="DQ","",INDEX('[1]予選ヒートAGr-レース結果表（貼付）'!$A:$Z,MATCH($B20,'[1]予選ヒートAGr-レース結果表（貼付）'!$B:$B,0),MATCH('予選ヒートAGr-レース結果表'!K$11,'[1]予選ヒートAGr-レース結果表（貼付）'!$1:$1,0)))),"") -> 0.518 | L20: =IFERROR(IF(A20="DNS","",IF(A20="DQ","",INDEX('[1]予選ヒートAGr-レース結果表（貼付）'!$A:$Z,MATCH($B20,'[1]予選ヒートAGr-レース結果表（貼付）'!$B:$B,0),MATCH('予選ヒートAGr-レース結果表'!L$11,'[1]予選ヒートAGr-レース結果表（貼付）'!$1:$1,0)))),"") -> 55.342 | M20: =IF(L20<1,"",IF($M$11>L20,"R","")) | P20: =IF(IFERROR(INDEX('[1]予選ヒートAGr-レース結果表（貼付）'!$A:$Z,MATCH($B20,'[1]予選ヒートAGr-レース結果表（貼付）'!$B:$B,0),MATCH(P$11,'[1]予選ヒートAGr-レース結果表（貼付）'!$1:$1,0)),"")=0,"",IFERROR(INDEX('[1]予選ヒートAGr-レース結果表（貼付）'!$A:$Z,MATCH($B20,'[1]予選ヒートAGr-レース結果表（貼付）'!$B:$B,0),MATCH(P$11,'[1]予選ヒートAGr-レース結果表（貼付）'!$1:$1,0)),"")) | Q20: =IF(P20="","",COUNTIF($P$13:P20,"<>"&"")) | R20: =IFERROR(RANK(Q20,$Q$13:$Q$43,1),"") | S20: =IF(IFERROR(INDEX('[1]予選ヒートAGr-レース結果表（貼付）'!$A:$Z,MATCH($A20,'[1]予選ヒートAGr-レース結果表（貼付）'!$A:$A,0),MATCH(S$11,'[1]予選ヒートAGr-レース結果表（貼付）'!$1:$1,0)),"")=0,"",IFERROR(INDEX('[1]予選ヒートAGr-レース結果表（貼付）'!$A:$Z,MATCH($A20,'[1]予選ヒートAGr-レース結果表（貼付）'!$A:$A,0),MATCH(S$11,'[1]予選ヒートAGr-レース結果表（貼付）'!$1:$1,0)),"")) | U20: =IF(IFERROR(INDEX('[1]予選ヒートAGr-レース結果表（貼付）'!$A:$Z,MATCH($B20,'[1]予選ヒートAGr-レース結果表（貼付）'!$B:$B,0),MATCH(U$11,'[1]予選ヒートAGr-レース結果表（貼付）'!$1:$1,0)),"")=0,"",IFERROR(INDEX('[1]予選ヒートAGr-レース結果表（貼付）'!$A:$Z,MATCH($B20,'[1]予選ヒートAGr-レース結果表（貼付）'!$B:$B,0),MATCH(U$11,'[1]予選ヒートAGr-レース結果表（貼付）'!$1:$1,0)),"")) -> 81.858
A21: =IF(OR('[1]予選ヒートAGr-レース結果表（貼付）'!A10="DNF",'[1]予選ヒートAGr-レース結果表（貼付）'!A10="DNS",'[1]予選ヒートAGr-レース結果表（貼付）'!A10="DQ"),'[1]予選ヒートAGr-レース結果表（貼付）'!A10,IF(MAX('[1]予選ヒートAGr-レース結果表（貼付）'!$A:$A)>A20,A20+1,"")) -> 9 | B21: =IFERROR(INDEX('[1]予選ヒートAGr-レース結果表（貼付）'!A10:$Z$50,MATCH($A21,'[1]予選ヒートAGr-レース結果表（貼付）'!A10:$A$50,0),MATCH('[1]公式予選（TT）①-結果表（印刷）'!B$11,'[1]予選ヒートAGr-レース結果表（貼付）'!$1:$1,0)),"") -> 21 | C21: 9 | D21: =IFERROR(INDEX('[1]予選ヒートAGr-レース結果表（貼付）'!$A:$Z,MATCH($A21,'[1]予選ヒートAGr-レース結果表（貼付）'!$A:$A,0),MATCH('予選ヒートAGr-レース結果表'!D$11,'[1]予選ヒートAGr-レース結果表（貼付）'!$1:$1,0)),"") -> 森川 貴光 | E21: =IFERROR(INDEX('[1]予選ヒートAGr-レース結果表（貼付）'!$A:$Z,MATCH($B21,'[1]予選ヒートAGr-レース結果表（貼付）'!$B:$B,0),MATCH('予選ヒートAGr-レース結果表'!E$11,'[1]予選ヒートAGr-レース結果表（貼付）'!$1:$1,0)),"") -> KOSMIC/YAMAHA | F21: =IFERROR(INDEX('[1]予選ヒートAGr-レース結果表（貼付）'!$A:$Z,MATCH($B21,'[1]予選ヒートAGr-レース結果表（貼付）'!$B:$B,0),MATCH('予選ヒートAGr-レース結果表'!F$11,'[1]予選ヒートAGr-レース結果表（貼付）'!$1:$1,0)),"") -> HIRAI PROJECT with Ash | G21: =IFERROR(INDEX('[1]予選ヒートAGr-レース結果表（貼付）'!$A:$Z,MATCH($B21,'[1]予選ヒートAGr-レース結果表（貼付）'!$B:$B,0),MATCH('予選ヒートAGr-レース結果表'!G$11,'[1]予選ヒートAGr-レース結果表（貼付）'!$1:$1,0)),"") -> BS | H21: =IFERROR(INDEX('[1]予選ヒートAGr-レース結果表（貼付）'!$A:$Z,MATCH($B21,'[1]予選ヒートAGr-レース結果表（貼付）'!$B:$B,0),MATCH('予選ヒートAGr-レース結果表'!H$11,'[1]予選ヒートAGr-レース結果表（貼付）'!$1:$1,0)),"") -> 12 | I21: =INDEX('[1]予選ヒートAGr-レース結果表（貼付）'!$A:$Z,MATCH($B21,'[1]予選ヒートAGr-レース結果表（貼付）'!$B:$B,0),MATCH('予選ヒートAGr-レース結果表'!I$11,'[1]予選ヒートAGr-レース結果表（貼付）'!$1:$1,0)) -> 0.0079874769 | J21: =IFERROR(IF(A21="DNS","",IF(A21="DQ","",INDEX('[1]予選ヒートAGr-レース結果表（貼付）'!$A:$Z,MATCH($B21,'[1]予選ヒートAGr-レース結果表（貼付）'!$B:$B,0),MATCH('予選ヒートAGr-レース結果表'!J$11,'[1]予選ヒートAGr-レース結果表（貼付）'!$1:$1,0)))),"") -> 12.067 | K21: =IFERROR(IF(A21="DNS","",IF(A21="DQ","",INDEX('[1]予選ヒートAGr-レース結果表（貼付）'!$A:$Z,MATCH($B21,'[1]予選ヒートAGr-レース結果表（貼付）'!$B:$B,0),MATCH('予選ヒートAGr-レース結果表'!K$11,'[1]予選ヒートAGr-レース結果表（貼付）'!$1:$1,0)))),"") -> 0.449 | L21: =IFERROR(IF(A21="DNS","",IF(A21="DQ","",INDEX('[1]予選ヒートAGr-レース結果表（貼付）'!$A:$Z,MATCH($B21,'[1]予選ヒートAGr-レース結果表（貼付）'!$B:$B,0),MATCH('予選ヒートAGr-レース結果表'!L$11,'[1]予選ヒートAGr-レース結果表（貼付）'!$1:$1,0)))),"") -> 55.712 | M21: =IF(L21<1,"",IF($M$11>L21,"R","")) | P21: =IF(IFERROR(INDEX('[1]予選ヒートAGr-レース結果表（貼付）'!$A:$Z,MATCH($B21,'[1]予選ヒートAGr-レース結果表（貼付）'!$B:$B,0),MATCH(P$11,'[1]予選ヒートAGr-レース結果表（貼付）'!$1:$1,0)),"")=0,"",IFERROR(INDEX('[1]予選ヒートAGr-レース結果表（貼付）'!$A:$Z,MATCH($B21,'[1]予選ヒートAGr-レース結果表（貼付）'!$B:$B,0),MATCH(P$11,'[1]予選ヒートAGr-レース結果表（貼付）'!$1:$1,0)),"")) | Q21: =IF(P21="","",COUNTIF($P$13:P21,"<>"&"")) | R21: =IFERROR(RANK(Q21,$Q$13:$Q$43,1),"") | S21: =IF(IFERROR(INDEX('[1]予選ヒートAGr-レース結果表（貼付）'!$A:$Z,MATCH($A21,'[1]予選ヒートAGr-レース結果表（貼付）'!$A:$A,0),MATCH(S$11,'[1]予選ヒートAGr-レース結果表（貼付）'!$1:$1,0)),"")=0,"",IFERROR(INDEX('[1]予選ヒートAGr-レース結果表（貼付）'!$A:$Z,MATCH($A21,'[1]予選ヒートAGr-レース結果表（貼付）'!$A:$A,0),MATCH(S$11,'[1]予選ヒートAGr-レース結果表（貼付）'!$1:$1,0)),"")) | U21: =IF(IFERROR(INDEX('[1]予選ヒートAGr-レース結果表（貼付）'!$A:$Z,MATCH($B21,'[1]予選ヒートAGr-レース結果表（貼付）'!$B:$B,0),MATCH(U$11,'[1]予選ヒートAGr-レース結果表（貼付）'!$1:$1,0)),"")=0,"",IFERROR(INDEX('[1]予選ヒートAGr-レース結果表（貼付）'!$A:$Z,MATCH($B21,'[1]予選ヒートAGr-レース結果表（貼付）'!$B:$B,0),MATCH(U$11,'[1]予選ヒートAGr-レース結果表（貼付）'!$1:$1,0)),"")) -> 82.223
A22: =IF(OR('[1]予選ヒートAGr-レース結果表（貼付）'!A11="DNF",'[1]予選ヒートAGr-レース結果表（貼付）'!A11="DNS",'[1]予選ヒートAGr-レース結果表（貼付）'!A11="DQ"),'[1]予選ヒートAGr-レース結果表（貼付）'!A11,IF(MAX('[1]予選ヒートAGr-レース結果表（貼付）'!$A:$A)>A21,A21+1,"")) -> 10 | B22: =IFERROR(INDEX('[1]予選ヒートAGr-レース結果表（貼付）'!A11:$Z$50,MATCH($A22,'[1]予選ヒートAGr-レース結果表（貼付）'!A11:$A$50,0),MATCH('[1]公式予選（TT）①-結果表（印刷）'!B$11,'[1]予選ヒートAGr-レース結果表（貼付）'!$1:$1,0)),"") -> 86 | C22: 10 | D22: =IFERROR(INDEX('[1]予選ヒートAGr-レース結果表（貼付）'!$A:$Z,MATCH($A22,'[1]予選ヒートAGr-レース結果表（貼付）'!$A:$A,0),MATCH('予選ヒートAGr-レース結果表'!D$11,'[1]予選ヒートAGr-レース結果表（貼付）'!$1:$1,0)),"") -> 内海 陽翔 | E22: =IFERROR(INDEX('[1]予選ヒートAGr-レース結果表（貼付）'!$A:$Z,MATCH($B22,'[1]予選ヒートAGr-レース結果表（貼付）'!$B:$B,0),MATCH('予選ヒートAGr-レース結果表'!E$11,'[1]予選ヒートAGr-レース結果表（貼付）'!$1:$1,0)),"") -> REDSPEED/YAMAHA | F22: =IFERROR(INDEX('[1]予選ヒートAGr-レース結果表（貼付）'!$A:$Z,MATCH($B22,'[1]予選ヒートAGr-レース結果表（貼付）'!$B:$B,0),MATCH('予選ヒートAGr-レース結果表'!F$11,'[1]予選ヒートAGr-レース結果表（貼付）'!$1:$1,0)),"") -> シナジーリンクス | G22: =IFERROR(INDEX('[1]予選ヒートAGr-レース結果表（貼付）'!$A:$Z,MATCH($B22,'[1]予選ヒートAGr-レース結果表（貼付）'!$B:$B,0),MATCH('予選ヒートAGr-レース結果表'!G$11,'[1]予選ヒートAGr-レース結果表（貼付）'!$1:$1,0)),"") -> BS | H22: =IFERROR(INDEX('[1]予選ヒートAGr-レース結果表（貼付）'!$A:$Z,MATCH($B22,'[1]予選ヒートAGr-レース結果表（貼付）'!$B:$B,0),MATCH('予選ヒートAGr-レース結果表'!H$11,'[1]予選ヒートAGr-レース結果表（貼付）'!$1:$1,0)),"") -> 12 | I22: =INDEX('[1]予選ヒートAGr-レース結果表（貼付）'!$A:$Z,MATCH($B22,'[1]予選ヒートAGr-レース結果表（貼付）'!$B:$B,0),MATCH('予選ヒートAGr-レース結果表'!I$11,'[1]予選ヒートAGr-レース結果表（貼付）'!$1:$1,0)) -> 0.0079958681 | J22: =IFERROR(IF(A22="DNS","",IF(A22="DQ","",INDEX('[1]予選ヒートAGr-レース結果表（貼付）'!$A:$Z,MATCH($B22,'[1]予選ヒートAGr-レース結果表（貼付）'!$B:$B,0),MATCH('予選ヒートAGr-レース結果表'!J$11,'[1]予選ヒートAGr-レース結果表（貼付）'!$1:$1,0)))),"") -> 12.792 | K22: =IFERROR(IF(A22="DNS","",IF(A22="DQ","",INDEX('[1]予選ヒートAGr-レース結果表（貼付）'!$A:$Z,MATCH($B22,'[1]予選ヒートAGr-レース結果表（貼付）'!$B:$B,0),MATCH('予選ヒートAGr-レース結果表'!K$11,'[1]予選ヒートAGr-レース結果表（貼付）'!$1:$1,0)))),"") -> 0.725 | L22: =IFERROR(IF(A22="DNS","",IF(A22="DQ","",INDEX('[1]予選ヒートAGr-レース結果表（貼付）'!$A:$Z,MATCH($B22,'[1]予選ヒートAGr-レース結果表（貼付）'!$B:$B,0),MATCH('予選ヒートAGr-レース結果表'!L$11,'[1]予選ヒートAGr-レース結果表（貼付）'!$1:$1,0)))),"") -> 55.819 | M22: =IF(L22<1,"",IF($M$11>L22,"R","")) | P22: =IF(IFERROR(INDEX('[1]予選ヒートAGr-レース結果表（貼付）'!$A:$Z,MATCH($B22,'[1]予選ヒートAGr-レース結果表（貼付）'!$B:$B,0),MATCH(P$11,'[1]予選ヒートAGr-レース結果表（貼付）'!$1:$1,0)),"")=0,"",IFERROR(INDEX('[1]予選ヒートAGr-レース結果表（貼付）'!$A:$Z,MATCH($B22,'[1]予選ヒートAGr-レース結果表（貼付）'!$B:$B,0),MATCH(P$11,'[1]予選ヒートAGr-レース結果表（貼付）'!$1:$1,0)),"")) | Q22: =IF(P22="","",COUNTIF($P$13:P22,"<>"&"")) | R22: =IFERROR(RANK(Q22,$Q$13:$Q$43,1),"") | S22: =IF(IFERROR(INDEX('[1]予選ヒートAGr-レース結果表（貼付）'!$A:$Z,MATCH($A22,'[1]予選ヒートAGr-レース結果表（貼付）'!$A:$A,0),MATCH(S$11,'[1]予選ヒートAGr-レース結果表（貼付）'!$1:$1,0)),"")=0,"",IFERROR(INDEX('[1]予選ヒートAGr-レース結果表（貼付）'!$A:$Z,MATCH($A22,'[1]予選ヒートAGr-レース結果表（貼付）'!$A:$A,0),MATCH(S$11,'[1]予選ヒートAGr-レース結果表（貼付）'!$1:$1,0)),"")) | U22: =IF(IFERROR(INDEX('[1]予選ヒートAGr-レース結果表（貼付）'!$A:$Z,MATCH($B22,'[1]予選ヒートAGr-レース結果表（貼付）'!$B:$B,0),MATCH(U$11,'[1]予選ヒートAGr-レース結果表（貼付）'!$1:$1,0)),"")=0,"",IFERROR(INDEX('[1]予選ヒートAGr-レース結果表（貼付）'!$A:$Z,MATCH($B22,'[1]予選ヒートAGr-レース結果表（貼付）'!$B:$B,0),MATCH(U$11,'[1]予選ヒートAGr-レース結果表（貼付）'!$1:$1,0)),"")) -> 81.677
A23: =IF(OR('[1]予選ヒートAGr-レース結果表（貼付）'!A12="DNF",'[1]予選ヒートAGr-レース結果表（貼付）'!A12="DNS",'[1]予選ヒートAGr-レース結果表（貼付）'!A12="DQ"),'[1]予選ヒートAGr-レース結果表（貼付）'!A12,IF(MAX('[1]予選ヒートAGr-レース結果表（貼付）'!$A:$A)>A22,A22+1,"")) -> 11 | B23: =IFERROR(INDEX('[1]予選ヒートAGr-レース結果表（貼付）'!A12:$Z$50,MATCH($A23,'[1]予選ヒートAGr-レース結果表（貼付）'!A12:$A$50,0),MATCH('[1]公式予選（TT）①-結果表（印刷）'!B$11,'[1]予選ヒートAGr-レース結果表（貼付）'!$1:$1,0)),"") -> 36 | C23: 11 | D23: =IFERROR(INDEX('[1]予選ヒートAGr-レース結果表（貼付）'!$A:$Z,MATCH($A23,'[1]予選ヒートAGr-レース結果表（貼付）'!$A:$A,0),MATCH('予選ヒートAGr-レース結果表'!D$11,'[1]予選ヒートAGr-レース結果表（貼付）'!$1:$1,0)),"") -> 續木 堂統 | E23: =IFERROR(INDEX('[1]予選ヒートAGr-レース結果表（貼付）'!$A:$Z,MATCH($B23,'[1]予選ヒートAGr-レース結果表（貼付）'!$B:$B,0),MATCH('予選ヒートAGr-レース結果表'!E$11,'[1]予選ヒートAGr-レース結果表（貼付）'!$1:$1,0)),"") -> Praga/YAMAHA | F23: =IFERROR(INDEX('[1]予選ヒートAGr-レース結果表（貼付）'!$A:$Z,MATCH($B23,'[1]予選ヒートAGr-レース結果表（貼付）'!$B:$B,0),MATCH('予選ヒートAGr-レース結果表'!F$11,'[1]予選ヒートAGr-レース結果表（貼付）'!$1:$1,0)),"") -> ガレージC | G23: =IFERROR(INDEX('[1]予選ヒートAGr-レース結果表（貼付）'!$A:$Z,MATCH($B23,'[1]予選ヒートAGr-レース結果表（貼付）'!$B:$B,0),MATCH('予選ヒートAGr-レース結果表'!G$11,'[1]予選ヒートAGr-レース結果表（貼付）'!$1:$1,0)),"") -> BS | H23: =IFERROR(INDEX('[1]予選ヒートAGr-レース結果表（貼付）'!$A:$Z,MATCH($B23,'[1]予選ヒートAGr-レース結果表（貼付）'!$B:$B,0),MATCH('予選ヒートAGr-レース結果表'!H$11,'[1]予選ヒートAGr-レース結果表（貼付）'!$1:$1,0)),"") -> 12 | I23: =INDEX('[1]予選ヒートAGr-レース結果表（貼付）'!$A:$Z,MATCH($B23,'[1]予選ヒートAGr-レース結果表（貼付）'!$B:$B,0),MATCH('予選ヒートAGr-レース結果表'!I$11,'[1]予選ヒートAGr-レース結果表（貼付）'!$1:$1,0)) -> 0.0080057407 | J23: =IFERROR(IF(A23="DNS","",IF(A23="DQ","",INDEX('[1]予選ヒートAGr-レース結果表（貼付）'!$A:$Z,MATCH($B23,'[1]予選ヒートAGr-レース結果表（貼付）'!$B:$B,0),MATCH('予選ヒートAGr-レース結果表'!J$11,'[1]予選ヒートAGr-レース結果表（貼付）'!$1:$1,0)))),"") -> 13.645 | K23: =IFERROR(IF(A23="DNS","",IF(A23="DQ","",INDEX('[1]予選ヒートAGr-レース結果表（貼付）'!$A:$Z,MATCH($B23,'[1]予選ヒートAGr-レース結果表（貼付）'!$B:$B,0),MATCH('予選ヒートAGr-レース結果表'!K$11,'[1]予選ヒートAGr-レース結果表（貼付）'!$1:$1,0)))),"") -> 0.853 | L23: =IFERROR(IF(A23="DNS","",IF(A23="DQ","",INDEX('[1]予選ヒートAGr-レース結果表（貼付）'!$A:$Z,MATCH($B23,'[1]予選ヒートAGr-レース結果表（貼付）'!$B:$B,0),MATCH('予選ヒートAGr-レース結果表'!L$11,'[1]予選ヒートAGr-レース結果表（貼付）'!$1:$1,0)))),"") -> 55.418 | M23: =IF(L23<1,"",IF($M$11>L23,"R","")) | P23: =IF(IFERROR(INDEX('[1]予選ヒートAGr-レース結果表（貼付）'!$A:$Z,MATCH($B23,'[1]予選ヒートAGr-レース結果表（貼付）'!$B:$B,0),MATCH(P$11,'[1]予選ヒートAGr-レース結果表（貼付）'!$1:$1,0)),"")=0,"",IFERROR(INDEX('[1]予選ヒートAGr-レース結果表（貼付）'!$A:$Z,MATCH($B23,'[1]予選ヒートAGr-レース結果表（貼付）'!$B:$B,0),MATCH(P$11,'[1]予選ヒートAGr-レース結果表（貼付）'!$1:$1,0)),"")) | Q23: =IF(P23="","",COUNTIF($P$13:P23,"<>"&"")) | R23: =IFERROR(RANK(Q23,$Q$13:$Q$43,1),"") | S23: =IF(IFERROR(INDEX('[1]予選ヒートAGr-レース結果表（貼付）'!$A:$Z,MATCH($A23,'[1]予選ヒートAGr-レース結果表（貼付）'!$A:$A,0),MATCH(S$11,'[1]予選ヒートAGr-レース結果表（貼付）'!$1:$1,0)),"")=0,"",IFERROR(INDEX('[1]予選ヒートAGr-レース結果表（貼付）'!$A:$Z,MATCH($A23,'[1]予選ヒートAGr-レース結果表（貼付）'!$A:$A,0),MATCH(S$11,'[1]予選ヒートAGr-レース結果表（貼付）'!$1:$1,0)),"")) | U23: =IF(IFERROR(INDEX('[1]予選ヒートAGr-レース結果表（貼付）'!$A:$Z,MATCH($B23,'[1]予選ヒートAGr-レース結果表（貼付）'!$B:$B,0),MATCH(U$11,'[1]予選ヒートAGr-レース結果表（貼付）'!$1:$1,0)),"")=0,"",IFERROR(INDEX('[1]予選ヒートAGr-レース結果表（貼付）'!$A:$Z,MATCH($B23,'[1]予選ヒートAGr-レース結果表（貼付）'!$B:$B,0),MATCH(U$11,'[1]予選ヒートAGr-レース結果表（貼付）'!$1:$1,0)),"")) -> 81.521
A24: =IF(OR('[1]予選ヒートAGr-レース結果表（貼付）'!A13="DNF",'[1]予選ヒートAGr-レース結果表（貼付）'!A13="DNS",'[1]予選ヒートAGr-レース結果表（貼付）'!A13="DQ"),'[1]予選ヒートAGr-レース結果表（貼付）'!A13,IF(MAX('[1]予選ヒートAGr-レース結果表（貼付）'!$A:$A)>A23,A23+1,"")) -> 12 | B24: =IFERROR(INDEX('[1]予選ヒートAGr-レース結果表（貼付）'!A13:$Z$50,MATCH($A24,'[1]予選ヒートAGr-レース結果表（貼付）'!A13:$A$50,0),MATCH('[1]公式予選（TT）①-結果表（印刷）'!B$11,'[1]予選ヒートAGr-レース結果表（貼付）'!$1:$1,0)),"") -> 34 | C24: 12 | D24: =IFERROR(INDEX('[1]予選ヒートAGr-レース結果表（貼付）'!$A:$Z,MATCH($A24,'[1]予選ヒートAGr-レース結果表（貼付）'!$A:$A,0),MATCH('予選ヒートAGr-レース結果表'!D$11,'[1]予選ヒートAGr-レース結果表（貼付）'!$1:$1,0)),"") -> 増田 貴久 | E24: =IFERROR(INDEX('[1]予選ヒートAGr-レース結果表（貼付）'!$A:$Z,MATCH($B24,'[1]予選ヒートAGr-レース結果表（貼付）'!$B:$B,0),MATCH('予選ヒートAGr-レース結果表'!E$11,'[1]予選ヒートAGr-レース結果表（貼付）'!$1:$1,0)),"") -> EXPRIT/YAMAHA | F24: =IFERROR(INDEX('[1]予選ヒートAGr-レース結果表（貼付）'!$A:$Z,MATCH($B24,'[1]予選ヒートAGr-レース結果表（貼付）'!$B:$B,0),MATCH('予選ヒートAGr-レース結果表'!F$11,'[1]予選ヒートAGr-レース結果表（貼付）'!$1:$1,0)),"") -> LUCE MOTOR SPORTS | G24: =IFERROR(INDEX('[1]予選ヒートAGr-レース結果表（貼付）'!$A:$Z,MATCH($B24,'[1]予選ヒートAGr-レース結果表（貼付）'!$B:$B,0),MATCH('予選ヒートAGr-レース結果表'!G$11,'[1]予選ヒートAGr-レース結果表（貼付）'!$1:$1,0)),"") -> BS | H24: =IFERROR(INDEX('[1]予選ヒートAGr-レース結果表（貼付）'!$A:$Z,MATCH($B24,'[1]予選ヒートAGr-レース結果表（貼付）'!$B:$B,0),MATCH('予選ヒートAGr-レース結果表'!H$11,'[1]予選ヒートAGr-レース結果表（貼付）'!$1:$1,0)),"") -> 12 | I24: =INDEX('[1]予選ヒートAGr-レース結果表（貼付）'!$A:$Z,MATCH($B24,'[1]予選ヒートAGr-レース結果表（貼付）'!$B:$B,0),MATCH('予選ヒートAGr-レース結果表'!I$11,'[1]予選ヒートAGr-レース結果表（貼付）'!$1:$1,0)) -> 0.0080097917 | J24: =IFERROR(IF(A24="DNS","",IF(A24="DQ","",INDEX('[1]予選ヒートAGr-レース結果表（貼付）'!$A:$Z,MATCH($B24,'[1]予選ヒートAGr-レース結果表（貼付）'!$B:$B,0),MATCH('予選ヒートAGr-レース結果表'!J$11,'[1]予選ヒートAGr-レース結果表（貼付）'!$1:$1,0)))),"") -> 13.995 | K24: =IFERROR(IF(A24="DNS","",IF(A24="DQ","",INDEX('[1]予選ヒートAGr-レース結果表（貼付）'!$A:$Z,MATCH($B24,'[1]予選ヒートAGr-レース結果表（貼付）'!$B:$B,0),MATCH('予選ヒートAGr-レース結果表'!K$11,'[1]予選ヒートAGr-レース結果表（貼付）'!$1:$1,0)))),"") -> 0.35 | L24: =IFERROR(IF(A24="DNS","",IF(A24="DQ","",INDEX('[1]予選ヒートAGr-レース結果表（貼付）'!$A:$Z,MATCH($B24,'[1]予選ヒートAGr-レース結果表（貼付）'!$B:$B,0),MATCH('予選ヒートAGr-レース結果表'!L$11,'[1]予選ヒートAGr-レース結果表（貼付）'!$1:$1,0)))),"") -> 55.636 | M24: =IF(L24<1,"",IF($M$11>L24,"R","")) | P24: =IF(IFERROR(INDEX('[1]予選ヒートAGr-レース結果表（貼付）'!$A:$Z,MATCH($B24,'[1]予選ヒートAGr-レース結果表（貼付）'!$B:$B,0),MATCH(P$11,'[1]予選ヒートAGr-レース結果表（貼付）'!$1:$1,0)),"")=0,"",IFERROR(INDEX('[1]予選ヒートAGr-レース結果表（貼付）'!$A:$Z,MATCH($B24,'[1]予選ヒートAGr-レース結果表（貼付）'!$B:$B,0),MATCH(P$11,'[1]予選ヒートAGr-レース結果表（貼付）'!$1:$1,0)),"")) | Q24: =IF(P24="","",COUNTIF($P$13:P24,"<>"&"")) | R24: =IFERROR(RANK(Q24,$Q$13:$Q$43,1),"") | S24: =IF(IFERROR(INDEX('[1]予選ヒートAGr-レース結果表（貼付）'!$A:$Z,MATCH($A24,'[1]予選ヒートAGr-レース結果表（貼付）'!$A:$A,0),MATCH(S$11,'[1]予選ヒートAGr-レース結果表（貼付）'!$1:$1,0)),"")=0,"",IFERROR(INDEX('[1]予選ヒートAGr-レース結果表（貼付）'!$A:$Z,MATCH($A24,'[1]予選ヒートAGr-レース結果表（貼付）'!$A:$A,0),MATCH(S$11,'[1]予選ヒートAGr-レース結果表（貼付）'!$1:$1,0)),"")) | U24: =IF(IFERROR(INDEX('[1]予選ヒートAGr-レース結果表（貼付）'!$A:$Z,MATCH($B24,'[1]予選ヒートAGr-レース結果表（貼付）'!$B:$B,0),MATCH(U$11,'[1]予選ヒートAGr-レース結果表（貼付）'!$1:$1,0)),"")=0,"",IFERROR(INDEX('[1]予選ヒートAGr-レース結果表（貼付）'!$A:$Z,MATCH($B24,'[1]予選ヒートAGr-レース結果表（貼付）'!$B:$B,0),MATCH(U$11,'[1]予選ヒートAGr-レース結果表（貼付）'!$1:$1,0)),"")) -> 82.111
A25: =IF(OR('[1]予選ヒートAGr-レース結果表（貼付）'!A14="DNF",'[1]予選ヒートAGr-レース結果表（貼付）'!A14="DNS",'[1]予選ヒートAGr-レース結果表（貼付）'!A14="DQ"),'[1]予選ヒートAGr-レース結果表（貼付）'!A14,IF(MAX('[1]予選ヒートAGr-レース結果表（貼付）'!$A:$A)>A24,A24+1,"")) -> 13 | B25: =IFERROR(INDEX('[1]予選ヒートAGr-レース結果表（貼付）'!A14:$Z$50,MATCH($A25,'[1]予選ヒートAGr-レース結果表（貼付）'!A14:$A$50,0),MATCH('[1]公式予選（TT）①-結果表（印刷）'!B$11,'[1]予選ヒートAGr-レース結果表（貼付）'!$1:$1,0)),"") -> 22 | C25: 13 | D25: =IFERROR(INDEX('[1]予選ヒートAGr-レース結果表（貼付）'!$A:$Z,MATCH($A25,'[1]予選ヒートAGr-レース結果表（貼付）'!$A:$A,0),MATCH('予選ヒートAGr-レース結果表'!D$11,'[1]予選ヒートAGr-レース結果表（貼付）'!$1:$1,0)),"") -> 酒井 翔太 | E25: =IFERROR(INDEX('[1]予選ヒートAGr-レース結果表（貼付）'!$A:$Z,MATCH($B25,'[1]予選ヒートAGr-レース結果表（貼付）'!$B:$B,0),MATCH('予選ヒートAGr-レース結果表'!E$11,'[1]予選ヒートAGr-レース結果表（貼付）'!$1:$1,0)),"") -> TONY KART/YAMAHA | F25: =IFERROR(INDEX('[1]予選ヒートAGr-レース結果表（貼付）'!$A:$Z,MATCH($B25,'[1]予選ヒートAGr-レース結果表（貼付）'!$B:$B,0),MATCH('予選ヒートAGr-レース結果表'!F$11,'[1]予選ヒートAGr-レース結果表（貼付）'!$1:$1,0)),"") -> FIRST GARAGE BEMAX | G25: =IFERROR(INDEX('[1]予選ヒートAGr-レース結果表（貼付）'!$A:$Z,MATCH($B25,'[1]予選ヒートAGr-レース結果表（貼付）'!$B:$B,0),MATCH('予選ヒートAGr-レース結果表'!G$11,'[1]予選ヒートAGr-レース結果表（貼付）'!$1:$1,0)),"") -> BS | H25: =IFERROR(INDEX('[1]予選ヒートAGr-レース結果表（貼付）'!$A:$Z,MATCH($B25,'[1]予選ヒートAGr-レース結果表（貼付）'!$B:$B,0),MATCH('予選ヒートAGr-レース結果表'!H$11,'[1]予選ヒートAGr-レース結果表（貼付）'!$1:$1,0)),"") -> 12 | I25: =INDEX('[1]予選ヒートAGr-レース結果表（貼付）'!$A:$Z,MATCH($B25,'[1]予選ヒートAGr-レース結果表（貼付）'!$B:$B,0),MATCH('予選ヒートAGr-レース結果表'!I$11,'[1]予選ヒートAGr-レース結果表（貼付）'!$1:$1,0)) -> 0.008016794 | J25: =IFERROR(IF(A25="DNS","",IF(A25="DQ","",INDEX('[1]予選ヒートAGr-レース結果表（貼付）'!$A:$Z,MATCH($B25,'[1]予選ヒートAGr-レース結果表（貼付）'!$B:$B,0),MATCH('予選ヒートAGr-レース結果表'!J$11,'[1]予選ヒートAGr-レース結果表（貼付）'!$1:$1,0)))),"") -> 14.6 | K25: =IFERROR(IF(A25="DNS","",IF(A25="DQ","",INDEX('[1]予選ヒートAGr-レース結果表（貼付）'!$A:$Z,MATCH($B25,'[1]予選ヒートAGr-レース結果表（貼付）'!$B:$B,0),MATCH('予選ヒートAGr-レース結果表'!K$11,'[1]予選ヒートAGr-レース結果表（貼付）'!$1:$1,0)))),"") -> 0.605 | L25: =IFERROR(IF(A25="DNS","",IF(A25="DQ","",INDEX('[1]予選ヒートAGr-レース結果表（貼付）'!$A:$Z,MATCH($B25,'[1]予選ヒートAGr-レース結果表（貼付）'!$B:$B,0),MATCH('予選ヒートAGr-レース結果表'!L$11,'[1]予選ヒートAGr-レース結果表（貼付）'!$1:$1,0)))),"") -> 55.414 | M25: =IF(L25<1,"",IF($M$11>L25,"R","")) | P25: =IF(IFERROR(INDEX('[1]予選ヒートAGr-レース結果表（貼付）'!$A:$Z,MATCH($B25,'[1]予選ヒートAGr-レース結果表（貼付）'!$B:$B,0),MATCH(P$11,'[1]予選ヒートAGr-レース結果表（貼付）'!$1:$1,0)),"")=0,"",IFERROR(INDEX('[1]予選ヒートAGr-レース結果表（貼付）'!$A:$Z,MATCH($B25,'[1]予選ヒートAGr-レース結果表（貼付）'!$B:$B,0),MATCH(P$11,'[1]予選ヒートAGr-レース結果表（貼付）'!$1:$1,0)),"")) | Q25: =IF(P25="","",COUNTIF($P$13:P25,"<>"&"")) | R25: =IFERROR(RANK(Q25,$Q$13:$Q$43,1),"") | S25: =IF(IFERROR(INDEX('[1]予選ヒートAGr-レース結果表（貼付）'!$A:$Z,MATCH($A25,'[1]予選ヒートAGr-レース結果表（貼付）'!$A:$A,0),MATCH(S$11,'[1]予選ヒートAGr-レース結果表（貼付）'!$1:$1,0)),"")=0,"",IFERROR(INDEX('[1]予選ヒートAGr-レース結果表（貼付）'!$A:$Z,MATCH($A25,'[1]予選ヒートAGr-レース結果表（貼付）'!$A:$A,0),MATCH(S$11,'[1]予選ヒートAGr-レース結果表（貼付）'!$1:$1,0)),"")) | U25: =IF(IFERROR(INDEX('[1]予選ヒートAGr-レース結果表（貼付）'!$A:$Z,MATCH($B25,'[1]予選ヒートAGr-レース結果表（貼付）'!$B:$B,0),MATCH(U$11,'[1]予選ヒートAGr-レース結果表（貼付）'!$1:$1,0)),"")=0,"",IFERROR(INDEX('[1]予選ヒートAGr-レース結果表（貼付）'!$A:$Z,MATCH($B25,'[1]予選ヒートAGr-レース結果表（貼付）'!$B:$B,0),MATCH(U$11,'[1]予選ヒートAGr-レース結果表（貼付）'!$1:$1,0)),"")) -> 81.789
A26: =IF(OR('[1]予選ヒートAGr-レース結果表（貼付）'!A15="DNF",'[1]予選ヒートAGr-レース結果表（貼付）'!A15="DNS",'[1]予選ヒートAGr-レース結果表（貼付）'!A15="DQ"),'[1]予選ヒートAGr-レース結果表（貼付）'!A15,IF(MAX('[1]予選ヒートAGr-レース結果表（貼付）'!$A:$A)>A25,A25+1,"")) -> 14 | B26: =IFERROR(INDEX('[1]予選ヒートAGr-レース結果表（貼付）'!A15:$Z$50,MATCH($A26,'[1]予選ヒートAGr-レース結果表（貼付）'!A15:$A$50,0),MATCH('[1]公式予選（TT）①-結果表（印刷）'!B$11,'[1]予選ヒートAGr-レース結果表（貼付）'!$1:$1,0)),"") -> 57 | C26: 14 | D26: =IFERROR(INDEX('[1]予選ヒートAGr-レース結果表（貼付）'!$A:$Z,MATCH($A26,'[1]予選ヒートAGr-レース結果表（貼付）'!$A:$A,0),MATCH('予選ヒートAGr-レース結果表'!D$11,'[1]予選ヒートAGr-レース結果表（貼付）'!$1:$1,0)),"") -> 米林 慶晃 | E26: =IFERROR(INDEX('[1]予選ヒートAGr-レース結果表（貼付）'!$A:$Z,MATCH($B26,'[1]予選ヒートAGr-レース結果表（貼付）'!$B:$B,0),MATCH('予選ヒートAGr-レース結果表'!E$11,'[1]予選ヒートAGr-レース結果表（貼付）'!$1:$1,0)),"") -> EXPRIT/YAMAHA | F26: =IFERROR(INDEX('[1]予選ヒートAGr-レース結果表（貼付）'!$A:$Z,MATCH($B26,'[1]予選ヒートAGr-レース結果表（貼付）'!$B:$B,0),MATCH('予選ヒートAGr-レース結果表'!F$11,'[1]予選ヒートAGr-レース結果表（貼付）'!$1:$1,0)),"") -> REON RACING TEAM | G26: =IFERROR(INDEX('[1]予選ヒートAGr-レース結果表（貼付）'!$A:$Z,MATCH($B26,'[1]予選ヒートAGr-レース結果表（貼付）'!$B:$B,0),MATCH('予選ヒートAGr-レース結果表'!G$11,'[1]予選ヒートAGr-レース結果表（貼付）'!$1:$1,0)),"") -> BS | H26: =IFERROR(INDEX('[1]予選ヒートAGr-レース結果表（貼付）'!$A:$Z,MATCH($B26,'[1]予選ヒートAGr-レース結果表（貼付）'!$B:$B,0),MATCH('予選ヒートAGr-レース結果表'!H$11,'[1]予選ヒートAGr-レース結果表（貼付）'!$1:$1,0)),"") -> 12 | I26: =INDEX('[1]予選ヒートAGr-レース結果表（貼付）'!$A:$Z,MATCH($B26,'[1]予選ヒートAGr-レース結果表（貼付）'!$B:$B,0),MATCH('予選ヒートAGr-レース結果表'!I$11,'[1]予選ヒートAGr-レース結果表（貼付）'!$1:$1,0)) -> 0.0080175231 | J26: =IFERROR(IF(A26="DNS","",IF(A26="DQ","",INDEX('[1]予選ヒートAGr-レース結果表（貼付）'!$A:$Z,MATCH($B26,'[1]予選ヒートAGr-レース結果表（貼付）'!$B:$B,0),MATCH('予選ヒートAGr-レース結果表'!J$11,'[1]予選ヒートAGr-レース結果表（貼付）'!$1:$1,0)))),"") -> 14.663 | K26: =IFERROR(IF(A26="DNS","",IF(A26="DQ","",INDEX('[1]予選ヒートAGr-レース結果表（貼付）'!$A:$Z,MATCH($B26,'[1]予選ヒートAGr-レース結果表（貼付）'!$B:$B,0),MATCH('予選ヒートAGr-レース結果表'!K$11,'[1]予選ヒートAGr-レース結果表（貼付）'!$1:$1,0)))),"") -> 0.063 | L26: =IFERROR(IF(A26="DNS","",IF(A26="DQ","",INDEX('[1]予選ヒートAGr-レース結果表（貼付）'!$A:$Z,MATCH($B26,'[1]予選ヒートAGr-レース結果表（貼付）'!$B:$B,0),MATCH('予選ヒートAGr-レース結果表'!L$11,'[1]予選ヒートAGr-レース結果表（貼付）'!$1:$1,0)))),"") -> 55.349 | M26: =IF(L26<1,"",IF($M$11>L26,"R","")) | P26: =IF(IFERROR(INDEX('[1]予選ヒートAGr-レース結果表（貼付）'!$A:$Z,MATCH($B26,'[1]予選ヒートAGr-レース結果表（貼付）'!$B:$B,0),MATCH(P$11,'[1]予選ヒートAGr-レース結果表（貼付）'!$1:$1,0)),"")=0,"",IFERROR(INDEX('[1]予選ヒートAGr-レース結果表（貼付）'!$A:$Z,MATCH($B26,'[1]予選ヒートAGr-レース結果表（貼付）'!$B:$B,0),MATCH(P$11,'[1]予選ヒートAGr-レース結果表（貼付）'!$1:$1,0)),"")) | Q26: =IF(P26="","",COUNTIF($P$13:P26,"<>"&"")) | R26: =IFERROR(RANK(Q26,$Q$13:$Q$43,1),"") | S26: =IF(IFERROR(INDEX('[1]予選ヒートAGr-レース結果表（貼付）'!$A:$Z,MATCH($A26,'[1]予選ヒートAGr-レース結果表（貼付）'!$A:$A,0),MATCH(S$11,'[1]予選ヒートAGr-レース結果表（貼付）'!$1:$1,0)),"")=0,"",IFERROR(INDEX('[1]予選ヒートAGr-レース結果表（貼付）'!$A:$Z,MATCH($A26,'[1]予選ヒートAGr-レース結果表（貼付）'!$A:$A,0),MATCH(S$11,'[1]予選ヒートAGr-レース結果表（貼付）'!$1:$1,0)),"")) | U26: =IF(IFERROR(INDEX('[1]予選ヒートAGr-レース結果表（貼付）'!$A:$Z,MATCH($B26,'[1]予選ヒートAGr-レース結果表（貼付）'!$B:$B,0),MATCH(U$11,'[1]予選ヒートAGr-レース結果表（貼付）'!$1:$1,0)),"")=0,"",IFERROR(INDEX('[1]予選ヒートAGr-レース結果表（貼付）'!$A:$Z,MATCH($B26,'[1]予選ヒートAGr-レース結果表（貼付）'!$B:$B,0),MATCH(U$11,'[1]予選ヒートAGr-レース結果表（貼付）'!$1:$1,0)),"")) -> 82.116
A27: =IF(OR('[1]予選ヒートAGr-レース結果表（貼付）'!A16="DNF",'[1]予選ヒートAGr-レース結果表（貼付）'!A16="DNS",'[1]予選ヒートAGr-レース結果表（貼付）'!A16="DQ"),'[1]予選ヒートAGr-レース結果表（貼付）'!A16,IF(MAX('[1]予選ヒートAGr-レース結果表（貼付）'!$A:$A)>A26,A26+1,"")) -> 15 | B27: =IFERROR(INDEX('[1]予選ヒートAGr-レース結果表（貼付）'!A16:$Z$50,MATCH($A27,'[1]予選ヒートAGr-レース結果表（貼付）'!A16:$A$50,0),MATCH('[1]公式予選（TT）①-結果表（印刷）'!B$11,'[1]予選ヒートAGr-レース結果表（貼付）'!$1:$1,0)),"") -> 71 | C27: 15 | D27: =IFERROR(INDEX('[1]予選ヒートAGr-レース結果表（貼付）'!$A:$Z,MATCH($B27,'[1]予選ヒートAGr-レース結果表（貼付）'!$B:$B,0),MATCH('予選ヒートAGr-レース結果表'!D$11,'[1]予選ヒートAGr-レース結果表（貼付）'!$1:$1,0)),"") -> 上田 優季 | E27: =IFERROR(INDEX('[1]予選ヒートAGr-レース結果表（貼付）'!$A:$Z,MATCH($B27,'[1]予選ヒートAGr-レース結果表（貼付）'!$B:$B,0),MATCH('予選ヒートAGr-レース結果表'!E$11,'[1]予選ヒートAGr-レース結果表（貼付）'!$1:$1,0)),"") -> CL/YAMAHA | F27: =IFERROR(INDEX('[1]予選ヒートAGr-レース結果表（貼付）'!$A:$Z,MATCH($B27,'[1]予選ヒートAGr-レース結果表（貼付）'!$B:$B,0),MATCH('予選ヒートAGr-レース結果表'!F$11,'[1]予選ヒートAGr-レース結果表（貼付）'!$1:$1,0)),"") -> カートガレージクラッシュメイト | G27: =IFERROR(INDEX('[1]予選ヒートAGr-レース結果表（貼付）'!$A:$Z,MATCH($B27,'[1]予選ヒートAGr-レース結果表（貼付）'!$B:$B,0),MATCH('予選ヒートAGr-レース結果表'!G$11,'[1]予選ヒートAGr-レース結果表（貼付）'!$1:$1,0)),"") -> BS | H27: =IFERROR(IF(A27="DNS","",IF(A27="DQ","",INDEX('[1]予選ヒートAGr-レース結果表（貼付）'!$A:$Z,MATCH($B27,'[1]予選ヒートAGr-レース結果表（貼付）'!$B:$B,0),MATCH('予選ヒートAGr-レース結果表'!H$11,'[1]予選ヒートAGr-レース結果表（貼付）'!$1:$1,0)))),"") -> 12 | I27: =IFERROR(IF(A27="DNS","ｽﾀｰﾄ出来ず",IF(A27="DQ","失 格",INDEX('[1]予選ヒートAGr-レース結果表（貼付）'!$A:$Z,MATCH($B27,'[1]予選ヒートAGr-レース結果表（貼付）'!$B:$B,0),MATCH('予選ヒートAGr-レース結果表'!I$11,'[1]予選ヒートAGr-レース結果表（貼付）'!$1:$1,0)))),"") -> 0.0080208912 | J27: =IFERROR(IF(A27="DNS","",IF(A27="DQ","",INDEX('[1]予選ヒートAGr-レース結果表（貼付）'!$A:$Z,MATCH($B27,'[1]予選ヒートAGr-レース結果表（貼付）'!$B:$B,0),MATCH('予選ヒートAGr-レース結果表'!J$11,'[1]予選ヒートAGr-レース結果表（貼付）'!$1:$1,0)))),"") -> 14.954 | K27: =IFERROR(IF(A27="DNS","",IF(A27="DQ","",INDEX('[1]予選ヒートAGr-レース結果表（貼付）'!$A:$Z,MATCH($B27,'[1]予選ヒートAGr-レース結果表（貼付）'!$B:$B,0),MATCH('予選ヒートAGr-レース結果表'!K$11,'[1]予選ヒートAGr-レース結果表（貼付）'!$1:$1,0)))),"") -> 0.291 | L27: =IFERROR(IF(A27="DNS","",IF(A27="DQ","",INDEX('[1]予選ヒートAGr-レース結果表（貼付）'!$A:$Z,MATCH($B27,'[1]予選ヒートAGr-レース結果表（貼付）'!$B:$B,0),MATCH('予選ヒートAGr-レース結果表'!L$11,'[1]予選ヒートAGr-レース結果表（貼付）'!$1:$1,0)))),"") -> 55.614 | M27: =IF(L27<1,"",IF($M$11>L27,"R","")) | P27: =IF(IFERROR(INDEX('[1]予選ヒートAGr-レース結果表（貼付）'!$A:$Z,MATCH($B27,'[1]予選ヒートAGr-レース結果表（貼付）'!$B:$B,0),MATCH(P$11,'[1]予選ヒートAGr-レース結果表（貼付）'!$1:$1,0)),"")=0,"",IFERROR(INDEX('[1]予選ヒートAGr-レース結果表（貼付）'!$A:$Z,MATCH($B27,'[1]予選ヒートAGr-レース結果表（貼付）'!$B:$B,0),MATCH(P$11,'[1]予選ヒートAGr-レース結果表（貼付）'!$1:$1,0)),"")) | Q27: =IF(P27="","",COUNTIF($P$13:P27,"<>"&"")) | R27: =IFERROR(RANK(Q27,$Q$13:$Q$43,1),"") | S27: =IF(IFERROR(INDEX('[1]予選ヒートAGr-レース結果表（貼付）'!$A:$Z,MATCH($A27,'[1]予選ヒートAGr-レース結果表（貼付）'!$A:$A,0),MATCH(S$11,'[1]予選ヒートAGr-レース結果表（貼付）'!$1:$1,0)),"")=0,"",IFERROR(INDEX('[1]予選ヒートAGr-レース結果表（貼付）'!$A:$Z,MATCH($A27,'[1]予選ヒートAGr-レース結果表（貼付）'!$A:$A,0),MATCH(S$11,'[1]予選ヒートAGr-レース結果表（貼付）'!$1:$1,0)),"")) | U27: =IF(IFERROR(INDEX('[1]予選ヒートAGr-レース結果表（貼付）'!$A:$Z,MATCH($B27,'[1]予選ヒートAGr-レース結果表（貼付）'!$B:$B,0),MATCH(U$11,'[1]予選ヒートAGr-レース結果表（貼付）'!$1:$1,0)),"")=0,"",IFERROR(INDEX('[1]予選ヒートAGr-レース結果表（貼付）'!$A:$Z,MATCH($B27,'[1]予選ヒートAGr-レース結果表（貼付）'!$B:$B,0),MATCH(U$11,'[1]予選ヒートAGr-レース結果表（貼付）'!$1:$1,0)),"")) -> 82.213
A28: =IF(OR('[1]予選ヒートAGr-レース結果表（貼付）'!A17="DNF",'[1]予選ヒートAGr-レース結果表（貼付）'!A17="DNS",'[1]予選ヒートAGr-レース結果表（貼付）'!A17="DQ"),'[1]予選ヒートAGr-レース結果表（貼付）'!A17,IF(MAX('[1]予選ヒートAGr-レース結果表（貼付）'!$A:$A)>A27,A27+1,"")) -> 16 | B28: =IFERROR(INDEX('[1]予選ヒートAGr-レース結果表（貼付）'!A17:$Z$50,MATCH($A28,'[1]予選ヒートAGr-レース結果表（貼付）'!A17:$A$50,0),MATCH('[1]公式予選（TT）①-結果表（印刷）'!B$11,'[1]予選ヒートAGr-レース結果表（貼付）'!$1:$1,0)),"") -> 27 | C28: 16 | D28: =IFERROR(INDEX('[1]予選ヒートAGr-レース結果表（貼付）'!$A:$Z,MATCH($B28,'[1]予選ヒートAGr-レース結果表（貼付）'!$B:$B,0),MATCH('予選ヒートAGr-レース結果表'!D$11,'[1]予選ヒートAGr-レース結果表（貼付）'!$1:$1,0)),"") -> 舟橋 弘典 | E28: =IFERROR(INDEX('[1]予選ヒートAGr-レース結果表（貼付）'!$A:$Z,MATCH($B28,'[1]予選ヒートAGr-レース結果表（貼付）'!$B:$B,0),MATCH('予選ヒートAGr-レース結果表'!E$11,'[1]予選ヒートAGr-レース結果表（貼付）'!$1:$1,0)),"") -> KOSMIC/YAMAHA | F28: =IFERROR(INDEX('[1]予選ヒートAGr-レース結果表（貼付）'!$A:$Z,MATCH($B28,'[1]予選ヒートAGr-レース結果表（貼付）'!$B:$B,0),MATCH('予選ヒートAGr-レース結果表'!F$11,'[1]予選ヒートAGr-レース結果表（貼付）'!$1:$1,0)),"") -> HIRAIPROJECT With Ash | G28: =IFERROR(INDEX('[1]予選ヒートAGr-レース結果表（貼付）'!$A:$Z,MATCH($B28,'[1]予選ヒートAGr-レース結果表（貼付）'!$B:$B,0),MATCH('予選ヒートAGr-レース結果表'!G$11,'[1]予選ヒートAGr-レース結果表（貼付）'!$1:$1,0)),"") -> BS | H28: =IFERROR(IF(A28="DNS","",IF(A28="DQ","",INDEX('[1]予選ヒートAGr-レース結果表（貼付）'!$A:$Z,MATCH($B28,'[1]予選ヒートAGr-レース結果表（貼付）'!$B:$B,0),MATCH('予選ヒートAGr-レース結果表'!H$11,'[1]予選ヒートAGr-レース結果表（貼付）'!$1:$1,0)))),"") -> 12 | I28: =IFERROR(IF(A28="DNS","ｽﾀｰﾄ出来ず",IF(A28="DQ","失 格",INDEX('[1]予選ヒートAGr-レース結果表（貼付）'!$A:$Z,MATCH($B28,'[1]予選ヒートAGr-レース結果表（貼付）'!$B:$B,0),MATCH('予選ヒートAGr-レース結果表'!I$11,'[1]予選ヒートAGr-レース結果表（貼付）'!$1:$1,0)))),"") -> 0.0080371991 | J28: =IFERROR(IF(A28="DNS","",IF(A28="DQ","",INDEX('[1]予選ヒートAGr-レース結果表（貼付）'!$A:$Z,MATCH($B28,'[1]予選ヒートAGr-レース結果表（貼付）'!$B:$B,0),MATCH('予選ヒートAGr-レース結果表'!J$11,'[1]予選ヒートAGr-レース結果表（貼付）'!$1:$1,0)))),"") -> 16.363 | K28: =IFERROR(IF(A28="DNS","",IF(A28="DQ","",INDEX('[1]予選ヒートAGr-レース結果表（貼付）'!$A:$Z,MATCH($B28,'[1]予選ヒートAGr-レース結果表（貼付）'!$B:$B,0),MATCH('予選ヒートAGr-レース結果表'!K$11,'[1]予選ヒートAGr-レース結果表（貼付）'!$1:$1,0)))),"") -> 1.409 | L28: =IFERROR(IF(A28="DNS","",IF(A28="DQ","",INDEX('[1]予選ヒートAGr-レース結果表（貼付）'!$A:$Z,MATCH($B28,'[1]予選ヒートAGr-レース結果表（貼付）'!$B:$B,0),MATCH('予選ヒートAGr-レース結果表'!L$11,'[1]予選ヒートAGr-レース結果表（貼付）'!$1:$1,0)))),"") -> 55.589 | M28: =IF(L28<1,"",IF($M$11>L28,"R","")) | P28: =IF(IFERROR(INDEX('[1]予選ヒートAGr-レース結果表（貼付）'!$A:$Z,MATCH($B28,'[1]予選ヒートAGr-レース結果表（貼付）'!$B:$B,0),MATCH(P$11,'[1]予選ヒートAGr-レース結果表（貼付）'!$1:$1,0)),"")=0,"",IFERROR(INDEX('[1]予選ヒートAGr-レース結果表（貼付）'!$A:$Z,MATCH($B28,'[1]予選ヒートAGr-レース結果表（貼付）'!$B:$B,0),MATCH(P$11,'[1]予選ヒートAGr-レース結果表（貼付）'!$1:$1,0)),"")) -> 全日本カート選手権統一規則書 第38条(25)(フロントフェアリングが正しい装着状態でない)により5秒加算した。 | Q28: =IF(P28="","",COUNTIF($P$13:P28,"<>"&"")) -> 16 | R28: =IFERROR(RANK(Q28,$Q$13:$Q$43,1),"") -> 1 | S28: =IF(IFERROR(INDEX('[1]予選ヒートAGr-レース結果表（貼付）'!$A:$Z,MATCH($A28,'[1]予選ヒートAGr-レース結果表（貼付）'!$A:$A,0),MATCH(S$11,'[1]予選ヒートAGr-レース結果表（貼付）'!$1:$1,0)),"")=0,"",IFERROR(INDEX('[1]予選ヒートAGr-レース結果表（貼付）'!$A:$Z,MATCH($A28,'[1]予選ヒートAGr-レース結果表（貼付）'!$A:$A,0),MATCH(S$11,'[1]予選ヒートAGr-レース結果表（貼付）'!$1:$1,0)),"")) | U28: =IF(IFERROR(INDEX('[1]予選ヒートAGr-レース結果表（貼付）'!$A:$Z,MATCH($B28,'[1]予選ヒートAGr-レース結果表（貼付）'!$B:$B,0),MATCH(U$11,'[1]予選ヒートAGr-レース結果表（貼付）'!$1:$1,0)),"")=0,"",IFERROR(INDEX('[1]予選ヒートAGr-レース結果表（貼付）'!$A:$Z,MATCH($B28,'[1]予選ヒートAGr-レース結果表（貼付）'!$B:$B,0),MATCH(U$11,'[1]予選ヒートAGr-レース結果表（貼付）'!$1:$1,0)),"")) -> 81.821
A29: =IF(OR('[1]予選ヒートAGr-レース結果表（貼付）'!A18="DNF",'[1]予選ヒートAGr-レース結果表（貼付）'!A18="DNS",'[1]予選ヒートAGr-レース結果表（貼付）'!A18="DQ"),'[1]予選ヒートAGr-レース結果表（貼付）'!A18,IF(MAX('[1]予選ヒートAGr-レース結果表（貼付）'!$A:$A)>A28,A28+1,"")) -> 17 | B29: =IFERROR(INDEX('[1]予選ヒートAGr-レース結果表（貼付）'!A18:$Z$50,MATCH($A29,'[1]予選ヒートAGr-レース結果表（貼付）'!A18:$A$50,0),MATCH('[1]公式予選（TT）①-結果表（印刷）'!B$11,'[1]予選ヒートAGr-レース結果表（貼付）'!$1:$1,0)),"") -> 16 | C29: 17 | D29: =IFERROR(INDEX('[1]予選ヒートAGr-レース結果表（貼付）'!$A:$Z,MATCH($B29,'[1]予選ヒートAGr-レース結果表（貼付）'!$B:$B,0),MATCH('予選ヒートAGr-レース結果表'!D$11,'[1]予選ヒートAGr-レース結果表（貼付）'!$1:$1,0)),"") -> 佐藤 こころ | E29: =IFERROR(INDEX('[1]予選ヒートAGr-レース結果表（貼付）'!$A:$Z,MATCH($B29,'[1]予選ヒートAGr-レース結果表（貼付）'!$B:$B,0),MATCH('予選ヒートAGr-レース結果表'!E$11,'[1]予選ヒートAGr-レース結果表（貼付）'!$1:$1,0)),"") -> EXPRIT/YAMAHA | F29: =IFERROR(INDEX('[1]予選ヒートAGr-レース結果表（貼付）'!$A:$Z,MATCH($B29,'[1]予選ヒートAGr-レース結果表（貼付）'!$B:$B,0),MATCH('予選ヒートAGr-レース結果表'!F$11,'[1]予選ヒートAGr-レース結果表（貼付）'!$1:$1,0)),"") -> チームナガオ | G29: =IFERROR(INDEX('[1]予選ヒートAGr-レース結果表（貼付）'!$A:$Z,MATCH($B29,'[1]予選ヒートAGr-レース結果表（貼付）'!$B:$B,0),MATCH('予選ヒートAGr-レース結果表'!G$11,'[1]予選ヒートAGr-レース結果表（貼付）'!$1:$1,0)),"") -> BS | H29: =IFERROR(IF(A29="DNS","",IF(A29="DQ","",INDEX('[1]予選ヒートAGr-レース結果表（貼付）'!$A:$Z,MATCH($B29,'[1]予選ヒートAGr-レース結果表（貼付）'!$B:$B,0),MATCH('予選ヒートAGr-レース結果表'!H$11,'[1]予選ヒートAGr-レース結果表（貼付）'!$1:$1,0)))),"") -> 6 | I29: =IFERROR(IF(A29="DNS","ｽﾀｰﾄ出来ず",IF(A29="DQ","失 格",INDEX('[1]予選ヒートAGr-レース結果表（貼付）'!$A:$Z,MATCH($B29,'[1]予選ヒートAGr-レース結果表（貼付）'!$B:$B,0),MATCH('予選ヒートAGr-レース結果表'!I$11,'[1]予選ヒートAGr-レース結果表（貼付）'!$1:$1,0)))),"") -> 0.004205081 | J29: =IFERROR(IF(A29="DNS","",IF(A29="DQ","",INDEX('[1]予選ヒートAGr-レース結果表（貼付）'!$A:$Z,MATCH($B29,'[1]予選ヒートAGr-レース結果表（貼付）'!$B:$B,0),MATCH('予選ヒートAGr-レース結果表'!J$11,'[1]予選ヒートAGr-レース結果表（貼付）'!$1:$1,0)))),"") -> 6 Laps | K29: =IFERROR(IF(A29="DNS","",IF(A29="DQ","",INDEX('[1]予選ヒートAGr-レース結果表（貼付）'!$A:$Z,MATCH($B29,'[1]予選ヒートAGr-レース結果表（貼付）'!$B:$B,0),MATCH('予選ヒートAGr-レース結果表'!K$11,'[1]予選ヒートAGr-レース結果表（貼付）'!$1:$1,0)))),"") -> 6 Laps | L29: =IFERROR(IF(A29="DNS","",IF(A29="DQ","",INDEX('[1]予選ヒートAGr-レース結果表（貼付）'!$A:$Z,MATCH($B29,'[1]予選ヒートAGr-レース結果表（貼付）'!$B:$B,0),MATCH('予選ヒートAGr-レース結果表'!L$11,'[1]予選ヒートAGr-レース結果表（貼付）'!$1:$1,0)))),"") -> 56.699 | M29: =IF(L29<1,"",IF($M$11>L29,"R","")) | P29: =IF(IFERROR(INDEX('[1]予選ヒートAGr-レース結果表（貼付）'!$A:$Z,MATCH($B29,'[1]予選ヒートAGr-レース結果表（貼付）'!$B:$B,0),MATCH(P$11,'[1]予選ヒートAGr-レース結果表（貼付）'!$1:$1,0)),"")=0,"",IFERROR(INDEX('[1]予選ヒートAGr-レース結果表（貼付）'!$A:$Z,MATCH($B29,'[1]予選ヒートAGr-レース結果表（貼付）'!$B:$B,0),MATCH(P$11,'[1]予選ヒートAGr-レース結果表（貼付）'!$1:$1,0)),"")) | Q29: =IF(P29="","",COUNTIF($P$13:P29,"<>"&"")) | R29: =IFERROR(RANK(Q29,$Q$13:$Q$43,1),"") | S29: =IF(IFERROR(INDEX('[1]予選ヒートAGr-レース結果表（貼付）'!$A:$Z,MATCH($A29,'[1]予選ヒートAGr-レース結果表（貼付）'!$A:$A,0),MATCH(S$11,'[1]予選ヒートAGr-レース結果表（貼付）'!$1:$1,0)),"")=0,"",IFERROR(INDEX('[1]予選ヒートAGr-レース結果表（貼付）'!$A:$Z,MATCH($A29,'[1]予選ヒートAGr-レース結果表（貼付）'!$A:$A,0),MATCH(S$11,'[1]予選ヒートAGr-レース結果表（貼付）'!$1:$1,0)),"")) | U29: =IF(IFERROR(INDEX('[1]予選ヒートAGr-レース結果表（貼付）'!$A:$Z,MATCH($B29,'[1]予選ヒートAGr-レース結果表（貼付）'!$B:$B,0),MATCH(U$11,'[1]予選ヒートAGr-レース結果表（貼付）'!$1:$1,0)),"")=0,"",IFERROR(INDEX('[1]予選ヒートAGr-レース結果表（貼付）'!$A:$Z,MATCH($B29,'[1]予選ヒートAGr-レース結果表（貼付）'!$B:$B,0),MATCH(U$11,'[1]予選ヒートAGr-レース結果表（貼付）'!$1:$1,0)),"")) -> 80.255
A30: =IF(OR('[1]予選ヒートAGr-レース結果表（貼付）'!A19="DNF",'[1]予選ヒートAGr-レース結果表（貼付）'!A19="DNS",'[1]予選ヒートAGr-レース結果表（貼付）'!A19="DQ"),'[1]予選ヒートAGr-レース結果表（貼付）'!A19,IF(MAX('[1]予選ヒートAGr-レース結果表（貼付）'!$A:$A)>A29,A29+1,"")) -> 18 | B30: =IFERROR(INDEX('[1]予選ヒートAGr-レース結果表（貼付）'!A19:$Z$50,MATCH($A30,'[1]予選ヒートAGr-レース結果表（貼付）'!A19:$A$50,0),MATCH('[1]公式予選（TT）①-結果表（印刷）'!B$11,'[1]予選ヒートAGr-レース結果表（貼付）'!$1:$1,0)),"") -> 17 | C30: 18 | D30: =IFERROR(INDEX('[1]予選ヒートAGr-レース結果表（貼付）'!$A:$Z,MATCH($B30,'[1]予選ヒートAGr-レース結果表（貼付）'!$B:$B,0),MATCH('予選ヒートAGr-レース結果表'!D$11,'[1]予選ヒートAGr-レース結果表（貼付）'!$1:$1,0)),"") -> 坂 裕之 | E30: =IFERROR(INDEX('[1]予選ヒートAGr-レース結果表（貼付）'!$A:$Z,MATCH($B30,'[1]予選ヒートAGr-レース結果表（貼付）'!$B:$B,0),MATCH('予選ヒートAGr-レース結果表'!E$11,'[1]予選ヒートAGr-レース結果表（貼付）'!$1:$1,0)),"") -> SWF/YAMAHA | F30: =IFERROR(INDEX('[1]予選ヒートAGr-レース結果表（貼付）'!$A:$Z,MATCH($B30,'[1]予選ヒートAGr-レース結果表（貼付）'!$B:$B,0),MATCH('予選ヒートAGr-レース結果表'!F$11,'[1]予選ヒートAGr-レース結果表（貼付）'!$1:$1,0)),"") -> のりものクラブTIGRE | G30: =IFERROR(INDEX('[1]予選ヒートAGr-レース結果表（貼付）'!$A:$Z,MATCH($B30,'[1]予選ヒートAGr-レース結果表（貼付）'!$B:$B,0),MATCH('予選ヒートAGr-レース結果表'!G$11,'[1]予選ヒートAGr-レース結果表（貼付）'!$1:$1,0)),"") -> BS | H30: =IFERROR(IF(A30="DNS","",IF(A30="DQ","",INDEX('[1]予選ヒートAGr-レース結果表（貼付）'!$A:$Z,MATCH($B30,'[1]予選ヒートAGr-レース結果表（貼付）'!$B:$B,0),MATCH('予選ヒートAGr-レース結果表'!H$11,'[1]予選ヒートAGr-レース結果表（貼付）'!$1:$1,0)))),"") -> 0 | I30: =IFERROR(IF(A30="DNS","ｽﾀｰﾄ出来ず",IF(A30="DQ","失 格",INDEX('[1]予選ヒートAGr-レース結果表（貼付）'!$A:$Z,MATCH($B30,'[1]予選ヒートAGr-レース結果表（貼付）'!$B:$B,0),MATCH('予選ヒートAGr-レース結果表'!I$11,'[1]予選ヒートAGr-レース結果表（貼付）'!$1:$1,0)))),"") -> ｽﾀｰﾄ出来ず | J30: =IFERROR(IF(A30="DNS","",IF(A30="DQ","",INDEX('[1]予選ヒートAGr-レース結果表（貼付）'!$A:$Z,MATCH($B30,'[1]予選ヒートAGr-レース結果表（貼付）'!$B:$B,0),MATCH('予選ヒートAGr-レース結果表'!J$11,'[1]予選ヒートAGr-レース結果表（貼付）'!$1:$1,0)))),"") -> DNS | K30: =IFERROR(IF(A30="DNS","",IF(A30="DQ","",INDEX('[1]予選ヒートAGr-レース結果表（貼付）'!$A:$Z,MATCH($B30,'[1]予選ヒートAGr-レース結果表（貼付）'!$B:$B,0),MATCH('予選ヒートAGr-レース結果表'!K$11,'[1]予選ヒートAGr-レース結果表（貼付）'!$1:$1,0)))),"") -> 0 | L30: =IFERROR(IF(A30="DNS","",IF(A30="DQ","",INDEX('[1]予選ヒートAGr-レース結果表（貼付）'!$A:$Z,MATCH($B30,'[1]予選ヒートAGr-レース結果表（貼付）'!$B:$B,0),MATCH('予選ヒートAGr-レース結果表'!L$11,'[1]予選ヒートAGr-レース結果表（貼付）'!$1:$1,0)))),"") -> 0 | M30: =IF(L30<1,"",IF($M$11>L30,"R","")) | P30: =IF(IFERROR(INDEX('[1]予選ヒートAGr-レース結果表（貼付）'!$A:$Z,MATCH($B30,'[1]予選ヒートAGr-レース結果表（貼付）'!$B:$B,0),MATCH(P$11,'[1]予選ヒートAGr-レース結果表（貼付）'!$1:$1,0)),"")=0,"",IFERROR(INDEX('[1]予選ヒートAGr-レース結果表（貼付）'!$A:$Z,MATCH($B30,'[1]予選ヒートAGr-レース結果表（貼付）'!$B:$B,0),MATCH(P$11,'[1]予選ヒートAGr-レース結果表（貼付）'!$1:$1,0)),"")) | Q30: =IF(P30="","",COUNTIF($P$13:P30,"<>"&"")) | R30: =IFERROR(RANK(Q30,$Q$13:$Q$43,1),"") | S30: =IF(IFERROR(INDEX('[1]予選ヒートAGr-レース結果表（貼付）'!$A:$Z,MATCH($A30,'[1]予選ヒートAGr-レース結果表（貼付）'!$A:$A,0),MATCH(S$11,'[1]予選ヒートAGr-レース結果表（貼付）'!$1:$1,0)),"")=0,"",IFERROR(INDEX('[1]予選ヒートAGr-レース結果表（貼付）'!$A:$Z,MATCH($A30,'[1]予選ヒートAGr-レース結果表（貼付）'!$A:$A,0),MATCH(S$11,'[1]予選ヒートAGr-レース結果表（貼付）'!$1:$1,0)),"")) | U30: =IF(IFERROR(INDEX('[1]予選ヒートAGr-レース結果表（貼付）'!$A:$Z,MATCH($B30,'[1]予選ヒートAGr-レース結果表（貼付）'!$B:$B,0),MATCH(U$11,'[1]予選ヒートAGr-レース結果表（貼付）'!$1:$1,0)),"")=0,"",IFERROR(INDEX('[1]予選ヒートAGr-レース結果表（貼付）'!$A:$Z,MATCH($B30,'[1]予選ヒートAGr-レース結果表（貼付）'!$B:$B,0),MATCH(U$11,'[1]予選ヒートAGr-レース結果表（貼付）'!$1:$1,0)),"")) -> -
A31: =IF(OR('[1]予選ヒートAGr-レース結果表（貼付）'!A20="DNF",'[1]予選ヒートAGr-レース結果表（貼付）'!A20="DNS",'[1]予選ヒートAGr-レース結果表（貼付）'!A20="DQ"),'[1]予選ヒートAGr-レース結果表（貼付）'!A20,IF(MAX('[1]予選ヒートAGr-レース結果表（貼付）'!$A:$A)>A30,A30+1,"")) -> 19 | B31: =IFERROR(INDEX('[1]予選ヒートAGr-レース結果表（貼付）'!A20:$Z$50,MATCH($A31,'[1]予選ヒートAGr-レース結果表（貼付）'!A20:$A$50,0),MATCH('[1]公式予選（TT）①-結果表（印刷）'!B$11,'[1]予選ヒートAGr-レース結果表（貼付）'!$1:$1,0)),"") -> 58 | C31: 19 | D31: =IFERROR(INDEX('[1]予選ヒートAGr-レース結果表（貼付）'!$A:$Z,MATCH($B31,'[1]予選ヒートAGr-レース結果表（貼付）'!$B:$B,0),MATCH('予選ヒートAGr-レース結果表'!D$11,'[1]予選ヒートAGr-レース結果表（貼付）'!$1:$1,0)),"") -> 江崎 昭彦 | E31: =IFERROR(INDEX('[1]予選ヒートAGr-レース結果表（貼付）'!$A:$Z,MATCH($B31,'[1]予選ヒートAGr-レース結果表（貼付）'!$B:$B,0),MATCH('予選ヒートAGr-レース結果表'!E$11,'[1]予選ヒートAGr-レース結果表（貼付）'!$1:$1,0)),"") -> KOSMIC/YAMAHA | F31: =IFERROR(INDEX('[1]予選ヒートAGr-レース結果表（貼付）'!$A:$Z,MATCH($B31,'[1]予選ヒートAGr-レース結果表（貼付）'!$B:$B,0),MATCH('予選ヒートAGr-レース結果表'!F$11,'[1]予選ヒートAGr-レース結果表（貼付）'!$1:$1,0)),"") -> Ash | G31: =IFERROR(INDEX('[1]予選ヒートAGr-レース結果表（貼付）'!$A:$Z,MATCH($B31,'[1]予選ヒートAGr-レース結果表（貼付）'!$B:$B,0),MATCH('予選ヒートAGr-レース結果表'!G$11,'[1]予選ヒートAGr-レース結果表（貼付）'!$1:$1,0)),"") -> BS | H31: =IFERROR(IF(A31="DNS","",IF(A31="DQ","",INDEX('[1]予選ヒートAGr-レース結果表（貼付）'!$A:$Z,MATCH($B31,'[1]予選ヒートAGr-レース結果表（貼付）'!$B:$B,0),MATCH('予選ヒートAGr-レース結果表'!H$11,'[1]予選ヒートAGr-レース結果表（貼付）'!$1:$1,0)))),"") -> 0 | I31: =IFERROR(IF(A31="DNS","ｽﾀｰﾄ出来ず",IF(A31="DQ","失 格",INDEX('[1]予選ヒートAGr-レース結果表（貼付）'!$A:$Z,MATCH($B31,'[1]予選ヒートAGr-レース結果表（貼付）'!$B:$B,0),MATCH('予選ヒートAGr-レース結果表'!I$11,'[1]予選ヒートAGr-レース結果表（貼付）'!$1:$1,0)))),"") -> ｽﾀｰﾄ出来ず | J31: =IFERROR(IF(A31="DNS","",IF(A31="DQ","",INDEX('[1]予選ヒートAGr-レース結果表（貼付）'!$A:$Z,MATCH($B31,'[1]予選ヒートAGr-レース結果表（貼付）'!$B:$B,0),MATCH('予選ヒートAGr-レース結果表'!J$11,'[1]予選ヒートAGr-レース結果表（貼付）'!$1:$1,0)))),"") -> DNS | K31: =IFERROR(IF(A31="DNS","",IF(A31="DQ","",INDEX('[1]予選ヒートAGr-レース結果表（貼付）'!$A:$Z,MATCH($B31,'[1]予選ヒートAGr-レース結果表（貼付）'!$B:$B,0),MATCH('予選ヒートAGr-レース結果表'!K$11,'[1]予選ヒートAGr-レース結果表（貼付）'!$1:$1,0)))),"") -> 0 | L31: =IFERROR(IF(A31="DNS","",IF(A31="DQ","",INDEX('[1]予選ヒートAGr-レース結果表（貼付）'!$A:$Z,MATCH($B31,'[1]予選ヒートAGr-レース結果表（貼付）'!$B:$B,0),MATCH('予選ヒートAGr-レース結果表'!L$11,'[1]予選ヒートAGr-レース結果表（貼付）'!$1:$1,0)))),"") -> 0 | M31: =IF(L31<1,"",IF($M$11>L31,"R","")) | P31: =IF(IFERROR(INDEX('[1]予選ヒートAGr-レース結果表（貼付）'!$A:$Z,MATCH($B31,'[1]予選ヒートAGr-レース結果表（貼付）'!$B:$B,0),MATCH(P$11,'[1]予選ヒートAGr-レース結果表（貼付）'!$1:$1,0)),"")=0,"",IFERROR(INDEX('[1]予選ヒートAGr-レース結果表（貼付）'!$A:$Z,MATCH($B31,'[1]予選ヒートAGr-レース結果表（貼付）'!$B:$B,0),MATCH(P$11,'[1]予選ヒートAGr-レース結果表（貼付）'!$1:$1,0)),"")) | Q31: =IF(P31="","",COUNTIF($P$13:P31,"<>"&"")) | R31: =IFERROR(RANK(Q31,$Q$13:$Q$43,1),"") | S31: =IF(IFERROR(INDEX('[1]予選ヒートAGr-レース結果表（貼付）'!$A:$Z,MATCH($A31,'[1]予選ヒートAGr-レース結果表（貼付）'!$A:$A,0),MATCH(S$11,'[1]予選ヒートAGr-レース結果表（貼付）'!$1:$1,0)),"")=0,"",IFERROR(INDEX('[1]予選ヒートAGr-レース結果表（貼付）'!$A:$Z,MATCH($A31,'[1]予選ヒートAGr-レース結果表（貼付）'!$A:$A,0),MATCH(S$11,'[1]予選ヒートAGr-レース結果表（貼付）'!$1:$1,0)),"")) | U31: =IF(IFERROR(INDEX('[1]予選ヒートAGr-レース結果表（貼付）'!$A:$Z,MATCH($B31,'[1]予選ヒートAGr-レース結果表（貼付）'!$B:$B,0),MATCH(U$11,'[1]予選ヒートAGr-レース結果表（貼付）'!$1:$1,0)),"")=0,"",IFERROR(INDEX('[1]予選ヒートAGr-レース結果表（貼付）'!$A:$Z,MATCH($B31,'[1]予選ヒートAGr-レース結果表（貼付）'!$B:$B,0),MATCH(U$11,'[1]予選ヒートAGr-レース結果表（貼付）'!$1:$1,0)),"")) -> -
A32: =IF(OR('[1]予選ヒートAGr-レース結果表（貼付）'!A21="DNF",'[1]予選ヒートAGr-レース結果表（貼付）'!A21="DNS",'[1]予選ヒートAGr-レース結果表（貼付）'!A21="DQ"),'[1]予選ヒートAGr-レース結果表（貼付）'!A21,IF(MAX('[1]予選ヒートAGr-レース結果表（貼付）'!$A:$A)>A31,A31+1,"")) | B32: =IFERROR(INDEX('[1]予選ヒートAGr-レース結果表（貼付）'!A21:$Z$50,MATCH($A32,'[1]予選ヒートAGr-レース結果表（貼付）'!A21:$A$50,0),MATCH('[1]公式予選（TT）①-結果表（印刷）'!B$11,'[1]予選ヒートAGr-レース結果表（貼付）'!$1:$1,0)),"") | C32: =IFERROR(INDEX('[1]予選ヒートAGr-レース結果表（貼付）'!$A:$Z,MATCH($B32,'[1]予選ヒートAGr-レース結果表（貼付）'!$B:$B,0),MATCH('予選ヒートAGr-レース結果表'!C$11,'[1]予選ヒートAGr-レース結果表（貼付）'!$1:$1,0)),"") | D32: =IFERROR(INDEX('[1]予選ヒートAGr-レース結果表（貼付）'!$A:$Z,MATCH($B32,'[1]予選ヒートAGr-レース結果表（貼付）'!$B:$B,0),MATCH('予選ヒートAGr-レース結果表'!D$11,'[1]予選ヒートAGr-レース結果表（貼付）'!$1:$1,0)),"") | E32: =IFERROR(INDEX('[1]予選ヒートAGr-レース結果表（貼付）'!$A:$Z,MATCH($B32,'[1]予選ヒートAGr-レース結果表（貼付）'!$B:$B,0),MATCH('予選ヒートAGr-レース結果表'!E$11,'[1]予選ヒートAGr-レース結果表（貼付）'!$1:$1,0)),"") | F32: =IFERROR(INDEX('[1]予選ヒートAGr-レース結果表（貼付）'!$A:$Z,MATCH($B32,'[1]予選ヒートAGr-レース結果表（貼付）'!$B:$B,0),MATCH('予選ヒートAGr-レース結果表'!F$11,'[1]予選ヒートAGr-レース結果表（貼付）'!$1:$1,0)),"") | G32: =IFERROR(INDEX('[1]予選ヒートAGr-レース結果表（貼付）'!$A:$Z,MATCH($B32,'[1]予選ヒートAGr-レース結果表（貼付）'!$B:$B,0),MATCH('予選ヒートAGr-レース結果表'!G$11,'[1]予選ヒートAGr-レース結果表（貼付）'!$1:$1,0)),"") | H32: =IFERROR(IF(A32="DNS","",IF(A32="DQ","",INDEX('[1]予選ヒートAGr-レース結果表（貼付）'!$A:$Z,MATCH($B32,'[1]予選ヒートAGr-レース結果表（貼付）'!$B:$B,0),MATCH('予選ヒートAGr-レース結果表'!H$11,'[1]予選ヒートAGr-レース結果表（貼付）'!$1:$1,0)))),"") | I32: =IFERROR(IF(A32="DNS","ｽﾀｰﾄ出来ず",IF(A32="DQ","失 格",INDEX('[1]予選ヒートAGr-レース結果表（貼付）'!$A:$Z,MATCH($B32,'[1]予選ヒートAGr-レース結果表（貼付）'!$B:$B,0),MATCH('予選ヒートAGr-レース結果表'!I$11,'[1]予選ヒートAGr-レース結果表（貼付）'!$1:$1,0)))),"") | J32: =IFERROR(IF(A32="DNS","",IF(A32="DQ","",INDEX('[1]予選ヒートAGr-レース結果表（貼付）'!$A:$Z,MATCH($B32,'[1]予選ヒートAGr-レース結果表（貼付）'!$B:$B,0),MATCH('予選ヒートAGr-レース結果表'!J$11,'[1]予選ヒートAGr-レース結果表（貼付）'!$1:$1,0)))),"") | K32: =IFERROR(IF(A32="DNS","",IF(A32="DQ","",INDEX('[1]予選ヒートAGr-レース結果表（貼付）'!$A:$Z,MATCH($B32,'[1]予選ヒートAGr-レース結果表（貼付）'!$B:$B,0),MATCH('予選ヒートAGr-レース結果表'!K$11,'[1]予選ヒートAGr-レース結果表（貼付）'!$1:$1,0)))),"") | L32: =IFERROR(IF(A32="DNS","",IF(A32="DQ","",INDEX('[1]予選ヒートAGr-レース結果表（貼付）'!$A:$Z,MATCH($B32,'[1]予選ヒートAGr-レース結果表（貼付）'!$B:$B,0),MATCH('予選ヒートAGr-レース結果表'!L$11,'[1]予選ヒートAGr-レース結果表（貼付）'!$1:$1,0)))),"") | M32: =IF(L32<1,"",IF($M$11>L32,"R","")) | P32: =IF(IFERROR(INDEX('[1]予選ヒートAGr-レース結果表（貼付）'!$A:$Z,MATCH($B32,'[1]予選ヒートAGr-レース結果表（貼付）'!$B:$B,0),MATCH(P$11,'[1]予選ヒートAGr-レース結果表（貼付）'!$1:$1,0)),"")=0,"",IFERROR(INDEX('[1]予選ヒートAGr-レース結果表（貼付）'!$A:$Z,MATCH($B32,'[1]予選ヒートAGr-レース結果表（貼付）'!$B:$B,0),MATCH(P$11,'[1]予選ヒートAGr-レース結果表（貼付）'!$1:$1,0)),"")) | Q32: =IF(P32="","",COUNTIF($P$13:P32,"<>"&"")) | R32: =IFERROR(RANK(Q32,$Q$13:$Q$43,1),"") | S32: =IF(IFERROR(INDEX('[1]予選ヒートAGr-レース結果表（貼付）'!$A:$Z,MATCH($A32,'[1]予選ヒートAGr-レース結果表（貼付）'!$A:$A,0),MATCH(S$11,'[1]予選ヒートAGr-レース結果表（貼付）'!$1:$1,0)),"")=0,"",IFERROR(INDEX('[1]予選ヒートAGr-レース結果表（貼付）'!$A:$Z,MATCH($A32,'[1]予選ヒートAGr-レース結果表（貼付）'!$A:$A,0),MATCH(S$11,'[1]予選ヒートAGr-レース結果表（貼付）'!$1:$1,0)),"")) | U32: =IF(IFERROR(INDEX('[1]予選ヒートAGr-レース結果表（貼付）'!$A:$Z,MATCH($B32,'[1]予選ヒートAGr-レース結果表（貼付）'!$B:$B,0),MATCH(U$11,'[1]予選ヒートAGr-レース結果表（貼付）'!$1:$1,0)),"")=0,"",IFERROR(INDEX('[1]予選ヒートAGr-レース結果表（貼付）'!$A:$Z,MATCH($B32,'[1]予選ヒートAGr-レース結果表（貼付）'!$B:$B,0),MATCH(U$11,'[1]予選ヒートAGr-レース結果表（貼付）'!$1:$1,0)),""))
A33: =IF(OR('[1]予選ヒートAGr-レース結果表（貼付）'!A22="DNF",'[1]予選ヒートAGr-レース結果表（貼付）'!A22="DNS",'[1]予選ヒートAGr-レース結果表（貼付）'!A22="DQ"),'[1]予選ヒートAGr-レース結果表（貼付）'!A22,IF(MAX('[1]予選ヒートAGr-レース結果表（貼付）'!$A:$A)>A32,A32+1,"")) | B33: =IFERROR(INDEX('[1]予選ヒートAGr-レース結果表（貼付）'!A22:$Z$50,MATCH($A33,'[1]予選ヒートAGr-レース結果表（貼付）'!A22:$A$50,0),MATCH('[1]公式予選（TT）①-結果表（印刷）'!B$11,'[1]予選ヒートAGr-レース結果表（貼付）'!$1:$1,0)),"") | C33: =IFERROR(INDEX('[1]予選ヒートAGr-レース結果表（貼付）'!$A:$Z,MATCH($B33,'[1]予選ヒートAGr-レース結果表（貼付）'!$B:$B,0),MATCH('予選ヒートAGr-レース結果表'!C$11,'[1]予選ヒートAGr-レース結果表（貼付）'!$1:$1,0)),"") | D33: =IFERROR(INDEX('[1]予選ヒートAGr-レース結果表（貼付）'!$A:$Z,MATCH($B33,'[1]予選ヒートAGr-レース結果表（貼付）'!$B:$B,0),MATCH('予選ヒートAGr-レース結果表'!D$11,'[1]予選ヒートAGr-レース結果表（貼付）'!$1:$1,0)),"") | E33: =IFERROR(INDEX('[1]予選ヒートAGr-レース結果表（貼付）'!$A:$Z,MATCH($B33,'[1]予選ヒートAGr-レース結果表（貼付）'!$B:$B,0),MATCH('予選ヒートAGr-レース結果表'!E$11,'[1]予選ヒートAGr-レース結果表（貼付）'!$1:$1,0)),"") | F33: =IFERROR(INDEX('[1]予選ヒートAGr-レース結果表（貼付）'!$A:$Z,MATCH($B33,'[1]予選ヒートAGr-レース結果表（貼付）'!$B:$B,0),MATCH('予選ヒートAGr-レース結果表'!F$11,'[1]予選ヒートAGr-レース結果表（貼付）'!$1:$1,0)),"") | G33: =IFERROR(INDEX('[1]予選ヒートAGr-レース結果表（貼付）'!$A:$Z,MATCH($B33,'[1]予選ヒートAGr-レース結果表（貼付）'!$B:$B,0),MATCH('予選ヒートAGr-レース結果表'!G$11,'[1]予選ヒートAGr-レース結果表（貼付）'!$1:$1,0)),"") | H33: =IFERROR(IF(A33="DNS","",IF(A33="DQ","",INDEX('[1]予選ヒートAGr-レース結果表（貼付）'!$A:$Z,MATCH($B33,'[1]予選ヒートAGr-レース結果表（貼付）'!$B:$B,0),MATCH('予選ヒートAGr-レース結果表'!H$11,'[1]予選ヒートAGr-レース結果表（貼付）'!$1:$1,0)))),"") | I33: =IFERROR(IF(A33="DNS","ｽﾀｰﾄ出来ず",IF(A33="DQ","失 格",INDEX('[1]予選ヒートAGr-レース結果表（貼付）'!$A:$Z,MATCH($B33,'[1]予選ヒートAGr-レース結果表（貼付）'!$B:$B,0),MATCH('予選ヒートAGr-レース結果表'!I$11,'[1]予選ヒートAGr-レース結果表（貼付）'!$1:$1,0)))),"") | J33: =IFERROR(IF(A33="DNS","",IF(A33="DQ","",INDEX('[1]予選ヒートAGr-レース結果表（貼付）'!$A:$Z,MATCH($B33,'[1]予選ヒートAGr-レース結果表（貼付）'!$B:$B,0),MATCH('予選ヒートAGr-レース結果表'!J$11,'[1]予選ヒートAGr-レース結果表（貼付）'!$1:$1,0)))),"") | K33: =IFERROR(IF(A33="DNS","",IF(A33="DQ","",INDEX('[1]予選ヒートAGr-レース結果表（貼付）'!$A:$Z,MATCH($B33,'[1]予選ヒートAGr-レース結果表（貼付）'!$B:$B,0),MATCH('予選ヒートAGr-レース結果表'!K$11,'[1]予選ヒートAGr-レース結果表（貼付）'!$1:$1,0)))),"") | L33: =IFERROR(IF(A33="DNS","",IF(A33="DQ","",INDEX('[1]予選ヒートAGr-レース結果表（貼付）'!$A:$Z,MATCH($B33,'[1]予選ヒートAGr-レース結果表（貼付）'!$B:$B,0),MATCH('予選ヒートAGr-レース結果表'!L$11,'[1]予選ヒートAGr-レース結果表（貼付）'!$1:$1,0)))),"") | M33: =IF(L33<1,"",IF($M$11>L33,"R","")) | P33: =IF(IFERROR(INDEX('[1]予選ヒートAGr-レース結果表（貼付）'!$A:$Z,MATCH($B33,'[1]予選ヒートAGr-レース結果表（貼付）'!$B:$B,0),MATCH(P$11,'[1]予選ヒートAGr-レース結果表（貼付）'!$1:$1,0)),"")=0,"",IFERROR(INDEX('[1]予選ヒートAGr-レース結果表（貼付）'!$A:$Z,MATCH($B33,'[1]予選ヒートAGr-レース結果表（貼付）'!$B:$B,0),MATCH(P$11,'[1]予選ヒートAGr-レース結果表（貼付）'!$1:$1,0)),"")) | Q33: =IF(P33="","",COUNTIF($P$13:P33,"<>"&"")) | R33: =IFERROR(RANK(Q33,$Q$13:$Q$43,1),"") | S33: =IF(IFERROR(INDEX('[1]予選ヒートAGr-レース結果表（貼付）'!$A:$Z,MATCH($A33,'[1]予選ヒートAGr-レース結果表（貼付）'!$A:$A,0),MATCH(S$11,'[1]予選ヒートAGr-レース結果表（貼付）'!$1:$1,0)),"")=0,"",IFERROR(INDEX('[1]予選ヒートAGr-レース結果表（貼付）'!$A:$Z,MATCH($A33,'[1]予選ヒートAGr-レース結果表（貼付）'!$A:$A,0),MATCH(S$11,'[1]予選ヒートAGr-レース結果表（貼付）'!$1:$1,0)),"")) | U33: =IF(IFERROR(INDEX('[1]予選ヒートAGr-レース結果表（貼付）'!$A:$Z,MATCH($B33,'[1]予選ヒートAGr-レース結果表（貼付）'!$B:$B,0),MATCH(U$11,'[1]予選ヒートAGr-レース結果表（貼付）'!$1:$1,0)),"")=0,"",IFERROR(INDEX('[1]予選ヒートAGr-レース結果表（貼付）'!$A:$Z,MATCH($B33,'[1]予選ヒートAGr-レース結果表（貼付）'!$B:$B,0),MATCH(U$11,'[1]予選ヒートAGr-レース結果表（貼付）'!$1:$1,0)),""))
A34: =IF(OR('[1]予選ヒートAGr-レース結果表（貼付）'!A23="DNF",'[1]予選ヒートAGr-レース結果表（貼付）'!A23="DNS",'[1]予選ヒートAGr-レース結果表（貼付）'!A23="DQ"),'[1]予選ヒートAGr-レース結果表（貼付）'!A23,IF(MAX('[1]予選ヒートAGr-レース結果表（貼付）'!$A:$A)>A33,A33+1,"")) | B34: =IFERROR(INDEX('[1]予選ヒートAGr-レース結果表（貼付）'!A23:$Z$50,MATCH($A34,'[1]予選ヒートAGr-レース結果表（貼付）'!A23:$A$50,0),MATCH('[1]公式予選（TT）①-結果表（印刷）'!B$11,'[1]予選ヒートAGr-レース結果表（貼付）'!$1:$1,0)),"") | C34: =IFERROR(INDEX('[1]予選ヒートAGr-レース結果表（貼付）'!$A:$Z,MATCH($B34,'[1]予選ヒートAGr-レース結果表（貼付）'!$B:$B,0),MATCH('予選ヒートAGr-レース結果表'!C$11,'[1]予選ヒートAGr-レース結果表（貼付）'!$1:$1,0)),"") | D34: =IFERROR(INDEX('[1]予選ヒートAGr-レース結果表（貼付）'!$A:$Z,MATCH($B34,'[1]予選ヒートAGr-レース結果表（貼付）'!$B:$B,0),MATCH('予選ヒートAGr-レース結果表'!D$11,'[1]予選ヒートAGr-レース結果表（貼付）'!$1:$1,0)),"") | E34: =IFERROR(INDEX('[1]予選ヒートAGr-レース結果表（貼付）'!$A:$Z,MATCH($B34,'[1]予選ヒートAGr-レース結果表（貼付）'!$B:$B,0),MATCH('予選ヒートAGr-レース結果表'!E$11,'[1]予選ヒートAGr-レース結果表（貼付）'!$1:$1,0)),"") | F34: =IFERROR(INDEX('[1]予選ヒートAGr-レース結果表（貼付）'!$A:$Z,MATCH($B34,'[1]予選ヒートAGr-レース結果表（貼付）'!$B:$B,0),MATCH('予選ヒートAGr-レース結果表'!F$11,'[1]予選ヒートAGr-レース結果表（貼付）'!$1:$1,0)),"") | G34: =IFERROR(INDEX('[1]予選ヒートAGr-レース結果表（貼付）'!$A:$Z,MATCH($B34,'[1]予選ヒートAGr-レース結果表（貼付）'!$B:$B,0),MATCH('予選ヒートAGr-レース結果表'!G$11,'[1]予選ヒートAGr-レース結果表（貼付）'!$1:$1,0)),"") | H34: =IFERROR(IF(A34="DNS","",IF(A34="DQ","",INDEX('[1]予選ヒートAGr-レース結果表（貼付）'!$A:$Z,MATCH($B34,'[1]予選ヒートAGr-レース結果表（貼付）'!$B:$B,0),MATCH('予選ヒートAGr-レース結果表'!H$11,'[1]予選ヒートAGr-レース結果表（貼付）'!$1:$1,0)))),"") | I34: =IFERROR(IF(A34="DNS","ｽﾀｰﾄ出来ず",IF(A34="DQ","失 格",INDEX('[1]予選ヒートAGr-レース結果表（貼付）'!$A:$Z,MATCH($B34,'[1]予選ヒートAGr-レース結果表（貼付）'!$B:$B,0),MATCH('予選ヒートAGr-レース結果表'!I$11,'[1]予選ヒートAGr-レース結果表（貼付）'!$1:$1,0)))),"") | J34: =IFERROR(IF(A34="DNS","",IF(A34="DQ","",INDEX('[1]予選ヒートAGr-レース結果表（貼付）'!$A:$Z,MATCH($B34,'[1]予選ヒートAGr-レース結果表（貼付）'!$B:$B,0),MATCH('予選ヒートAGr-レース結果表'!J$11,'[1]予選ヒートAGr-レース結果表（貼付）'!$1:$1,0)))),"") | K34: =IFERROR(IF(A34="DNS","",IF(A34="DQ","",INDEX('[1]予選ヒートAGr-レース結果表（貼付）'!$A:$Z,MATCH($B34,'[1]予選ヒートAGr-レース結果表（貼付）'!$B:$B,0),MATCH('予選ヒートAGr-レース結果表'!K$11,'[1]予選ヒートAGr-レース結果表（貼付）'!$1:$1,0)))),"") | L34: =IFERROR(IF(A34="DNS","",IF(A34="DQ","",INDEX('[1]予選ヒートAGr-レース結果表（貼付）'!$A:$Z,MATCH($B34,'[1]予選ヒートAGr-レース結果表（貼付）'!$B:$B,0),MATCH('予選ヒートAGr-レース結果表'!L$11,'[1]予選ヒートAGr-レース結果表（貼付）'!$1:$1,0)))),"") | M34: =IF(L34<1,"",IF($M$11>L34,"R","")) | P34: =IF(IFERROR(INDEX('[1]予選ヒートAGr-レース結果表（貼付）'!$A:$Z,MATCH($B34,'[1]予選ヒートAGr-レース結果表（貼付）'!$B:$B,0),MATCH(P$11,'[1]予選ヒートAGr-レース結果表（貼付）'!$1:$1,0)),"")=0,"",IFERROR(INDEX('[1]予選ヒートAGr-レース結果表（貼付）'!$A:$Z,MATCH($B34,'[1]予選ヒートAGr-レース結果表（貼付）'!$B:$B,0),MATCH(P$11,'[1]予選ヒートAGr-レース結果表（貼付）'!$1:$1,0)),"")) | Q34: =IF(P34="","",COUNTIF($P$13:P34,"<>"&"")) | R34: =IFERROR(RANK(Q34,$Q$13:$Q$43,1),"") | S34: =IF(IFERROR(INDEX('[1]予選ヒートAGr-レース結果表（貼付）'!$A:$Z,MATCH($A34,'[1]予選ヒートAGr-レース結果表（貼付）'!$A:$A,0),MATCH(S$11,'[1]予選ヒートAGr-レース結果表（貼付）'!$1:$1,0)),"")=0,"",IFERROR(INDEX('[1]予選ヒートAGr-レース結果表（貼付）'!$A:$Z,MATCH($A34,'[1]予選ヒートAGr-レース結果表（貼付）'!$A:$A,0),MATCH(S$11,'[1]予選ヒートAGr-レース結果表（貼付）'!$1:$1,0)),"")) | U34: =IF(IFERROR(INDEX('[1]予選ヒートAGr-レース結果表（貼付）'!$A:$Z,MATCH($B34,'[1]予選ヒートAGr-レース結果表（貼付）'!$B:$B,0),MATCH(U$11,'[1]予選ヒートAGr-レース結果表（貼付）'!$1:$1,0)),"")=0,"",IFERROR(INDEX('[1]予選ヒートAGr-レース結果表（貼付）'!$A:$Z,MATCH($B34,'[1]予選ヒートAGr-レース結果表（貼付）'!$B:$B,0),MATCH(U$11,'[1]予選ヒートAGr-レース結果表（貼付）'!$1:$1,0)),""))
A35: =IF(OR('[1]予選ヒートAGr-レース結果表（貼付）'!A24="DNF",'[1]予選ヒートAGr-レース結果表（貼付）'!A24="DNS",'[1]予選ヒートAGr-レース結果表（貼付）'!A24="DQ"),'[1]予選ヒートAGr-レース結果表（貼付）'!A24,IF(MAX('[1]予選ヒートAGr-レース結果表（貼付）'!$A:$A)>A34,A34+1,"")) | B35: =IFERROR(INDEX('[1]予選ヒートAGr-レース結果表（貼付）'!A24:$Z$50,MATCH($A35,'[1]予選ヒートAGr-レース結果表（貼付）'!A24:$A$50,0),MATCH('[1]公式予選（TT）①-結果表（印刷）'!B$11,'[1]予選ヒートAGr-レース結果表（貼付）'!$1:$1,0)),"") | C35: =IFERROR(INDEX('[1]予選ヒートAGr-レース結果表（貼付）'!$A:$Z,MATCH($B35,'[1]予選ヒートAGr-レース結果表（貼付）'!$B:$B,0),MATCH('予選ヒートAGr-レース結果表'!C$11,'[1]予選ヒートAGr-レース結果表（貼付）'!$1:$1,0)),"") | D35: =IFERROR(INDEX('[1]予選ヒートAGr-レース結果表（貼付）'!$A:$Z,MATCH($B35,'[1]予選ヒートAGr-レース結果表（貼付）'!$B:$B,0),MATCH('予選ヒートAGr-レース結果表'!D$11,'[1]予選ヒートAGr-レース結果表（貼付）'!$1:$1,0)),"") | E35: =IFERROR(INDEX('[1]予選ヒートAGr-レース結果表（貼付）'!$A:$Z,MATCH($B35,'[1]予選ヒートAGr-レース結果表（貼付）'!$B:$B,0),MATCH('予選ヒートAGr-レース結果表'!E$11,'[1]予選ヒートAGr-レース結果表（貼付）'!$1:$1,0)),"") | F35: =IFERROR(INDEX('[1]予選ヒートAGr-レース結果表（貼付）'!$A:$Z,MATCH($B35,'[1]予選ヒートAGr-レース結果表（貼付）'!$B:$B,0),MATCH('予選ヒートAGr-レース結果表'!F$11,'[1]予選ヒートAGr-レース結果表（貼付）'!$1:$1,0)),"") | G35: =IFERROR(INDEX('[1]予選ヒートAGr-レース結果表（貼付）'!$A:$Z,MATCH($B35,'[1]予選ヒートAGr-レース結果表（貼付）'!$B:$B,0),MATCH('予選ヒートAGr-レース結果表'!G$11,'[1]予選ヒートAGr-レース結果表（貼付）'!$1:$1,0)),"") | H35: =IFERROR(IF(A35="DNS","",IF(A35="DQ","",INDEX('[1]予選ヒートAGr-レース結果表（貼付）'!$A:$Z,MATCH($B35,'[1]予選ヒートAGr-レース結果表（貼付）'!$B:$B,0),MATCH('予選ヒートAGr-レース結果表'!H$11,'[1]予選ヒートAGr-レース結果表（貼付）'!$1:$1,0)))),"") | I35: =IFERROR(IF(A35="DNS","ｽﾀｰﾄ出来ず",IF(A35="DQ","失 格",INDEX('[1]予選ヒートAGr-レース結果表（貼付）'!$A:$Z,MATCH($B35,'[1]予選ヒートAGr-レース結果表（貼付）'!$B:$B,0),MATCH('予選ヒートAGr-レース結果表'!I$11,'[1]予選ヒートAGr-レース結果表（貼付）'!$1:$1,0)))),"") | J35: =IFERROR(IF(A35="DNS","",IF(A35="DQ","",INDEX('[1]予選ヒートAGr-レース結果表（貼付）'!$A:$Z,MATCH($B35,'[1]予選ヒートAGr-レース結果表（貼付）'!$B:$B,0),MATCH('予選ヒートAGr-レース結果表'!J$11,'[1]予選ヒートAGr-レース結果表（貼付）'!$1:$1,0)))),"") | K35: =IFERROR(IF(A35="DNS","",IF(A35="DQ","",INDEX('[1]予選ヒートAGr-レース結果表（貼付）'!$A:$Z,MATCH($B35,'[1]予選ヒートAGr-レース結果表（貼付）'!$B:$B,0),MATCH('予選ヒートAGr-レース結果表'!K$11,'[1]予選ヒートAGr-レース結果表（貼付）'!$1:$1,0)))),"") | L35: =IFERROR(IF(A35="DNS","",IF(A35="DQ","",INDEX('[1]予選ヒートAGr-レース結果表（貼付）'!$A:$Z,MATCH($B35,'[1]予選ヒートAGr-レース結果表（貼付）'!$B:$B,0),MATCH('予選ヒートAGr-レース結果表'!L$11,'[1]予選ヒートAGr-レース結果表（貼付）'!$1:$1,0)))),"") | M35: =IF(L35<1,"",IF($M$11>L35,"R","")) | P35: =IF(IFERROR(INDEX('[1]予選ヒートAGr-レース結果表（貼付）'!$A:$Z,MATCH($B35,'[1]予選ヒートAGr-レース結果表（貼付）'!$B:$B,0),MATCH(P$11,'[1]予選ヒートAGr-レース結果表（貼付）'!$1:$1,0)),"")=0,"",IFERROR(INDEX('[1]予選ヒートAGr-レース結果表（貼付）'!$A:$Z,MATCH($B35,'[1]予選ヒートAGr-レース結果表（貼付）'!$B:$B,0),MATCH(P$11,'[1]予選ヒートAGr-レース結果表（貼付）'!$1:$1,0)),"")) | Q35: =IF(P35="","",COUNTIF($P$13:P35,"<>"&"")) | R35: =IFERROR(RANK(Q35,$Q$13:$Q$43,1),"") | S35: =IF(IFERROR(INDEX('[1]予選ヒートAGr-レース結果表（貼付）'!$A:$Z,MATCH($A35,'[1]予選ヒートAGr-レース結果表（貼付）'!$A:$A,0),MATCH(S$11,'[1]予選ヒートAGr-レース結果表（貼付）'!$1:$1,0)),"")=0,"",IFERROR(INDEX('[1]予選ヒートAGr-レース結果表（貼付）'!$A:$Z,MATCH($A35,'[1]予選ヒートAGr-レース結果表（貼付）'!$A:$A,0),MATCH(S$11,'[1]予選ヒートAGr-レース結果表（貼付）'!$1:$1,0)),"")) | U35: =IF(IFERROR(INDEX('[1]予選ヒートAGr-レース結果表（貼付）'!$A:$Z,MATCH($B35,'[1]予選ヒートAGr-レース結果表（貼付）'!$B:$B,0),MATCH(U$11,'[1]予選ヒートAGr-レース結果表（貼付）'!$1:$1,0)),"")=0,"",IFERROR(INDEX('[1]予選ヒートAGr-レース結果表（貼付）'!$A:$Z,MATCH($B35,'[1]予選ヒートAGr-レース結果表（貼付）'!$B:$B,0),MATCH(U$11,'[1]予選ヒートAGr-レース結果表（貼付）'!$1:$1,0)),""))
A36: =IF(OR('[1]予選ヒートAGr-レース結果表（貼付）'!A25="DNF",'[1]予選ヒートAGr-レース結果表（貼付）'!A25="DNS",'[1]予選ヒートAGr-レース結果表（貼付）'!A25="DQ"),'[1]予選ヒートAGr-レース結果表（貼付）'!A25,IF(MAX('[1]予選ヒートAGr-レース結果表（貼付）'!$A:$A)>A35,A35+1,"")) | B36: =IFERROR(INDEX('[1]予選ヒートAGr-レース結果表（貼付）'!A25:$Z$50,MATCH($A36,'[1]予選ヒートAGr-レース結果表（貼付）'!A25:$A$50,0),MATCH('[1]公式予選（TT）①-結果表（印刷）'!B$11,'[1]予選ヒートAGr-レース結果表（貼付）'!$1:$1,0)),"") | C36: =IFERROR(INDEX('[1]予選ヒートAGr-レース結果表（貼付）'!$A:$Z,MATCH($B36,'[1]予選ヒートAGr-レース結果表（貼付）'!$B:$B,0),MATCH('予選ヒートAGr-レース結果表'!C$11,'[1]予選ヒートAGr-レース結果表（貼付）'!$1:$1,0)),"") | D36: =IFERROR(INDEX('[1]予選ヒートAGr-レース結果表（貼付）'!$A:$Z,MATCH($B36,'[1]予選ヒートAGr-レース結果表（貼付）'!$B:$B,0),MATCH('予選ヒートAGr-レース結果表'!D$11,'[1]予選ヒートAGr-レース結果表（貼付）'!$1:$1,0)),"") | E36: =IFERROR(INDEX('[1]予選ヒートAGr-レース結果表（貼付）'!$A:$Z,MATCH($B36,'[1]予選ヒートAGr-レース結果表（貼付）'!$B:$B,0),MATCH('予選ヒートAGr-レース結果表'!E$11,'[1]予選ヒートAGr-レース結果表（貼付）'!$1:$1,0)),"") | F36: =IFERROR(INDEX('[1]予選ヒートAGr-レース結果表（貼付）'!$A:$Z,MATCH($B36,'[1]予選ヒートAGr-レース結果表（貼付）'!$B:$B,0),MATCH('予選ヒートAGr-レース結果表'!F$11,'[1]予選ヒートAGr-レース結果表（貼付）'!$1:$1,0)),"") | G36: =IFERROR(INDEX('[1]予選ヒートAGr-レース結果表（貼付）'!$A:$Z,MATCH($B36,'[1]予選ヒートAGr-レース結果表（貼付）'!$B:$B,0),MATCH('予選ヒートAGr-レース結果表'!G$11,'[1]予選ヒートAGr-レース結果表（貼付）'!$1:$1,0)),"") | H36: =IFERROR(IF(A36="DNS","",IF(A36="DQ","",INDEX('[1]予選ヒートAGr-レース結果表（貼付）'!$A:$Z,MATCH($B36,'[1]予選ヒートAGr-レース結果表（貼付）'!$B:$B,0),MATCH('予選ヒートAGr-レース結果表'!H$11,'[1]予選ヒートAGr-レース結果表（貼付）'!$1:$1,0)))),"") | I36: =IFERROR(IF(A36="DNS","ｽﾀｰﾄ出来ず",IF(A36="DQ","失 格",INDEX('[1]予選ヒートAGr-レース結果表（貼付）'!$A:$Z,MATCH($B36,'[1]予選ヒートAGr-レース結果表（貼付）'!$B:$B,0),MATCH('予選ヒートAGr-レース結果表'!I$11,'[1]予選ヒートAGr-レース結果表（貼付）'!$1:$1,0)))),"") | J36: =IFERROR(IF(A36="DNS","",IF(A36="DQ","",INDEX('[1]予選ヒートAGr-レース結果表（貼付）'!$A:$Z,MATCH($B36,'[1]予選ヒートAGr-レース結果表（貼付）'!$B:$B,0),MATCH('予選ヒートAGr-レース結果表'!J$11,'[1]予選ヒートAGr-レース結果表（貼付）'!$1:$1,0)))),"") | K36: =IFERROR(IF(A36="DNS","",IF(A36="DQ","",INDEX('[1]予選ヒートAGr-レース結果表（貼付）'!$A:$Z,MATCH($B36,'[1]予選ヒートAGr-レース結果表（貼付）'!$B:$B,0),MATCH('予選ヒートAGr-レース結果表'!K$11,'[1]予選ヒートAGr-レース結果表（貼付）'!$1:$1,0)))),"") | L36: =IFERROR(IF(A36="DNS","",IF(A36="DQ","",INDEX('[1]予選ヒートAGr-レース結果表（貼付）'!$A:$Z,MATCH($B36,'[1]予選ヒートAGr-レース結果表（貼付）'!$B:$B,0),MATCH('予選ヒートAGr-レース結果表'!L$11,'[1]予選ヒートAGr-レース結果表（貼付）'!$1:$1,0)))),"") | M36: =IF(L36<1,"",IF($M$11>L36,"R","")) | P36: =IF(IFERROR(INDEX('[1]予選ヒートAGr-レース結果表（貼付）'!$A:$Z,MATCH($B36,'[1]予選ヒートAGr-レース結果表（貼付）'!$B:$B,0),MATCH(P$11,'[1]予選ヒートAGr-レース結果表（貼付）'!$1:$1,0)),"")=0,"",IFERROR(INDEX('[1]予選ヒートAGr-レース結果表（貼付）'!$A:$Z,MATCH($B36,'[1]予選ヒートAGr-レース結果表（貼付）'!$B:$B,0),MATCH(P$11,'[1]予選ヒートAGr-レース結果表（貼付）'!$1:$1,0)),"")) | Q36: =IF(P36="","",COUNTIF($P$13:P36,"<>"&"")) | R36: =IFERROR(RANK(Q36,$Q$13:$Q$43,1),"") | S36: =IF(IFERROR(INDEX('[1]予選ヒートAGr-レース結果表（貼付）'!$A:$Z,MATCH($A36,'[1]予選ヒートAGr-レース結果表（貼付）'!$A:$A,0),MATCH(S$11,'[1]予選ヒートAGr-レース結果表（貼付）'!$1:$1,0)),"")=0,"",IFERROR(INDEX('[1]予選ヒートAGr-レース結果表（貼付）'!$A:$Z,MATCH($A36,'[1]予選ヒートAGr-レース結果表（貼付）'!$A:$A,0),MATCH(S$11,'[1]予選ヒートAGr-レース結果表（貼付）'!$1:$1,0)),"")) | U36: =IF(IFERROR(INDEX('[1]予選ヒートAGr-レース結果表（貼付）'!$A:$Z,MATCH($B36,'[1]予選ヒートAGr-レース結果表（貼付）'!$B:$B,0),MATCH(U$11,'[1]予選ヒートAGr-レース結果表（貼付）'!$1:$1,0)),"")=0,"",IFERROR(INDEX('[1]予選ヒートAGr-レース結果表（貼付）'!$A:$Z,MATCH($B36,'[1]予選ヒートAGr-レース結果表（貼付）'!$B:$B,0),MATCH(U$11,'[1]予選ヒートAGr-レース結果表（貼付）'!$1:$1,0)),""))
A37: =IF(OR('[1]予選ヒートAGr-レース結果表（貼付）'!A26="DNF",'[1]予選ヒートAGr-レース結果表（貼付）'!A26="DNS",'[1]予選ヒートAGr-レース結果表（貼付）'!A26="DQ"),'[1]予選ヒートAGr-レース結果表（貼付）'!A26,IF(MAX('[1]予選ヒートAGr-レース結果表（貼付）'!$A:$A)>A36,A36+1,"")) | B37: =IFERROR(INDEX('[1]予選ヒートAGr-レース結果表（貼付）'!A26:$Z$50,MATCH($A37,'[1]予選ヒートAGr-レース結果表（貼付）'!A26:$A$50,0),MATCH('[1]公式予選（TT）①-結果表（印刷）'!B$11,'[1]予選ヒートAGr-レース結果表（貼付）'!$1:$1,0)),"") | C37: =IFERROR(INDEX('[1]予選ヒートAGr-レース結果表（貼付）'!$A:$Z,MATCH($B37,'[1]予選ヒートAGr-レース結果表（貼付）'!$B:$B,0),MATCH('予選ヒートAGr-レース結果表'!C$11,'[1]予選ヒートAGr-レース結果表（貼付）'!$1:$1,0)),"") | D37: =IFERROR(INDEX('[1]予選ヒートAGr-レース結果表（貼付）'!$A:$Z,MATCH($B37,'[1]予選ヒートAGr-レース結果表（貼付）'!$B:$B,0),MATCH('予選ヒートAGr-レース結果表'!D$11,'[1]予選ヒートAGr-レース結果表（貼付）'!$1:$1,0)),"") | E37: =IFERROR(INDEX('[1]予選ヒートAGr-レース結果表（貼付）'!$A:$Z,MATCH($B37,'[1]予選ヒートAGr-レース結果表（貼付）'!$B:$B,0),MATCH('予選ヒートAGr-レース結果表'!E$11,'[1]予選ヒートAGr-レース結果表（貼付）'!$1:$1,0)),"") | F37: =IFERROR(INDEX('[1]予選ヒートAGr-レース結果表（貼付）'!$A:$Z,MATCH($B37,'[1]予選ヒートAGr-レース結果表（貼付）'!$B:$B,0),MATCH('予選ヒートAGr-レース結果表'!F$11,'[1]予選ヒートAGr-レース結果表（貼付）'!$1:$1,0)),"") | G37: =IFERROR(INDEX('[1]予選ヒートAGr-レース結果表（貼付）'!$A:$Z,MATCH($B37,'[1]予選ヒートAGr-レース結果表（貼付）'!$B:$B,0),MATCH('予選ヒートAGr-レース結果表'!G$11,'[1]予選ヒートAGr-レース結果表（貼付）'!$1:$1,0)),"") | H37: =IFERROR(IF(A37="DNS","",IF(A37="DQ","",INDEX('[1]予選ヒートAGr-レース結果表（貼付）'!$A:$Z,MATCH($B37,'[1]予選ヒートAGr-レース結果表（貼付）'!$B:$B,0),MATCH('予選ヒートAGr-レース結果表'!H$11,'[1]予選ヒートAGr-レース結果表（貼付）'!$1:$1,0)))),"") | I37: =IFERROR(IF(A37="DNS","ｽﾀｰﾄ出来ず",IF(A37="DQ","失 格",INDEX('[1]予選ヒートAGr-レース結果表（貼付）'!$A:$Z,MATCH($B37,'[1]予選ヒートAGr-レース結果表（貼付）'!$B:$B,0),MATCH('予選ヒートAGr-レース結果表'!I$11,'[1]予選ヒートAGr-レース結果表（貼付）'!$1:$1,0)))),"") | J37: =IFERROR(IF(A37="DNS","",IF(A37="DQ","",INDEX('[1]予選ヒートAGr-レース結果表（貼付）'!$A:$Z,MATCH($B37,'[1]予選ヒートAGr-レース結果表（貼付）'!$B:$B,0),MATCH('予選ヒートAGr-レース結果表'!J$11,'[1]予選ヒートAGr-レース結果表（貼付）'!$1:$1,0)))),"") | K37: =IFERROR(IF(A37="DNS","",IF(A37="DQ","",INDEX('[1]予選ヒートAGr-レース結果表（貼付）'!$A:$Z,MATCH($B37,'[1]予選ヒートAGr-レース結果表（貼付）'!$B:$B,0),MATCH('予選ヒートAGr-レース結果表'!K$11,'[1]予選ヒートAGr-レース結果表（貼付）'!$1:$1,0)))),"") | L37: =IFERROR(IF(A37="DNS","",IF(A37="DQ","",INDEX('[1]予選ヒートAGr-レース結果表（貼付）'!$A:$Z,MATCH($B37,'[1]予選ヒートAGr-レース結果表（貼付）'!$B:$B,0),MATCH('予選ヒートAGr-レース結果表'!L$11,'[1]予選ヒートAGr-レース結果表（貼付）'!$1:$1,0)))),"") | M37: =IF(L37<1,"",IF($M$11>L37,"R","")) | P37: =IF(IFERROR(INDEX('[1]予選ヒートAGr-レース結果表（貼付）'!$A:$Z,MATCH($B37,'[1]予選ヒートAGr-レース結果表（貼付）'!$B:$B,0),MATCH(P$11,'[1]予選ヒートAGr-レース結果表（貼付）'!$1:$1,0)),"")=0,"",IFERROR(INDEX('[1]予選ヒートAGr-レース結果表（貼付）'!$A:$Z,MATCH($B37,'[1]予選ヒートAGr-レース結果表（貼付）'!$B:$B,0),MATCH(P$11,'[1]予選ヒートAGr-レース結果表（貼付）'!$1:$1,0)),"")) | Q37: =IF(P37="","",COUNTIF($P$13:P37,"<>"&"")) | R37: =IFERROR(RANK(Q37,$Q$13:$Q$43,1),"") | S37: =IF(IFERROR(INDEX('[1]予選ヒートAGr-レース結果表（貼付）'!$A:$Z,MATCH($A37,'[1]予選ヒートAGr-レース結果表（貼付）'!$A:$A,0),MATCH(S$11,'[1]予選ヒートAGr-レース結果表（貼付）'!$1:$1,0)),"")=0,"",IFERROR(INDEX('[1]予選ヒートAGr-レース結果表（貼付）'!$A:$Z,MATCH($A37,'[1]予選ヒートAGr-レース結果表（貼付）'!$A:$A,0),MATCH(S$11,'[1]予選ヒートAGr-レース結果表（貼付）'!$1:$1,0)),"")) | U37: =IF(IFERROR(INDEX('[1]予選ヒートAGr-レース結果表（貼付）'!$A:$Z,MATCH($B37,'[1]予選ヒートAGr-レース結果表（貼付）'!$B:$B,0),MATCH(U$11,'[1]予選ヒートAGr-レース結果表（貼付）'!$1:$1,0)),"")=0,"",IFERROR(INDEX('[1]予選ヒートAGr-レース結果表（貼付）'!$A:$Z,MATCH($B37,'[1]予選ヒートAGr-レース結果表（貼付）'!$B:$B,0),MATCH(U$11,'[1]予選ヒートAGr-レース結果表（貼付）'!$1:$1,0)),""))
A38: =IF(OR('[1]予選ヒートAGr-レース結果表（貼付）'!A27="DNF",'[1]予選ヒートAGr-レース結果表（貼付）'!A27="DNS",'[1]予選ヒートAGr-レース結果表（貼付）'!A27="DQ"),'[1]予選ヒートAGr-レース結果表（貼付）'!A27,IF(MAX('[1]予選ヒートAGr-レース結果表（貼付）'!$A:$A)>A37,A37+1,"")) | B38: =IFERROR(INDEX('[1]予選ヒートAGr-レース結果表（貼付）'!A27:$Z$50,MATCH($A38,'[1]予選ヒートAGr-レース結果表（貼付）'!A27:$A$50,0),MATCH('[1]公式予選（TT）①-結果表（印刷）'!B$11,'[1]予選ヒートAGr-レース結果表（貼付）'!$1:$1,0)),"") | C38: =IFERROR(INDEX('[1]予選ヒートAGr-レース結果表（貼付）'!$A:$Z,MATCH($B38,'[1]予選ヒートAGr-レース結果表（貼付）'!$B:$B,0),MATCH('予選ヒートAGr-レース結果表'!C$11,'[1]予選ヒートAGr-レース結果表（貼付）'!$1:$1,0)),"") | D38: =IFERROR(INDEX('[1]予選ヒートAGr-レース結果表（貼付）'!$A:$Z,MATCH($B38,'[1]予選ヒートAGr-レース結果表（貼付）'!$B:$B,0),MATCH('予選ヒートAGr-レース結果表'!D$11,'[1]予選ヒートAGr-レース結果表（貼付）'!$1:$1,0)),"") | E38: =IFERROR(INDEX('[1]予選ヒートAGr-レース結果表（貼付）'!$A:$Z,MATCH($B38,'[1]予選ヒートAGr-レース結果表（貼付）'!$B:$B,0),MATCH('予選ヒートAGr-レース結果表'!E$11,'[1]予選ヒートAGr-レース結果表（貼付）'!$1:$1,0)),"") | F38: =IFERROR(INDEX('[1]予選ヒートAGr-レース結果表（貼付）'!$A:$Z,MATCH($B38,'[1]予選ヒートAGr-レース結果表（貼付）'!$B:$B,0),MATCH('予選ヒートAGr-レース結果表'!F$11,'[1]予選ヒートAGr-レース結果表（貼付）'!$1:$1,0)),"") | G38: =IFERROR(INDEX('[1]予選ヒートAGr-レース結果表（貼付）'!$A:$Z,MATCH($B38,'[1]予選ヒートAGr-レース結果表（貼付）'!$B:$B,0),MATCH('予選ヒートAGr-レース結果表'!G$11,'[1]予選ヒートAGr-レース結果表（貼付）'!$1:$1,0)),"") | H38: =IFERROR(IF(A38="DNS","",IF(A38="DQ","",INDEX('[1]予選ヒートAGr-レース結果表（貼付）'!$A:$Z,MATCH($B38,'[1]予選ヒートAGr-レース結果表（貼付）'!$B:$B,0),MATCH('予選ヒートAGr-レース結果表'!H$11,'[1]予選ヒートAGr-レース結果表（貼付）'!$1:$1,0)))),"") | I38: =IFERROR(IF(A38="DNS","ｽﾀｰﾄ出来ず",IF(A38="DQ","失 格",INDEX('[1]予選ヒートAGr-レース結果表（貼付）'!$A:$Z,MATCH($B38,'[1]予選ヒートAGr-レース結果表（貼付）'!$B:$B,0),MATCH('予選ヒートAGr-レース結果表'!I$11,'[1]予選ヒートAGr-レース結果表（貼付）'!$1:$1,0)))),"") | J38: =IFERROR(IF(A38="DNS","",IF(A38="DQ","",INDEX('[1]予選ヒートAGr-レース結果表（貼付）'!$A:$Z,MATCH($B38,'[1]予選ヒートAGr-レース結果表（貼付）'!$B:$B,0),MATCH('予選ヒートAGr-レース結果表'!J$11,'[1]予選ヒートAGr-レース結果表（貼付）'!$1:$1,0)))),"") | K38: =IFERROR(IF(A38="DNS","",IF(A38="DQ","",INDEX('[1]予選ヒートAGr-レース結果表（貼付）'!$A:$Z,MATCH($B38,'[1]予選ヒートAGr-レース結果表（貼付）'!$B:$B,0),MATCH('予選ヒートAGr-レース結果表'!K$11,'[1]予選ヒートAGr-レース結果表（貼付）'!$1:$1,0)))),"") | L38: =IFERROR(IF(A38="DNS","",IF(A38="DQ","",INDEX('[1]予選ヒートAGr-レース結果表（貼付）'!$A:$Z,MATCH($B38,'[1]予選ヒートAGr-レース結果表（貼付）'!$B:$B,0),MATCH('予選ヒートAGr-レース結果表'!L$11,'[1]予選ヒートAGr-レース結果表（貼付）'!$1:$1,0)))),"") | M38: =IF(L38<1,"",IF($M$11>L38,"R","")) | P38: =IF(IFERROR(INDEX('[1]予選ヒートAGr-レース結果表（貼付）'!$A:$Z,MATCH($B38,'[1]予選ヒートAGr-レース結果表（貼付）'!$B:$B,0),MATCH(P$11,'[1]予選ヒートAGr-レース結果表（貼付）'!$1:$1,0)),"")=0,"",IFERROR(INDEX('[1]予選ヒートAGr-レース結果表（貼付）'!$A:$Z,MATCH($B38,'[1]予選ヒートAGr-レース結果表（貼付）'!$B:$B,0),MATCH(P$11,'[1]予選ヒートAGr-レース結果表（貼付）'!$1:$1,0)),"")) | Q38: =IF(P38="","",COUNTIF($P$13:P38,"<>"&"")) | R38: =IFERROR(RANK(Q38,$Q$13:$Q$43,1),"") | S38: =IF(IFERROR(INDEX('[1]予選ヒートAGr-レース結果表（貼付）'!$A:$Z,MATCH($A38,'[1]予選ヒートAGr-レース結果表（貼付）'!$A:$A,0),MATCH(S$11,'[1]予選ヒートAGr-レース結果表（貼付）'!$1:$1,0)),"")=0,"",IFERROR(INDEX('[1]予選ヒートAGr-レース結果表（貼付）'!$A:$Z,MATCH($A38,'[1]予選ヒートAGr-レース結果表（貼付）'!$A:$A,0),MATCH(S$11,'[1]予選ヒートAGr-レース結果表（貼付）'!$1:$1,0)),"")) | U38: =IF(IFERROR(INDEX('[1]予選ヒートAGr-レース結果表（貼付）'!$A:$Z,MATCH($B38,'[1]予選ヒートAGr-レース結果表（貼付）'!$B:$B,0),MATCH(U$11,'[1]予選ヒートAGr-レース結果表（貼付）'!$1:$1,0)),"")=0,"",IFERROR(INDEX('[1]予選ヒートAGr-レース結果表（貼付）'!$A:$Z,MATCH($B38,'[1]予選ヒートAGr-レース結果表（貼付）'!$B:$B,0),MATCH(U$11,'[1]予選ヒートAGr-レース結果表（貼付）'!$1:$1,0)),""))
A39: =IF(OR('[1]予選ヒートAGr-レース結果表（貼付）'!A28="DNF",'[1]予選ヒートAGr-レース結果表（貼付）'!A28="DNS",'[1]予選ヒートAGr-レース結果表（貼付）'!A28="DQ"),'[1]予選ヒートAGr-レース結果表（貼付）'!A28,IF(MAX('[1]予選ヒートAGr-レース結果表（貼付）'!$A:$A)>A38,A38+1,"")) | B39: =IFERROR(INDEX('[1]予選ヒートAGr-レース結果表（貼付）'!A28:$Z$50,MATCH($A39,'[1]予選ヒートAGr-レース結果表（貼付）'!A28:$A$50,0),MATCH('[1]公式予選（TT）①-結果表（印刷）'!B$11,'[1]予選ヒートAGr-レース結果表（貼付）'!$1:$1,0)),"") | C39: =IFERROR(INDEX('[1]予選ヒートAGr-レース結果表（貼付）'!$A:$Z,MATCH($B39,'[1]予選ヒートAGr-レース結果表（貼付）'!$B:$B,0),MATCH('予選ヒートAGr-レース結果表'!C$11,'[1]予選ヒートAGr-レース結果表（貼付）'!$1:$1,0)),"") | D39: =IFERROR(INDEX('[1]予選ヒートAGr-レース結果表（貼付）'!$A:$Z,MATCH($B39,'[1]予選ヒートAGr-レース結果表（貼付）'!$B:$B,0),MATCH('予選ヒートAGr-レース結果表'!D$11,'[1]予選ヒートAGr-レース結果表（貼付）'!$1:$1,0)),"") | E39: =IFERROR(INDEX('[1]予選ヒートAGr-レース結果表（貼付）'!$A:$Z,MATCH($B39,'[1]予選ヒートAGr-レース結果表（貼付）'!$B:$B,0),MATCH('予選ヒートAGr-レース結果表'!E$11,'[1]予選ヒートAGr-レース結果表（貼付）'!$1:$1,0)),"") | F39: =IFERROR(INDEX('[1]予選ヒートAGr-レース結果表（貼付）'!$A:$Z,MATCH($B39,'[1]予選ヒートAGr-レース結果表（貼付）'!$B:$B,0),MATCH('予選ヒートAGr-レース結果表'!F$11,'[1]予選ヒートAGr-レース結果表（貼付）'!$1:$1,0)),"") | G39: =IFERROR(INDEX('[1]予選ヒートAGr-レース結果表（貼付）'!$A:$Z,MATCH($B39,'[1]予選ヒートAGr-レース結果表（貼付）'!$B:$B,0),MATCH('予選ヒートAGr-レース結果表'!G$11,'[1]予選ヒートAGr-レース結果表（貼付）'!$1:$1,0)),"") | H39: =IFERROR(IF(A39="DNS","",IF(A39="DQ","",INDEX('[1]予選ヒートAGr-レース結果表（貼付）'!$A:$Z,MATCH($B39,'[1]予選ヒートAGr-レース結果表（貼付）'!$B:$B,0),MATCH('予選ヒートAGr-レース結果表'!H$11,'[1]予選ヒートAGr-レース結果表（貼付）'!$1:$1,0)))),"") | I39: =IFERROR(IF(A39="DNS","ｽﾀｰﾄ出来ず",IF(A39="DQ","失 格",INDEX('[1]予選ヒートAGr-レース結果表（貼付）'!$A:$Z,MATCH($B39,'[1]予選ヒートAGr-レース結果表（貼付）'!$B:$B,0),MATCH('予選ヒートAGr-レース結果表'!I$11,'[1]予選ヒートAGr-レース結果表（貼付）'!$1:$1,0)))),"") | J39: =IFERROR(IF(A39="DNS","",IF(A39="DQ","",INDEX('[1]予選ヒートAGr-レース結果表（貼付）'!$A:$Z,MATCH($B39,'[1]予選ヒートAGr-レース結果表（貼付）'!$B:$B,0),MATCH('予選ヒートAGr-レース結果表'!J$11,'[1]予選ヒートAGr-レース結果表（貼付）'!$1:$1,0)))),"") | K39: =IFERROR(IF(A39="DNS","",IF(A39="DQ","",INDEX('[1]予選ヒートAGr-レース結果表（貼付）'!$A:$Z,MATCH($B39,'[1]予選ヒートAGr-レース結果表（貼付）'!$B:$B,0),MATCH('予選ヒートAGr-レース結果表'!K$11,'[1]予選ヒートAGr-レース結果表（貼付）'!$1:$1,0)))),"") | L39: =IFERROR(IF(A39="DNS","",IF(A39="DQ","",INDEX('[1]予選ヒートAGr-レース結果表（貼付）'!$A:$Z,MATCH($B39,'[1]予選ヒートAGr-レース結果表（貼付）'!$B:$B,0),MATCH('予選ヒートAGr-レース結果表'!L$11,'[1]予選ヒートAGr-レース結果表（貼付）'!$1:$1,0)))),"") | M39: =IF(L39<1,"",IF($M$11>L39,"R","")) | P39: =IF(IFERROR(INDEX('[1]予選ヒートAGr-レース結果表（貼付）'!$A:$Z,MATCH($B39,'[1]予選ヒートAGr-レース結果表（貼付）'!$B:$B,0),MATCH(P$11,'[1]予選ヒートAGr-レース結果表（貼付）'!$1:$1,0)),"")=0,"",IFERROR(INDEX('[1]予選ヒートAGr-レース結果表（貼付）'!$A:$Z,MATCH($B39,'[1]予選ヒートAGr-レース結果表（貼付）'!$B:$B,0),MATCH(P$11,'[1]予選ヒートAGr-レース結果表（貼付）'!$1:$1,0)),"")) | Q39: =IF(P39="","",COUNTIF($P$13:P39,"<>"&"")) | R39: =IFERROR(RANK(Q39,$Q$13:$Q$43,1),"") | S39: =IF(IFERROR(INDEX('[1]予選ヒートAGr-レース結果表（貼付）'!$A:$Z,MATCH($A39,'[1]予選ヒートAGr-レース結果表（貼付）'!$A:$A,0),MATCH(S$11,'[1]予選ヒートAGr-レース結果表（貼付）'!$1:$1,0)),"")=0,"",IFERROR(INDEX('[1]予選ヒートAGr-レース結果表（貼付）'!$A:$Z,MATCH($A39,'[1]予選ヒートAGr-レース結果表（貼付）'!$A:$A,0),MATCH(S$11,'[1]予選ヒートAGr-レース結果表（貼付）'!$1:$1,0)),"")) | U39: =IF(IFERROR(INDEX('[1]予選ヒートAGr-レース結果表（貼付）'!$A:$Z,MATCH($B39,'[1]予選ヒートAGr-レース結果表（貼付）'!$B:$B,0),MATCH(U$11,'[1]予選ヒートAGr-レース結果表（貼付）'!$1:$1,0)),"")=0,"",IFERROR(INDEX('[1]予選ヒートAGr-レース結果表（貼付）'!$A:$Z,MATCH($B39,'[1]予選ヒートAGr-レース結果表（貼付）'!$B:$B,0),MATCH(U$11,'[1]予選ヒートAGr-レース結果表（貼付）'!$1:$1,0)),""))
A40: =IF(OR('[1]予選ヒートAGr-レース結果表（貼付）'!A29="DNF",'[1]予選ヒートAGr-レース結果表（貼付）'!A29="DNS",'[1]予選ヒートAGr-レース結果表（貼付）'!A29="DQ"),'[1]予選ヒートAGr-レース結果表（貼付）'!A29,IF(MAX('[1]予選ヒートAGr-レース結果表（貼付）'!$A:$A)>A39,A39+1,"")) | B40: =IFERROR(INDEX('[1]予選ヒートAGr-レース結果表（貼付）'!A29:$Z$50,MATCH($A40,'[1]予選ヒートAGr-レース結果表（貼付）'!A29:$A$50,0),MATCH('[1]公式予選（TT）①-結果表（印刷）'!B$11,'[1]予選ヒートAGr-レース結果表（貼付）'!$1:$1,0)),"") | C40: =IFERROR(INDEX('[1]予選ヒートAGr-レース結果表（貼付）'!$A:$Z,MATCH($B40,'[1]予選ヒートAGr-レース結果表（貼付）'!$B:$B,0),MATCH('予選ヒートAGr-レース結果表'!C$11,'[1]予選ヒートAGr-レース結果表（貼付）'!$1:$1,0)),"") | D40: =IFERROR(INDEX('[1]予選ヒートAGr-レース結果表（貼付）'!$A:$Z,MATCH($B40,'[1]予選ヒートAGr-レース結果表（貼付）'!$B:$B,0),MATCH('予選ヒートAGr-レース結果表'!D$11,'[1]予選ヒートAGr-レース結果表（貼付）'!$1:$1,0)),"") | E40: =IFERROR(INDEX('[1]予選ヒートAGr-レース結果表（貼付）'!$A:$Z,MATCH($B40,'[1]予選ヒートAGr-レース結果表（貼付）'!$B:$B,0),MATCH('予選ヒートAGr-レース結果表'!E$11,'[1]予選ヒートAGr-レース結果表（貼付）'!$1:$1,0)),"") | F40: =IFERROR(INDEX('[1]予選ヒートAGr-レース結果表（貼付）'!$A:$Z,MATCH($B40,'[1]予選ヒートAGr-レース結果表（貼付）'!$B:$B,0),MATCH('予選ヒートAGr-レース結果表'!F$11,'[1]予選ヒートAGr-レース結果表（貼付）'!$1:$1,0)),"") | G40: =IFERROR(INDEX('[1]予選ヒートAGr-レース結果表（貼付）'!$A:$Z,MATCH($B40,'[1]予選ヒートAGr-レース結果表（貼付）'!$B:$B,0),MATCH('予選ヒートAGr-レース結果表'!G$11,'[1]予選ヒートAGr-レース結果表（貼付）'!$1:$1,0)),"") | H40: =IFERROR(IF(A40="DNS","",IF(A40="DQ","",INDEX('[1]予選ヒートAGr-レース結果表（貼付）'!$A:$Z,MATCH($B40,'[1]予選ヒートAGr-レース結果表（貼付）'!$B:$B,0),MATCH('予選ヒートAGr-レース結果表'!H$11,'[1]予選ヒートAGr-レース結果表（貼付）'!$1:$1,0)))),"") | I40: =IFERROR(IF(A40="DNS","ｽﾀｰﾄ出来ず",IF(A40="DQ","失 格",INDEX('[1]予選ヒートAGr-レース結果表（貼付）'!$A:$Z,MATCH($B40,'[1]予選ヒートAGr-レース結果表（貼付）'!$B:$B,0),MATCH('予選ヒートAGr-レース結果表'!I$11,'[1]予選ヒートAGr-レース結果表（貼付）'!$1:$1,0)))),"") | J40: =IFERROR(IF(A40="DNS","",IF(A40="DQ","",INDEX('[1]予選ヒートAGr-レース結果表（貼付）'!$A:$Z,MATCH($B40,'[1]予選ヒートAGr-レース結果表（貼付）'!$B:$B,0),MATCH('予選ヒートAGr-レース結果表'!J$11,'[1]予選ヒートAGr-レース結果表（貼付）'!$1:$1,0)))),"") | K40: =IFERROR(IF(A40="DNS","",IF(A40="DQ","",INDEX('[1]予選ヒートAGr-レース結果表（貼付）'!$A:$Z,MATCH($B40,'[1]予選ヒートAGr-レース結果表（貼付）'!$B:$B,0),MATCH('予選ヒートAGr-レース結果表'!K$11,'[1]予選ヒートAGr-レース結果表（貼付）'!$1:$1,0)))),"") | L40: =IFERROR(IF(A40="DNS","",IF(A40="DQ","",INDEX('[1]予選ヒートAGr-レース結果表（貼付）'!$A:$Z,MATCH($B40,'[1]予選ヒートAGr-レース結果表（貼付）'!$B:$B,0),MATCH('予選ヒートAGr-レース結果表'!L$11,'[1]予選ヒートAGr-レース結果表（貼付）'!$1:$1,0)))),"") | M40: =IF(L40<1,"",IF($M$11>L40,"R","")) | P40: =IF(IFERROR(INDEX('[1]予選ヒートAGr-レース結果表（貼付）'!$A:$Z,MATCH($B40,'[1]予選ヒートAGr-レース結果表（貼付）'!$B:$B,0),MATCH(P$11,'[1]予選ヒートAGr-レース結果表（貼付）'!$1:$1,0)),"")=0,"",IFERROR(INDEX('[1]予選ヒートAGr-レース結果表（貼付）'!$A:$Z,MATCH($B40,'[1]予選ヒートAGr-レース結果表（貼付）'!$B:$B,0),MATCH(P$11,'[1]予選ヒートAGr-レース結果表（貼付）'!$1:$1,0)),"")) | Q40: =IF(P40="","",COUNTIF($P$13:P40,"<>"&"")) | R40: =IFERROR(RANK(Q40,$Q$13:$Q$43,1),"") | S40: =IF(IFERROR(INDEX('[1]予選ヒートAGr-レース結果表（貼付）'!$A:$Z,MATCH($A40,'[1]予選ヒートAGr-レース結果表（貼付）'!$A:$A,0),MATCH(S$11,'[1]予選ヒートAGr-レース結果表（貼付）'!$1:$1,0)),"")=0,"",IFERROR(INDEX('[1]予選ヒートAGr-レース結果表（貼付）'!$A:$Z,MATCH($A40,'[1]予選ヒートAGr-レース結果表（貼付）'!$A:$A,0),MATCH(S$11,'[1]予選ヒートAGr-レース結果表（貼付）'!$1:$1,0)),"")) | U40: =IF(IFERROR(INDEX('[1]予選ヒートAGr-レース結果表（貼付）'!$A:$Z,MATCH($B40,'[1]予選ヒートAGr-レース結果表（貼付）'!$B:$B,0),MATCH(U$11,'[1]予選ヒートAGr-レース結果表（貼付）'!$1:$1,0)),"")=0,"",IFERROR(INDEX('[1]予選ヒートAGr-レース結果表（貼付）'!$A:$Z,MATCH($B40,'[1]予選ヒートAGr-レース結果表（貼付）'!$B:$B,0),MATCH(U$11,'[1]予選ヒートAGr-レース結果表（貼付）'!$1:$1,0)),""))
A41: =IF(OR('[1]予選ヒートAGr-レース結果表（貼付）'!A30="DNF",'[1]予選ヒートAGr-レース結果表（貼付）'!A30="DNS",'[1]予選ヒートAGr-レース結果表（貼付）'!A30="DQ"),'[1]予選ヒートAGr-レース結果表（貼付）'!A30,IF(MAX('[1]予選ヒートAGr-レース結果表（貼付）'!$A:$A)>A40,A40+1,"")) | B41: =IFERROR(INDEX('[1]予選ヒートAGr-レース結果表（貼付）'!A30:$Z$50,MATCH($A41,'[1]予選ヒートAGr-レース結果表（貼付）'!A30:$A$50,0),MATCH('[1]公式予選（TT）①-結果表（印刷）'!B$11,'[1]予選ヒートAGr-レース結果表（貼付）'!$1:$1,0)),"") | C41: =IFERROR(INDEX('[1]予選ヒートAGr-レース結果表（貼付）'!$A:$Z,MATCH($B41,'[1]予選ヒートAGr-レース結果表（貼付）'!$B:$B,0),MATCH('予選ヒートAGr-レース結果表'!C$11,'[1]予選ヒートAGr-レース結果表（貼付）'!$1:$1,0)),"") | D41: =IFERROR(INDEX('[1]予選ヒートAGr-レース結果表（貼付）'!$A:$Z,MATCH($B41,'[1]予選ヒートAGr-レース結果表（貼付）'!$B:$B,0),MATCH('予選ヒートAGr-レース結果表'!D$11,'[1]予選ヒートAGr-レース結果表（貼付）'!$1:$1,0)),"") | E41: =IFERROR(INDEX('[1]予選ヒートAGr-レース結果表（貼付）'!$A:$Z,MATCH($B41,'[1]予選ヒートAGr-レース結果表（貼付）'!$B:$B,0),MATCH('予選ヒートAGr-レース結果表'!E$11,'[1]予選ヒートAGr-レース結果表（貼付）'!$1:$1,0)),"") | F41: =IFERROR(INDEX('[1]予選ヒートAGr-レース結果表（貼付）'!$A:$Z,MATCH($B41,'[1]予選ヒートAGr-レース結果表（貼付）'!$B:$B,0),MATCH('予選ヒートAGr-レース結果表'!F$11,'[1]予選ヒートAGr-レース結果表（貼付）'!$1:$1,0)),"") | G41: =IFERROR(INDEX('[1]予選ヒートAGr-レース結果表（貼付）'!$A:$Z,MATCH($B41,'[1]予選ヒートAGr-レース結果表（貼付）'!$B:$B,0),MATCH('予選ヒートAGr-レース結果表'!G$11,'[1]予選ヒートAGr-レース結果表（貼付）'!$1:$1,0)),"") | H41: =IFERROR(IF(A41="DNS","",IF(A41="DQ","",INDEX('[1]予選ヒートAGr-レース結果表（貼付）'!$A:$Z,MATCH($B41,'[1]予選ヒートAGr-レース結果表（貼付）'!$B:$B,0),MATCH('予選ヒートAGr-レース結果表'!H$11,'[1]予選ヒートAGr-レース結果表（貼付）'!$1:$1,0)))),"") | I41: =IFERROR(IF(A41="DNS","ｽﾀｰﾄ出来ず",IF(A41="DQ","失 格",INDEX('[1]予選ヒートAGr-レース結果表（貼付）'!$A:$Z,MATCH($B41,'[1]予選ヒートAGr-レース結果表（貼付）'!$B:$B,0),MATCH('予選ヒートAGr-レース結果表'!I$11,'[1]予選ヒートAGr-レース結果表（貼付）'!$1:$1,0)))),"") | J41: =IFERROR(IF(A41="DNS","",IF(A41="DQ","",INDEX('[1]予選ヒートAGr-レース結果表（貼付）'!$A:$Z,MATCH($B41,'[1]予選ヒートAGr-レース結果表（貼付）'!$B:$B,0),MATCH('予選ヒートAGr-レース結果表'!J$11,'[1]予選ヒートAGr-レース結果表（貼付）'!$1:$1,0)))),"") | K41: =IFERROR(IF(A41="DNS","",IF(A41="DQ","",INDEX('[1]予選ヒートAGr-レース結果表（貼付）'!$A:$Z,MATCH($B41,'[1]予選ヒートAGr-レース結果表（貼付）'!$B:$B,0),MATCH('予選ヒートAGr-レース結果表'!K$11,'[1]予選ヒートAGr-レース結果表（貼付）'!$1:$1,0)))),"") | L41: =IFERROR(IF(A41="DNS","",IF(A41="DQ","",INDEX('[1]予選ヒートAGr-レース結果表（貼付）'!$A:$Z,MATCH($B41,'[1]予選ヒートAGr-レース結果表（貼付）'!$B:$B,0),MATCH('予選ヒートAGr-レース結果表'!L$11,'[1]予選ヒートAGr-レース結果表（貼付）'!$1:$1,0)))),"") | M41: =IF(L41<1,"",IF($M$11>L41,"R","")) | P41: =IF(IFERROR(INDEX('[1]予選ヒートAGr-レース結果表（貼付）'!$A:$Z,MATCH($B41,'[1]予選ヒートAGr-レース結果表（貼付）'!$B:$B,0),MATCH(P$11,'[1]予選ヒートAGr-レース結果表（貼付）'!$1:$1,0)),"")=0,"",IFERROR(INDEX('[1]予選ヒートAGr-レース結果表（貼付）'!$A:$Z,MATCH($B41,'[1]予選ヒートAGr-レース結果表（貼付）'!$B:$B,0),MATCH(P$11,'[1]予選ヒートAGr-レース結果表（貼付）'!$1:$1,0)),"")) | Q41: =IF(P41="","",COUNTIF($P$13:P41,"<>"&"")) | R41: =IFERROR(RANK(Q41,$Q$13:$Q$43,1),"") | S41: =IF(IFERROR(INDEX('[1]予選ヒートAGr-レース結果表（貼付）'!$A:$Z,MATCH($A41,'[1]予選ヒートAGr-レース結果表（貼付）'!$A:$A,0),MATCH(S$11,'[1]予選ヒートAGr-レース結果表（貼付）'!$1:$1,0)),"")=0,"",IFERROR(INDEX('[1]予選ヒートAGr-レース結果表（貼付）'!$A:$Z,MATCH($A41,'[1]予選ヒートAGr-レース結果表（貼付）'!$A:$A,0),MATCH(S$11,'[1]予選ヒートAGr-レース結果表（貼付）'!$1:$1,0)),"")) | U41: =IF(IFERROR(INDEX('[1]予選ヒートAGr-レース結果表（貼付）'!$A:$Z,MATCH($B41,'[1]予選ヒートAGr-レース結果表（貼付）'!$B:$B,0),MATCH(U$11,'[1]予選ヒートAGr-レース結果表（貼付）'!$1:$1,0)),"")=0,"",IFERROR(INDEX('[1]予選ヒートAGr-レース結果表（貼付）'!$A:$Z,MATCH($B41,'[1]予選ヒートAGr-レース結果表（貼付）'!$B:$B,0),MATCH(U$11,'[1]予選ヒートAGr-レース結果表（貼付）'!$1:$1,0)),""))
A42: =IF(OR('[1]予選ヒートAGr-レース結果表（貼付）'!A31="DNF",'[1]予選ヒートAGr-レース結果表（貼付）'!A31="DNS",'[1]予選ヒートAGr-レース結果表（貼付）'!A31="DQ"),'[1]予選ヒートAGr-レース結果表（貼付）'!A31,IF(MAX('[1]予選ヒートAGr-レース結果表（貼付）'!$A:$A)>A41,A41+1,"")) | B42: =IFERROR(INDEX('[1]予選ヒートAGr-レース結果表（貼付）'!A31:$Z$50,MATCH($A42,'[1]予選ヒートAGr-レース結果表（貼付）'!A31:$A$50,0),MATCH('[1]公式予選（TT）①-結果表（印刷）'!B$11,'[1]予選ヒートAGr-レース結果表（貼付）'!$1:$1,0)),"") | C42: =IFERROR(INDEX('[1]予選ヒートAGr-レース結果表（貼付）'!$A:$Z,MATCH($B42,'[1]予選ヒートAGr-レース結果表（貼付）'!$B:$B,0),MATCH('予選ヒートAGr-レース結果表'!C$11,'[1]予選ヒートAGr-レース結果表（貼付）'!$1:$1,0)),"") | D42: =IFERROR(INDEX('[1]予選ヒートAGr-レース結果表（貼付）'!$A:$Z,MATCH($B42,'[1]予選ヒートAGr-レース結果表（貼付）'!$B:$B,0),MATCH('予選ヒートAGr-レース結果表'!D$11,'[1]予選ヒートAGr-レース結果表（貼付）'!$1:$1,0)),"") | E42: =IFERROR(INDEX('[1]予選ヒートAGr-レース結果表（貼付）'!$A:$Z,MATCH($B42,'[1]予選ヒートAGr-レース結果表（貼付）'!$B:$B,0),MATCH('予選ヒートAGr-レース結果表'!E$11,'[1]予選ヒートAGr-レース結果表（貼付）'!$1:$1,0)),"") | F42: =IFERROR(INDEX('[1]予選ヒートAGr-レース結果表（貼付）'!$A:$Z,MATCH($B42,'[1]予選ヒートAGr-レース結果表（貼付）'!$B:$B,0),MATCH('予選ヒートAGr-レース結果表'!F$11,'[1]予選ヒートAGr-レース結果表（貼付）'!$1:$1,0)),"") | G42: =IFERROR(INDEX('[1]予選ヒートAGr-レース結果表（貼付）'!$A:$Z,MATCH($B42,'[1]予選ヒートAGr-レース結果表（貼付）'!$B:$B,0),MATCH('予選ヒートAGr-レース結果表'!G$11,'[1]予選ヒートAGr-レース結果表（貼付）'!$1:$1,0)),"") | H42: =IFERROR(IF(A42="DNS","",IF(A42="DQ","",INDEX('[1]予選ヒートAGr-レース結果表（貼付）'!$A:$Z,MATCH($B42,'[1]予選ヒートAGr-レース結果表（貼付）'!$B:$B,0),MATCH('予選ヒートAGr-レース結果表'!H$11,'[1]予選ヒートAGr-レース結果表（貼付）'!$1:$1,0)))),"") | I42: =IFERROR(IF(A42="DNS","ｽﾀｰﾄ出来ず",IF(A42="DQ","失 格",INDEX('[1]予選ヒートAGr-レース結果表（貼付）'!$A:$Z,MATCH($B42,'[1]予選ヒートAGr-レース結果表（貼付）'!$B:$B,0),MATCH('予選ヒートAGr-レース結果表'!I$11,'[1]予選ヒートAGr-レース結果表（貼付）'!$1:$1,0)))),"") | J42: =IFERROR(IF(A42="DNS","",IF(A42="DQ","",INDEX('[1]予選ヒートAGr-レース結果表（貼付）'!$A:$Z,MATCH($B42,'[1]予選ヒートAGr-レース結果表（貼付）'!$B:$B,0),MATCH('予選ヒートAGr-レース結果表'!J$11,'[1]予選ヒートAGr-レース結果表（貼付）'!$1:$1,0)))),"") | K42: =IFERROR(IF(A42="DNS","",IF(A42="DQ","",INDEX('[1]予選ヒートAGr-レース結果表（貼付）'!$A:$Z,MATCH($B42,'[1]予選ヒートAGr-レース結果表（貼付）'!$B:$B,0),MATCH('予選ヒートAGr-レース結果表'!K$11,'[1]予選ヒートAGr-レース結果表（貼付）'!$1:$1,0)))),"") | L42: =IFERROR(IF(A42="DNS","",IF(A42="DQ","",INDEX('[1]予選ヒートAGr-レース結果表（貼付）'!$A:$Z,MATCH($B42,'[1]予選ヒートAGr-レース結果表（貼付）'!$B:$B,0),MATCH('予選ヒートAGr-レース結果表'!L$11,'[1]予選ヒートAGr-レース結果表（貼付）'!$1:$1,0)))),"") | M42: =IF(L42<1,"",IF($M$11>L42,"R","")) | P42: =IF(IFERROR(INDEX('[1]予選ヒートAGr-レース結果表（貼付）'!$A:$Z,MATCH($B42,'[1]予選ヒートAGr-レース結果表（貼付）'!$B:$B,0),MATCH(P$11,'[1]予選ヒートAGr-レース結果表（貼付）'!$1:$1,0)),"")=0,"",IFERROR(INDEX('[1]予選ヒートAGr-レース結果表（貼付）'!$A:$Z,MATCH($B42,'[1]予選ヒートAGr-レース結果表（貼付）'!$B:$B,0),MATCH(P$11,'[1]予選ヒートAGr-レース結果表（貼付）'!$1:$1,0)),"")) | Q42: =IF(P42="","",COUNTIF($P$13:P42,"<>"&"")) | R42: =IFERROR(RANK(Q42,$Q$13:$Q$43,1),"") | S42: =IF(IFERROR(INDEX('[1]予選ヒートAGr-レース結果表（貼付）'!$A:$Z,MATCH($A42,'[1]予選ヒートAGr-レース結果表（貼付）'!$A:$A,0),MATCH(S$11,'[1]予選ヒートAGr-レース結果表（貼付）'!$1:$1,0)),"")=0,"",IFERROR(INDEX('[1]予選ヒートAGr-レース結果表（貼付）'!$A:$Z,MATCH($A42,'[1]予選ヒートAGr-レース結果表（貼付）'!$A:$A,0),MATCH(S$11,'[1]予選ヒートAGr-レース結果表（貼付）'!$1:$1,0)),"")) | U42: =IF(IFERROR(INDEX('[1]予選ヒートAGr-レース結果表（貼付）'!$A:$Z,MATCH($B42,'[1]予選ヒートAGr-レース結果表（貼付）'!$B:$B,0),MATCH(U$11,'[1]予選ヒートAGr-レース結果表（貼付）'!$1:$1,0)),"")=0,"",IFERROR(INDEX('[1]予選ヒートAGr-レース結果表（貼付）'!$A:$Z,MATCH($B42,'[1]予選ヒートAGr-レース結果表（貼付）'!$B:$B,0),MATCH(U$11,'[1]予選ヒートAGr-レース結果表（貼付）'!$1:$1,0)),""))
A43: =IF(OR('[1]予選ヒートAGr-レース結果表（貼付）'!A32="DNF",'[1]予選ヒートAGr-レース結果表（貼付）'!A32="DNS",'[1]予選ヒートAGr-レース結果表（貼付）'!A32="DQ"),'[1]予選ヒートAGr-レース結果表（貼付）'!A32,IF(MAX('[1]予選ヒートAGr-レース結果表（貼付）'!$A:$A)>A42,A42+1,"")) | B43: =IFERROR(INDEX('[1]予選ヒートAGr-レース結果表（貼付）'!A32:$Z$50,MATCH($A43,'[1]予選ヒートAGr-レース結果表（貼付）'!A32:$A$50,0),MATCH('[1]公式予選（TT）①-結果表（印刷）'!B$11,'[1]予選ヒートAGr-レース結果表（貼付）'!$1:$1,0)),"") | C43: =IFERROR(INDEX('[1]予選ヒートAGr-レース結果表（貼付）'!$A:$Z,MATCH($B43,'[1]予選ヒートAGr-レース結果表（貼付）'!$B:$B,0),MATCH('予選ヒートAGr-レース結果表'!C$11,'[1]予選ヒートAGr-レース結果表（貼付）'!$1:$1,0)),"") | D43: =IFERROR(INDEX('[1]予選ヒートAGr-レース結果表（貼付）'!$A:$Z,MATCH($B43,'[1]予選ヒートAGr-レース結果表（貼付）'!$B:$B,0),MATCH('予選ヒートAGr-レース結果表'!D$11,'[1]予選ヒートAGr-レース結果表（貼付）'!$1:$1,0)),"") | E43: =IFERROR(INDEX('[1]予選ヒートAGr-レース結果表（貼付）'!$A:$Z,MATCH($B43,'[1]予選ヒートAGr-レース結果表（貼付）'!$B:$B,0),MATCH('予選ヒートAGr-レース結果表'!E$11,'[1]予選ヒートAGr-レース結果表（貼付）'!$1:$1,0)),"") | F43: =IFERROR(INDEX('[1]予選ヒートAGr-レース結果表（貼付）'!$A:$Z,MATCH($B43,'[1]予選ヒートAGr-レース結果表（貼付）'!$B:$B,0),MATCH('予選ヒートAGr-レース結果表'!F$11,'[1]予選ヒートAGr-レース結果表（貼付）'!$1:$1,0)),"") | G43: =IFERROR(INDEX('[1]予選ヒートAGr-レース結果表（貼付）'!$A:$Z,MATCH($B43,'[1]予選ヒートAGr-レース結果表（貼付）'!$B:$B,0),MATCH('予選ヒートAGr-レース結果表'!G$11,'[1]予選ヒートAGr-レース結果表（貼付）'!$1:$1,0)),"") | H43: =IFERROR(IF(A43="DNS","",IF(A43="DQ","",INDEX('[1]予選ヒートAGr-レース結果表（貼付）'!$A:$Z,MATCH($B43,'[1]予選ヒートAGr-レース結果表（貼付）'!$B:$B,0),MATCH('予選ヒートAGr-レース結果表'!H$11,'[1]予選ヒートAGr-レース結果表（貼付）'!$1:$1,0)))),"") | I43: =IFERROR(IF(A43="DNS","ｽﾀｰﾄ出来ず",IF(A43="DQ","失 格",INDEX('[1]予選ヒートAGr-レース結果表（貼付）'!$A:$Z,MATCH($B43,'[1]予選ヒートAGr-レース結果表（貼付）'!$B:$B,0),MATCH('予選ヒートAGr-レース結果表'!I$11,'[1]予選ヒートAGr-レース結果表（貼付）'!$1:$1,0)))),"") | J43: =IFERROR(IF(A43="DNS","",IF(A43="DQ","",INDEX('[1]予選ヒートAGr-レース結果表（貼付）'!$A:$Z,MATCH($B43,'[1]予選ヒートAGr-レース結果表（貼付）'!$B:$B,0),MATCH('予選ヒートAGr-レース結果表'!J$11,'[1]予選ヒートAGr-レース結果表（貼付）'!$1:$1,0)))),"") | K43: =IFERROR(IF(A43="DNS","",IF(A43="DQ","",INDEX('[1]予選ヒートAGr-レース結果表（貼付）'!$A:$Z,MATCH($B43,'[1]予選ヒートAGr-レース結果表（貼付）'!$B:$B,0),MATCH('予選ヒートAGr-レース結果表'!K$11,'[1]予選ヒートAGr-レース結果表（貼付）'!$1:$1,0)))),"") | L43: =IFERROR(IF(A43="DNS","",IF(A43="DQ","",INDEX('[1]予選ヒートAGr-レース結果表（貼付）'!$A:$Z,MATCH($B43,'[1]予選ヒートAGr-レース結果表（貼付）'!$B:$B,0),MATCH('予選ヒートAGr-レース結果表'!L$11,'[1]予選ヒートAGr-レース結果表（貼付）'!$1:$1,0)))),"") | M43: =IF(L43<1,"",IF($M$11>L43,"R","")) | P43: =IF(IFERROR(INDEX('[1]予選ヒートAGr-レース結果表（貼付）'!$A:$Z,MATCH($B43,'[1]予選ヒートAGr-レース結果表（貼付）'!$B:$B,0),MATCH(P$11,'[1]予選ヒートAGr-レース結果表（貼付）'!$1:$1,0)),"")=0,"",IFERROR(INDEX('[1]予選ヒートAGr-レース結果表（貼付）'!$A:$Z,MATCH($B43,'[1]予選ヒートAGr-レース結果表（貼付）'!$B:$B,0),MATCH(P$11,'[1]予選ヒートAGr-レース結果表（貼付）'!$1:$1,0)),"")) | Q43: =IF(P43="","",COUNTIF($P$13:P43,"<>"&"")) | R43: =IFERROR(RANK(Q43,$Q$13:$Q$43,1),"") | S43: =IF(IFERROR(INDEX('[1]予選ヒートAGr-レース結果表（貼付）'!$A:$Z,MATCH($A43,'[1]予選ヒートAGr-レース結果表（貼付）'!$A:$A,0),MATCH(S$11,'[1]予選ヒートAGr-レース結果表（貼付）'!$1:$1,0)),"")=0,"",IFERROR(INDEX('[1]予選ヒートAGr-レース結果表（貼付）'!$A:$Z,MATCH($A43,'[1]予選ヒートAGr-レース結果表（貼付）'!$A:$A,0),MATCH(S$11,'[1]予選ヒートAGr-レース結果表（貼付）'!$1:$1,0)),"")) | U43: =IF(IFERROR(INDEX('[1]予選ヒートAGr-レース結果表（貼付）'!$A:$Z,MATCH($B43,'[1]予選ヒートAGr-レース結果表（貼付）'!$B:$B,0),MATCH(U$11,'[1]予選ヒートAGr-レース結果表（貼付）'!$1:$1,0)),"")=0,"",IFERROR(INDEX('[1]予選ヒートAGr-レース結果表（貼付）'!$A:$Z,MATCH($B43,'[1]予選ヒートAGr-レース結果表（貼付）'!$B:$B,0),MATCH(U$11,'[1]予選ヒートAGr-レース結果表（貼付）'!$1:$1,0)),""))
A44: =IF(OR('[1]予選ヒートAGr-レース結果表（貼付）'!A33="DNF",'[1]予選ヒートAGr-レース結果表（貼付）'!A33="DNS",'[1]予選ヒートAGr-レース結果表（貼付）'!A33="DQ"),'[1]予選ヒートAGr-レース結果表（貼付）'!A33,IF(MAX('[1]予選ヒートAGr-レース結果表（貼付）'!$A:$A)>A43,A43+1,"")) | B44: =IFERROR(INDEX('[1]予選ヒートAGr-レース結果表（貼付）'!A33:$Z$50,MATCH($A44,'[1]予選ヒートAGr-レース結果表（貼付）'!A33:$A$50,0),MATCH('[1]公式予選（TT）①-結果表（印刷）'!B$11,'[1]予選ヒートAGr-レース結果表（貼付）'!$1:$1,0)),"") | C44: =IFERROR(INDEX('[1]予選ヒートAGr-レース結果表（貼付）'!$A:$Z,MATCH($B44,'[1]予選ヒートAGr-レース結果表（貼付）'!$B:$B,0),MATCH('予選ヒートAGr-レース結果表'!C$11,'[1]予選ヒートAGr-レース結果表（貼付）'!$1:$1,0)),"") | D44: =IFERROR(INDEX('[1]予選ヒートAGr-レース結果表（貼付）'!$A:$Z,MATCH($B44,'[1]予選ヒートAGr-レース結果表（貼付）'!$B:$B,0),MATCH('予選ヒートAGr-レース結果表'!D$11,'[1]予選ヒートAGr-レース結果表（貼付）'!$1:$1,0)),"") | E44: =IFERROR(INDEX('[1]予選ヒートAGr-レース結果表（貼付）'!$A:$Z,MATCH($B44,'[1]予選ヒートAGr-レース結果表（貼付）'!$B:$B,0),MATCH('予選ヒートAGr-レース結果表'!E$11,'[1]予選ヒートAGr-レース結果表（貼付）'!$1:$1,0)),"") | F44: =IFERROR(INDEX('[1]予選ヒートAGr-レース結果表（貼付）'!$A:$Z,MATCH($B44,'[1]予選ヒートAGr-レース結果表（貼付）'!$B:$B,0),MATCH('予選ヒートAGr-レース結果表'!F$11,'[1]予選ヒートAGr-レース結果表（貼付）'!$1:$1,0)),"") | G44: =IFERROR(INDEX('[1]予選ヒートAGr-レース結果表（貼付）'!$A:$Z,MATCH($B44,'[1]予選ヒートAGr-レース結果表（貼付）'!$B:$B,0),MATCH('予選ヒートAGr-レース結果表'!G$11,'[1]予選ヒートAGr-レース結果表（貼付）'!$1:$1,0)),"") | H44: =IFERROR(IF(A44="DNS","",IF(A44="DQ","",INDEX('[1]予選ヒートAGr-レース結果表（貼付）'!$A:$Z,MATCH($B44,'[1]予選ヒートAGr-レース結果表（貼付）'!$B:$B,0),MATCH('予選ヒートAGr-レース結果表'!H$11,'[1]予選ヒートAGr-レース結果表（貼付）'!$1:$1,0)))),"") | I44: =IFERROR(IF(A44="DNS","ｽﾀｰﾄ出来ず",IF(A44="DQ","失 格",INDEX('[1]予選ヒートAGr-レース結果表（貼付）'!$A:$Z,MATCH($B44,'[1]予選ヒートAGr-レース結果表（貼付）'!$B:$B,0),MATCH('予選ヒートAGr-レース結果表'!I$11,'[1]予選ヒートAGr-レース結果表（貼付）'!$1:$1,0)))),"") | J44: =IFERROR(IF(A44="DNS","",IF(A44="DQ","",INDEX('[1]予選ヒートAGr-レース結果表（貼付）'!$A:$Z,MATCH($B44,'[1]予選ヒートAGr-レース結果表（貼付）'!$B:$B,0),MATCH('予選ヒートAGr-レース結果表'!J$11,'[1]予選ヒートAGr-レース結果表（貼付）'!$1:$1,0)))),"") | K44: =IFERROR(IF(A44="DNS","",IF(A44="DQ","",INDEX('[1]予選ヒートAGr-レース結果表（貼付）'!$A:$Z,MATCH($B44,'[1]予選ヒートAGr-レース結果表（貼付）'!$B:$B,0),MATCH('予選ヒートAGr-レース結果表'!K$11,'[1]予選ヒートAGr-レース結果表（貼付）'!$1:$1,0)))),"") | L44: =IFERROR(IF(A44="DNS","",IF(A44="DQ","",INDEX('[1]予選ヒートAGr-レース結果表（貼付）'!$A:$Z,MATCH($B44,'[1]予選ヒートAGr-レース結果表（貼付）'!$B:$B,0),MATCH('予選ヒートAGr-レース結果表'!L$11,'[1]予選ヒートAGr-レース結果表（貼付）'!$1:$1,0)))),"") | M44: =IF(L44<1,"",IF($M$11>L44,"R","")) | U44: =IF(IFERROR(INDEX('[1]予選ヒートAGr-レース結果表（貼付）'!$A:$Z,MATCH($B44,'[1]予選ヒートAGr-レース結果表（貼付）'!$B:$B,0),MATCH(U$11,'[1]予選ヒートAGr-レース結果表（貼付）'!$1:$1,0)),"")=0,"",IFERROR(INDEX('[1]予選ヒートAGr-レース結果表（貼付）'!$A:$Z,MATCH($B44,'[1]予選ヒートAGr-レース結果表（貼付）'!$B:$B,0),MATCH(U$11,'[1]予選ヒートAGr-レース結果表（貼付）'!$1:$1,0)),""))
A45: =IF(OR('[1]予選ヒートAGr-レース結果表（貼付）'!A34="DNF",'[1]予選ヒートAGr-レース結果表（貼付）'!A34="DNS",'[1]予選ヒートAGr-レース結果表（貼付）'!A34="DQ"),'[1]予選ヒートAGr-レース結果表（貼付）'!A34,IF(MAX('[1]予選ヒートAGr-レース結果表（貼付）'!$A:$A)>A44,A44+1,"")) | B45: =IFERROR(INDEX('[1]予選ヒートAGr-レース結果表（貼付）'!A34:$Z$50,MATCH($A45,'[1]予選ヒートAGr-レース結果表（貼付）'!A34:$A$50,0),MATCH('[1]公式予選（TT）①-結果表（印刷）'!B$11,'[1]予選ヒートAGr-レース結果表（貼付）'!$1:$1,0)),"") | C45: =IFERROR(INDEX('[1]予選ヒートAGr-レース結果表（貼付）'!$A:$Z,MATCH($B45,'[1]予選ヒートAGr-レース結果表（貼付）'!$B:$B,0),MATCH('予選ヒートAGr-レース結果表'!C$11,'[1]予選ヒートAGr-レース結果表（貼付）'!$1:$1,0)),"") | D45: =IFERROR(INDEX('[1]予選ヒートAGr-レース結果表（貼付）'!$A:$Z,MATCH($B45,'[1]予選ヒートAGr-レース結果表（貼付）'!$B:$B,0),MATCH('予選ヒートAGr-レース結果表'!D$11,'[1]予選ヒートAGr-レース結果表（貼付）'!$1:$1,0)),"") | E45: =IFERROR(INDEX('[1]予選ヒートAGr-レース結果表（貼付）'!$A:$Z,MATCH($B45,'[1]予選ヒートAGr-レース結果表（貼付）'!$B:$B,0),MATCH('予選ヒートAGr-レース結果表'!E$11,'[1]予選ヒートAGr-レース結果表（貼付）'!$1:$1,0)),"") | F45: =IFERROR(INDEX('[1]予選ヒートAGr-レース結果表（貼付）'!$A:$Z,MATCH($B45,'[1]予選ヒートAGr-レース結果表（貼付）'!$B:$B,0),MATCH('予選ヒートAGr-レース結果表'!F$11,'[1]予選ヒートAGr-レース結果表（貼付）'!$1:$1,0)),"") | G45: =IFERROR(INDEX('[1]予選ヒートAGr-レース結果表（貼付）'!$A:$Z,MATCH($B45,'[1]予選ヒートAGr-レース結果表（貼付）'!$B:$B,0),MATCH('予選ヒートAGr-レース結果表'!G$11,'[1]予選ヒートAGr-レース結果表（貼付）'!$1:$1,0)),"") | H45: =IFERROR(IF(A45="DNS","",IF(A45="DQ","",INDEX('[1]予選ヒートAGr-レース結果表（貼付）'!$A:$Z,MATCH($B45,'[1]予選ヒートAGr-レース結果表（貼付）'!$B:$B,0),MATCH('予選ヒートAGr-レース結果表'!H$11,'[1]予選ヒートAGr-レース結果表（貼付）'!$1:$1,0)))),"") | I45: =IFERROR(IF(A45="DNS","ｽﾀｰﾄ出来ず",IF(A45="DQ","失 格",INDEX('[1]予選ヒートAGr-レース結果表（貼付）'!$A:$Z,MATCH($B45,'[1]予選ヒートAGr-レース結果表（貼付）'!$B:$B,0),MATCH('予選ヒートAGr-レース結果表'!I$11,'[1]予選ヒートAGr-レース結果表（貼付）'!$1:$1,0)))),"") | J45: =IFERROR(IF(A45="DNS","",IF(A45="DQ","",INDEX('[1]予選ヒートAGr-レース結果表（貼付）'!$A:$Z,MATCH($B45,'[1]予選ヒートAGr-レース結果表（貼付）'!$B:$B,0),MATCH('予選ヒートAGr-レース結果表'!J$11,'[1]予選ヒートAGr-レース結果表（貼付）'!$1:$1,0)))),"") | K45: =IFERROR(IF(A45="DNS","",IF(A45="DQ","",INDEX('[1]予選ヒートAGr-レース結果表（貼付）'!$A:$Z,MATCH($B45,'[1]予選ヒートAGr-レース結果表（貼付）'!$B:$B,0),MATCH('予選ヒートAGr-レース結果表'!K$11,'[1]予選ヒートAGr-レース結果表（貼付）'!$1:$1,0)))),"") | L45: =IFERROR(IF(A45="DNS","",IF(A45="DQ","",INDEX('[1]予選ヒートAGr-レース結果表（貼付）'!$A:$Z,MATCH($B45,'[1]予選ヒートAGr-レース結果表（貼付）'!$B:$B,0),MATCH('予選ヒートAGr-レース結果表'!L$11,'[1]予選ヒートAGr-レース結果表（貼付）'!$1:$1,0)))),"") | M45: =IF(L45<1,"",IF($M$11>L45,"R","")) | U45: =IF(IFERROR(INDEX('[1]予選ヒートAGr-レース結果表（貼付）'!$A:$Z,MATCH($B45,'[1]予選ヒートAGr-レース結果表（貼付）'!$B:$B,0),MATCH(U$11,'[1]予選ヒートAGr-レース結果表（貼付）'!$1:$1,0)),"")=0,"",IFERROR(INDEX('[1]予選ヒートAGr-レース結果表（貼付）'!$A:$Z,MATCH($B45,'[1]予選ヒートAGr-レース結果表（貼付）'!$B:$B,0),MATCH(U$11,'[1]予選ヒートAGr-レース結果表（貼付）'!$1:$1,0)),""))
A46: =IF(OR('[1]予選ヒートAGr-レース結果表（貼付）'!A35="DNF",'[1]予選ヒートAGr-レース結果表（貼付）'!A35="DNS",'[1]予選ヒートAGr-レース結果表（貼付）'!A35="DQ"),'[1]予選ヒートAGr-レース結果表（貼付）'!A35,IF(MAX('[1]予選ヒートAGr-レース結果表（貼付）'!$A:$A)>A45,A45+1,"")) | B46: =IFERROR(INDEX('[1]予選ヒートAGr-レース結果表（貼付）'!A35:$Z$50,MATCH($A46,'[1]予選ヒートAGr-レース結果表（貼付）'!A35:$A$50,0),MATCH('[1]公式予選（TT）①-結果表（印刷）'!B$11,'[1]予選ヒートAGr-レース結果表（貼付）'!$1:$1,0)),"") | C46: =IFERROR(INDEX('[1]予選ヒートAGr-レース結果表（貼付）'!$A:$Z,MATCH($B46,'[1]予選ヒートAGr-レース結果表（貼付）'!$B:$B,0),MATCH('予選ヒートAGr-レース結果表'!C$11,'[1]予選ヒートAGr-レース結果表（貼付）'!$1:$1,0)),"") | D46: =IFERROR(INDEX('[1]予選ヒートAGr-レース結果表（貼付）'!$A:$Z,MATCH($B46,'[1]予選ヒートAGr-レース結果表（貼付）'!$B:$B,0),MATCH('予選ヒートAGr-レース結果表'!D$11,'[1]予選ヒートAGr-レース結果表（貼付）'!$1:$1,0)),"") | E46: =IFERROR(INDEX('[1]予選ヒートAGr-レース結果表（貼付）'!$A:$Z,MATCH($B46,'[1]予選ヒートAGr-レース結果表（貼付）'!$B:$B,0),MATCH('予選ヒートAGr-レース結果表'!E$11,'[1]予選ヒートAGr-レース結果表（貼付）'!$1:$1,0)),"") | F46: =IFERROR(INDEX('[1]予選ヒートAGr-レース結果表（貼付）'!$A:$Z,MATCH($B46,'[1]予選ヒートAGr-レース結果表（貼付）'!$B:$B,0),MATCH('予選ヒートAGr-レース結果表'!F$11,'[1]予選ヒートAGr-レース結果表（貼付）'!$1:$1,0)),"") | G46: =IFERROR(INDEX('[1]予選ヒートAGr-レース結果表（貼付）'!$A:$Z,MATCH($B46,'[1]予選ヒートAGr-レース結果表（貼付）'!$B:$B,0),MATCH('予選ヒートAGr-レース結果表'!G$11,'[1]予選ヒートAGr-レース結果表（貼付）'!$1:$1,0)),"") | H46: =IFERROR(IF(A46="DNS","",IF(A46="DQ","",INDEX('[1]予選ヒートAGr-レース結果表（貼付）'!$A:$Z,MATCH($B46,'[1]予選ヒートAGr-レース結果表（貼付）'!$B:$B,0),MATCH('予選ヒートAGr-レース結果表'!H$11,'[1]予選ヒートAGr-レース結果表（貼付）'!$1:$1,0)))),"") | I46: =IFERROR(IF(A46="DNS","ｽﾀｰﾄ出来ず",IF(A46="DQ","失 格",INDEX('[1]予選ヒートAGr-レース結果表（貼付）'!$A:$Z,MATCH($B46,'[1]予選ヒートAGr-レース結果表（貼付）'!$B:$B,0),MATCH('予選ヒートAGr-レース結果表'!I$11,'[1]予選ヒートAGr-レース結果表（貼付）'!$1:$1,0)))),"") | J46: =IFERROR(IF(A46="DNS","",IF(A46="DQ","",INDEX('[1]予選ヒートAGr-レース結果表（貼付）'!$A:$Z,MATCH($B46,'[1]予選ヒートAGr-レース結果表（貼付）'!$B:$B,0),MATCH('予選ヒートAGr-レース結果表'!J$11,'[1]予選ヒートAGr-レース結果表（貼付）'!$1:$1,0)))),"") | K46: =IFERROR(IF(A46="DNS","",IF(A46="DQ","",INDEX('[1]予選ヒートAGr-レース結果表（貼付）'!$A:$Z,MATCH($B46,'[1]予選ヒートAGr-レース結果表（貼付）'!$B:$B,0),MATCH('予選ヒートAGr-レース結果表'!K$11,'[1]予選ヒートAGr-レース結果表（貼付）'!$1:$1,0)))),"") | L46: =IFERROR(IF(A46="DNS","",IF(A46="DQ","",INDEX('[1]予選ヒートAGr-レース結果表（貼付）'!$A:$Z,MATCH($B46,'[1]予選ヒートAGr-レース結果表（貼付）'!$B:$B,0),MATCH('予選ヒートAGr-レース結果表'!L$11,'[1]予選ヒートAGr-レース結果表（貼付）'!$1:$1,0)))),"") | M46: =IF(L46<1,"",IF($M$11>L46,"R","")) | U46: =IF(IFERROR(INDEX('[1]予選ヒートAGr-レース結果表（貼付）'!$A:$Z,MATCH($B46,'[1]予選ヒートAGr-レース結果表（貼付）'!$B:$B,0),MATCH(U$11,'[1]予選ヒートAGr-レース結果表（貼付）'!$1:$1,0)),"")=0,"",IFERROR(INDEX('[1]予選ヒートAGr-レース結果表（貼付）'!$A:$Z,MATCH($B46,'[1]予選ヒートAGr-レース結果表（貼付）'!$B:$B,0),MATCH(U$11,'[1]予選ヒートAGr-レース結果表（貼付）'!$1:$1,0)),""))
A47: =IF(OR('[1]予選ヒートAGr-レース結果表（貼付）'!A36="DNF",'[1]予選ヒートAGr-レース結果表（貼付）'!A36="DNS",'[1]予選ヒートAGr-レース結果表（貼付）'!A36="DQ"),'[1]予選ヒートAGr-レース結果表（貼付）'!A36,IF(MAX('[1]予選ヒートAGr-レース結果表（貼付）'!$A:$A)>A46,A46+1,"")) | B47: =IFERROR(INDEX('[1]予選ヒートAGr-レース結果表（貼付）'!A36:$Z$50,MATCH($A47,'[1]予選ヒートAGr-レース結果表（貼付）'!A36:$A$50,0),MATCH('[1]公式予選（TT）①-結果表（印刷）'!B$11,'[1]予選ヒートAGr-レース結果表（貼付）'!$1:$1,0)),"") | D47: =IFERROR(INDEX('[1]予選ヒートAGr-レース結果表（貼付）'!$A:$Z,MATCH($A47,'[1]予選ヒートAGr-レース結果表（貼付）'!$A:$A,0),MATCH('予選ヒートAGr-レース結果表'!D$11,'[1]予選ヒートAGr-レース結果表（貼付）'!$1:$1,0)),"") | E47: =IFERROR(INDEX('[1]予選ヒートAGr-レース結果表（貼付）'!$A:$Z,MATCH($A47,'[1]予選ヒートAGr-レース結果表（貼付）'!$A:$A,0),MATCH('予選ヒートAGr-レース結果表'!E$11,'[1]予選ヒートAGr-レース結果表（貼付）'!$1:$1,0)),"") | F47: =IFERROR(INDEX('[1]予選ヒートAGr-レース結果表（貼付）'!$A:$Z,MATCH($A47,'[1]予選ヒートAGr-レース結果表（貼付）'!$A:$A,0),MATCH('予選ヒートAGr-レース結果表'!F$11,'[1]予選ヒートAGr-レース結果表（貼付）'!$1:$1,0)),"") | G47: =IFERROR(INDEX('[1]予選ヒートAGr-レース結果表（貼付）'!$A:$Z,MATCH($A47,'[1]予選ヒートAGr-レース結果表（貼付）'!$A:$A,0),MATCH('予選ヒートAGr-レース結果表'!G$11,'[1]予選ヒートAGr-レース結果表（貼付）'!$1:$1,0)),"") | I47: =IFERROR(IF(A47="DNS","ｽﾀｰﾄ出来ず",IF(A47="DQ","失 格",INDEX('[1]予選ヒートAGr-レース結果表（貼付）'!$A:$Z,MATCH($B47,'[1]予選ヒートAGr-レース結果表（貼付）'!$B:$B,0),MATCH('予選ヒートAGr-レース結果表'!I$11,'[1]予選ヒートAGr-レース結果表（貼付）'!$1:$1,0)))),"") | J47: =IFERROR(IF(A47="DNS","",IF(A47="DQ","",INDEX('[1]予選ヒートAGr-レース結果表（貼付）'!$A:$Z,MATCH($B47,'[1]予選ヒートAGr-レース結果表（貼付）'!$B:$B,0),MATCH('予選ヒートAGr-レース結果表'!J$11,'[1]予選ヒートAGr-レース結果表（貼付）'!$1:$1,0)))),"") | K47: =IFERROR(IF(A47="DNS","",IF(A47="DQ","",INDEX('[1]予選ヒートAGr-レース結果表（貼付）'!$A:$Z,MATCH($B47,'[1]予選ヒートAGr-レース結果表（貼付）'!$B:$B,0),MATCH('予選ヒートAGr-レース結果表'!K$11,'[1]予選ヒートAGr-レース結果表（貼付）'!$1:$1,0)))),"") | L47: =IFERROR(IF(A47="DNS","",IF(A47="DQ","",INDEX('[1]予選ヒートAGr-レース結果表（貼付）'!$A:$Z,MATCH($B47,'[1]予選ヒートAGr-レース結果表（貼付）'!$B:$B,0),MATCH('予選ヒートAGr-レース結果表'!L$11,'[1]予選ヒートAGr-レース結果表（貼付）'!$1:$1,0)))),"") | M47: =IF(L47<1,"",IF($M$11>L47,"R","")) | U47: =IF(IFERROR(INDEX('[1]予選ヒートAGr-レース結果表（貼付）'!$A:$Z,MATCH($B47,'[1]予選ヒートAGr-レース結果表（貼付）'!$B:$B,0),MATCH(U$11,'[1]予選ヒートAGr-レース結果表（貼付）'!$1:$1,0)),"")=0,"",IFERROR(INDEX('[1]予選ヒートAGr-レース結果表（貼付）'!$A:$Z,MATCH($B47,'[1]予選ヒートAGr-レース結果表（貼付）'!$B:$B,0),MATCH(U$11,'[1]予選ヒートAGr-レース結果表（貼付）'!$1:$1,0)),""))
A48: Fastest Lap | D48: ="No."&IFERROR(INDEX($A12:$Z45,MATCH($I$48,$U$12:$U$45,0),MATCH("No.",$11:$11,0)),"")&" "&IFERROR(INDEX($A12:$Z45,MATCH($I$48,$U$12:$U$45,0),MATCH("名前",$11:$11,0)),"") -> No.14 春日 龍之介 | E48: =IFERROR(INDEX($A12:$Z47,MATCH($I$48,$U$12:$U$47,0),MATCH("team",$11:$11,0)),"") -> SPS川口 | F48: =1.264/MAX(U:U)*3600 -> 54.93728 | H48: =INDEX('[1]予選ヒートAGr-レース結果表（貼付）'!$A:$Z,MATCH(INDEX($A12:$Z45,MATCH($I$48,$U$12:$U$45,0),MATCH("No.",$11:$11,0)),'[1]予選ヒートAGr-レース結果表（貼付）'!$B:$B,0),MATCH("In Lap",'[1]予選ヒートAGr-レース結果表（貼付）'!$1:$1,0))&"/"&IFERROR(INDEX($A12:$Z45,MATCH($I$48,$U$12:$U$45,0),MATCH("laps",$11:$11,0)),"") -> 10/12 | I48: =MAX(U:U) -> 82.829 | J48: km/h
A50: =IF(COUNTIF(M:M,"R")>=1,"R マークの車は、コースレコードを更新しました。従来のレコードタイムは"&" "&TEXT(ROUND($M$11,3),"[<1]m'ss.000;##0.000"),"")
A52: =IF(A53="","","ﾍﾟﾅﾙﾃｨ") -> ﾍﾟﾅﾙﾃｨ
A53: =IF(MAX(Q13:Q43)<1,"",1) -> 1 | B53: =IF(A53="","","No."&INDEX($A$11:$Y$43,MATCH($A53,$R$11:$R$43,0),MATCH("No.",$11:$11,0))) -> No.27 | C53: =INDEX($A$11:$Y$43,MATCH($A53,$R$11:$R$43,0),MATCH("コメント",$11:$11,0)) -> 全日本カート選手権統一規則書 第38条(25)(フロントフェアリングが正しい装着状態でない)により5秒加算した。
A54: =IF(A53<COUNTIF($R$12:$R$43,">"&0),A53+1,"") | B54: =IF(A54="","","No."&INDEX($A$11:$Y$43,MATCH($A54,$R$11:$R$43,0),MATCH("No.",$11:$11,0))) | C54: =INDEX($A$11:$Y$43,MATCH($A54,$R$11:$R$43,0),MATCH("コメント",$11:$11,0))
A55: =IF(A54<COUNTIF($R$12:$R$43,">"&0),A54+1,"") | B55: =IF(A55="","","No."&INDEX($A$11:$Y$43,MATCH($A55,$R$11:$R$43,0),MATCH("No.",$11:$11,0))) | C55: =INDEX($A$11:$Y$43,MATCH($A55,$R$11:$R$43,0),MATCH("コメント",$11:$11,0))
A56: =IF(A55<COUNTIF($R$12:$R$43,">"&0),A55+1,"") | B56: =IF(A56="","","No."&INDEX($A$11:$Y$43,MATCH($A56,$R$11:$R$43,0),MATCH("No.",$11:$11,0))) | C56: =INDEX($A$11:$Y$43,MATCH($A56,$R$11:$R$43,0),MATCH("コメント",$11:$11,0))
A57: =IF(A56<COUNTIF($R$12:$R$43,">"&0),A56+1,"") | B57: =IF(A57="","","No."&INDEX($A$11:$Y$43,MATCH($A57,$R$11:$R$43,0),MATCH("No.",$11:$11,0))) | C57: =INDEX($A$11:$Y$43,MATCH($A57,$R$11:$R$43,0),MATCH("コメント",$11:$11,0))
A58: =IF(A57<COUNTIF($R$12:$R$43,">"&0),A57+1,"") | B58: =IF(A58="","","No."&INDEX($A$11:$Y$43,MATCH($A58,$R$11:$R$43,0),MATCH("No.",$11:$11,0))) | C58: =INDEX($A$11:$Y$43,MATCH($A58,$R$11:$R$43,0),MATCH("コメント",$11:$11,0))
A59: =IF(A58<COUNTIF($R$12:$R$43,">"&0),A58+1,"") | B59: =IF(A59="","","No."&INDEX($A$11:$Y$43,MATCH($A59,$R$11:$R$43,0),MATCH("No.",$11:$11,0))) | C59: =INDEX($A$11:$Y$43,MATCH($A59,$R$11:$R$43,0),MATCH("コメント",$11:$11,0))
A60: =IF(A59<COUNTIF($R$12:$R$43,">"&0),A59+1,"") | B60: =IF(A60="","","No."&INDEX($A$11:$Y$43,MATCH($A60,$R$11:$R$43,0),MATCH("No.",$11:$11,0))) | C60: =INDEX($A$11:$Y$43,MATCH($A60,$R$11:$R$43,0),MATCH("コメント",$11:$11,0))
A61: =IF(A60<COUNTIF($R$12:$R$43,">"&0),A60+1,"") | B61: =IF(A61="","","No."&INDEX($A$11:$Y$43,MATCH($A61,$R$11:$R$43,0),MATCH("No.",$11:$11,0))) | C61: =INDEX($A$11:$Y$43,MATCH($A61,$R$11:$R$43,0),MATCH("コメント",$11:$11,0))
A62: =IF(A61<COUNTIF($R$12:$R$43,">"&0),A61+1,"") | B62: =IF(A62="","","No."&INDEX($A$11:$Y$43,MATCH($A62,$R$11:$R$43,0),MATCH("No.",$11:$11,0))) | C62: =INDEX($A$11:$Y$43,MATCH($A62,$R$11:$R$43,0),MATCH("コメント",$11:$11,0))
A63: =IF(A62<COUNTIF($R$12:$R$43,">"&0),A62+1,"") | B63: =IF(A63="","","No."&INDEX($A$11:$Y$43,MATCH($A63,$R$11:$R$43,0),MATCH("No.",$11:$11,0))) | C63: =INDEX($A$11:$Y$43,MATCH($A63,$R$11:$R$43,0),MATCH("コメント",$11:$11,0))
B65: ="審査委員長 ："&" "&[1]各種設定!$D$20 -> 審査委員長 ： Makoto SAITO | E65: ="競技委員長 ："&" "&[1]各種設定!$D$22 -> 競技委員長 ： Toshiaki KUBOTA | I65: ="計時委員長 ："&" "&[1]各種設定!$D$24 -> 計時委員長 ： Tsutomu HAYAKAWA

Sheet 予選ヒートBGr-レース結果表
J6: 44878 | L6: :
A7: =+[1]各種設定!D2 -> 2022年 全日本カート選手権 FS-125/FP-3部門 東西統一競技会 | J7: WEATHER: | K7: Rain
J8: COURSE : | K8: Dry/Wet
A9: =+[1]各種設定!D4 -> FP-3 | J9: 南コース 1.264Km
A10: Ｂ Ｇｒ.予選ヒート結果表
B11: No. | C11: ポイント | D11: 名前 | E11: Model/Engine | F11: Team | G11: Tires | H11: Laps | I11: Total Time | J11: 差 | K11: Gap | L11: BestLap | M11: =VLOOKUP(A9,[1]コースレコード!$A:$C,3,FALSE) -> 55.037 | P11: コメント | R11: ペナルティNo. | S11: グリッドコメント | U11: ベスト平均時速
A12: Pos. | B12: No. | C12: Point. | D12: Driver | E12: Type | F12: Team | G12: Tire | H12: Laps | I12: Total Time | J12: Delay | K12: Gap | L12: Best
A13: 1 | B13: =IFERROR(INDEX('[1]予選ヒートBGr-レース結果表（貼付）'!A2:$Z$50,MATCH($A13,'[1]予選ヒートBGr-レース結果表（貼付）'!A2:$A$50,0),MATCH('[1]公式予選（TT）①-結果表（印刷）'!B$11,'[1]予選ヒートBGr-レース結果表（貼付）'!$1:$1,0)),"") -> 11 | C13: 0 | D13: =IFERROR(INDEX('[1]予選ヒートBGr-レース結果表（貼付）'!$A:$Z,MATCH($B13,'[1]予選ヒートBGr-レース結果表（貼付）'!$B:$B,0),MATCH('予選ヒートBGr-レース結果表'!D$11,'[1]予選ヒートBGr-レース結果表（貼付）'!$1:$1,0)),"") -> 富下 李央菜 | E13: =IFERROR(INDEX('[1]予選ヒートBGr-レース結果表（貼付）'!$A:$Z,MATCH($B13,'[1]予選ヒートBGr-レース結果表（貼付）'!$B:$B,0),MATCH('予選ヒートBGr-レース結果表'!E$11,'[1]予選ヒートBGr-レース結果表（貼付）'!$1:$1,0)),"") -> KOSMIC/YAMAHA | F13: =IFERROR(INDEX('[1]予選ヒートBGr-レース結果表（貼付）'!$A:$Z,MATCH($B13,'[1]予選ヒートBGr-レース結果表（貼付）'!$B:$B,0),MATCH('予選ヒートBGr-レース結果表'!F$11,'[1]予選ヒートBGr-レース結果表（貼付）'!$1:$1,0)),"") -> Formula Blue TKC | G13: =IFERROR(INDEX('[1]予選ヒートBGr-レース結果表（貼付）'!$A:$Z,MATCH($B13,'[1]予選ヒートBGr-レース結果表（貼付）'!$B:$B,0),MATCH('予選ヒートBGr-レース結果表'!G$11,'[1]予選ヒートBGr-レース結果表（貼付）'!$1:$1,0)),"") -> BS | H13: =IFERROR(INDEX('[1]予選ヒートBGr-レース結果表（貼付）'!$A:$Z,MATCH($B13,'[1]予選ヒートBGr-レース結果表（貼付）'!$B:$B,0),MATCH('予選ヒートBGr-レース結果表'!H$11,'[1]予選ヒートBGr-レース結果表（貼付）'!$1:$1,0)),"") -> 12 | I13: =IFERROR(INDEX('[1]予選ヒートBGr-レース結果表（貼付）'!$A:$Z,MATCH($B13,'[1]予選ヒートBGr-レース結果表（貼付）'!$B:$B,0),MATCH('予選ヒートBGr-レース結果表'!I$11,'[1]予選ヒートBGr-レース結果表（貼付）'!$1:$1,0)),"") -> 0.0086406134 | J13: =ROUND((1.264*H13)/(I13*24),2)&"km/h" -> 73.14km/h | L13: =IFERROR(INDEX('[1]予選ヒートBGr-レース結果表（貼付）'!$A:$Z,MATCH($B13,'[1]予選ヒートBGr-レース結果表（貼付）'!$B:$B,0),MATCH('予選ヒートBGr-レース結果表'!L$11,'[1]予選ヒートBGr-レース結果表（貼付）'!$1:$1,0)),"") -> 0.00071700231 | M13: =IF(L13<1,"",IF($M$11>L13,"R","")) | P13: =IF(IFERROR(INDEX('[1]予選ヒートBGr-レース結果表（貼付）'!$A:$Z,MATCH($B13,'[1]予選ヒートBGr-レース結果表（貼付）'!$B:$B,0),MATCH(P$11,'[1]予選ヒートBGr-レース結果表（貼付）'!$1:$1,0)),"")=0,"",IFERROR(INDEX('[1]予選ヒートBGr-レース結果表（貼付）'!$A:$Z,MATCH($B13,'[1]予選ヒートBGr-レース結果表（貼付）'!$B:$B,0),MATCH(P$11,'[1]予選ヒートBGr-レース結果表（貼付）'!$1:$1,0)),"")) | Q13: =IF(P13="","",COUNTIF($P$13:P13,"<>"&"")) | R13: =IFERROR(RANK(Q13,$Q$13:$Q$46,1),"") | S13: =IF(IFERROR(INDEX('[1]予選ヒートBGr-レース結果表（貼付）'!$A:$Z,MATCH($A13,'[1]予選ヒートBGr-レース結果表（貼付）'!$A:$A,0),MATCH(S$11,'[1]予選ヒートBGr-レース結果表（貼付）'!$1:$1,0)),"")=0,"",IFERROR(INDEX('[1]予選ヒートBGr-レース結果表（貼付）'!$A:$Z,MATCH($A13,'[1]予選ヒートBGr-レース結果表（貼付）'!$A:$A,0),MATCH(S$11,'[1]予選ヒートBGr-レース結果表（貼付）'!$1:$1,0)),"")) | U13: =IF(IFERROR(INDEX('[1]予選ヒートBGr-レース結果表（貼付）'!$A:$Z,MATCH($B13,'[1]予選ヒートBGr-レース結果表（貼付）'!$B:$B,0),MATCH(U$11,'[1]予選ヒートBGr-レース結果表（貼付）'!$1:$1,0)),"")=0,"",IFERROR(INDEX('[1]予選ヒートBGr-レース結果表（貼付）'!$A:$Z,MATCH($B13,'[1]予選ヒートBGr-レース結果表（貼付）'!$B:$B,0),MATCH(U$11,'[1]予選ヒートBGr-レース結果表（貼付）'!$1:$1,0)),"")) -> 73.454
A14: =IF(OR('[1]予選ヒートBGr-レース結果表（貼付）'!A3="DNF",'[1]予選ヒートBGr-レース結果表（貼付）'!A3="DNS",'[1]予選ヒートBGr-レース結果表（貼付）'!A3="DQ"),'[1]予選ヒートBGr-レース結果表（貼付）'!A3,IF(MAX('[1]予選ヒートBGr-レース結果表（貼付）'!$A:$A)>A13,A13+1,"")) -> 2 | B14: =IFERROR(INDEX('[1]予選ヒートBGr-レース結果表（貼付）'!A3:$Z$50,MATCH($A14,'[1]予選ヒートBGr-レース結果表（貼付）'!A3:$A$50,0),MATCH('[1]公式予選（TT）①-結果表（印刷）'!B$11,'[1]予選ヒートBGr-レース結果表（貼付）'!$1:$1,0)),"") -> 84 | C14: 2 | D14: =IFERROR(INDEX('[1]予選ヒートBGr-レース結果表（貼付）'!$A:$Z,MATCH($A14,'[1]予選ヒートBGr-レース結果表（貼付）'!$A:$A,0),MATCH('予選ヒートBGr-レース結果表'!D$11,'[1]予選ヒートBGr-レース結果表（貼付）'!$1:$1,0)),"") -> 林 零仁 | E14: =IFERROR(INDEX('[1]予選ヒートBGr-レース結果表（貼付）'!$A:$Z,MATCH($A14,'[1]予選ヒートBGr-レース結果表（貼付）'!$A:$A,0),MATCH('予選ヒートBGr-レース結果表'!E$11,'[1]予選ヒートBGr-レース結果表（貼付）'!$1:$1,0)),"") -> EXPRIT/YAMAHA | F14: =IFERROR(INDEX('[1]予選ヒートBGr-レース結果表（貼付）'!$A:$Z,MATCH($A14,'[1]予選ヒートBGr-レース結果表（貼付）'!$A:$A,0),MATCH('予選ヒートBGr-レース結果表'!F$11,'[1]予選ヒートBGr-レース結果表（貼付）'!$1:$1,0)),"") -> ONE POINT | G14: =IFERROR(INDEX('[1]予選ヒートBGr-レース結果表（貼付）'!$A:$Z,MATCH($A14,'[1]予選ヒートBGr-レース結果表（貼付）'!$A:$A,0),MATCH('予選ヒートBGr-レース結果表'!G$11,'[1]予選ヒートBGr-レース結果表（貼付）'!$1:$1,0)),"") -> BS | H14: =IFERROR(INDEX('[1]予選ヒートBGr-レース結果表（貼付）'!$A:$Z,MATCH($A14,'[1]予選ヒートBGr-レース結果表（貼付）'!$A:$A,0),MATCH('予選ヒートBGr-レース結果表'!H$11,'[1]予選ヒートBGr-レース結果表（貼付）'!$1:$1,0)),"") -> 12 | I14: =IFERROR(INDEX('[1]予選ヒートBGr-レース結果表（貼付）'!$A:$Z,MATCH($A14,'[1]予選ヒートBGr-レース結果表（貼付）'!$A:$A,0),MATCH('予選ヒートBGr-レース結果表'!I$11,'[1]予選ヒートBGr-レース結果表（貼付）'!$1:$1,0)),"") -> 0.008797963 | J14: =IFERROR(IF(A14="DNS","",IF(A14="DQ","",INDEX('[1]予選ヒートBGr-レース結果表（貼付）'!$A:$Z,MATCH($B14,'[1]予選ヒートBGr-レース結果表（貼付）'!$B:$B,0),MATCH('予選ヒートBGr-レース結果表'!J$11,'[1]予選ヒートBGr-レース結果表（貼付）'!$1:$1,0)))),"") -> 13.595 | K14: =IFERROR(IF(A14="DNS","",IF(A14="DQ","",INDEX('[1]予選ヒートBGr-レース結果表（貼付）'!$A:$Z,MATCH($B14,'[1]予選ヒートBGr-レース結果表（貼付）'!$B:$B,0),MATCH('予選ヒートBGr-レース結果表'!K$11,'[1]予選ヒートBGr-レース結果表（貼付）'!$1:$1,0)))),"") -> 13.595 | L14: =IFERROR(IF(A14="DNS","",IF(A14="DQ","",INDEX('[1]予選ヒートBGr-レース結果表（貼付）'!$A:$Z,MATCH($B14,'[1]予選ヒートBGr-レース結果表（貼付）'!$B:$B,0),MATCH('予選ヒートBGr-レース結果表'!L$11,'[1]予選ヒートBGr-レース結果表（貼付）'!$1:$1,0)))),"") -> 0.0007244213 | M14: =IF(L14<1,"",IF($M$11>L14,"R","")) | P14: =IF(IFERROR(INDEX('[1]予選ヒートBGr-レース結果表（貼付）'!$A:$Z,MATCH($B14,'[1]予選ヒートBGr-レース結果表（貼付）'!$B:$B,0),MATCH(P$11,'[1]予選ヒートBGr-レース結果表（貼付）'!$1:$1,0)),"")=0,"",IFERROR(INDEX('[1]予選ヒートBGr-レース結果表（貼付）'!$A:$Z,MATCH($B14,'[1]予選ヒートBGr-レース結果表（貼付）'!$B:$B,0),MATCH(P$11,'[1]予選ヒートBGr-レース結果表（貼付）'!$1:$1,0)),"")) | Q14: =IF(P14="","",COUNTIF($P$13:P14,"<>"&"")) | R14: =IFERROR(RANK(Q14,$Q$13:$Q$46,1),"") | S14: =IF(IFERROR(INDEX('[1]予選ヒートBGr-レース結果表（貼付）'!$A:$Z,MATCH($A14,'[1]予選ヒートBGr-レース結果表（貼付）'!$A:$A,0),MATCH(S$11,'[1]予選ヒートBGr-レース結果表（貼付）'!$1:$1,0)),"")=0,"",IFERROR(INDEX('[1]予選ヒートBGr-レース結果表（貼付）'!$A:$Z,MATCH($A14,'[1]予選ヒートBGr-レース結果表（貼付）'!$A:$A,0),MATCH(S$11,'[1]予選ヒートBGr-レース結果表（貼付）'!$1:$1,0)),"")) | U14: =IF(IFERROR(INDEX('[1]予選ヒートBGr-レース結果表（貼付）'!$A:$Z,MATCH($B14,'[1]予選ヒートBGr-レース結果表（貼付）'!$B:$B,0),MATCH(U$11,'[1]予選ヒートBGr-レース結果表（貼付）'!$1:$1,0)),"")=0,"",IFERROR(INDEX('[1]予選ヒートBGr-レース結果表（貼付）'!$A:$Z,MATCH($B14,'[1]予選ヒートBGr-レース結果表（貼付）'!$B:$B,0),MATCH(U$11,'[1]予選ヒートBGr-レース結果表（貼付）'!$1:$1,0)),"")) -> 72.702
A15: =IF(OR('[1]予選ヒートBGr-レース結果表（貼付）'!A4="DNF",'[1]予選ヒートBGr-レース結果表（貼付）'!A4="DNS",'[1]予選ヒートBGr-レース結果表（貼付）'!A4="DQ"),'[1]予選ヒートBGr-レース結果表（貼付）'!A4,IF(MAX('[1]予選ヒートBGr-レース結果表（貼付）'!$A:$A)>A14,A14+1,"")) -> 3 | B15: =IFERROR(INDEX('[1]予選ヒートBGr-レース結果表（貼付）'!A4:$Z$50,MATCH($A15,'[1]予選ヒートBGr-レース結果表（貼付）'!A4:$A$50,0),MATCH('[1]公式予選（TT）①-結果表（印刷）'!B$11,'[1]予選ヒートBGr-レース結果表（貼付）'!$1:$1,0)),"") -> 37 | C15: 3 | D15: =IFERROR(INDEX('[1]予選ヒートBGr-レース結果表（貼付）'!$A:$Z,MATCH($A15,'[1]予選ヒートBGr-レース結果表（貼付）'!$A:$A,0),MATCH('予選ヒートBGr-レース結果表'!D$11,'[1]予選ヒートBGr-レース結果表（貼付）'!$1:$1,0)),"") -> 佐藤 琉葵 | E15: =IFERROR(INDEX('[1]予選ヒートBGr-レース結果表（貼付）'!$A:$Z,MATCH($A15,'[1]予選ヒートBGr-レース結果表（貼付）'!$A:$A,0),MATCH('予選ヒートBGr-レース結果表'!E$11,'[1]予選ヒートBGr-レース結果表（貼付）'!$1:$1,0)),"") -> LN KART/YAMAHA | F15: =IFERROR(INDEX('[1]予選ヒートBGr-レース結果表（貼付）'!$A:$Z,MATCH($A15,'[1]予選ヒートBGr-レース結果表（貼付）'!$A:$A,0),MATCH('予選ヒートBGr-レース結果表'!F$11,'[1]予選ヒートBGr-レース結果表（貼付）'!$1:$1,0)),"") -> DSM | G15: =IFERROR(INDEX('[1]予選ヒートBGr-レース結果表（貼付）'!$A:$Z,MATCH($A15,'[1]予選ヒートBGr-レース結果表（貼付）'!$A:$A,0),MATCH('予選ヒートBGr-レース結果表'!G$11,'[1]予選ヒートBGr-レース結果表（貼付）'!$1:$1,0)),"") -> BS | H15: =IFERROR(INDEX('[1]予選ヒートBGr-レース結果表（貼付）'!$A:$Z,MATCH($A15,'[1]予選ヒートBGr-レース結果表（貼付）'!$A:$A,0),MATCH('予選ヒートBGr-レース結果表'!H$11,'[1]予選ヒートBGr-レース結果表（貼付）'!$1:$1,0)),"") -> 12 | I15: =IFERROR(INDEX('[1]予選ヒートBGr-レース結果表（貼付）'!$A:$Z,MATCH($A15,'[1]予選ヒートBGr-レース結果表（貼付）'!$A:$A,0),MATCH('予選ヒートBGr-レース結果表'!I$11,'[1]予選ヒートBGr-レース結果表（貼付）'!$1:$1,0)),"") -> 0.008866875 | J15: =IFERROR(IF(A15="DNS","",IF(A15="DQ","",INDEX('[1]予選ヒートBGr-レース結果表（貼付）'!$A:$Z,MATCH($B15,'[1]予選ヒートBGr-レース結果表（貼付）'!$B:$B,0),MATCH('予選ヒートBGr-レース結果表'!J$11,'[1]予選ヒートBGr-レース結果表（貼付）'!$1:$1,0)))),"") -> 19.549 | K15: =IFERROR(IF(A15="DNS","",IF(A15="DQ","",INDEX('[1]予選ヒートBGr-レース結果表（貼付）'!$A:$Z,MATCH($B15,'[1]予選ヒートBGr-レース結果表（貼付）'!$B:$B,0),MATCH('予選ヒートBGr-レース結果表'!K$11,'[1]予選ヒートBGr-レース結果表（貼付）'!$1:$1,0)))),"") -> 5.954 | L15: =IFERROR(IF(A15="DNS","",IF(A15="DQ","",INDEX('[1]予選ヒートBGr-レース結果表（貼付）'!$A:$Z,MATCH($B15,'[1]予選ヒートBGr-レース結果表（貼付）'!$B:$B,0),MATCH('予選ヒートBGr-レース結果表'!L$11,'[1]予選ヒートBGr-レース結果表（貼付）'!$1:$1,0)))),"") -> 0.00072194444 | M15: =IF(L15<1,"",IF($M$11>L15,"R","")) | P15: =IF(IFERROR(INDEX('[1]予選ヒートBGr-レース結果表（貼付）'!$A:$Z,MATCH($B15,'[1]予選ヒートBGr-レース結果表（貼付）'!$B:$B,0),MATCH(P$11,'[1]予選ヒートBGr-レース結果表（貼付）'!$1:$1,0)),"")=0,"",IFERROR(INDEX('[1]予選ヒートBGr-レース結果表（貼付）'!$A:$Z,MATCH($B15,'[1]予選ヒートBGr-レース結果表（貼付）'!$B:$B,0),MATCH(P$11,'[1]予選ヒートBGr-レース結果表（貼付）'!$1:$1,0)),"")) -> 全日本カート選手権統一規則書 第38条(25)(フロントフェアリングが正しい装着状態でない)により5秒加算した。 | Q15: =IF(P15="","",COUNTIF($P$13:P15,"<>"&"")) -> 3 | R15: =IFERROR(RANK(Q15,$Q$13:$Q$46,1),"") -> 1 | S15: =IF(IFERROR(INDEX('[1]予選ヒートBGr-レース結果表（貼付）'!$A:$Z,MATCH($A15,'[1]予選ヒートBGr-レース結果表（貼付）'!$A:$A,0),MATCH(S$11,'[1]予選ヒートBGr-レース結果表（貼付）'!$1:$1,0)),"")=0,"",IFERROR(INDEX('[1]予選ヒートBGr-レース結果表（貼付）'!$A:$Z,MATCH($A15,'[1]予選ヒートBGr-レース結果表（貼付）'!$A:$A,0),MATCH(S$11,'[1]予選ヒートBGr-レース結果表（貼付）'!$1:$1,0)),"")) | U15: =IF(IFERROR(INDEX('[1]予選ヒートBGr-レース結果表（貼付）'!$A:$Z,MATCH($B15,'[1]予選ヒートBGr-レース結果表（貼付）'!$B:$B,0),MATCH(U$11,'[1]予選ヒートBGr-レース結果表（貼付）'!$1:$1,0)),"")=0,"",IFERROR(INDEX('[1]予選ヒートBGr-レース結果表（貼付）'!$A:$Z,MATCH($B15,'[1]予選ヒートBGr-レース結果表（貼付）'!$B:$B,0),MATCH(U$11,'[1]予選ヒートBGr-レース結果表（貼付）'!$1:$1,0)),"")) -> 72.951
A16: =IF(OR('[1]予選ヒートBGr-レース結果表（貼付）'!A5="DNF",'[1]予選ヒートBGr-レース結果表（貼付）'!A5="DNS",'[1]予選ヒートBGr-レース結果表（貼付）'!A5="DQ"),'[1]予選ヒートBGr-レース結果表（貼付）'!A5,IF(MAX('[1]予選ヒートBGr-レース結果表（貼付）'!$A:$A)>A15,A15+1,"")) -> 4 | B16: =IFERROR(INDEX('[1]予選ヒートBGr-レース結果表（貼付）'!A5:$Z$50,MATCH($A16,'[1]予選ヒートBGr-レース結果表（貼付）'!A5:$A$50,0),MATCH('[1]公式予選（TT）①-結果表（印刷）'!B$11,'[1]予選ヒートBGr-レース結果表（貼付）'!$1:$1,0)),"") -> 47 | C16: 4 | D16: =IFERROR(INDEX('[1]予選ヒートBGr-レース結果表（貼付）'!$A:$Z,MATCH($A16,'[1]予選ヒートBGr-レース結果表（貼付）'!$A:$A,0),MATCH('予選ヒートBGr-レース結果表'!D$11,'[1]予選ヒートBGr-レース結果表（貼付）'!$1:$1,0)),"") -> 大島 良介 | E16: =IFERROR(INDEX('[1]予選ヒートBGr-レース結果表（貼付）'!$A:$Z,MATCH($A16,'[1]予選ヒートBGr-レース結果表（貼付）'!$A:$A,0),MATCH('予選ヒートBGr-レース結果表'!E$11,'[1]予選ヒートBGr-レース結果表（貼付）'!$1:$1,0)),"") -> TONY KART/YAMAHA | F16: =IFERROR(INDEX('[1]予選ヒートBGr-レース結果表（貼付）'!$A:$Z,MATCH($A16,'[1]予選ヒートBGr-レース結果表（貼付）'!$A:$A,0),MATCH('予選ヒートBGr-レース結果表'!F$11,'[1]予選ヒートBGr-レース結果表（貼付）'!$1:$1,0)),"") -> RS-1 | G16: =IFERROR(INDEX('[1]予選ヒートBGr-レース結果表（貼付）'!$A:$Z,MATCH($A16,'[1]予選ヒートBGr-レース結果表（貼付）'!$A:$A,0),MATCH('予選ヒートBGr-レース結果表'!G$11,'[1]予選ヒートBGr-レース結果表（貼付）'!$1:$1,0)),"") -> BS | H16: =IFERROR(INDEX('[1]予選ヒートBGr-レース結果表（貼付）'!$A:$Z,MATCH($A16,'[1]予選ヒートBGr-レース結果表（貼付）'!$A:$A,0),MATCH('予選ヒートBGr-レース結果表'!H$11,'[1]予選ヒートBGr-レース結果表（貼付）'!$1:$1,0)),"") -> 12 | I16: =IFERROR(INDEX('[1]予選ヒートBGr-レース結果表（貼付）'!$A:$Z,MATCH($A16,'[1]予選ヒートBGr-レース結果表（貼付）'!$A:$A,0),MATCH('予選ヒートBGr-レース結果表'!I$11,'[1]予選ヒートBGr-レース結果表（貼付）'!$1:$1,0)),"") -> 0.0089788542 | J16: =IFERROR(IF(A16="DNS","",IF(A16="DQ","",INDEX('[1]予選ヒートBGr-レース結果表（貼付）'!$A:$Z,MATCH($B16,'[1]予選ヒートBGr-レース結果表（貼付）'!$B:$B,0),MATCH('予選ヒートBGr-レース結果表'!J$11,'[1]予選ヒートBGr-レース結果表（貼付）'!$1:$1,0)))),"") -> 29.224 | K16: =IFERROR(IF(A16="DNS","",IF(A16="DQ","",INDEX('[1]予選ヒートBGr-レース結果表（貼付）'!$A:$Z,MATCH($B16,'[1]予選ヒートBGr-レース結果表（貼付）'!$B:$B,0),MATCH('予選ヒートBGr-レース結果表'!K$11,'[1]予選ヒートBGr-レース結果表（貼付）'!$1:$1,0)))),"") -> 9.675 | L16: =IFERROR(IF(A16="DNS","",IF(A16="DQ","",INDEX('[1]予選ヒートBGr-レース結果表（貼付）'!$A:$Z,MATCH($B16,'[1]予選ヒートBGr-レース結果表（貼付）'!$B:$B,0),MATCH('予選ヒートBGr-レース結果表'!L$11,'[1]予選ヒートBGr-レース結果表（貼付）'!$1:$1,0)))),"") -> 0.00073876157 | M16: =IF(L16<1,"",IF($M$11>L16,"R","")) | P16: =IF(IFERROR(INDEX('[1]予選ヒートBGr-レース結果表（貼付）'!$A:$Z,MATCH($B16,'[1]予選ヒートBGr-レース結果表（貼付）'!$B:$B,0),MATCH(P$11,'[1]予選ヒートBGr-レース結果表（貼付）'!$1:$1,0)),"")=0,"",IFERROR(INDEX('[1]予選ヒートBGr-レース結果表（貼付）'!$A:$Z,MATCH($B16,'[1]予選ヒートBGr-レース結果表（貼付）'!$B:$B,0),MATCH(P$11,'[1]予選ヒートBGr-レース結果表（貼付）'!$1:$1,0)),"")) | Q16: =IF(P16="","",COUNTIF($P$13:P16,"<>"&"")) | R16: =IFERROR(RANK(Q16,$Q$13:$Q$46,1),"") | S16: =IF(IFERROR(INDEX('[1]予選ヒートBGr-レース結果表（貼付）'!$A:$Z,MATCH($A16,'[1]予選ヒートBGr-レース結果表（貼付）'!$A:$A,0),MATCH(S$11,'[1]予選ヒートBGr-レース結果表（貼付）'!$1:$1,0)),"")=0,"",IFERROR(INDEX('[1]予選ヒートBGr-レース結果表（貼付）'!$A:$Z,MATCH($A16,'[1]予選ヒートBGr-レース結果表（貼付）'!$A:$A,0),MATCH(S$11,'[1]予選ヒートBGr-レース結果表（貼付）'!$1:$1,0)),"")) | U16: =IF(IFERROR(INDEX('[1]予選ヒートBGr-レース結果表（貼付）'!$A:$Z,MATCH($B16,'[1]予選ヒートBGr-レース結果表（貼付）'!$B:$B,0),MATCH(U$11,'[1]予選ヒートBGr-レース結果表（貼付）'!$1:$1,0)),"")=0,"",IFERROR(INDEX('[1]予選ヒートBGr-レース結果表（貼付）'!$A:$Z,MATCH($B16,'[1]予選ヒートBGr-レース結果表（貼付）'!$B:$B,0),MATCH(U$11,'[1]予選ヒートBGr-レース結果表（貼付）'!$1:$1,0)),"")) -> 71.29
A17: =IF(OR('[1]予選ヒートBGr-レース結果表（貼付）'!A6="DNF",'[1]予選ヒートBGr-レース結果表（貼付）'!A6="DNS",'[1]予選ヒートBGr-レース結果表（貼付）'!A6="DQ"),'[1]予選ヒートBGr-レース結果表（貼付）'!A6,IF(MAX('[1]予選ヒートBGr-レース結果表（貼付）'!$A:$A)>A16,A16+1,"")) -> 5 | B17: =IFERROR(INDEX('[1]予選ヒートBGr-レース結果表（貼付）'!A6:$Z$50,MATCH($A17,'[1]予選ヒートBGr-レース結果表（貼付）'!A6:$A$50,0),MATCH('[1]公式予選（TT）①-結果表（印刷）'!B$11,'[1]予選ヒートBGr-レース結果表（貼付）'!$1:$1,0)),"") -> 19 | C17: 5 | D17: =IFERROR(INDEX('[1]予選ヒートBGr-レース結果表（貼付）'!$A:$Z,MATCH($A17,'[1]予選ヒートBGr-レース結果表（貼付）'!$A:$A,0),MATCH('予選ヒートBGr-レース結果表'!D$11,'[1]予選ヒートBGr-レース結果表（貼付）'!$1:$1,0)),"") -> 蒲生 尚弥 | E17: =IFERROR(INDEX('[1]予選ヒートBGr-レース結果表（貼付）'!$A:$Z,MATCH($A17,'[1]予選ヒートBGr-レース結果表（貼付）'!$A:$A,0),MATCH('予選ヒートBGr-レース結果表'!E$11,'[1]予選ヒートBGr-レース結果表（貼付）'!$1:$1,0)),"") -> CL/YAMAHA | F17: =IFERROR(INDEX('[1]予選ヒートBGr-レース結果表（貼付）'!$A:$Z,MATCH($A17,'[1]予選ヒートBGr-レース結果表（貼付）'!$A:$A,0),MATCH('予選ヒートBGr-レース結果表'!F$11,'[1]予選ヒートBGr-レース結果表（貼付）'!$1:$1,0)),"") -> のりものクラブTIGRE | G17: =IFERROR(INDEX('[1]予選ヒートBGr-レース結果表（貼付）'!$A:$Z,MATCH($A17,'[1]予選ヒートBGr-レース結果表（貼付）'!$A:$A,0),MATCH('予選ヒートBGr-レース結果表'!G$11,'[1]予選ヒートBGr-レース結果表（貼付）'!$1:$1,0)),"") -> BS | H17: =IFERROR(INDEX('[1]予選ヒートBGr-レース結果表（貼付）'!$A:$Z,MATCH($A17,'[1]予選ヒートBGr-レース結果表（貼付）'!$A:$A,0),MATCH('予選ヒートBGr-レース結果表'!H$11,'[1]予選ヒートBGr-レース結果表（貼付）'!$1:$1,0)),"") -> 12 | I17: =IFERROR(INDEX('[1]予選ヒートBGr-レース結果表（貼付）'!$A:$Z,MATCH($A17,'[1]予選ヒートBGr-レース結果表（貼付）'!$A:$A,0),MATCH('予選ヒートBGr-レース結果表'!I$11,'[1]予選ヒートBGr-レース結果表（貼付）'!$1:$1,0)),"") -> 0.0089983912 | J17: =IFERROR(IF(A17="DNS","",IF(A17="DQ","",INDEX('[1]予選ヒートBGr-レース結果表（貼付）'!$A:$Z,MATCH($B17,'[1]予選ヒートBGr-レース結果表（貼付）'!$B:$B,0),MATCH('予選ヒートBGr-レース結果表'!J$11,'[1]予選ヒートBGr-レース結果表（貼付）'!$1:$1,0)))),"") -> 30.912 | K17: =IFERROR(IF(A17="DNS","",IF(A17="DQ","",INDEX('[1]予選ヒートBGr-レース結果表（貼付）'!$A:$Z,MATCH($B17,'[1]予選ヒートBGr-レース結果表（貼付）'!$B:$B,0),MATCH('予選ヒートBGr-レース結果表'!K$11,'[1]予選ヒートBGr-レース結果表（貼付）'!$1:$1,0)))),"") -> 1.688 | L17: =IFERROR(IF(A17="DNS","",IF(A17="DQ","",INDEX('[1]予選ヒートBGr-レース結果表（貼付）'!$A:$Z,MATCH($B17,'[1]予選ヒートBGr-レース結果表（貼付）'!$B:$B,0),MATCH('予選ヒートBGr-レース結果表'!L$11,'[1]予選ヒートBGr-レース結果表（貼付）'!$1:$1,0)))),"") -> 0.00074293981 | M17: =IF(L17<1,"",IF($M$11>L17,"R","")) | P17: =IF(IFERROR(INDEX('[1]予選ヒートBGr-レース結果表（貼付）'!$A:$Z,MATCH($B17,'[1]予選ヒートBGr-レース結果表（貼付）'!$B:$B,0),MATCH(P$11,'[1]予選ヒートBGr-レース結果表（貼付）'!$1:$1,0)),"")=0,"",IFERROR(INDEX('[1]予選ヒートBGr-レース結果表（貼付）'!$A:$Z,MATCH($B17,'[1]予選ヒートBGr-レース結果表（貼付）'!$B:$B,0),MATCH(P$11,'[1]予選ヒートBGr-レース結果表（貼付）'!$1:$1,0)),"")) | Q17: =IF(P17="","",COUNTIF($P$13:P17,"<>"&"")) | R17: =IFERROR(RANK(Q17,$Q$13:$Q$46,1),"") | S17: =IF(IFERROR(INDEX('[1]予選ヒートBGr-レース結果表（貼付）'!$A:$Z,MATCH($A17,'[1]予選ヒートBGr-レース結果表（貼付）'!$A:$A,0),MATCH(S$11,'[1]予選ヒートBGr-レース結果表（貼付）'!$1:$1,0)),"")=0,"",IFERROR(INDEX('[1]予選ヒートBGr-レース結果表（貼付）'!$A:$Z,MATCH($A17,'[1]予選ヒートBGr-レース結果表（貼付）'!$A:$A,0),MATCH(S$11,'[1]予選ヒートBGr-レース結果表（貼付）'!$1:$1,0)),"")) | U17: =IF(IFERROR(INDEX('[1]予選ヒートBGr-レース結果表（貼付）'!$A:$Z,MATCH($B17,'[1]予選ヒートBGr-レース結果表（貼付）'!$B:$B,0),MATCH(U$11,'[1]予選ヒートBGr-レース結果表（貼付）'!$1:$1,0)),"")=0,"",IFERROR(INDEX('[1]予選ヒートBGr-レース結果表（貼付）'!$A:$Z,MATCH($B17,'[1]予選ヒートBGr-レース結果表（貼付）'!$B:$B,0),MATCH(U$11,'[1]予選ヒートBGr-レース結果表（貼付）'!$1:$1,0)),"")) -> 70.89
A18: =IF(OR('[1]予選ヒートBGr-レース結果表（貼付）'!A7="DNF",'[1]予選ヒートBGr-レース結果表（貼付）'!A7="DNS",'[1]予選ヒートBGr-レース結果表（貼付）'!A7="DQ"),'[1]予選ヒートBGr-レース結果表（貼付）'!A7,IF(MAX('[1]予選ヒートBGr-レース結果表（貼付）'!$A:$A)>A17,A17+1,"")) -> 6 | B18: =IFERROR(INDEX('[1]予選ヒートBGr-レース結果表（貼付）'!A7:$Z$50,MATCH($A18,'[1]予選ヒートBGr-レース結果表（貼付）'!A7:$A$50,0),MATCH('[1]公式予選（TT）①-結果表（印刷）'!B$11,'[1]予選ヒートBGr-レース結果表（貼付）'!$1:$1,0)),"") -> 44 | C18: 6 | D18: =IFERROR(INDEX('[1]予選ヒートBGr-レース結果表（貼付）'!$A:$Z,MATCH($A18,'[1]予選ヒートBGr-レース結果表（貼付）'!$A:$A,0),MATCH('予選ヒートBGr-レース結果表'!D$11,'[1]予選ヒートBGr-レース結果表（貼付）'!$1:$1,0)),"") -> 中村 海斗 | E18: =IFERROR(INDEX('[1]予選ヒートBGr-レース結果表（貼付）'!$A:$Z,MATCH($A18,'[1]予選ヒートBGr-レース結果表（貼付）'!$A:$A,0),MATCH('予選ヒートBGr-レース結果表'!E$11,'[1]予選ヒートBGr-レース結果表（貼付）'!$1:$1,0)),"") -> TONY KART/YAMAHA | F18: =IFERROR(INDEX('[1]予選ヒートBGr-レース結果表（貼付）'!$A:$Z,MATCH($A18,'[1]予選ヒートBGr-レース結果表（貼付）'!$A:$A,0),MATCH('予選ヒートBGr-レース結果表'!F$11,'[1]予選ヒートBGr-レース結果表（貼付）'!$1:$1,0)),"") -> TEAM NAGAO | G18: =IFERROR(INDEX('[1]予選ヒートBGr-レース結果表（貼付）'!$A:$Z,MATCH($A18,'[1]予選ヒートBGr-レース結果表（貼付）'!$A:$A,0),MATCH('予選ヒートBGr-レース結果表'!G$11,'[1]予選ヒートBGr-レース結果表（貼付）'!$1:$1,0)),"") -> BS | H18: =IFERROR(INDEX('[1]予選ヒートBGr-レース結果表（貼付）'!$A:$Z,MATCH($A18,'[1]予選ヒートBGr-レース結果表（貼付）'!$A:$A,0),MATCH('予選ヒートBGr-レース結果表'!H$11,'[1]予選ヒートBGr-レース結果表（貼付）'!$1:$1,0)),"") -> 12 | I18: =IFERROR(INDEX('[1]予選ヒートBGr-レース結果表（貼付）'!$A:$Z,MATCH($A18,'[1]予選ヒートBGr-レース結果表（貼付）'!$A:$A,0),MATCH('予選ヒートBGr-レース結果表'!I$11,'[1]予選ヒートBGr-レース結果表（貼付）'!$1:$1,0)),"") -> 0.0090096759 | J18: =IFERROR(IF(A18="DNS","",IF(A18="DQ","",INDEX('[1]予選ヒートBGr-レース結果表（貼付）'!$A:$Z,MATCH($B18,'[1]予選ヒートBGr-レース結果表（貼付）'!$B:$B,0),MATCH('予選ヒートBGr-レース結果表'!J$11,'[1]予選ヒートBGr-レース結果表（貼付）'!$1:$1,0)))),"") -> 31.887 | K18: =IFERROR(IF(A18="DNS","",IF(A18="DQ","",INDEX('[1]予選ヒートBGr-レース結果表（貼付）'!$A:$Z,MATCH($B18,'[1]予選ヒートBGr-レース結果表（貼付）'!$B:$B,0),MATCH('予選ヒートBGr-レース結果表'!K$11,'[1]予選ヒートBGr-レース結果表（貼付）'!$1:$1,0)))),"") -> 0.975 | L18: =IFERROR(IF(A18="DNS","",IF(A18="DQ","",INDEX('[1]予選ヒートBGr-レース結果表（貼付）'!$A:$Z,MATCH($B18,'[1]予選ヒートBGr-レース結果表（貼付）'!$B:$B,0),MATCH('予選ヒートBGr-レース結果表'!L$11,'[1]予選ヒートBGr-レース結果表（貼付）'!$1:$1,0)))),"") -> 0.00074179398 | M18: =IF(L18<1,"",IF($M$11>L18,"R","")) | P18: =IF(IFERROR(INDEX('[1]予選ヒートBGr-レース結果表（貼付）'!$A:$Z,MATCH($B18,'[1]予選ヒートBGr-レース結果表（貼付）'!$B:$B,0),MATCH(P$11,'[1]予選ヒートBGr-レース結果表（貼付）'!$1:$1,0)),"")=0,"",IFERROR(INDEX('[1]予選ヒートBGr-レース結果表（貼付）'!$A:$Z,MATCH($B18,'[1]予選ヒートBGr-レース結果表（貼付）'!$B:$B,0),MATCH(P$11,'[1]予選ヒートBGr-レース結果表（貼付）'!$1:$1,0)),"")) | Q18: =IF(P18="","",COUNTIF($P$13:P18,"<>"&"")) | R18: =IFERROR(RANK(Q18,$Q$13:$Q$46,1),"") | S18: =IF(IFERROR(INDEX('[1]予選ヒートBGr-レース結果表（貼付）'!$A:$Z,MATCH($A18,'[1]予選ヒートBGr-レース結果表（貼付）'!$A:$A,0),MATCH(S$11,'[1]予選ヒートBGr-レース結果表（貼付）'!$1:$1,0)),"")=0,"",IFERROR(INDEX('[1]予選ヒートBGr-レース結果表（貼付）'!$A:$Z,MATCH($A18,'[1]予選ヒートBGr-レース結果表（貼付）'!$A:$A,0),MATCH(S$11,'[1]予選ヒートBGr-レース結果表（貼付）'!$1:$1,0)),"")) | U18: =IF(IFERROR(INDEX('[1]予選ヒートBGr-レース結果表（貼付）'!$A:$Z,MATCH($B18,'[1]予選ヒートBGr-レース結果表（貼付）'!$B:$B,0),MATCH(U$11,'[1]予選ヒートBGr-レース結果表（貼付）'!$1:$1,0)),"")=0,"",IFERROR(INDEX('[1]予選ヒートBGr-レース結果表（貼付）'!$A:$Z,MATCH($B18,'[1]予選ヒートBGr-レース結果表（貼付）'!$B:$B,0),MATCH(U$11,'[1]予選ヒートBGr-レース結果表（貼付）'!$1:$1,0)),"")) -> 70.999
A19: =IF(OR('[1]予選ヒートBGr-レース結果表（貼付）'!A8="DNF",'[1]予選ヒートBGr-レース結果表（貼付）'!A8="DNS",'[1]予選ヒートBGr-レース結果表（貼付）'!A8="DQ"),'[1]予選ヒートBGr-レース結果表（貼付）'!A8,IF(MAX('[1]予選ヒートBGr-レース結果表（貼付）'!$A:$A)>A18,A18+1,"")) -> 7 | B19: =IFERROR(INDEX('[1]予選ヒートBGr-レース結果表（貼付）'!A8:$Z$50,MATCH($A19,'[1]予選ヒートBGr-レース結果表（貼付）'!A8:$A$50,0),MATCH('[1]公式予選（TT）①-結果表（印刷）'!B$11,'[1]予選ヒートBGr-レース結果表（貼付）'!$1:$1,0)),"") -> 25 | C19: 7 | D19: =IFERROR(INDEX('[1]予選ヒートBGr-レース結果表（貼付）'!$A:$Z,MATCH($A19,'[1]予選ヒートBGr-レース結果表（貼付）'!$A:$A,0),MATCH('予選ヒートBGr-レース結果表'!D$11,'[1]予選ヒートBGr-レース結果表（貼付）'!$1:$1,0)),"") -> 鈴木 恵武 | E19: =IFERROR(INDEX('[1]予選ヒートBGr-レース結果表（貼付）'!$A:$Z,MATCH($A19,'[1]予選ヒートBGr-レース結果表（貼付）'!$A:$A,0),MATCH('予選ヒートBGr-レース結果表'!E$11,'[1]予選ヒートBGr-レース結果表（貼付）'!$1:$1,0)),"") -> KOSMIC/YAMAHA | F19: =IFERROR(INDEX('[1]予選ヒートBGr-レース結果表（貼付）'!$A:$Z,MATCH($A19,'[1]予選ヒートBGr-レース結果表（貼付）'!$A:$A,0),MATCH('予選ヒートBGr-レース結果表'!F$11,'[1]予選ヒートBGr-レース結果表（貼付）'!$1:$1,0)),"") -> Formula Blue 増田スピード | G19: =IFERROR(INDEX('[1]予選ヒートBGr-レース結果表（貼付）'!$A:$Z,MATCH($A19,'[1]予選ヒートBGr-レース結果表（貼付）'!$A:$A,0),MATCH('予選ヒートBGr-レース結果表'!G$11,'[1]予選ヒートBGr-レース結果表（貼付）'!$1:$1,0)),"") -> BS | H19: =IFERROR(INDEX('[1]予選ヒートBGr-レース結果表（貼付）'!$A:$Z,MATCH($A19,'[1]予選ヒートBGr-レース結果表（貼付）'!$A:$A,0),MATCH('予選ヒートBGr-レース結果表'!H$11,'[1]予選ヒートBGr-レース結果表（貼付）'!$1:$1,0)),"") -> 12 | I19: =IFERROR(INDEX('[1]予選ヒートBGr-レース結果表（貼付）'!$A:$Z,MATCH($A19,'[1]予選ヒートBGr-レース結果表（貼付）'!$A:$A,0),MATCH('予選ヒートBGr-レース結果表'!I$11,'[1]予選ヒートBGr-レース結果表（貼付）'!$1:$1,0)),"") -> 0.0090434722 | J19: =IFERROR(IF(A19="DNS","",IF(A19="DQ","",INDEX('[1]予選ヒートBGr-レース結果表（貼付）'!$A:$Z,MATCH($B19,'[1]予選ヒートBGr-レース結果表（貼付）'!$B:$B,0),MATCH('予選ヒートBGr-レース結果表'!J$11,'[1]予選ヒートBGr-レース結果表（貼付）'!$1:$1,0)))),"") -> 34.807 | K19: =IFERROR(IF(A19="DNS","",IF(A19="DQ","",INDEX('[1]予選ヒートBGr-レース結果表（貼付）'!$A:$Z,MATCH($B19,'[1]予選ヒートBGr-レース結果表（貼付）'!$B:$B,0),MATCH('予選ヒートBGr-レース結果表'!K$11,'[1]予選ヒートBGr-レース結果表（貼付）'!$1:$1,0)))),"") -> 2.92 | L19: =IFERROR(IF(A19="DNS","",IF(A19="DQ","",INDEX('[1]予選ヒートBGr-レース結果表（貼付）'!$A:$Z,MATCH($B19,'[1]予選ヒートBGr-レース結果表（貼付）'!$B:$B,0),MATCH('予選ヒートBGr-レース結果表'!L$11,'[1]予選ヒートBGr-レース結果表（貼付）'!$1:$1,0)))),"") -> 0.00074659722 | M19: =IF(L19<1,"",IF($M$11>L19,"R","")) | P19: =IF(IFERROR(INDEX('[1]予選ヒートBGr-レース結果表（貼付）'!$A:$Z,MATCH($B19,'[1]予選ヒートBGr-レース結果表（貼付）'!$B:$B,0),MATCH(P$11,'[1]予選ヒートBGr-レース結果表（貼付）'!$1:$1,0)),"")=0,"",IFERROR(INDEX('[1]予選ヒートBGr-レース結果表（貼付）'!$A:$Z,MATCH($B19,'[1]予選ヒートBGr-レース結果表（貼付）'!$B:$B,0),MATCH(P$11,'[1]予選ヒートBGr-レース結果表（貼付）'!$1:$1,0)),"")) | Q19: =IF(P19="","",COUNTIF($P$13:P19,"<>"&"")) | R19: =IFERROR(RANK(Q19,$Q$13:$Q$46,1),"") | S19: =IF(IFERROR(INDEX('[1]予選ヒートBGr-レース結果表（貼付）'!$A:$Z,MATCH($A19,'[1]予選ヒートBGr-レース結果表（貼付）'!$A:$A,0),MATCH(S$11,'[1]予選ヒートBGr-レース結果表（貼付）'!$1:$1,0)),"")=0,"",IFERROR(INDEX('[1]予選ヒートBGr-レース結果表（貼付）'!$A:$Z,MATCH($A19,'[1]予選ヒートBGr-レース結果表（貼付）'!$A:$A,0),MATCH(S$11,'[1]予選ヒートBGr-レース結果表（貼付）'!$1:$1,0)),"")) | U19: =IF(IFERROR(INDEX('[1]予選ヒートBGr-レース結果表（貼付）'!$A:$Z,MATCH($B19,'[1]予選ヒートBGr-レース結果表（貼付）'!$B:$B,0),MATCH(U$11,'[1]予選ヒートBGr-レース結果表（貼付）'!$1:$1,0)),"")=0,"",IFERROR(INDEX('[1]予選ヒートBGr-レース結果表（貼付）'!$A:$Z,MATCH($B19,'[1]予選ヒートBGr-レース結果表（貼付）'!$B:$B,0),MATCH(U$11,'[1]予選ヒートBGr-レース結果表（貼付）'!$1:$1,0)),"")) -> 70.542
A20: =IF(OR('[1]予選ヒートBGr-レース結果表（貼付）'!A9="DNF",'[1]予選ヒートBGr-レース結果表（貼付）'!A9="DNS",'[1]予選ヒートBGr-レース結果表（貼付）'!A9="DQ"),'[1]予選ヒートBGr-レース結果表（貼付）'!A9,IF(MAX('[1]予選ヒートBGr-レース結果表（貼付）'!$A:$A)>A19,A19+1,"")) -> 8 | B20: =IFERROR(INDEX('[1]予選ヒートBGr-レース結果表（貼付）'!A9:$Z$50,MATCH($A20,'[1]予選ヒートBGr-レース結果表（貼付）'!A9:$A$50,0),MATCH('[1]公式予選（TT）①-結果表（印刷）'!B$11,'[1]予選ヒートBGr-レース結果表（貼付）'!$1:$1,0)),"") -> 10 | C20: 8 | D20: =IFERROR(INDEX('[1]予選ヒートBGr-レース結果表（貼付）'!$A:$Z,MATCH($A20,'[1]予選ヒートBGr-レース結果表（貼付）'!$A:$A,0),MATCH('予選ヒートBGr-レース結果表'!D$11,'[1]予選ヒートBGr-レース結果表（貼付）'!$1:$1,0)),"") -> 大越 武 | E20: =IFERROR(INDEX('[1]予選ヒートBGr-レース結果表（貼付）'!$A:$Z,MATCH($A20,'[1]予選ヒートBGr-レース結果表（貼付）'!$A:$A,0),MATCH('予選ヒートBGr-レース結果表'!E$11,'[1]予選ヒートBGr-レース結果表（貼付）'!$1:$1,0)),"") -> TONY KART/YAMAHA | F20: =IFERROR(INDEX('[1]予選ヒートBGr-レース結果表（貼付）'!$A:$Z,MATCH($A20,'[1]予選ヒートBGr-レース結果表（貼付）'!$A:$A,0),MATCH('予選ヒートBGr-レース結果表'!F$11,'[1]予選ヒートBGr-レース結果表（貼付）'!$1:$1,0)),"") -> BEMAX RACING | G20: =IFERROR(INDEX('[1]予選ヒートBGr-レース結果表（貼付）'!$A:$Z,MATCH($A20,'[1]予選ヒートBGr-レース結果表（貼付）'!$A:$A,0),MATCH('予選ヒートBGr-レース結果表'!G$11,'[1]予選ヒートBGr-レース結果表（貼付）'!$1:$1,0)),"") -> BS | H20: =IFERROR(INDEX('[1]予選ヒートBGr-レース結果表（貼付）'!$A:$Z,MATCH($A20,'[1]予選ヒートBGr-レース結果表（貼付）'!$A:$A,0),MATCH('予選ヒートBGr-レース結果表'!H$11,'[1]予選ヒートBGr-レース結果表（貼付）'!$1:$1,0)),"") -> 12 | I20: =IFERROR(INDEX('[1]予選ヒートBGr-レース結果表（貼付）'!$A:$Z,MATCH($A20,'[1]予選ヒートBGr-レース結果表（貼付）'!$A:$A,0),MATCH('予選ヒートBGr-レース結果表'!I$11,'[1]予選ヒートBGr-レース結果表（貼付）'!$1:$1,0)),"") -> 0.0090725347 | J20: =IFERROR(IF(A20="DNS","",IF(A20="DQ","",INDEX('[1]予選ヒートBGr-レース結果表（貼付）'!$A:$Z,MATCH($B20,'[1]予選ヒートBGr-レース結果表（貼付）'!$B:$B,0),MATCH('予選ヒートBGr-レース結果表'!J$11,'[1]予選ヒートBGr-レース結果表（貼付）'!$1:$1,0)))),"") -> 37.318 | K20: =IFERROR(IF(A20="DNS","",IF(A20="DQ","",INDEX('[1]予選ヒートBGr-レース結果表（貼付）'!$A:$Z,MATCH($B20,'[1]予選ヒートBGr-レース結果表（貼付）'!$B:$B,0),MATCH('予選ヒートBGr-レース結果表'!K$11,'[1]予選ヒートBGr-レース結果表（貼付）'!$1:$1,0)))),"") -> 2.511 | L20: =IFERROR(IF(A20="DNS","",IF(A20="DQ","",INDEX('[1]予選ヒートBGr-レース結果表（貼付）'!$A:$Z,MATCH($B20,'[1]予選ヒートBGr-レース結果表（貼付）'!$B:$B,0),MATCH('予選ヒートBGr-レース結果表'!L$11,'[1]予選ヒートBGr-レース結果表（貼付）'!$1:$1,0)))),"") -> 0.00074769676 | M20: =IF(L20<1,"",IF($M$11>L20,"R","")) | P20: =IF(IFERROR(INDEX('[1]予選ヒートBGr-レース結果表（貼付）'!$A:$Z,MATCH($B20,'[1]予選ヒートBGr-レース結果表（貼付）'!$B:$B,0),MATCH(P$11,'[1]予選ヒートBGr-レース結果表（貼付）'!$1:$1,0)),"")=0,"",IFERROR(INDEX('[1]予選ヒートBGr-レース結果表（貼付）'!$A:$Z,MATCH($B20,'[1]予選ヒートBGr-レース結果表（貼付）'!$B:$B,0),MATCH(P$11,'[1]予選ヒートBGr-レース結果表（貼付）'!$1:$1,0)),"")) | Q20: =IF(P20="","",COUNTIF($P$13:P20,"<>"&"")) | R20: =IFERROR(RANK(Q20,$Q$13:$Q$46,1),"") | S20: =IF(IFERROR(INDEX('[1]予選ヒートBGr-レース結果表（貼付）'!$A:$Z,MATCH($A20,'[1]予選ヒートBGr-レース結果表（貼付）'!$A:$A,0),MATCH(S$11,'[1]予選ヒートBGr-レース結果表（貼付）'!$1:$1,0)),"")=0,"",IFERROR(INDEX('[1]予選ヒートBGr-レース結果表（貼付）'!$A:$Z,MATCH($A20,'[1]予選ヒートBGr-レース結果表（貼付）'!$A:$A,0),MATCH(S$11,'[1]予選ヒートBGr-レース結果表（貼付）'!$1:$1,0)),"")) | U20: =IF(IFERROR(INDEX('[1]予選ヒートBGr-レース結果表（貼付）'!$A:$Z,MATCH($B20,'[1]予選ヒートBGr-レース結果表（貼付）'!$B:$B,0),MATCH(U$11,'[1]予選ヒートBGr-レース結果表（貼付）'!$1:$1,0)),"")=0,"",IFERROR(INDEX('[1]予選ヒートBGr-レース結果表（貼付）'!$A:$Z,MATCH($B20,'[1]予選ヒートBGr-レース結果表（貼付）'!$B:$B,0),MATCH(U$11,'[1]予選ヒートBGr-レース結果表（貼付）'!$1:$1,0)),"")) -> 70.439
A21: =IF(OR('[1]予選ヒートBGr-レース結果表（貼付）'!A10="DNF",'[1]予選ヒートBGr-レース結果表（貼付）'!A10="DNS",'[1]予選ヒートBGr-レース結果表（貼付）'!A10="DQ"),'[1]予選ヒートBGr-レース結果表（貼付）'!A10,IF(MAX('[1]予選ヒートBGr-レース結果表（貼付）'!$A:$A)>A20,A20+1,"")) -> 9 | B21: =IFERROR(INDEX('[1]予選ヒートBGr-レース結果表（貼付）'!A10:$Z$50,MATCH($A21,'[1]予選ヒートBGr-レース結果表（貼付）'!A10:$A$50,0),MATCH('[1]公式予選（TT）①-結果表（印刷）'!B$11,'[1]予選ヒートBGr-レース結果表（貼付）'!$1:$1,0)),"") -> 15 | C21: 9 | D21: =IFERROR(INDEX('[1]予選ヒートBGr-レース結果表（貼付）'!$A:$Z,MATCH($A21,'[1]予選ヒートBGr-レース結果表（貼付）'!$A:$A,0),MATCH('予選ヒートBGr-レース結果表'!D$11,'[1]予選ヒートBGr-レース結果表（貼付）'!$1:$1,0)),"") -> 髙田 陽大 | E21: =IFERROR(INDEX('[1]予選ヒートBGr-レース結果表（貼付）'!$A:$Z,MATCH($A21,'[1]予選ヒートBGr-レース結果表（貼付）'!$A:$A,0),MATCH('予選ヒートBGr-レース結果表'!E$11,'[1]予選ヒートBGr-レース結果表（貼付）'!$1:$1,0)),"") -> Birel ART/YAMAHA | F21: =IFERROR(INDEX('[1]予選ヒートBGr-レース結果表（貼付）'!$A:$Z,MATCH($A21,'[1]予選ヒートBGr-レース結果表（貼付）'!$A:$A,0),MATCH('予選ヒートBGr-レース結果表'!F$11,'[1]予選ヒートBGr-レース結果表（貼付）'!$1:$1,0)),"") -> Super Racing Junkie! | G21: =IFERROR(INDEX('[1]予選ヒートBGr-レース結果表（貼付）'!$A:$Z,MATCH($A21,'[1]予選ヒートBGr-レース結果表（貼付）'!$A:$A,0),MATCH('予選ヒートBGr-レース結果表'!G$11,'[1]予選ヒートBGr-レース結果表（貼付）'!$1:$1,0)),"") -> BS | H21: =IFERROR(INDEX('[1]予選ヒートBGr-レース結果表（貼付）'!$A:$Z,MATCH($A21,'[1]予選ヒートBGr-レース結果表（貼付）'!$A:$A,0),MATCH('予選ヒートBGr-レース結果表'!H$11,'[1]予選ヒートBGr-レース結果表（貼付）'!$1:$1,0)),"") -> 12 | I21: =IFERROR(INDEX('[1]予選ヒートBGr-レース結果表（貼付）'!$A:$Z,MATCH($A21,'[1]予選ヒートBGr-レース結果表（貼付）'!$A:$A,0),MATCH('予選ヒートBGr-レース結果表'!I$11,'[1]予選ヒートBGr-レース結果表（貼付）'!$1:$1,0)),"") -> 0.0091678009 | J21: =IFERROR(IF(A21="DNS","",IF(A21="DQ","",INDEX('[1]予選ヒートBGr-レース結果表（貼付）'!$A:$Z,MATCH($B21,'[1]予選ヒートBGr-レース結果表（貼付）'!$B:$B,0),MATCH('予選ヒートBGr-レース結果表'!J$11,'[1]予選ヒートBGr-レース結果表（貼付）'!$1:$1,0)))),"") -> 45.549 | K21: =IFERROR(IF(A21="DNS","",IF(A21="DQ","",INDEX('[1]予選ヒートBGr-レース結果表（貼付）'!$A:$Z,MATCH($B21,'[1]予選ヒートBGr-レース結果表（貼付）'!$B:$B,0),MATCH('予選ヒートBGr-レース結果表'!K$11,'[1]予選ヒートBGr-レース結果表（貼付）'!$1:$1,0)))),"") -> 8.231 | L21: =IFERROR(IF(A21="DNS","",IF(A21="DQ","",INDEX('[1]予選ヒートBGr-レース結果表（貼付）'!$A:$Z,MATCH($B21,'[1]予選ヒートBGr-レース結果表（貼付）'!$B:$B,0),MATCH('予選ヒートBGr-レース結果表'!L$11,'[1]予選ヒートBGr-レース結果表（貼付）'!$1:$1,0)))),"") -> 0.00075543981 | M21: =IF(L21<1,"",IF($M$11>L21,"R","")) | P21: =IF(IFERROR(INDEX('[1]予選ヒートBGr-レース結果表（貼付）'!$A:$Z,MATCH($B21,'[1]予選ヒートBGr-レース結果表（貼付）'!$B:$B,0),MATCH(P$11,'[1]予選ヒートBGr-レース結果表（貼付）'!$1:$1,0)),"")=0,"",IFERROR(INDEX('[1]予選ヒートBGr-レース結果表（貼付）'!$A:$Z,MATCH($B21,'[1]予選ヒートBGr-レース結果表（貼付）'!$B:$B,0),MATCH(P$11,'[1]予選ヒートBGr-レース結果表（貼付）'!$1:$1,0)),"")) | Q21: =IF(P21="","",COUNTIF($P$13:P21,"<>"&"")) | R21: =IFERROR(RANK(Q21,$Q$13:$Q$46,1),"") | S21: =IF(IFERROR(INDEX('[1]予選ヒートBGr-レース結果表（貼付）'!$A:$Z,MATCH($A21,'[1]予選ヒートBGr-レース結果表（貼付）'!$A:$A,0),MATCH(S$11,'[1]予選ヒートBGr-レース結果表（貼付）'!$1:$1,0)),"")=0,"",IFERROR(INDEX('[1]予選ヒートBGr-レース結果表（貼付）'!$A:$Z,MATCH($A21,'[1]予選ヒートBGr-レース結果表（貼付）'!$A:$A,0),MATCH(S$11,'[1]予選ヒートBGr-レース結果表（貼付）'!$1:$1,0)),"")) | U21: =IF(IFERROR(INDEX('[1]予選ヒートBGr-レース結果表（貼付）'!$A:$Z,MATCH($B21,'[1]予選ヒートBGr-レース結果表（貼付）'!$B:$B,0),MATCH(U$11,'[1]予選ヒートBGr-レース結果表（貼付）'!$1:$1,0)),"")=0,"",IFERROR(INDEX('[1]予選ヒートBGr-レース結果表（貼付）'!$A:$Z,MATCH($B21,'[1]予選ヒートBGr-レース結果表（貼付）'!$B:$B,0),MATCH(U$11,'[1]予選ヒートBGr-レース結果表（貼付）'!$1:$1,0)),"")) -> 70.071
A22: =IF(OR('[1]予選ヒートBGr-レース結果表（貼付）'!A11="DNF",'[1]予選ヒートBGr-レース結果表（貼付）'!A11="DNS",'[1]予選ヒートBGr-レース結果表（貼付）'!A11="DQ"),'[1]予選ヒートBGr-レース結果表（貼付）'!A11,IF(MAX('[1]予選ヒートBGr-レース結果表（貼付）'!$A:$A)>A21,A21+1,"")) -> 10 | B22: =IFERROR(INDEX('[1]予選ヒートBGr-レース結果表（貼付）'!A11:$Z$50,MATCH($A22,'[1]予選ヒートBGr-レース結果表（貼付）'!A11:$A$50,0),MATCH('[1]公式予選（TT）①-結果表（印刷）'!B$11,'[1]予選ヒートBGr-レース結果表（貼付）'!$1:$1,0)),"") -> 55 | C22: 10 | D22: =IFERROR(INDEX('[1]予選ヒートBGr-レース結果表（貼付）'!$A:$Z,MATCH($A22,'[1]予選ヒートBGr-レース結果表（貼付）'!$A:$A,0),MATCH('予選ヒートBGr-レース結果表'!D$11,'[1]予選ヒートBGr-レース結果表（貼付）'!$1:$1,0)),"") -> 大井 偉史 | E22: =IFERROR(INDEX('[1]予選ヒートBGr-レース結果表（貼付）'!$A:$Z,MATCH($A22,'[1]予選ヒートBGr-レース結果表（貼付）'!$A:$A,0),MATCH('予選ヒートBGr-レース結果表'!E$11,'[1]予選ヒートBGr-レース結果表（貼付）'!$1:$1,0)),"") -> GILLARD TG17/YAMAHA | F22: =IFERROR(INDEX('[1]予選ヒートBGr-レース結果表（貼付）'!$A:$Z,MATCH($A22,'[1]予選ヒートBGr-レース結果表（貼付）'!$A:$A,0),MATCH('予選ヒートBGr-レース結果表'!F$11,'[1]予選ヒートBGr-レース結果表（貼付）'!$1:$1,0)),"") -> Vifonte with Ash | G22: =IFERROR(INDEX('[1]予選ヒートBGr-レース結果表（貼付）'!$A:$Z,MATCH($A22,'[1]予選ヒートBGr-レース結果表（貼付）'!$A:$A,0),MATCH('予選ヒートBGr-レース結果表'!G$11,'[1]予選ヒートBGr-レース結果表（貼付）'!$1:$1,0)),"") -> BS | H22: =IFERROR(INDEX('[1]予選ヒートBGr-レース結果表（貼付）'!$A:$Z,MATCH($A22,'[1]予選ヒートBGr-レース結果表（貼付）'!$A:$A,0),MATCH('予選ヒートBGr-レース結果表'!H$11,'[1]予選ヒートBGr-レース結果表（貼付）'!$1:$1,0)),"") -> 12 | I22: =IFERROR(INDEX('[1]予選ヒートBGr-レース結果表（貼付）'!$A:$Z,MATCH($A22,'[1]予選ヒートBGr-レース結果表（貼付）'!$A:$A,0),MATCH('予選ヒートBGr-レース結果表'!I$11,'[1]予選ヒートBGr-レース結果表（貼付）'!$1:$1,0)),"") -> 0.0092120486 | J22: =IFERROR(IF(A22="DNS","",IF(A22="DQ","",INDEX('[1]予選ヒートBGr-レース結果表（貼付）'!$A:$Z,MATCH($B22,'[1]予選ヒートBGr-レース結果表（貼付）'!$B:$B,0),MATCH('予選ヒートBGr-レース結果表'!J$11,'[1]予選ヒートBGr-レース結果表（貼付）'!$1:$1,0)))),"") -> 49.372 | K22: =IFERROR(IF(A22="DNS","",IF(A22="DQ","",INDEX('[1]予選ヒートBGr-レース結果表（貼付）'!$A:$Z,MATCH($B22,'[1]予選ヒートBGr-レース結果表（貼付）'!$B:$B,0),MATCH('予選ヒートBGr-レース結果表'!K$11,'[1]予選ヒートBGr-レース結果表（貼付）'!$1:$1,0)))),"") -> 3.823 | L22: =IFERROR(IF(A22="DNS","",IF(A22="DQ","",INDEX('[1]予選ヒートBGr-レース結果表（貼付）'!$A:$Z,MATCH($B22,'[1]予選ヒートBGr-レース結果表（貼付）'!$B:$B,0),MATCH('予選ヒートBGr-レース結果表'!L$11,'[1]予選ヒートBGr-レース結果表（貼付）'!$1:$1,0)))),"") -> 0.00075162037 | M22: =IF(L22<1,"",IF($M$11>L22,"R","")) | P22: =IF(IFERROR(INDEX('[1]予選ヒートBGr-レース結果表（貼付）'!$A:$Z,MATCH($B22,'[1]予選ヒートBGr-レース結果表（貼付）'!$B:$B,0),MATCH(P$11,'[1]予選ヒートBGr-レース結果表（貼付）'!$1:$1,0)),"")=0,"",IFERROR(INDEX('[1]予選ヒートBGr-レース結果表（貼付）'!$A:$Z,MATCH($B22,'[1]予選ヒートBGr-レース結果表（貼付）'!$B:$B,0),MATCH(P$11,'[1]予選ヒートBGr-レース結果表（貼付）'!$1:$1,0)),"")) -> 全日本カート選手権統一規則書 第38条(25)(フロントフェアリングが正しい装着状態でない)により5秒加算した。 | Q22: =IF(P22="","",COUNTIF($P$13:P22,"<>"&"")) -> 10 | R22: =IFERROR(RANK(Q22,$Q$13:$Q$46,1),"") -> 2 | S22: =IF(IFERROR(INDEX('[1]予選ヒートBGr-レース結果表（貼付）'!$A:$Z,MATCH($A22,'[1]予選ヒートBGr-レース結果表（貼付）'!$A:$A,0),MATCH(S$11,'[1]予選ヒートBGr-レース結果表（貼付）'!$1:$1,0)),"")=0,"",IFERROR(INDEX('[1]予選ヒートBGr-レース結果表（貼付）'!$A:$Z,MATCH($A22,'[1]予選ヒートBGr-レース結果表（貼付）'!$A:$A,0),MATCH(S$11,'[1]予選ヒートBGr-レース結果表（貼付）'!$1:$1,0)),"")) | U22: =IF(IFERROR(INDEX('[1]予選ヒートBGr-レース結果表（貼付）'!$A:$Z,MATCH($B22,'[1]予選ヒートBGr-レース結果表（貼付）'!$B:$B,0),MATCH(U$11,'[1]予選ヒートBGr-レース結果表（貼付）'!$1:$1,0)),"")=0,"",IFERROR(INDEX('[1]予選ヒートBGr-レース結果表（貼付）'!$A:$Z,MATCH($B22,'[1]予選ヒートBGr-レース結果表（貼付）'!$B:$B,0),MATCH(U$11,'[1]予選ヒートBGr-レース結果表（貼付）'!$1:$1,0)),"")) -> 69.717
A23: =IF(OR('[1]予選ヒートBGr-レース結果表（貼付）'!A12="DNF",'[1]予選ヒートBGr-レース結果表（貼付）'!A12="DNS",'[1]予選ヒートBGr-レース結果表（貼付）'!A12="DQ"),'[1]予選ヒートBGr-レース結果表（貼付）'!A12,IF(MAX('[1]予選ヒートBGr-レース結果表（貼付）'!$A:$A)>A22,A22+1,"")) -> 11 | B23: =IFERROR(INDEX('[1]予選ヒートBGr-レース結果表（貼付）'!A12:$Z$50,MATCH($A23,'[1]予選ヒートBGr-レース結果表（貼付）'!A12:$A$50,0),MATCH('[1]公式予選（TT）①-結果表（印刷）'!B$11,'[1]予選ヒートBGr-レース結果表（貼付）'!$1:$1,0)),"") -> 64 | C23: 11 | D23: =IFERROR(INDEX('[1]予選ヒートBGr-レース結果表（貼付）'!$A:$Z,MATCH($A23,'[1]予選ヒートBGr-レース結果表（貼付）'!$A:$A,0),MATCH('予選ヒートBGr-レース結果表'!D$11,'[1]予選ヒートBGr-レース結果表（貼付）'!$1:$1,0)),"") -> 角田 侑進 | E23: =IFERROR(INDEX('[1]予選ヒートBGr-レース結果表（貼付）'!$A:$Z,MATCH($A23,'[1]予選ヒートBGr-レース結果表（貼付）'!$A:$A,0),MATCH('予選ヒートBGr-レース結果表'!E$11,'[1]予選ヒートBGr-レース結果表（貼付）'!$1:$1,0)),"") -> KOSMIC/YAMAHA | F23: =IFERROR(INDEX('[1]予選ヒートBGr-レース結果表（貼付）'!$A:$Z,MATCH($A23,'[1]予選ヒートBGr-レース結果表（貼付）'!$A:$A,0),MATCH('予選ヒートBGr-レース結果表'!F$11,'[1]予選ヒートBGr-レース結果表（貼付）'!$1:$1,0)),"") -> HRT | G23: =IFERROR(INDEX('[1]予選ヒートBGr-レース結果表（貼付）'!$A:$Z,MATCH($A23,'[1]予選ヒートBGr-レース結果表（貼付）'!$A:$A,0),MATCH('予選ヒートBGr-レース結果表'!G$11,'[1]予選ヒートBGr-レース結果表（貼付）'!$1:$1,0)),"") -> BS | H23: =IFERROR(INDEX('[1]予選ヒートBGr-レース結果表（貼付）'!$A:$Z,MATCH($A23,'[1]予選ヒートBGr-レース結果表（貼付）'!$A:$A,0),MATCH('予選ヒートBGr-レース結果表'!H$11,'[1]予選ヒートBGr-レース結果表（貼付）'!$1:$1,0)),"") -> 12 | I23: =IFERROR(INDEX('[1]予選ヒートBGr-レース結果表（貼付）'!$A:$Z,MATCH($A23,'[1]予選ヒートBGr-レース結果表（貼付）'!$A:$A,0),MATCH('予選ヒートBGr-レース結果表'!I$11,'[1]予選ヒートBGr-レース結果表（貼付）'!$1:$1,0)),"") -> 0.0092330903 | J23: =IFERROR(IF(A23="DNS","",IF(A23="DQ","",INDEX('[1]予選ヒートBGr-レース結果表（貼付）'!$A:$Z,MATCH($B23,'[1]予選ヒートBGr-レース結果表（貼付）'!$B:$B,0),MATCH('予選ヒートBGr-レース結果表'!J$11,'[1]予選ヒートBGr-レース結果表（貼付）'!$1:$1,0)))),"") -> 51.19 | K23: =IFERROR(IF(A23="DNS","",IF(A23="DQ","",INDEX('[1]予選ヒートBGr-レース結果表（貼付）'!$A:$Z,MATCH($B23,'[1]予選ヒートBGr-レース結果表（貼付）'!$B:$B,0),MATCH('予選ヒートBGr-レース結果表'!K$11,'[1]予選ヒートBGr-レース結果表（貼付）'!$1:$1,0)))),"") -> 1.818 | L23: =IFERROR(IF(A23="DNS","",IF(A23="DQ","",INDEX('[1]予選ヒートBGr-レース結果表（貼付）'!$A:$Z,MATCH($B23,'[1]予選ヒートBGr-レース結果表（貼付）'!$B:$B,0),MATCH('予選ヒートBGr-レース結果表'!L$11,'[1]予選ヒートBGr-レース結果表（貼付）'!$1:$1,0)))),"") -> 0.00075885417 | M23: =IF(L23<1,"",IF($M$11>L23,"R","")) | P23: =IF(IFERROR(INDEX('[1]予選ヒートBGr-レース結果表（貼付）'!$A:$Z,MATCH($B23,'[1]予選ヒートBGr-レース結果表（貼付）'!$B:$B,0),MATCH(P$11,'[1]予選ヒートBGr-レース結果表（貼付）'!$1:$1,0)),"")=0,"",IFERROR(INDEX('[1]予選ヒートBGr-レース結果表（貼付）'!$A:$Z,MATCH($B23,'[1]予選ヒートBGr-レース結果表（貼付）'!$B:$B,0),MATCH(P$11,'[1]予選ヒートBGr-レース結果表（貼付）'!$1:$1,0)),"")) | Q23: =IF(P23="","",COUNTIF($P$13:P23,"<>"&"")) | R23: =IFERROR(RANK(Q23,$Q$13:$Q$46,1),"") | S23: =IF(IFERROR(INDEX('[1]予選ヒートBGr-レース結果表（貼付）'!$A:$Z,MATCH($A23,'[1]予選ヒートBGr-レース結果表（貼付）'!$A:$A,0),MATCH(S$11,'[1]予選ヒートBGr-レース結果表（貼付）'!$1:$1,0)),"")=0,"",IFERROR(INDEX('[1]予選ヒートBGr-レース結果表（貼付）'!$A:$Z,MATCH($A23,'[1]予選ヒートBGr-レース結果表（貼付）'!$A:$A,0),MATCH(S$11,'[1]予選ヒートBGr-レース結果表（貼付）'!$1:$1,0)),"")) | U23: =IF(IFERROR(INDEX('[1]予選ヒートBGr-レース結果表（貼付）'!$A:$Z,MATCH($B23,'[1]予選ヒートBGr-レース結果表（貼付）'!$B:$B,0),MATCH(U$11,'[1]予選ヒートBGr-レース結果表（貼付）'!$1:$1,0)),"")=0,"",IFERROR(INDEX('[1]予選ヒートBGr-レース結果表（貼付）'!$A:$Z,MATCH($B23,'[1]予選ヒートBGr-レース結果表（貼付）'!$B:$B,0),MATCH(U$11,'[1]予選ヒートBGr-レース結果表（貼付）'!$1:$1,0)),"")) -> 69.403
A24: =IF(OR('[1]予選ヒートBGr-レース結果表（貼付）'!A13="DNF",'[1]予選ヒートBGr-レース結果表（貼付）'!A13="DNS",'[1]予選ヒートBGr-レース結果表（貼付）'!A13="DQ"),'[1]予選ヒートBGr-レース結果表（貼付）'!A13,IF(MAX('[1]予選ヒートBGr-レース結果表（貼付）'!$A:$A)>A23,A23+1,"")) -> 12 | B24: =IFERROR(INDEX('[1]予選ヒートBGr-レース結果表（貼付）'!A13:$Z$50,MATCH($A24,'[1]予選ヒートBGr-レース結果表（貼付）'!A13:$A$50,0),MATCH('[1]公式予選（TT）①-結果表（印刷）'!B$11,'[1]予選ヒートBGr-レース結果表（貼付）'!$1:$1,0)),"") -> 51 | C24: 12 | D24: =IFERROR(INDEX('[1]予選ヒートBGr-レース結果表（貼付）'!$A:$Z,MATCH($A24,'[1]予選ヒートBGr-レース結果表（貼付）'!$A:$A,0),MATCH('予選ヒートBGr-レース結果表'!D$11,'[1]予選ヒートBGr-レース結果表（貼付）'!$1:$1,0)),"") -> 宮﨑 琉 | E24: =IFERROR(INDEX('[1]予選ヒートBGr-レース結果表（貼付）'!$A:$Z,MATCH($A24,'[1]予選ヒートBGr-レース結果表（貼付）'!$A:$A,0),MATCH('予選ヒートBGr-レース結果表'!E$11,'[1]予選ヒートBGr-レース結果表（貼付）'!$1:$1,0)),"") -> Birel ART/YAMAHA | F24: =IFERROR(INDEX('[1]予選ヒートBGr-レース結果表（貼付）'!$A:$Z,MATCH($A24,'[1]予選ヒートBGr-レース結果表（貼付）'!$A:$A,0),MATCH('予選ヒートBGr-レース結果表'!F$11,'[1]予選ヒートBGr-レース結果表（貼付）'!$1:$1,0)),"") -> ASTECH | G24: =IFERROR(INDEX('[1]予選ヒートBGr-レース結果表（貼付）'!$A:$Z,MATCH($A24,'[1]予選ヒートBGr-レース結果表（貼付）'!$A:$A,0),MATCH('予選ヒートBGr-レース結果表'!G$11,'[1]予選ヒートBGr-レース結果表（貼付）'!$1:$1,0)),"") -> BS | H24: =IFERROR(INDEX('[1]予選ヒートBGr-レース結果表（貼付）'!$A:$Z,MATCH($A24,'[1]予選ヒートBGr-レース結果表（貼付）'!$A:$A,0),MATCH('予選ヒートBGr-レース結果表'!H$11,'[1]予選ヒートBGr-レース結果表（貼付）'!$1:$1,0)),"") -> 12 | I24: =IFERROR(INDEX('[1]予選ヒートBGr-レース結果表（貼付）'!$A:$Z,MATCH($A24,'[1]予選ヒートBGr-レース結果表（貼付）'!$A:$A,0),MATCH('予選ヒートBGr-レース結果表'!I$11,'[1]予選ヒートBGr-レース結果表（貼付）'!$1:$1,0)),"") -> 0.0092380903 | J24: =IFERROR(IF(A24="DNS","",IF(A24="DQ","",INDEX('[1]予選ヒートBGr-レース結果表（貼付）'!$A:$Z,MATCH($B24,'[1]予選ヒートBGr-レース結果表（貼付）'!$B:$B,0),MATCH('予選ヒートBGr-レース結果表'!J$11,'[1]予選ヒートBGr-レース結果表（貼付）'!$1:$1,0)))),"") -> 51.622 | K24: =IFERROR(IF(A24="DNS","",IF(A24="DQ","",INDEX('[1]予選ヒートBGr-レース結果表（貼付）'!$A:$Z,MATCH($B24,'[1]予選ヒートBGr-レース結果表（貼付）'!$B:$B,0),MATCH('予選ヒートBGr-レース結果表'!K$11,'[1]予選ヒートBGr-レース結果表（貼付）'!$1:$1,0)))),"") -> 0.432 | L24: =IFERROR(IF(A24="DNS","",IF(A24="DQ","",INDEX('[1]予選ヒートBGr-レース結果表（貼付）'!$A:$Z,MATCH($B24,'[1]予選ヒートBGr-レース結果表（貼付）'!$B:$B,0),MATCH('予選ヒートBGr-レース結果表'!L$11,'[1]予選ヒートBGr-レース結果表（貼付）'!$1:$1,0)))),"") -> 0.00075795139 | M24: =IF(L24<1,"",IF($M$11>L24,"R","")) | P24: =IF(IFERROR(INDEX('[1]予選ヒートBGr-レース結果表（貼付）'!$A:$Z,MATCH($B24,'[1]予選ヒートBGr-レース結果表（貼付）'!$B:$B,0),MATCH(P$11,'[1]予選ヒートBGr-レース結果表（貼付）'!$1:$1,0)),"")=0,"",IFERROR(INDEX('[1]予選ヒートBGr-レース結果表（貼付）'!$A:$Z,MATCH($B24,'[1]予選ヒートBGr-レース結果表（貼付）'!$B:$B,0),MATCH(P$11,'[1]予選ヒートBGr-レース結果表（貼付）'!$1:$1,0)),"")) | Q24: =IF(P24="","",COUNTIF($P$13:P24,"<>"&"")) | R24: =IFERROR(RANK(Q24,$Q$13:$Q$46,1),"") | S24: =IF(IFERROR(INDEX('[1]予選ヒートBGr-レース結果表（貼付）'!$A:$Z,MATCH($A24,'[1]予選ヒートBGr-レース結果表（貼付）'!$A:$A,0),MATCH(S$11,'[1]予選ヒートBGr-レース結果表（貼付）'!$1:$1,0)),"")=0,"",IFERROR(INDEX('[1]予選ヒートBGr-レース結果表（貼付）'!$A:$Z,MATCH($A24,'[1]予選ヒートBGr-レース結果表（貼付）'!$A:$A,0),MATCH(S$11,'[1]予選ヒートBGr-レース結果表（貼付）'!$1:$1,0)),"")) | U24: =IF(IFERROR(INDEX('[1]予選ヒートBGr-レース結果表（貼付）'!$A:$Z,MATCH($B24,'[1]予選ヒートBGr-レース結果表（貼付）'!$B:$B,0),MATCH(U$11,'[1]予選ヒートBGr-レース結果表（貼付）'!$1:$1,0)),"")=0,"",IFERROR(INDEX('[1]予選ヒートBGr-レース結果表（貼付）'!$A:$Z,MATCH($B24,'[1]予選ヒートBGr-レース結果表（貼付）'!$B:$B,0),MATCH(U$11,'[1]予選ヒートBGr-レース結果表（貼付）'!$1:$1,0)),"")) -> 69.486
A25: =IF(OR('[1]予選ヒートBGr-レース結果表（貼付）'!A14="DNF",'[1]予選ヒートBGr-レース結果表（貼付）'!A14="DNS",'[1]予選ヒートBGr-レース結果表（貼付）'!A14="DQ"),'[1]予選ヒートBGr-レース結果表（貼付）'!A14,IF(MAX('[1]予選ヒートBGr-レース結果表（貼付）'!$A:$A)>A24,A24+1,"")) -> 13 | B25: =IFERROR(INDEX('[1]予選ヒートBGr-レース結果表（貼付）'!A14:$Z$50,MATCH($A25,'[1]予選ヒートBGr-レース結果表（貼付）'!A14:$A$50,0),MATCH('[1]公式予選（TT）①-結果表（印刷）'!B$11,'[1]予選ヒートBGr-レース結果表（貼付）'!$1:$1,0)),"") -> 20 | C25: 13 | D25: =IFERROR(INDEX('[1]予選ヒートBGr-レース結果表（貼付）'!$A:$Z,MATCH($A25,'[1]予選ヒートBGr-レース結果表（貼付）'!$A:$A,0),MATCH('予選ヒートBGr-レース結果表'!D$11,'[1]予選ヒートBGr-レース結果表（貼付）'!$1:$1,0)),"") -> 岸 秀行 | E25: =IFERROR(INDEX('[1]予選ヒートBGr-レース結果表（貼付）'!$A:$Z,MATCH($A25,'[1]予選ヒートBGr-レース結果表（貼付）'!$A:$A,0),MATCH('予選ヒートBGr-レース結果表'!E$11,'[1]予選ヒートBGr-レース結果表（貼付）'!$1:$1,0)),"") -> KOSMIC/YAMAHA | F25: =IFERROR(INDEX('[1]予選ヒートBGr-レース結果表（貼付）'!$A:$Z,MATCH($A25,'[1]予選ヒートBGr-レース結果表（貼付）'!$A:$A,0),MATCH('予選ヒートBGr-レース結果表'!F$11,'[1]予選ヒートBGr-レース結果表（貼付）'!$1:$1,0)),"") -> チームナガオ・大阪鶴見法律事務所 | G25: =IFERROR(INDEX('[1]予選ヒートBGr-レース結果表（貼付）'!$A:$Z,MATCH($A25,'[1]予選ヒートBGr-レース結果表（貼付）'!$A:$A,0),MATCH('予選ヒートBGr-レース結果表'!G$11,'[1]予選ヒートBGr-レース結果表（貼付）'!$1:$1,0)),"") -> BS | H25: =IFERROR(INDEX('[1]予選ヒートBGr-レース結果表（貼付）'!$A:$Z,MATCH($A25,'[1]予選ヒートBGr-レース結果表（貼付）'!$A:$A,0),MATCH('予選ヒートBGr-レース結果表'!H$11,'[1]予選ヒートBGr-レース結果表（貼付）'!$1:$1,0)),"") -> 12 | I25: =IFERROR(INDEX('[1]予選ヒートBGr-レース結果表（貼付）'!$A:$Z,MATCH($A25,'[1]予選ヒートBGr-レース結果表（貼付）'!$A:$A,0),MATCH('予選ヒートBGr-レース結果表'!I$11,'[1]予選ヒートBGr-レース結果表（貼付）'!$1:$1,0)),"") -> 0.0092564352 | J25: =IFERROR(IF(A25="DNS","",IF(A25="DQ","",INDEX('[1]予選ヒートBGr-レース結果表（貼付）'!$A:$Z,MATCH($B25,'[1]予選ヒートBGr-レース結果表（貼付）'!$B:$B,0),MATCH('予選ヒートBGr-レース結果表'!J$11,'[1]予選ヒートBGr-レース結果表（貼付）'!$1:$1,0)))),"") -> 53.207 | K25: =IFERROR(IF(A25="DNS","",IF(A25="DQ","",INDEX('[1]予選ヒートBGr-レース結果表（貼付）'!$A:$Z,MATCH($B25,'[1]予選ヒートBGr-レース結果表（貼付）'!$B:$B,0),MATCH('予選ヒートBGr-レース結果表'!K$11,'[1]予選ヒートBGr-レース結果表（貼付）'!$1:$1,0)))),"") -> 1.585 | L25: =IFERROR(IF(A25="DNS","",IF(A25="DQ","",INDEX('[1]予選ヒートBGr-レース結果表（貼付）'!$A:$Z,MATCH($B25,'[1]予選ヒートBGr-レース結果表（貼付）'!$B:$B,0),MATCH('予選ヒートBGr-レース結果表'!L$11,'[1]予選ヒートBGr-レース結果表（貼付）'!$1:$1,0)))),"") -> 0.00075944444 | M25: =IF(L25<1,"",IF($M$11>L25,"R","")) | P25: =IF(IFERROR(INDEX('[1]予選ヒートBGr-レース結果表（貼付）'!$A:$Z,MATCH($B25,'[1]予選ヒートBGr-レース結果表（貼付）'!$B:$B,0),MATCH(P$11,'[1]予選ヒートBGr-レース結果表（貼付）'!$1:$1,0)),"")=0,"",IFERROR(INDEX('[1]予選ヒートBGr-レース結果表（貼付）'!$A:$Z,MATCH($B25,'[1]予選ヒートBGr-レース結果表（貼付）'!$B:$B,0),MATCH(P$11,'[1]予選ヒートBGr-レース結果表（貼付）'!$1:$1,0)),"")) | Q25: =IF(P25="","",COUNTIF($P$13:P25,"<>"&"")) | R25: =IFERROR(RANK(Q25,$Q$13:$Q$46,1),"") | S25: =IF(IFERROR(INDEX('[1]予選ヒートBGr-レース結果表（貼付）'!$A:$Z,MATCH($A25,'[1]予選ヒートBGr-レース結果表（貼付）'!$A:$A,0),MATCH(S$11,'[1]予選ヒートBGr-レース結果表（貼付）'!$1:$1,0)),"")=0,"",IFERROR(INDEX('[1]予選ヒートBGr-レース結果表（貼付）'!$A:$Z,MATCH($A25,'[1]予選ヒートBGr-レース結果表（貼付）'!$A:$A,0),MATCH(S$11,'[1]予選ヒートBGr-レース結果表（貼付）'!$1:$1,0)),"")) | U25: =IF(IFERROR(INDEX('[1]予選ヒートBGr-レース結果表（貼付）'!$A:$Z,MATCH($B25,'[1]予選ヒートBGr-レース結果表（貼付）'!$B:$B,0),MATCH(U$11,'[1]予選ヒートBGr-レース結果表（貼付）'!$1:$1,0)),"")=0,"",IFERROR(INDEX('[1]予選ヒートBGr-レース結果表（貼付）'!$A:$Z,MATCH($B25,'[1]予選ヒートBGr-レース結果表（貼付）'!$B:$B,0),MATCH(U$11,'[1]予選ヒートBGr-レース結果表（貼付）'!$1:$1,0)),"")) -> 69.814
A26: =IF(OR('[1]予選ヒートBGr-レース結果表（貼付）'!A15="DNF",'[1]予選ヒートBGr-レース結果表（貼付）'!A15="DNS",'[1]予選ヒートBGr-レース結果表（貼付）'!A15="DQ"),'[1]予選ヒートBGr-レース結果表（貼付）'!A15,IF(MAX('[1]予選ヒートBGr-レース結果表（貼付）'!$A:$A)>A25,A25+1,"")) -> 14 | B26: =IFERROR(INDEX('[1]予選ヒートBGr-レース結果表（貼付）'!A15:$Z$50,MATCH($A26,'[1]予選ヒートBGr-レース結果表（貼付）'!A15:$A$50,0),MATCH('[1]公式予選（TT）①-結果表（印刷）'!B$11,'[1]予選ヒートBGr-レース結果表（貼付）'!$1:$1,0)),"") -> 18 | C26: 14 | D26: =IFERROR(INDEX('[1]予選ヒートBGr-レース結果表（貼付）'!$A:$Z,MATCH($A26,'[1]予選ヒートBGr-レース結果表（貼付）'!$A:$A,0),MATCH('予選ヒートBGr-レース結果表'!D$11,'[1]予選ヒートBGr-レース結果表（貼付）'!$1:$1,0)),"") -> 吉田 広樹 | E26: =IFERROR(INDEX('[1]予選ヒートBGr-レース結果表（貼付）'!$A:$Z,MATCH($A26,'[1]予選ヒートBGr-レース結果表（貼付）'!$A:$A,0),MATCH('予選ヒートBGr-レース結果表'!E$11,'[1]予選ヒートBGr-レース結果表（貼付）'!$1:$1,0)),"") -> Birel ART/YAMAHA | F26: =IFERROR(INDEX('[1]予選ヒートBGr-レース結果表（貼付）'!$A:$Z,MATCH($A26,'[1]予選ヒートBGr-レース結果表（貼付）'!$A:$A,0),MATCH('予選ヒートBGr-レース結果表'!F$11,'[1]予選ヒートBGr-レース結果表（貼付）'!$1:$1,0)),"") -> のりものクラブエッフェガーラ | G26: =IFERROR(INDEX('[1]予選ヒートBGr-レース結果表（貼付）'!$A:$Z,MATCH($A26,'[1]予選ヒートBGr-レース結果表（貼付）'!$A:$A,0),MATCH('予選ヒートBGr-レース結果表'!G$11,'[1]予選ヒートBGr-レース結果表（貼付）'!$1:$1,0)),"") -> BS | H26: =IFERROR(INDEX('[1]予選ヒートBGr-レース結果表（貼付）'!$A:$Z,MATCH($A26,'[1]予選ヒートBGr-レース結果表（貼付）'!$A:$A,0),MATCH('予選ヒートBGr-レース結果表'!H$11,'[1]予選ヒートBGr-レース結果表（貼付）'!$1:$1,0)),"") -> 12 | I26: =IFERROR(INDEX('[1]予選ヒートBGr-レース結果表（貼付）'!$A:$Z,MATCH($A26,'[1]予選ヒートBGr-レース結果表（貼付）'!$A:$A,0),MATCH('予選ヒートBGr-レース結果表'!I$11,'[1]予選ヒートBGr-レース結果表（貼付）'!$1:$1,0)),"") -> 0.0093025231 | J26: =IFERROR(IF(A26="DNS","",IF(A26="DQ","",INDEX('[1]予選ヒートBGr-レース結果表（貼付）'!$A:$Z,MATCH($B26,'[1]予選ヒートBGr-レース結果表（貼付）'!$B:$B,0),MATCH('予選ヒートBGr-レース結果表'!J$11,'[1]予選ヒートBGr-レース結果表（貼付）'!$1:$1,0)))),"") -> 57.189 | K26: =IFERROR(IF(A26="DNS","",IF(A26="DQ","",INDEX('[1]予選ヒートBGr-レース結果表（貼付）'!$A:$Z,MATCH($B26,'[1]予選ヒートBGr-レース結果表（貼付）'!$B:$B,0),MATCH('予選ヒートBGr-レース結果表'!K$11,'[1]予選ヒートBGr-レース結果表（貼付）'!$1:$1,0)))),"") -> 3.982 | L26: =IFERROR(IF(A26="DNS","",IF(A26="DQ","",INDEX('[1]予選ヒートBGr-レース結果表（貼付）'!$A:$Z,MATCH($B26,'[1]予選ヒートBGr-レース結果表（貼付）'!$B:$B,0),MATCH('予選ヒートBGr-レース結果表'!L$11,'[1]予選ヒートBGr-レース結果表（貼付）'!$1:$1,0)))),"") -> 0.00075438657 | M26: =IF(L26<1,"",IF($M$11>L26,"R","")) | P26: =IF(IFERROR(INDEX('[1]予選ヒートBGr-レース結果表（貼付）'!$A:$Z,MATCH($B26,'[1]予選ヒートBGr-レース結果表（貼付）'!$B:$B,0),MATCH(P$11,'[1]予選ヒートBGr-レース結果表（貼付）'!$1:$1,0)),"")=0,"",IFERROR(INDEX('[1]予選ヒートBGr-レース結果表（貼付）'!$A:$Z,MATCH($B26,'[1]予選ヒートBGr-レース結果表（貼付）'!$B:$B,0),MATCH(P$11,'[1]予選ヒートBGr-レース結果表（貼付）'!$1:$1,0)),"")) -> 全日本カート選手権統一規則書 第38条(25)(フロントフェアリングが正しい装着状態でない)により5秒加算した。 | Q26: =IF(P26="","",COUNTIF($P$13:P26,"<>"&"")) -> 14 | R26: =IFERROR(RANK(Q26,$Q$13:$Q$46,1),"") -> 3 | S26: =IF(IFERROR(INDEX('[1]予選ヒートBGr-レース結果表（貼付）'!$A:$Z,MATCH($A26,'[1]予選ヒートBGr-レース結果表（貼付）'!$A:$A,0),MATCH(S$11,'[1]予選ヒートBGr-レース結果表（貼付）'!$1:$1,0)),"")=0,"",IFERROR(INDEX('[1]予選ヒートBGr-レース結果表（貼付）'!$A:$Z,MATCH($A26,'[1]予選ヒートBGr-レース結果表（貼付）'!$A:$A,0),MATCH(S$11,'[1]予選ヒートBGr-レース結果表（貼付）'!$1:$1,0)),"")) | U26: =IF(IFERROR(INDEX('[1]予選ヒートBGr-レース結果表（貼付）'!$A:$Z,MATCH($B26,'[1]予選ヒートBGr-レース結果表（貼付）'!$B:$B,0),MATCH(U$11,'[1]予選ヒートBGr-レース結果表（貼付）'!$1:$1,0)),"")=0,"",IFERROR(INDEX('[1]予選ヒートBGr-レース結果表（貼付）'!$A:$Z,MATCH($B26,'[1]予選ヒートBGr-レース結果表（貼付）'!$B:$B,0),MATCH(U$11,'[1]予選ヒートBGr-レース結果表（貼付）'!$1:$1,0)),"")) -> 69.349
A27: =IF(OR('[1]予選ヒートBGr-レース結果表（貼付）'!A16="DNF",'[1]予選ヒートBGr-レース結果表（貼付）'!A16="DNS",'[1]予選ヒートBGr-レース結果表（貼付）'!A16="DQ"),'[1]予選ヒートBGr-レース結果表（貼付）'!A16,IF(MAX('[1]予選ヒートBGr-レース結果表（貼付）'!$A:$A)>A26,A26+1,"")) -> 15 | B27: =IFERROR(INDEX('[1]予選ヒートBGr-レース結果表（貼付）'!A16:$Z$50,MATCH($A27,'[1]予選ヒートBGr-レース結果表（貼付）'!A16:$A$50,0),MATCH('[1]公式予選（TT）①-結果表（印刷）'!B$11,'[1]予選ヒートBGr-レース結果表（貼付）'!$1:$1,0)),"") -> 96 | C27: 15 | D27: =IFERROR(INDEX('[1]予選ヒートBGr-レース結果表（貼付）'!$A:$Z,MATCH($B27,'[1]予選ヒートBGr-レース結果表（貼付）'!$B:$B,0),MATCH('予選ヒートBGr-レース結果表'!D$11,'[1]予選ヒートBGr-レース結果表（貼付）'!$1:$1,0)),"") -> 大野 弘志 | E27: =IFERROR(INDEX('[1]予選ヒートBGr-レース結果表（貼付）'!$A:$Z,MATCH($B27,'[1]予選ヒートBGr-レース結果表（貼付）'!$B:$B,0),MATCH('予選ヒートBGr-レース結果表'!E$11,'[1]予選ヒートBGr-レース結果表（貼付）'!$1:$1,0)),"") -> EXPRIT/YAMAHA | F27: =IFERROR(INDEX('[1]予選ヒートBGr-レース結果表（貼付）'!$A:$Z,MATCH($B27,'[1]予選ヒートBGr-レース結果表（貼付）'!$B:$B,0),MATCH('予選ヒートBGr-レース結果表'!F$11,'[1]予選ヒートBGr-レース結果表（貼付）'!$1:$1,0)),"") -> SLT.RT/Team BONJIN | G27: =IFERROR(INDEX('[1]予選ヒートBGr-レース結果表（貼付）'!$A:$Z,MATCH($B27,'[1]予選ヒートBGr-レース結果表（貼付）'!$B:$B,0),MATCH('予選ヒートBGr-レース結果表'!G$11,'[1]予選ヒートBGr-レース結果表（貼付）'!$1:$1,0)),"") -> BS | H27: =IFERROR(INDEX('[1]予選ヒートBGr-レース結果表（貼付）'!$A:$Z,MATCH($B27,'[1]予選ヒートBGr-レース結果表（貼付）'!$B:$B,0),MATCH('予選ヒートBGr-レース結果表'!H$11,'[1]予選ヒートBGr-レース結果表（貼付）'!$1:$1,0)),"") -> 12 | I27: =IFERROR(INDEX('[1]予選ヒートBGr-レース結果表（貼付）'!$A:$Z,MATCH($B27,'[1]予選ヒートBGr-レース結果表（貼付）'!$B:$B,0),MATCH('予選ヒートBGr-レース結果表'!I$11,'[1]予選ヒートBGr-レース結果表（貼付）'!$1:$1,0)),"") -> 0.0093462384 | J27: =IFERROR(INDEX('[1]予選ヒートBGr-レース結果表（貼付）'!$A:$Z,MATCH($B27,'[1]予選ヒートBGr-レース結果表（貼付）'!$B:$B,0),MATCH('予選ヒートBGr-レース結果表'!J$11,'[1]予選ヒートBGr-レース結果表（貼付）'!$1:$1,0)),"") -> 0.000705625 | K27: =IFERROR(INDEX('[1]予選ヒートBGr-レース結果表（貼付）'!$A:$Z,MATCH($B27,'[1]予選ヒートBGr-レース結果表（貼付）'!$B:$B,0),MATCH('予選ヒートBGr-レース結果表'!K$11,'[1]予選ヒートBGr-レース結果表（貼付）'!$1:$1,0)),"") -> 3.777 | L27: =IFERROR(INDEX('[1]予選ヒートBGr-レース結果表（貼付）'!$A:$Z,MATCH($B27,'[1]予選ヒートBGr-レース結果表（貼付）'!$B:$B,0),MATCH('予選ヒートBGr-レース結果表'!L$11,'[1]予選ヒートBGr-レース結果表（貼付）'!$1:$1,0)),"") -> 0.0007690162 | M27: =IF(L27<1,"",IF($M$11>L27,"R","")) | P27: =IF(IFERROR(INDEX('[1]予選ヒートBGr-レース結果表（貼付）'!$A:$Z,MATCH($B27,'[1]予選ヒートBGr-レース結果表（貼付）'!$B:$B,0),MATCH(P$11,'[1]予選ヒートBGr-レース結果表（貼付）'!$1:$1,0)),"")=0,"",IFERROR(INDEX('[1]予選ヒートBGr-レース結果表（貼付）'!$A:$Z,MATCH($B27,'[1]予選ヒートBGr-レース結果表（貼付）'!$B:$B,0),MATCH(P$11,'[1]予選ヒートBGr-レース結果表（貼付）'!$1:$1,0)),"")) | Q27: =IF(P27="","",COUNTIF($P$13:P27,"<>"&"")) | R27: =IFERROR(RANK(Q27,$Q$13:$Q$46,1),"") | S27: =IF(IFERROR(INDEX('[1]予選ヒートBGr-レース結果表（貼付）'!$A:$Z,MATCH($A27,'[1]予選ヒートBGr-レース結果表（貼付）'!$A:$A,0),MATCH(S$11,'[1]予選ヒートBGr-レース結果表（貼付）'!$1:$1,0)),"")=0,"",IFERROR(INDEX('[1]予選ヒートBGr-レース結果表（貼付）'!$A:$Z,MATCH($A27,'[1]予選ヒートBGr-レース結果表（貼付）'!$A:$A,0),MATCH(S$11,'[1]予選ヒートBGr-レース結果表（貼付）'!$1:$1,0)),"")) | U27: =IF(IFERROR(INDEX('[1]予選ヒートBGr-レース結果表（貼付）'!$A:$Z,MATCH($B27,'[1]予選ヒートBGr-レース結果表（貼付）'!$B:$B,0),MATCH(U$11,'[1]予選ヒートBGr-レース結果表（貼付）'!$1:$1,0)),"")=0,"",IFERROR(INDEX('[1]予選ヒートBGr-レース結果表（貼付）'!$A:$Z,MATCH($B27,'[1]予選ヒートBGr-レース結果表（貼付）'!$B:$B,0),MATCH(U$11,'[1]予選ヒートBGr-レース結果表（貼付）'!$1:$1,0)),"")) -> 68.486
