Workbook

Sheet 決勝ヒート - レース正式結果表
J6: 44878 | L6: :
A7: =+[1]各種設定!D2 -> 2022年 全日本カート選手権 FS-125/FP-3部門 東西統一競技会 | J7: WEATHER: | K7: Rain
J8: COURSE : | K8: Wet
A9: =+[1]各種設定!D4 -> FP-3 | J9: 南コース 1.264Km
A10: 決勝ヒート正式結果表
B11: No. | C11: クラス | D11: 名前 | E11: Model/Engine | F11: Team | G11: Tires | H11: Laps | I11: Total Time | J11: 差 | K11: GAP | L11: BestLap | M11: =VLOOKUP(A9,[1]コースレコード!$A:$G,3,FALSE) -> 55.037 | P11: コメント | R11: ペナルティNo. | S11: グリッドコメント | U11: ベスト平均時速
A12: Pos. | B12: No. | D12: Driver | E12: Type | F12: Team | G12: Tire | H12: Laps | I12: Total Time | J12: Delay | K12: Gap | L12: Best
A13: 1 | B13: =IFERROR(INDEX('[1]決勝ヒート - レース結果（貼付）'!A2:$Z$50,MATCH($A13,'[1]決勝ヒート - レース結果（貼付）'!A2:$A$50,0),MATCH('決勝ヒート - レース正式結果表'!B$11,'[1]決勝ヒート - レース結果（貼付）'!$1:$1,0)),"") -> 40 | D13: =IFERROR(INDEX('[1]決勝ヒート - レース結果（貼付）'!$A:$Z,MATCH($B13,'[1]決勝ヒート - レース結果（貼付）'!$B:$B,0),MATCH('決勝ヒート - レース正式結果表'!D$11,'[1]決勝ヒート - レース結果（貼付）'!$1:$1,0)),"") -> 大槻 直 | E13: =IFERROR(INDEX('[1]決勝ヒート - レース結果（貼付）'!$A:$Z,MATCH($B13,'[1]決勝ヒート - レース結果（貼付）'!$B:$B,0),MATCH('決勝ヒート - レース正式結果表'!E$11,'[1]決勝ヒート - レース結果（貼付）'!$1:$1,0)),"") -> TONY KART/YAMAHA | F13: =IFERROR(INDEX('[1]決勝ヒート - レース結果（貼付）'!$A:$Z,MATCH($B13,'[1]決勝ヒート - レース結果（貼付）'!$B:$B,0),MATCH('決勝ヒート - レース正式結果表'!F$11,'[1]決勝ヒート - レース結果（貼付）'!$1:$1,0)),"") -> ASH | G13: =IFERROR(INDEX('[1]決勝ヒート - レース結果（貼付）'!$A:$Z,MATCH($B13,'[1]決勝ヒート - レース結果（貼付）'!$B:$B,0),MATCH('決勝ヒート - レース正式結果表'!G$11,'[1]決勝ヒート - レース結果（貼付）'!$1:$1,0)),"") -> BS | H13: =IFERROR(INDEX('[1]決勝ヒート - レース結果（貼付）'!$A:$Z,MATCH($B13,'[1]決勝ヒート - レース結果（貼付）'!$B:$B,0),MATCH('決勝ヒート - レース正式結果表'!H$11,'[1]決勝ヒート - レース結果（貼付）'!$1:$1,0)),"") -> 22 | I13: =IFERROR(INDEX('[1]決勝ヒート - レース結果（貼付）'!$A:$Z,MATCH($B13,'[1]決勝ヒート - レース結果（貼付）'!$B:$B,0),MATCH('決勝ヒート - レース正式結果表'!I$11,'[1]決勝ヒート - レース結果（貼付）'!$1:$1,0)),"") -> 0.016014583 | J13: =ROUND((1.264*H13)/(I13*24),2)&"km/h" -> 72.35km/h | L13: =IFERROR(INDEX('[1]決勝ヒート - レース結果（貼付）'!$A:$Z,MATCH($B13,'[1]決勝ヒート - レース結果（貼付）'!$B:$B,0),MATCH('決勝ヒート - レース正式結果表'!L$11,'[1]決勝ヒート - レース結果（貼付）'!$1:$1,0)),"") -> 0.00072226852 | M13: =IF(L13<1,"",IF($M$11>L13,"R","")) | P13: =IF(IFERROR(INDEX('[1]決勝ヒート - レース結果（貼付）'!$A:$Z,MATCH($B13,'[1]決勝ヒート - レース結果（貼付）'!$B:$B,0),MATCH('決勝ヒート - レース正式結果表'!P$11,'[1]決勝ヒート - レース結果（貼付）'!$1:$1,0)),"")=0,"",IFERROR(INDEX('[1]決勝ヒート - レース結果（貼付）'!$A:$Z,MATCH($B13,'[1]決勝ヒート - レース結果（貼付）'!$B:$B,0),MATCH('決勝ヒート - レース正式結果表'!P$11,'[1]決勝ヒート - レース結果（貼付）'!$1:$1,0)),"")) | Q13: =IF(P13="","",COUNTIF($P$13:P13,"<>"&"")) | R13: =IFERROR(RANK(Q13,$Q$13:$Q$47,1),"") | S13: =IF(IFERROR(INDEX('[1]決勝ヒート - レース結果（貼付）'!$A:$Z,MATCH($A13,'[1]決勝ヒート - レース結果（貼付）'!$A:$A,0),MATCH('決勝ヒート - レース正式結果表'!S$11,'[1]決勝ヒート - レース結果（貼付）'!$1:$1,0)),"")=0,"",IFERROR(INDEX('[1]決勝ヒート - レース結果（貼付）'!$A:$Z,MATCH($A13,'[1]決勝ヒート - レース結果（貼付）'!$A:$A,0),MATCH('決勝ヒート - レース正式結果表'!S$11,'[1]決勝ヒート - レース結果（貼付）'!$1:$1,0)),"")) | U13: =IF(IFERROR(INDEX('[1]決勝ヒート - レース結果（貼付）'!$A:$Z,MATCH($B13,'[1]決勝ヒート - レース結果（貼付）'!$B:$B,0),MATCH('決勝ヒート - レース正式結果表'!U$11,'[1]決勝ヒート - レース結果（貼付）'!$1:$1,0)),"")=0,"",IFERROR(INDEX('[1]決勝ヒート - レース結果（貼付）'!$A:$Z,MATCH($B13,'[1]決勝ヒート - レース結果（貼付）'!$B:$B,0),MATCH('決勝ヒート - レース正式結果表'!U$11,'[1]決勝ヒート - レース結果（貼付）'!$1:$1,0)),"")) -> 72.918
A14: =IF(OR('[1]決勝ヒート - レース結果（貼付）'!A3="DNF",'[1]決勝ヒート - レース結果（貼付）'!A3="DNS",'[1]決勝ヒート - レース結果（貼付）'!A3="DQ"),'[1]決勝ヒート - レース結果（貼付）'!A3,IF(MAX('[1]決勝ヒート - レース結果（貼付）'!A:A)>A13,A13+1,"")) -> 2 | B14: =IFERROR(INDEX('[1]決勝ヒート - レース結果（貼付）'!A3:$Z$50,MATCH($A14,'[1]決勝ヒート - レース結果（貼付）'!A3:$A$50,0),MATCH('決勝ヒート - レース正式結果表'!B$11,'[1]決勝ヒート - レース結果（貼付）'!$1:$1,0)),"") -> 14 | D14: =IFERROR(INDEX('[1]決勝ヒート - レース結果（貼付）'!$A:$Z,MATCH($B14,'[1]決勝ヒート - レース結果（貼付）'!$B:$B,0),MATCH('決勝ヒート - レース正式結果表'!D$11,'[1]決勝ヒート - レース結果（貼付）'!$1:$1,0)),"") -> 春日 龍之介 | E14: =IFERROR(INDEX('[1]決勝ヒート - レース結果（貼付）'!$A:$Z,MATCH($B14,'[1]決勝ヒート - レース結果（貼付）'!$B:$B,0),MATCH('決勝ヒート - レース正式結果表'!E$11,'[1]決勝ヒート - レース結果（貼付）'!$1:$1,0)),"") -> XENON KART/YAMAHA | F14: =IFERROR(INDEX('[1]決勝ヒート - レース結果（貼付）'!$A:$Z,MATCH($B14,'[1]決勝ヒート - レース結果（貼付）'!$B:$B,0),MATCH('決勝ヒート - レース正式結果表'!F$11,'[1]決勝ヒート - レース結果（貼付）'!$1:$1,0)),"") -> SPS川口 | G14: =IFERROR(INDEX('[1]決勝ヒート - レース結果（貼付）'!$A:$Z,MATCH($B14,'[1]決勝ヒート - レース結果（貼付）'!$B:$B,0),MATCH('決勝ヒート - レース正式結果表'!G$11,'[1]決勝ヒート - レース結果（貼付）'!$1:$1,0)),"") -> BS | H14: =IF(A14="DNS","",IF(A14="DQ","",IFERROR(INDEX('[1]決勝ヒート - レース結果（貼付）'!$A:$Z,MATCH($B14,'[1]決勝ヒート - レース結果（貼付）'!$B:$B,0),MATCH('決勝ヒート - レース正式結果表'!H$11,'[1]決勝ヒート - レース結果（貼付）'!$1:$1,0)),""))) -> 22 | I14: =IF(A14="DNS","ｽﾀｰﾄ出来ず",IF(A14="DQ","失 格",IFERROR(INDEX('[1]決勝ヒート - レース結果（貼付）'!$A:$Z,MATCH($B14,'[1]決勝ヒート - レース結果（貼付）'!$B:$B,0),MATCH('決勝ヒート - レース正式結果表'!I$11,'[1]決勝ヒート - レース結果（貼付）'!$1:$1,0)),""))) -> 0.016078773 | J14: =IF(A14="DNS","",IF(A14="DQ","",IFERROR(INDEX('[1]決勝ヒート - レース結果（貼付）'!$A:$Z,MATCH($B14,'[1]決勝ヒート - レース結果（貼付）'!$B:$B,0),MATCH('決勝ヒート - レース正式結果表'!J$11,'[1]決勝ヒート - レース結果（貼付）'!$1:$1,0)),""))) -> 5.546 | K14: =IF(A14="DNS","",IF(A14="DQ","",IFERROR(INDEX('[1]決勝ヒート - レース結果（貼付）'!$A:$Z,MATCH($B14,'[1]決勝ヒート - レース結果（貼付）'!$B:$B,0),MATCH('決勝ヒート - レース正式結果表'!K$11,'[1]決勝ヒート - レース結果（貼付）'!$1:$1,0)),""))) -> 5.546 | L14: =IF(A14="DNS","",IF(A14="DQ","",IFERROR(INDEX('[1]決勝ヒート - レース結果（貼付）'!$A:$Z,MATCH($B14,'[1]決勝ヒート - レース結果（貼付）'!$B:$B,0),MATCH('決勝ヒート - レース正式結果表'!L$11,'[1]決勝ヒート - レース結果（貼付）'!$1:$1,0)),""))) -> 0.00072675926 | M14: =IF(L14<1,"",IF($M$11>L14,"R","")) | P14: =IF(IFERROR(INDEX('[1]決勝ヒート - レース結果（貼付）'!$A:$Z,MATCH($B14,'[1]決勝ヒート - レース結果（貼付）'!$B:$B,0),MATCH('決勝ヒート - レース正式結果表'!P$11,'[1]決勝ヒート - レース結果（貼付）'!$1:$1,0)),"")=0,"",IFERROR(INDEX('[1]決勝ヒート - レース結果（貼付）'!$A:$Z,MATCH($B14,'[1]決勝ヒート - レース結果（貼付）'!$B:$B,0),MATCH('決勝ヒート - レース正式結果表'!P$11,'[1]決勝ヒート - レース結果（貼付）'!$1:$1,0)),"")) | Q14: =IF(P14="","",COUNTIF($P$13:P14,"<>"&"")) | R14: =IFERROR(RANK(Q14,$Q$13:$Q$47,1),"") | S14: =IF(IFERROR(INDEX('[1]決勝ヒート - レース結果（貼付）'!$A:$Z,MATCH($A14,'[1]決勝ヒート - レース結果（貼付）'!$A:$A,0),MATCH('決勝ヒート - レース正式結果表'!S$11,'[1]決勝ヒート - レース結果（貼付）'!$1:$1,0)),"")=0,"",IFERROR(INDEX('[1]決勝ヒート - レース結果（貼付）'!$A:$Z,MATCH($A14,'[1]決勝ヒート - レース結果（貼付）'!$A:$A,0),MATCH('決勝ヒート - レース正式結果表'!S$11,'[1]決勝ヒート - レース結果（貼付）'!$1:$1,0)),"")) | U14: =IF(IFERROR(INDEX('[1]決勝ヒート - レース結果（貼付）'!$A:$Z,MATCH($B14,'[1]決勝ヒート - レース結果（貼付）'!$B:$B,0),MATCH('決勝ヒート - レース正式結果表'!U$11,'[1]決勝ヒート - レース結果（貼付）'!$1:$1,0)),"")=0,"",IFERROR(INDEX('[1]決勝ヒート - レース結果（貼付）'!$A:$Z,MATCH($B14,'[1]決勝ヒート - レース結果（貼付）'!$B:$B,0),MATCH('決勝ヒート - レース正式結果表'!U$11,'[1]決勝ヒート - レース結果（貼付）'!$1:$1,0)),"")) -> 72.468
A15: =IF(OR('[1]決勝ヒート - レース結果（貼付）'!A4="DNF",'[1]決勝ヒート - レース結果（貼付）'!A4="DNS",'[1]決勝ヒート - レース結果（貼付）'!A4="DQ"),'[1]決勝ヒート - レース結果（貼付）'!A4,IF(MAX('[1]決勝ヒート - レース結果（貼付）'!A:A)>A14,A14+1,"")) -> 3 | B15: =IFERROR(INDEX('[1]決勝ヒート - レース結果（貼付）'!A4:$Z$50,MATCH($A15,'[1]決勝ヒート - レース結果（貼付）'!A4:$A$50,0),MATCH('決勝ヒート - レース正式結果表'!B$11,'[1]決勝ヒート - レース結果（貼付）'!$1:$1,0)),"") -> 11 | D15: =IFERROR(INDEX('[1]決勝ヒート - レース結果（貼付）'!$A:$Z,MATCH($B15,'[1]決勝ヒート - レース結果（貼付）'!$B:$B,0),MATCH('決勝ヒート - レース正式結果表'!D$11,'[1]決勝ヒート - レース結果（貼付）'!$1:$1,0)),"") -> 富下 李央菜 | E15: =IFERROR(INDEX('[1]決勝ヒート - レース結果（貼付）'!$A:$Z,MATCH($B15,'[1]決勝ヒート - レース結果（貼付）'!$B:$B,0),MATCH('決勝ヒート - レース正式結果表'!E$11,'[1]決勝ヒート - レース結果（貼付）'!$1:$1,0)),"") -> KOSMIC/YAMAHA | F15: =IFERROR(INDEX('[1]決勝ヒート - レース結果（貼付）'!$A:$Z,MATCH($B15,'[1]決勝ヒート - レース結果（貼付）'!$B:$B,0),MATCH('決勝ヒート - レース正式結果表'!F$11,'[1]決勝ヒート - レース結果（貼付）'!$1:$1,0)),"") -> Formula Blue TKC | G15: =IFERROR(INDEX('[1]決勝ヒート - レース結果（貼付）'!$A:$Z,MATCH($B15,'[1]決勝ヒート - レース結果（貼付）'!$B:$B,0),MATCH('決勝ヒート - レース正式結果表'!G$11,'[1]決勝ヒート - レース結果（貼付）'!$1:$1,0)),"") -> BS | H15: =IF(A15="DNS","",IF(A15="DQ","",IFERROR(INDEX('[1]決勝ヒート - レース結果（貼付）'!$A:$Z,MATCH($B15,'[1]決勝ヒート - レース結果（貼付）'!$B:$B,0),MATCH('決勝ヒート - レース正式結果表'!H$11,'[1]決勝ヒート - レース結果（貼付）'!$1:$1,0)),""))) -> 22 | I15: =IF(A15="DNS","ｽﾀｰﾄ出来ず",IF(A15="DQ","失 格",IFERROR(INDEX('[1]決勝ヒート - レース結果（貼付）'!$A:$Z,MATCH($B15,'[1]決勝ヒート - レース結果（貼付）'!$B:$B,0),MATCH('決勝ヒート - レース正式結果表'!I$11,'[1]決勝ヒート - レース結果（貼付）'!$1:$1,0)),""))) -> 0.016082014 | J15: =IF(A15="DNS","",IF(A15="DQ","",IFERROR(INDEX('[1]決勝ヒート - レース結果（貼付）'!$A:$Z,MATCH($B15,'[1]決勝ヒート - レース結果（貼付）'!$B:$B,0),MATCH('決勝ヒート - レース正式結果表'!J$11,'[1]決勝ヒート - レース結果（貼付）'!$1:$1,0)),""))) -> 5.826 | K15: =IF(A15="DNS","",IF(A15="DQ","",IFERROR(INDEX('[1]決勝ヒート - レース結果（貼付）'!$A:$Z,MATCH($B15,'[1]決勝ヒート - レース結果（貼付）'!$B:$B,0),MATCH('決勝ヒート - レース正式結果表'!K$11,'[1]決勝ヒート - レース結果（貼付）'!$1:$1,0)),""))) -> 0.28 | L15: =IF(A15="DNS","",IF(A15="DQ","",IFERROR(INDEX('[1]決勝ヒート - レース結果（貼付）'!$A:$Z,MATCH($B15,'[1]決勝ヒート - レース結果（貼付）'!$B:$B,0),MATCH('決勝ヒート - レース正式結果表'!L$11,'[1]決勝ヒート - レース結果（貼付）'!$1:$1,0)),""))) -> 0.00072800926 | M15: =IF(L15<1,"",IF($M$11>L15,"R","")) | P15: =IF(IFERROR(INDEX('[1]決勝ヒート - レース結果（貼付）'!$A:$Z,MATCH($B15,'[1]決勝ヒート - レース結果（貼付）'!$B:$B,0),MATCH('決勝ヒート - レース正式結果表'!P$11,'[1]決勝ヒート - レース結果（貼付）'!$1:$1,0)),"")=0,"",IFERROR(INDEX('[1]決勝ヒート - レース結果（貼付）'!$A:$Z,MATCH($B15,'[1]決勝ヒート - レース結果（貼付）'!$B:$B,0),MATCH('決勝ヒート - レース正式結果表'!P$11,'[1]決勝ヒート - レース結果（貼付）'!$1:$1,0)),"")) | Q15: =IF(P15="","",COUNTIF($P$13:P15,"<>"&"")) | R15: =IFERROR(RANK(Q15,$Q$13:$Q$47,1),"") | S15: =IF(IFERROR(INDEX('[1]決勝ヒート - レース結果（貼付）'!$A:$Z,MATCH($A15,'[1]決勝ヒート - レース結果（貼付）'!$A:$A,0),MATCH('決勝ヒート - レース正式結果表'!S$11,'[1]決勝ヒート - レース結果（貼付）'!$1:$1,0)),"")=0,"",IFERROR(INDEX('[1]決勝ヒート - レース結果（貼付）'!$A:$Z,MATCH($A15,'[1]決勝ヒート - レース結果（貼付）'!$A:$A,0),MATCH('決勝ヒート - レース正式結果表'!S$11,'[1]決勝ヒート - レース結果（貼付）'!$1:$1,0)),"")) | U15: =IF(IFERROR(INDEX('[1]決勝ヒート - レース結果（貼付）'!$A:$Z,MATCH($B15,'[1]決勝ヒート - レース結果（貼付）'!$B:$B,0),MATCH('決勝ヒート - レース正式結果表'!U$11,'[1]決勝ヒート - レース結果（貼付）'!$1:$1,0)),"")=0,"",IFERROR(INDEX('[1]決勝ヒート - レース結果（貼付）'!$A:$Z,MATCH($B15,'[1]決勝ヒート - レース結果（貼付）'!$B:$B,0),MATCH('決勝ヒート - レース正式結果表'!U$11,'[1]決勝ヒート - レース結果（貼付）'!$1:$1,0)),"")) -> 72.343
A16: =IF(OR('[1]決勝ヒート - レース結果（貼付）'!A5="DNF",'[1]決勝ヒート - レース結果（貼付）'!A5="DNS",'[1]決勝ヒート - レース結果（貼付）'!A5="DQ"),'[1]決勝ヒート - レース結果（貼付）'!A5,IF(MAX('[1]決勝ヒート - レース結果（貼付）'!A:A)>A15,A15+1,"")) -> 4 | B16: =IFERROR(INDEX('[1]決勝ヒート - レース結果（貼付）'!A5:$Z$50,MATCH($A16,'[1]決勝ヒート - レース結果（貼付）'!A5:$A$50,0),MATCH('決勝ヒート - レース正式結果表'!B$11,'[1]決勝ヒート - レース結果（貼付）'!$1:$1,0)),"") -> 19 | D16: =IFERROR(INDEX('[1]決勝ヒート - レース結果（貼付）'!$A:$Z,MATCH($B16,'[1]決勝ヒート - レース結果（貼付）'!$B:$B,0),MATCH('決勝ヒート - レース正式結果表'!D$11,'[1]決勝ヒート - レース結果（貼付）'!$1:$1,0)),"") -> 蒲生 尚弥 | E16: =IFERROR(INDEX('[1]決勝ヒート - レース結果（貼付）'!$A:$Z,MATCH($B16,'[1]決勝ヒート - レース結果（貼付）'!$B:$B,0),MATCH('決勝ヒート - レース正式結果表'!E$11,'[1]決勝ヒート - レース結果（貼付）'!$1:$1,0)),"") -> CL/YAMAHA | F16: =IFERROR(INDEX('[1]決勝ヒート - レース結果（貼付）'!$A:$Z,MATCH($B16,'[1]決勝ヒート - レース結果（貼付）'!$B:$B,0),MATCH('決勝ヒート - レース正式結果表'!F$11,'[1]決勝ヒート - レース結果（貼付）'!$1:$1,0)),"") -> のりものクラブTIGRE | G16: =IFERROR(INDEX('[1]決勝ヒート - レース結果（貼付）'!$A:$Z,MATCH($B16,'[1]決勝ヒート - レース結果（貼付）'!$B:$B,0),MATCH('決勝ヒート - レース正式結果表'!G$11,'[1]決勝ヒート - レース結果（貼付）'!$1:$1,0)),"") -> BS | H16: =IF(A16="DNS","",IF(A16="DQ","",IFERROR(INDEX('[1]決勝ヒート - レース結果（貼付）'!$A:$Z,MATCH($B16,'[1]決勝ヒート - レース結果（貼付）'!$B:$B,0),MATCH('決勝ヒート - レース正式結果表'!H$11,'[1]決勝ヒート - レース結果（貼付）'!$1:$1,0)),""))) -> 22 | I16: =IF(A16="DNS","ｽﾀｰﾄ出来ず",IF(A16="DQ","失 格",IFERROR(INDEX('[1]決勝ヒート - レース結果（貼付）'!$A:$Z,MATCH($B16,'[1]決勝ヒート - レース結果（貼付）'!$B:$B,0),MATCH('決勝ヒート - レース正式結果表'!I$11,'[1]決勝ヒート - レース結果（貼付）'!$1:$1,0)),""))) -> 0.016095243 | J16: =IF(A16="DNS","",IF(A16="DQ","",IFERROR(INDEX('[1]決勝ヒート - レース結果（貼付）'!$A:$Z,MATCH($B16,'[1]決勝ヒート - レース結果（貼付）'!$B:$B,0),MATCH('決勝ヒート - レース正式結果表'!J$11,'[1]決勝ヒート - レース結果（貼付）'!$1:$1,0)),""))) -> 6.969 | K16: =IF(A16="DNS","",IF(A16="DQ","",IFERROR(INDEX('[1]決勝ヒート - レース結果（貼付）'!$A:$Z,MATCH($B16,'[1]決勝ヒート - レース結果（貼付）'!$B:$B,0),MATCH('決勝ヒート - レース正式結果表'!K$11,'[1]決勝ヒート - レース結果（貼付）'!$1:$1,0)),""))) -> 1.143 | L16: =IF(A16="DNS","",IF(A16="DQ","",IFERROR(INDEX('[1]決勝ヒート - レース結果（貼付）'!$A:$Z,MATCH($B16,'[1]決勝ヒート - レース結果（貼付）'!$B:$B,0),MATCH('決勝ヒート - レース正式結果表'!L$11,'[1]決勝ヒート - レース結果（貼付）'!$1:$1,0)),""))) -> 0.00072681713 | M16: =IF(L16<1,"",IF($M$11>L16,"R","")) | P16: =IF(IFERROR(INDEX('[1]決勝ヒート - レース結果（貼付）'!$A:$Z,MATCH($B16,'[1]決勝ヒート - レース結果（貼付）'!$B:$B,0),MATCH('決勝ヒート - レース正式結果表'!P$11,'[1]決勝ヒート - レース結果（貼付）'!$1:$1,0)),"")=0,"",IFERROR(INDEX('[1]決勝ヒート - レース結果（貼付）'!$A:$Z,MATCH($B16,'[1]決勝ヒート - レース結果（貼付）'!$B:$B,0),MATCH('決勝ヒート - レース正式結果表'!P$11,'[1]決勝ヒート - レース結果（貼付）'!$1:$1,0)),"")) | Q16: =IF(P16="","",COUNTIF($P$13:P16,"<>"&"")) | R16: =IFERROR(RANK(Q16,$Q$13:$Q$47,1),"") | S16: =IF(IFERROR(INDEX('[1]決勝ヒート - レース結果（貼付）'!$A:$Z,MATCH($A16,'[1]決勝ヒート - レース結果（貼付）'!$A:$A,0),MATCH('決勝ヒート - レース正式結果表'!S$11,'[1]決勝ヒート - レース結果（貼付）'!$1:$1,0)),"")=0,"",IFERROR(INDEX('[1]決勝ヒート - レース結果（貼付）'!$A:$Z,MATCH($A16,'[1]決勝ヒート - レース結果（貼付）'!$A:$A,0),MATCH('決勝ヒート - レース正式結果表'!S$11,'[1]決勝ヒート - レース結果（貼付）'!$1:$1,0)),"")) | U16: =IF(IFERROR(INDEX('[1]決勝ヒート - レース結果（貼付）'!$A:$Z,MATCH($B16,'[1]決勝ヒート - レース結果（貼付）'!$B:$B,0),MATCH('決勝ヒート - レース正式結果表'!U$11,'[1]決勝ヒート - レース結果（貼付）'!$1:$1,0)),"")=0,"",IFERROR(INDEX('[1]決勝ヒート - レース結果（貼付）'!$A:$Z,MATCH($B16,'[1]決勝ヒート - レース結果（貼付）'!$B:$B,0),MATCH('決勝ヒート - レース正式結果表'!U$11,'[1]決勝ヒート - レース結果（貼付）'!$1:$1,0)),"")) -> 72.462
A17: =IF(OR('[1]決勝ヒート - レース結果（貼付）'!A6="DNF",'[1]決勝ヒート - レース結果（貼付）'!A6="DNS",'[1]決勝ヒート - レース結果（貼付）'!A6="DQ"),'[1]決勝ヒート - レース結果（貼付）'!A6,IF(MAX('[1]決勝ヒート - レース結果（貼付）'!A:A)>A16,A16+1,"")) -> 5 | B17: =IFERROR(INDEX('[1]決勝ヒート - レース結果（貼付）'!A6:$Z$50,MATCH($A17,'[1]決勝ヒート - レース結果（貼付）'!A6:$A$50,0),MATCH('決勝ヒート - レース正式結果表'!B$11,'[1]決勝ヒート - レース結果（貼付）'!$1:$1,0)),"") -> 44 | D17: =IFERROR(INDEX('[1]決勝ヒート - レース結果（貼付）'!$A:$Z,MATCH($B17,'[1]決勝ヒート - レース結果（貼付）'!$B:$B,0),MATCH('決勝ヒート - レース正式結果表'!D$11,'[1]決勝ヒート - レース結果（貼付）'!$1:$1,0)),"") -> 中村 海斗 | E17: =IFERROR(INDEX('[1]決勝ヒート - レース結果（貼付）'!$A:$Z,MATCH($B17,'[1]決勝ヒート - レース結果（貼付）'!$B:$B,0),MATCH('決勝ヒート - レース正式結果表'!E$11,'[1]決勝ヒート - レース結果（貼付）'!$1:$1,0)),"") -> TONY KART/YAMAHA | F17: =IFERROR(INDEX('[1]決勝ヒート - レース結果（貼付）'!$A:$Z,MATCH($B17,'[1]決勝ヒート - レース結果（貼付）'!$B:$B,0),MATCH('決勝ヒート - レース正式結果表'!F$11,'[1]決勝ヒート - レース結果（貼付）'!$1:$1,0)),"") -> TEAM NAGAO | G17: =IFERROR(INDEX('[1]決勝ヒート - レース結果（貼付）'!$A:$Z,MATCH($B17,'[1]決勝ヒート - レース結果（貼付）'!$B:$B,0),MATCH('決勝ヒート - レース正式結果表'!G$11,'[1]決勝ヒート - レース結果（貼付）'!$1:$1,0)),"") -> BS | H17: =IF(A17="DNS","",IF(A17="DQ","",IFERROR(INDEX('[1]決勝ヒート - レース結果（貼付）'!$A:$Z,MATCH($B17,'[1]決勝ヒート - レース結果（貼付）'!$B:$B,0),MATCH('決勝ヒート - レース正式結果表'!H$11,'[1]決勝ヒート - レース結果（貼付）'!$1:$1,0)),""))) -> 22 | I17: =IF(A17="DNS","ｽﾀｰﾄ出来ず",IF(A17="DQ","失 格",IFERROR(INDEX('[1]決勝ヒート - レース結果（貼付）'!$A:$Z,MATCH($B17,'[1]決勝ヒート - レース結果（貼付）'!$B:$B,0),MATCH('決勝ヒート - レース正式結果表'!I$11,'[1]決勝ヒート - レース結果（貼付）'!$1:$1,0)),""))) -> 0.016137361 | J17: =IF(A17="DNS","",IF(A17="DQ","",IFERROR(INDEX('[1]決勝ヒート - レース結果（貼付）'!$A:$Z,MATCH($B17,'[1]決勝ヒート - レース結果（貼付）'!$B:$B,0),MATCH('決勝ヒート - レース正式結果表'!J$11,'[1]決勝ヒート - レース結果（貼付）'!$1:$1,0)),""))) -> 10.608 | K17: =IF(A17="DNS","",IF(A17="DQ","",IFERROR(INDEX('[1]決勝ヒート - レース結果（貼付）'!$A:$Z,MATCH($B17,'[1]決勝ヒート - レース結果（貼付）'!$B:$B,0),MATCH('決勝ヒート - レース正式結果表'!K$11,'[1]決勝ヒート - レース結果（貼付）'!$1:$1,0)),""))) -> 3.639 | L17: =IF(A17="DNS","",IF(A17="DQ","",IFERROR(INDEX('[1]決勝ヒート - レース結果（貼付）'!$A:$Z,MATCH($B17,'[1]決勝ヒート - レース結果（貼付）'!$B:$B,0),MATCH('決勝ヒート - レース正式結果表'!L$11,'[1]決勝ヒート - レース結果（貼付）'!$1:$1,0)),""))) -> 0.00072483796 | M17: =IF(L17<1,"",IF($M$11>L17,"R","")) | P17: =IF(IFERROR(INDEX('[1]決勝ヒート - レース結果（貼付）'!$A:$Z,MATCH($B17,'[1]決勝ヒート - レース結果（貼付）'!$B:$B,0),MATCH('決勝ヒート - レース正式結果表'!P$11,'[1]決勝ヒート - レース結果（貼付）'!$1:$1,0)),"")=0,"",IFERROR(INDEX('[1]決勝ヒート - レース結果（貼付）'!$A:$Z,MATCH($B17,'[1]決勝ヒート - レース結果（貼付）'!$B:$B,0),MATCH('決勝ヒート - レース正式結果表'!P$11,'[1]決勝ヒート - レース結果（貼付）'!$1:$1,0)),"")) | Q17: =IF(P17="","",COUNTIF($P$13:P17,"<>"&"")) | R17: =IFERROR(RANK(Q17,$Q$13:$Q$47,1),"") | S17: =IF(IFERROR(INDEX('[1]決勝ヒート - レース結果（貼付）'!$A:$Z,MATCH($A17,'[1]決勝ヒート - レース結果（貼付）'!$A:$A,0),MATCH('決勝ヒート - レース正式結果表'!S$11,'[1]決勝ヒート - レース結果（貼付）'!$1:$1,0)),"")=0,"",IFERROR(INDEX('[1]決勝ヒート - レース結果（貼付）'!$A:$Z,MATCH($A17,'[1]決勝ヒート - レース結果（貼付）'!$A:$A,0),MATCH('決勝ヒート - レース正式結果表'!S$11,'[1]決勝ヒート - レース結果（貼付）'!$1:$1,0)),"")) | U17: =IF(IFERROR(INDEX('[1]決勝ヒート - レース結果（貼付）'!$A:$Z,MATCH($B17,'[1]決勝ヒート - レース結果（貼付）'!$B:$B,0),MATCH('決勝ヒート - レース正式結果表'!U$11,'[1]決勝ヒート - レース結果（貼付）'!$1:$1,0)),"")=0,"",IFERROR(INDEX('[1]決勝ヒート - レース結果（貼付）'!$A:$Z,MATCH($B17,'[1]決勝ヒート - レース結果（貼付）'!$B:$B,0),MATCH('決勝ヒート - レース正式結果表'!U$11,'[1]決勝ヒート - レース結果（貼付）'!$1:$1,0)),"")) -> 72.484
A18: =IF(OR('[1]決勝ヒート - レース結果（貼付）'!A7="DNF",'[1]決勝ヒート - レース結果（貼付）'!A7="DNS",'[1]決勝ヒート - レース結果（貼付）'!A7="DQ"),'[1]決勝ヒート - レース結果（貼付）'!A7,IF(MAX('[1]決勝ヒート - レース結果（貼付）'!A:A)>A17,A17+1,"")) -> 6 | B18: =IFERROR(INDEX('[1]決勝ヒート - レース結果（貼付）'!A7:$Z$50,MATCH($A18,'[1]決勝ヒート - レース結果（貼付）'!A7:$A$50,0),MATCH('決勝ヒート - レース正式結果表'!B$11,'[1]決勝ヒート - レース結果（貼付）'!$1:$1,0)),"") -> 25 | D18: =IFERROR(INDEX('[1]決勝ヒート - レース結果（貼付）'!$A:$Z,MATCH($B18,'[1]決勝ヒート - レース結果（貼付）'!$B:$B,0),MATCH('決勝ヒート - レース正式結果表'!D$11,'[1]決勝ヒート - レース結果（貼付）'!$1:$1,0)),"") -> 鈴木 恵武 | E18: =IFERROR(INDEX('[1]決勝ヒート - レース結果（貼付）'!$A:$Z,MATCH($B18,'[1]決勝ヒート - レース結果（貼付）'!$B:$B,0),MATCH('決勝ヒート - レース正式結果表'!E$11,'[1]決勝ヒート - レース結果（貼付）'!$1:$1,0)),"") -> KOSMIC/YAMAHA | F18: =IFERROR(INDEX('[1]決勝ヒート - レース結果（貼付）'!$A:$Z,MATCH($B18,'[1]決勝ヒート - レース結果（貼付）'!$B:$B,0),MATCH('決勝ヒート - レース正式結果表'!F$11,'[1]決勝ヒート - レース結果（貼付）'!$1:$1,0)),"") -> Formula Blue 増田スピード | G18: =IFERROR(INDEX('[1]決勝ヒート - レース結果（貼付）'!$A:$Z,MATCH($B18,'[1]決勝ヒート - レース結果（貼付）'!$B:$B,0),MATCH('決勝ヒート - レース正式結果表'!G$11,'[1]決勝ヒート - レース結果（貼付）'!$1:$1,0)),"") -> BS | H18: =IF(A18="DNS","",IF(A18="DQ","",IFERROR(INDEX('[1]決勝ヒート - レース結果（貼付）'!$A:$Z,MATCH($B18,'[1]決勝ヒート - レース結果（貼付）'!$B:$B,0),MATCH('決勝ヒート - レース正式結果表'!H$11,'[1]決勝ヒート - レース結果（貼付）'!$1:$1,0)),""))) -> 22 | I18: =IF(A18="DNS","ｽﾀｰﾄ出来ず",IF(A18="DQ","失 格",IFERROR(INDEX('[1]決勝ヒート - レース結果（貼付）'!$A:$Z,MATCH($B18,'[1]決勝ヒート - レース結果（貼付）'!$B:$B,0),MATCH('決勝ヒート - レース正式結果表'!I$11,'[1]決勝ヒート - レース結果（貼付）'!$1:$1,0)),""))) -> 0.016151215 | J18: =IF(A18="DNS","",IF(A18="DQ","",IFERROR(INDEX('[1]決勝ヒート - レース結果（貼付）'!$A:$Z,MATCH($B18,'[1]決勝ヒート - レース結果（貼付）'!$B:$B,0),MATCH('決勝ヒート - レース正式結果表'!J$11,'[1]決勝ヒート - レース結果（貼付）'!$1:$1,0)),""))) -> 11.805 | K18: =IF(A18="DNS","",IF(A18="DQ","",IFERROR(INDEX('[1]決勝ヒート - レース結果（貼付）'!$A:$Z,MATCH($B18,'[1]決勝ヒート - レース結果（貼付）'!$B:$B,0),MATCH('決勝ヒート - レース正式結果表'!K$11,'[1]決勝ヒート - レース結果（貼付）'!$1:$1,0)),""))) -> 1.197 | L18: =IF(A18="DNS","",IF(A18="DQ","",IFERROR(INDEX('[1]決勝ヒート - レース結果（貼付）'!$A:$Z,MATCH($B18,'[1]決勝ヒート - レース結果（貼付）'!$B:$B,0),MATCH('決勝ヒート - レース正式結果表'!L$11,'[1]決勝ヒート - レース結果（貼付）'!$1:$1,0)),""))) -> 0.00072681713 | M18: =IF(L18<1,"",IF($M$11>L18,"R","")) | P18: =IF(IFERROR(INDEX('[1]決勝ヒート - レース結果（貼付）'!$A:$Z,MATCH($B18,'[1]決勝ヒート - レース結果（貼付）'!$B:$B,0),MATCH('決勝ヒート - レース正式結果表'!P$11,'[1]決勝ヒート - レース結果（貼付）'!$1:$1,0)),"")=0,"",IFERROR(INDEX('[1]決勝ヒート - レース結果（貼付）'!$A:$Z,MATCH($B18,'[1]決勝ヒート - レース結果（貼付）'!$B:$B,0),MATCH('決勝ヒート - レース正式結果表'!P$11,'[1]決勝ヒート - レース結果（貼付）'!$1:$1,0)),"")) | Q18: =IF(P18="","",COUNTIF($P$13:P18,"<>"&"")) | R18: =IFERROR(RANK(Q18,$Q$13:$Q$47,1),"") | S18: =IF(IFERROR(INDEX('[1]決勝ヒート - レース結果（貼付）'!$A:$Z,MATCH($A18,'[1]決勝ヒート - レース結果（貼付）'!$A:$A,0),MATCH('決勝ヒート - レース正式結果表'!S$11,'[1]決勝ヒート - レース結果（貼付）'!$1:$1,0)),"")=0,"",IFERROR(INDEX('[1]決勝ヒート - レース結果（貼付）'!$A:$Z,MATCH($A18,'[1]決勝ヒート - レース結果（貼付）'!$A:$A,0),MATCH('決勝ヒート - レース正式結果表'!S$11,'[1]決勝ヒート - レース結果（貼付）'!$1:$1,0)),"")) | U18: =IF(IFERROR(INDEX('[1]決勝ヒート - レース結果（貼付）'!$A:$Z,MATCH($B18,'[1]決勝ヒート - レース結果（貼付）'!$B:$B,0),MATCH('決勝ヒート - レース正式結果表'!U$11,'[1]決勝ヒート - レース結果（貼付）'!$1:$1,0)),"")=0,"",IFERROR(INDEX('[1]決勝ヒート - レース結果（貼付）'!$A:$Z,MATCH($B18,'[1]決勝ヒート - レース結果（貼付）'!$B:$B,0),MATCH('決勝ヒート - レース正式結果表'!U$11,'[1]決勝ヒート - レース結果（貼付）'!$1:$1,0)),"")) -> 72.66
A19: =IF(OR('[1]決勝ヒート - レース結果（貼付）'!A8="DNF",'[1]決勝ヒート - レース結果（貼付）'!A8="DNS",'[1]決勝ヒート - レース結果（貼付）'!A8="DQ"),'[1]決勝ヒート - レース結果（貼付）'!A8,IF(MAX('[1]決勝ヒート - レース結果（貼付）'!A:A)>A18,A18+1,"")) -> 7 | B19: =IFERROR(INDEX('[1]決勝ヒート - レース結果（貼付）'!A8:$Z$50,MATCH($A19,'[1]決勝ヒート - レース結果（貼付）'!A8:$A$50,0),MATCH('決勝ヒート - レース正式結果表'!B$11,'[1]決勝ヒート - レース結果（貼付）'!$1:$1,0)),"") -> 55 | D19: =IFERROR(INDEX('[1]決勝ヒート - レース結果（貼付）'!$A:$Z,MATCH($B19,'[1]決勝ヒート - レース結果（貼付）'!$B:$B,0),MATCH('決勝ヒート - レース正式結果表'!D$11,'[1]決勝ヒート - レース結果（貼付）'!$1:$1,0)),"") -> 大井 偉史 | E19: =IFERROR(INDEX('[1]決勝ヒート - レース結果（貼付）'!$A:$Z,MATCH($B19,'[1]決勝ヒート - レース結果（貼付）'!$B:$B,0),MATCH('決勝ヒート - レース正式結果表'!E$11,'[1]決勝ヒート - レース結果（貼付）'!$1:$1,0)),"") -> GILLARD TG17/YAMAHA | F19: =IFERROR(INDEX('[1]決勝ヒート - レース結果（貼付）'!$A:$Z,MATCH($B19,'[1]決勝ヒート - レース結果（貼付）'!$B:$B,0),MATCH('決勝ヒート - レース正式結果表'!F$11,'[1]決勝ヒート - レース結果（貼付）'!$1:$1,0)),"") -> Vifonte with Ash | G19: =IFERROR(INDEX('[1]決勝ヒート - レース結果（貼付）'!$A:$Z,MATCH($B19,'[1]決勝ヒート - レース結果（貼付）'!$B:$B,0),MATCH('決勝ヒート - レース正式結果表'!G$11,'[1]決勝ヒート - レース結果（貼付）'!$1:$1,0)),"") -> BS | H19: =IF(A19="DNS","",IF(A19="DQ","",IFERROR(INDEX('[1]決勝ヒート - レース結果（貼付）'!$A:$Z,MATCH($B19,'[1]決勝ヒート - レース結果（貼付）'!$B:$B,0),MATCH('決勝ヒート - レース正式結果表'!H$11,'[1]決勝ヒート - レース結果（貼付）'!$1:$1,0)),""))) -> 22 | I19: =IF(A19="DNS","ｽﾀｰﾄ出来ず",IF(A19="DQ","失 格",IFERROR(INDEX('[1]決勝ヒート - レース結果（貼付）'!$A:$Z,MATCH($B19,'[1]決勝ヒート - レース結果（貼付）'!$B:$B,0),MATCH('決勝ヒート - レース正式結果表'!I$11,'[1]決勝ヒート - レース結果（貼付）'!$1:$1,0)),""))) -> 0.016180856 | J19: =IF(A19="DNS","",IF(A19="DQ","",IFERROR(INDEX('[1]決勝ヒート - レース結果（貼付）'!$A:$Z,MATCH($B19,'[1]決勝ヒート - レース結果（貼付）'!$B:$B,0),MATCH('決勝ヒート - レース正式結果表'!J$11,'[1]決勝ヒート - レース結果（貼付）'!$1:$1,0)),""))) -> 14.366 | K19: =IF(A19="DNS","",IF(A19="DQ","",IFERROR(INDEX('[1]決勝ヒート - レース結果（貼付）'!$A:$Z,MATCH($B19,'[1]決勝ヒート - レース結果（貼付）'!$B:$B,0),MATCH('決勝ヒート - レース正式結果表'!K$11,'[1]決勝ヒート - レース結果（貼付）'!$1:$1,0)),""))) -> 2.561 | L19: =IF(A19="DNS","",IF(A19="DQ","",IFERROR(INDEX('[1]決勝ヒート - レース結果（貼付）'!$A:$Z,MATCH($B19,'[1]決勝ヒート - レース結果（貼付）'!$B:$B,0),MATCH('決勝ヒート - レース正式結果表'!L$11,'[1]決勝ヒート - レース結果（貼付）'!$1:$1,0)),""))) -> 0.00072710648 | M19: =IF(L19<1,"",IF($M$11>L19,"R","")) | P19: =IF(IFERROR(INDEX('[1]決勝ヒート - レース結果（貼付）'!$A:$Z,MATCH($B19,'[1]決勝ヒート - レース結果（貼付）'!$B:$B,0),MATCH('決勝ヒート - レース正式結果表'!P$11,'[1]決勝ヒート - レース結果（貼付）'!$1:$1,0)),"")=0,"",IFERROR(INDEX('[1]決勝ヒート - レース結果（貼付）'!$A:$Z,MATCH($B19,'[1]決勝ヒート - レース結果（貼付）'!$B:$B,0),MATCH('決勝ヒート - レース正式結果表'!P$11,'[1]決勝ヒート - レース結果（貼付）'!$1:$1,0)),"")) | Q19: =IF(P19="","",COUNTIF($P$13:P19,"<>"&"")) | R19: =IFERROR(RANK(Q19,$Q$13:$Q$47,1),"") | S19: =IF(IFERROR(INDEX('[1]決勝ヒート - レース結果（貼付）'!$A:$Z,MATCH($A19,'[1]決勝ヒート - レース結果（貼付）'!$A:$A,0),MATCH('決勝ヒート - レース正式結果表'!S$11,'[1]決勝ヒート - レース結果（貼付）'!$1:$1,0)),"")=0,"",IFERROR(INDEX('[1]決勝ヒート - レース結果（貼付）'!$A:$Z,MATCH($A19,'[1]決勝ヒート - レース結果（貼付）'!$A:$A,0),MATCH('決勝ヒート - レース正式結果表'!S$11,'[1]決勝ヒート - レース結果（貼付）'!$1:$1,0)),"")) | U19: =IF(IFERROR(INDEX('[1]決勝ヒート - レース結果（貼付）'!$A:$Z,MATCH($B19,'[1]決勝ヒート - レース結果（貼付）'!$B:$B,0),MATCH('決勝ヒート - レース正式結果表'!U$11,'[1]決勝ヒート - レース結果（貼付）'!$1:$1,0)),"")=0,"",IFERROR(INDEX('[1]決勝ヒート - レース結果（貼付）'!$A:$Z,MATCH($B19,'[1]決勝ヒート - レース結果（貼付）'!$B:$B,0),MATCH('決勝ヒート - レース正式結果表'!U$11,'[1]決勝ヒート - レース結果（貼付）'!$1:$1,0)),"")) -> 72.462
A20: =IF(OR('[1]決勝ヒート - レース結果（貼付）'!A9="DNF",'[1]決勝ヒート - レース結果（貼付）'!A9="DNS",'[1]決勝ヒート - レース結果（貼付）'!A9="DQ"),'[1]決勝ヒート - レース結果（貼付）'!A9,IF(MAX('[1]決勝ヒート - レース結果（貼付）'!A:A)>A19,A19+1,"")) -> 8 | B20: =IFERROR(INDEX('[1]決勝ヒート - レース結果（貼付）'!A9:$Z$50,MATCH($A20,'[1]決勝ヒート - レース結果（貼付）'!A9:$A$50,0),MATCH('決勝ヒート - レース正式結果表'!B$11,'[1]決勝ヒート - レース結果（貼付）'!$1:$1,0)),"") -> 61 | D20: =IFERROR(INDEX('[1]決勝ヒート - レース結果（貼付）'!$A:$Z,MATCH($B20,'[1]決勝ヒート - レース結果（貼付）'!$B:$B,0),MATCH('決勝ヒート - レース正式結果表'!D$11,'[1]決勝ヒート - レース結果（貼付）'!$1:$1,0)),"") -> 寺島 知毅 | E20: =IFERROR(INDEX('[1]決勝ヒート - レース結果（貼付）'!$A:$Z,MATCH($B20,'[1]決勝ヒート - レース結果（貼付）'!$B:$B,0),MATCH('決勝ヒート - レース正式結果表'!E$11,'[1]決勝ヒート - レース結果（貼付）'!$1:$1,0)),"") -> TONY KART/YAMAHA | F20: =IFERROR(INDEX('[1]決勝ヒート - レース結果（貼付）'!$A:$Z,MATCH($B20,'[1]決勝ヒート - レース結果（貼付）'!$B:$B,0),MATCH('決勝ヒート - レース正式結果表'!F$11,'[1]決勝ヒート - レース結果（貼付）'!$1:$1,0)),"") -> 松本レーシング | G20: =IFERROR(INDEX('[1]決勝ヒート - レース結果（貼付）'!$A:$Z,MATCH($B20,'[1]決勝ヒート - レース結果（貼付）'!$B:$B,0),MATCH('決勝ヒート - レース正式結果表'!G$11,'[1]決勝ヒート - レース結果（貼付）'!$1:$1,0)),"") -> BS | H20: =IF(A20="DNS","",IF(A20="DQ","",IFERROR(INDEX('[1]決勝ヒート - レース結果（貼付）'!$A:$Z,MATCH($B20,'[1]決勝ヒート - レース結果（貼付）'!$B:$B,0),MATCH('決勝ヒート - レース正式結果表'!H$11,'[1]決勝ヒート - レース結果（貼付）'!$1:$1,0)),""))) -> 22 | I20: =IF(A20="DNS","ｽﾀｰﾄ出来ず",IF(A20="DQ","失 格",IFERROR(INDEX('[1]決勝ヒート - レース結果（貼付）'!$A:$Z,MATCH($B20,'[1]決勝ヒート - レース結果（貼付）'!$B:$B,0),MATCH('決勝ヒート - レース正式結果表'!I$11,'[1]決勝ヒート - レース結果（貼付）'!$1:$1,0)),""))) -> 0.016184236 | J20: =IF(A20="DNS","",IF(A20="DQ","",IFERROR(INDEX('[1]決勝ヒート - レース結果（貼付）'!$A:$Z,MATCH($B20,'[1]決勝ヒート - レース結果（貼付）'!$B:$B,0),MATCH('決勝ヒート - レース正式結果表'!J$11,'[1]決勝ヒート - レース結果（貼付）'!$1:$1,0)),""))) -> 14.658 | K20: =IF(A20="DNS","",IF(A20="DQ","",IFERROR(INDEX('[1]決勝ヒート - レース結果（貼付）'!$A:$Z,MATCH($B20,'[1]決勝ヒート - レース結果（貼付）'!$B:$B,0),MATCH('決勝ヒート - レース正式結果表'!K$11,'[1]決勝ヒート - レース結果（貼付）'!$1:$1,0)),""))) -> 0.292 | L20: =IF(A20="DNS","",IF(A20="DQ","",IFERROR(INDEX('[1]決勝ヒート - レース結果（貼付）'!$A:$Z,MATCH($B20,'[1]決勝ヒート - レース結果（貼付）'!$B:$B,0),MATCH('決勝ヒート - レース正式結果表'!L$11,'[1]決勝ヒート - レース結果（貼付）'!$1:$1,0)),""))) -> 0.00072659722 | M20: =IF(L20<1,"",IF($M$11>L20,"R","")) | P20: =IF(IFERROR(INDEX('[1]決勝ヒート - レース結果（貼付）'!$A:$Z,MATCH($B20,'[1]決勝ヒート - レース結果（貼付）'!$B:$B,0),MATCH('決勝ヒート - レース正式結果表'!P$11,'[1]決勝ヒート - レース結果（貼付）'!$1:$1,0)),"")=0,"",IFERROR(INDEX('[1]決勝ヒート - レース結果（貼付）'!$A:$Z,MATCH($B20,'[1]決勝ヒート - レース結果（貼付）'!$B:$B,0),MATCH('決勝ヒート - レース正式結果表'!P$11,'[1]決勝ヒート - レース結果（貼付）'!$1:$1,0)),"")) -> 全日本カート選手権 統一規則 第38条(25)(フロントフェアリングが正しい装着状態でない)により5秒加算した。 | Q20: =IF(P20="","",COUNTIF($P$13:P20,"<>"&"")) -> 8 | R20: =IFERROR(RANK(Q20,$Q$13:$Q$47,1),"") -> 1 | S20: =IF(IFERROR(INDEX('[1]決勝ヒート - レース結果（貼付）'!$A:$Z,MATCH($A20,'[1]決勝ヒート - レース結果（貼付）'!$A:$A,0),MATCH('決勝ヒート - レース正式結果表'!S$11,'[1]決勝ヒート - レース結果（貼付）'!$1:$1,0)),"")=0,"",IFERROR(INDEX('[1]決勝ヒート - レース結果（貼付）'!$A:$Z,MATCH($A20,'[1]決勝ヒート - レース結果（貼付）'!$A:$A,0),MATCH('決勝ヒート - レース正式結果表'!S$11,'[1]決勝ヒート - レース結果（貼付）'!$1:$1,0)),"")) | U20: =IF(IFERROR(INDEX('[1]決勝ヒート - レース結果（貼付）'!$A:$Z,MATCH($B20,'[1]決勝ヒート - レース結果（貼付）'!$B:$B,0),MATCH('決勝ヒート - レース正式結果表'!U$11,'[1]決勝ヒート - レース結果（貼付）'!$1:$1,0)),"")=0,"",IFERROR(INDEX('[1]決勝ヒート - レース結果（貼付）'!$A:$Z,MATCH($B20,'[1]決勝ヒート - レース結果（貼付）'!$B:$B,0),MATCH('決勝ヒート - レース正式結果表'!U$11,'[1]決勝ヒート - レース結果（貼付）'!$1:$1,0)),"")) -> 72.579
A21: =IF(OR('[1]決勝ヒート - レース結果（貼付）'!A10="DNF",'[1]決勝ヒート - レース結果（貼付）'!A10="DNS",'[1]決勝ヒート - レース結果（貼付）'!A10="DQ"),'[1]決勝ヒート - レース結果（貼付）'!A10,IF(MAX('[1]決勝ヒート - レース結果（貼付）'!A:A)>A20,A20+1,"")) -> 9 | B21: =IFERROR(INDEX('[1]決勝ヒート - レース結果（貼付）'!A10:$Z$50,MATCH($A21,'[1]決勝ヒート - レース結果（貼付）'!A10:$A$50,0),MATCH('決勝ヒート - レース正式結果表'!B$11,'[1]決勝ヒート - レース結果（貼付）'!$1:$1,0)),"") -> 17 | D21: =IFERROR(INDEX('[1]決勝ヒート - レース結果（貼付）'!$A:$Z,MATCH($B21,'[1]決勝ヒート - レース結果（貼付）'!$B:$B,0),MATCH('決勝ヒート - レース正式結果表'!D$11,'[1]決勝ヒート - レース結果（貼付）'!$1:$1,0)),"") -> 坂 裕之 | E21: =IFERROR(INDEX('[1]決勝ヒート - レース結果（貼付）'!$A:$Z,MATCH($B21,'[1]決勝ヒート - レース結果（貼付）'!$B:$B,0),MATCH('決勝ヒート - レース正式結果表'!E$11,'[1]決勝ヒート - レース結果（貼付）'!$1:$1,0)),"") -> SWF/YAMAHA | F21: =IFERROR(INDEX('[1]決勝ヒート - レース結果（貼付）'!$A:$Z,MATCH($B21,'[1]決勝ヒート - レース結果（貼付）'!$B:$B,0),MATCH('決勝ヒート - レース正式結果表'!F$11,'[1]決勝ヒート - レース結果（貼付）'!$1:$1,0)),"") -> のりものクラブTIGRE | G21: =IFERROR(INDEX('[1]決勝ヒート - レース結果（貼付）'!$A:$Z,MATCH($B21,'[1]決勝ヒート - レース結果（貼付）'!$B:$B,0),MATCH('決勝ヒート - レース正式結果表'!G$11,'[1]決勝ヒート - レース結果（貼付）'!$1:$1,0)),"") -> BS | H21: =IF(A21="DNS","",IF(A21="DQ","",IFERROR(INDEX('[1]決勝ヒート - レース結果（貼付）'!$A:$Z,MATCH($B21,'[1]決勝ヒート - レース結果（貼付）'!$B:$B,0),MATCH('決勝ヒート - レース正式結果表'!H$11,'[1]決勝ヒート - レース結果（貼付）'!$1:$1,0)),""))) -> 22 | I21: =IF(A21="DNS","ｽﾀｰﾄ出来ず",IF(A21="DQ","失 格",IFERROR(INDEX('[1]決勝ヒート - レース結果（貼付）'!$A:$Z,MATCH($B21,'[1]決勝ヒート - レース結果（貼付）'!$B:$B,0),MATCH('決勝ヒート - レース正式結果表'!I$11,'[1]決勝ヒート - レース結果（貼付）'!$1:$1,0)),""))) -> 0.016203646 | J21: =IF(A21="DNS","",IF(A21="DQ","",IFERROR(INDEX('[1]決勝ヒート - レース結果（貼付）'!$A:$Z,MATCH($B21,'[1]決勝ヒート - レース結果（貼付）'!$B:$B,0),MATCH('決勝ヒート - レース正式結果表'!J$11,'[1]決勝ヒート - レース結果（貼付）'!$1:$1,0)),""))) -> 16.335 | K21: =IF(A21="DNS","",IF(A21="DQ","",IFERROR(INDEX('[1]決勝ヒート - レース結果（貼付）'!$A:$Z,MATCH($B21,'[1]決勝ヒート - レース結果（貼付）'!$B:$B,0),MATCH('決勝ヒート - レース正式結果表'!K$11,'[1]決勝ヒート - レース結果（貼付）'!$1:$1,0)),""))) -> 1.677 | L21: =IF(A21="DNS","",IF(A21="DQ","",IFERROR(INDEX('[1]決勝ヒート - レース結果（貼付）'!$A:$Z,MATCH($B21,'[1]決勝ヒート - レース結果（貼付）'!$B:$B,0),MATCH('決勝ヒート - レース正式結果表'!L$11,'[1]決勝ヒート - レース結果（貼付）'!$1:$1,0)),""))) -> 0.00072854167 | M21: =IF(L21<1,"",IF($M$11>L21,"R","")) | P21: =IF(IFERROR(INDEX('[1]決勝ヒート - レース結果（貼付）'!$A:$Z,MATCH($B21,'[1]決勝ヒート - レース結果（貼付）'!$B:$B,0),MATCH('決勝ヒート - レース正式結果表'!P$11,'[1]決勝ヒート - レース結果（貼付）'!$1:$1,0)),"")=0,"",IFERROR(INDEX('[1]決勝ヒート - レース結果（貼付）'!$A:$Z,MATCH($B21,'[1]決勝ヒート - レース結果（貼付）'!$B:$B,0),MATCH('決勝ヒート - レース正式結果表'!P$11,'[1]決勝ヒート - レース結果（貼付）'!$1:$1,0)),"")) | Q21: =IF(P21="","",COUNTIF($P$13:P21,"<>"&"")) | R21: =IFERROR(RANK(Q21,$Q$13:$Q$47,1),"") | S21: =IF(IFERROR(INDEX('[1]決勝ヒート - レース結果（貼付）'!$A:$Z,MATCH($A21,'[1]決勝ヒート - レース結果（貼付）'!$A:$A,0),MATCH('決勝ヒート - レース正式結果表'!S$11,'[1]決勝ヒート - レース結果（貼付）'!$1:$1,0)),"")=0,"",IFERROR(INDEX('[1]決勝ヒート - レース結果（貼付）'!$A:$Z,MATCH($A21,'[1]決勝ヒート - レース結果（貼付）'!$A:$A,0),MATCH('決勝ヒート - レース正式結果表'!S$11,'[1]決勝ヒート - レース結果（貼付）'!$1:$1,0)),"")) | U21: =IF(IFERROR(INDEX('[1]決勝ヒート - レース結果（貼付）'!$A:$Z,MATCH($B21,'[1]決勝ヒート - レース結果（貼付）'!$B:$B,0),MATCH('決勝ヒート - レース正式結果表'!U$11,'[1]決勝ヒート - レース結果（貼付）'!$1:$1,0)),"")=0,"",IFERROR(INDEX('[1]決勝ヒート - レース結果（貼付）'!$A:$Z,MATCH($B21,'[1]決勝ヒート - レース結果（貼付）'!$B:$B,0),MATCH('決勝ヒート - レース正式結果表'!U$11,'[1]決勝ヒート - レース結果（貼付）'!$1:$1,0)),"")) -> 72.433
A22: =IF(OR('[1]決勝ヒート - レース結果（貼付）'!A11="DNF",'[1]決勝ヒート - レース結果（貼付）'!A11="DNS",'[1]決勝ヒート - レース結果（貼付）'!A11="DQ"),'[1]決勝ヒート - レース結果（貼付）'!A11,IF(MAX('[1]決勝ヒート - レース結果（貼付）'!A:A)>A21,A21+1,"")) -> 10 | B22: =IFERROR(INDEX('[1]決勝ヒート - レース結果（貼付）'!A11:$Z$50,MATCH($A22,'[1]決勝ヒート - レース結果（貼付）'!A11:$A$50,0),MATCH('決勝ヒート - レース正式結果表'!B$11,'[1]決勝ヒート - レース結果（貼付）'!$1:$1,0)),"") -> 21 | D22: =IFERROR(INDEX('[1]決勝ヒート - レース結果（貼付）'!$A:$Z,MATCH($B22,'[1]決勝ヒート - レース結果（貼付）'!$B:$B,0),MATCH('決勝ヒート - レース正式結果表'!D$11,'[1]決勝ヒート - レース結果（貼付）'!$1:$1,0)),"") -> 森川 貴光 | E22: =IFERROR(INDEX('[1]決勝ヒート - レース結果（貼付）'!$A:$Z,MATCH($B22,'[1]決勝ヒート - レース結果（貼付）'!$B:$B,0),MATCH('決勝ヒート - レース正式結果表'!E$11,'[1]決勝ヒート - レース結果（貼付）'!$1:$1,0)),"") -> KOSMIC/YAMAHA | F22: =IFERROR(INDEX('[1]決勝ヒート - レース結果（貼付）'!$A:$Z,MATCH($B22,'[1]決勝ヒート - レース結果（貼付）'!$B:$B,0),MATCH('決勝ヒート - レース正式結果表'!F$11,'[1]決勝ヒート - レース結果（貼付）'!$1:$1,0)),"") -> HIRAI PROJECT with Ash | G22: =IFERROR(INDEX('[1]決勝ヒート - レース結果（貼付）'!$A:$Z,MATCH($B22,'[1]決勝ヒート - レース結果（貼付）'!$B:$B,0),MATCH('決勝ヒート - レース正式結果表'!G$11,'[1]決勝ヒート - レース結果（貼付）'!$1:$1,0)),"") -> BS | H22: =IF(A22="DNS","",IF(A22="DQ","",IFERROR(INDEX('[1]決勝ヒート - レース結果（貼付）'!$A:$Z,MATCH($B22,'[1]決勝ヒート - レース結果（貼付）'!$B:$B,0),MATCH('決勝ヒート - レース正式結果表'!H$11,'[1]決勝ヒート - レース結果（貼付）'!$1:$1,0)),""))) -> 22 | I22: =IF(A22="DNS","ｽﾀｰﾄ出来ず",IF(A22="DQ","失 格",IFERROR(INDEX('[1]決勝ヒート - レース結果（貼付）'!$A:$Z,MATCH($B22,'[1]決勝ヒート - レース結果（貼付）'!$B:$B,0),MATCH('決勝ヒート - レース正式結果表'!I$11,'[1]決勝ヒート - レース結果（貼付）'!$1:$1,0)),""))) -> 0.016223831 | J22: =IF(A22="DNS","",IF(A22="DQ","",IFERROR(INDEX('[1]決勝ヒート - レース結果（貼付）'!$A:$Z,MATCH($B22,'[1]決勝ヒート - レース結果（貼付）'!$B:$B,0),MATCH('決勝ヒート - レース正式結果表'!J$11,'[1]決勝ヒート - レース結果（貼付）'!$1:$1,0)),""))) -> 18.079 | K22: =IF(A22="DNS","",IF(A22="DQ","",IFERROR(INDEX('[1]決勝ヒート - レース結果（貼付）'!$A:$Z,MATCH($B22,'[1]決勝ヒート - レース結果（貼付）'!$B:$B,0),MATCH('決勝ヒート - レース正式結果表'!K$11,'[1]決勝ヒート - レース結果（貼付）'!$1:$1,0)),""))) -> 1.744 | L22: =IF(A22="DNS","",IF(A22="DQ","",IFERROR(INDEX('[1]決勝ヒート - レース結果（貼付）'!$A:$Z,MATCH($B22,'[1]決勝ヒート - レース結果（貼付）'!$B:$B,0),MATCH('決勝ヒート - レース正式結果表'!L$11,'[1]決勝ヒート - レース結果（貼付）'!$1:$1,0)),""))) -> 0.00072564815 | M22: =IF(L22<1,"",IF($M$11>L22,"R","")) | P22: =IF(IFERROR(INDEX('[1]決勝ヒート - レース結果（貼付）'!$A:$Z,MATCH($B22,'[1]決勝ヒート - レース結果（貼付）'!$B:$B,0),MATCH('決勝ヒート - レース正式結果表'!P$11,'[1]決勝ヒート - レース結果（貼付）'!$1:$1,0)),"")=0,"",IFERROR(INDEX('[1]決勝ヒート - レース結果（貼付）'!$A:$Z,MATCH($B22,'[1]決勝ヒート - レース結果（貼付）'!$B:$B,0),MATCH('決勝ヒート - レース正式結果表'!P$11,'[1]決勝ヒート - レース結果（貼付）'!$1:$1,0)),"")) -> 全日本カート選手権 統一規則 第38条(25)(フロントフェアリングが正しい装着状態でない)により5秒加算した。 | Q22: =IF(P22="","",COUNTIF($P$13:P22,"<>"&"")) -> 10 | R22: =IFERROR(RANK(Q22,$Q$13:$Q$47,1),"") -> 2 | S22: =IF(IFERROR(INDEX('[1]決勝ヒート - レース結果（貼付）'!$A:$Z,MATCH($A22,'[1]決勝ヒート - レース結果（貼付）'!$A:$A,0),MATCH('決勝ヒート - レース正式結果表'!S$11,'[1]決勝ヒート - レース結果（貼付）'!$1:$1,0)),"")=0,"",IFERROR(INDEX('[1]決勝ヒート - レース結果（貼付）'!$A:$Z,MATCH($A22,'[1]決勝ヒート - レース結果（貼付）'!$A:$A,0),MATCH('決勝ヒート - レース正式結果表'!S$11,'[1]決勝ヒート - レース結果（貼付）'!$1:$1,0)),"")) | U22: =IF(IFERROR(INDEX('[1]決勝ヒート - レース結果（貼付）'!$A:$Z,MATCH($B22,'[1]決勝ヒート - レース結果（貼付）'!$B:$B,0),MATCH('決勝ヒート - レース正式結果表'!U$11,'[1]決勝ヒート - レース結果（貼付）'!$1:$1,0)),"")=0,"",IFERROR(INDEX('[1]決勝ヒート - レース結果（貼付）'!$A:$Z,MATCH($B22,'[1]決勝ヒート - レース結果（貼付）'!$B:$B,0),MATCH('決勝ヒート - レース正式結果表'!U$11,'[1]決勝ヒート - レース結果（貼付）'!$1:$1,0)),"")) -> 72.291
A23: =IF(OR('[1]決勝ヒート - レース結果（貼付）'!A12="DNF",'[1]決勝ヒート - レース結果（貼付）'!A12="DNS",'[1]決勝ヒート - レース結果（貼付）'!A12="DQ"),'[1]決勝ヒート - レース結果（貼付）'!A12,IF(MAX('[1]決勝ヒート - レース結果（貼付）'!A:A)>A22,A22+1,"")) -> 11 | B23: =IFERROR(INDEX('[1]決勝ヒート - レース結果（貼付）'!A12:$Z$50,MATCH($A23,'[1]決勝ヒート - レース結果（貼付）'!A12:$A$50,0),MATCH('決勝ヒート - レース正式結果表'!B$11,'[1]決勝ヒート - レース結果（貼付）'!$1:$1,0)),"") -> 15 | D23: =IFERROR(INDEX('[1]決勝ヒート - レース結果（貼付）'!$A:$Z,MATCH($B23,'[1]決勝ヒート - レース結果（貼付）'!$B:$B,0),MATCH('決勝ヒート - レース正式結果表'!D$11,'[1]決勝ヒート - レース結果（貼付）'!$1:$1,0)),"") -> 髙田 陽大 | E23: =IFERROR(INDEX('[1]決勝ヒート - レース結果（貼付）'!$A:$Z,MATCH($B23,'[1]決勝ヒート - レース結果（貼付）'!$B:$B,0),MATCH('決勝ヒート - レース正式結果表'!E$11,'[1]決勝ヒート - レース結果（貼付）'!$1:$1,0)),"") -> Birel ART/YAMAHA | F23: =IFERROR(INDEX('[1]決勝ヒート - レース結果（貼付）'!$A:$Z,MATCH($B23,'[1]決勝ヒート - レース結果（貼付）'!$B:$B,0),MATCH('決勝ヒート - レース正式結果表'!F$11,'[1]決勝ヒート - レース結果（貼付）'!$1:$1,0)),"") -> Super Racing Junkie! | G23: =IFERROR(INDEX('[1]決勝ヒート - レース結果（貼付）'!$A:$Z,MATCH($B23,'[1]決勝ヒート - レース結果（貼付）'!$B:$B,0),MATCH('決勝ヒート - レース正式結果表'!G$11,'[1]決勝ヒート - レース結果（貼付）'!$1:$1,0)),"") -> BS | H23: =IF(A23="DNS","",IF(A23="DQ","",IFERROR(INDEX('[1]決勝ヒート - レース結果（貼付）'!$A:$Z,MATCH($B23,'[1]決勝ヒート - レース結果（貼付）'!$B:$B,0),MATCH('決勝ヒート - レース正式結果表'!H$11,'[1]決勝ヒート - レース結果（貼付）'!$1:$1,0)),""))) -> 22 | I23: =IF(A23="DNS","ｽﾀｰﾄ出来ず",IF(A23="DQ","失 格",IFERROR(INDEX('[1]決勝ヒート - レース結果（貼付）'!$A:$Z,MATCH($B23,'[1]決勝ヒート - レース結果（貼付）'!$B:$B,0),MATCH('決勝ヒート - レース正式結果表'!I$11,'[1]決勝ヒート - レース結果（貼付）'!$1:$1,0)),""))) -> 0.016230741 | J23: =IF(A23="DNS","",IF(A23="DQ","",IFERROR(INDEX('[1]決勝ヒート - レース結果（貼付）'!$A:$Z,MATCH($B23,'[1]決勝ヒート - レース結果（貼付）'!$B:$B,0),MATCH('決勝ヒート - レース正式結果表'!J$11,'[1]決勝ヒート - レース結果（貼付）'!$1:$1,0)),""))) -> 18.676 | K23: =IF(A23="DNS","",IF(A23="DQ","",IFERROR(INDEX('[1]決勝ヒート - レース結果（貼付）'!$A:$Z,MATCH($B23,'[1]決勝ヒート - レース結果（貼付）'!$B:$B,0),MATCH('決勝ヒート - レース正式結果表'!K$11,'[1]決勝ヒート - レース結果（貼付）'!$1:$1,0)),""))) -> 0.597 | L23: =IF(A23="DNS","",IF(A23="DQ","",IFERROR(INDEX('[1]決勝ヒート - レース結果（貼付）'!$A:$Z,MATCH($B23,'[1]決勝ヒート - レース結果（貼付）'!$B:$B,0),MATCH('決勝ヒート - レース正式結果表'!L$11,'[1]決勝ヒート - レース結果（貼付）'!$1:$1,0)),""))) -> 0.00073128472 | M23: =IF(L23<1,"",IF($M$11>L23,"R","")) | P23: =IF(IFERROR(INDEX('[1]決勝ヒート - レース結果（貼付）'!$A:$Z,MATCH($B23,'[1]決勝ヒート - レース結果（貼付）'!$B:$B,0),MATCH('決勝ヒート - レース正式結果表'!P$11,'[1]決勝ヒート - レース結果（貼付）'!$1:$1,0)),"")=0,"",IFERROR(INDEX('[1]決勝ヒート - レース結果（貼付）'!$A:$Z,MATCH($B23,'[1]決勝ヒート - レース結果（貼付）'!$B:$B,0),MATCH('決勝ヒート - レース正式結果表'!P$11,'[1]決勝ヒート - レース結果（貼付）'!$1:$1,0)),"")) | Q23: =IF(P23="","",COUNTIF($P$13:P23,"<>"&"")) | R23: =IFERROR(RANK(Q23,$Q$13:$Q$47,1),"") | S23: =IF(IFERROR(INDEX('[1]決勝ヒート - レース結果（貼付）'!$A:$Z,MATCH($A23,'[1]決勝ヒート - レース結果（貼付）'!$A:$A,0),MATCH('決勝ヒート - レース正式結果表'!S$11,'[1]決勝ヒート - レース結果（貼付）'!$1:$1,0)),"")=0,"",IFERROR(INDEX('[1]決勝ヒート - レース結果（貼付）'!$A:$Z,MATCH($A23,'[1]決勝ヒート - レース結果（貼付）'!$A:$A,0),MATCH('決勝ヒート - レース正式結果表'!S$11,'[1]決勝ヒート - レース結果（貼付）'!$1:$1,0)),"")) | U23: =IF(IFERROR(INDEX('[1]決勝ヒート - レース結果（貼付）'!$A:$Z,MATCH($B23,'[1]決勝ヒート - レース結果（貼付）'!$B:$B,0),MATCH('決勝ヒート - レース正式結果表'!U$11,'[1]決勝ヒート - レース結果（貼付）'!$1:$1,0)),"")=0,"",IFERROR(INDEX('[1]決勝ヒート - レース結果（貼付）'!$A:$Z,MATCH($B23,'[1]決勝ヒート - レース結果（貼付）'!$B:$B,0),MATCH('決勝ヒート - レース正式結果表'!U$11,'[1]決勝ヒート - レース結果（貼付）'!$1:$1,0)),"")) -> 72.295
A24: =IF(OR('[1]決勝ヒート - レース結果（貼付）'!A13="DNF",'[1]決勝ヒート - レース結果（貼付）'!A13="DNS",'[1]決勝ヒート - レース結果（貼付）'!A13="DQ"),'[1]決勝ヒート - レース結果（貼付）'!A13,IF(MAX('[1]決勝ヒート - レース結果（貼付）'!A:A)>A23,A23+1,"")) -> 12 | B24: =IFERROR(INDEX('[1]決勝ヒート - レース結果（貼付）'!A13:$Z$50,MATCH($A24,'[1]決勝ヒート - レース結果（貼付）'!A13:$A$50,0),MATCH('決勝ヒート - レース正式結果表'!B$11,'[1]決勝ヒート - レース結果（貼付）'!$1:$1,0)),"") -> 37 | D24: =IFERROR(INDEX('[1]決勝ヒート - レース結果（貼付）'!$A:$Z,MATCH($B24,'[1]決勝ヒート - レース結果（貼付）'!$B:$B,0),MATCH('決勝ヒート - レース正式結果表'!D$11,'[1]決勝ヒート - レース結果（貼付）'!$1:$1,0)),"") -> 佐藤 琉葵 | E24: =IFERROR(INDEX('[1]決勝ヒート - レース結果（貼付）'!$A:$Z,MATCH($B24,'[1]決勝ヒート - レース結果（貼付）'!$B:$B,0),MATCH('決勝ヒート - レース正式結果表'!E$11,'[1]決勝ヒート - レース結果（貼付）'!$1:$1,0)),"") -> LN KART/YAMAHA | F24: =IFERROR(INDEX('[1]決勝ヒート - レース結果（貼付）'!$A:$Z,MATCH($B24,'[1]決勝ヒート - レース結果（貼付）'!$B:$B,0),MATCH('決勝ヒート - レース正式結果表'!F$11,'[1]決勝ヒート - レース結果（貼付）'!$1:$1,0)),"") -> DSM | G24: =IFERROR(INDEX('[1]決勝ヒート - レース結果（貼付）'!$A:$Z,MATCH($B24,'[1]決勝ヒート - レース結果（貼付）'!$B:$B,0),MATCH('決勝ヒート - レース正式結果表'!G$11,'[1]決勝ヒート - レース結果（貼付）'!$1:$1,0)),"") -> BS | H24: =IF(A24="DNS","",IF(A24="DQ","",IFERROR(INDEX('[1]決勝ヒート - レース結果（貼付）'!$A:$Z,MATCH($B24,'[1]決勝ヒート - レース結果（貼付）'!$B:$B,0),MATCH('決勝ヒート - レース正式結果表'!H$11,'[1]決勝ヒート - レース結果（貼付）'!$1:$1,0)),""))) -> 22 | I24: =IF(A24="DNS","ｽﾀｰﾄ出来ず",IF(A24="DQ","失 格",IFERROR(INDEX('[1]決勝ヒート - レース結果（貼付）'!$A:$Z,MATCH($B24,'[1]決勝ヒート - レース結果（貼付）'!$B:$B,0),MATCH('決勝ヒート - レース正式結果表'!I$11,'[1]決勝ヒート - レース結果（貼付）'!$1:$1,0)),""))) -> 0.016235683 | J24: =IF(A24="DNS","",IF(A24="DQ","",IFERROR(INDEX('[1]決勝ヒート - レース結果（貼付）'!$A:$Z,MATCH($B24,'[1]決勝ヒート - レース結果（貼付）'!$B:$B,0),MATCH('決勝ヒート - レース正式結果表'!J$11,'[1]決勝ヒート - レース結果（貼付）'!$1:$1,0)),""))) -> 19.103 | K24: =IF(A24="DNS","",IF(A24="DQ","",IFERROR(INDEX('[1]決勝ヒート - レース結果（貼付）'!$A:$Z,MATCH($B24,'[1]決勝ヒート - レース結果（貼付）'!$B:$B,0),MATCH('決勝ヒート - レース正式結果表'!K$11,'[1]決勝ヒート - レース結果（貼付）'!$1:$1,0)),""))) -> 0.427 | L24: =IF(A24="DNS","",IF(A24="DQ","",IFERROR(INDEX('[1]決勝ヒート - レース結果（貼付）'!$A:$Z,MATCH($B24,'[1]決勝ヒート - レース結果（貼付）'!$B:$B,0),MATCH('決勝ヒート - レース正式結果表'!L$11,'[1]決勝ヒート - レース結果（貼付）'!$1:$1,0)),""))) -> 0.00073204861 | M24: =IF(L24<1,"",IF($M$11>L24,"R","")) | P24: =IF(IFERROR(INDEX('[1]決勝ヒート - レース結果（貼付）'!$A:$Z,MATCH($B24,'[1]決勝ヒート - レース結果（貼付）'!$B:$B,0),MATCH('決勝ヒート - レース正式結果表'!P$11,'[1]決勝ヒート - レース結果（貼付）'!$1:$1,0)),"")=0,"",IFERROR(INDEX('[1]決勝ヒート - レース結果（貼付）'!$A:$Z,MATCH($B24,'[1]決勝ヒート - レース結果（貼付）'!$B:$B,0),MATCH('決勝ヒート - レース正式結果表'!P$11,'[1]決勝ヒート - レース結果（貼付）'!$1:$1,0)),"")) | Q24: =IF(P24="","",COUNTIF($P$13:P24,"<>"&"")) | R24: =IFERROR(RANK(Q24,$Q$13:$Q$47,1),"") | S24: =IF(IFERROR(INDEX('[1]決勝ヒート - レース結果（貼付）'!$A:$Z,MATCH($A24,'[1]決勝ヒート - レース結果（貼付）'!$A:$A,0),MATCH('決勝ヒート - レース正式結果表'!S$11,'[1]決勝ヒート - レース結果（貼付）'!$1:$1,0)),"")=0,"",IFERROR(INDEX('[1]決勝ヒート - レース結果（貼付）'!$A:$Z,MATCH($A24,'[1]決勝ヒート - レース結果（貼付）'!$A:$A,0),MATCH('決勝ヒート - レース正式結果表'!S$11,'[1]決勝ヒート - レース結果（貼付）'!$1:$1,0)),"")) | U24: =IF(IFERROR(INDEX('[1]決勝ヒート - レース結果（貼付）'!$A:$Z,MATCH($B24,'[1]決勝ヒート - レース結果（貼付）'!$B:$B,0),MATCH('決勝ヒート - レース正式結果表'!U$11,'[1]決勝ヒート - レース結果（貼付）'!$1:$1,0)),"")=0,"",IFERROR(INDEX('[1]決勝ヒート - レース結果（貼付）'!$A:$Z,MATCH($B24,'[1]決勝ヒート - レース結果（貼付）'!$B:$B,0),MATCH('決勝ヒート - レース正式結果表'!U$11,'[1]決勝ヒート - レース結果（貼付）'!$1:$1,0)),"")) -> 72.019
A25: =IF(OR('[1]決勝ヒート - レース結果（貼付）'!A14="DNF",'[1]決勝ヒート - レース結果（貼付）'!A14="DNS",'[1]決勝ヒート - レース結果（貼付）'!A14="DQ"),'[1]決勝ヒート - レース結果（貼付）'!A14,IF(MAX('[1]決勝ヒート - レース結果（貼付）'!A:A)>A24,A24+1,"")) -> 13 | B25: =IFERROR(INDEX('[1]決勝ヒート - レース結果（貼付）'!A14:$Z$50,MATCH($A25,'[1]決勝ヒート - レース結果（貼付）'!A14:$A$50,0),MATCH('決勝ヒート - レース正式結果表'!B$11,'[1]決勝ヒート - レース結果（貼付）'!$1:$1,0)),"") -> 47 | D25: =IFERROR(INDEX('[1]決勝ヒート - レース結果（貼付）'!$A:$Z,MATCH($B25,'[1]決勝ヒート - レース結果（貼付）'!$B:$B,0),MATCH('決勝ヒート - レース正式結果表'!D$11,'[1]決勝ヒート - レース結果（貼付）'!$1:$1,0)),"") -> 大島 良介 | E25: =IFERROR(INDEX('[1]決勝ヒート - レース結果（貼付）'!$A:$Z,MATCH($B25,'[1]決勝ヒート - レース結果（貼付）'!$B:$B,0),MATCH('決勝ヒート - レース正式結果表'!E$11,'[1]決勝ヒート - レース結果（貼付）'!$1:$1,0)),"") -> TONY KART/YAMAHA | F25: =IFERROR(INDEX('[1]決勝ヒート - レース結果（貼付）'!$A:$Z,MATCH($B25,'[1]決勝ヒート - レース結果（貼付）'!$B:$B,0),MATCH('決勝ヒート - レース正式結果表'!F$11,'[1]決勝ヒート - レース結果（貼付）'!$1:$1,0)),"") -> RS-1 | G25: =IFERROR(INDEX('[1]決勝ヒート - レース結果（貼付）'!$A:$Z,MATCH($B25,'[1]決勝ヒート - レース結果（貼付）'!$B:$B,0),MATCH('決勝ヒート - レース正式結果表'!G$11,'[1]決勝ヒート - レース結果（貼付）'!$1:$1,0)),"") -> BS | H25: =IF(A25="DNS","",IF(A25="DQ","",IFERROR(INDEX('[1]決勝ヒート - レース結果（貼付）'!$A:$Z,MATCH($B25,'[1]決勝ヒート - レース結果（貼付）'!$B:$B,0),MATCH('決勝ヒート - レース正式結果表'!H$11,'[1]決勝ヒート - レース結果（貼付）'!$1:$1,0)),""))) -> 22 | I25: =IF(A25="DNS","ｽﾀｰﾄ出来ず",IF(A25="DQ","失 格",IFERROR(INDEX('[1]決勝ヒート - レース結果（貼付）'!$A:$Z,MATCH($B25,'[1]決勝ヒート - レース結果（貼付）'!$B:$B,0),MATCH('決勝ヒート - レース正式結果表'!I$11,'[1]決勝ヒート - レース結果（貼付）'!$1:$1,0)),""))) -> 0.016242338 | J25: =IF(A25="DNS","",IF(A25="DQ","",IFERROR(INDEX('[1]決勝ヒート - レース結果（貼付）'!$A:$Z,MATCH($B25,'[1]決勝ヒート - レース結果（貼付）'!$B:$B,0),MATCH('決勝ヒート - レース正式結果表'!J$11,'[1]決勝ヒート - レース結果（貼付）'!$1:$1,0)),""))) -> 19.678 | K25: =IF(A25="DNS","",IF(A25="DQ","",IFERROR(INDEX('[1]決勝ヒート - レース結果（貼付）'!$A:$Z,MATCH($B25,'[1]決勝ヒート - レース結果（貼付）'!$B:$B,0),MATCH('決勝ヒート - レース正式結果表'!K$11,'[1]決勝ヒート - レース結果（貼付）'!$1:$1,0)),""))) -> 0.575 | L25: =IF(A25="DNS","",IF(A25="DQ","",IFERROR(INDEX('[1]決勝ヒート - レース結果（貼付）'!$A:$Z,MATCH($B25,'[1]決勝ヒート - レース結果（貼付）'!$B:$B,0),MATCH('決勝ヒート - レース正式結果表'!L$11,'[1]決勝ヒート - レース結果（貼付）'!$1:$1,0)),""))) -> 0.0007312037 | M25: =IF(L25<1,"",IF($M$11>L25,"R","")) | P25: =IF(IFERROR(INDEX('[1]決勝ヒート - レース結果（貼付）'!$A:$Z,MATCH($B25,'[1]決勝ヒート - レース結果（貼付）'!$B:$B,0),MATCH('決勝ヒート - レース正式結果表'!P$11,'[1]決勝ヒート - レース結果（貼付）'!$1:$1,0)),"")=0,"",IFERROR(INDEX('[1]決勝ヒート - レース結果（貼付）'!$A:$Z,MATCH($B25,'[1]決勝ヒート - レース結果（貼付）'!$B:$B,0),MATCH('決勝ヒート - レース正式結果表'!P$11,'[1]決勝ヒート - レース結果（貼付）'!$1:$1,0)),"")) | Q25: =IF(P25="","",COUNTIF($P$13:P25,"<>"&"")) | R25: =IFERROR(RANK(Q25,$Q$13:$Q$47,1),"") | S25: =IF(IFERROR(INDEX('[1]決勝ヒート - レース結果（貼付）'!$A:$Z,MATCH($A25,'[1]決勝ヒート - レース結果（貼付）'!$A:$A,0),MATCH('決勝ヒート - レース正式結果表'!S$11,'[1]決勝ヒート - レース結果（貼付）'!$1:$1,0)),"")=0,"",IFERROR(INDEX('[1]決勝ヒート - レース結果（貼付）'!$A:$Z,MATCH($A25,'[1]決勝ヒート - レース結果（貼付）'!$A:$A,0),MATCH('決勝ヒート - レース正式結果表'!S$11,'[1]決勝ヒート - レース結果（貼付）'!$1:$1,0)),"")) | U25: =IF(IFERROR(INDEX('[1]決勝ヒート - レース結果（貼付）'!$A:$Z,MATCH($B25,'[1]決勝ヒート - レース結果（貼付）'!$B:$B,0),MATCH('決勝ヒート - レース正式結果表'!U$11,'[1]決勝ヒート - レース結果（貼付）'!$1:$1,0)),"")=0,"",IFERROR(INDEX('[1]決勝ヒート - レース結果（貼付）'!$A:$Z,MATCH($B25,'[1]決勝ヒート - レース結果（貼付）'!$B:$B,0),MATCH('決勝ヒート - レース正式結果表'!U$11,'[1]決勝ヒート - レース結果（貼付）'!$1:$1,0)),"")) -> 71.944
... A45: =IF(OR('[1]決勝ヒート - レース結果（貼付）'!A34="DNF",'[1]決勝ヒート - レース結果（貼付）'!A34="DNS",'[1]決勝ヒート - レース結果（貼付）'!A34="DQ"),'[1]決勝ヒート - レース結果（貼付）'!A34,IF(MAX('[1]決勝ヒート - レース結果（貼付）'!A:A)>A44,A44+1,"")) -> 33 | B45: =IFERROR(INDEX('[1]決勝ヒート - レース結果（貼付）'!A34:$Z$50,MATCH($A45,'[1]決勝ヒート - レース結果（貼付）'!A34:$A$50,0),MATCH('決勝ヒート - レース正式結果表'!B$11,'[1]決勝ヒート - レース結果（貼付）'!$1:$1,0)),"") -> 27 | D45: =IFERROR(INDEX('[1]決勝ヒート - レース結果（貼付）'!$A:$Z,MATCH($B45,'[1]決勝ヒート - レース結果（貼付）'!$B:$B,0),MATCH('決勝ヒート - レース正式結果表'!D$11,'[1]決勝ヒート - レース結果（貼付）'!$1:$1,0)),"") -> 舟橋 弘典 | E45: =IFERROR(INDEX('[1]決勝ヒート - レース結果（貼付）'!$A:$Z,MATCH($B45,'[1]決勝ヒート - レース結果（貼付）'!$B:$B,0),MATCH('決勝ヒート - レース正式結果表'!E$11,'[1]決勝ヒート - レース結果（貼付）'!$1:$1,0)),"") -> KOSMIC/YAMAHA | F45: =IFERROR(INDEX('[1]決勝ヒート - レース結果（貼付）'!$A:$Z,MATCH($B45,'[1]決勝ヒート - レース結果（貼付）'!$B:$B,0),MATCH('決勝ヒート - レース正式結果表'!F$11,'[1]決勝ヒート - レース結果（貼付）'!$1:$1,0)),"") -> HIRAIPROJECT With Ash | G45: =IFERROR(INDEX('[1]決勝ヒート - レース結果（貼付）'!$A:$Z,MATCH($B45,'[1]決勝ヒート - レース結果（貼付）'!$B:$B,0),MATCH('決勝ヒート - レース正式結果表'!G$11,'[1]決勝ヒート - レース結果（貼付）'!$1:$1,0)),"") -> BS | H45: =IF(A45="DNS","",IF(A45="DQ","",IFERROR(INDEX('[1]決勝ヒート - レース結果（貼付）'!$A:$Z,MATCH($B45,'[1]決勝ヒート - レース結果（貼付）'!$B:$B,0),MATCH('決勝ヒート - レース正式結果表'!H$11,'[1]決勝ヒート - レース結果（貼付）'!$1:$1,0)),""))) -> 21 | I45: =IF(A45="DNS","ｽﾀｰﾄ出来ず",IF(A45="DQ","失 格",IFERROR(INDEX('[1]決勝ヒート - レース結果（貼付）'!$A:$Z,MATCH($B45,'[1]決勝ヒート - レース結果（貼付）'!$B:$B,0),MATCH('決勝ヒート - レース正式結果表'!I$11,'[1]決勝ヒート - レース結果（貼付）'!$1:$1,0)),""))) -> 0.016675046 | J45: =IF(A45="DNS","",IF(A45="DQ","",IFERROR(INDEX('[1]決勝ヒート - レース結果（貼付）'!$A:$Z,MATCH($B45,'[1]決勝ヒート - レース結果（貼付）'!$B:$B,0),MATCH('決勝ヒート - レース正式結果表'!J$11,'[1]決勝ヒート - レース結果（貼付）'!$1:$1,0)),""))) -> 1 Lap | K45: =IF(A45="DNS","",IF(A45="DQ","",IFERROR(INDEX('[1]決勝ヒート - レース結果（貼付）'!$A:$Z,MATCH($B45,'[1]決勝ヒート - レース結果（貼付）'!$B:$B,0),MATCH('決勝ヒート - レース正式結果表'!K$11,'[1]決勝ヒート - レース結果（貼付）'!$1:$1,0)),""))) -> 1 Lap | L45: =IF(A45="DNS","",IF(A45="DQ","",IFERROR(INDEX('[1]決勝ヒート - レース結果（貼付）'!$A:$Z,MATCH($B45,'[1]決勝ヒート - レース結果（貼付）'!$B:$B,0),MATCH('決勝ヒート - レース正式結果表'!L$11,'[1]決勝ヒート - レース結果（貼付）'!$1:$1,0)),""))) -> 0.00072741898 | M45: =IF(L45<1,"",IF($M$11>L45,"R","")) | P45: =IF(IFERROR(INDEX('[1]決勝ヒート - レース結果（貼付）'!$A:$Z,MATCH($B45,'[1]決勝ヒート - レース結果（貼付）'!$B:$B,0),MATCH('決勝ヒート - レース正式結果表'!P$11,'[1]決勝ヒート - レース結果（貼付）'!$1:$1,0)),"")=0,"",IFERROR(INDEX('[1]決勝ヒート - レース結果（貼付）'!$A:$Z,MATCH($B45,'[1]決勝ヒート - レース結果（貼付）'!$B:$B,0),MATCH('決勝ヒート - レース正式結果表'!P$11,'[1]決勝ヒート - レース結果（貼付）'!$1:$1,0)),"")) | Q45: =IF(P45="","",COUNTIF($P$13:P45,"<>"&"")) | R45: =IFERROR(RANK(Q45,$Q$13:$Q$47,1),"") | S45: =IF(IFERROR(INDEX('[1]決勝ヒート - レース結果（貼付）'!$A:$Z,MATCH($A45,'[1]決勝ヒート - レース結果（貼付）'!$A:$A,0),MATCH('決勝ヒート - レース正式結果表'!S$11,'[1]決勝ヒート - レース結果（貼付）'!$1:$1,0)),"")=0,"",IFERROR(INDEX('[1]決勝ヒート - レース結果（貼付）'!$A:$Z,MATCH($A45,'[1]決勝ヒート - レース結果（貼付）'!$A:$A,0),MATCH('決勝ヒート - レース正式結果表'!S$11,'[1]決勝ヒート - レース結果（貼付）'!$1:$1,0)),"")) | U45: =IF(IFERROR(INDEX('[1]決勝ヒート - レース結果（貼付）'!$A:$Z,MATCH($B45,'[1]決勝ヒート - レース結果（貼付）'!$B:$B,0),MATCH('決勝ヒート - レース正式結果表'!U$11,'[1]決勝ヒート - レース結果（貼付）'!$1:$1,0)),"")=0,"",IFERROR(INDEX('[1]決勝ヒート - レース結果（貼付）'!$A:$Z,MATCH($B45,'[1]決勝ヒート - レース結果（貼付）'!$B:$B,0),MATCH('決勝ヒート - レース正式結果表'!U$11,'[1]決勝ヒート - レース結果（貼付）'!$1:$1,0)),"")) -> 72.402
A46: 以下ﾌｨﾆｯｼｭﾗｲﾝ不通過：
A47: =IF(OR('[1]決勝ヒート - レース結果（貼付）'!A35="DNF",'[1]決勝ヒート - レース結果（貼付）'!A35="DNS",'[1]決勝ヒート - レース結果（貼付）'!A35="DQ"),'[1]決勝ヒート - レース結果（貼付）'!A35,IF(MAX('[1]決勝ヒート - レース結果（貼付）'!A:A)>A45,A45+1,"")) -> 34 | B47: =IFERROR(INDEX('[1]決勝ヒート - レース結果（貼付）'!A35:$Z$50,MATCH($A47,'[1]決勝ヒート - レース結果（貼付）'!A35:$A$50,0),MATCH('決勝ヒート - レース正式結果表'!B$11,'[1]決勝ヒート - レース結果（貼付）'!$1:$1,0)),"") -> 33 | D47: =IFERROR(INDEX('[1]決勝ヒート - レース結果（貼付）'!$A:$Z,MATCH($B47,'[1]決勝ヒート - レース結果（貼付）'!$B:$B,0),MATCH('決勝ヒート - レース正式結果表'!D$11,'[1]決勝ヒート - レース結果（貼付）'!$1:$1,0)),"") -> 田上 龍輝 | E47: =IFERROR(INDEX('[1]決勝ヒート - レース結果（貼付）'!$A:$Z,MATCH($B47,'[1]決勝ヒート - レース結果（貼付）'!$B:$B,0),MATCH('決勝ヒート - レース正式結果表'!E$11,'[1]決勝ヒート - レース結果（貼付）'!$1:$1,0)),"") -> Birel ART/YAMAHA | F47: =IFERROR(INDEX('[1]決勝ヒート - レース結果（貼付）'!$A:$Z,MATCH($B47,'[1]決勝ヒート - レース結果（貼付）'!$B:$B,0),MATCH('決勝ヒート - レース正式結果表'!F$11,'[1]決勝ヒート - レース結果（貼付）'!$1:$1,0)),"") -> チームKBF | G47: =IFERROR(INDEX('[1]決勝ヒート - レース結果（貼付）'!$A:$Z,MATCH($B47,'[1]決勝ヒート - レース結果（貼付）'!$B:$B,0),MATCH('決勝ヒート - レース正式結果表'!G$11,'[1]決勝ヒート - レース結果（貼付）'!$1:$1,0)),"") -> BS | H47: =IF(A47="DNS","",IF(A47="DQ","",IFERROR(INDEX('[1]決勝ヒート - レース結果（貼付）'!$A:$Z,MATCH($B47,'[1]決勝ヒート - レース結果（貼付）'!$B:$B,0),MATCH('決勝ヒート - レース正式結果表'!H$11,'[1]決勝ヒート - レース結果（貼付）'!$1:$1,0)),""))) -> 13 | I47: =IF(A47="DNS","ｽﾀｰﾄ出来ず",IF(A47="DQ","失 格",IFERROR(INDEX('[1]決勝ヒート - レース結果（貼付）'!$A:$Z,MATCH($B47,'[1]決勝ヒート - レース結果（貼付）'!$B:$B,0),MATCH('決勝ヒート - レース正式結果表'!I$11,'[1]決勝ヒート - レース結果（貼付）'!$1:$1,0)),""))) -> 0.0097292824 | J47: =IF(A47="DNS","",IF(A47="DQ","",IFERROR(INDEX('[1]決勝ヒート - レース結果（貼付）'!$A:$Z,MATCH($B47,'[1]決勝ヒート - レース結果（貼付）'!$B:$B,0),MATCH('決勝ヒート - レース正式結果表'!J$11,'[1]決勝ヒート - レース結果（貼付）'!$1:$1,0)),""))) -> 9 Laps | K47: =IF(A47="DNS","",IF(A47="DQ","",IFERROR(INDEX('[1]決勝ヒート - レース結果（貼付）'!$A:$Z,MATCH($B47,'[1]決勝ヒート - レース結果（貼付）'!$B:$B,0),MATCH('決勝ヒート - レース正式結果表'!K$11,'[1]決勝ヒート - レース結果（貼付）'!$1:$1,0)),""))) -> 8 Laps | L47: =IF(A47="DNS","",IF(A47="DQ","",IFERROR(INDEX('[1]決勝ヒート - レース結果（貼付）'!$A:$Z,MATCH($B47,'[1]決勝ヒート - レース結果（貼付）'!$B:$B,0),MATCH('決勝ヒート - レース正式結果表'!L$11,'[1]決勝ヒート - レース結果（貼付）'!$1:$1,0)),""))) -> 0.0007359838 | M47: =IF(L47<1,"",IF($M$11>L47,"R","")) | P47: =IF(IFERROR(INDEX('[1]決勝ヒート - レース結果（貼付）'!$A:$Z,MATCH($B47,'[1]決勝ヒート - レース結果（貼付）'!$B:$B,0),MATCH('決勝ヒート - レース正式結果表'!P$11,'[1]決勝ヒート - レース結果（貼付）'!$1:$1,0)),"")=0,"",IFERROR(INDEX('[1]決勝ヒート - レース結果（貼付）'!$A:$Z,MATCH($B47,'[1]決勝ヒート - レース結果（貼付）'!$B:$B,0),MATCH('決勝ヒート - レース正式結果表'!P$11,'[1]決勝ヒート - レース結果（貼付）'!$1:$1,0)),"")) | Q47: =IF(P47="","",COUNTIF($P$13:P47,"<>"&"")) | R47: =IFERROR(RANK(Q47,$Q$13:$Q$47,1),"") | S47: =IF(IFERROR(INDEX('[1]決勝ヒート - レース結果（貼付）'!$A:$Z,MATCH($A47,'[1]決勝ヒート - レース結果（貼付）'!$A:$A,0),MATCH('決勝ヒート - レース正式結果表'!S$11,'[1]決勝ヒート - レース結果（貼付）'!$1:$1,0)),"")=0,"",IFERROR(INDEX('[1]決勝ヒート - レース結果（貼付）'!$A:$Z,MATCH($A47,'[1]決勝ヒート - レース結果（貼付）'!$A:$A,0),MATCH('決勝ヒート - レース正式結果表'!S$11,'[1]決勝ヒート - レース結果（貼付）'!$1:$1,0)),"")) | U47: =IF(IFERROR(INDEX('[1]決勝ヒート - レース結果（貼付）'!$A:$Z,MATCH($B47,'[1]決勝ヒート - レース結果（貼付）'!$B:$B,0),MATCH('決勝ヒート - レース正式結果表'!U$11,'[1]決勝ヒート - レース結果（貼付）'!$1:$1,0)),"")=0,"",IFERROR(INDEX('[1]決勝ヒート - レース結果（貼付）'!$A:$Z,MATCH($B47,'[1]決勝ヒート - レース結果（貼付）'!$B:$B,0),MATCH('決勝ヒート - レース正式結果表'!U$11,'[1]決勝ヒート - レース結果（貼付）'!$1:$1,0)),"")) -> 71.56
A49: Fastest Lap
A50: C700賞 | D50: ="No."&IFERROR(INDEX($A11:$Z47,MATCH($I$50,$U$11:$U$47,0),MATCH("No.",$11:$11,0)),"")&" "&IFERROR(INDEX($A11:$Z47,MATCH($I$50,$U$11:$U$47,0),MATCH("名前",$11:$11,0)),"") -> No.40 大槻 直 | E50: =IFERROR(INDEX($A11:$Z47,MATCH($I$50,$U$11:$U$47,0),MATCH("team",$11:$11,0)),"") -> ASH | F50: 0.00072226852 | H50: =INDEX('[1]決勝ヒート - レース結果（貼付）'!$A:$Z,MATCH(INDEX($A12:$Z47,MATCH($I$50,$U$12:$U$47,0),MATCH("No.",$11:$11,0)),'[1]決勝ヒート - レース結果（貼付）'!$B:$B,0),MATCH("In Lap",'[1]決勝ヒート - レース結果（貼付）'!$1:$1,0))&"/"&IFERROR(INDEX($A11:$Z47,MATCH($I$50,$U$12:$U$47,0),MATCH("laps",$11:$11,0)),"") -> 7/Laps | I50: =MAX(U:U) -> 72.918 | J50: km/h
A52: =IF(A63<COUNTIF($R$12:$R$47,">"&0),A63+1,"") | B52: =IF(A52="","","No."&INDEX($A$11:$Y$47,MATCH($A52,$R$11:$R$47,0),MATCH("No.",$11:$11,0))) | C52: =INDEX($A$11:$Y$47,MATCH($A52,$R$11:$R$47,0),MATCH("コメント",$11:$11,0))
A53: このレース結果によりシリーズランキング暫定チャンピオンは春日 龍之介選手に決定
A54: =IF(COUNTIF(M:M,"R")>=1,"R マークの車は、コースレコードを更新しました。従来のレコードタイムは"&" "&TEXT(ROUND($M$11,3),"[<1]m'ss.000;##0.000"),"")
A56: =IF(A57="","","ﾍﾟﾅﾙﾃｨ") -> ﾍﾟﾅﾙﾃｨ
A57: =IF(MAX(Q16:Q50)<1,"",1) -> 1 | B57: =IF(A57="","","No."&INDEX($A$11:$Y$47,MATCH($A57,$R$11:$R$47,0),MATCH("No.",$11:$11,0))) -> No.61 | C57: =INDEX($A$11:$Y$47,MATCH($A57,$R$11:$R$47,0),MATCH("コメント",$11:$11,0)) -> 全日本カート選手権 統一規則 第38条(25)(フロントフェアリングが正しい装着状態でない)により5秒加算した。
A58: =IF(A57<COUNTIF($R$12:$R$47,">"&0),A57+1,"") -> 2 | B58: =IF(A58="","","No."&INDEX($A$11:$Y$47,MATCH($A58,$R$11:$R$47,0),MATCH("No.",$11:$11,0))) -> No.21 | C58: =INDEX($A$11:$Y$47,MATCH($A58,$R$11:$R$47,0),MATCH("コメント",$11:$11,0)) -> 全日本カート選手権 統一規則 第38条(25)(フロントフェアリングが正しい装着状態でない)により5秒加算した。
A59: =IF(A58<COUNTIF($R$12:$R$47,">"&0),A58+1,"") -> 3 | B59: =IF(A59="","","No."&INDEX($A$11:$Y$47,MATCH($A59,$R$11:$R$47,0),MATCH("No.",$11:$11,0))) -> No.10 | C59: =INDEX($A$11:$Y$47,MATCH($A59,$R$11:$R$47,0),MATCH("コメント",$11:$11,0)) -> 全日本カート選手権 統一規則 第38条(25)(フロントフェアリングが正しい装着状態でない)により5秒加算した。
A60: =IF(A59<COUNTIF($R$12:$R$47,">"&0),A59+1,"") -> 4 | B60: =IF(A60="","","No."&INDEX($A$11:$Y$47,MATCH($A60,$R$11:$R$47,0),MATCH("No.",$11:$11,0))) -> No.74 | C60: =INDEX($A$11:$Y$47,MATCH($A60,$R$11:$R$47,0),MATCH("コメント",$11:$11,0)) -> 全日本カート選手権 統一規則 第38条(25)(フロントフェアリングが正しい装着状態でない)により5秒加算した。
A61: =IF(A60<COUNTIF($R$12:$R$47,">"&0),A60+1,"") -> 5 | B61: =IF(A61="","","No."&INDEX($A$11:$Y$47,MATCH($A61,$R$11:$R$47,0),MATCH("No.",$11:$11,0))) -> No.22 | C61: =INDEX($A$11:$Y$47,MATCH($A61,$R$11:$R$47,0),MATCH("コメント",$11:$11,0)) -> 全日本カート選手権 統一規則 第38条(25)(フロントフェアリングが正しい装着状態でない)により5秒加算した。
A62: =IF(A61<COUNTIF($R$12:$R$47,">"&0),A61+1,"") -> 6 | B62: =IF(A62="","","No."&INDEX($A$11:$Y$47,MATCH($A62,$R$11:$R$47,0),MATCH("No.",$11:$11,0))) -> No.78 | C62: =INDEX($A$11:$Y$47,MATCH($A62,$R$11:$R$47,0),MATCH("コメント",$11:$11,0)) -> 全日本カート選手権 統一規則 第38条(25)(フロントフェアリングが正しい装着状態でない)により5秒加算した。
A63: =IF(A62<COUNTIF($R$12:$R$47,">"&0),A62+1,"") -> 7 | B63: =IF(A63="","","No."&INDEX($A$11:$Y$47,MATCH($A63,$R$11:$R$47,0),MATCH("No.",$11:$11,0))) -> No.36 | C63: =INDEX($A$11:$Y$47,MATCH($A63,$R$11:$R$47,0),MATCH("コメント",$11:$11,0)) -> 全日本カート選手権 統一規則 第38条(25)(フロントフェアリングが正しい装着状態でない)により5秒加算した。
A64: =IF(A63<COUNTIF($R$12:$R$47,">"&0),A63+1,"") | B64: No.36 | C64: JAF国内ｶｰﾄ競技規則 ｶｰﾄ競技会運営に関する規定 22条(妨害の禁止(プッシング・ブロッキング))違反により、10秒加算とした。
B65: ="審査委員長 ："&" "&[1]各種設定!$D$20 -> 審査委員長 ： Makoto SAITO | F65: ="競技委員長 ："&" "&[1]各種設定!$D$22 -> 競技委員長 ： Toshiaki KUBOTA | I65: ="計時委員長 ："&" "&[1]各種設定!$D$24 -> 計時委員長 ： Tsutomu HAYAKAWA

Sheet 決勝ヒート - レース暫定結果表
J6: 44878 | L6: :
A7: =+[1]各種設定!D2 -> 2022年 全日本カート選手権 FS-125/FP-3部門 東西統一競技会 | J7: WEATHER: | K7: Rain
J8: COURSE : | K8: Wet
A9: =+[1]各種設定!D4 -> FP-3 | J9: 南コース 1.264Km
A10: 決勝ヒート暫定結果表
B11: No. | C11: クラス | D11: 名前 | E11: Model/Engine | F11: Team | G11: Tires | H11: Laps | I11: Total Time | J11: 差 | K11: GAP | L11: BestLap | M11: =VLOOKUP(A9,[1]コースレコード!$A:$G,3,FALSE) -> 55.037 | P11: コメント | R11: ペナルティNo. | S11: グリッドコメント | U11: ベスト平均時速
A12: Pos. | B12: No. | D12: Driver | E12: Type | F12: Team | G12: Tire | H12: Laps | I12: Total Time | J12: Delay | K12: Gap | L12: Best
A13: 1 | B13: =IFERROR(INDEX('[1]決勝ヒート - レース結果（貼付）'!A2:$Z$50,MATCH($A13,'[1]決勝ヒート - レース結果（貼付）'!A2:$A$50,0),MATCH('決勝ヒート - レース暫定結果表'!B$11,'[1]決勝ヒート - レース結果（貼付）'!$1:$1,0)),"") -> 40 | D13: =IFERROR(INDEX('[1]決勝ヒート - レース結果（貼付）'!$A:$Z,MATCH($B13,'[1]決勝ヒート - レース結果（貼付）'!$B:$B,0),MATCH('決勝ヒート - レース暫定結果表'!D$11,'[1]決勝ヒート - レース結果（貼付）'!$1:$1,0)),"") -> 大槻 直 | E13: =IFERROR(INDEX('[1]決勝ヒート - レース結果（貼付）'!$A:$Z,MATCH($B13,'[1]決勝ヒート - レース結果（貼付）'!$B:$B,0),MATCH('決勝ヒート - レース暫定結果表'!E$11,'[1]決勝ヒート - レース結果（貼付）'!$1:$1,0)),"") -> TONY KART/YAMAHA | F13: =IFERROR(INDEX('[1]決勝ヒート - レース結果（貼付）'!$A:$Z,MATCH($B13,'[1]決勝ヒート - レース結果（貼付）'!$B:$B,0),MATCH('決勝ヒート - レース暫定結果表'!F$11,'[1]決勝ヒート - レース結果（貼付）'!$1:$1,0)),"") -> ASH | G13: =IFERROR(INDEX('[1]決勝ヒート - レース結果（貼付）'!$A:$Z,MATCH($B13,'[1]決勝ヒート - レース結果（貼付）'!$B:$B,0),MATCH('決勝ヒート - レース暫定結果表'!G$11,'[1]決勝ヒート - レース結果（貼付）'!$1:$1,0)),"") -> BS | H13: =IFERROR(INDEX('[1]決勝ヒート - レース結果（貼付）'!$A:$Z,MATCH($B13,'[1]決勝ヒート - レース結果（貼付）'!$B:$B,0),MATCH('決勝ヒート - レース暫定結果表'!H$11,'[1]決勝ヒート - レース結果（貼付）'!$1:$1,0)),"") -> 22 | I13: =IFERROR(INDEX('[1]決勝ヒート - レース結果（貼付）'!$A:$Z,MATCH($B13,'[1]決勝ヒート - レース結果（貼付）'!$B:$B,0),MATCH('決勝ヒート - レース暫定結果表'!I$11,'[1]決勝ヒート - レース結果（貼付）'!$1:$1,0)),"") -> 0.016014583 | J13: =ROUND((1.264*H13)/(I13*24),2)&"km/h" -> 72.35km/h | L13: =IFERROR(INDEX('[1]決勝ヒート - レース結果（貼付）'!$A:$Z,MATCH($B13,'[1]決勝ヒート - レース結果（貼付）'!$B:$B,0),MATCH('決勝ヒート - レース暫定結果表'!L$11,'[1]決勝ヒート - レース結果（貼付）'!$1:$1,0)),"") -> 0.00072226852 | M13: =IF(L13<1,"",IF($M$11>L13,"R","")) | P13: =IF(IFERROR(INDEX('[1]決勝ヒート - レース結果（貼付）'!$A:$Z,MATCH($B13,'[1]決勝ヒート - レース結果（貼付）'!$B:$B,0),MATCH('決勝ヒート - レース暫定結果表'!P$11,'[1]決勝ヒート - レース結果（貼付）'!$1:$1,0)),"")=0,"",IFERROR(INDEX('[1]決勝ヒート - レース結果（貼付）'!$A:$Z,MATCH($B13,'[1]決勝ヒート - レース結果（貼付）'!$B:$B,0),MATCH('決勝ヒート - レース暫定結果表'!P$11,'[1]決勝ヒート - レース結果（貼付）'!$1:$1,0)),"")) | Q13: =IF(P13="","",COUNTIF($P$13:P13,"<>"&"")) | R13: =IFERROR(RANK(Q13,$Q$13:$Q$47,1),"") | S13: =IF(IFERROR(INDEX('[1]決勝ヒート - レース結果（貼付）'!$A:$Z,MATCH($A13,'[1]決勝ヒート - レース結果（貼付）'!$A:$A,0),MATCH('決勝ヒート - レース暫定結果表'!S$11,'[1]決勝ヒート - レース結果（貼付）'!$1:$1,0)),"")=0,"",IFERROR(INDEX('[1]決勝ヒート - レース結果（貼付）'!$A:$Z,MATCH($A13,'[1]決勝ヒート - レース結果（貼付）'!$A:$A,0),MATCH('決勝ヒート - レース暫定結果表'!S$11,'[1]決勝ヒート - レース結果（貼付）'!$1:$1,0)),"")) | U13: =IF(IFERROR(INDEX('[1]決勝ヒート - レース結果（貼付）'!$A:$Z,MATCH($B13,'[1]決勝ヒート - レース結果（貼付）'!$B:$B,0),MATCH('決勝ヒート - レース暫定結果表'!U$11,'[1]決勝ヒート - レース結果（貼付）'!$1:$1,0)),"")=0,"",IFERROR(INDEX('[1]決勝ヒート - レース結果（貼付）'!$A:$Z,MATCH($B13,'[1]決勝ヒート - レース結果（貼付）'!$B:$B,0),MATCH('決勝ヒート - レース暫定結果表'!U$11,'[1]決勝ヒート - レース結果（貼付）'!$1:$1,0)),"")) -> 72.918
A14: =IF(OR('[1]決勝ヒート - レース結果（貼付）'!A3="DNF",'[1]決勝ヒート - レース結果（貼付）'!A3="DNS",'[1]決勝ヒート - レース結果（貼付）'!A3="DQ"),'[1]決勝ヒート - レース結果（貼付）'!A3,IF(MAX('[1]決勝ヒート - レース結果（貼付）'!A:A)>A13,A13+1,"")) -> 2 | B14: =IFERROR(INDEX('[1]決勝ヒート - レース結果（貼付）'!A3:$Z$50,MATCH($A14,'[1]決勝ヒート - レース結果（貼付）'!A3:$A$50,0),MATCH('決勝ヒート - レース暫定結果表'!B$11,'[1]決勝ヒート - レース結果（貼付）'!$1:$1,0)),"") -> 14 | D14: =IFERROR(INDEX('[1]決勝ヒート - レース結果（貼付）'!$A:$Z,MATCH($B14,'[1]決勝ヒート - レース結果（貼付）'!$B:$B,0),MATCH('決勝ヒート - レース暫定結果表'!D$11,'[1]決勝ヒート - レース結果（貼付）'!$1:$1,0)),"") -> 春日 龍之介 | E14: =IFERROR(INDEX('[1]決勝ヒート - レース結果（貼付）'!$A:$Z,MATCH($B14,'[1]決勝ヒート - レース結果（貼付）'!$B:$B,0),MATCH('決勝ヒート - レース暫定結果表'!E$11,'[1]決勝ヒート - レース結果（貼付）'!$1:$1,0)),"") -> XENON KART/YAMAHA | F14: =IFERROR(INDEX('[1]決勝ヒート - レース結果（貼付）'!$A:$Z,MATCH($B14,'[1]決勝ヒート - レース結果（貼付）'!$B:$B,0),MATCH('決勝ヒート - レース暫定結果表'!F$11,'[1]決勝ヒート - レース結果（貼付）'!$1:$1,0)),"") -> SPS川口 | G14: =IFERROR(INDEX('[1]決勝ヒート - レース結果（貼付）'!$A:$Z,MATCH($B14,'[1]決勝ヒート - レース結果（貼付）'!$B:$B,0),MATCH('決勝ヒート - レース暫定結果表'!G$11,'[1]決勝ヒート - レース結果（貼付）'!$1:$1,0)),"") -> BS | H14: =IF(A14="DNS","",IF(A14="DQ","",IFERROR(INDEX('[1]決勝ヒート - レース結果（貼付）'!$A:$Z,MATCH($B14,'[1]決勝ヒート - レース結果（貼付）'!$B:$B,0),MATCH('決勝ヒート - レース暫定結果表'!H$11,'[1]決勝ヒート - レース結果（貼付）'!$1:$1,0)),""))) -> 22 | I14: =IF(A14="DNS","ｽﾀｰﾄ出来ず",IF(A14="DQ","失 格",IFERROR(INDEX('[1]決勝ヒート - レース結果（貼付）'!$A:$Z,MATCH($B14,'[1]決勝ヒート - レース結果（貼付）'!$B:$B,0),MATCH('決勝ヒート - レース暫定結果表'!I$11,'[1]決勝ヒート - レース結果（貼付）'!$1:$1,0)),""))) -> 0.016078773 | J14: =IF(A14="DNS","",IF(A14="DQ","",IFERROR(INDEX('[1]決勝ヒート - レース結果（貼付）'!$A:$Z,MATCH($B14,'[1]決勝ヒート - レース結果（貼付）'!$B:$B,0),MATCH('決勝ヒート - レース暫定結果表'!J$11,'[1]決勝ヒート - レース結果（貼付）'!$1:$1,0)),""))) -> 5.546 | K14: =IF(A14="DNS","",IF(A14="DQ","",IFERROR(INDEX('[1]決勝ヒート - レース結果（貼付）'!$A:$Z,MATCH($B14,'[1]決勝ヒート - レース結果（貼付）'!$B:$B,0),MATCH('決勝ヒート - レース暫定結果表'!K$11,'[1]決勝ヒート - レース結果（貼付）'!$1:$1,0)),""))) -> 5.546 | L14: =IF(A14="DNS","",IF(A14="DQ","",IFERROR(INDEX('[1]決勝ヒート - レース結果（貼付）'!$A:$Z,MATCH($B14,'[1]決勝ヒート - レース結果（貼付）'!$B:$B,0),MATCH('決勝ヒート - レース暫定結果表'!L$11,'[1]決勝ヒート - レース結果（貼付）'!$1:$1,0)),""))) -> 0.00072675926 | M14: =IF(L14<1,"",IF($M$11>L14,"R","")) | P14: =IF(IFERROR(INDEX('[1]決勝ヒート - レース結果（貼付）'!$A:$Z,MATCH($A14,'[1]決勝ヒート - レース結果（貼付）'!$A:$A,0),MATCH('決勝ヒート - レース暫定結果表'!P$11,'[1]決勝ヒート - レース結果（貼付）'!$1:$1,0)),"")=0,"",IFERROR(INDEX('[1]決勝ヒート - レース結果（貼付）'!$A:$Z,MATCH($A14,'[1]決勝ヒート - レース結果（貼付）'!$A:$A,0),MATCH('決勝ヒート - レース暫定結果表'!P$11,'[1]決勝ヒート - レース結果（貼付）'!$1:$1,0)),"")) | Q14: =IF(P14="","",COUNTIF($P$13:P14,"<>"&"")) | R14: =IFERROR(RANK(Q14,$Q$13:$Q$47,1),"") | S14: =IF(IFERROR(INDEX('[1]決勝ヒート - レース結果（貼付）'!$A:$Z,MATCH($A14,'[1]決勝ヒート - レース結果（貼付）'!$A:$A,0),MATCH('決勝ヒート - レース暫定結果表'!S$11,'[1]決勝ヒート - レース結果（貼付）'!$1:$1,0)),"")=0,"",IFERROR(INDEX('[1]決勝ヒート - レース結果（貼付）'!$A:$Z,MATCH($A14,'[1]決勝ヒート - レース結果（貼付）'!$A:$A,0),MATCH('決勝ヒート - レース暫定結果表'!S$11,'[1]決勝ヒート - レース結果（貼付）'!$1:$1,0)),"")) | U14: =IF(IFERROR(INDEX('[1]決勝ヒート - レース結果（貼付）'!$A:$Z,MATCH($B14,'[1]決勝ヒート - レース結果（貼付）'!$B:$B,0),MATCH('決勝ヒート - レース暫定結果表'!U$11,'[1]決勝ヒート - レース結果（貼付）'!$1:$1,0)),"")=0,"",IFERROR(INDEX('[1]決勝ヒート - レース結果（貼付）'!$A:$Z,MATCH($B14,'[1]決勝ヒート - レース結果（貼付）'!$B:$B,0),MATCH('決勝ヒート - レース暫定結果表'!U$11,'[1]決勝ヒート - レース結果（貼付）'!$1:$1,0)),"")) -> 72.468
A15: =IF(OR('[1]決勝ヒート - レース結果（貼付）'!A4="DNF",'[1]決勝ヒート - レース結果（貼付）'!A4="DNS",'[1]決勝ヒート - レース結果（貼付）'!A4="DQ"),'[1]決勝ヒート - レース結果（貼付）'!A4,IF(MAX('[1]決勝ヒート - レース結果（貼付）'!A:A)>A14,A14+1,"")) -> 3 | B15: =IFERROR(INDEX('[1]決勝ヒート - レース結果（貼付）'!A4:$Z$50,MATCH($A15,'[1]決勝ヒート - レース結果（貼付）'!A4:$A$50,0),MATCH('決勝ヒート - レース暫定結果表'!B$11,'[1]決勝ヒート - レース結果（貼付）'!$1:$1,0)),"") -> 11 | D15: =IFERROR(INDEX('[1]決勝ヒート - レース結果（貼付）'!$A:$Z,MATCH($B15,'[1]決勝ヒート - レース結果（貼付）'!$B:$B,0),MATCH('決勝ヒート - レース暫定結果表'!D$11,'[1]決勝ヒート - レース結果（貼付）'!$1:$1,0)),"") -> 富下 李央菜 | E15: =IFERROR(INDEX('[1]決勝ヒート - レース結果（貼付）'!$A:$Z,MATCH($B15,'[1]決勝ヒート - レース結果（貼付）'!$B:$B,0),MATCH('決勝ヒート - レース暫定結果表'!E$11,'[1]決勝ヒート - レース結果（貼付）'!$1:$1,0)),"") -> KOSMIC/YAMAHA | F15: =IFERROR(INDEX('[1]決勝ヒート - レース結果（貼付）'!$A:$Z,MATCH($B15,'[1]決勝ヒート - レース結果（貼付）'!$B:$B,0),MATCH('決勝ヒート - レース暫定結果表'!F$11,'[1]決勝ヒート - レース結果（貼付）'!$1:$1,0)),"") -> Formula Blue TKC | G15: =IFERROR(INDEX('[1]決勝ヒート - レース結果（貼付）'!$A:$Z,MATCH($B15,'[1]決勝ヒート - レース結果（貼付）'!$B:$B,0),MATCH('決勝ヒート - レース暫定結果表'!G$11,'[1]決勝ヒート - レース結果（貼付）'!$1:$1,0)),"") -> BS | H15: =IF(A15="DNS","",IF(A15="DQ","",IFERROR(INDEX('[1]決勝ヒート - レース結果（貼付）'!$A:$Z,MATCH($B15,'[1]決勝ヒート - レース結果（貼付）'!$B:$B,0),MATCH('決勝ヒート - レース暫定結果表'!H$11,'[1]決勝ヒート - レース結果（貼付）'!$1:$1,0)),""))) -> 22 | I15: =IF(A15="DNS","ｽﾀｰﾄ出来ず",IF(A15="DQ","失 格",IFERROR(INDEX('[1]決勝ヒート - レース結果（貼付）'!$A:$Z,MATCH($B15,'[1]決勝ヒート - レース結果（貼付）'!$B:$B,0),MATCH('決勝ヒート - レース暫定結果表'!I$11,'[1]決勝ヒート - レース結果（貼付）'!$1:$1,0)),""))) -> 0.016082014 | J15: =IF(A15="DNS","",IF(A15="DQ","",IFERROR(INDEX('[1]決勝ヒート - レース結果（貼付）'!$A:$Z,MATCH($B15,'[1]決勝ヒート - レース結果（貼付）'!$B:$B,0),MATCH('決勝ヒート - レース暫定結果表'!J$11,'[1]決勝ヒート - レース結果（貼付）'!$1:$1,0)),""))) -> 5.826 | K15: =IF(A15="DNS","",IF(A15="DQ","",IFERROR(INDEX('[1]決勝ヒート - レース結果（貼付）'!$A:$Z,MATCH($B15,'[1]決勝ヒート - レース結果（貼付）'!$B:$B,0),MATCH('決勝ヒート - レース暫定結果表'!K$11,'[1]決勝ヒート - レース結果（貼付）'!$1:$1,0)),""))) -> 0.28 | L15: =IF(A15="DNS","",IF(A15="DQ","",IFERROR(INDEX('[1]決勝ヒート - レース結果（貼付）'!$A:$Z,MATCH($B15,'[1]決勝ヒート - レース結果（貼付）'!$B:$B,0),MATCH('決勝ヒート - レース暫定結果表'!L$11,'[1]決勝ヒート - レース結果（貼付）'!$1:$1,0)),""))) -> 0.00072800926 | M15: =IF(L15<1,"",IF($M$11>L15,"R","")) | P15: =IF(IFERROR(INDEX('[1]決勝ヒート - レース結果（貼付）'!$A:$Z,MATCH($A15,'[1]決勝ヒート - レース結果（貼付）'!$A:$A,0),MATCH('決勝ヒート - レース暫定結果表'!P$11,'[1]決勝ヒート - レース結果（貼付）'!$1:$1,0)),"")=0,"",IFERROR(INDEX('[1]決勝ヒート - レース結果（貼付）'!$A:$Z,MATCH($A15,'[1]決勝ヒート - レース結果（貼付）'!$A:$A,0),MATCH('決勝ヒート - レース暫定結果表'!P$11,'[1]決勝ヒート - レース結果（貼付）'!$1:$1,0)),"")) | Q15: =IF(P15="","",COUNTIF($P$13:P15,"<>"&"")) | R15: =IFERROR(RANK(Q15,$Q$13:$Q$47,1),"") | S15: =IF(IFERROR(INDEX('[1]決勝ヒート - レース結果（貼付）'!$A:$Z,MATCH($A15,'[1]決勝ヒート - レース結果（貼付）'!$A:$A,0),MATCH('決勝ヒート - レース暫定結果表'!S$11,'[1]決勝ヒート - レース結果（貼付）'!$1:$1,0)),"")=0,"",IFERROR(INDEX('[1]決勝ヒート - レース結果（貼付）'!$A:$Z,MATCH($A15,'[1]決勝ヒート - レース結果（貼付）'!$A:$A,0),MATCH('決勝ヒート - レース暫定結果表'!S$11,'[1]決勝ヒート - レース結果（貼付）'!$1:$1,0)),"")) | U15: =IF(IFERROR(INDEX('[1]決勝ヒート - レース結果（貼付）'!$A:$Z,MATCH($B15,'[1]決勝ヒート - レース結果（貼付）'!$B:$B,0),MATCH('決勝ヒート - レース暫定結果表'!U$11,'[1]決勝ヒート - レース結果（貼付）'!$1:$1,0)),"")=0,"",IFERROR(INDEX('[1]決勝ヒート - レース結果（貼付）'!$A:$Z,MATCH($B15,'[1]決勝ヒート - レース結果（貼付）'!$B:$B,0),MATCH('決勝ヒート - レース暫定結果表'!U$11,'[1]決勝ヒート - レース結果（貼付）'!$1:$1,0)),"")) -> 72.343
A16: =IF(OR('[1]決勝ヒート - レース結果（貼付）'!A5="DNF",'[1]決勝ヒート - レース結果（貼付）'!A5="DNS",'[1]決勝ヒート - レース結果（貼付）'!A5="DQ"),'[1]決勝ヒート - レース結果（貼付）'!A5,IF(MAX('[1]決勝ヒート - レース結果（貼付）'!A:A)>A15,A15+1,"")) -> 4 | B16: =IFERROR(INDEX('[1]決勝ヒート - レース結果（貼付）'!A5:$Z$50,MATCH($A16,'[1]決勝ヒート - レース結果（貼付）'!A5:$A$50,0),MATCH('決勝ヒート - レース暫定結果表'!B$11,'[1]決勝ヒート - レース結果（貼付）'!$1:$1,0)),"") -> 19 | D16: =IFERROR(INDEX('[1]決勝ヒート - レース結果（貼付）'!$A:$Z,MATCH($B16,'[1]決勝ヒート - レース結果（貼付）'!$B:$B,0),MATCH('決勝ヒート - レース暫定結果表'!D$11,'[1]決勝ヒート - レース結果（貼付）'!$1:$1,0)),"") -> 蒲生 尚弥 | E16: =IFERROR(INDEX('[1]決勝ヒート - レース結果（貼付）'!$A:$Z,MATCH($B16,'[1]決勝ヒート - レース結果（貼付）'!$B:$B,0),MATCH('決勝ヒート - レース暫定結果表'!E$11,'[1]決勝ヒート - レース結果（貼付）'!$1:$1,0)),"") -> CL/YAMAHA | F16: =IFERROR(INDEX('[1]決勝ヒート - レース結果（貼付）'!$A:$Z,MATCH($B16,'[1]決勝ヒート - レース結果（貼付）'!$B:$B,0),MATCH('決勝ヒート - レース暫定結果表'!F$11,'[1]決勝ヒート - レース結果（貼付）'!$1:$1,0)),"") -> のりものクラブTIGRE | G16: =IFERROR(INDEX('[1]決勝ヒート - レース結果（貼付）'!$A:$Z,MATCH($B16,'[1]決勝ヒート - レース結果（貼付）'!$B:$B,0),MATCH('決勝ヒート - レース暫定結果表'!G$11,'[1]決勝ヒート - レース結果（貼付）'!$1:$1,0)),"") -> BS | H16: =IF(A16="DNS","",IF(A16="DQ","",IFERROR(INDEX('[1]決勝ヒート - レース結果（貼付）'!$A:$Z,MATCH($B16,'[1]決勝ヒート - レース結果（貼付）'!$B:$B,0),MATCH('決勝ヒート - レース暫定結果表'!H$11,'[1]決勝ヒート - レース結果（貼付）'!$1:$1,0)),""))) -> 22 | I16: =IF(A16="DNS","ｽﾀｰﾄ出来ず",IF(A16="DQ","失 格",IFERROR(INDEX('[1]決勝ヒート - レース結果（貼付）'!$A:$Z,MATCH($B16,'[1]決勝ヒート - レース結果（貼付）'!$B:$B,0),MATCH('決勝ヒート - レース暫定結果表'!I$11,'[1]決勝ヒート - レース結果（貼付）'!$1:$1,0)),""))) -> 0.016095243 | J16: =IF(A16="DNS","",IF(A16="DQ","",IFERROR(INDEX('[1]決勝ヒート - レース結果（貼付）'!$A:$Z,MATCH($B16,'[1]決勝ヒート - レース結果（貼付）'!$B:$B,0),MATCH('決勝ヒート - レース暫定結果表'!J$11,'[1]決勝ヒート - レース結果（貼付）'!$1:$1,0)),""))) -> 6.969 | K16: =IF(A16="DNS","",IF(A16="DQ","",IFERROR(INDEX('[1]決勝ヒート - レース結果（貼付）'!$A:$Z,MATCH($B16,'[1]決勝ヒート - レース結果（貼付）'!$B:$B,0),MATCH('決勝ヒート - レース暫定結果表'!K$11,'[1]決勝ヒート - レース結果（貼付）'!$1:$1,0)),""))) -> 1.143 | L16: =IF(A16="DNS","",IF(A16="DQ","",IFERROR(INDEX('[1]決勝ヒート - レース結果（貼付）'!$A:$Z,MATCH($B16,'[1]決勝ヒート - レース結果（貼付）'!$B:$B,0),MATCH('決勝ヒート - レース暫定結果表'!L$11,'[1]決勝ヒート - レース結果（貼付）'!$1:$1,0)),""))) -> 0.00072681713 | M16: =IF(L16<1,"",IF($M$11>L16,"R","")) | P16: =IF(IFERROR(INDEX('[1]決勝ヒート - レース結果（貼付）'!$A:$Z,MATCH($A16,'[1]決勝ヒート - レース結果（貼付）'!$A:$A,0),MATCH('決勝ヒート - レース暫定結果表'!P$11,'[1]決勝ヒート - レース結果（貼付）'!$1:$1,0)),"")=0,"",IFERROR(INDEX('[1]決勝ヒート - レース結果（貼付）'!$A:$Z,MATCH($A16,'[1]決勝ヒート - レース結果（貼付）'!$A:$A,0),MATCH('決勝ヒート - レース暫定結果表'!P$11,'[1]決勝ヒート - レース結果（貼付）'!$1:$1,0)),"")) | Q16: =IF(P16="","",COUNTIF($P$13:P16,"<>"&"")) | R16: =IFERROR(RANK(Q16,$Q$13:$Q$47,1),"") | S16: =IF(IFERROR(INDEX('[1]決勝ヒート - レース結果（貼付）'!$A:$Z,MATCH($A16,'[1]決勝ヒート - レース結果（貼付）'!$A:$A,0),MATCH('決勝ヒート - レース暫定結果表'!S$11,'[1]決勝ヒート - レース結果（貼付）'!$1:$1,0)),"")=0,"",IFERROR(INDEX('[1]決勝ヒート - レース結果（貼付）'!$A:$Z,MATCH($A16,'[1]決勝ヒート - レース結果（貼付）'!$A:$A,0),MATCH('決勝ヒート - レース暫定結果表'!S$11,'[1]決勝ヒート - レース結果（貼付）'!$1:$1,0)),"")) | U16: =IF(IFERROR(INDEX('[1]決勝ヒート - レース結果（貼付）'!$A:$Z,MATCH($B16,'[1]決勝ヒート - レース結果（貼付）'!$B:$B,0),MATCH('決勝ヒート - レース暫定結果表'!U$11,'[1]決勝ヒート - レース結果（貼付）'!$1:$1,0)),"")=0,"",IFERROR(INDEX('[1]決勝ヒート - レース結果（貼付）'!$A:$Z,MATCH($B16,'[1]決勝ヒート - レース結果（貼付）'!$B:$B,0),MATCH('決勝ヒート - レース暫定結果表'!U$11,'[1]決勝ヒート - レース結果（貼付）'!$1:$1,0)),"")) -> 72.462
A17: =IF(OR('[1]決勝ヒート - レース結果（貼付）'!A6="DNF",'[1]決勝ヒート - レース結果（貼付）'!A6="DNS",'[1]決勝ヒート - レース結果（貼付）'!A6="DQ"),'[1]決勝ヒート - レース結果（貼付）'!A6,IF(MAX('[1]決勝ヒート - レース結果（貼付）'!A:A)>A16,A16+1,"")) -> 5 | B17: =IFERROR(INDEX('[1]決勝ヒート - レース結果（貼付）'!A6:$Z$50,MATCH($A17,'[1]決勝ヒート - レース結果（貼付）'!A6:$A$50,0),MATCH('決勝ヒート - レース暫定結果表'!B$11,'[1]決勝ヒート - レース結果（貼付）'!$1:$1,0)),"") -> 44 | D17: =IFERROR(INDEX('[1]決勝ヒート - レース結果（貼付）'!$A:$Z,MATCH($B17,'[1]決勝ヒート - レース結果（貼付）'!$B:$B,0),MATCH('決勝ヒート - レース暫定結果表'!D$11,'[1]決勝ヒート - レース結果（貼付）'!$1:$1,0)),"") -> 中村 海斗 | E17: =IFERROR(INDEX('[1]決勝ヒート - レース結果（貼付）'!$A:$Z,MATCH($B17,'[1]決勝ヒート - レース結果（貼付）'!$B:$B,0),MATCH('決勝ヒート - レース暫定結果表'!E$11,'[1]決勝ヒート - レース結果（貼付）'!$1:$1,0)),"") -> TONY KART/YAMAHA | F17: =IFERROR(INDEX('[1]決勝ヒート - レース結果（貼付）'!$A:$Z,MATCH($B17,'[1]決勝ヒート - レース結果（貼付）'!$B:$B,0),MATCH('決勝ヒート - レース暫定結果表'!F$11,'[1]決勝ヒート - レース結果（貼付）'!$1:$1,0)),"") -> TEAM NAGAO | G17: =IFERROR(INDEX('[1]決勝ヒート - レース結果（貼付）'!$A:$Z,MATCH($B17,'[1]決勝ヒート - レース結果（貼付）'!$B:$B,0),MATCH('決勝ヒート - レース暫定結果表'!G$11,'[1]決勝ヒート - レース結果（貼付）'!$1:$1,0)),"") -> BS | H17: =IF(A17="DNS","",IF(A17="DQ","",IFERROR(INDEX('[1]決勝ヒート - レース結果（貼付）'!$A:$Z,MATCH($B17,'[1]決勝ヒート - レース結果（貼付）'!$B:$B,0),MATCH('決勝ヒート - レース暫定結果表'!H$11,'[1]決勝ヒート - レース結果（貼付）'!$1:$1,0)),""))) -> 22 | I17: =IF(A17="DNS","ｽﾀｰﾄ出来ず",IF(A17="DQ","失 格",IFERROR(INDEX('[1]決勝ヒート - レース結果（貼付）'!$A:$Z,MATCH($B17,'[1]決勝ヒート - レース結果（貼付）'!$B:$B,0),MATCH('決勝ヒート - レース暫定結果表'!I$11,'[1]決勝ヒート - レース結果（貼付）'!$1:$1,0)),""))) -> 0.016137361 | J17: =IF(A17="DNS","",IF(A17="DQ","",IFERROR(INDEX('[1]決勝ヒート - レース結果（貼付）'!$A:$Z,MATCH($B17,'[1]決勝ヒート - レース結果（貼付）'!$B:$B,0),MATCH('決勝ヒート - レース暫定結果表'!J$11,'[1]決勝ヒート - レース結果（貼付）'!$1:$1,0)),""))) -> 10.608 | K17: =IF(A17="DNS","",IF(A17="DQ","",IFERROR(INDEX('[1]決勝ヒート - レース結果（貼付）'!$A:$Z,MATCH($B17,'[1]決勝ヒート - レース結果（貼付）'!$B:$B,0),MATCH('決勝ヒート - レース暫定結果表'!K$11,'[1]決勝ヒート - レース結果（貼付）'!$1:$1,0)),""))) -> 3.639 | L17: =IF(A17="DNS","",IF(A17="DQ","",IFERROR(INDEX('[1]決勝ヒート - レース結果（貼付）'!$A:$Z,MATCH($B17,'[1]決勝ヒート - レース結果（貼付）'!$B:$B,0),MATCH('決勝ヒート - レース暫定結果表'!L$11,'[1]決勝ヒート - レース結果（貼付）'!$1:$1,0)),""))) -> 0.00072483796 | M17: =IF(L17<1,"",IF($M$11>L17,"R","")) | P17: =IF(IFERROR(INDEX('[1]決勝ヒート - レース結果（貼付）'!$A:$Z,MATCH($A17,'[1]決勝ヒート - レース結果（貼付）'!$A:$A,0),MATCH('決勝ヒート - レース暫定結果表'!P$11,'[1]決勝ヒート - レース結果（貼付）'!$1:$1,0)),"")=0,"",IFERROR(INDEX('[1]決勝ヒート - レース結果（貼付）'!$A:$Z,MATCH($A17,'[1]決勝ヒート - レース結果（貼付）'!$A:$A,0),MATCH('決勝ヒート - レース暫定結果表'!P$11,'[1]決勝ヒート - レース結果（貼付）'!$1:$1,0)),"")) | Q17: =IF(P17="","",COUNTIF($P$13:P17,"<>"&"")) | R17: =IFERROR(RANK(Q17,$Q$13:$Q$47,1),"") | S17: =IF(IFERROR(INDEX('[1]決勝ヒート - レース結果（貼付）'!$A:$Z,MATCH($A17,'[1]決勝ヒート - レース結果（貼付）'!$A:$A,0),MATCH('決勝ヒート - レース暫定結果表'!S$11,'[1]決勝ヒート - レース結果（貼付）'!$1:$1,0)),"")=0,"",IFERROR(INDEX('[1]決勝ヒート - レース結果（貼付）'!$A:$Z,MATCH($A17,'[1]決勝ヒート - レース結果（貼付）'!$A:$A,0),MATCH('決勝ヒート - レース暫定結果表'!S$11,'[1]決勝ヒート - レース結果（貼付）'!$1:$1,0)),"")) | U17: =IF(IFERROR(INDEX('[1]決勝ヒート - レース結果（貼付）'!$A:$Z,MATCH($B17,'[1]決勝ヒート - レース結果（貼付）'!$B:$B,0),MATCH('決勝ヒート - レース暫定結果表'!U$11,'[1]決勝ヒート - レース結果（貼付）'!$1:$1,0)),"")=0,"",IFERROR(INDEX('[1]決勝ヒート - レース結果（貼付）'!$A:$Z,MATCH($B17,'[1]決勝ヒート - レース結果（貼付）'!$B:$B,0),MATCH('決勝ヒート - レース暫定結果表'!U$11,'[1]決勝ヒート - レース結果（貼付）'!$1:$1,0)),"")) -> 72.484
A18: =IF(OR('[1]決勝ヒート - レース結果（貼付）'!A7="DNF",'[1]決勝ヒート - レース結果（貼付）'!A7="DNS",'[1]決勝ヒート - レース結果（貼付）'!A7="DQ"),'[1]決勝ヒート - レース結果（貼付）'!A7,IF(MAX('[1]決勝ヒート - レース結果（貼付）'!A:A)>A17,A17+1,"")) -> 6 | B18: =IFERROR(INDEX('[1]決勝ヒート - レース結果（貼付）'!A7:$Z$50,MATCH($A18,'[1]決勝ヒート - レース結果（貼付）'!A7:$A$50,0),MATCH('決勝ヒート - レース暫定結果表'!B$11,'[1]決勝ヒート - レース結果（貼付）'!$1:$1,0)),"") -> 25 | D18: =IFERROR(INDEX('[1]決勝ヒート - レース結果（貼付）'!$A:$Z,MATCH($B18,'[1]決勝ヒート - レース結果（貼付）'!$B:$B,0),MATCH('決勝ヒート - レース暫定結果表'!D$11,'[1]決勝ヒート - レース結果（貼付）'!$1:$1,0)),"") -> 鈴木 恵武 | E18: =IFERROR(INDEX('[1]決勝ヒート - レース結果（貼付）'!$A:$Z,MATCH($B18,'[1]決勝ヒート - レース結果（貼付）'!$B:$B,0),MATCH('決勝ヒート - レース暫定結果表'!E$11,'[1]決勝ヒート - レース結果（貼付）'!$1:$1,0)),"") -> KOSMIC/YAMAHA | F18: =IFERROR(INDEX('[1]決勝ヒート - レース結果（貼付）'!$A:$Z,MATCH($B18,'[1]決勝ヒート - レース結果（貼付）'!$B:$B,0),MATCH('決勝ヒート - レース暫定結果表'!F$11,'[1]決勝ヒート - レース結果（貼付）'!$1:$1,0)),"") -> Formula Blue 増田スピード | G18: =IFERROR(INDEX('[1]決勝ヒート - レース結果（貼付）'!$A:$Z,MATCH($B18,'[1]決勝ヒート - レース結果（貼付）'!$B:$B,0),MATCH('決勝ヒート - レース暫定結果表'!G$11,'[1]決勝ヒート - レース結果（貼付）'!$1:$1,0)),"") -> BS | H18: =IF(A18="DNS","",IF(A18="DQ","",IFERROR(INDEX('[1]決勝ヒート - レース結果（貼付）'!$A:$Z,MATCH($B18,'[1]決勝ヒート - レース結果（貼付）'!$B:$B,0),MATCH('決勝ヒート - レース暫定結果表'!H$11,'[1]決勝ヒート - レース結果（貼付）'!$1:$1,0)),""))) -> 22 | I18: =IF(A18="DNS","ｽﾀｰﾄ出来ず",IF(A18="DQ","失 格",IFERROR(INDEX('[1]決勝ヒート - レース結果（貼付）'!$A:$Z,MATCH($B18,'[1]決勝ヒート - レース結果（貼付）'!$B:$B,0),MATCH('決勝ヒート - レース暫定結果表'!I$11,'[1]決勝ヒート - レース結果（貼付）'!$1:$1,0)),""))) -> 0.016151215 | J18: =IF(A18="DNS","",IF(A18="DQ","",IFERROR(INDEX('[1]決勝ヒート - レース結果（貼付）'!$A:$Z,MATCH($B18,'[1]決勝ヒート - レース結果（貼付）'!$B:$B,0),MATCH('決勝ヒート - レース暫定結果表'!J$11,'[1]決勝ヒート - レース結果（貼付）'!$1:$1,0)),""))) -> 11.805 | K18: =IF(A18="DNS","",IF(A18="DQ","",IFERROR(INDEX('[1]決勝ヒート - レース結果（貼付）'!$A:$Z,MATCH($B18,'[1]決勝ヒート - レース結果（貼付）'!$B:$B,0),MATCH('決勝ヒート - レース暫定結果表'!K$11,'[1]決勝ヒート - レース結果（貼付）'!$1:$1,0)),""))) -> 1.197 | L18: =IF(A18="DNS","",IF(A18="DQ","",IFERROR(INDEX('[1]決勝ヒート - レース結果（貼付）'!$A:$Z,MATCH($B18,'[1]決勝ヒート - レース結果（貼付）'!$B:$B,0),MATCH('決勝ヒート - レース暫定結果表'!L$11,'[1]決勝ヒート - レース結果（貼付）'!$1:$1,0)),""))) -> 0.00072681713 | M18: =IF(L18<1,"",IF($M$11>L18,"R","")) | P18: =IF(IFERROR(INDEX('[1]決勝ヒート - レース結果（貼付）'!$A:$Z,MATCH($A18,'[1]決勝ヒート - レース結果（貼付）'!$A:$A,0),MATCH('決勝ヒート - レース暫定結果表'!P$11,'[1]決勝ヒート - レース結果（貼付）'!$1:$1,0)),"")=0,"",IFERROR(INDEX('[1]決勝ヒート - レース結果（貼付）'!$A:$Z,MATCH($A18,'[1]決勝ヒート - レース結果（貼付）'!$A:$A,0),MATCH('決勝ヒート - レース暫定結果表'!P$11,'[1]決勝ヒート - レース結果（貼付）'!$1:$1,0)),"")) | Q18: =IF(P18="","",COUNTIF($P$13:P18,"<>"&"")) | R18: =IFERROR(RANK(Q18,$Q$13:$Q$47,1),"") | S18: =IF(IFERROR(INDEX('[1]決勝ヒート - レース結果（貼付）'!$A:$Z,MATCH($A18,'[1]決勝ヒート - レース結果（貼付）'!$A:$A,0),MATCH('決勝ヒート - レース暫定結果表'!S$11,'[1]決勝ヒート - レース結果（貼付）'!$1:$1,0)),"")=0,"",IFERROR(INDEX('[1]決勝ヒート - レース結果（貼付）'!$A:$Z,MATCH($A18,'[1]決勝ヒート - レース結果（貼付）'!$A:$A,0),MATCH('決勝ヒート - レース暫定結果表'!S$11,'[1]決勝ヒート - レース結果（貼付）'!$1:$1,0)),"")) | U18: =IF(IFERROR(INDEX('[1]決勝ヒート - レース結果（貼付）'!$A:$Z,MATCH($B18,'[1]決勝ヒート - レース結果（貼付）'!$B:$B,0),MATCH('決勝ヒート - レース暫定結果表'!U$11,'[1]決勝ヒート - レース結果（貼付）'!$1:$1,0)),"")=0,"",IFERROR(INDEX('[1]決勝ヒート - レース結果（貼付）'!$A:$Z,MATCH($B18,'[1]決勝ヒート - レース結果（貼付）'!$B:$B,0),MATCH('決勝ヒート - レース暫定結果表'!U$11,'[1]決勝ヒート - レース結果（貼付）'!$1:$1,0)),"")) -> 72.66
A19: =IF(OR('[1]決勝ヒート - レース結果（貼付）'!A8="DNF",'[1]決勝ヒート - レース結果（貼付）'!A8="DNS",'[1]決勝ヒート - レース結果（貼付）'!A8="DQ"),'[1]決勝ヒート - レース結果（貼付）'!A8,IF(MAX('[1]決勝ヒート - レース結果（貼付）'!A:A)>A18,A18+1,"")) -> 7 | B19: =IFERROR(INDEX('[1]決勝ヒート - レース結果（貼付）'!A8:$Z$50,MATCH($A19,'[1]決勝ヒート - レース結果（貼付）'!A8:$A$50,0),MATCH('決勝ヒート - レース暫定結果表'!B$11,'[1]決勝ヒート - レース結果（貼付）'!$1:$1,0)),"") -> 55 | D19: =IFERROR(INDEX('[1]決勝ヒート - レース結果（貼付）'!$A:$Z,MATCH($B19,'[1]決勝ヒート - レース結果（貼付）'!$B:$B,0),MATCH('決勝ヒート - レース暫定結果表'!D$11,'[1]決勝ヒート - レース結果（貼付）'!$1:$1,0)),"") -> 大井 偉史 | E19: =IFERROR(INDEX('[1]決勝ヒート - レース結果（貼付）'!$A:$Z,MATCH($B19,'[1]決勝ヒート - レース結果（貼付）'!$B:$B,0),MATCH('決勝ヒート - レース暫定結果表'!E$11,'[1]決勝ヒート - レース結果（貼付）'!$1:$1,0)),"") -> GILLARD TG17/YAMAHA | F19: =IFERROR(INDEX('[1]決勝ヒート - レース結果（貼付）'!$A:$Z,MATCH($B19,'[1]決勝ヒート - レース結果（貼付）'!$B:$B,0),MATCH('決勝ヒート - レース暫定結果表'!F$11,'[1]決勝ヒート - レース結果（貼付）'!$1:$1,0)),"") -> Vifonte with Ash | G19: =IFERROR(INDEX('[1]決勝ヒート - レース結果（貼付）'!$A:$Z,MATCH($B19,'[1]決勝ヒート - レース結果（貼付）'!$B:$B,0),MATCH('決勝ヒート - レース暫定結果表'!G$11,'[1]決勝ヒート - レース結果（貼付）'!$1:$1,0)),"") -> BS | H19: =IF(A19="DNS","",IF(A19="DQ","",IFERROR(INDEX('[1]決勝ヒート - レース結果（貼付）'!$A:$Z,MATCH($B19,'[1]決勝ヒート - レース結果（貼付）'!$B:$B,0),MATCH('決勝ヒート - レース暫定結果表'!H$11,'[1]決勝ヒート - レース結果（貼付）'!$1:$1,0)),""))) -> 22 | I19: =IF(A19="DNS","ｽﾀｰﾄ出来ず",IF(A19="DQ","失 格",IFERROR(INDEX('[1]決勝ヒート - レース結果（貼付）'!$A:$Z,MATCH($B19,'[1]決勝ヒート - レース結果（貼付）'!$B:$B,0),MATCH('決勝ヒート - レース暫定結果表'!I$11,'[1]決勝ヒート - レース結果（貼付）'!$1:$1,0)),""))) -> 0.016180856 | J19: =IF(A19="DNS","",IF(A19="DQ","",IFERROR(INDEX('[1]決勝ヒート - レース結果（貼付）'!$A:$Z,MATCH($B19,'[1]決勝ヒート - レース結果（貼付）'!$B:$B,0),MATCH('決勝ヒート - レース暫定結果表'!J$11,'[1]決勝ヒート - レース結果（貼付）'!$1:$1,0)),""))) -> 14.366 | K19: =IF(A19="DNS","",IF(A19="DQ","",IFERROR(INDEX('[1]決勝ヒート - レース結果（貼付）'!$A:$Z,MATCH($B19,'[1]決勝ヒート - レース結果（貼付）'!$B:$B,0),MATCH('決勝ヒート - レース暫定結果表'!K$11,'[1]決勝ヒート - レース結果（貼付）'!$1:$1,0)),""))) -> 2.561 | L19: =IF(A19="DNS","",IF(A19="DQ","",IFERROR(INDEX('[1]決勝ヒート - レース結果（貼付）'!$A:$Z,MATCH($B19,'[1]決勝ヒート - レース結果（貼付）'!$B:$B,0),MATCH('決勝ヒート - レース暫定結果表'!L$11,'[1]決勝ヒート - レース結果（貼付）'!$1:$1,0)),""))) -> 0.00072710648 | M19: =IF(L19<1,"",IF($M$11>L19,"R","")) | P19: =IF(IFERROR(INDEX('[1]決勝ヒート - レース結果（貼付）'!$A:$Z,MATCH($A19,'[1]決勝ヒート - レース結果（貼付）'!$A:$A,0),MATCH('決勝ヒート - レース暫定結果表'!P$11,'[1]決勝ヒート - レース結果（貼付）'!$1:$1,0)),"")=0,"",IFERROR(INDEX('[1]決勝ヒート - レース結果（貼付）'!$A:$Z,MATCH($A19,'[1]決勝ヒート - レース結果（貼付）'!$A:$A,0),MATCH('決勝ヒート - レース暫定結果表'!P$11,'[1]決勝ヒート - レース結果（貼付）'!$1:$1,0)),"")) | Q19: =IF(P19="","",COUNTIF($P$13:P19,"<>"&"")) | R19: =IFERROR(RANK(Q19,$Q$13:$Q$47,1),"") | S19: =IF(IFERROR(INDEX('[1]決勝ヒート - レース結果（貼付）'!$A:$Z,MATCH($A19,'[1]決勝ヒート - レース結果（貼付）'!$A:$A,0),MATCH('決勝ヒート - レース暫定結果表'!S$11,'[1]決勝ヒート - レース結果（貼付）'!$1:$1,0)),"")=0,"",IFERROR(INDEX('[1]決勝ヒート - レース結果（貼付）'!$A:$Z,MATCH($A19,'[1]決勝ヒート - レース結果（貼付）'!$A:$A,0),MATCH('決勝ヒート - レース暫定結果表'!S$11,'[1]決勝ヒート - レース結果（貼付）'!$1:$1,0)),"")) | U19: =IF(IFERROR(INDEX('[1]決勝ヒート - レース結果（貼付）'!$A:$Z,MATCH($B19,'[1]決勝ヒート - レース結果（貼付）'!$B:$B,0),MATCH('決勝ヒート - レース暫定結果表'!U$11,'[1]決勝ヒート - レース結果（貼付）'!$1:$1,0)),"")=0,"",IFERROR(INDEX('[1]決勝ヒート - レース結果（貼付）'!$A:$Z,MATCH($B19,'[1]決勝ヒート - レース結果（貼付）'!$B:$B,0),MATCH('決勝ヒート - レース暫定結果表'!U$11,'[1]決勝ヒート - レース結果（貼付）'!$1:$1,0)),"")) -> 72.462
A20: =IF(OR('[1]決勝ヒート - レース結果（貼付）'!A9="DNF",'[1]決勝ヒート - レース結果（貼付）'!A9="DNS",'[1]決勝ヒート - レース結果（貼付）'!A9="DQ"),'[1]決勝ヒート - レース結果（貼付）'!A9,IF(MAX('[1]決勝ヒート - レース結果（貼付）'!A:A)>A19,A19+1,"")) -> 8 | B20: =IFERROR(INDEX('[1]決勝ヒート - レース結果（貼付）'!A9:$Z$50,MATCH($A20,'[1]決勝ヒート - レース結果（貼付）'!A9:$A$50,0),MATCH('決勝ヒート - レース暫定結果表'!B$11,'[1]決勝ヒート - レース結果（貼付）'!$1:$1,0)),"") -> 61 | D20: =IFERROR(INDEX('[1]決勝ヒート - レース結果（貼付）'!$A:$Z,MATCH($B20,'[1]決勝ヒート - レース結果（貼付）'!$B:$B,0),MATCH('決勝ヒート - レース暫定結果表'!D$11,'[1]決勝ヒート - レース結果（貼付）'!$1:$1,0)),"") -> 寺島 知毅 | E20: =IFERROR(INDEX('[1]決勝ヒート - レース結果（貼付）'!$A:$Z,MATCH($B20,'[1]決勝ヒート - レース結果（貼付）'!$B:$B,0),MATCH('決勝ヒート - レース暫定結果表'!E$11,'[1]決勝ヒート - レース結果（貼付）'!$1:$1,0)),"") -> TONY KART/YAMAHA | F20: =IFERROR(INDEX('[1]決勝ヒート - レース結果（貼付）'!$A:$Z,MATCH($B20,'[1]決勝ヒート - レース結果（貼付）'!$B:$B,0),MATCH('決勝ヒート - レース暫定結果表'!F$11,'[1]決勝ヒート - レース結果（貼付）'!$1:$1,0)),"") -> 松本レーシング | G20: =IFERROR(INDEX('[1]決勝ヒート - レース結果（貼付）'!$A:$Z,MATCH($B20,'[1]決勝ヒート - レース結果（貼付）'!$B:$B,0),MATCH('決勝ヒート - レース暫定結果表'!G$11,'[1]決勝ヒート - レース結果（貼付）'!$1:$1,0)),"") -> BS | H20: =IF(A20="DNS","",IF(A20="DQ","",IFERROR(INDEX('[1]決勝ヒート - レース結果（貼付）'!$A:$Z,MATCH($B20,'[1]決勝ヒート - レース結果（貼付）'!$B:$B,0),MATCH('決勝ヒート - レース暫定結果表'!H$11,'[1]決勝ヒート - レース結果（貼付）'!$1:$1,0)),""))) -> 22 | I20: =IF(A20="DNS","ｽﾀｰﾄ出来ず",IF(A20="DQ","失 格",IFERROR(INDEX('[1]決勝ヒート - レース結果（貼付）'!$A:$Z,MATCH($B20,'[1]決勝ヒート - レース結果（貼付）'!$B:$B,0),MATCH('決勝ヒート - レース暫定結果表'!I$11,'[1]決勝ヒート - レース結果（貼付）'!$1:$1,0)),""))) -> 0.016184236 | J20: =IF(A20="DNS","",IF(A20="DQ","",IFERROR(INDEX('[1]決勝ヒート - レース結果（貼付）'!$A:$Z,MATCH($B20,'[1]決勝ヒート - レース結果（貼付）'!$B:$B,0),MATCH('決勝ヒート - レース暫定結果表'!J$11,'[1]決勝ヒート - レース結果（貼付）'!$1:$1,0)),""))) -> 14.658 | K20: =IF(A20="DNS","",IF(A20="DQ","",IFERROR(INDEX('[1]決勝ヒート - レース結果（貼付）'!$A:$Z,MATCH($B20,'[1]決勝ヒート - レース結果（貼付）'!$B:$B,0),MATCH('決勝ヒート - レース暫定結果表'!K$11,'[1]決勝ヒート - レース結果（貼付）'!$1:$1,0)),""))) -> 0.292 | L20: =IF(A20="DNS","",IF(A20="DQ","",IFERROR(INDEX('[1]決勝ヒート - レース結果（貼付）'!$A:$Z,MATCH($B20,'[1]決勝ヒート - レース結果（貼付）'!$B:$B,0),MATCH('決勝ヒート - レース暫定結果表'!L$11,'[1]決勝ヒート - レース結果（貼付）'!$1:$1,0)),""))) -> 0.00072659722 | M20: =IF(L20<1,"",IF($M$11>L20,"R","")) | P20: =IF(IFERROR(INDEX('[1]決勝ヒート - レース結果（貼付）'!$A:$Z,MATCH($A20,'[1]決勝ヒート - レース結果（貼付）'!$A:$A,0),MATCH('決勝ヒート - レース暫定結果表'!P$11,'[1]決勝ヒート - レース結果（貼付）'!$1:$1,0)),"")=0,"",IFERROR(INDEX('[1]決勝ヒート - レース結果（貼付）'!$A:$Z,MATCH($A20,'[1]決勝ヒート - レース結果（貼付）'!$A:$A,0),MATCH('決勝ヒート - レース暫定結果表'!P$11,'[1]決勝ヒート - レース結果（貼付）'!$1:$1,0)),"")) -> 全日本カート選手権 統一規則 第38条(25)(フロントフェアリングが正しい装着状態でない)により5秒加算した。 | Q20: =IF(P20="","",COUNTIF($P$13:P20,"<>"&"")) -> 8 | R20: =IFERROR(RANK(Q20,$Q$13:$Q$47,1),"") -> 1 | S20: =IF(IFERROR(INDEX('[1]決勝ヒート - レース結果（貼付）'!$A:$Z,MATCH($A20,'[1]決勝ヒート - レース結果（貼付）'!$A:$A,0),MATCH('決勝ヒート - レース暫定結果表'!S$11,'[1]決勝ヒート - レース結果（貼付）'!$1:$1,0)),"")=0,"",IFERROR(INDEX('[1]決勝ヒート - レース結果（貼付）'!$A:$Z,MATCH($A20,'[1]決勝ヒート - レース結果（貼付）'!$A:$A,0),MATCH('決勝ヒート - レース暫定結果表'!S$11,'[1]決勝ヒート - レース結果（貼付）'!$1:$1,0)),"")) | U20: =IF(IFERROR(INDEX('[1]決勝ヒート - レース結果（貼付）'!$A:$Z,MATCH($B20,'[1]決勝ヒート - レース結果（貼付）'!$B:$B,0),MATCH('決勝ヒート - レース暫定結果表'!U$11,'[1]決勝ヒート - レース結果（貼付）'!$1:$1,0)),"")=0,"",IFERROR(INDEX('[1]決勝ヒート - レース結果（貼付）'!$A:$Z,MATCH($B20,'[1]決勝ヒート - レース結果（貼付）'!$B:$B,0),MATCH('決勝ヒート - レース暫定結果表'!U$11,'[1]決勝ヒート - レース結果（貼付）'!$1:$1,0)),"")) -> 72.579
A21: =IF(OR('[1]決勝ヒート - レース結果（貼付）'!A10="DNF",'[1]決勝ヒート - レース結果（貼付）'!A10="DNS",'[1]決勝ヒート - レース結果（貼付）'!A10="DQ"),'[1]決勝ヒート - レース結果（貼付）'!A10,IF(MAX('[1]決勝ヒート - レース結果（貼付）'!A:A)>A20,A20+1,"")) -> 9 | B21: =IFERROR(INDEX('[1]決勝ヒート - レース結果（貼付）'!A10:$Z$50,MATCH($A21,'[1]決勝ヒート - レース結果（貼付）'!A10:$A$50,0),MATCH('決勝ヒート - レース暫定結果表'!B$11,'[1]決勝ヒート - レース結果（貼付）'!$1:$1,0)),"") -> 17 | D21: =IFERROR(INDEX('[1]決勝ヒート - レース結果（貼付）'!$A:$Z,MATCH($B21,'[1]決勝ヒート - レース結果（貼付）'!$B:$B,0),MATCH('決勝ヒート - レース暫定結果表'!D$11,'[1]決勝ヒート - レース結果（貼付）'!$1:$1,0)),"") -> 坂 裕之 | E21: =IFERROR(INDEX('[1]決勝ヒート - レース結果（貼付）'!$A:$Z,MATCH($B21,'[1]決勝ヒート - レース結果（貼付）'!$B:$B,0),MATCH('決勝ヒート - レース暫定結果表'!E$11,'[1]決勝ヒート - レース結果（貼付）'!$1:$1,0)),"") -> SWF/YAMAHA | F21: =IFERROR(INDEX('[1]決勝ヒート - レース結果（貼付）'!$A:$Z,MATCH($B21,'[1]決勝ヒート - レース結果（貼付）'!$B:$B,0),MATCH('決勝ヒート - レース暫定結果表'!F$11,'[1]決勝ヒート - レース結果（貼付）'!$1:$1,0)),"") -> のりものクラブTIGRE | G21: =IFERROR(INDEX('[1]決勝ヒート - レース結果（貼付）'!$A:$Z,MATCH($B21,'[1]決勝ヒート - レース結果（貼付）'!$B:$B,0),MATCH('決勝ヒート - レース暫定結果表'!G$11,'[1]決勝ヒート - レース結果（貼付）'!$1:$1,0)),"") -> BS | H21: =IF(A21="DNS","",IF(A21="DQ","",IFERROR(INDEX('[1]決勝ヒート - レース結果（貼付）'!$A:$Z,MATCH($B21,'[1]決勝ヒート - レース結果（貼付）'!$B:$B,0),MATCH('決勝ヒート - レース暫定結果表'!H$11,'[1]決勝ヒート - レース結果（貼付）'!$1:$1,0)),""))) -> 22 | I21: =IF(A21="DNS","ｽﾀｰﾄ出来ず",IF(A21="DQ","失 格",IFERROR(INDEX('[1]決勝ヒート - レース結果（貼付）'!$A:$Z,MATCH($B21,'[1]決勝ヒート - レース結果（貼付）'!$B:$B,0),MATCH('決勝ヒート - レース暫定結果表'!I$11,'[1]決勝ヒート - レース結果（貼付）'!$1:$1,0)),""))) -> 0.016203646 | J21: =IF(A21="DNS","",IF(A21="DQ","",IFERROR(INDEX('[1]決勝ヒート - レース結果（貼付）'!$A:$Z,MATCH($B21,'[1]決勝ヒート - レース結果（貼付）'!$B:$B,0),MATCH('決勝ヒート - レース暫定結果表'!J$11,'[1]決勝ヒート - レース結果（貼付）'!$1:$1,0)),""))) -> 16.335 | K21: =IF(A21="DNS","",IF(A21="DQ","",IFERROR(INDEX('[1]決勝ヒート - レース結果（貼付）'!$A:$Z,MATCH($B21,'[1]決勝ヒート - レース結果（貼付）'!$B:$B,0),MATCH('決勝ヒート - レース暫定結果表'!K$11,'[1]決勝ヒート - レース結果（貼付）'!$1:$1,0)),""))) -> 1.677 | L21: =IF(A21="DNS","",IF(A21="DQ","",IFERROR(INDEX('[1]決勝ヒート - レース結果（貼付）'!$A:$Z,MATCH($B21,'[1]決勝ヒート - レース結果（貼付）'!$B:$B,0),MATCH('決勝ヒート - レース暫定結果表'!L$11,'[1]決勝ヒート - レース結果（貼付）'!$1:$1,0)),""))) -> 0.00072854167 | M21: =IF(L21<1,"",IF($M$11>L21,"R","")) | P21: =IF(IFERROR(INDEX('[1]決勝ヒート - レース結果（貼付）'!$A:$Z,MATCH($A21,'[1]決勝ヒート - レース結果（貼付）'!$A:$A,0),MATCH('決勝ヒート - レース暫定結果表'!P$11,'[1]決勝ヒート - レース結果（貼付）'!$1:$1,0)),"")=0,"",IFERROR(INDEX('[1]決勝ヒート - レース結果（貼付）'!$A:$Z,MATCH($A21,'[1]決勝ヒート - レース結果（貼付）'!$A:$A,0),MATCH('決勝ヒート - レース暫定結果表'!P$11,'[1]決勝ヒート - レース結果（貼付）'!$1:$1,0)),"")) | Q21: =IF(P21="","",COUNTIF($P$13:P21,"<>"&"")) | R21: =IFERROR(RANK(Q21,$Q$13:$Q$47,1),"") | S21: =IF(IFERROR(INDEX('[1]決勝ヒート - レース結果（貼付）'!$A:$Z,MATCH($A21,'[1]決勝ヒート - レース結果（貼付）'!$A:$A,0),MATCH('決勝ヒート - レース暫定結果表'!S$11,'[1]決勝ヒート - レース結果（貼付）'!$1:$1,0)),"")=0,"",IFERROR(INDEX('[1]決勝ヒート - レース結果（貼付）'!$A:$Z,MATCH($A21,'[1]決勝ヒート - レース結果（貼付）'!$A:$A,0),MATCH('決勝ヒート - レース暫定結果表'!S$11,'[1]決勝ヒート - レース結果（貼付）'!$1:$1,0)),"")) | U21: =IF(IFERROR(INDEX('[1]決勝ヒート - レース結果（貼付）'!$A:$Z,MATCH($B21,'[1]決勝ヒート - レース結果（貼付）'!$B:$B,0),MATCH('決勝ヒート - レース暫定結果表'!U$11,'[1]決勝ヒート - レース結果（貼付）'!$1:$1,0)),"")=0,"",IFERROR(INDEX('[1]決勝ヒート - レース結果（貼付）'!$A:$Z,MATCH($B21,'[1]決勝ヒート - レース結果（貼付）'!$B:$B,0),MATCH('決勝ヒート - レース暫定結果表'!U$11,'[1]決勝ヒート - レース結果（貼付）'!$1:$1,0)),"")) -> 72.433
A22: =IF(OR('[1]決勝ヒート - レース結果（貼付）'!A11="DNF",'[1]決勝ヒート - レース結果（貼付）'!A11="DNS",'[1]決勝ヒート - レース結果（貼付）'!A11="DQ"),'[1]決勝ヒート - レース結果（貼付）'!A11,IF(MAX('[1]決勝ヒート - レース結果（貼付）'!A:A)>A21,A21+1,"")) -> 10 | B22: =IFERROR(INDEX('[1]決勝ヒート - レース結果（貼付）'!A11:$Z$50,MATCH($A22,'[1]決勝ヒート - レース結果（貼付）'!A11:$A$50,0),MATCH('決勝ヒート - レース暫定結果表'!B$11,'[1]決勝ヒート - レース結果（貼付）'!$1:$1,0)),"") -> 21 | D22: =IFERROR(INDEX('[1]決勝ヒート - レース結果（貼付）'!$A:$Z,MATCH($B22,'[1]決勝ヒート - レース結果（貼付）'!$B:$B,0),MATCH('決勝ヒート - レース暫定結果表'!D$11,'[1]決勝ヒート - レース結果（貼付）'!$1:$1,0)),"") -> 森川 貴光 | E22: =IFERROR(INDEX('[1]決勝ヒート - レース結果（貼付）'!$A:$Z,MATCH($B22,'[1]決勝ヒート - レース結果（貼付）'!$B:$B,0),MATCH('決勝ヒート - レース暫定結果表'!E$11,'[1]決勝ヒート - レース結果（貼付）'!$1:$1,0)),"") -> KOSMIC/YAMAHA | F22: =IFERROR(INDEX('[1]決勝ヒート - レース結果（貼付）'!$A:$Z,MATCH($B22,'[1]決勝ヒート - レース結果（貼付）'!$B:$B,0),MATCH('決勝ヒート - レース暫定結果表'!F$11,'[1]決勝ヒート - レース結果（貼付）'!$1:$1,0)),"") -> HIRAI PROJECT with Ash | G22: =IFERROR(INDEX('[1]決勝ヒート - レース結果（貼付）'!$A:$Z,MATCH($B22,'[1]決勝ヒート - レース結果（貼付）'!$B:$B,0),MATCH('決勝ヒート - レース暫定結果表'!G$11,'[1]決勝ヒート - レース結果（貼付）'!$1:$1,0)),"") -> BS | H22: =IF(A22="DNS","",IF(A22="DQ","",IFERROR(INDEX('[1]決勝ヒート - レース結果（貼付）'!$A:$Z,MATCH($B22,'[1]決勝ヒート - レース結果（貼付）'!$B:$B,0),MATCH('決勝ヒート - レース暫定結果表'!H$11,'[1]決勝ヒート - レース結果（貼付）'!$1:$1,0)),""))) -> 22 | I22: =IF(A22="DNS","ｽﾀｰﾄ出来ず",IF(A22="DQ","失 格",IFERROR(INDEX('[1]決勝ヒート - レース結果（貼付）'!$A:$Z,MATCH($B22,'[1]決勝ヒート - レース結果（貼付）'!$B:$B,0),MATCH('決勝ヒート - レース暫定結果表'!I$11,'[1]決勝ヒート - レース結果（貼付）'!$1:$1,0)),""))) -> 0.016223831 | J22: =IF(A22="DNS","",IF(A22="DQ","",IFERROR(INDEX('[1]決勝ヒート - レース結果（貼付）'!$A:$Z,MATCH($B22,'[1]決勝ヒート - レース結果（貼付）'!$B:$B,0),MATCH('決勝ヒート - レース暫定結果表'!J$11,'[1]決勝ヒート - レース結果（貼付）'!$1:$1,0)),""))) -> 18.079 | K22: =IF(A22="DNS","",IF(A22="DQ","",IFERROR(INDEX('[1]決勝ヒート - レース結果（貼付）'!$A:$Z,MATCH($B22,'[1]決勝ヒート - レース結果（貼付）'!$B:$B,0),MATCH('決勝ヒート - レース暫定結果表'!K$11,'[1]決勝ヒート - レース結果（貼付）'!$1:$1,0)),""))) -> 1.744 | L22: =IF(A22="DNS","",IF(A22="DQ","",IFERROR(INDEX('[1]決勝ヒート - レース結果（貼付）'!$A:$Z,MATCH($B22,'[1]決勝ヒート - レース結果（貼付）'!$B:$B,0),MATCH('決勝ヒート - レース暫定結果表'!L$11,'[1]決勝ヒート - レース結果（貼付）'!$1:$1,0)),""))) -> 0.00072564815 | M22: =IF(L22<1,"",IF($M$11>L22,"R","")) | P22: =IF(IFERROR(INDEX('[1]決勝ヒート - レース結果（貼付）'!$A:$Z,MATCH($A22,'[1]決勝ヒート - レース結果（貼付）'!$A:$A,0),MATCH('決勝ヒート - レース暫定結果表'!P$11,'[1]決勝ヒート - レース結果（貼付）'!$1:$1,0)),"")=0,"",IFERROR(INDEX('[1]決勝ヒート - レース結果（貼付）'!$A:$Z,MATCH($A22,'[1]決勝ヒート - レース結果（貼付）'!$A:$A,0),MATCH('決勝ヒート - レース暫定結果表'!P$11,'[1]決勝ヒート - レース結果（貼付）'!$1:$1,0)),"")) -> 全日本カート選手権 統一規則 第38条(25)(フロントフェアリングが正しい装着状態でない)により5秒加算した。 | Q22: =IF(P22="","",COUNTIF($P$13:P22,"<>"&"")) -> 10 | R22: =IFERROR(RANK(Q22,$Q$13:$Q$47,1),"") -> 2 | S22: =IF(IFERROR(INDEX('[1]決勝ヒート - レース結果（貼付）'!$A:$Z,MATCH($A22,'[1]決勝ヒート - レース結果（貼付）'!$A:$A,0),MATCH('決勝ヒート - レース暫定結果表'!S$11,'[1]決勝ヒート - レース結果（貼付）'!$1:$1,0)),"")=0,"",IFERROR(INDEX('[1]決勝ヒート - レース結果（貼付）'!$A:$Z,MATCH($A22,'[1]決勝ヒート - レース結果（貼付）'!$A:$A,0),MATCH('決勝ヒート - レース暫定結果表'!S$11,'[1]決勝ヒート - レース結果（貼付）'!$1:$1,0)),"")) | U22: =IF(IFERROR(INDEX('[1]決勝ヒート - レース結果（貼付）'!$A:$Z,MATCH($B22,'[1]決勝ヒート - レース結果（貼付）'!$B:$B,0),MATCH('決勝ヒート - レース暫定結果表'!U$11,'[1]決勝ヒート - レース結果（貼付）'!$1:$1,0)),"")=0,"",IFERROR(INDEX('[1]決勝ヒート - レース結果（貼付）'!$A:$Z,MATCH($B22,'[1]決勝ヒート - レース結果（貼付）'!$B:$B,0),MATCH('決勝ヒート - レース暫定結果表'!U$11,'[1]決勝ヒート - レース結果（貼付）'!$1:$1,0)),"")) -> 72.291
A23: =IF(OR('[1]決勝ヒート - レース結果（貼付）'!A12="DNF",'[1]決勝ヒート - レース結果（貼付）'!A12="DNS",'[1]決勝ヒート - レース結果（貼付）'!A12="DQ"),'[1]決勝ヒート - レース結果（貼付）'!A12,IF(MAX('[1]決勝ヒート - レース結果（貼付）'!A:A)>A22,A22+1,"")) -> 11 | B23: =IFERROR(INDEX('[1]決勝ヒート - レース結果（貼付）'!A12:$Z$50,MATCH($A23,'[1]決勝ヒート - レース結果（貼付）'!A12:$A$50,0),MATCH('決勝ヒート - レース暫定結果表'!B$11,'[1]決勝ヒート - レース結果（貼付）'!$1:$1,0)),"") -> 15 | D23: =IFERROR(INDEX('[1]決勝ヒート - レース結果（貼付）'!$A:$Z,MATCH($B23,'[1]決勝ヒート - レース結果（貼付）'!$B:$B,0),MATCH('決勝ヒート - レース暫定結果表'!D$11,'[1]決勝ヒート - レース結果（貼付）'!$1:$1,0)),"") -> 髙田 陽大 | E23: =IFERROR(INDEX('[1]決勝ヒート - レース結果（貼付）'!$A:$Z,MATCH($B23,'[1]決勝ヒート - レース結果（貼付）'!$B:$B,0),MATCH('決勝ヒート - レース暫定結果表'!E$11,'[1]決勝ヒート - レース結果（貼付）'!$1:$1,0)),"") -> Birel ART/YAMAHA | F23: =IFERROR(INDEX('[1]決勝ヒート - レース結果（貼付）'!$A:$Z,MATCH($B23,'[1]決勝ヒート - レース結果（貼付）'!$B:$B,0),MATCH('決勝ヒート - レース暫定結果表'!F$11,'[1]決勝ヒート - レース結果（貼付）'!$1:$1,0)),"") -> Super Racing Junkie! | G23: =IFERROR(INDEX('[1]決勝ヒート - レース結果（貼付）'!$A:$Z,MATCH($B23,'[1]決勝ヒート - レース結果（貼付）'!$B:$B,0),MATCH('決勝ヒート - レース暫定結果表'!G$11,'[1]決勝ヒート - レース結果（貼付）'!$1:$1,0)),"") -> BS | H23: =IF(A23="DNS","",IF(A23="DQ","",IFERROR(INDEX('[1]決勝ヒート - レース結果（貼付）'!$A:$Z,MATCH($B23,'[1]決勝ヒート - レース結果（貼付）'!$B:$B,0),MATCH('決勝ヒート - レース暫定結果表'!H$11,'[1]決勝ヒート - レース結果（貼付）'!$1:$1,0)),""))) -> 22 | I23: =IF(A23="DNS","ｽﾀｰﾄ出来ず",IF(A23="DQ","失 格",IFERROR(INDEX('[1]決勝ヒート - レース結果（貼付）'!$A:$Z,MATCH($B23,'[1]決勝ヒート - レース結果（貼付）'!$B:$B,0),MATCH('決勝ヒート - レース暫定結果表'!I$11,'[1]決勝ヒート - レース結果（貼付）'!$1:$1,0)),""))) -> 0.016230741 | J23: =IF(A23="DNS","",IF(A23="DQ","",IFERROR(INDEX('[1]決勝ヒート - レース結果（貼付）'!$A:$Z,MATCH($B23,'[1]決勝ヒート - レース結果（貼付）'!$B:$B,0),MATCH('決勝ヒート - レース暫定結果表'!J$11,'[1]決勝ヒート - レース結果（貼付）'!$1:$1,0)),""))) -> 18.676 | K23: =IF(A23="DNS","",IF(A23="DQ","",IFERROR(INDEX('[1]決勝ヒート - レース結果（貼付）'!$A:$Z,MATCH($B23,'[1]決勝ヒート - レース結果（貼付）'!$B:$B,0),MATCH('決勝ヒート - レース暫定結果表'!K$11,'[1]決勝ヒート - レース結果（貼付）'!$1:$1,0)),""))) -> 0.597 | L23: =IF(A23="DNS","",IF(A23="DQ","",IFERROR(INDEX('[1]決勝ヒート - レース結果（貼付）'!$A:$Z,MATCH($B23,'[1]決勝ヒート - レース結果（貼付）'!$B:$B,0),MATCH('決勝ヒート - レース暫定結果表'!L$11,'[1]決勝ヒート - レース結果（貼付）'!$1:$1,0)),""))) -> 0.00073128472 | M23: =IF(L23<1,"",IF($M$11>L23,"R","")) | P23: =IF(IFERROR(INDEX('[1]決勝ヒート - レース結果（貼付）'!$A:$Z,MATCH($A23,'[1]決勝ヒート - レース結果（貼付）'!$A:$A,0),MATCH('決勝ヒート - レース暫定結果表'!P$11,'[1]決勝ヒート - レース結果（貼付）'!$1:$1,0)),"")=0,"",IFERROR(INDEX('[1]決勝ヒート - レース結果（貼付）'!$A:$Z,MATCH($A23,'[1]決勝ヒート - レース結果（貼付）'!$A:$A,0),MATCH('決勝ヒート - レース暫定結果表'!P$11,'[1]決勝ヒート - レース結果（貼付）'!$1:$1,0)),"")) | Q23: =IF(P23="","",COUNTIF($P$13:P23,"<>"&"")) | R23: =IFERROR(RANK(Q23,$Q$13:$Q$47,1),"") | S23: =IF(IFERROR(INDEX('[1]決勝ヒート - レース結果（貼付）'!$A:$Z,MATCH($A23,'[1]決勝ヒート - レース結果（貼付）'!$A:$A,0),MATCH('決勝ヒート - レース暫定結果表'!S$11,'[1]決勝ヒート - レース結果（貼付）'!$1:$1,0)),"")=0,"",IFERROR(INDEX('[1]決勝ヒート - レース結果（貼付）'!$A:$Z,MATCH($A23,'[1]決勝ヒート - レース結果（貼付）'!$A:$A,0),MATCH('決勝ヒート - レース暫定結果表'!S$11,'[1]決勝ヒート - レース結果（貼付）'!$1:$1,0)),"")) | U23: =IF(IFERROR(INDEX('[1]決勝ヒート - レース結果（貼付）'!$A:$Z,MATCH($B23,'[1]決勝ヒート - レース結果（貼付）'!$B:$B,0),MATCH('決勝ヒート - レース暫定結果表'!U$11,'[1]決勝ヒート - レース結果（貼付）'!$1:$1,0)),"")=0,"",IFERROR(INDEX('[1]決勝ヒート - レース結果（貼付）'!$A:$Z,MATCH($B23,'[1]決勝ヒート - レース結果（貼付）'!$B:$B,0),MATCH('決勝ヒート - レース暫定結果表'!U$11,'[1]決勝ヒート - レース結果（貼付）'!$1:$1,0)),"")) -> 72.295
A24: =IF(OR('[1]決勝ヒート - レース結果（貼付）'!A13="DNF",'[1]決勝ヒート - レース結果（貼付）'!A13="DNS",'[1]決勝ヒート - レース結果（貼付）'!A13="DQ"),'[1]決勝ヒート - レース結果（貼付）'!A13,IF(MAX('[1]決勝ヒート - レース結果（貼付）'!A:A)>A23,A23+1,"")) -> 12 | B24: =IFERROR(INDEX('[1]決勝ヒート - レース結果（貼付）'!A13:$Z$50,MATCH($A24,'[1]決勝ヒート - レース結果（貼付）'!A13:$A$50,0),MATCH('決勝ヒート - レース暫定結果表'!B$11,'[1]決勝ヒート - レース結果（貼付）'!$1:$1,0)),"") -> 37 | D24: =IFERROR(INDEX('[1]決勝ヒート - レース結果（貼付）'!$A:$Z,MATCH($B24,'[1]決勝ヒート - レース結果（貼付）'!$B:$B,0),MATCH('決勝ヒート - レース暫定結果表'!D$11,'[1]決勝ヒート - レース結果（貼付）'!$1:$1,0)),"") -> 佐藤 琉葵 | E24: =IFERROR(INDEX('[1]決勝ヒート - レース結果（貼付）'!$A:$Z,MATCH($B24,'[1]決勝ヒート - レース結果（貼付）'!$B:$B,0),MATCH('決勝ヒート - レース暫定結果表'!E$11,'[1]決勝ヒート - レース結果（貼付）'!$1:$1,0)),"") -> LN KART/YAMAHA | F24: =IFERROR(INDEX('[1]決勝ヒート - レース結果（貼付）'!$A:$Z,MATCH($B24,'[1]決勝ヒート - レース結果（貼付）'!$B:$B,0),MATCH('決勝ヒート - レース暫定結果表'!F$11,'[1]決勝ヒート - レース結果（貼付）'!$1:$1,0)),"") -> DSM | G24: =IFERROR(INDEX('[1]決勝ヒート - レース結果（貼付）'!$A:$Z,MATCH($B24,'[1]決勝ヒート - レース結果（貼付）'!$B:$B,0),MATCH('決勝ヒート - レース暫定結果表'!G$11,'[1]決勝ヒート - レース結果（貼付）'!$1:$1,0)),"") -> BS | H24: =IF(A24="DNS","",IF(A24="DQ","",IFERROR(INDEX('[1]決勝ヒート - レース結果（貼付）'!$A:$Z,MATCH($B24,'[1]決勝ヒート - レース結果（貼付）'!$B:$B,0),MATCH('決勝ヒート - レース暫定結果表'!H$11,'[1]決勝ヒート - レース結果（貼付）'!$1:$1,0)),""))) -> 22 | I24: =IF(A24="DNS","ｽﾀｰﾄ出来ず",IF(A24="DQ","失 格",IFERROR(INDEX('[1]決勝ヒート - レース結果（貼付）'!$A:$Z,MATCH($B24,'[1]決勝ヒート - レース結果（貼付）'!$B:$B,0),MATCH('決勝ヒート - レース暫定結果表'!I$11,'[1]決勝ヒート - レース結果（貼付）'!$1:$1,0)),""))) -> 0.016235683 | J24: =IF(A24="DNS","",IF(A24="DQ","",IFERROR(INDEX('[1]決勝ヒート - レース結果（貼付）'!$A:$Z,MATCH($B24,'[1]決勝ヒート - レース結果（貼付）'!$B:$B,0),MATCH('決勝ヒート - レース暫定結果表'!J$11,'[1]決勝ヒート - レース結果（貼付）'!$1:$1,0)),""))) -> 19.103 | K24: =IF(A24="DNS","",IF(A24="DQ","",IFERROR(INDEX('[1]決勝ヒート - レース結果（貼付）'!$A:$Z,MATCH($B24,'[1]決勝ヒート - レース結果（貼付）'!$B:$B,0),MATCH('決勝ヒート - レース暫定結果表'!K$11,'[1]決勝ヒート - レース結果（貼付）'!$1:$1,0)),""))) -> 0.427 | L24: =IF(A24="DNS","",IF(A24="DQ","",IFERROR(INDEX('[1]決勝ヒート - レース結果（貼付）'!$A:$Z,MATCH($B24,'[1]決勝ヒート - レース結果（貼付）'!$B:$B,0),MATCH('決勝ヒート - レース暫定結果表'!L$11,'[1]決勝ヒート - レース結果（貼付）'!$1:$1,0)),""))) -> 0.00073204861 | M24: =IF(L24<1,"",IF($M$11>L24,"R","")) | P24: =IF(IFERROR(INDEX('[1]決勝ヒート - レース結果（貼付）'!$A:$Z,MATCH($A24,'[1]決勝ヒート - レース結果（貼付）'!$A:$A,0),MATCH('決勝ヒート - レース暫定結果表'!P$11,'[1]決勝ヒート - レース結果（貼付）'!$1:$1,0)),"")=0,"",IFERROR(INDEX('[1]決勝ヒート - レース結果（貼付）'!$A:$Z,MATCH($A24,'[1]決勝ヒート - レース結果（貼付）'!$A:$A,0),MATCH('決勝ヒート - レース暫定結果表'!P$11,'[1]決勝ヒート - レース結果（貼付）'!$1:$1,0)),"")) | Q24: =IF(P24="","",COUNTIF($P$13:P24,"<>"&"")) | R24: =IFERROR(RANK(Q24,$Q$13:$Q$47,1),"") | S24: =IF(IFERROR(INDEX('[1]決勝ヒート - レース結果（貼付）'!$A:$Z,MATCH($A24,'[1]決勝ヒート - レース結果（貼付）'!$A:$A,0),MATCH('決勝ヒート - レース暫定結果表'!S$11,'[1]決勝ヒート - レース結果（貼付）'!$1:$1,0)),"")=0,"",IFERROR(INDEX('[1]決勝ヒート - レース結果（貼付）'!$A:$Z,MATCH($A24,'[1]決勝ヒート - レース結果（貼付）'!$A:$A,0),MATCH('決勝ヒート - レース暫定結果表'!S$11,'[1]決勝ヒート - レース結果（貼付）'!$1:$1,0)),"")) | U24: =IF(IFERROR(INDEX('[1]決勝ヒート - レース結果（貼付）'!$A:$Z,MATCH($B24,'[1]決勝ヒート - レース結果（貼付）'!$B:$B,0),MATCH('決勝ヒート - レース暫定結果表'!U$11,'[1]決勝ヒート - レース結果（貼付）'!$1:$1,0)),"")=0,"",IFERROR(INDEX('[1]決勝ヒート - レース結果（貼付）'!$A:$Z,MATCH($B24,'[1]決勝ヒート - レース結果（貼付）'!$B:$B,0),MATCH('決勝ヒート - レース暫定結果表'!U$11,'[1]決勝ヒート - レース結果（貼付）'!$1:$1,0)),"")) -> 72.019
A25: =IF(OR('[1]決勝ヒート - レース結果（貼付）'!A14="DNF",'[1]決勝ヒート - レース結果（貼付）'!A14="DNS",'[1]決勝ヒート - レース結果（貼付）'!A14="DQ"),'[1]決勝ヒート - レース結果（貼付）'!A14,IF(MAX('[1]決勝ヒート - レース結果（貼付）'!A:A)>A24,A24+1,"")) -> 13 | B25: =IFERROR(INDEX('[1]決勝ヒート - レース結果（貼付）'!A14:$Z$50,MATCH($A25,'[1]決勝ヒート - レース結果（貼付）'!A14:$A$50,0),MATCH('決勝ヒート - レース暫定結果表'!B$11,'[1]決勝ヒート - レース結果（貼付）'!$1:$1,0)),"") -> 47 | D25: =IFERROR(INDEX('[1]決勝ヒート - レース結果（貼付）'!$A:$Z,MATCH($B25,'[1]決勝ヒート - レース結果（貼付）'!$B:$B,0),MATCH('決勝ヒート - レース暫定結果表'!D$11,'[1]決勝ヒート - レース結果（貼付）'!$1:$1,0)),"") -> 大島 良介 | E25: =IFERROR(INDEX('[1]決勝ヒート - レース結果（貼付）'!$A:$Z,MATCH($B25,'[1]決勝ヒート - レース結果（貼付）'!$B:$B,0),MATCH('決勝ヒート - レース暫定結果表'!E$11,'[1]決勝ヒート - レース結果（貼付）'!$1:$1,0)),"") -> TONY KART/YAMAHA | F25: =IFERROR(INDEX('[1]決勝ヒート - レース結果（貼付）'!$A:$Z,MATCH($B25,'[1]決勝ヒート - レース結果（貼付）'!$B:$B,0),MATCH('決勝ヒート - レース暫定結果表'!F$11,'[1]決勝ヒート - レース結果（貼付）'!$1:$1,0)),"") -> RS-1 | G25: =IFERROR(INDEX('[1]決勝ヒート - レース結果（貼付）'!$A:$Z,MATCH($B25,'[1]決勝ヒート - レース結果（貼付）'!$B:$B,0),MATCH('決勝ヒート - レース暫定結果表'!G$11,'[1]決勝ヒート - レース結果（貼付）'!$1:$1,0)),"") -> BS | H25: =IF(A25="DNS","",IF(A25="DQ","",IFERROR(INDEX('[1]決勝ヒート - レース結果（貼付）'!$A:$Z,MATCH($B25,'[1]決勝ヒート - レース結果（貼付）'!$B:$B,0),MATCH('決勝ヒート - レース暫定結果表'!H$11,'[1]決勝ヒート - レース結果（貼付）'!$1:$1,0)),""))) -> 22 | I25: =IF(A25="DNS","ｽﾀｰﾄ出来ず",IF(A25="DQ","失 格",IFERROR(INDEX('[1]決勝ヒート - レース結果（貼付）'!$A:$Z,MATCH($B25,'[1]決勝ヒート - レース結果（貼付）'!$B:$B,0),MATCH('決勝ヒート - レース暫定結果表'!I$11,'[1]決勝ヒート - レース結果（貼付）'!$1:$1,0)),""))) -> 0.016242338 | J25: =IF(A25="DNS","",IF(A25="DQ","",IFERROR(INDEX('[1]決勝ヒート - レース結果（貼付）'!$A:$Z,MATCH($B25,'[1]決勝ヒート - レース結果（貼付）'!$B:$B,0),MATCH('決勝ヒート - レース暫定結果表'!J$11,'[1]決勝ヒート - レース結果（貼付）'!$1:$1,0)),""))) -> 19.678 | K25: =IF(A25="DNS","",IF(A25="DQ","",IFERROR(INDEX('[1]決勝ヒート - レース結果（貼付）'!$A:$Z,MATCH($B25,'[1]決勝ヒート - レース結果（貼付）'!$B:$B,0),MATCH('決勝ヒート - レース暫定結果表'!K$11,'[1]決勝ヒート - レース結果（貼付）'!$1:$1,0)),""))) -> 0.575 | L25: =IF(A25="DNS","",IF(A25="DQ","",IFERROR(INDEX('[1]決勝ヒート - レース結果（貼付）'!$A:$Z,MATCH($B25,'[1]決勝ヒート - レース結果（貼付）'!$B:$B,0),MATCH('決勝ヒート - レース暫定結果表'!L$11,'[1]決勝ヒート - レース結果（貼付）'!$1:$1,0)),""))) -> 0.0007312037 | M25: =IF(L25<1,"",IF($M$11>L25,"R","")) | P25: =IF(IFERROR(INDEX('[1]決勝ヒート - レース結果（貼付）'!$A:$Z,MATCH($A25,'[1]決勝ヒート - レース結果（貼付）'!$A:$A,0),MATCH('決勝ヒート - レース暫定結果表'!P$11,'[1]決勝ヒート - レース結果（貼付）'!$1:$1,0)),"")=0,"",IFERROR(INDEX('[1]決勝ヒート - レース結果（貼付）'!$A:$Z,MATCH($A25,'[1]決勝ヒート - レース結果（貼付）'!$A:$A,0),MATCH('決勝ヒート - レース暫定結果表'!P$11,'[1]決勝ヒート - レース結果（貼付）'!$1:$1,0)),"")) | Q25: =IF(P25="","",COUNTIF($P$13:P25,"<>"&"")) | R25: =IFERROR(RANK(Q25,$Q$13:$Q$47,1),"") | S25: =IF(IFERROR(INDEX('[1]決勝ヒート - レース結果（貼付）'!$A:$Z,MATCH($A25,'[1]決勝ヒート - レース結果（貼付）'!$A:$A,0),MATCH('決勝ヒート - レース暫定結果表'!S$11,'[1]決勝ヒート - レース結果（貼付）'!$1:$1,0)),"")=0,"",IFERROR(INDEX('[1]決勝ヒート - レース結果（貼付）'!$A:$Z,MATCH($A25,'[1]決勝ヒート - レース結果（貼付）'!$A:$A,0),MATCH('決勝ヒート - レース暫定結果表'!S$11,'[1]決勝ヒート - レース結果（貼付）'!$1:$1,0)),"")) | U25: =IF(IFERROR(INDEX('[1]決勝ヒート - レース結果（貼付）'!$A:$Z,MATCH($B25,'[1]決勝ヒート - レース結果（貼付）'!$B:$B,0),MATCH('決勝ヒート - レース暫定結果表'!U$11,'[1]決勝ヒート - レース結果（貼付）'!$1:$1,0)),"")=0,"",IFERROR(INDEX('[1]決勝ヒート - レース結果（貼付）'!$A:$Z,MATCH($B25,'[1]決勝ヒート - レース結果（貼付）'!$B:$B,0),MATCH('決勝ヒート - レース暫定結果表'!U$11,'[1]決勝ヒート - レース結果（貼付）'!$1:$1,0)),"")) -> 71.944
... A45: =IF(OR('[1]決勝ヒート - レース結果（貼付）'!A34="DNF",'[1]決勝ヒート - レース結果（貼付）'!A34="DNS",'[1]決勝ヒート - レース結果（貼付）'!A34="DQ"),'[1]決勝ヒート - レース結果（貼付）'!A34,IF(MAX('[1]決勝ヒート - レース結果（貼付）'!A:A)>A44,A44+1,"")) -> 33 | B45: =IFERROR(INDEX('[1]決勝ヒート - レース結果（貼付）'!A34:$Z$50,MATCH($A45,'[1]決勝ヒート - レース結果（貼付）'!A34:$A$50,0),MATCH('決勝ヒート - レース暫定結果表'!B$11,'[1]決勝ヒート - レース結果（貼付）'!$1:$1,0)),"") -> 27 | D45: =IFERROR(INDEX('[1]決勝ヒート - レース結果（貼付）'!$A:$Z,MATCH($B45,'[1]決勝ヒート - レース結果（貼付）'!$B:$B,0),MATCH('決勝ヒート - レース暫定結果表'!D$11,'[1]決勝ヒート - レース結果（貼付）'!$1:$1,0)),"") -> 舟橋 弘典 | E45: =IFERROR(INDEX('[1]決勝ヒート - レース結果（貼付）'!$A:$Z,MATCH($B45,'[1]決勝ヒート - レース結果（貼付）'!$B:$B,0),MATCH('決勝ヒート - レース暫定結果表'!E$11,'[1]決勝ヒート - レース結果（貼付）'!$1:$1,0)),"") -> KOSMIC/YAMAHA | F45: =IFERROR(INDEX('[1]決勝ヒート - レース結果（貼付）'!$A:$Z,MATCH($B45,'[1]決勝ヒート - レース結果（貼付）'!$B:$B,0),MATCH('決勝ヒート - レース暫定結果表'!F$11,'[1]決勝ヒート - レース結果（貼付）'!$1:$1,0)),"") -> HIRAIPROJECT With Ash | G45: =IFERROR(INDEX('[1]決勝ヒート - レース結果（貼付）'!$A:$Z,MATCH($B45,'[1]決勝ヒート - レース結果（貼付）'!$B:$B,0),MATCH('決勝ヒート - レース暫定結果表'!G$11,'[1]決勝ヒート - レース結果（貼付）'!$1:$1,0)),"") -> BS | H45: =IF(A45="DNS","",IF(A45="DQ","",IFERROR(INDEX('[1]決勝ヒート - レース結果（貼付）'!$A:$Z,MATCH($B45,'[1]決勝ヒート - レース結果（貼付）'!$B:$B,0),MATCH('決勝ヒート - レース暫定結果表'!H$11,'[1]決勝ヒート - レース結果（貼付）'!$1:$1,0)),""))) -> 21 | I45: =IF(A45="DNS","ｽﾀｰﾄ出来ず",IF(A45="DQ","失 格",IFERROR(INDEX('[1]決勝ヒート - レース結果（貼付）'!$A:$Z,MATCH($B45,'[1]決勝ヒート - レース結果（貼付）'!$B:$B,0),MATCH('決勝ヒート - レース暫定結果表'!I$11,'[1]決勝ヒート - レース結果（貼付）'!$1:$1,0)),""))) -> 0.016675046 | J45: =IF(A45="DNS","",IF(A45="DQ","",IFERROR(INDEX('[1]決勝ヒート - レース結果（貼付）'!$A:$Z,MATCH($B45,'[1]決勝ヒート - レース結果（貼付）'!$B:$B,0),MATCH('決勝ヒート - レース暫定結果表'!J$11,'[1]決勝ヒート - レース結果（貼付）'!$1:$1,0)),""))) -> 1 Lap | K45: =IF(A45="DNS","",IF(A45="DQ","",IFERROR(INDEX('[1]決勝ヒート - レース結果（貼付）'!$A:$Z,MATCH($B45,'[1]決勝ヒート - レース結果（貼付）'!$B:$B,0),MATCH('決勝ヒート - レース暫定結果表'!K$11,'[1]決勝ヒート - レース結果（貼付）'!$1:$1,0)),""))) -> 1 Lap | L45: =IF(A45="DNS","",IF(A45="DQ","",IFERROR(INDEX('[1]決勝ヒート - レース結果（貼付）'!$A:$Z,MATCH($B45,'[1]決勝ヒート - レース結果（貼付）'!$B:$B,0),MATCH('決勝ヒート - レース暫定結果表'!L$11,'[1]決勝ヒート - レース結果（貼付）'!$1:$1,0)),""))) -> 0.00072741898 | M45: =IF(L45<1,"",IF($M$11>L45,"R","")) | P45: =IF(IFERROR(INDEX('[1]決勝ヒート - レース結果（貼付）'!$A:$Z,MATCH($A45,'[1]決勝ヒート - レース結果（貼付）'!$A:$A,0),MATCH('決勝ヒート - レース暫定結果表'!P$11,'[1]決勝ヒート - レース結果（貼付）'!$1:$1,0)),"")=0,"",IFERROR(INDEX('[1]決勝ヒート - レース結果（貼付）'!$A:$Z,MATCH($A45,'[1]決勝ヒート - レース結果（貼付）'!$A:$A,0),MATCH('決勝ヒート - レース暫定結果表'!P$11,'[1]決勝ヒート - レース結果（貼付）'!$1:$1,0)),"")) | Q45: =IF(P45="","",COUNTIF($P$13:P45,"<>"&"")) | R45: =IFERROR(RANK(Q45,$Q$13:$Q$47,1),"") | S45: =IF(IFERROR(INDEX('[1]決勝ヒート - レース結果（貼付）'!$A:$Z,MATCH($A45,'[1]決勝ヒート - レース結果（貼付）'!$A:$A,0),MATCH('決勝ヒート - レース暫定結果表'!S$11,'[1]決勝ヒート - レース結果（貼付）'!$1:$1,0)),"")=0,"",IFERROR(INDEX('[1]決勝ヒート - レース結果（貼付）'!$A:$Z,MATCH($A45,'[1]決勝ヒート - レース結果（貼付）'!$A:$A,0),MATCH('決勝ヒート - レース暫定結果表'!S$11,'[1]決勝ヒート - レース結果（貼付）'!$1:$1,0)),"")) | U45: =IF(IFERROR(INDEX('[1]決勝ヒート - レース結果（貼付）'!$A:$Z,MATCH($B45,'[1]決勝ヒート - レース結果（貼付）'!$B:$B,0),MATCH('決勝ヒート - レース暫定結果表'!U$11,'[1]決勝ヒート - レース結果（貼付）'!$1:$1,0)),"")=0,"",IFERROR(INDEX('[1]決勝ヒート - レース結果（貼付）'!$A:$Z,MATCH($B45,'[1]決勝ヒート - レース結果（貼付）'!$B:$B,0),MATCH('決勝ヒート - レース暫定結果表'!U$11,'[1]決勝ヒート - レース結果（貼付）'!$1:$1,0)),"")) -> 72.402
A46: 以下ﾌｨﾆｯｼｭﾗｲﾝ不通過： | U46: =IF(IFERROR(INDEX('[1]決勝ヒート - レース結果（貼付）'!$A:$Z,MATCH($B46,'[1]決勝ヒート - レース結果（貼付）'!$B:$B,0),MATCH('決勝ヒート - レース暫定結果表'!U$11,'[1]決勝ヒート - レース結果（貼付）'!$1:$1,0)),"")=0,"",IFERROR(INDEX('[1]決勝ヒート - レース結果（貼付）'!$A:$Z,MATCH($B46,'[1]決勝ヒート - レース結果（貼付）'!$B:$B,0),MATCH('決勝ヒート - レース暫定結果表'!U$11,'[1]決勝ヒート - レース結果（貼付）'!$1:$1,0)),""))
A47: =IF(OR('[1]決勝ヒート - レース結果（貼付）'!A35="DNF",'[1]決勝ヒート - レース結果（貼付）'!A35="DNS",'[1]決勝ヒート - レース結果（貼付）'!A35="DQ"),'[1]決勝ヒート - レース結果（貼付）'!A35,IF(MAX('[1]決勝ヒート - レース結果（貼付）'!A:A)>A45,A45+1,"")) -> 34 | B47: =IFERROR(INDEX('[1]決勝ヒート - レース結果（貼付）'!A35:$Z$50,MATCH($A47,'[1]決勝ヒート - レース結果（貼付）'!A35:$A$50,0),MATCH('決勝ヒート - レース暫定結果表'!B$11,'[1]決勝ヒート - レース結果（貼付）'!$1:$1,0)),"") -> 33 | D47: =IFERROR(INDEX('[1]決勝ヒート - レース結果（貼付）'!$A:$Z,MATCH($B47,'[1]決勝ヒート - レース結果（貼付）'!$B:$B,0),MATCH('決勝ヒート - レース暫定結果表'!D$11,'[1]決勝ヒート - レース結果（貼付）'!$1:$1,0)),"") -> 田上 龍輝 | E47: =IFERROR(INDEX('[1]決勝ヒート - レース結果（貼付）'!$A:$Z,MATCH($B47,'[1]決勝ヒート - レース結果（貼付）'!$B:$B,0),MATCH('決勝ヒート - レース暫定結果表'!E$11,'[1]決勝ヒート - レース結果（貼付）'!$1:$1,0)),"") -> Birel ART/YAMAHA | F47: =IFERROR(INDEX('[1]決勝ヒート - レース結果（貼付）'!$A:$Z,MATCH($B47,'[1]決勝ヒート - レース結果（貼付）'!$B:$B,0),MATCH('決勝ヒート - レース暫定結果表'!F$11,'[1]決勝ヒート - レース結果（貼付）'!$1:$1,0)),"") -> チームKBF | G47: =IFERROR(INDEX('[1]決勝ヒート - レース結果（貼付）'!$A:$Z,MATCH($B47,'[1]決勝ヒート - レース結果（貼付）'!$B:$B,0),MATCH('決勝ヒート - レース暫定結果表'!G$11,'[1]決勝ヒート - レース結果（貼付）'!$1:$1,0)),"") -> BS | H47: =IF(A47="DNS","",IF(A47="DQ","",IFERROR(INDEX('[1]決勝ヒート - レース結果（貼付）'!$A:$Z,MATCH($B47,'[1]決勝ヒート - レース結果（貼付）'!$B:$B,0),MATCH('決勝ヒート - レース暫定結果表'!H$11,'[1]決勝ヒート - レース結果（貼付）'!$1:$1,0)),""))) -> 13 | I47: =IF(A47="DNS","ｽﾀｰﾄ出来ず",IF(A47="DQ","失 格",IFERROR(INDEX('[1]決勝ヒート - レース結果（貼付）'!$A:$Z,MATCH($B47,'[1]決勝ヒート - レース結果（貼付）'!$B:$B,0),MATCH('決勝ヒート - レース暫定結果表'!I$11,'[1]決勝ヒート - レース結果（貼付）'!$1:$1,0)),""))) -> 0.0097292824 | J47: =IF(A47="DNS","",IF(A47="DQ","",IFERROR(INDEX('[1]決勝ヒート - レース結果（貼付）'!$A:$Z,MATCH($B47,'[1]決勝ヒート - レース結果（貼付）'!$B:$B,0),MATCH('決勝ヒート - レース暫定結果表'!J$11,'[1]決勝ヒート - レース結果（貼付）'!$1:$1,0)),""))) -> 9 Laps | K47: =IF(A47="DNS","",IF(A47="DQ","",IFERROR(INDEX('[1]決勝ヒート - レース結果（貼付）'!$A:$Z,MATCH($B47,'[1]決勝ヒート - レース結果（貼付）'!$B:$B,0),MATCH('決勝ヒート - レース暫定結果表'!K$11,'[1]決勝ヒート - レース結果（貼付）'!$1:$1,0)),""))) -> 8 Laps | L47: =IF(A47="DNS","",IF(A47="DQ","",IFERROR(INDEX('[1]決勝ヒート - レース結果（貼付）'!$A:$Z,MATCH($B47,'[1]決勝ヒート - レース結果（貼付）'!$B:$B,0),MATCH('決勝ヒート - レース暫定結果表'!L$11,'[1]決勝ヒート - レース結果（貼付）'!$1:$1,0)),""))) -> 0.0007359838 | M47: =IF(L47<1,"",IF($M$11>L47,"R","")) | P47: =IF(IFERROR(INDEX('[1]決勝ヒート - レース結果（貼付）'!$A:$Z,MATCH($A47,'[1]決勝ヒート - レース結果（貼付）'!$A:$A,0),MATCH('決勝ヒート - レース暫定結果表'!P$11,'[1]決勝ヒート - レース結果（貼付）'!$1:$1,0)),"")=0,"",IFERROR(INDEX('[1]決勝ヒート - レース結果（貼付）'!$A:$Z,MATCH($A47,'[1]決勝ヒート - レース結果（貼付）'!$A:$A,0),MATCH('決勝ヒート - レース暫定結果表'!P$11,'[1]決勝ヒート - レース結果（貼付）'!$1:$1,0)),"")) | Q47: =IF(P47="","",COUNTIF($P$13:P47,"<>"&"")) | R47: =IFERROR(RANK(Q47,$Q$13:$Q$47,1),"") | S47: =IF(IFERROR(INDEX('[1]決勝ヒート - レース結果（貼付）'!$A:$Z,MATCH($A47,'[1]決勝ヒート - レース結果（貼付）'!$A:$A,0),MATCH('決勝ヒート - レース暫定結果表'!S$11,'[1]決勝ヒート - レース結果（貼付）'!$1:$1,0)),"")=0,"",IFERROR(INDEX('[1]決勝ヒート - レース結果（貼付）'!$A:$Z,MATCH($A47,'[1]決勝ヒート - レース結果（貼付）'!$A:$A,0),MATCH('決勝ヒート - レース暫定結果表'!S$11,'[1]決勝ヒート - レース結果（貼付）'!$1:$1,0)),"")) | U47: =IF(IFERROR(INDEX('[1]決勝ヒート - レース結果（貼付）'!$A:$Z,MATCH($B47,'[1]決勝ヒート - レース結果（貼付）'!$B:$B,0),MATCH('決勝ヒート - レース暫定結果表'!U$11,'[1]決勝ヒート - レース結果（貼付）'!$1:$1,0)),"")=0,"",IFERROR(INDEX('[1]決勝ヒート - レース結果（貼付）'!$A:$Z,MATCH($B47,'[1]決勝ヒート - レース結果（貼付）'!$B:$B,0),MATCH('決勝ヒート - レース暫定結果表'!U$11,'[1]決勝ヒート - レース結果（貼付）'!$1:$1,0)),"")) -> 71.56
A48: 以上 規定周回数完走：
A49: Fastest Lap | D49: ="No."&IFERROR(INDEX($A11:$Z47,MATCH($I$49,$U$11:$U$47,0),MATCH("No.",$11:$11,0)),"")&" "&IFERROR(INDEX($A11:$Z47,MATCH($I$49,$U$11:$U$47,0),MATCH("名前",$11:$11,0)),"") -> No.40 大槻 直 | E49: =IFERROR(INDEX($A11:$Z47,MATCH($I$49,$U$11:$U$47,0),MATCH("team",$11:$11,0)),"") -> ASH | F49: 0.00072226852 | H49: =INDEX('[1]決勝ヒート - レース結果（貼付）'!$A:$Z,MATCH(INDEX($A12:$Z47,MATCH($I$49,$U$12:$U$47,0),MATCH("No.",$11:$11,0)),'[1]決勝ヒート - レース結果（貼付）'!$B:$B,0),MATCH("In Lap",'[1]決勝ヒート - レース結果（貼付）'!$1:$1,0))&"/"&IFERROR(INDEX($A11:$Z47,MATCH($I$49,$U$12:$U$47,0),MATCH("laps",$11:$11,0)),"") -> 7/Laps | I49: =MAX(U:U) -> 72.918 | J49: km/h
A51: =IF(COUNTIF(M:M,"R")>1,"R マークの車は、コースレコードを更新しました。従来のレコードタイムは"&" "&TEXT(ROUND($M$11,3),"[<1]m'ss.000;##0.000"),"")
A53: =IF(A54="","","ﾍﾟﾅﾙﾃｨ") -> ﾍﾟﾅﾙﾃｨ
A54: =IF(MAX(Q13:Q47)<1,"",1) -> 1 | B54: =IF(A54="","","No."&INDEX($A$11:$Y$47,MATCH($A54,$R$11:$R$47,0),MATCH("No.",$11:$11,0))) -> No.61 | C54: =INDEX($A$11:$Y$47,MATCH($A54,$R$11:$R$47,0),MATCH("コメント",$11:$11,0)) -> 全日本カート選手権 統一規則 第38条(25)(フロントフェアリングが正しい装着状態でない)により5秒加算した。
A55: =IF(A54<COUNTIF($R$12:$R$47,">"&0),A54+1,"") -> 2 | B55: =IF(A55="","","No."&INDEX($A$11:$Y$47,MATCH($A55,$R$11:$R$47,0),MATCH("No.",$11:$11,0))) -> No.21 | C55: =INDEX($A$11:$Y$47,MATCH($A55,$R$11:$R$47,0),MATCH("コメント",$11:$11,0)) -> 全日本カート選手権 統一規則 第38条(25)(フロントフェアリングが正しい装着状態でない)により5秒加算した。
A56: =IF(A55<COUNTIF($R$12:$R$47,">"&0),A55+1,"") -> 3 | B56: =IF(A56="","","No."&INDEX($A$11:$Y$47,MATCH($A56,$R$11:$R$47,0),MATCH("No.",$11:$11,0))) -> No.10 | C56: =INDEX($A$11:$Y$47,MATCH($A56,$R$11:$R$47,0),MATCH("コメント",$11:$11,0)) -> 全日本カート選手権 統一規則 第38条(25)(フロントフェアリングが正しい装着状態でない)により5秒加算した。
A57: =IF(A56<COUNTIF($R$12:$R$47,">"&0),A56+1,"") -> 4 | B57: =IF(A57="","","No."&INDEX($A$11:$Y$47,MATCH($A57,$R$11:$R$47,0),MATCH("No.",$11:$11,0))) -> No.74 | C57: =INDEX($A$11:$Y$47,MATCH($A57,$R$11:$R$47,0),MATCH("コメント",$11:$11,0)) -> 全日本カート選手権 統一規則 第38条(25)(フロントフェアリングが正しい装着状態でない)により5秒加算した。
A58: =IF(A57<COUNTIF($R$12:$R$47,">"&0),A57+1,"") -> 5 | B58: =IF(A58="","","No."&INDEX($A$11:$Y$47,MATCH($A58,$R$11:$R$47,0),MATCH("No.",$11:$11,0))) -> No.22 | C58: =INDEX($A$11:$Y$47,MATCH($A58,$R$11:$R$47,0),MATCH("コメント",$11:$11,0)) -> 全日本カート選手権 統一規則 第38条(25)(フロントフェアリングが正しい装着状態でない)により5秒加算した。
A59: =IF(A58<COUNTIF($R$12:$R$47,">"&0),A58+1,"") -> 6 | B59: =IF(A59="","","No."&INDEX($A$11:$Y$47,MATCH($A59,$R$11:$R$47,0),MATCH("No.",$11:$11,0))) -> No.78 | C59: =INDEX($A$11:$Y$47,MATCH($A59,$R$11:$R$47,0),MATCH("コメント",$11:$11,0)) -> 全日本カート選手権 統一規則 第38条(25)(フロントフェアリングが正しい装着状態でない)により5秒加算した。
A60: =IF(A59<COUNTIF($R$12:$R$47,">"&0),A59+1,"") -> 7 | B60: =IF(A60="","","No."&INDEX($A$11:$Y$47,MATCH($A60,$R$11:$R$47,0),MATCH("No.",$11:$11,0))) -> No.36 | C60: =INDEX($A$11:$Y$47,MATCH($A60,$R$11:$R$47,0),MATCH("コメント",$11:$11,0)) -> 全日本カート選手権 統一規則 第38条(25)(フロントフェアリングが正しい装着状態でない)により5秒加算した。
A61: =IF(A60<COUNTIF($R$12:$R$47,">"&0),A60+1,"") | B61: No.36 | C61: JAF国内ｶｰﾄ競技規則 ｶｰﾄ競技会運営に関する規定 22条(妨害の禁止(プッシング・ブロッキング))違反により、10秒加算とした。
A62: =IF(A61<COUNTIF($R$12:$R$47,">"&0),A61+1,"") | B62: =IF(A62="","","No."&INDEX($A$11:$Y$47,MATCH($A62,$R$11:$R$47,0),MATCH("No.",$11:$11,0))) | C62: =INDEX($A$11:$Y$47,MATCH($A62,$R$11:$R$47,0),MATCH("コメント",$11:$11,0))
A63: =IF(A62<COUNTIF($R$12:$R$47,">"&0),A62+1,"") | B63: =IF(A63="","","No."&INDEX($A$11:$Y$47,MATCH($A63,$R$11:$R$47,0),MATCH("No.",$11:$11,0))) | C63: =INDEX($A$11:$Y$47,MATCH($A63,$R$11:$R$47,0),MATCH("コメント",$11:$11,0))
A64: =IF(A63<COUNTIF($R$12:$R$47,">"&0),A63+1,"") | B64: =IF(A64="","","No."&INDEX($A$11:$Y$47,MATCH($A64,$R$11:$R$47,0),MATCH("No.",$11:$11,0))) | C64: =INDEX($A$11:$Y$47,MATCH($A64,$R$11:$R$47,0),MATCH("コメント",$11:$11,0))
B65: ="審査委員長 ："&" "&[1]各種設定!$D$20 -> 審査委員長 ： Makoto SAITO | F65: ="競技委員長 ："&" "&[1]各種設定!$D$22 -> 競技委員長 ： Toshiaki KUBOTA | I65: ="計時委員長 ："&" "&[1]各種設定!$D$24 -> 計時委員長 ： Tsutomu HAYAKAWA

Sheet 決勝ヒート - グリッド表
J6: =+[1]各種設定!D18 -> 44878 | L6: :
A7: =+[1]各種設定!D2 -> 2022年 全日本カート選手権 FS-125/FP-3部門 東西統一競技会
A9: =+[1]各種設定!D4 -> FP-3 | L9: 南コース 1.264Km
A10: 決勝ヒート グリッド表
B14: PP | C14: =IFERROR(INDEX('[1]予選ヒート-総合結果表（整列）'!$A:$Z,MATCH(1,'[1]予選ヒート-総合結果表（整列）'!$A:$A,0),MATCH("No.",'[1]予選ヒート-総合結果表（整列）'!$1:$1,0)),"") -> 14 | D14: =INDEX('[1]予選ヒート-総合結果表（整列）'!$A:$Z,MATCH(1,'[1]予選ヒート-総合結果表（整列）'!$A:$A,0),MATCH("名前",'[1]予選ヒート-総合結果表（整列）'!$1:$1,0)) -> 春日 龍之介 | G14: 2 | H14: =IFERROR(INDEX('[1]予選ヒート-総合結果表（整列）'!$A:$Z,MATCH($G14,'[1]予選ヒート-総合結果表（整列）'!$A:$A,0),MATCH("No.",'[1]予選ヒート-総合結果表（整列）'!$1:$1,0)),"") -> 11 | I14: =INDEX('[1]予選ヒート-総合結果表（整列）'!$A:$Z,MATCH($G14,'[1]予選ヒート-総合結果表（整列）'!$A:$A,0),MATCH("名前",'[1]予選ヒート-総合結果表（整列）'!$1:$1,0)) -> 富下 李央菜
F15: =INDEX('[1]予選ヒート-総合結果表（整列）'!$A:$Z,MATCH(1,'[1]予選ヒート-総合結果表（整列）'!$A:$A,0),MATCH("Model/Engine",'[1]予選ヒート-総合結果表（整列）'!$1:$1,0)) -> XENON KART/YAMAHA | K15: =INDEX('[1]予選ヒート-総合結果表（整列）'!$A:$Z,MATCH($G14,'[1]予選ヒート-総合結果表（整列）'!$A:$A,0),MATCH("Model/Engine",'[1]予選ヒート-総合結果表（整列）'!$1:$1,0)) -> KOSMIC/YAMAHA
C16: =INDEX('[1]予選ヒート-総合結果表（整列）'!$A:$Z,MATCH(1,'[1]予選ヒート-総合結果表（整列）'!$A:$A,0),MATCH("team",'[1]予選ヒート-総合結果表（整列）'!$1:$1,0)) -> SPS川口 | H16: =INDEX('[1]予選ヒート-総合結果表（整列）'!$A:$Z,MATCH($G14,'[1]予選ヒート-総合結果表（整列）'!$A:$A,0),MATCH("team",'[1]予選ヒート-総合結果表（整列）'!$1:$1,0)) -> Formula Blue TKC
B18: =IF(MAX('[1]予選ヒート-総合結果表（整列）'!A:A)>G14,G14+1,"") -> 3 | C18: =IFERROR(INDEX('[1]予選ヒート-総合結果表（整列）'!$A:$Z,MATCH($B18,'[1]予選ヒート-総合結果表（整列）'!$A:$A,0),MATCH("No.",'[1]予選ヒート-総合結果表（整列）'!$1:$1,0)),"") -> 40 | D18: =IFERROR(INDEX('[1]予選ヒート-総合結果表（整列）'!$A:$Z,MATCH($B18,'[1]予選ヒート-総合結果表（整列）'!$A:$A,0),MATCH("名前",'[1]予選ヒート-総合結果表（整列）'!$1:$1,0)),"") -> 大槻 直 | G18: =IF(MAX('[1]予選ヒート-総合結果表（整列）'!A:A)>B18,B18+1,"") -> 4 | H18: =IFERROR(INDEX('[1]予選ヒート-総合結果表（整列）'!$A:$Z,MATCH($G18,'[1]予選ヒート-総合結果表（整列）'!$A:$A,0),MATCH("No.",'[1]予選ヒート-総合結果表（整列）'!$1:$1,0)),"") -> 84 | I18: =IFERROR(INDEX('[1]予選ヒート-総合結果表（整列）'!$A:$Z,MATCH($G18,'[1]予選ヒート-総合結果表（整列）'!$A:$A,0),MATCH("名前",'[1]予選ヒート-総合結果表（整列）'!$1:$1,0)),"") -> 林 零仁
F19: =IFERROR(INDEX('[1]予選ヒート-総合結果表（整列）'!$A:$Z,MATCH($B18,'[1]予選ヒート-総合結果表（整列）'!$A:$A,0),MATCH("Model/Engine",'[1]予選ヒート-総合結果表（整列）'!$1:$1,0)),"") -> TONY KART/YAMAHA | K19: =IFERROR(INDEX('[1]予選ヒート-総合結果表（整列）'!$A:$Z,MATCH($G18,'[1]予選ヒート-総合結果表（整列）'!$A:$A,0),MATCH("Model/Engine",'[1]予選ヒート-総合結果表（整列）'!$1:$1,0)),"") -> EXPRIT/YAMAHA
C20: =IFERROR(INDEX('[1]予選ヒート-総合結果表（整列）'!$A:$Z,MATCH($B18,'[1]予選ヒート-総合結果表（整列）'!$A:$A,0),MATCH("team",'[1]予選ヒート-総合結果表（整列）'!$1:$1,0)),"") -> ASH | H20: =IFERROR(INDEX('[1]予選ヒート-総合結果表（整列）'!$A:$Z,MATCH($G18,'[1]予選ヒート-総合結果表（整列）'!$A:$A,0),MATCH("team",'[1]予選ヒート-総合結果表（整列）'!$1:$1,0)),"") -> ONE POINT
B22: =IF(MAX('[1]予選ヒート-総合結果表（整列）'!A:A)>G18,G18+1,"") -> 5 | C22: =IFERROR(INDEX('[1]予選ヒート-総合結果表（整列）'!$A:$Z,MATCH($B22,'[1]予選ヒート-総合結果表（整列）'!$A:$A,0),MATCH("No.",'[1]予選ヒート-総合結果表（整列）'!$1:$1,0)),"") -> 61 | D22: =IFERROR(INDEX('[1]予選ヒート-総合結果表（整列）'!$A:$Z,MATCH($B22,'[1]予選ヒート-総合結果表（整列）'!$A:$A,0),MATCH("名前",'[1]予選ヒート-総合結果表（整列）'!$1:$1,0)),"") -> 寺島 知毅 | G22: =IF(MAX('[1]予選ヒート-総合結果表（整列）'!A:A)>B22,B22+1,"") -> 6 | H22: =IFERROR(INDEX('[1]予選ヒート-総合結果表（整列）'!$A:$Z,MATCH($G22,'[1]予選ヒート-総合結果表（整列）'!$A:$A,0),MATCH("No.",'[1]予選ヒート-総合結果表（整列）'!$1:$1,0)),"") -> 37 | I22: =IFERROR(INDEX('[1]予選ヒート-総合結果表（整列）'!$A:$Z,MATCH($G22,'[1]予選ヒート-総合結果表（整列）'!$A:$A,0),MATCH("名前",'[1]予選ヒート-総合結果表（整列）'!$1:$1,0)),"") -> 佐藤 琉葵
F23: =IFERROR(INDEX('[1]予選ヒート-総合結果表（整列）'!$A:$Z,MATCH($B22,'[1]予選ヒート-総合結果表（整列）'!$A:$A,0),MATCH("Model/Engine",'[1]予選ヒート-総合結果表（整列）'!$1:$1,0)),"") -> TONY KART/YAMAHA | K23: =IFERROR(INDEX('[1]予選ヒート-総合結果表（整列）'!$A:$Z,MATCH($G22,'[1]予選ヒート-総合結果表（整列）'!$A:$A,0),MATCH("Model/Engine",'[1]予選ヒート-総合結果表（整列）'!$1:$1,0)),"") -> LN KART/YAMAHA
C24: =IFERROR(INDEX('[1]予選ヒート-総合結果表（整列）'!$A:$Z,MATCH($B22,'[1]予選ヒート-総合結果表（整列）'!$A:$A,0),MATCH("team",'[1]予選ヒート-総合結果表（整列）'!$1:$1,0)),"") -> 松本レーシング | H24: =IFERROR(INDEX('[1]予選ヒート-総合結果表（整列）'!$A:$Z,MATCH($G22,'[1]予選ヒート-総合結果表（整列）'!$A:$A,0),MATCH("team",'[1]予選ヒート-総合結果表（整列）'!$1:$1,0)),"") -> DSM
B26: =IF(MAX('[1]予選ヒート-総合結果表（整列）'!A:A)>G22,G22+1,"") -> 7 | C26: =IFERROR(INDEX('[1]予選ヒート-総合結果表（整列）'!$A:$Z,MATCH($B26,'[1]予選ヒート-総合結果表（整列）'!$A:$A,0),MATCH("No.",'[1]予選ヒート-総合結果表（整列）'!$1:$1,0)),"") -> 30 | D26: =IFERROR(INDEX('[1]予選ヒート-総合結果表（整列）'!$A:$Z,MATCH($B26,'[1]予選ヒート-総合結果表（整列）'!$A:$A,0),MATCH("名前",'[1]予選ヒート-総合結果表（整列）'!$1:$1,0)),"") -> 久富 圭 | G26: =IF(MAX('[1]予選ヒート-総合結果表（整列）'!A:A)>B26,B26+1,"") -> 8 | H26: =IFERROR(INDEX('[1]予選ヒート-総合結果表（整列）'!$A:$Z,MATCH($G26,'[1]予選ヒート-総合結果表（整列）'!$A:$A,0),MATCH("No.",'[1]予選ヒート-総合結果表（整列）'!$1:$1,0)),"") -> 47 | I26: =IFERROR(INDEX('[1]予選ヒート-総合結果表（整列）'!$A:$Z,MATCH($G26,'[1]予選ヒート-総合結果表（整列）'!$A:$A,0),MATCH("名前",'[1]予選ヒート-総合結果表（整列）'!$1:$1,0)),"") -> 大島 良介
F27: =IFERROR(INDEX('[1]予選ヒート-総合結果表（整列）'!$A:$Z,MATCH($B26,'[1]予選ヒート-総合結果表（整列）'!$A:$A,0),MATCH("Model/Engine",'[1]予選ヒート-総合結果表（整列）'!$1:$1,0)),"") -> TONY KART/YAMAHA | K27: =IFERROR(INDEX('[1]予選ヒート-総合結果表（整列）'!$A:$Z,MATCH($G26,'[1]予選ヒート-総合結果表（整列）'!$A:$A,0),MATCH("Model/Engine",'[1]予選ヒート-総合結果表（整列）'!$1:$1,0)),"") -> TONY KART/YAMAHA
C28: =IFERROR(INDEX('[1]予選ヒート-総合結果表（整列）'!$A:$Z,MATCH($B26,'[1]予選ヒート-総合結果表（整列）'!$A:$A,0),MATCH("team",'[1]予選ヒート-総合結果表（整列）'!$1:$1,0)),"") -> Formula Blue Ash | H28: =IFERROR(INDEX('[1]予選ヒート-総合結果表（整列）'!$A:$Z,MATCH($G26,'[1]予選ヒート-総合結果表（整列）'!$A:$A,0),MATCH("team",'[1]予選ヒート-総合結果表（整列）'!$1:$1,0)),"") -> RS-1
B30: =IF(MAX('[1]予選ヒート-総合結果表（整列）'!A:A)>G26,G26+1,"") -> 9 | C30: =IFERROR(INDEX('[1]予選ヒート-総合結果表（整列）'!$A:$Z,MATCH($B30,'[1]予選ヒート-総合結果表（整列）'!$A:$A,0),MATCH("No.",'[1]予選ヒート-総合結果表（整列）'!$1:$1,0)),"") -> 19 | D30: =IFERROR(INDEX('[1]予選ヒート-総合結果表（整列）'!$A:$Z,MATCH($B30,'[1]予選ヒート-総合結果表（整列）'!$A:$A,0),MATCH("名前",'[1]予選ヒート-総合結果表（整列）'!$1:$1,0)),"") -> 蒲生 尚弥 | G30: =IF(MAX('[1]予選ヒート-総合結果表（整列）'!A:A)>B30,B30+1,"") -> 10 | H30: =IFERROR(INDEX('[1]予選ヒート-総合結果表（整列）'!$A:$Z,MATCH($G30,'[1]予選ヒート-総合結果表（整列）'!$A:$A,0),MATCH("No.",'[1]予選ヒート-総合結果表（整列）'!$1:$1,0)),"") -> 74 | I30: =IFERROR(INDEX('[1]予選ヒート-総合結果表（整列）'!$A:$Z,MATCH($G30,'[1]予選ヒート-総合結果表（整列）'!$A:$A,0),MATCH("名前",'[1]予選ヒート-総合結果表（整列）'!$1:$1,0)),"") -> 宮地 健太朗
F31: =IFERROR(INDEX('[1]予選ヒート-総合結果表（整列）'!$A:$Z,MATCH($B30,'[1]予選ヒート-総合結果表（整列）'!$A:$A,0),MATCH("Model/Engine",'[1]予選ヒート-総合結果表（整列）'!$1:$1,0)),"") -> CL/YAMAHA | K31: =IFERROR(INDEX('[1]予選ヒート-総合結果表（整列）'!$A:$Z,MATCH($G30,'[1]予選ヒート-総合結果表（整列）'!$A:$A,0),MATCH("Model/Engine",'[1]予選ヒート-総合結果表（整列）'!$1:$1,0)),"") -> INTREPID/YAMAHA
C32: =IFERROR(INDEX('[1]予選ヒート-総合結果表（整列）'!$A:$Z,MATCH($B30,'[1]予選ヒート-総合結果表（整列）'!$A:$A,0),MATCH("team",'[1]予選ヒート-総合結果表（整列）'!$1:$1,0)),"") -> のりものクラブTIGRE | H32: =IFERROR(INDEX('[1]予選ヒート-総合結果表（整列）'!$A:$Z,MATCH($G30,'[1]予選ヒート-総合結果表（整列）'!$A:$A,0),MATCH("team",'[1]予選ヒート-総合結果表（整列）'!$1:$1,0)),"") -> Ash
B34: =IF(MAX('[1]予選ヒート-総合結果表（整列）'!A:A)>G30,G30+1,"") -> 11 | C34: =IFERROR(INDEX('[1]予選ヒート-総合結果表（整列）'!$A:$Z,MATCH($B34,'[1]予選ヒート-総合結果表（整列）'!$A:$A,0),MATCH("No.",'[1]予選ヒート-総合結果表（整列）'!$1:$1,0)),"") -> 31 | D34: =IFERROR(INDEX('[1]予選ヒート-総合結果表（整列）'!$A:$Z,MATCH($B34,'[1]予選ヒート-総合結果表（整列）'!$A:$A,0),MATCH("名前",'[1]予選ヒート-総合結果表（整列）'!$1:$1,0)),"") -> 飛田 陽宏 | G34: =IF(MAX('[1]予選ヒート-総合結果表（整列）'!A:A)>B34,B34+1,"") -> 12 | H34: =IFERROR(INDEX('[1]予選ヒート-総合結果表（整列）'!$A:$Z,MATCH($G34,'[1]予選ヒート-総合結果表（整列）'!$A:$A,0),MATCH("No.",'[1]予選ヒート-総合結果表（整列）'!$1:$1,0)),"") -> 44 | I34: =IFERROR(INDEX('[1]予選ヒート-総合結果表（整列）'!$A:$Z,MATCH($G34,'[1]予選ヒート-総合結果表（整列）'!$A:$A,0),MATCH("名前",'[1]予選ヒート-総合結果表（整列）'!$1:$1,0)),"") -> 中村 海斗
F35: =IFERROR(INDEX('[1]予選ヒート-総合結果表（整列）'!$A:$Z,MATCH($B34,'[1]予選ヒート-総合結果表（整列）'!$A:$A,0),MATCH("Model/Engine",'[1]予選ヒート-総合結果表（整列）'!$1:$1,0)),"") -> TONY KART/YAMAHA | K35: =IFERROR(INDEX('[1]予選ヒート-総合結果表（整列）'!$A:$Z,MATCH($G34,'[1]予選ヒート-総合結果表（整列）'!$A:$A,0),MATCH("Model/Engine",'[1]予選ヒート-総合結果表（整列）'!$1:$1,0)),"") -> TONY KART/YAMAHA
C36: =IFERROR(INDEX('[1]予選ヒート-総合結果表（整列）'!$A:$Z,MATCH($B34,'[1]予選ヒート-総合結果表（整列）'!$A:$A,0),MATCH("team",'[1]予選ヒート-総合結果表（整列）'!$1:$1,0)),"") -> TBT RT with まえだ眼科 | H36: =IFERROR(INDEX('[1]予選ヒート-総合結果表（整列）'!$A:$Z,MATCH($G34,'[1]予選ヒート-総合結果表（整列）'!$A:$A,0),MATCH("team",'[1]予選ヒート-総合結果表（整列）'!$1:$1,0)),"") -> TEAM NAGAO
B38: =IF(MAX('[1]予選ヒート-総合結果表（整列）'!A:A)>G34,G34+1,"") -> 13 | C38: =IFERROR(INDEX('[1]予選ヒート-総合結果表（整列）'!$A:$Z,MATCH($B38,'[1]予選ヒート-総合結果表（整列）'!$A:$A,0),MATCH("No.",'[1]予選ヒート-総合結果表（整列）'!$1:$1,0)),"") -> 25 | D38: =IFERROR(INDEX('[1]予選ヒート-総合結果表（整列）'!$A:$Z,MATCH($B38,'[1]予選ヒート-総合結果表（整列）'!$A:$A,0),MATCH("名前",'[1]予選ヒート-総合結果表（整列）'!$1:$1,0)),"") -> 鈴木 恵武 | G38: =IF(MAX('[1]予選ヒート-総合結果表（整列）'!A:A)>B38,B38+1,"") -> 14 | H38: =IFERROR(INDEX('[1]予選ヒート-総合結果表（整列）'!$A:$Z,MATCH($G38,'[1]予選ヒート-総合結果表（整列）'!$A:$A,0),MATCH("No.",'[1]予選ヒート-総合結果表（整列）'!$1:$1,0)),"") -> 13 | I38: =IFERROR(INDEX('[1]予選ヒート-総合結果表（整列）'!$A:$Z,MATCH($G38,'[1]予選ヒート-総合結果表（整列）'!$A:$A,0),MATCH("名前",'[1]予選ヒート-総合結果表（整列）'!$1:$1,0)),"") -> 向田 一聡
F39: =IFERROR(INDEX('[1]予選ヒート-総合結果表（整列）'!$A:$Z,MATCH($B38,'[1]予選ヒート-総合結果表（整列）'!$A:$A,0),MATCH("Model/Engine",'[1]予選ヒート-総合結果表（整列）'!$1:$1,0)),"") -> KOSMIC/YAMAHA | K39: =IFERROR(INDEX('[1]予選ヒート-総合結果表（整列）'!$A:$Z,MATCH($G38,'[1]予選ヒート-総合結果表（整列）'!$A:$A,0),MATCH("Model/Engine",'[1]予選ヒート-総合結果表（整列）'!$1:$1,0)),"") -> KOSMIC/YAMAHA
C40: =IFERROR(INDEX('[1]予選ヒート-総合結果表（整列）'!$A:$Z,MATCH($B38,'[1]予選ヒート-総合結果表（整列）'!$A:$A,0),MATCH("team",'[1]予選ヒート-総合結果表（整列）'!$1:$1,0)),"") -> Formula Blue 増田スピード | H40: =IFERROR(INDEX('[1]予選ヒート-総合結果表（整列）'!$A:$Z,MATCH($G38,'[1]予選ヒート-総合結果表（整列）'!$A:$A,0),MATCH("team",'[1]予選ヒート-総合結果表（整列）'!$1:$1,0)),"") -> SLT.RT ANT
B42: =IF(MAX('[1]予選ヒート-総合結果表（整列）'!A:A)>G38,G38+1,"") -> 15 | C42: =IFERROR(INDEX('[1]予選ヒート-総合結果表（整列）'!$A:$Z,MATCH($B42,'[1]予選ヒート-総合結果表（整列）'!$A:$A,0),MATCH("No.",'[1]予選ヒート-総合結果表（整列）'!$1:$1,0)),"") -> 10 | D42: =IFERROR(INDEX('[1]予選ヒート-総合結果表（整列）'!$A:$Z,MATCH($B42,'[1]予選ヒート-総合結果表（整列）'!$A:$A,0),MATCH("名前",'[1]予選ヒート-総合結果表（整列）'!$1:$1,0)),"") -> 大越 武 | G42: =IF(MAX('[1]予選ヒート-総合結果表（整列）'!A:A)>B42,B42+1,"") -> 16 | H42: =IFERROR(INDEX('[1]予選ヒート-総合結果表（整列）'!$A:$Z,MATCH($G42,'[1]予選ヒート-総合結果表（整列）'!$A:$A,0),MATCH("No.",'[1]予選ヒート-総合結果表（整列）'!$1:$1,0)),"") -> 33 | I42: =IFERROR(INDEX('[1]予選ヒート-総合結果表（整列）'!$A:$Z,MATCH($G42,'[1]予選ヒート-総合結果表（整列）'!$A:$A,0),MATCH("名前",'[1]予選ヒート-総合結果表（整列）'!$1:$1,0)),"") -> 田上 龍輝
F43: =IFERROR(INDEX('[1]予選ヒート-総合結果表（整列）'!$A:$Z,MATCH($B42,'[1]予選ヒート-総合結果表（整列）'!$A:$A,0),MATCH("Model/Engine",'[1]予選ヒート-総合結果表（整列）'!$1:$1,0)),"") -> TONY KART/YAMAHA | K43: =IFERROR(INDEX('[1]予選ヒート-総合結果表（整列）'!$A:$Z,MATCH($G42,'[1]予選ヒート-総合結果表（整列）'!$A:$A,0),MATCH("Model/Engine",'[1]予選ヒート-総合結果表（整列）'!$1:$1,0)),"") -> Birel ART/YAMAHA
C44: =IFERROR(INDEX('[1]予選ヒート-総合結果表（整列）'!$A:$Z,MATCH($B42,'[1]予選ヒート-総合結果表（整列）'!$A:$A,0),MATCH("team",'[1]予選ヒート-総合結果表（整列）'!$1:$1,0)),"") -> BEMAX RACING | H44: =IFERROR(INDEX('[1]予選ヒート-総合結果表（整列）'!$A:$Z,MATCH($G42,'[1]予選ヒート-総合結果表（整列）'!$A:$A,0),MATCH("team",'[1]予選ヒート-総合結果表（整列）'!$1:$1,0)),"") -> チームKBF
B46: =IF(MAX('[1]予選ヒート-総合結果表（整列）'!A:A)>G42,G42+1,"") -> 17 | C46: =IFERROR(INDEX('[1]予選ヒート-総合結果表（整列）'!$A:$Z,MATCH($B46,'[1]予選ヒート-総合結果表（整列）'!$A:$A,0),MATCH("No.",'[1]予選ヒート-総合結果表（整列）'!$1:$1,0)),"") -> 15 | D46: =IFERROR(INDEX('[1]予選ヒート-総合結果表（整列）'!$A:$Z,MATCH($B46,'[1]予選ヒート-総合結果表（整列）'!$A:$A,0),MATCH("名前",'[1]予選ヒート-総合結果表（整列）'!$1:$1,0)),"") -> 髙田 陽大 | G46: =IF(MAX('[1]予選ヒート-総合結果表（整列）'!A:A)>B46,B46+1,"") -> 18 | H46: =IFERROR(INDEX('[1]予選ヒート-総合結果表（整列）'!$A:$Z,MATCH($G46,'[1]予選ヒート-総合結果表（整列）'!$A:$A,0),MATCH("No.",'[1]予選ヒート-総合結果表（整列）'!$1:$1,0)),"") -> 21 | I46: =IFERROR(INDEX('[1]予選ヒート-総合結果表（整列）'!$A:$Z,MATCH($G46,'[1]予選ヒート-総合結果表（整列）'!$A:$A,0),MATCH("名前",'[1]予選ヒート-総合結果表（整列）'!$1:$1,0)),"") -> 森川 貴光
F47: =IFERROR(INDEX('[1]予選ヒート-総合結果表（整列）'!$A:$Z,MATCH($B46,'[1]予選ヒート-総合結果表（整列）'!$A:$A,0),MATCH("Model/Engine",'[1]予選ヒート-総合結果表（整列）'!$1:$1,0)),"") -> Birel ART/YAMAHA | K47: =IFERROR(INDEX('[1]予選ヒート-総合結果表（整列）'!$A:$Z,MATCH($G46,'[1]予選ヒート-総合結果表（整列）'!$A:$A,0),MATCH("Model/Engine",'[1]予選ヒート-総合結果表（整列）'!$1:$1,0)),"") -> KOSMIC/YAMAHA
C48: =IFERROR(INDEX('[1]予選ヒート-総合結果表（整列）'!$A:$Z,MATCH($B46,'[1]予選ヒート-総合結果表（整列）'!$A:$A,0),MATCH("team",'[1]予選ヒート-総合結果表（整列）'!$1:$1,0)),"") -> Super Racing Junkie! | H48: =IFERROR(INDEX('[1]予選ヒート-総合結果表（整列）'!$A:$Z,MATCH($G46,'[1]予選ヒート-総合結果表（整列）'!$A:$A,0),MATCH("team",'[1]予選ヒート-総合結果表（整列）'!$1:$1,0)),"") -> HIRAI PROJECT with Ash
B50: =IF(MAX('[1]予選ヒート-総合結果表（整列）'!A:A)>G46,G46+1,"") -> 19 | C50: =IFERROR(INDEX('[1]予選ヒート-総合結果表（整列）'!$A:$Z,MATCH($B50,'[1]予選ヒート-総合結果表（整列）'!$A:$A,0),MATCH("No.",'[1]予選ヒート-総合結果表（整列）'!$1:$1,0)),"") -> 55 | D50: =IFERROR(INDEX('[1]予選ヒート-総合結果表（整列）'!$A:$Z,MATCH($B50,'[1]予選ヒート-総合結果表（整列）'!$A:$A,0),MATCH("名前",'[1]予選ヒート-総合結果表（整列）'!$1:$1,0)),"") -> 大井 偉史 | G50: =IF(MAX('[1]予選ヒート-総合結果表（整列）'!A:A)>B50,B50+1,"") -> 20 | H50: =IFERROR(INDEX('[1]予選ヒート-総合結果表（整列）'!$A:$Z,MATCH($G50,'[1]予選ヒート-総合結果表（整列）'!$A:$A,0),MATCH("No.",'[1]予選ヒート-総合結果表（整列）'!$1:$1,0)),"") -> 86 | I50: =IFERROR(INDEX('[1]予選ヒート-総合結果表（整列）'!$A:$Z,MATCH($G50,'[1]予選ヒート-総合結果表（整列）'!$A:$A,0),MATCH("名前",'[1]予選ヒート-総合結果表（整列）'!$1:$1,0)),"") -> 内海 陽翔
F51: =IFERROR(INDEX('[1]予選ヒート-総合結果表（整列）'!$A:$Z,MATCH($B50,'[1]予選ヒート-総合結果表（整列）'!$A:$A,0),MATCH("Model/Engine",'[1]予選ヒート-総合結果表（整列）'!$1:$1,0)),"") -> GILLARD TG17/YAMAHA | K51: =IFERROR(INDEX('[1]予選ヒート-総合結果表（整列）'!$A:$Z,MATCH($G50,'[1]予選ヒート-総合結果表（整列）'!$A:$A,0),MATCH("Model/Engine",'[1]予選ヒート-総合結果表（整列）'!$1:$1,0)),"") -> REDSPEED/YAMAHA
C52: =IFERROR(INDEX('[1]予選ヒート-総合結果表（整列）'!$A:$Z,MATCH($B50,'[1]予選ヒート-総合結果表（整列）'!$A:$A,0),MATCH("team",'[1]予選ヒート-総合結果表（整列）'!$1:$1,0)),"") -> Vifonte with Ash | H52: =IFERROR(INDEX('[1]予選ヒート-総合結果表（整列）'!$A:$Z,MATCH($G50,'[1]予選ヒート-総合結果表（整列）'!$A:$A,0),MATCH("team",'[1]予選ヒート-総合結果表（整列）'!$1:$1,0)),"") -> シナジーリンクス
B54: =IF(MAX('[1]予選ヒート-総合結果表（整列）'!A:A)>G50,G50+1,"") -> 21 | C54: =IFERROR(INDEX('[1]予選ヒート-総合結果表（整列）'!$A:$Z,MATCH($B54,'[1]予選ヒート-総合結果表（整列）'!$A:$A,0),MATCH("No.",'[1]予選ヒート-総合結果表（整列）'!$1:$1,0)),"") -> 64 | D54: =IFERROR(INDEX('[1]予選ヒート-総合結果表（整列）'!$A:$Z,MATCH($B54,'[1]予選ヒート-総合結果表（整列）'!$A:$A,0),MATCH("名前",'[1]予選ヒート-総合結果表（整列）'!$1:$1,0)),"") -> 角田 侑進 | G54: =IF(MAX('[1]予選ヒート-総合結果表（整列）'!A:A)>B54,B54+1,"") -> 22 | H54: =IFERROR(INDEX('[1]予選ヒート-総合結果表（整列）'!$A:$Z,MATCH($G54,'[1]予選ヒート-総合結果表（整列）'!$A:$A,0),MATCH("No.",'[1]予選ヒート-総合結果表（整列）'!$1:$1,0)),"") -> 36 | I54: =IFERROR(INDEX('[1]予選ヒート-総合結果表（整列）'!$A:$Z,MATCH($G54,'[1]予選ヒート-総合結果表（整列）'!$A:$A,0),MATCH("名前",'[1]予選ヒート-総合結果表（整列）'!$1:$1,0)),"") -> 續木 堂統
F55: =IFERROR(INDEX('[1]予選ヒート-総合結果表（整列）'!$A:$Z,MATCH($B54,'[1]予選ヒート-総合結果表（整列）'!$A:$A,0),MATCH("Model/Engine",'[1]予選ヒート-総合結果表（整列）'!$1:$1,0)),"") -> KOSMIC/YAMAHA | K55: =IFERROR(INDEX('[1]予選ヒート-総合結果表（整列）'!$A:$Z,MATCH($G54,'[1]予選ヒート-総合結果表（整列）'!$A:$A,0),MATCH("Model/Engine",'[1]予選ヒート-総合結果表（整列）'!$1:$1,0)),"") -> Praga/YAMAHA
C56: =IFERROR(INDEX('[1]予選ヒート-総合結果表（整列）'!$A:$Z,MATCH($B54,'[1]予選ヒート-総合結果表（整列）'!$A:$A,0),MATCH("team",'[1]予選ヒート-総合結果表（整列）'!$1:$1,0)),"") -> HRT | H56: =IFERROR(INDEX('[1]予選ヒート-総合結果表（整列）'!$A:$Z,MATCH($G54,'[1]予選ヒート-総合結果表（整列）'!$A:$A,0),MATCH("team",'[1]予選ヒート-総合結果表（整列）'!$1:$1,0)),"") -> ガレージC
B58: =IF(MAX('[1]予選ヒート-総合結果表（整列）'!A:A)>G54,G54+1,"") -> 23 | C58: =IFERROR(INDEX('[1]予選ヒート-総合結果表（整列）'!$A:$Z,MATCH($B58,'[1]予選ヒート-総合結果表（整列）'!$A:$A,0),MATCH("No.",'[1]予選ヒート-総合結果表（整列）'!$1:$1,0)),"") -> 51 | D58: =IFERROR(INDEX('[1]予選ヒート-総合結果表（整列）'!$A:$Z,MATCH($B58,'[1]予選ヒート-総合結果表（整列）'!$A:$A,0),MATCH("名前",'[1]予選ヒート-総合結果表（整列）'!$1:$1,0)),"") -> 宮﨑 琉 | G58: =IF(MAX('[1]予選ヒート-総合結果表（整列）'!A:A)>B58,B58+1,"") -> 24 | H58: =IFERROR(INDEX('[1]予選ヒート-総合結果表（整列）'!$A:$Z,MATCH($G58,'[1]予選ヒート-総合結果表（整列）'!$A:$A,0),MATCH("No.",'[1]予選ヒート-総合結果表（整列）'!$1:$1,0)),"") -> 34 | I58: =IFERROR(INDEX('[1]予選ヒート-総合結果表（整列）'!$A:$Z,MATCH($G58,'[1]予選ヒート-総合結果表（整列）'!$A:$A,0),MATCH("名前",'[1]予選ヒート-総合結果表（整列）'!$1:$1,0)),"") -> 増田 貴久
F59: =IFERROR(INDEX('[1]予選ヒート-総合結果表（整列）'!$A:$Z,MATCH($B58,'[1]予選ヒート-総合結果表（整列）'!$A:$A,0),MATCH("Model/Engine",'[1]予選ヒート-総合結果表（整列）'!$1:$1,0)),"") -> Birel ART/YAMAHA | K59: =IFERROR(INDEX('[1]予選ヒート-総合結果表（整列）'!$A:$Z,MATCH($G58,'[1]予選ヒート-総合結果表（整列）'!$A:$A,0),MATCH("Model/Engine",'[1]予選ヒート-総合結果表（整列）'!$1:$1,0)),"") -> EXPRIT/YAMAHA
C60: =IFERROR(INDEX('[1]予選ヒート-総合結果表（整列）'!$A:$Z,MATCH($B58,'[1]予選ヒート-総合結果表（整列）'!$A:$A,0),MATCH("team",'[1]予選ヒート-総合結果表（整列）'!$1:$1,0)),"") -> ASTECH | H60: =IFERROR(INDEX('[1]予選ヒート-総合結果表（整列）'!$A:$Z,MATCH($G58,'[1]予選ヒート-総合結果表（整列）'!$A:$A,0),MATCH("team",'[1]予選ヒート-総合結果表（整列）'!$1:$1,0)),"") -> LUCE MOTOR SPORTS
B62: =IF(MAX('[1]予選ヒート-総合結果表（整列）'!A:A)>G58,G58+1,"") -> 25 | C62: =IFERROR(INDEX('[1]予選ヒート-総合結果表（整列）'!$A:$Z,MATCH($B62,'[1]予選ヒート-総合結果表（整列）'!$A:$A,0),MATCH("No.",'[1]予選ヒート-総合結果表（整列）'!$1:$1,0)),"") -> 20 | D62: =IFERROR(INDEX('[1]予選ヒート-総合結果表（整列）'!$A:$Z,MATCH($B62,'[1]予選ヒート-総合結果表（整列）'!$A:$A,0),MATCH("名前",'[1]予選ヒート-総合結果表（整列）'!$1:$1,0)),"") -> 岸 秀行 | G62: =IF(MAX('[1]予選ヒート-総合結果表（整列）'!A:A)>B62,B62+1,"") -> 26 | H62: =IFERROR(INDEX('[1]予選ヒート-総合結果表（整列）'!$A:$Z,MATCH($G62,'[1]予選ヒート-総合結果表（整列）'!$A:$A,0),MATCH("No.",'[1]予選ヒート-総合結果表（整列）'!$1:$1,0)),"") -> 22 | I62: =IFERROR(INDEX('[1]予選ヒート-総合結果表（整列）'!$A:$Z,MATCH($G62,'[1]予選ヒート-総合結果表（整列）'!$A:$A,0),MATCH("名前",'[1]予選ヒート-総合結果表（整列）'!$1:$1,0)),"") -> 酒井 翔太
F63: =IFERROR(INDEX('[1]予選ヒート-総合結果表（整列）'!$A:$Z,MATCH($B62,'[1]予選ヒート-総合結果表（整列）'!$A:$A,0),MATCH("Model/Engine",'[1]予選ヒート-総合結果表（整列）'!$1:$1,0)),"") -> KOSMIC/YAMAHA | K63: =IFERROR(INDEX('[1]予選ヒート-総合結果表（整列）'!$A:$Z,MATCH($G62,'[1]予選ヒート-総合結果表（整列）'!$A:$A,0),MATCH("Model/Engine",'[1]予選ヒート-総合結果表（整列）'!$1:$1,0)),"") -> TONY KART/YAMAHA
C64: =IFERROR(INDEX('[1]予選ヒート-総合結果表（整列）'!$A:$Z,MATCH($B62,'[1]予選ヒート-総合結果表（整列）'!$A:$A,0),MATCH("team",'[1]予選ヒート-総合結果表（整列）'!$1:$1,0)),"") -> チームナガオ・大阪鶴見法律事務所 | H64: =IFERROR(INDEX('[1]予選ヒート-総合結果表（整列）'!$A:$Z,MATCH($G62,'[1]予選ヒート-総合結果表（整列）'!$A:$A,0),MATCH("team",'[1]予選ヒート-総合結果表（整列）'!$1:$1,0)),"") -> FIRST GARAGE BEMAX
B66: =IF(MAX('[1]予選ヒート-総合結果表（整列）'!A:A)>G62,G62+1,"") -> 27 | C66: =IFERROR(INDEX('[1]予選ヒート-総合結果表（整列）'!$A:$Z,MATCH($B66,'[1]予選ヒート-総合結果表（整列）'!$A:$A,0),MATCH("No.",'[1]予選ヒート-総合結果表（整列）'!$1:$1,0)),"") -> 18 | D66: =IFERROR(INDEX('[1]予選ヒート-総合結果表（整列）'!$A:$Z,MATCH($B66,'[1]予選ヒート-総合結果表（整列）'!$A:$A,0),MATCH("名前",'[1]予選ヒート-総合結果表（整列）'!$1:$1,0)),"") -> 吉田 広樹 | G66: =IF(MAX('[1]予選ヒート-総合結果表（整列）'!A:A)>B66,B66+1,"") -> 28 | H66: =IFERROR(INDEX('[1]予選ヒート-総合結果表（整列）'!$A:$Z,MATCH($G66,'[1]予選ヒート-総合結果表（整列）'!$A:$A,0),MATCH("No.",'[1]予選ヒート-総合結果表（整列）'!$1:$1,0)),"") -> 57 | I66: =IFERROR(INDEX('[1]予選ヒート-総合結果表（整列）'!$A:$Z,MATCH($G66,'[1]予選ヒート-総合結果表（整列）'!$A:$A,0),MATCH("名前",'[1]予選ヒート-総合結果表（整列）'!$1:$1,0)),"") -> 米林 慶晃
F67: =IFERROR(INDEX('[1]予選ヒート-総合結果表（整列）'!$A:$Z,MATCH($B66,'[1]予選ヒート-総合結果表（整列）'!$A:$A,0),MATCH("Model/Engine",'[1]予選ヒート-総合結果表（整列）'!$1:$1,0)),"") -> Birel ART/YAMAHA | K67: =IFERROR(INDEX('[1]予選ヒート-総合結果表（整列）'!$A:$Z,MATCH($G66,'[1]予選ヒート-総合結果表（整列）'!$A:$A,0),MATCH("Model/Engine",'[1]予選ヒート-総合結果表（整列）'!$1:$1,0)),"") -> EXPRIT/YAMAHA
C68: =IFERROR(INDEX('[1]予選ヒート-総合結果表（整列）'!$A:$Z,MATCH($B66,'[1]予選ヒート-総合結果表（整列）'!$A:$A,0),MATCH("team",'[1]予選ヒート-総合結果表（整列）'!$1:$1,0)),"") -> のりものクラブエッフェガーラ | H68: =IFERROR(INDEX('[1]予選ヒート-総合結果表（整列）'!$A:$Z,MATCH($G66,'[1]予選ヒート-総合結果表（整列）'!$A:$A,0),MATCH("team",'[1]予選ヒート-総合結果表（整列）'!$1:$1,0)),"") -> REON RACING TEAM
A70: 1 | B70: 29 | C70: =IFERROR(INDEX('[1]2ndヒート - レース結果（貼付）'!$A:$Z,MATCH($A70,'[1]2ndヒート - レース結果（貼付）'!$A:$A,0),MATCH("No.",'[1]2ndヒート - レース結果（貼付）'!$1:$1,0)),"") -> 27 | D70: =IFERROR(INDEX('[1]2ndヒート - レース結果（貼付）'!$A:$Z,MATCH($A70,'[1]2ndヒート - レース結果（貼付）'!$A:$A,0),MATCH("名前",'[1]2ndヒート - レース結果（貼付）'!$1:$1,0)),"") -> 舟橋 弘典 | G70: 30 | H70: =IFERROR(INDEX('[1]2ndヒート - レース結果（貼付）'!$A:$Z,MATCH($A72,'[1]2ndヒート - レース結果（貼付）'!$A:$A,0),MATCH("No.",'[1]2ndヒート - レース結果（貼付）'!$1:$1,0)),"") -> 17 | I70: =IFERROR(INDEX('[1]2ndヒート - レース結果（貼付）'!$A:$Z,MATCH($A72,'[1]2ndヒート - レース結果（貼付）'!$A:$A,0),MATCH("名前",'[1]2ndヒート - レース結果（貼付）'!$1:$1,0)),"") -> 坂 裕之
F71: =IFERROR(INDEX('[1]2ndヒート - レース結果（貼付）'!$A:$Z,MATCH($A70,'[1]2ndヒート - レース結果（貼付）'!$A:$A,0),MATCH("Model/Engine",'[1]2ndヒート - レース結果（貼付）'!$1:$1,0)),"") -> KOSMIC/YAMAHA | K71: =IFERROR(INDEX('[1]2ndヒート - レース結果（貼付）'!$A:$Z,MATCH($A72,'[1]2ndヒート - レース結果（貼付）'!$A:$A,0),MATCH("Model/Engine",'[1]2ndヒート - レース結果（貼付）'!$1:$1,0)),"") -> SWF/YAMAHA
A72: 2 | C72: =IFERROR(INDEX('[1]2ndヒート - レース結果（貼付）'!$A:$Z,MATCH($A70,'[1]2ndヒート - レース結果（貼付）'!$A:$A,0),MATCH("team",'[1]2ndヒート - レース結果（貼付）'!$1:$1,0)),"") -> HIRAIPROJECT With Ash | H72: =IFERROR(INDEX('[1]2ndヒート - レース結果（貼付）'!$A:$Z,MATCH($A72,'[1]2ndヒート - レース結果（貼付）'!$A:$A,0),MATCH("team",'[1]2ndヒート - レース結果（貼付）'!$1:$1,0)),"") -> のりものクラブTIGRE
A74: 3 | B74: 31 | C74: =IFERROR(INDEX('[1]2ndヒート - レース結果（貼付）'!$A:$Z,MATCH($A74,'[1]2ndヒート - レース結果（貼付）'!$A:$A,0),MATCH("No.",'[1]2ndヒート - レース結果（貼付）'!$1:$1,0)),"") -> 71 | D74: =IFERROR(INDEX('[1]2ndヒート - レース結果（貼付）'!$A:$Z,MATCH($A74,'[1]2ndヒート - レース結果（貼付）'!$A:$A,0),MATCH("名前",'[1]2ndヒート - レース結果（貼付）'!$1:$1,0)),"") -> 上田 優季 | G74: 32 | H74: =IFERROR(INDEX('[1]2ndヒート - レース結果（貼付）'!$A:$Z,MATCH($A76,'[1]2ndヒート - レース結果（貼付）'!$A:$A,0),MATCH("No.",'[1]2ndヒート - レース結果（貼付）'!$1:$1,0)),"") -> 96 | I74: =IFERROR(INDEX('[1]2ndヒート - レース結果（貼付）'!$A:$Z,MATCH($A76,'[1]2ndヒート - レース結果（貼付）'!$A:$A,0),MATCH("名前",'[1]2ndヒート - レース結果（貼付）'!$1:$1,0)),"") -> 大野 弘志
F75: =IFERROR(INDEX('[1]2ndヒート - レース結果（貼付）'!$A:$Z,MATCH($A74,'[1]2ndヒート - レース結果（貼付）'!$A:$A,0),MATCH("Model/Engine",'[1]2ndヒート - レース結果（貼付）'!$1:$1,0)),"") -> CL/YAMAHA | K75: =IFERROR(INDEX('[1]2ndヒート - レース結果（貼付）'!$A:$Z,MATCH($A76,'[1]2ndヒート - レース結果（貼付）'!$A:$A,0),MATCH("Model/Engine",'[1]2ndヒート - レース結果（貼付）'!$1:$1,0)),"") -> EXPRIT/YAMAHA
A76: 4 | C76: =IFERROR(INDEX('[1]2ndヒート - レース結果（貼付）'!$A:$Z,MATCH($A74,'[1]2ndヒート - レース結果（貼付）'!$A:$A,0),MATCH("team",'[1]2ndヒート - レース結果（貼付）'!$1:$1,0)),"") -> カートガレージクラッシュメイト | H76: =IFERROR(INDEX('[1]2ndヒート - レース結果（貼付）'!$A:$Z,MATCH($A76,'[1]2ndヒート - レース結果（貼付）'!$A:$A,0),MATCH("team",'[1]2ndヒート - レース結果（貼付）'!$1:$1,0)),"") -> SLT.RT/Team BONJIN
A78: 5 | B78: 33 | C78: =IFERROR(INDEX('[1]2ndヒート - レース結果（貼付）'!$A:$Z,MATCH($A78,'[1]2ndヒート - レース結果（貼付）'!$A:$A,0),MATCH("No.",'[1]2ndヒート - レース結果（貼付）'!$1:$1,0)),"") -> 54 | D78: =IFERROR(INDEX('[1]2ndヒート - レース結果（貼付）'!$A:$Z,MATCH($A78,'[1]2ndヒート - レース結果（貼付）'!$A:$A,0),MATCH("名前",'[1]2ndヒート - レース結果（貼付）'!$1:$1,0)),"") -> 越路 暢哉 | G78: 34 | H78: =IFERROR(INDEX('[1]2ndヒート - レース結果（貼付）'!$A:$Z,MATCH($A80,'[1]2ndヒート - レース結果（貼付）'!$A:$A,0),MATCH("No.",'[1]2ndヒート - レース結果（貼付）'!$1:$1,0)),"") -> 78 | I78: =IFERROR(INDEX('[1]2ndヒート - レース結果（貼付）'!$A:$Z,MATCH($A80,'[1]2ndヒート - レース結果（貼付）'!$A:$A,0),MATCH("名前",'[1]2ndヒート - レース結果（貼付）'!$1:$1,0)),"") -> 小林 海璃
F79: =IFERROR(INDEX('[1]2ndヒート - レース結果（貼付）'!$A:$Z,MATCH($A78,'[1]2ndヒート - レース結果（貼付）'!$A:$A,0),MATCH("Model/Engine",'[1]2ndヒート - レース結果（貼付）'!$1:$1,0)),"") -> REDSPEED/YAMAHA | K79: =IFERROR(INDEX('[1]2ndヒート - レース結果（貼付）'!$A:$Z,MATCH($A80,'[1]2ndヒート - レース結果（貼付）'!$A:$A,0),MATCH("Model/Engine",'[1]2ndヒート - レース結果（貼付）'!$1:$1,0)),"") -> EXPRIT/YAMAHA
A80: 6 | C80: =IFERROR(INDEX('[1]2ndヒート - レース結果（貼付）'!$A:$Z,MATCH($A78,'[1]2ndヒート - レース結果（貼付）'!$A:$A,0),MATCH("team",'[1]2ndヒート - レース結果（貼付）'!$1:$1,0)),"") -> ONE POINT | H80: =IFERROR(INDEX('[1]2ndヒート - レース結果（貼付）'!$A:$Z,MATCH($A80,'[1]2ndヒート - レース結果（貼付）'!$A:$A,0),MATCH("team",'[1]2ndヒート - レース結果（貼付）'!$1:$1,0)),"") -> ミツサダ PWG RACING
B89: ="審査委員長 ："&" "&[1]各種設定!$D$20 -> 審査委員長 ： Makoto SAITO | F89: ="競技委員長 ："&" "&[1]各種設定!$D$22 -> 競技委員長 ： Toshiaki KUBOTA | J89: ="計時委員長 ："&" "&[1]各種設定!$D$24 -> 計時委員長 ： Tsutomu HAYAKAWA
