Workbook

Sheet 決勝ヒート - レース正式結果表（印刷）
K6: 44878 | M6: :
A7: =+[1]各種設定!D2 -> 2022年 全日本カート選手権 FS-125/FP-3部門 東西統一競技会 | K7: WEATHER: | L7: Rain
K8: COURSE : | L8: Wet
A9: =+[1]各種設定!D4 -> FS-125 | K9: 南コース 1.264Km
A10: 決勝ヒート正式結果表
B11: No. | E11: 名前 | F11: Model/Engine | G11: Team | H11: Tires | I11: Laps | J11: Total Time | K11: 差 | L11: GAP | M11: BestLap | N11: =VLOOKUP(A9,[1]コースレコード!$A:$G,3,FALSE) -> 49.222 | Q11: コメント | S11: ペナルティNo. | T11: グリッドコメント | U11: ベスト平均時速
A12: Pos. | B12: No. | E12: Driver | F12: Type | G12: Team | H12: Tire | I12: Laps | J12: Total Time | K12: Delay | L12: Gap | M12: Best
A13: 1 | B13: =IFERROR(INDEX('[1]決勝ヒート - レース結果（貼付）'!A2:$Z$50,MATCH($A13,'[1]決勝ヒート - レース結果（貼付）'!A2:$A$50,0),MATCH('決勝ヒート - レース正式結果表（印刷）'!B$11,'[1]決勝ヒート - レース結果（貼付）'!$1:$1,0)),"") -> 31 | E13: =IFERROR(INDEX('[1]決勝ヒート - レース結果（貼付）'!$A:$Z,MATCH($B13,'[1]決勝ヒート - レース結果（貼付）'!$B:$B,0),MATCH('決勝ヒート - レース正式結果表（印刷）'!E$11,'[1]決勝ヒート - レース結果（貼付）'!$1:$1,0)),"") -> 中井 陽斗 | F13: =IFERROR(INDEX('[1]決勝ヒート - レース結果（貼付）'!$A:$Z,MATCH($B13,'[1]決勝ヒート - レース結果（貼付）'!$B:$B,0),MATCH('決勝ヒート - レース正式結果表（印刷）'!F$11,'[1]決勝ヒート - レース結果（貼付）'!$1:$1,0)),"") -> CL/IAME | G13: =IFERROR(INDEX('[1]決勝ヒート - レース結果（貼付）'!$A:$Z,MATCH($B13,'[1]決勝ヒート - レース結果（貼付）'!$B:$B,0),MATCH('決勝ヒート - レース正式結果表（印刷）'!G$11,'[1]決勝ヒート - レース結果（貼付）'!$1:$1,0)),"") -> TEAM EMATY | H13: =IFERROR(INDEX('[1]決勝ヒート - レース結果（貼付）'!$A:$Z,MATCH($B13,'[1]決勝ヒート - レース結果（貼付）'!$B:$B,0),MATCH('決勝ヒート - レース正式結果表（印刷）'!H$11,'[1]決勝ヒート - レース結果（貼付）'!$1:$1,0)),"") -> BS | I13: =IFERROR(INDEX('[1]決勝ヒート - レース結果（貼付）'!$A:$Z,MATCH($B13,'[1]決勝ヒート - レース結果（貼付）'!$B:$B,0),MATCH('決勝ヒート - レース正式結果表（印刷）'!I$11,'[1]決勝ヒート - レース結果（貼付）'!$1:$1,0)),"") -> 22 | J13: =IF(A13="DNS","ｽﾀｰﾄ出来ず",IF(A13="DQ","失 格",IFERROR(INDEX('[1]決勝ヒート - レース結果（貼付）'!$A:$Z,MATCH($B13,'[1]決勝ヒート - レース結果（貼付）'!$B:$B,0),MATCH('決勝ヒート - レース正式結果表（印刷）'!J$11,'[1]決勝ヒート - レース結果（貼付）'!$1:$1,0)),""))) -> 0.013910023 | K13: =ROUND((1.264*I13)/(J13*24),2)&"km/h" -> 83.3km/h | M13: =IFERROR(INDEX('[1]決勝ヒート - レース結果（貼付）'!$A:$Z,MATCH($B13,'[1]決勝ヒート - レース結果（貼付）'!$B:$B,0),MATCH('決勝ヒート - レース正式結果表（印刷）'!M$11,'[1]決勝ヒート - レース結果（貼付）'!$1:$1,0)),"") -> 54.275 | N13: =IF(M13<1,"",IF($N$11>M13,"R","")) | Q13: =IF(IFERROR(INDEX('[1]決勝ヒート - レース結果（貼付）'!$A:$Z,MATCH($B13,'[1]決勝ヒート - レース結果（貼付）'!$B:$B,0),MATCH('決勝ヒート - レース正式結果表（印刷）'!Q$11,'[1]決勝ヒート - レース結果（貼付）'!$1:$1,0)),"")=0,"",IFERROR(INDEX('[1]決勝ヒート - レース結果（貼付）'!$A:$Z,MATCH($B13,'[1]決勝ヒート - レース結果（貼付）'!$B:$B,0),MATCH('決勝ヒート - レース正式結果表（印刷）'!Q$11,'[1]決勝ヒート - レース結果（貼付）'!$1:$1,0)),"")) | R13: =IF(Q13="","",COUNTIF($Q$13:Q13,"<>"&"")) | S13: =IFERROR(RANK(R13,$R$13:$R$46,1),"") | T13: =IF(IFERROR(INDEX('[1]決勝ヒート - レース結果（貼付）'!$A:$Z,MATCH($A13,'[1]決勝ヒート - レース結果（貼付）'!$A:$A,0),MATCH('決勝ヒート - レース正式結果表（印刷）'!T$11,'[1]決勝ヒート - レース結果（貼付）'!$1:$1,0)),"")=0,"",IFERROR(INDEX('[1]決勝ヒート - レース結果（貼付）'!$A:$Z,MATCH($A13,'[1]決勝ヒート - レース結果（貼付）'!$A:$A,0),MATCH('決勝ヒート - レース正式結果表（印刷）'!T$11,'[1]決勝ヒート - レース結果（貼付）'!$1:$1,0)),"")) | U13: =IF(IFERROR(INDEX('[1]決勝ヒート - レース結果（貼付）'!$A:$Z,MATCH($B13,'[1]決勝ヒート - レース結果（貼付）'!$B:$B,0),MATCH('決勝ヒート - レース正式結果表（印刷）'!U$11,'[1]決勝ヒート - レース結果（貼付）'!$1:$1,0)),"")=0,"",IFERROR(INDEX('[1]決勝ヒート - レース結果（貼付）'!$A:$Z,MATCH($B13,'[1]決勝ヒート - レース結果（貼付）'!$B:$B,0),MATCH('決勝ヒート - レース正式結果表（印刷）'!U$11,'[1]決勝ヒート - レース結果（貼付）'!$1:$1,0)),"")) -> 83.84
A14: =IF(OR('[1]決勝ヒート - レース結果（貼付）'!A3="DNF",'[1]決勝ヒート - レース結果（貼付）'!A3="DNS",'[1]決勝ヒート - レース結果（貼付）'!A3="DQ"),'[1]決勝ヒート - レース結果（貼付）'!A3,IF(MAX('[1]決勝ヒート - レース結果（貼付）'!A:A)>A13,A13+1,"")) -> 2 | B14: =IFERROR(INDEX('[1]決勝ヒート - レース結果（貼付）'!A3:$Z$50,MATCH($A14,'[1]決勝ヒート - レース結果（貼付）'!A3:$A$50,0),MATCH('決勝ヒート - レース正式結果表（印刷）'!B$11,'[1]決勝ヒート - レース結果（貼付）'!$1:$1,0)),"") -> 19 | E14: =IFERROR(INDEX('[1]決勝ヒート - レース結果（貼付）'!$A:$Z,MATCH($B14,'[1]決勝ヒート - レース結果（貼付）'!$B:$B,0),MATCH('決勝ヒート - レース正式結果表（印刷）'!E$11,'[1]決勝ヒート - レース結果（貼付）'!$1:$1,0)),"") -> 向畑 疾走 | F14: =IFERROR(INDEX('[1]決勝ヒート - レース結果（貼付）'!$A:$Z,MATCH($B14,'[1]決勝ヒート - レース結果（貼付）'!$B:$B,0),MATCH('決勝ヒート - レース正式結果表（印刷）'!F$11,'[1]決勝ヒート - レース結果（貼付）'!$1:$1,0)),"") -> CRG/IAME | G14: =IFERROR(INDEX('[1]決勝ヒート - レース結果（貼付）'!$A:$Z,MATCH($B14,'[1]決勝ヒート - レース結果（貼付）'!$B:$B,0),MATCH('決勝ヒート - レース正式結果表（印刷）'!G$11,'[1]決勝ヒート - レース結果（貼付）'!$1:$1,0)),"") -> KC NAGAHARA | H14: =IFERROR(INDEX('[1]決勝ヒート - レース結果（貼付）'!$A:$Z,MATCH($B14,'[1]決勝ヒート - レース結果（貼付）'!$B:$B,0),MATCH('決勝ヒート - レース正式結果表（印刷）'!H$11,'[1]決勝ヒート - レース結果（貼付）'!$1:$1,0)),"") -> BS | I14: =IF(A14="DNS","",IF(A14="DQ","",IFERROR(INDEX('[1]決勝ヒート - レース結果（貼付）'!$A:$Z,MATCH($A14,'[1]決勝ヒート - レース結果（貼付）'!$A:$A,0),MATCH('決勝ヒート - レース正式結果表（印刷）'!I$11,'[1]決勝ヒート - レース結果（貼付）'!$1:$1,0)),""))) -> 22 | J14: =IF(A14="DNS","ｽﾀｰﾄ出来ず",IF(A14="DQ","失 格",IFERROR(INDEX('[1]決勝ヒート - レース結果（貼付）'!$A:$Z,MATCH($B14,'[1]決勝ヒート - レース結果（貼付）'!$B:$B,0),MATCH('決勝ヒート - レース正式結果表（印刷）'!J$11,'[1]決勝ヒート - レース結果（貼付）'!$1:$1,0)),""))) -> 0.013991539 | K14: =IF(A14="DNS","",IF(A14="DQ","",IFERROR(INDEX('[1]決勝ヒート - レース結果（貼付）'!$A:$Z,MATCH($A14,'[1]決勝ヒート - レース結果（貼付）'!$A:$A,0),MATCH('決勝ヒート - レース正式結果表（印刷）'!K$11,'[1]決勝ヒート - レース結果（貼付）'!$1:$1,0)),""))) -> 7.043 | L14: =IF(A14="DNS","",IF(A14="DQ","",IFERROR(INDEX('[1]決勝ヒート - レース結果（貼付）'!$A:$Z,MATCH($A14,'[1]決勝ヒート - レース結果（貼付）'!$A:$A,0),MATCH('決勝ヒート - レース正式結果表（印刷）'!L$11,'[1]決勝ヒート - レース結果（貼付）'!$1:$1,0)),""))) -> 7.043 | M14: =IF(A14="DNS","",IF(A14="DQ","",IFERROR(INDEX('[1]決勝ヒート - レース結果（貼付）'!$A:$Z,MATCH($B14,'[1]決勝ヒート - レース結果（貼付）'!$B:$B,0),MATCH('決勝ヒート - レース正式結果表（印刷）'!M$11,'[1]決勝ヒート - レース結果（貼付）'!$1:$1,0)),""))) -> 54.252 | N14: =IF(M14<1,"",IF($N$11>M14,"R","")) | Q14: =IF(IFERROR(INDEX('[1]決勝ヒート - レース結果（貼付）'!$A:$Z,MATCH($B14,'[1]決勝ヒート - レース結果（貼付）'!$B:$B,0),MATCH('決勝ヒート - レース正式結果表（印刷）'!Q$11,'[1]決勝ヒート - レース結果（貼付）'!$1:$1,0)),"")=0,"",IFERROR(INDEX('[1]決勝ヒート - レース結果（貼付）'!$A:$Z,MATCH($B14,'[1]決勝ヒート - レース結果（貼付）'!$B:$B,0),MATCH('決勝ヒート - レース正式結果表（印刷）'!Q$11,'[1]決勝ヒート - レース結果（貼付）'!$1:$1,0)),"")) | R14: =IF(Q14="","",COUNTIF($Q$13:Q14,"<>"&"")) | S14: =IFERROR(RANK(R14,$R$13:$R$46,1),"") | T14: =IF(IFERROR(INDEX('[1]決勝ヒート - レース結果（貼付）'!$A:$Z,MATCH($A14,'[1]決勝ヒート - レース結果（貼付）'!$A:$A,0),MATCH('決勝ヒート - レース正式結果表（印刷）'!T$11,'[1]決勝ヒート - レース結果（貼付）'!$1:$1,0)),"")=0,"",IFERROR(INDEX('[1]決勝ヒート - レース結果（貼付）'!$A:$Z,MATCH($A14,'[1]決勝ヒート - レース結果（貼付）'!$A:$A,0),MATCH('決勝ヒート - レース正式結果表（印刷）'!T$11,'[1]決勝ヒート - レース結果（貼付）'!$1:$1,0)),"")) | U14: =IF(IFERROR(INDEX('[1]決勝ヒート - レース結果（貼付）'!$A:$Z,MATCH($B14,'[1]決勝ヒート - レース結果（貼付）'!$B:$B,0),MATCH('決勝ヒート - レース正式結果表（印刷）'!U$11,'[1]決勝ヒート - レース結果（貼付）'!$1:$1,0)),"")=0,"",IFERROR(INDEX('[1]決勝ヒート - レース結果（貼付）'!$A:$Z,MATCH($B14,'[1]決勝ヒート - レース結果（貼付）'!$B:$B,0),MATCH('決勝ヒート - レース正式結果表（印刷）'!U$11,'[1]決勝ヒート - レース結果（貼付）'!$1:$1,0)),"")) -> 83.875
A15: =IF(OR('[1]決勝ヒート - レース結果（貼付）'!A4="DNF",'[1]決勝ヒート - レース結果（貼付）'!A4="DNS",'[1]決勝ヒート - レース結果（貼付）'!A4="DQ"),'[1]決勝ヒート - レース結果（貼付）'!A4,IF(MAX('[1]決勝ヒート - レース結果（貼付）'!A:A)>A14,A14+1,"")) -> 3 | B15: =IFERROR(INDEX('[1]決勝ヒート - レース結果（貼付）'!A4:$Z$50,MATCH($A15,'[1]決勝ヒート - レース結果（貼付）'!A4:$A$50,0),MATCH('決勝ヒート - レース正式結果表（印刷）'!B$11,'[1]決勝ヒート - レース結果（貼付）'!$1:$1,0)),"") -> 83 | E15: =IFERROR(INDEX('[1]決勝ヒート - レース結果（貼付）'!$A:$Z,MATCH($B15,'[1]決勝ヒート - レース結果（貼付）'!$B:$B,0),MATCH('決勝ヒート - レース正式結果表（印刷）'!E$11,'[1]決勝ヒート - レース結果（貼付）'!$1:$1,0)),"") -> 近江川 暖人 | F15: =IFERROR(INDEX('[1]決勝ヒート - レース結果（貼付）'!$A:$Z,MATCH($B15,'[1]決勝ヒート - レース結果（貼付）'!$B:$B,0),MATCH('決勝ヒート - レース正式結果表（印刷）'!F$11,'[1]決勝ヒート - レース結果（貼付）'!$1:$1,0)),"") -> KOSMIC/IAME | G15: =IFERROR(INDEX('[1]決勝ヒート - レース結果（貼付）'!$A:$Z,MATCH($B15,'[1]決勝ヒート - レース結果（貼付）'!$B:$B,0),MATCH('決勝ヒート - レース正式結果表（印刷）'!G$11,'[1]決勝ヒート - レース結果（貼付）'!$1:$1,0)),"") -> HRS JAPAN | H15: =IFERROR(INDEX('[1]決勝ヒート - レース結果（貼付）'!$A:$Z,MATCH($B15,'[1]決勝ヒート - レース結果（貼付）'!$B:$B,0),MATCH('決勝ヒート - レース正式結果表（印刷）'!H$11,'[1]決勝ヒート - レース結果（貼付）'!$1:$1,0)),"") -> BS | I15: =IF(A15="DNS","",IF(A15="DQ","",IFERROR(INDEX('[1]決勝ヒート - レース結果（貼付）'!$A:$Z,MATCH($A15,'[1]決勝ヒート - レース結果（貼付）'!$A:$A,0),MATCH('決勝ヒート - レース正式結果表（印刷）'!I$11,'[1]決勝ヒート - レース結果（貼付）'!$1:$1,0)),""))) -> 22 | J15: =IF(A15="DNS","ｽﾀｰﾄ出来ず",IF(A15="DQ","失 格",IFERROR(INDEX('[1]決勝ヒート - レース結果（貼付）'!$A:$Z,MATCH($B15,'[1]決勝ヒート - レース結果（貼付）'!$B:$B,0),MATCH('決勝ヒート - レース正式結果表（印刷）'!J$11,'[1]決勝ヒート - レース結果（貼付）'!$1:$1,0)),""))) -> 0.014034271 | K15: =IF(A15="DNS","",IF(A15="DQ","",IFERROR(INDEX('[1]決勝ヒート - レース結果（貼付）'!$A:$Z,MATCH($A15,'[1]決勝ヒート - レース結果（貼付）'!$A:$A,0),MATCH('決勝ヒート - レース正式結果表（印刷）'!K$11,'[1]決勝ヒート - レース結果（貼付）'!$1:$1,0)),""))) -> 10.735 | L15: =IF(A15="DNS","",IF(A15="DQ","",IFERROR(INDEX('[1]決勝ヒート - レース結果（貼付）'!$A:$Z,MATCH($A15,'[1]決勝ヒート - レース結果（貼付）'!$A:$A,0),MATCH('決勝ヒート - レース正式結果表（印刷）'!L$11,'[1]決勝ヒート - レース結果（貼付）'!$1:$1,0)),""))) -> 3.692 | M15: =IF(A15="DNS","",IF(A15="DQ","",IFERROR(INDEX('[1]決勝ヒート - レース結果（貼付）'!$A:$Z,MATCH($B15,'[1]決勝ヒート - レース結果（貼付）'!$B:$B,0),MATCH('決勝ヒート - レース正式結果表（印刷）'!M$11,'[1]決勝ヒート - レース結果（貼付）'!$1:$1,0)),""))) -> 54.501 | N15: =IF(M15<1,"",IF($N$11>M15,"R","")) | Q15: =IF(IFERROR(INDEX('[1]決勝ヒート - レース結果（貼付）'!$A:$Z,MATCH($B15,'[1]決勝ヒート - レース結果（貼付）'!$B:$B,0),MATCH('決勝ヒート - レース正式結果表（印刷）'!Q$11,'[1]決勝ヒート - レース結果（貼付）'!$1:$1,0)),"")=0,"",IFERROR(INDEX('[1]決勝ヒート - レース結果（貼付）'!$A:$Z,MATCH($B15,'[1]決勝ヒート - レース結果（貼付）'!$B:$B,0),MATCH('決勝ヒート - レース正式結果表（印刷）'!Q$11,'[1]決勝ヒート - レース結果（貼付）'!$1:$1,0)),"")) | R15: =IF(Q15="","",COUNTIF($Q$13:Q15,"<>"&"")) | S15: =IFERROR(RANK(R15,$R$13:$R$46,1),"") | T15: =IF(IFERROR(INDEX('[1]決勝ヒート - レース結果（貼付）'!$A:$Z,MATCH($A15,'[1]決勝ヒート - レース結果（貼付）'!$A:$A,0),MATCH('決勝ヒート - レース正式結果表（印刷）'!T$11,'[1]決勝ヒート - レース結果（貼付）'!$1:$1,0)),"")=0,"",IFERROR(INDEX('[1]決勝ヒート - レース結果（貼付）'!$A:$Z,MATCH($A15,'[1]決勝ヒート - レース結果（貼付）'!$A:$A,0),MATCH('決勝ヒート - レース正式結果表（印刷）'!T$11,'[1]決勝ヒート - レース結果（貼付）'!$1:$1,0)),"")) | U15: =IF(IFERROR(INDEX('[1]決勝ヒート - レース結果（貼付）'!$A:$Z,MATCH($B15,'[1]決勝ヒート - レース結果（貼付）'!$B:$B,0),MATCH('決勝ヒート - レース正式結果表（印刷）'!U$11,'[1]決勝ヒート - レース結果（貼付）'!$1:$1,0)),"")=0,"",IFERROR(INDEX('[1]決勝ヒート - レース結果（貼付）'!$A:$Z,MATCH($B15,'[1]決勝ヒート - レース結果（貼付）'!$B:$B,0),MATCH('決勝ヒート - レース正式結果表（印刷）'!U$11,'[1]決勝ヒート - レース結果（貼付）'!$1:$1,0)),"")) -> 83.492
A16: =IF(OR('[1]決勝ヒート - レース結果（貼付）'!A5="DNF",'[1]決勝ヒート - レース結果（貼付）'!A5="DNS",'[1]決勝ヒート - レース結果（貼付）'!A5="DQ"),'[1]決勝ヒート - レース結果（貼付）'!A5,IF(MAX('[1]決勝ヒート - レース結果（貼付）'!A:A)>A15,A15+1,"")) -> 4 | B16: =IFERROR(INDEX('[1]決勝ヒート - レース結果（貼付）'!A5:$Z$50,MATCH($A16,'[1]決勝ヒート - レース結果（貼付）'!A5:$A$50,0),MATCH('決勝ヒート - レース正式結果表（印刷）'!B$11,'[1]決勝ヒート - レース結果（貼付）'!$1:$1,0)),"") -> 55 | E16: =IFERROR(INDEX('[1]決勝ヒート - レース結果（貼付）'!$A:$Z,MATCH($B16,'[1]決勝ヒート - レース結果（貼付）'!$B:$B,0),MATCH('決勝ヒート - レース正式結果表（印刷）'!E$11,'[1]決勝ヒート - レース結果（貼付）'!$1:$1,0)),"") -> 喜納 颯矢斗 | F16: =IFERROR(INDEX('[1]決勝ヒート - レース結果（貼付）'!$A:$Z,MATCH($B16,'[1]決勝ヒート - レース結果（貼付）'!$B:$B,0),MATCH('決勝ヒート - レース正式結果表（印刷）'!F$11,'[1]決勝ヒート - レース結果（貼付）'!$1:$1,0)),"") -> TONY KART/IAME | G16: =IFERROR(INDEX('[1]決勝ヒート - レース結果（貼付）'!$A:$Z,MATCH($B16,'[1]決勝ヒート - レース結果（貼付）'!$B:$B,0),MATCH('決勝ヒート - レース正式結果表（印刷）'!G$11,'[1]決勝ヒート - レース結果（貼付）'!$1:$1,0)),"") -> YRHKS | H16: =IFERROR(INDEX('[1]決勝ヒート - レース結果（貼付）'!$A:$Z,MATCH($B16,'[1]決勝ヒート - レース結果（貼付）'!$B:$B,0),MATCH('決勝ヒート - レース正式結果表（印刷）'!H$11,'[1]決勝ヒート - レース結果（貼付）'!$1:$1,0)),"") -> BS | I16: =IF(A16="DNS","",IF(A16="DQ","",IFERROR(INDEX('[1]決勝ヒート - レース結果（貼付）'!$A:$Z,MATCH($A16,'[1]決勝ヒート - レース結果（貼付）'!$A:$A,0),MATCH('決勝ヒート - レース正式結果表（印刷）'!I$11,'[1]決勝ヒート - レース結果（貼付）'!$1:$1,0)),""))) -> 22 | J16: =IF(A16="DNS","ｽﾀｰﾄ出来ず",IF(A16="DQ","失 格",IFERROR(INDEX('[1]決勝ヒート - レース結果（貼付）'!$A:$Z,MATCH($B16,'[1]決勝ヒート - レース結果（貼付）'!$B:$B,0),MATCH('決勝ヒート - レース正式結果表（印刷）'!J$11,'[1]決勝ヒート - レース結果（貼付）'!$1:$1,0)),""))) -> 0.01406103 | K16: =IF(A16="DNS","",IF(A16="DQ","",IFERROR(INDEX('[1]決勝ヒート - レース結果（貼付）'!$A:$Z,MATCH($A16,'[1]決勝ヒート - レース結果（貼付）'!$A:$A,0),MATCH('決勝ヒート - レース正式結果表（印刷）'!K$11,'[1]決勝ヒート - レース結果（貼付）'!$1:$1,0)),""))) -> 13.047 | L16: =IF(A16="DNS","",IF(A16="DQ","",IFERROR(INDEX('[1]決勝ヒート - レース結果（貼付）'!$A:$Z,MATCH($A16,'[1]決勝ヒート - レース結果（貼付）'!$A:$A,0),MATCH('決勝ヒート - レース正式結果表（印刷）'!L$11,'[1]決勝ヒート - レース結果（貼付）'!$1:$1,0)),""))) -> 2.312 | M16: =IF(A16="DNS","",IF(A16="DQ","",IFERROR(INDEX('[1]決勝ヒート - レース結果（貼付）'!$A:$Z,MATCH($B16,'[1]決勝ヒート - レース結果（貼付）'!$B:$B,0),MATCH('決勝ヒート - レース正式結果表（印刷）'!M$11,'[1]決勝ヒート - レース結果（貼付）'!$1:$1,0)),""))) -> 54.619 | N16: =IF(M16<1,"",IF($N$11>M16,"R","")) | Q16: =IF(IFERROR(INDEX('[1]決勝ヒート - レース結果（貼付）'!$A:$Z,MATCH($B16,'[1]決勝ヒート - レース結果（貼付）'!$B:$B,0),MATCH('決勝ヒート - レース正式結果表（印刷）'!Q$11,'[1]決勝ヒート - レース結果（貼付）'!$1:$1,0)),"")=0,"",IFERROR(INDEX('[1]決勝ヒート - レース結果（貼付）'!$A:$Z,MATCH($B16,'[1]決勝ヒート - レース結果（貼付）'!$B:$B,0),MATCH('決勝ヒート - レース正式結果表（印刷）'!Q$11,'[1]決勝ヒート - レース結果（貼付）'!$1:$1,0)),"")) | R16: =IF(Q16="","",COUNTIF($Q$13:Q16,"<>"&"")) | S16: =IFERROR(RANK(R16,$R$13:$R$46,1),"") | T16: =IF(IFERROR(INDEX('[1]決勝ヒート - レース結果（貼付）'!$A:$Z,MATCH($A16,'[1]決勝ヒート - レース結果（貼付）'!$A:$A,0),MATCH('決勝ヒート - レース正式結果表（印刷）'!T$11,'[1]決勝ヒート - レース結果（貼付）'!$1:$1,0)),"")=0,"",IFERROR(INDEX('[1]決勝ヒート - レース結果（貼付）'!$A:$Z,MATCH($A16,'[1]決勝ヒート - レース結果（貼付）'!$A:$A,0),MATCH('決勝ヒート - レース正式結果表（印刷）'!T$11,'[1]決勝ヒート - レース結果（貼付）'!$1:$1,0)),"")) | U16: =IF(IFERROR(INDEX('[1]決勝ヒート - レース結果（貼付）'!$A:$Z,MATCH($B16,'[1]決勝ヒート - レース結果（貼付）'!$B:$B,0),MATCH('決勝ヒート - レース正式結果表（印刷）'!U$11,'[1]決勝ヒート - レース結果（貼付）'!$1:$1,0)),"")=0,"",IFERROR(INDEX('[1]決勝ヒート - レース結果（貼付）'!$A:$Z,MATCH($B16,'[1]決勝ヒート - レース結果（貼付）'!$B:$B,0),MATCH('決勝ヒート - レース正式結果表（印刷）'!U$11,'[1]決勝ヒート - レース結果（貼付）'!$1:$1,0)),"")) -> 83.602
A17: =IF(OR('[1]決勝ヒート - レース結果（貼付）'!A6="DNF",'[1]決勝ヒート - レース結果（貼付）'!A6="DNS",'[1]決勝ヒート - レース結果（貼付）'!A6="DQ"),'[1]決勝ヒート - レース結果（貼付）'!A6,IF(MAX('[1]決勝ヒート - レース結果（貼付）'!A:A)>A16,A16+1,"")) -> 5 | B17: =IFERROR(INDEX('[1]決勝ヒート - レース結果（貼付）'!A6:$Z$50,MATCH($A17,'[1]決勝ヒート - レース結果（貼付）'!A6:$A$50,0),MATCH('決勝ヒート - レース正式結果表（印刷）'!B$11,'[1]決勝ヒート - レース結果（貼付）'!$1:$1,0)),"") -> 18 | E17: =IFERROR(INDEX('[1]決勝ヒート - レース結果（貼付）'!$A:$Z,MATCH($B17,'[1]決勝ヒート - レース結果（貼付）'!$B:$B,0),MATCH('決勝ヒート - レース正式結果表（印刷）'!E$11,'[1]決勝ヒート - レース結果（貼付）'!$1:$1,0)),"") -> 五十嵐 文太郎 | F17: =IFERROR(INDEX('[1]決勝ヒート - レース結果（貼付）'!$A:$Z,MATCH($B17,'[1]決勝ヒート - レース結果（貼付）'!$B:$B,0),MATCH('決勝ヒート - レース正式結果表（印刷）'!F$11,'[1]決勝ヒート - レース結果（貼付）'!$1:$1,0)),"") -> Birel ART/IAME | G17: =IFERROR(INDEX('[1]決勝ヒート - レース結果（貼付）'!$A:$Z,MATCH($B17,'[1]決勝ヒート - レース結果（貼付）'!$B:$B,0),MATCH('決勝ヒート - レース正式結果表（印刷）'!G$11,'[1]決勝ヒート - レース結果（貼付）'!$1:$1,0)),"") -> Formula Blue エッフェガーラ | H17: =IFERROR(INDEX('[1]決勝ヒート - レース結果（貼付）'!$A:$Z,MATCH($B17,'[1]決勝ヒート - レース結果（貼付）'!$B:$B,0),MATCH('決勝ヒート - レース正式結果表（印刷）'!H$11,'[1]決勝ヒート - レース結果（貼付）'!$1:$1,0)),"") -> BS | I17: =IF(A17="DNS","",IF(A17="DQ","",IFERROR(INDEX('[1]決勝ヒート - レース結果（貼付）'!$A:$Z,MATCH($A17,'[1]決勝ヒート - レース結果（貼付）'!$A:$A,0),MATCH('決勝ヒート - レース正式結果表（印刷）'!I$11,'[1]決勝ヒート - レース結果（貼付）'!$1:$1,0)),""))) -> 22 | J17: =IF(A17="DNS","ｽﾀｰﾄ出来ず",IF(A17="DQ","失 格",IFERROR(INDEX('[1]決勝ヒート - レース結果（貼付）'!$A:$Z,MATCH($B17,'[1]決勝ヒート - レース結果（貼付）'!$B:$B,0),MATCH('決勝ヒート - レース正式結果表（印刷）'!J$11,'[1]決勝ヒート - レース結果（貼付）'!$1:$1,0)),""))) -> 0.014068148 | K17: =IF(A17="DNS","",IF(A17="DQ","",IFERROR(INDEX('[1]決勝ヒート - レース結果（貼付）'!$A:$Z,MATCH($A17,'[1]決勝ヒート - レース結果（貼付）'!$A:$A,0),MATCH('決勝ヒート - レース正式結果表（印刷）'!K$11,'[1]決勝ヒート - レース結果（貼付）'!$1:$1,0)),""))) -> 13.662 | L17: =IF(A17="DNS","",IF(A17="DQ","",IFERROR(INDEX('[1]決勝ヒート - レース結果（貼付）'!$A:$Z,MATCH($A17,'[1]決勝ヒート - レース結果（貼付）'!$A:$A,0),MATCH('決勝ヒート - レース正式結果表（印刷）'!L$11,'[1]決勝ヒート - レース結果（貼付）'!$1:$1,0)),""))) -> 0.615 | M17: =IF(A17="DNS","",IF(A17="DQ","",IFERROR(INDEX('[1]決勝ヒート - レース結果（貼付）'!$A:$Z,MATCH($B17,'[1]決勝ヒート - レース結果（貼付）'!$B:$B,0),MATCH('決勝ヒート - レース正式結果表（印刷）'!M$11,'[1]決勝ヒート - レース結果（貼付）'!$1:$1,0)),""))) -> 54.493 | N17: =IF(M17<1,"",IF($N$11>M17,"R","")) | Q17: =IF(IFERROR(INDEX('[1]決勝ヒート - レース結果（貼付）'!$A:$Z,MATCH($B17,'[1]決勝ヒート - レース結果（貼付）'!$B:$B,0),MATCH('決勝ヒート - レース正式結果表（印刷）'!Q$11,'[1]決勝ヒート - レース結果（貼付）'!$1:$1,0)),"")=0,"",IFERROR(INDEX('[1]決勝ヒート - レース結果（貼付）'!$A:$Z,MATCH($B17,'[1]決勝ヒート - レース結果（貼付）'!$B:$B,0),MATCH('決勝ヒート - レース正式結果表（印刷）'!Q$11,'[1]決勝ヒート - レース結果（貼付）'!$1:$1,0)),"")) | R17: =IF(Q17="","",COUNTIF($Q$13:Q17,"<>"&"")) | S17: =IFERROR(RANK(R17,$R$13:$R$46,1),"") | T17: =IF(IFERROR(INDEX('[1]決勝ヒート - レース結果（貼付）'!$A:$Z,MATCH($A17,'[1]決勝ヒート - レース結果（貼付）'!$A:$A,0),MATCH('決勝ヒート - レース正式結果表（印刷）'!T$11,'[1]決勝ヒート - レース結果（貼付）'!$1:$1,0)),"")=0,"",IFERROR(INDEX('[1]決勝ヒート - レース結果（貼付）'!$A:$Z,MATCH($A17,'[1]決勝ヒート - レース結果（貼付）'!$A:$A,0),MATCH('決勝ヒート - レース正式結果表（印刷）'!T$11,'[1]決勝ヒート - レース結果（貼付）'!$1:$1,0)),"")) | U17: =IF(IFERROR(INDEX('[1]決勝ヒート - レース結果（貼付）'!$A:$Z,MATCH($B17,'[1]決勝ヒート - レース結果（貼付）'!$B:$B,0),MATCH('決勝ヒート - レース正式結果表（印刷）'!U$11,'[1]決勝ヒート - レース結果（貼付）'!$1:$1,0)),"")=0,"",IFERROR(INDEX('[1]決勝ヒート - レース結果（貼付）'!$A:$Z,MATCH($B17,'[1]決勝ヒート - レース結果（貼付）'!$B:$B,0),MATCH('決勝ヒート - レース正式結果表（印刷）'!U$11,'[1]決勝ヒート - レース結果（貼付）'!$1:$1,0)),"")) -> 83.494
A18: =IF(OR('[1]決勝ヒート - レース結果（貼付）'!A7="DNF",'[1]決勝ヒート - レース結果（貼付）'!A7="DNS",'[1]決勝ヒート - レース結果（貼付）'!A7="DQ"),'[1]決勝ヒート - レース結果（貼付）'!A7,IF(MAX('[1]決勝ヒート - レース結果（貼付）'!A:A)>A17,A17+1,"")) -> 6 | B18: =IFERROR(INDEX('[1]決勝ヒート - レース結果（貼付）'!A7:$Z$50,MATCH($A18,'[1]決勝ヒート - レース結果（貼付）'!A7:$A$50,0),MATCH('決勝ヒート - レース正式結果表（印刷）'!B$11,'[1]決勝ヒート - レース結果（貼付）'!$1:$1,0)),"") -> 44 | E18: =IFERROR(INDEX('[1]決勝ヒート - レース結果（貼付）'!$A:$Z,MATCH($B18,'[1]決勝ヒート - レース結果（貼付）'!$B:$B,0),MATCH('決勝ヒート - レース正式結果表（印刷）'!E$11,'[1]決勝ヒート - レース結果（貼付）'!$1:$1,0)),"") -> 菊田 悟 | F18: =IFERROR(INDEX('[1]決勝ヒート - レース結果（貼付）'!$A:$Z,MATCH($B18,'[1]決勝ヒート - レース結果（貼付）'!$B:$B,0),MATCH('決勝ヒート - レース正式結果表（印刷）'!F$11,'[1]決勝ヒート - レース結果（貼付）'!$1:$1,0)),"") -> KOSMIC/IAME | G18: =IFERROR(INDEX('[1]決勝ヒート - レース結果（貼付）'!$A:$Z,MATCH($B18,'[1]決勝ヒート - レース結果（貼付）'!$B:$B,0),MATCH('決勝ヒート - レース正式結果表（印刷）'!G$11,'[1]決勝ヒート - レース結果（貼付）'!$1:$1,0)),"") -> TEAM CRESCENT with ONE POINT | H18: =IFERROR(INDEX('[1]決勝ヒート - レース結果（貼付）'!$A:$Z,MATCH($B18,'[1]決勝ヒート - レース結果（貼付）'!$B:$B,0),MATCH('決勝ヒート - レース正式結果表（印刷）'!H$11,'[1]決勝ヒート - レース結果（貼付）'!$1:$1,0)),"") -> BS | I18: =IF(A18="DNS","",IF(A18="DQ","",IFERROR(INDEX('[1]決勝ヒート - レース結果（貼付）'!$A:$Z,MATCH($A18,'[1]決勝ヒート - レース結果（貼付）'!$A:$A,0),MATCH('決勝ヒート - レース正式結果表（印刷）'!I$11,'[1]決勝ヒート - レース結果（貼付）'!$1:$1,0)),""))) -> 22 | J18: =IF(A18="DNS","ｽﾀｰﾄ出来ず",IF(A18="DQ","失 格",IFERROR(INDEX('[1]決勝ヒート - レース結果（貼付）'!$A:$Z,MATCH($B18,'[1]決勝ヒート - レース結果（貼付）'!$B:$B,0),MATCH('決勝ヒート - レース正式結果表（印刷）'!J$11,'[1]決勝ヒート - レース結果（貼付）'!$1:$1,0)),""))) -> 0.014080023 | K18: =IF(A18="DNS","",IF(A18="DQ","",IFERROR(INDEX('[1]決勝ヒート - レース結果（貼付）'!$A:$Z,MATCH($A18,'[1]決勝ヒート - レース結果（貼付）'!$A:$A,0),MATCH('決勝ヒート - レース正式結果表（印刷）'!K$11,'[1]決勝ヒート - レース結果（貼付）'!$1:$1,0)),""))) -> 14.688 | L18: =IF(A18="DNS","",IF(A18="DQ","",IFERROR(INDEX('[1]決勝ヒート - レース結果（貼付）'!$A:$Z,MATCH($A18,'[1]決勝ヒート - レース結果（貼付）'!$A:$A,0),MATCH('決勝ヒート - レース正式結果表（印刷）'!L$11,'[1]決勝ヒート - レース結果（貼付）'!$1:$1,0)),""))) -> 1.026 | M18: =IF(A18="DNS","",IF(A18="DQ","",IFERROR(INDEX('[1]決勝ヒート - レース結果（貼付）'!$A:$Z,MATCH($B18,'[1]決勝ヒート - レース結果（貼付）'!$B:$B,0),MATCH('決勝ヒート - レース正式結果表（印刷）'!M$11,'[1]決勝ヒート - レース結果（貼付）'!$1:$1,0)),""))) -> 54.382 | N18: =IF(M18<1,"",IF($N$11>M18,"R","")) | Q18: =IF(IFERROR(INDEX('[1]決勝ヒート - レース結果（貼付）'!$A:$Z,MATCH($B18,'[1]決勝ヒート - レース結果（貼付）'!$B:$B,0),MATCH('決勝ヒート - レース正式結果表（印刷）'!Q$11,'[1]決勝ヒート - レース結果（貼付）'!$1:$1,0)),"")=0,"",IFERROR(INDEX('[1]決勝ヒート - レース結果（貼付）'!$A:$Z,MATCH($B18,'[1]決勝ヒート - レース結果（貼付）'!$B:$B,0),MATCH('決勝ヒート - レース正式結果表（印刷）'!Q$11,'[1]決勝ヒート - レース結果（貼付）'!$1:$1,0)),"")) | R18: =IF(Q18="","",COUNTIF($Q$13:Q18,"<>"&"")) | S18: =IFERROR(RANK(R18,$R$13:$R$46,1),"") | T18: =IF(IFERROR(INDEX('[1]決勝ヒート - レース結果（貼付）'!$A:$Z,MATCH($A18,'[1]決勝ヒート - レース結果（貼付）'!$A:$A,0),MATCH('決勝ヒート - レース正式結果表（印刷）'!T$11,'[1]決勝ヒート - レース結果（貼付）'!$1:$1,0)),"")=0,"",IFERROR(INDEX('[1]決勝ヒート - レース結果（貼付）'!$A:$Z,MATCH($A18,'[1]決勝ヒート - レース結果（貼付）'!$A:$A,0),MATCH('決勝ヒート - レース正式結果表（印刷）'!T$11,'[1]決勝ヒート - レース結果（貼付）'!$1:$1,0)),"")) | U18: =IF(IFERROR(INDEX('[1]決勝ヒート - レース結果（貼付）'!$A:$Z,MATCH($B18,'[1]決勝ヒート - レース結果（貼付）'!$B:$B,0),MATCH('決勝ヒート - レース正式結果表（印刷）'!U$11,'[1]決勝ヒート - レース結果（貼付）'!$1:$1,0)),"")=0,"",IFERROR(INDEX('[1]決勝ヒート - レース結果（貼付）'!$A:$Z,MATCH($B18,'[1]決勝ヒート - レース結果（貼付）'!$B:$B,0),MATCH('決勝ヒート - レース正式結果表（印刷）'!U$11,'[1]決勝ヒート - レース結果（貼付）'!$1:$1,0)),"")) -> 83.182
A19: =IF(OR('[1]決勝ヒート - レース結果（貼付）'!A8="DNF",'[1]決勝ヒート - レース結果（貼付）'!A8="DNS",'[1]決勝ヒート - レース結果（貼付）'!A8="DQ"),'[1]決勝ヒート - レース結果（貼付）'!A8,IF(MAX('[1]決勝ヒート - レース結果（貼付）'!A:A)>A18,A18+1,"")) -> 7 | B19: =IFERROR(INDEX('[1]決勝ヒート - レース結果（貼付）'!A8:$Z$50,MATCH($A19,'[1]決勝ヒート - レース結果（貼付）'!A8:$A$50,0),MATCH('決勝ヒート - レース正式結果表（印刷）'!B$11,'[1]決勝ヒート - レース結果（貼付）'!$1:$1,0)),"") -> 73 | E19: =IFERROR(INDEX('[1]決勝ヒート - レース結果（貼付）'!$A:$Z,MATCH($B19,'[1]決勝ヒート - レース結果（貼付）'!$B:$B,0),MATCH('決勝ヒート - レース正式結果表（印刷）'!E$11,'[1]決勝ヒート - レース結果（貼付）'!$1:$1,0)),"") -> 豊島 里空斗 | F19: =IFERROR(INDEX('[1]決勝ヒート - レース結果（貼付）'!$A:$Z,MATCH($B19,'[1]決勝ヒート - レース結果（貼付）'!$B:$B,0),MATCH('決勝ヒート - レース正式結果表（印刷）'!F$11,'[1]決勝ヒート - レース結果（貼付）'!$1:$1,0)),"") -> KOSMIC/IAME | G19: =IFERROR(INDEX('[1]決勝ヒート - レース結果（貼付）'!$A:$Z,MATCH($B19,'[1]決勝ヒート - レース結果（貼付）'!$B:$B,0),MATCH('決勝ヒート - レース正式結果表（印刷）'!G$11,'[1]決勝ヒート - レース結果（貼付）'!$1:$1,0)),"") -> HRTwithカローラ新茨城CSI Racing | H19: =IFERROR(INDEX('[1]決勝ヒート - レース結果（貼付）'!$A:$Z,MATCH($B19,'[1]決勝ヒート - レース結果（貼付）'!$B:$B,0),MATCH('決勝ヒート - レース正式結果表（印刷）'!H$11,'[1]決勝ヒート - レース結果（貼付）'!$1:$1,0)),"") -> BS | I19: =IF(A19="DNS","",IF(A19="DQ","",IFERROR(INDEX('[1]決勝ヒート - レース結果（貼付）'!$A:$Z,MATCH($A19,'[1]決勝ヒート - レース結果（貼付）'!$A:$A,0),MATCH('決勝ヒート - レース正式結果表（印刷）'!I$11,'[1]決勝ヒート - レース結果（貼付）'!$1:$1,0)),""))) -> 22 | J19: =IF(A19="DNS","ｽﾀｰﾄ出来ず",IF(A19="DQ","失 格",IFERROR(INDEX('[1]決勝ヒート - レース結果（貼付）'!$A:$Z,MATCH($B19,'[1]決勝ヒート - レース結果（貼付）'!$B:$B,0),MATCH('決勝ヒート - レース正式結果表（印刷）'!J$11,'[1]決勝ヒート - レース結果（貼付）'!$1:$1,0)),""))) -> 0.014102222 | K19: =IF(A19="DNS","",IF(A19="DQ","",IFERROR(INDEX('[1]決勝ヒート - レース結果（貼付）'!$A:$Z,MATCH($A19,'[1]決勝ヒート - レース結果（貼付）'!$A:$A,0),MATCH('決勝ヒート - レース正式結果表（印刷）'!K$11,'[1]決勝ヒート - レース結果（貼付）'!$1:$1,0)),""))) -> 16.606 | L19: =IF(A19="DNS","",IF(A19="DQ","",IFERROR(INDEX('[1]決勝ヒート - レース結果（貼付）'!$A:$Z,MATCH($A19,'[1]決勝ヒート - レース結果（貼付）'!$A:$A,0),MATCH('決勝ヒート - レース正式結果表（印刷）'!L$11,'[1]決勝ヒート - レース結果（貼付）'!$1:$1,0)),""))) -> 1.918 | M19: =IF(A19="DNS","",IF(A19="DQ","",IFERROR(INDEX('[1]決勝ヒート - レース結果（貼付）'!$A:$Z,MATCH($B19,'[1]決勝ヒート - レース結果（貼付）'!$B:$B,0),MATCH('決勝ヒート - レース正式結果表（印刷）'!M$11,'[1]決勝ヒート - レース結果（貼付）'!$1:$1,0)),""))) -> 54.5 | N19: =IF(M19<1,"",IF($N$11>M19,"R","")) | Q19: =IF(IFERROR(INDEX('[1]決勝ヒート - レース結果（貼付）'!$A:$Z,MATCH($B19,'[1]決勝ヒート - レース結果（貼付）'!$B:$B,0),MATCH('決勝ヒート - レース正式結果表（印刷）'!Q$11,'[1]決勝ヒート - レース結果（貼付）'!$1:$1,0)),"")=0,"",IFERROR(INDEX('[1]決勝ヒート - レース結果（貼付）'!$A:$Z,MATCH($B19,'[1]決勝ヒート - レース結果（貼付）'!$B:$B,0),MATCH('決勝ヒート - レース正式結果表（印刷）'!Q$11,'[1]決勝ヒート - レース結果（貼付）'!$1:$1,0)),"")) -> 全日本カート選手権統一規則書 第38条(25)(フロントフェアリングが正しい装着状態でない)により5秒加算した。 | R19: =IF(Q19="","",COUNTIF($Q$13:Q19,"<>"&"")) -> 7 | S19: =IFERROR(RANK(R19,$R$13:$R$46,1),"") -> 1 | T19: =IF(IFERROR(INDEX('[1]決勝ヒート - レース結果（貼付）'!$A:$Z,MATCH($A19,'[1]決勝ヒート - レース結果（貼付）'!$A:$A,0),MATCH('決勝ヒート - レース正式結果表（印刷）'!T$11,'[1]決勝ヒート - レース結果（貼付）'!$1:$1,0)),"")=0,"",IFERROR(INDEX('[1]決勝ヒート - レース結果（貼付）'!$A:$Z,MATCH($A19,'[1]決勝ヒート - レース結果（貼付）'!$A:$A,0),MATCH('決勝ヒート - レース正式結果表（印刷）'!T$11,'[1]決勝ヒート - レース結果（貼付）'!$1:$1,0)),"")) | U19: =IF(IFERROR(INDEX('[1]決勝ヒート - レース結果（貼付）'!$A:$Z,MATCH($B19,'[1]決勝ヒート - レース結果（貼付）'!$B:$B,0),MATCH('決勝ヒート - レース正式結果表（印刷）'!U$11,'[1]決勝ヒート - レース結果（貼付）'!$1:$1,0)),"")=0,"",IFERROR(INDEX('[1]決勝ヒート - レース結果（貼付）'!$A:$Z,MATCH($B19,'[1]決勝ヒート - レース結果（貼付）'!$B:$B,0),MATCH('決勝ヒート - レース正式結果表（印刷）'!U$11,'[1]決勝ヒート - レース結果（貼付）'!$1:$1,0)),"")) -> 83.383
A20: =IF(OR('[1]決勝ヒート - レース結果（貼付）'!A9="DNF",'[1]決勝ヒート - レース結果（貼付）'!A9="DNS",'[1]決勝ヒート - レース結果（貼付）'!A9="DQ"),'[1]決勝ヒート - レース結果（貼付）'!A9,IF(MAX('[1]決勝ヒート - レース結果（貼付）'!A:A)>A19,A19+1,"")) -> 8 | B20: =IFERROR(INDEX('[1]決勝ヒート - レース結果（貼付）'!A9:$Z$50,MATCH($A20,'[1]決勝ヒート - レース結果（貼付）'!A9:$A$50,0),MATCH('決勝ヒート - レース正式結果表（印刷）'!B$11,'[1]決勝ヒート - レース結果（貼付）'!$1:$1,0)),"") -> 21 | E20: =IFERROR(INDEX('[1]決勝ヒート - レース結果（貼付）'!$A:$Z,MATCH($B20,'[1]決勝ヒート - レース結果（貼付）'!$B:$B,0),MATCH('決勝ヒート - レース正式結果表（印刷）'!E$11,'[1]決勝ヒート - レース結果（貼付）'!$1:$1,0)),"") -> 百瀬 翔 | F20: =IFERROR(INDEX('[1]決勝ヒート - レース結果（貼付）'!$A:$Z,MATCH($B20,'[1]決勝ヒート - レース結果（貼付）'!$B:$B,0),MATCH('決勝ヒート - レース正式結果表（印刷）'!F$11,'[1]決勝ヒート - レース結果（貼付）'!$1:$1,0)),"") -> LN KART/IAME | G20: =IFERROR(INDEX('[1]決勝ヒート - レース結果（貼付）'!$A:$Z,MATCH($B20,'[1]決勝ヒート - レース結果（貼付）'!$B:$B,0),MATCH('決勝ヒート - レース正式結果表（印刷）'!G$11,'[1]決勝ヒート - レース結果（貼付）'!$1:$1,0)),"") -> HRS JAPAN | H20: =IFERROR(INDEX('[1]決勝ヒート - レース結果（貼付）'!$A:$Z,MATCH($B20,'[1]決勝ヒート - レース結果（貼付）'!$B:$B,0),MATCH('決勝ヒート - レース正式結果表（印刷）'!H$11,'[1]決勝ヒート - レース結果（貼付）'!$1:$1,0)),"") -> BS | I20: =IF(A20="DNS","",IF(A20="DQ","",IFERROR(INDEX('[1]決勝ヒート - レース結果（貼付）'!$A:$Z,MATCH($A20,'[1]決勝ヒート - レース結果（貼付）'!$A:$A,0),MATCH('決勝ヒート - レース正式結果表（印刷）'!I$11,'[1]決勝ヒート - レース結果（貼付）'!$1:$1,0)),""))) -> 22 | J20: =IF(A20="DNS","ｽﾀｰﾄ出来ず",IF(A20="DQ","失 格",IFERROR(INDEX('[1]決勝ヒート - レース結果（貼付）'!$A:$Z,MATCH($B20,'[1]決勝ヒート - レース結果（貼付）'!$B:$B,0),MATCH('決勝ヒート - レース正式結果表（印刷）'!J$11,'[1]決勝ヒート - レース結果（貼付）'!$1:$1,0)),""))) -> 0.014110255 | K20: =IF(A20="DNS","",IF(A20="DQ","",IFERROR(INDEX('[1]決勝ヒート - レース結果（貼付）'!$A:$Z,MATCH($A20,'[1]決勝ヒート - レース結果（貼付）'!$A:$A,0),MATCH('決勝ヒート - レース正式結果表（印刷）'!K$11,'[1]決勝ヒート - レース結果（貼付）'!$1:$1,0)),""))) -> 17.3 | L20: =IF(A20="DNS","",IF(A20="DQ","",IFERROR(INDEX('[1]決勝ヒート - レース結果（貼付）'!$A:$Z,MATCH($A20,'[1]決勝ヒート - レース結果（貼付）'!$A:$A,0),MATCH('決勝ヒート - レース正式結果表（印刷）'!L$11,'[1]決勝ヒート - レース結果（貼付）'!$1:$1,0)),""))) -> 0.694 | M20: =IF(A20="DNS","",IF(A20="DQ","",IFERROR(INDEX('[1]決勝ヒート - レース結果（貼付）'!$A:$Z,MATCH($B20,'[1]決勝ヒート - レース結果（貼付）'!$B:$B,0),MATCH('決勝ヒート - レース正式結果表（印刷）'!M$11,'[1]決勝ヒート - レース結果（貼付）'!$1:$1,0)),""))) -> 54.704 | N20: =IF(M20<1,"",IF($N$11>M20,"R","")) | Q20: =IF(IFERROR(INDEX('[1]決勝ヒート - レース結果（貼付）'!$A:$Z,MATCH($B20,'[1]決勝ヒート - レース結果（貼付）'!$B:$B,0),MATCH('決勝ヒート - レース正式結果表（印刷）'!Q$11,'[1]決勝ヒート - レース結果（貼付）'!$1:$1,0)),"")=0,"",IFERROR(INDEX('[1]決勝ヒート - レース結果（貼付）'!$A:$Z,MATCH($B20,'[1]決勝ヒート - レース結果（貼付）'!$B:$B,0),MATCH('決勝ヒート - レース正式結果表（印刷）'!Q$11,'[1]決勝ヒート - レース結果（貼付）'!$1:$1,0)),"")) -> 全日本カート選手権統一規則書 第38条(25)(フロントフェアリングが正しい装着状態でない)により5秒加算した。 | R20: =IF(Q20="","",COUNTIF($Q$13:Q20,"<>"&"")) -> 8 | S20: =IFERROR(RANK(R20,$R$13:$R$46,1),"") -> 2 | T20: =IF(IFERROR(INDEX('[1]決勝ヒート - レース結果（貼付）'!$A:$Z,MATCH($A20,'[1]決勝ヒート - レース結果（貼付）'!$A:$A,0),MATCH('決勝ヒート - レース正式結果表（印刷）'!T$11,'[1]決勝ヒート - レース結果（貼付）'!$1:$1,0)),"")=0,"",IFERROR(INDEX('[1]決勝ヒート - レース結果（貼付）'!$A:$Z,MATCH($A20,'[1]決勝ヒート - レース結果（貼付）'!$A:$A,0),MATCH('決勝ヒート - レース正式結果表（印刷）'!T$11,'[1]決勝ヒート - レース結果（貼付）'!$1:$1,0)),"")) | U20: =IF(IFERROR(INDEX('[1]決勝ヒート - レース結果（貼付）'!$A:$Z,MATCH($B20,'[1]決勝ヒート - レース結果（貼付）'!$B:$B,0),MATCH('決勝ヒート - レース正式結果表（印刷）'!U$11,'[1]決勝ヒート - レース結果（貼付）'!$1:$1,0)),"")=0,"",IFERROR(INDEX('[1]決勝ヒート - レース結果（貼付）'!$A:$Z,MATCH($B20,'[1]決勝ヒート - レース結果（貼付）'!$B:$B,0),MATCH('決勝ヒート - レース正式結果表（印刷）'!U$11,'[1]決勝ヒート - レース結果（貼付）'!$1:$1,0)),"")) -> 83.312
A21: =IF(OR('[1]決勝ヒート - レース結果（貼付）'!A10="DNF",'[1]決勝ヒート - レース結果（貼付）'!A10="DNS",'[1]決勝ヒート - レース結果（貼付）'!A10="DQ"),'[1]決勝ヒート - レース結果（貼付）'!A10,IF(MAX('[1]決勝ヒート - レース結果（貼付）'!A:A)>A20,A20+1,"")) -> 9 | B21: =IFERROR(INDEX('[1]決勝ヒート - レース結果（貼付）'!A10:$Z$50,MATCH($A21,'[1]決勝ヒート - レース結果（貼付）'!A10:$A$50,0),MATCH('決勝ヒート - レース正式結果表（印刷）'!B$11,'[1]決勝ヒート - レース結果（貼付）'!$1:$1,0)),"") -> 30 | E21: =IFERROR(INDEX('[1]決勝ヒート - レース結果（貼付）'!$A:$Z,MATCH($B21,'[1]決勝ヒート - レース結果（貼付）'!$B:$B,0),MATCH('決勝ヒート - レース正式結果表（印刷）'!E$11,'[1]決勝ヒート - レース結果（貼付）'!$1:$1,0)),"") -> 加納 康雅 | F21: =IFERROR(INDEX('[1]決勝ヒート - レース結果（貼付）'!$A:$Z,MATCH($B21,'[1]決勝ヒート - レース結果（貼付）'!$B:$B,0),MATCH('決勝ヒート - レース正式結果表（印刷）'!F$11,'[1]決勝ヒート - レース結果（貼付）'!$1:$1,0)),"") -> CL/IAME | G21: =IFERROR(INDEX('[1]決勝ヒート - レース結果（貼付）'!$A:$Z,MATCH($B21,'[1]決勝ヒート - レース結果（貼付）'!$B:$B,0),MATCH('決勝ヒート - レース正式結果表（印刷）'!G$11,'[1]決勝ヒート - レース結果（貼付）'!$1:$1,0)),"") -> TIGRE | H21: =IFERROR(INDEX('[1]決勝ヒート - レース結果（貼付）'!$A:$Z,MATCH($B21,'[1]決勝ヒート - レース結果（貼付）'!$B:$B,0),MATCH('決勝ヒート - レース正式結果表（印刷）'!H$11,'[1]決勝ヒート - レース結果（貼付）'!$1:$1,0)),"") -> BS | I21: =IF(A21="DNS","",IF(A21="DQ","",IFERROR(INDEX('[1]決勝ヒート - レース結果（貼付）'!$A:$Z,MATCH($A21,'[1]決勝ヒート - レース結果（貼付）'!$A:$A,0),MATCH('決勝ヒート - レース正式結果表（印刷）'!I$11,'[1]決勝ヒート - レース結果（貼付）'!$1:$1,0)),""))) -> 22 | J21: =IF(A21="DNS","ｽﾀｰﾄ出来ず",IF(A21="DQ","失 格",IFERROR(INDEX('[1]決勝ヒート - レース結果（貼付）'!$A:$Z,MATCH($B21,'[1]決勝ヒート - レース結果（貼付）'!$B:$B,0),MATCH('決勝ヒート - レース正式結果表（印刷）'!J$11,'[1]決勝ヒート - レース結果（貼付）'!$1:$1,0)),""))) -> 0.014113287 | K21: =IF(A21="DNS","",IF(A21="DQ","",IFERROR(INDEX('[1]決勝ヒート - レース結果（貼付）'!$A:$Z,MATCH($A21,'[1]決勝ヒート - レース結果（貼付）'!$A:$A,0),MATCH('決勝ヒート - レース正式結果表（印刷）'!K$11,'[1]決勝ヒート - レース結果（貼付）'!$1:$1,0)),""))) -> 17.562 | L21: =IF(A21="DNS","",IF(A21="DQ","",IFERROR(INDEX('[1]決勝ヒート - レース結果（貼付）'!$A:$Z,MATCH($A21,'[1]決勝ヒート - レース結果（貼付）'!$A:$A,0),MATCH('決勝ヒート - レース正式結果表（印刷）'!L$11,'[1]決勝ヒート - レース結果（貼付）'!$1:$1,0)),""))) -> 0.262 | M21: =IF(A21="DNS","",IF(A21="DQ","",IFERROR(INDEX('[1]決勝ヒート - レース結果（貼付）'!$A:$Z,MATCH($B21,'[1]決勝ヒート - レース結果（貼付）'!$B:$B,0),MATCH('決勝ヒート - レース正式結果表（印刷）'!M$11,'[1]決勝ヒート - レース結果（貼付）'!$1:$1,0)),""))) -> 54.677 | N21: =IF(M21<1,"",IF($N$11>M21,"R","")) | Q21: =IF(IFERROR(INDEX('[1]決勝ヒート - レース結果（貼付）'!$A:$Z,MATCH($B21,'[1]決勝ヒート - レース結果（貼付）'!$B:$B,0),MATCH('決勝ヒート - レース正式結果表（印刷）'!Q$11,'[1]決勝ヒート - レース結果（貼付）'!$1:$1,0)),"")=0,"",IFERROR(INDEX('[1]決勝ヒート - レース結果（貼付）'!$A:$Z,MATCH($B21,'[1]決勝ヒート - レース結果（貼付）'!$B:$B,0),MATCH('決勝ヒート - レース正式結果表（印刷）'!Q$11,'[1]決勝ヒート - レース結果（貼付）'!$1:$1,0)),"")) | R21: =IF(Q21="","",COUNTIF($Q$13:Q21,"<>"&"")) | S21: =IFERROR(RANK(R21,$R$13:$R$46,1),"") | T21: =IF(IFERROR(INDEX('[1]決勝ヒート - レース結果（貼付）'!$A:$Z,MATCH($A21,'[1]決勝ヒート - レース結果（貼付）'!$A:$A,0),MATCH('決勝ヒート - レース正式結果表（印刷）'!T$11,'[1]決勝ヒート - レース結果（貼付）'!$1:$1,0)),"")=0,"",IFERROR(INDEX('[1]決勝ヒート - レース結果（貼付）'!$A:$Z,MATCH($A21,'[1]決勝ヒート - レース結果（貼付）'!$A:$A,0),MATCH('決勝ヒート - レース正式結果表（印刷）'!T$11,'[1]決勝ヒート - レース結果（貼付）'!$1:$1,0)),"")) | U21: =IF(IFERROR(INDEX('[1]決勝ヒート - レース結果（貼付）'!$A:$Z,MATCH($B21,'[1]決勝ヒート - レース結果（貼付）'!$B:$B,0),MATCH('決勝ヒート - レース正式結果表（印刷）'!U$11,'[1]決勝ヒート - レース結果（貼付）'!$1:$1,0)),"")=0,"",IFERROR(INDEX('[1]決勝ヒート - レース結果（貼付）'!$A:$Z,MATCH($B21,'[1]決勝ヒート - レース結果（貼付）'!$B:$B,0),MATCH('決勝ヒート - レース正式結果表（印刷）'!U$11,'[1]決勝ヒート - レース結果（貼付）'!$1:$1,0)),"")) -> 83.504
A22: =IF(OR('[1]決勝ヒート - レース結果（貼付）'!A11="DNF",'[1]決勝ヒート - レース結果（貼付）'!A11="DNS",'[1]決勝ヒート - レース結果（貼付）'!A11="DQ"),'[1]決勝ヒート - レース結果（貼付）'!A11,IF(MAX('[1]決勝ヒート - レース結果（貼付）'!A:A)>A21,A21+1,"")) -> 10 | B22: =IFERROR(INDEX('[1]決勝ヒート - レース結果（貼付）'!A11:$Z$50,MATCH($A22,'[1]決勝ヒート - レース結果（貼付）'!A11:$A$50,0),MATCH('決勝ヒート - レース正式結果表（印刷）'!B$11,'[1]決勝ヒート - レース結果（貼付）'!$1:$1,0)),"") -> 39 | E22: =IFERROR(INDEX('[1]決勝ヒート - レース結果（貼付）'!$A:$Z,MATCH($B22,'[1]決勝ヒート - レース結果（貼付）'!$B:$B,0),MATCH('決勝ヒート - レース正式結果表（印刷）'!E$11,'[1]決勝ヒート - レース結果（貼付）'!$1:$1,0)),"") -> 塚本 凛世 | F22: =IFERROR(INDEX('[1]決勝ヒート - レース結果（貼付）'!$A:$Z,MATCH($B22,'[1]決勝ヒート - レース結果（貼付）'!$B:$B,0),MATCH('決勝ヒート - レース正式結果表（印刷）'!F$11,'[1]決勝ヒート - レース結果（貼付）'!$1:$1,0)),"") -> TONY KART/IAME | G22: =IFERROR(INDEX('[1]決勝ヒート - レース結果（貼付）'!$A:$Z,MATCH($B22,'[1]決勝ヒート - レース結果（貼付）'!$B:$B,0),MATCH('決勝ヒート - レース正式結果表（印刷）'!G$11,'[1]決勝ヒート - レース結果（貼付）'!$1:$1,0)),"") -> K.SPEED WIN | H22: =IFERROR(INDEX('[1]決勝ヒート - レース結果（貼付）'!$A:$Z,MATCH($B22,'[1]決勝ヒート - レース結果（貼付）'!$B:$B,0),MATCH('決勝ヒート - レース正式結果表（印刷）'!H$11,'[1]決勝ヒート - レース結果（貼付）'!$1:$1,0)),"") -> BS | I22: =IF(A22="DNS","",IF(A22="DQ","",IFERROR(INDEX('[1]決勝ヒート - レース結果（貼付）'!$A:$Z,MATCH($A22,'[1]決勝ヒート - レース結果（貼付）'!$A:$A,0),MATCH('決勝ヒート - レース正式結果表（印刷）'!I$11,'[1]決勝ヒート - レース結果（貼付）'!$1:$1,0)),""))) -> 22 | J22: =IF(A22="DNS","ｽﾀｰﾄ出来ず",IF(A22="DQ","失 格",IFERROR(INDEX('[1]決勝ヒート - レース結果（貼付）'!$A:$Z,MATCH($B22,'[1]決勝ヒート - レース結果（貼付）'!$B:$B,0),MATCH('決勝ヒート - レース正式結果表（印刷）'!J$11,'[1]決勝ヒート - レース結果（貼付）'!$1:$1,0)),""))) -> 0.014115637 | K22: =IF(A22="DNS","",IF(A22="DQ","",IFERROR(INDEX('[1]決勝ヒート - レース結果（貼付）'!$A:$Z,MATCH($A22,'[1]決勝ヒート - レース結果（貼付）'!$A:$A,0),MATCH('決勝ヒート - レース正式結果表（印刷）'!K$11,'[1]決勝ヒート - レース結果（貼付）'!$1:$1,0)),""))) -> 17.765 | L22: =IF(A22="DNS","",IF(A22="DQ","",IFERROR(INDEX('[1]決勝ヒート - レース結果（貼付）'!$A:$Z,MATCH($A22,'[1]決勝ヒート - レース結果（貼付）'!$A:$A,0),MATCH('決勝ヒート - レース正式結果表（印刷）'!L$11,'[1]決勝ヒート - レース結果（貼付）'!$1:$1,0)),""))) -> 0.203 | M22: =IF(A22="DNS","",IF(A22="DQ","",IFERROR(INDEX('[1]決勝ヒート - レース結果（貼付）'!$A:$Z,MATCH($B22,'[1]決勝ヒート - レース結果（貼付）'!$B:$B,0),MATCH('決勝ヒート - レース正式結果表（印刷）'!M$11,'[1]決勝ヒート - レース結果（貼付）'!$1:$1,0)),""))) -> 54.572 | N22: =IF(M22<1,"",IF($N$11>M22,"R","")) | Q22: =IF(IFERROR(INDEX('[1]決勝ヒート - レース結果（貼付）'!$A:$Z,MATCH($B22,'[1]決勝ヒート - レース結果（貼付）'!$B:$B,0),MATCH('決勝ヒート - レース正式結果表（印刷）'!Q$11,'[1]決勝ヒート - レース結果（貼付）'!$1:$1,0)),"")=0,"",IFERROR(INDEX('[1]決勝ヒート - レース結果（貼付）'!$A:$Z,MATCH($B22,'[1]決勝ヒート - レース結果（貼付）'!$B:$B,0),MATCH('決勝ヒート - レース正式結果表（印刷）'!Q$11,'[1]決勝ヒート - レース結果（貼付）'!$1:$1,0)),"")) -> 全日本カート選手権統一規則書 第38条(25)(フロントフェアリングが正しい装着状態でない)により5秒加算した。 | R22: =IF(Q22="","",COUNTIF($Q$13:Q22,"<>"&"")) -> 10 | S22: =IFERROR(RANK(R22,$R$13:$R$46,1),"") -> 3 | T22: =IF(IFERROR(INDEX('[1]決勝ヒート - レース結果（貼付）'!$A:$Z,MATCH($A22,'[1]決勝ヒート - レース結果（貼付）'!$A:$A,0),MATCH('決勝ヒート - レース正式結果表（印刷）'!T$11,'[1]決勝ヒート - レース結果（貼付）'!$1:$1,0)),"")=0,"",IFERROR(INDEX('[1]決勝ヒート - レース結果（貼付）'!$A:$Z,MATCH($A22,'[1]決勝ヒート - レース結果（貼付）'!$A:$A,0),MATCH('決勝ヒート - レース正式結果表（印刷）'!T$11,'[1]決勝ヒート - レース結果（貼付）'!$1:$1,0)),"")) | U22: =IF(IFERROR(INDEX('[1]決勝ヒート - レース結果（貼付）'!$A:$Z,MATCH($B22,'[1]決勝ヒート - レース結果（貼付）'!$B:$B,0),MATCH('決勝ヒート - レース正式結果表（印刷）'!U$11,'[1]決勝ヒート - レース結果（貼付）'!$1:$1,0)),"")=0,"",IFERROR(INDEX('[1]決勝ヒート - レース結果（貼付）'!$A:$Z,MATCH($B22,'[1]決勝ヒート - レース結果（貼付）'!$B:$B,0),MATCH('決勝ヒート - レース正式結果表（印刷）'!U$11,'[1]決勝ヒート - レース結果（貼付）'!$1:$1,0)),"")) -> 83.553
A23: =IF(OR('[1]決勝ヒート - レース結果（貼付）'!A12="DNF",'[1]決勝ヒート - レース結果（貼付）'!A12="DNS",'[1]決勝ヒート - レース結果（貼付）'!A12="DQ"),'[1]決勝ヒート - レース結果（貼付）'!A12,IF(MAX('[1]決勝ヒート - レース結果（貼付）'!A:A)>A22,A22+1,"")) -> 11 | B23: =IFERROR(INDEX('[1]決勝ヒート - レース結果（貼付）'!A12:$Z$50,MATCH($A23,'[1]決勝ヒート - レース結果（貼付）'!A12:$A$50,0),MATCH('決勝ヒート - レース正式結果表（印刷）'!B$11,'[1]決勝ヒート - レース結果（貼付）'!$1:$1,0)),"") -> 15 | E23: =IFERROR(INDEX('[1]決勝ヒート - レース結果（貼付）'!$A:$Z,MATCH($B23,'[1]決勝ヒート - レース結果（貼付）'!$B:$B,0),MATCH('決勝ヒート - レース正式結果表（印刷）'!E$11,'[1]決勝ヒート - レース結果（貼付）'!$1:$1,0)),"") -> 石田 瑞季 | F23: =IFERROR(INDEX('[1]決勝ヒート - レース結果（貼付）'!$A:$Z,MATCH($B23,'[1]決勝ヒート - レース結果（貼付）'!$B:$B,0),MATCH('決勝ヒート - レース正式結果表（印刷）'!F$11,'[1]決勝ヒート - レース結果（貼付）'!$1:$1,0)),"") -> KOSMIC/IAME | G23: =IFERROR(INDEX('[1]決勝ヒート - レース結果（貼付）'!$A:$Z,MATCH($B23,'[1]決勝ヒート - レース結果（貼付）'!$B:$B,0),MATCH('決勝ヒート - レース正式結果表（印刷）'!G$11,'[1]決勝ヒート - レース結果（貼付）'!$1:$1,0)),"") -> BRAVO-RACING | H23: =IFERROR(INDEX('[1]決勝ヒート - レース結果（貼付）'!$A:$Z,MATCH($B23,'[1]決勝ヒート - レース結果（貼付）'!$B:$B,0),MATCH('決勝ヒート - レース正式結果表（印刷）'!H$11,'[1]決勝ヒート - レース結果（貼付）'!$1:$1,0)),"") -> BS | I23: =IF(A23="DNS","",IF(A23="DQ","",IFERROR(INDEX('[1]決勝ヒート - レース結果（貼付）'!$A:$Z,MATCH($A23,'[1]決勝ヒート - レース結果（貼付）'!$A:$A,0),MATCH('決勝ヒート - レース正式結果表（印刷）'!I$11,'[1]決勝ヒート - レース結果（貼付）'!$1:$1,0)),""))) -> 22 | J23: =IF(A23="DNS","ｽﾀｰﾄ出来ず",IF(A23="DQ","失 格",IFERROR(INDEX('[1]決勝ヒート - レース結果（貼付）'!$A:$Z,MATCH($B23,'[1]決勝ヒート - レース結果（貼付）'!$B:$B,0),MATCH('決勝ヒート - レース正式結果表（印刷）'!J$11,'[1]決勝ヒート - レース結果（貼付）'!$1:$1,0)),""))) -> 0.014118125 | K23: =IF(A23="DNS","",IF(A23="DQ","",IFERROR(INDEX('[1]決勝ヒート - レース結果（貼付）'!$A:$Z,MATCH($A23,'[1]決勝ヒート - レース結果（貼付）'!$A:$A,0),MATCH('決勝ヒート - レース正式結果表（印刷）'!K$11,'[1]決勝ヒート - レース結果（貼付）'!$1:$1,0)),""))) -> 17.98 | L23: =IF(A23="DNS","",IF(A23="DQ","",IFERROR(INDEX('[1]決勝ヒート - レース結果（貼付）'!$A:$Z,MATCH($A23,'[1]決勝ヒート - レース結果（貼付）'!$A:$A,0),MATCH('決勝ヒート - レース正式結果表（印刷）'!L$11,'[1]決勝ヒート - レース結果（貼付）'!$1:$1,0)),""))) -> 0.215 | M23: =IF(A23="DNS","",IF(A23="DQ","",IFERROR(INDEX('[1]決勝ヒート - レース結果（貼付）'!$A:$Z,MATCH($B23,'[1]決勝ヒート - レース結果（貼付）'!$B:$B,0),MATCH('決勝ヒート - レース正式結果表（印刷）'!M$11,'[1]決勝ヒート - レース結果（貼付）'!$1:$1,0)),""))) -> 54.367 | N23: =IF(M23<1,"",IF($N$11>M23,"R","")) | Q23: =IF(IFERROR(INDEX('[1]決勝ヒート - レース結果（貼付）'!$A:$Z,MATCH($B23,'[1]決勝ヒート - レース結果（貼付）'!$B:$B,0),MATCH('決勝ヒート - レース正式結果表（印刷）'!Q$11,'[1]決勝ヒート - レース結果（貼付）'!$1:$1,0)),"")=0,"",IFERROR(INDEX('[1]決勝ヒート - レース結果（貼付）'!$A:$Z,MATCH($B23,'[1]決勝ヒート - レース結果（貼付）'!$B:$B,0),MATCH('決勝ヒート - レース正式結果表（印刷）'!Q$11,'[1]決勝ヒート - レース結果（貼付）'!$1:$1,0)),"")) | R23: =IF(Q23="","",COUNTIF($Q$13:Q23,"<>"&"")) | S23: =IFERROR(RANK(R23,$R$13:$R$46,1),"") | T23: =IF(IFERROR(INDEX('[1]決勝ヒート - レース結果（貼付）'!$A:$Z,MATCH($A23,'[1]決勝ヒート - レース結果（貼付）'!$A:$A,0),MATCH('決勝ヒート - レース正式結果表（印刷）'!T$11,'[1]決勝ヒート - レース結果（貼付）'!$1:$1,0)),"")=0,"",IFERROR(INDEX('[1]決勝ヒート - レース結果（貼付）'!$A:$Z,MATCH($A23,'[1]決勝ヒート - レース結果（貼付）'!$A:$A,0),MATCH('決勝ヒート - レース正式結果表（印刷）'!T$11,'[1]決勝ヒート - レース結果（貼付）'!$1:$1,0)),"")) | U23: =IF(IFERROR(INDEX('[1]決勝ヒート - レース結果（貼付）'!$A:$Z,MATCH($B23,'[1]決勝ヒート - レース結果（貼付）'!$B:$B,0),MATCH('決勝ヒート - レース正式結果表（印刷）'!U$11,'[1]決勝ヒート - レース結果（貼付）'!$1:$1,0)),"")=0,"",IFERROR(INDEX('[1]決勝ヒート - レース結果（貼付）'!$A:$Z,MATCH($B23,'[1]決勝ヒート - レース結果（貼付）'!$B:$B,0),MATCH('決勝ヒート - レース正式結果表（印刷）'!U$11,'[1]決勝ヒート - レース結果（貼付）'!$1:$1,0)),"")) -> 83.675
A24: =IF(OR('[1]決勝ヒート - レース結果（貼付）'!A13="DNF",'[1]決勝ヒート - レース結果（貼付）'!A13="DNS",'[1]決勝ヒート - レース結果（貼付）'!A13="DQ"),'[1]決勝ヒート - レース結果（貼付）'!A13,IF(MAX('[1]決勝ヒート - レース結果（貼付）'!A:A)>A23,A23+1,"")) -> 12 | B24: =IFERROR(INDEX('[1]決勝ヒート - レース結果（貼付）'!A13:$Z$50,MATCH($A24,'[1]決勝ヒート - レース結果（貼付）'!A13:$A$50,0),MATCH('決勝ヒート - レース正式結果表（印刷）'!B$11,'[1]決勝ヒート - レース結果（貼付）'!$1:$1,0)),"") -> 72 | E24: =IFERROR(INDEX('[1]決勝ヒート - レース結果（貼付）'!$A:$Z,MATCH($B24,'[1]決勝ヒート - レース結果（貼付）'!$B:$B,0),MATCH('決勝ヒート - レース正式結果表（印刷）'!E$11,'[1]決勝ヒート - レース結果（貼付）'!$1:$1,0)),"") -> 松井 海翔 | F24: =IFERROR(INDEX('[1]決勝ヒート - レース結果（貼付）'!$A:$Z,MATCH($B24,'[1]決勝ヒート - レース結果（貼付）'!$B:$B,0),MATCH('決勝ヒート - レース正式結果表（印刷）'!F$11,'[1]決勝ヒート - レース結果（貼付）'!$1:$1,0)),"") -> KOSMIC/IAME | G24: =IFERROR(INDEX('[1]決勝ヒート - レース結果（貼付）'!$A:$Z,MATCH($B24,'[1]決勝ヒート - レース結果（貼付）'!$B:$B,0),MATCH('決勝ヒート - レース正式結果表（印刷）'!G$11,'[1]決勝ヒート - レース結果（貼付）'!$1:$1,0)),"") -> HKC | H24: =IFERROR(INDEX('[1]決勝ヒート - レース結果（貼付）'!$A:$Z,MATCH($B24,'[1]決勝ヒート - レース結果（貼付）'!$B:$B,0),MATCH('決勝ヒート - レース正式結果表（印刷）'!H$11,'[1]決勝ヒート - レース結果（貼付）'!$1:$1,0)),"") -> BS | I24: =IF(A24="DNS","",IF(A24="DQ","",IFERROR(INDEX('[1]決勝ヒート - レース結果（貼付）'!$A:$Z,MATCH($A24,'[1]決勝ヒート - レース結果（貼付）'!$A:$A,0),MATCH('決勝ヒート - レース正式結果表（印刷）'!I$11,'[1]決勝ヒート - レース結果（貼付）'!$1:$1,0)),""))) -> 22 | J24: =IF(A24="DNS","ｽﾀｰﾄ出来ず",IF(A24="DQ","失 格",IFERROR(INDEX('[1]決勝ヒート - レース結果（貼付）'!$A:$Z,MATCH($B24,'[1]決勝ヒート - レース結果（貼付）'!$B:$B,0),MATCH('決勝ヒート - レース正式結果表（印刷）'!J$11,'[1]決勝ヒート - レース結果（貼付）'!$1:$1,0)),""))) -> 0.014124687 | K24: =IF(A24="DNS","",IF(A24="DQ","",IFERROR(INDEX('[1]決勝ヒート - レース結果（貼付）'!$A:$Z,MATCH($A24,'[1]決勝ヒート - レース結果（貼付）'!$A:$A,0),MATCH('決勝ヒート - レース正式結果表（印刷）'!K$11,'[1]決勝ヒート - レース結果（貼付）'!$1:$1,0)),""))) -> 18.547 | L24: =IF(A24="DNS","",IF(A24="DQ","",IFERROR(INDEX('[1]決勝ヒート - レース結果（貼付）'!$A:$Z,MATCH($A24,'[1]決勝ヒート - レース結果（貼付）'!$A:$A,0),MATCH('決勝ヒート - レース正式結果表（印刷）'!L$11,'[1]決勝ヒート - レース結果（貼付）'!$1:$1,0)),""))) -> 0.567 | M24: =IF(A24="DNS","",IF(A24="DQ","",IFERROR(INDEX('[1]決勝ヒート - レース結果（貼付）'!$A:$Z,MATCH($B24,'[1]決勝ヒート - レース結果（貼付）'!$B:$B,0),MATCH('決勝ヒート - レース正式結果表（印刷）'!M$11,'[1]決勝ヒート - レース結果（貼付）'!$1:$1,0)),""))) -> 54.682 | N24: =IF(M24<1,"",IF($N$11>M24,"R","")) | Q24: =IF(IFERROR(INDEX('[1]決勝ヒート - レース結果（貼付）'!$A:$Z,MATCH($B24,'[1]決勝ヒート - レース結果（貼付）'!$B:$B,0),MATCH('決勝ヒート - レース正式結果表（印刷）'!Q$11,'[1]決勝ヒート - レース結果（貼付）'!$1:$1,0)),"")=0,"",IFERROR(INDEX('[1]決勝ヒート - レース結果（貼付）'!$A:$Z,MATCH($B24,'[1]決勝ヒート - レース結果（貼付）'!$B:$B,0),MATCH('決勝ヒート - レース正式結果表（印刷）'!Q$11,'[1]決勝ヒート - レース結果（貼付）'!$1:$1,0)),"")) | R24: =IF(Q24="","",COUNTIF($Q$13:Q24,"<>"&"")) | S24: =IFERROR(RANK(R24,$R$13:$R$46,1),"") | T24: =IF(IFERROR(INDEX('[1]決勝ヒート - レース結果（貼付）'!$A:$Z,MATCH($A24,'[1]決勝ヒート - レース結果（貼付）'!$A:$A,0),MATCH('決勝ヒート - レース正式結果表（印刷）'!T$11,'[1]決勝ヒート - レース結果（貼付）'!$1:$1,0)),"")=0,"",IFERROR(INDEX('[1]決勝ヒート - レース結果（貼付）'!$A:$Z,MATCH($A24,'[1]決勝ヒート - レース結果（貼付）'!$A:$A,0),MATCH('決勝ヒート - レース正式結果表（印刷）'!T$11,'[1]決勝ヒート - レース結果（貼付）'!$1:$1,0)),"")) | U24: =IF(IFERROR(INDEX('[1]決勝ヒート - レース結果（貼付）'!$A:$Z,MATCH($B24,'[1]決勝ヒート - レース結果（貼付）'!$B:$B,0),MATCH('決勝ヒート - レース正式結果表（印刷）'!U$11,'[1]決勝ヒート - レース結果（貼付）'!$1:$1,0)),"")=0,"",IFERROR(INDEX('[1]決勝ヒート - レース結果（貼付）'!$A:$Z,MATCH($B24,'[1]決勝ヒート - レース結果（貼付）'!$B:$B,0),MATCH('決勝ヒート - レース正式結果表（印刷）'!U$11,'[1]決勝ヒート - レース結果（貼付）'!$1:$1,0)),"")) -> 83.223
A25: =IF(OR('[1]決勝ヒート - レース結果（貼付）'!A14="DNF",'[1]決勝ヒート - レース結果（貼付）'!A14="DNS",'[1]決勝ヒート - レース結果（貼付）'!A14="DQ"),'[1]決勝ヒート - レース結果（貼付）'!A14,IF(MAX('[1]決勝ヒート - レース結果（貼付）'!A:A)>A24,A24+1,"")) -> 13 | B25: =IFERROR(INDEX('[1]決勝ヒート - レース結果（貼付）'!A14:$Z$50,MATCH($A25,'[1]決勝ヒート - レース結果（貼付）'!A14:$A$50,0),MATCH('決勝ヒート - レース正式結果表（印刷）'!B$11,'[1]決勝ヒート - レース結果（貼付）'!$1:$1,0)),"") -> 58 | E25: =IFERROR(INDEX('[1]決勝ヒート - レース結果（貼付）'!$A:$Z,MATCH($B25,'[1]決勝ヒート - レース結果（貼付）'!$B:$B,0),MATCH('決勝ヒート - レース正式結果表（印刷）'!E$11,'[1]決勝ヒート - レース結果（貼付）'!$1:$1,0)),"") -> 鈴木 悠太 | F25: =IFERROR(INDEX('[1]決勝ヒート - レース結果（貼付）'!$A:$Z,MATCH($B25,'[1]決勝ヒート - レース結果（貼付）'!$B:$B,0),MATCH('決勝ヒート - レース正式結果表（印刷）'!F$11,'[1]決勝ヒート - レース結果（貼付）'!$1:$1,0)),"") -> EXPRIT/IAME | G25: =IFERROR(INDEX('[1]決勝ヒート - レース結果（貼付）'!$A:$Z,MATCH($B25,'[1]決勝ヒート - レース結果（貼付）'!$B:$B,0),MATCH('決勝ヒート - レース正式結果表（印刷）'!G$11,'[1]決勝ヒート - レース結果（貼付）'!$1:$1,0)),"") -> RT WORLD | H25: =IFERROR(INDEX('[1]決勝ヒート - レース結果（貼付）'!$A:$Z,MATCH($B25,'[1]決勝ヒート - レース結果（貼付）'!$B:$B,0),MATCH('決勝ヒート - レース正式結果表（印刷）'!H$11,'[1]決勝ヒート - レース結果（貼付）'!$1:$1,0)),"") -> BS | I25: =IF(A25="DNS","",IF(A25="DQ","",IFERROR(INDEX('[1]決勝ヒート - レース結果（貼付）'!$A:$Z,MATCH($A25,'[1]決勝ヒート - レース結果（貼付）'!$A:$A,0),MATCH('決勝ヒート - レース正式結果表（印刷）'!I$11,'[1]決勝ヒート - レース結果（貼付）'!$1:$1,0)),""))) -> 22 | J25: =IF(A25="DNS","ｽﾀｰﾄ出来ず",IF(A25="DQ","失 格",IFERROR(INDEX('[1]決勝ヒート - レース結果（貼付）'!$A:$Z,MATCH($B25,'[1]決勝ヒート - レース結果（貼付）'!$B:$B,0),MATCH('決勝ヒート - レース正式結果表（印刷）'!J$11,'[1]決勝ヒート - レース結果（貼付）'!$1:$1,0)),""))) -> 0.014133252 | K25: =IF(A25="DNS","",IF(A25="DQ","",IFERROR(INDEX('[1]決勝ヒート - レース結果（貼付）'!$A:$Z,MATCH($A25,'[1]決勝ヒート - レース結果（貼付）'!$A:$A,0),MATCH('決勝ヒート - レース正式結果表（印刷）'!K$11,'[1]決勝ヒート - レース結果（貼付）'!$1:$1,0)),""))) -> 19.287 | L25: =IF(A25="DNS","",IF(A25="DQ","",IFERROR(INDEX('[1]決勝ヒート - レース結果（貼付）'!$A:$Z,MATCH($A25,'[1]決勝ヒート - レース結果（貼付）'!$A:$A,0),MATCH('決勝ヒート - レース正式結果表（印刷）'!L$11,'[1]決勝ヒート - レース結果（貼付）'!$1:$1,0)),""))) -> 0.74 | M25: =IF(A25="DNS","",IF(A25="DQ","",IFERROR(INDEX('[1]決勝ヒート - レース結果（貼付）'!$A:$Z,MATCH($B25,'[1]決勝ヒート - レース結果（貼付）'!$B:$B,0),MATCH('決勝ヒート - レース正式結果表（印刷）'!M$11,'[1]決勝ヒート - レース結果（貼付）'!$1:$1,0)),""))) -> 54.461 | N25: =IF(M25<1,"",IF($N$11>M25,"R","")) | Q25: =IF(IFERROR(INDEX('[1]決勝ヒート - レース結果（貼付）'!$A:$Z,MATCH($B25,'[1]決勝ヒート - レース結果（貼付）'!$B:$B,0),MATCH('決勝ヒート - レース正式結果表（印刷）'!Q$11,'[1]決勝ヒート - レース結果（貼付）'!$1:$1,0)),"")=0,"",IFERROR(INDEX('[1]決勝ヒート - レース結果（貼付）'!$A:$Z,MATCH($B25,'[1]決勝ヒート - レース結果（貼付）'!$B:$B,0),MATCH('決勝ヒート - レース正式結果表（印刷）'!Q$11,'[1]決勝ヒート - レース結果（貼付）'!$1:$1,0)),"")) -> 全日本カート選手権統一規則書 第38条(25)(フロントフェアリングが正しい装着状態でない)により5秒加算した。 | R25: =IF(Q25="","",COUNTIF($Q$13:Q25,"<>"&"")) -> 13 | S25: =IFERROR(RANK(R25,$R$13:$R$46,1),"") -> 4 | T25: =IF(IFERROR(INDEX('[1]決勝ヒート - レース結果（貼付）'!$A:$Z,MATCH($A25,'[1]決勝ヒート - レース結果（貼付）'!$A:$A,0),MATCH('決勝ヒート - レース正式結果表（印刷）'!T$11,'[1]決勝ヒート - レース結果（貼付）'!$1:$1,0)),"")=0,"",IFERROR(INDEX('[1]決勝ヒート - レース結果（貼付）'!$A:$Z,MATCH($A25,'[1]決勝ヒート - レース結果（貼付）'!$A:$A,0),MATCH('決勝ヒート - レース正式結果表（印刷）'!T$11,'[1]決勝ヒート - レース結果（貼付）'!$1:$1,0)),"")) | U25: =IF(IFERROR(INDEX('[1]決勝ヒート - レース結果（貼付）'!$A:$Z,MATCH($B25,'[1]決勝ヒート - レース結果（貼付）'!$B:$B,0),MATCH('決勝ヒート - レース正式結果表（印刷）'!U$11,'[1]決勝ヒート - レース結果（貼付）'!$1:$1,0)),"")=0,"",IFERROR(INDEX('[1]決勝ヒート - レース結果（貼付）'!$A:$Z,MATCH($B25,'[1]決勝ヒート - レース結果（貼付）'!$B:$B,0),MATCH('決勝ヒート - レース正式結果表（印刷）'!U$11,'[1]決勝ヒート - レース結果（貼付）'!$1:$1,0)),"")) -> 83.698
... A33: =IF(OR('[1]決勝ヒート - レース結果（貼付）'!A22="DNF",'[1]決勝ヒート - レース結果（貼付）'!A22="DNS",'[1]決勝ヒート - レース結果（貼付）'!A22="DQ"),'[1]決勝ヒート - レース結果（貼付）'!A22,IF(MAX('[1]決勝ヒート - レース結果（貼付）'!A:A)>A32,A32+1,"")) -> 21 | B33: =IFERROR(INDEX('[1]決勝ヒート - レース結果（貼付）'!A22:$Z$50,MATCH($A33,'[1]決勝ヒート - レース結果（貼付）'!A22:$A$50,0),MATCH('決勝ヒート - レース正式結果表（印刷）'!B$11,'[1]決勝ヒート - レース結果（貼付）'!$1:$1,0)),"") -> 35 | E33: =IFERROR(INDEX('[1]決勝ヒート - レース結果（貼付）'!$A:$Z,MATCH($B33,'[1]決勝ヒート - レース結果（貼付）'!$B:$B,0),MATCH('決勝ヒート - レース正式結果表（印刷）'!E$11,'[1]決勝ヒート - レース結果（貼付）'!$1:$1,0)),"") -> 冨田 真弥 | F33: =IFERROR(INDEX('[1]決勝ヒート - レース結果（貼付）'!$A:$Z,MATCH($B33,'[1]決勝ヒート - レース結果（貼付）'!$B:$B,0),MATCH('決勝ヒート - レース正式結果表（印刷）'!F$11,'[1]決勝ヒート - レース結果（貼付）'!$1:$1,0)),"") -> Drago CORSE/IAME | G33: =IFERROR(INDEX('[1]決勝ヒート - レース結果（貼付）'!$A:$Z,MATCH($B33,'[1]決勝ヒート - レース結果（貼付）'!$B:$B,0),MATCH('決勝ヒート - レース正式結果表（印刷）'!G$11,'[1]決勝ヒート - レース結果（貼付）'!$1:$1,0)),"") -> EHRE MOTOR SPORTS | H33: =IFERROR(INDEX('[1]決勝ヒート - レース結果（貼付）'!$A:$Z,MATCH($B33,'[1]決勝ヒート - レース結果（貼付）'!$B:$B,0),MATCH('決勝ヒート - レース正式結果表（印刷）'!H$11,'[1]決勝ヒート - レース結果（貼付）'!$1:$1,0)),"") -> BS | I33: =IF(A33="DNS","",IF(A33="DQ","",IFERROR(INDEX('[1]決勝ヒート - レース結果（貼付）'!$A:$Z,MATCH($A33,'[1]決勝ヒート - レース結果（貼付）'!$A:$A,0),MATCH('決勝ヒート - レース正式結果表（印刷）'!I$11,'[1]決勝ヒート - レース結果（貼付）'!$1:$1,0)),""))) -> 22 | J33: =IF(A33="DNS","ｽﾀｰﾄ出来ず",IF(A33="DQ","失 格",IFERROR(INDEX('[1]決勝ヒート - レース結果（貼付）'!$A:$Z,MATCH($B33,'[1]決勝ヒート - レース結果（貼付）'!$B:$B,0),MATCH('決勝ヒート - レース正式結果表（印刷）'!J$11,'[1]決勝ヒート - レース結果（貼付）'!$1:$1,0)),""))) -> 0.014563403 | K33: =IF(A33="DNS","",IF(A33="DQ","",IFERROR(INDEX('[1]決勝ヒート - レース結果（貼付）'!$A:$Z,MATCH($A33,'[1]決勝ヒート - レース結果（貼付）'!$A:$A,0),MATCH('決勝ヒート - レース正式結果表（印刷）'!K$11,'[1]決勝ヒート - レース結果（貼付）'!$1:$1,0)),""))) -> 56.452 | L33: =IF(A33="DNS","",IF(A33="DQ","",IFERROR(INDEX('[1]決勝ヒート - レース結果（貼付）'!$A:$Z,MATCH($A33,'[1]決勝ヒート - レース結果（貼付）'!$A:$A,0),MATCH('決勝ヒート - レース正式結果表（印刷）'!L$11,'[1]決勝ヒート - レース結果（貼付）'!$1:$1,0)),""))) -> 7.338 | M33: =IF(A33="DNS","",IF(A33="DQ","",IFERROR(INDEX('[1]決勝ヒート - レース結果（貼付）'!$A:$Z,MATCH($B33,'[1]決勝ヒート - レース結果（貼付）'!$B:$B,0),MATCH('決勝ヒート - レース正式結果表（印刷）'!M$11,'[1]決勝ヒート - レース結果（貼付）'!$1:$1,0)),""))) -> 55.509 | N33: =IF(M33<1,"",IF($N$11>M33,"R","")) | Q33: =IF(IFERROR(INDEX('[1]決勝ヒート - レース結果（貼付）'!$A:$Z,MATCH($B33,'[1]決勝ヒート - レース結果（貼付）'!$B:$B,0),MATCH('決勝ヒート - レース正式結果表（印刷）'!Q$11,'[1]決勝ヒート - レース結果（貼付）'!$1:$1,0)),"")=0,"",IFERROR(INDEX('[1]決勝ヒート - レース結果（貼付）'!$A:$Z,MATCH($B33,'[1]決勝ヒート - レース結果（貼付）'!$B:$B,0),MATCH('決勝ヒート - レース正式結果表（印刷）'!Q$11,'[1]決勝ヒート - レース結果（貼付）'!$1:$1,0)),"")) | R33: =IF(Q33="","",COUNTIF($Q$13:Q33,"<>"&"")) | S33: =IFERROR(RANK(R33,$R$13:$R$46,1),"") | T33: =IF(IFERROR(INDEX('[1]決勝ヒート - レース結果（貼付）'!$A:$Z,MATCH($A33,'[1]決勝ヒート - レース結果（貼付）'!$A:$A,0),MATCH('決勝ヒート - レース正式結果表（印刷）'!T$11,'[1]決勝ヒート - レース結果（貼付）'!$1:$1,0)),"")=0,"",IFERROR(INDEX('[1]決勝ヒート - レース結果（貼付）'!$A:$Z,MATCH($A33,'[1]決勝ヒート - レース結果（貼付）'!$A:$A,0),MATCH('決勝ヒート - レース正式結果表（印刷）'!T$11,'[1]決勝ヒート - レース結果（貼付）'!$1:$1,0)),"")) | U33: =IF(IFERROR(INDEX('[1]決勝ヒート - レース結果（貼付）'!$A:$Z,MATCH($B33,'[1]決勝ヒート - レース結果（貼付）'!$B:$B,0),MATCH('決勝ヒート - レース正式結果表（印刷）'!U$11,'[1]決勝ヒート - レース結果（貼付）'!$1:$1,0)),"")=0,"",IFERROR(INDEX('[1]決勝ヒート - レース結果（貼付）'!$A:$Z,MATCH($B33,'[1]決勝ヒート - レース結果（貼付）'!$B:$B,0),MATCH('決勝ヒート - レース正式結果表（印刷）'!U$11,'[1]決勝ヒート - レース結果（貼付）'!$1:$1,0)),"")) -> 81.976
A34: 以下ﾌｨﾆｯｼｭﾗｲﾝ不通過：
A35: =IF(OR('[1]決勝ヒート - レース結果（貼付）'!A23="DNF",'[1]決勝ヒート - レース結果（貼付）'!A23="DNS",'[1]決勝ヒート - レース結果（貼付）'!A23="DQ"),'[1]決勝ヒート - レース結果（貼付）'!A23,IF(MAX('[1]決勝ヒート - レース結果（貼付）'!A:A)>A33,A33+1,"")) -> 22 | B35: =IFERROR(INDEX('[1]決勝ヒート - レース結果（貼付）'!A23:$Z$50,MATCH($A35,'[1]決勝ヒート - レース結果（貼付）'!A23:$A$50,0),MATCH('決勝ヒート - レース正式結果表（印刷）'!B$11,'[1]決勝ヒート - レース結果（貼付）'!$1:$1,0)),"") -> 13 | E35: =IFERROR(INDEX('[1]決勝ヒート - レース結果（貼付）'!$A:$Z,MATCH($B35,'[1]決勝ヒート - レース結果（貼付）'!$B:$B,0),MATCH('決勝ヒート - レース正式結果表（印刷）'!E$11,'[1]決勝ヒート - レース結果（貼付）'!$1:$1,0)),"") -> 関 優成 | F35: =IFERROR(INDEX('[1]決勝ヒート - レース結果（貼付）'!$A:$Z,MATCH($B35,'[1]決勝ヒート - レース結果（貼付）'!$B:$B,0),MATCH('決勝ヒート - レース正式結果表（印刷）'!F$11,'[1]決勝ヒート - レース結果（貼付）'!$1:$1,0)),"") -> Praga/IAME | G35: =IFERROR(INDEX('[1]決勝ヒート - レース結果（貼付）'!$A:$Z,MATCH($B35,'[1]決勝ヒート - レース結果（貼付）'!$B:$B,0),MATCH('決勝ヒート - レース正式結果表（印刷）'!G$11,'[1]決勝ヒート - レース結果（貼付）'!$1:$1,0)),"") -> TEAMぶるーと | H35: =IFERROR(INDEX('[1]決勝ヒート - レース結果（貼付）'!$A:$Z,MATCH($B35,'[1]決勝ヒート - レース結果（貼付）'!$B:$B,0),MATCH('決勝ヒート - レース正式結果表（印刷）'!H$11,'[1]決勝ヒート - レース結果（貼付）'!$1:$1,0)),"") -> BS | I35: =IF(A35="DNS","",IF(A35="DQ","",IFERROR(INDEX('[1]決勝ヒート - レース結果（貼付）'!$A:$Z,MATCH($A35,'[1]決勝ヒート - レース結果（貼付）'!$A:$A,0),MATCH('決勝ヒート - レース正式結果表（印刷）'!I$11,'[1]決勝ヒート - レース結果（貼付）'!$1:$1,0)),""))) -> 21 | J35: =IF(A35="DNS","ｽﾀｰﾄ出来ず",IF(A35="DQ","失 格",IFERROR(INDEX('[1]決勝ヒート - レース結果（貼付）'!$A:$Z,MATCH($B35,'[1]決勝ヒート - レース結果（貼付）'!$B:$B,0),MATCH('決勝ヒート - レース正式結果表（印刷）'!J$11,'[1]決勝ヒート - レース結果（貼付）'!$1:$1,0)),""))) -> 0.013664016 | K35: =IF(A35="DNS","",IF(A35="DQ","",IFERROR(INDEX('[1]決勝ヒート - レース結果（貼付）'!$A:$Z,MATCH($A35,'[1]決勝ヒート - レース結果（貼付）'!$A:$A,0),MATCH('決勝ヒート - レース正式結果表（印刷）'!K$11,'[1]決勝ヒート - レース結果（貼付）'!$1:$1,0)),""))) -> 1 Lap | L35: =IF(A35="DNS","",IF(A35="DQ","",IFERROR(INDEX('[1]決勝ヒート - レース結果（貼付）'!$A:$Z,MATCH($A35,'[1]決勝ヒート - レース結果（貼付）'!$A:$A,0),MATCH('決勝ヒート - レース正式結果表（印刷）'!L$11,'[1]決勝ヒート - レース結果（貼付）'!$1:$1,0)),""))) -> 1 Lap | M35: =IF(A35="DNS","",IF(A35="DQ","",IFERROR(INDEX('[1]決勝ヒート - レース結果（貼付）'!$A:$Z,MATCH($B35,'[1]決勝ヒート - レース結果（貼付）'!$B:$B,0),MATCH('決勝ヒート - レース正式結果表（印刷）'!M$11,'[1]決勝ヒート - レース結果（貼付）'!$1:$1,0)),""))) -> 55.371 | N35: =IF(M35<1,"",IF($N$11>M35,"R","")) | Q35: =IF(IFERROR(INDEX('[1]決勝ヒート - レース結果（貼付）'!$A:$Z,MATCH($B35,'[1]決勝ヒート - レース結果（貼付）'!$B:$B,0),MATCH('決勝ヒート - レース正式結果表（印刷）'!Q$11,'[1]決勝ヒート - レース結果（貼付）'!$1:$1,0)),"")=0,"",IFERROR(INDEX('[1]決勝ヒート - レース結果（貼付）'!$A:$Z,MATCH($B35,'[1]決勝ヒート - レース結果（貼付）'!$B:$B,0),MATCH('決勝ヒート - レース正式結果表（印刷）'!Q$11,'[1]決勝ヒート - レース結果（貼付）'!$1:$1,0)),"")) | R35: =IF(Q35="","",COUNTIF($Q$13:Q35,"<>"&"")) | S35: =IFERROR(RANK(R35,$R$13:$R$46,1),"") | T35: =IF(IFERROR(INDEX('[1]決勝ヒート - レース結果（貼付）'!$A:$Z,MATCH($A35,'[1]決勝ヒート - レース結果（貼付）'!$A:$A,0),MATCH('決勝ヒート - レース正式結果表（印刷）'!T$11,'[1]決勝ヒート - レース結果（貼付）'!$1:$1,0)),"")=0,"",IFERROR(INDEX('[1]決勝ヒート - レース結果（貼付）'!$A:$Z,MATCH($A35,'[1]決勝ヒート - レース結果（貼付）'!$A:$A,0),MATCH('決勝ヒート - レース正式結果表（印刷）'!T$11,'[1]決勝ヒート - レース結果（貼付）'!$1:$1,0)),"")) | U35: =IF(IFERROR(INDEX('[1]決勝ヒート - レース結果（貼付）'!$A:$Z,MATCH($B35,'[1]決勝ヒート - レース結果（貼付）'!$B:$B,0),MATCH('決勝ヒート - レース正式結果表（印刷）'!U$11,'[1]決勝ヒート - レース結果（貼付）'!$1:$1,0)),"")=0,"",IFERROR(INDEX('[1]決勝ヒート - レース結果（貼付）'!$A:$Z,MATCH($B35,'[1]決勝ヒート - レース結果（貼付）'!$B:$B,0),MATCH('決勝ヒート - レース正式結果表（印刷）'!U$11,'[1]決勝ヒート - レース結果（貼付）'!$1:$1,0)),"")) -> 82.18
A36: =IF(OR('[1]決勝ヒート - レース結果（貼付）'!A24="DNF",'[1]決勝ヒート - レース結果（貼付）'!A24="DNS",'[1]決勝ヒート - レース結果（貼付）'!A24="DQ"),'[1]決勝ヒート - レース結果（貼付）'!A24,IF(MAX('[1]決勝ヒート - レース結果（貼付）'!A:A)>A35,A35+1,"")) -> 23 | B36: =IFERROR(INDEX('[1]決勝ヒート - レース結果（貼付）'!A24:$Z$50,MATCH($A36,'[1]決勝ヒート - レース結果（貼付）'!A24:$A$50,0),MATCH('決勝ヒート - レース正式結果表（印刷）'!B$11,'[1]決勝ヒート - レース結果（貼付）'!$1:$1,0)),"") -> 78 | E36: =IFERROR(INDEX('[1]決勝ヒート - レース結果（貼付）'!$A:$Z,MATCH($B36,'[1]決勝ヒート - レース結果（貼付）'!$B:$B,0),MATCH('決勝ヒート - レース正式結果表（印刷）'!E$11,'[1]決勝ヒート - レース結果（貼付）'!$1:$1,0)),"") -> 福岡 主税 | F36: =IFERROR(INDEX('[1]決勝ヒート - レース結果（貼付）'!$A:$Z,MATCH($B36,'[1]決勝ヒート - レース結果（貼付）'!$B:$B,0),MATCH('決勝ヒート - レース正式結果表（印刷）'!F$11,'[1]決勝ヒート - レース結果（貼付）'!$1:$1,0)),"") -> TONY KART/IAME | G36: =IFERROR(INDEX('[1]決勝ヒート - レース結果（貼付）'!$A:$Z,MATCH($B36,'[1]決勝ヒート - レース結果（貼付）'!$B:$B,0),MATCH('決勝ヒート - レース正式結果表（印刷）'!G$11,'[1]決勝ヒート - レース結果（貼付）'!$1:$1,0)),"") -> SCUDERIA SFIDA | H36: =IFERROR(INDEX('[1]決勝ヒート - レース結果（貼付）'!$A:$Z,MATCH($B36,'[1]決勝ヒート - レース結果（貼付）'!$B:$B,0),MATCH('決勝ヒート - レース正式結果表（印刷）'!H$11,'[1]決勝ヒート - レース結果（貼付）'!$1:$1,0)),"") -> BS | I36: =IF(A36="DNS","",IF(A36="DQ","",IFERROR(INDEX('[1]決勝ヒート - レース結果（貼付）'!$A:$Z,MATCH($A36,'[1]決勝ヒート - レース結果（貼付）'!$A:$A,0),MATCH('決勝ヒート - レース正式結果表（印刷）'!I$11,'[1]決勝ヒート - レース結果（貼付）'!$1:$1,0)),""))) -> 21 | J36: =IF(A36="DNS","ｽﾀｰﾄ出来ず",IF(A36="DQ","失 格",IFERROR(INDEX('[1]決勝ヒート - レース結果（貼付）'!$A:$Z,MATCH($B36,'[1]決勝ヒート - レース結果（貼付）'!$B:$B,0),MATCH('決勝ヒート - レース正式結果表（印刷）'!J$11,'[1]決勝ヒート - レース結果（貼付）'!$1:$1,0)),""))) -> 0.013694201 | K36: =IF(A36="DNS","",IF(A36="DQ","",IFERROR(INDEX('[1]決勝ヒート - レース結果（貼付）'!$A:$Z,MATCH($A36,'[1]決勝ヒート - レース結果（貼付）'!$A:$A,0),MATCH('決勝ヒート - レース正式結果表（印刷）'!K$11,'[1]決勝ヒート - レース結果（貼付）'!$1:$1,0)),""))) -> 1 Lap | L36: =IF(A36="DNS","",IF(A36="DQ","",IFERROR(INDEX('[1]決勝ヒート - レース結果（貼付）'!$A:$Z,MATCH($A36,'[1]決勝ヒート - レース結果（貼付）'!$A:$A,0),MATCH('決勝ヒート - レース正式結果表（印刷）'!L$11,'[1]決勝ヒート - レース結果（貼付）'!$1:$1,0)),""))) -> 2.608 | M36: =IF(A36="DNS","",IF(A36="DQ","",IFERROR(INDEX('[1]決勝ヒート - レース結果（貼付）'!$A:$Z,MATCH($B36,'[1]決勝ヒート - レース結果（貼付）'!$B:$B,0),MATCH('決勝ヒート - レース正式結果表（印刷）'!M$11,'[1]決勝ヒート - レース結果（貼付）'!$1:$1,0)),""))) -> 54.949 | N36: =IF(M36<1,"",IF($N$11>M36,"R","")) | Q36: =IF(IFERROR(INDEX('[1]決勝ヒート - レース結果（貼付）'!$A:$Z,MATCH($B36,'[1]決勝ヒート - レース結果（貼付）'!$B:$B,0),MATCH('決勝ヒート - レース正式結果表（印刷）'!Q$11,'[1]決勝ヒート - レース結果（貼付）'!$1:$1,0)),"")=0,"",IFERROR(INDEX('[1]決勝ヒート - レース結果（貼付）'!$A:$Z,MATCH($B36,'[1]決勝ヒート - レース結果（貼付）'!$B:$B,0),MATCH('決勝ヒート - レース正式結果表（印刷）'!Q$11,'[1]決勝ヒート - レース結果（貼付）'!$1:$1,0)),"")) | R36: =IF(Q36="","",COUNTIF($Q$13:Q36,"<>"&"")) | S36: =IFERROR(RANK(R36,$R$13:$R$46,1),"") | T36: =IF(IFERROR(INDEX('[1]決勝ヒート - レース結果（貼付）'!$A:$Z,MATCH($A36,'[1]決勝ヒート - レース結果（貼付）'!$A:$A,0),MATCH('決勝ヒート - レース正式結果表（印刷）'!T$11,'[1]決勝ヒート - レース結果（貼付）'!$1:$1,0)),"")=0,"",IFERROR(INDEX('[1]決勝ヒート - レース結果（貼付）'!$A:$Z,MATCH($A36,'[1]決勝ヒート - レース結果（貼付）'!$A:$A,0),MATCH('決勝ヒート - レース正式結果表（印刷）'!T$11,'[1]決勝ヒート - レース結果（貼付）'!$1:$1,0)),"")) | U36: =IF(IFERROR(INDEX('[1]決勝ヒート - レース結果（貼付）'!$A:$Z,MATCH($B36,'[1]決勝ヒート - レース結果（貼付）'!$B:$B,0),MATCH('決勝ヒート - レース正式結果表（印刷）'!U$11,'[1]決勝ヒート - レース結果（貼付）'!$1:$1,0)),"")=0,"",IFERROR(INDEX('[1]決勝ヒート - レース結果（貼付）'!$A:$Z,MATCH($B36,'[1]決勝ヒート - レース結果（貼付）'!$B:$B,0),MATCH('決勝ヒート - レース正式結果表（印刷）'!U$11,'[1]決勝ヒート - レース結果（貼付）'!$1:$1,0)),"")) -> 82.811
A37: 以上 規定周回数完走：
A38: =IF(OR('[1]決勝ヒート - レース結果（貼付）'!A25="DNF",'[1]決勝ヒート - レース結果（貼付）'!A25="DNS",'[1]決勝ヒート - レース結果（貼付）'!A25="DQ"),'[1]決勝ヒート - レース結果（貼付）'!A25,IF(MAX('[1]決勝ヒート - レース結果（貼付）'!A:A)>A36,A36+1,"")) -> 24 | B38: =IFERROR(INDEX('[1]決勝ヒート - レース結果（貼付）'!A25:$Z$50,MATCH($A38,'[1]決勝ヒート - レース結果（貼付）'!A25:$A$50,0),MATCH('決勝ヒート - レース正式結果表（印刷）'!B$11,'[1]決勝ヒート - レース結果（貼付）'!$1:$1,0)),"") -> 22 | E38: =IFERROR(INDEX('[1]決勝ヒート - レース結果（貼付）'!$A:$Z,MATCH($B38,'[1]決勝ヒート - レース結果（貼付）'!$B:$B,0),MATCH('決勝ヒート - レース正式結果表（印刷）'!E$11,'[1]決勝ヒート - レース結果（貼付）'!$1:$1,0)),"") -> 一宮 總太朗 | F38: =IFERROR(INDEX('[1]決勝ヒート - レース結果（貼付）'!$A:$Z,MATCH($B38,'[1]決勝ヒート - レース結果（貼付）'!$B:$B,0),MATCH('決勝ヒート - レース正式結果表（印刷）'!F$11,'[1]決勝ヒート - レース結果（貼付）'!$1:$1,0)),"") -> KR/IAME | G38: =IFERROR(INDEX('[1]決勝ヒート - レース結果（貼付）'!$A:$Z,MATCH($B38,'[1]決勝ヒート - レース結果（貼付）'!$B:$B,0),MATCH('決勝ヒート - レース正式結果表（印刷）'!G$11,'[1]決勝ヒート - レース結果（貼付）'!$1:$1,0)),"") -> KAKIE Racing Team | H38: =IFERROR(INDEX('[1]決勝ヒート - レース結果（貼付）'!$A:$Z,MATCH($B38,'[1]決勝ヒート - レース結果（貼付）'!$B:$B,0),MATCH('決勝ヒート - レース正式結果表（印刷）'!H$11,'[1]決勝ヒート - レース結果（貼付）'!$1:$1,0)),"") -> BS | I38: =IF(A38="DNS","",IF(A38="DQ","",IFERROR(INDEX('[1]決勝ヒート - レース結果（貼付）'!$A:$Z,MATCH($A38,'[1]決勝ヒート - レース結果（貼付）'!$A:$A,0),MATCH('決勝ヒート - レース正式結果表（印刷）'!I$11,'[1]決勝ヒート - レース結果（貼付）'!$1:$1,0)),""))) -> 0 | J38: =IF(A38="DNS","ｽﾀｰﾄ出来ず",IF(A38="DQ","失 格",IFERROR(INDEX('[1]決勝ヒート - レース結果（貼付）'!$A:$Z,MATCH($B38,'[1]決勝ヒート - レース結果（貼付）'!$B:$B,0),MATCH('決勝ヒート - レース正式結果表（印刷）'!J$11,'[1]決勝ヒート - レース結果（貼付）'!$1:$1,0)),""))) -> 2.417 | K38: =IF(A38="DNS","",IF(A38="DQ","",IFERROR(INDEX('[1]決勝ヒート - レース結果（貼付）'!$A:$Z,MATCH($A38,'[1]決勝ヒート - レース結果（貼付）'!$A:$A,0),MATCH('決勝ヒート - レース正式結果表（印刷）'!K$11,'[1]決勝ヒート - レース結果（貼付）'!$1:$1,0)),""))) -> 22 Laps | L38: =IF(A38="DNS","",IF(A38="DQ","",IFERROR(INDEX('[1]決勝ヒート - レース結果（貼付）'!$A:$Z,MATCH($A38,'[1]決勝ヒート - レース結果（貼付）'!$A:$A,0),MATCH('決勝ヒート - レース正式結果表（印刷）'!L$11,'[1]決勝ヒート - レース結果（貼付）'!$1:$1,0)),""))) -> 21 Laps | M38: =IF(A38="DNS","",IF(A38="DQ","",IFERROR(INDEX('[1]決勝ヒート - レース結果（貼付）'!$A:$Z,MATCH($B38,'[1]決勝ヒート - レース結果（貼付）'!$B:$B,0),MATCH('決勝ヒート - レース正式結果表（印刷）'!M$11,'[1]決勝ヒート - レース結果（貼付）'!$1:$1,0)),""))) -> 0 | N38: =IF(M38<1,"",IF($N$11>M38,"R","")) | Q38: =IF(IFERROR(INDEX('[1]決勝ヒート - レース結果（貼付）'!$A:$Z,MATCH($B38,'[1]決勝ヒート - レース結果（貼付）'!$B:$B,0),MATCH('決勝ヒート - レース正式結果表（印刷）'!Q$11,'[1]決勝ヒート - レース結果（貼付）'!$1:$1,0)),"")=0,"",IFERROR(INDEX('[1]決勝ヒート - レース結果（貼付）'!$A:$Z,MATCH($B38,'[1]決勝ヒート - レース結果（貼付）'!$B:$B,0),MATCH('決勝ヒート - レース正式結果表（印刷）'!Q$11,'[1]決勝ヒート - レース結果（貼付）'!$1:$1,0)),"")) | R38: =IF(Q38="","",COUNTIF($Q$13:Q38,"<>"&"")) | S38: =IFERROR(RANK(R38,$R$13:$R$46,1),"") | T38: =IF(IFERROR(INDEX('[1]決勝ヒート - レース結果（貼付）'!$A:$Z,MATCH($A38,'[1]決勝ヒート - レース結果（貼付）'!$A:$A,0),MATCH('決勝ヒート - レース正式結果表（印刷）'!T$11,'[1]決勝ヒート - レース結果（貼付）'!$1:$1,0)),"")=0,"",IFERROR(INDEX('[1]決勝ヒート - レース結果（貼付）'!$A:$Z,MATCH($A38,'[1]決勝ヒート - レース結果（貼付）'!$A:$A,0),MATCH('決勝ヒート - レース正式結果表（印刷）'!T$11,'[1]決勝ヒート - レース結果（貼付）'!$1:$1,0)),"")) | U38: =IF(IFERROR(INDEX('[1]決勝ヒート - レース結果（貼付）'!$A:$Z,MATCH($B38,'[1]決勝ヒート - レース結果（貼付）'!$B:$B,0),MATCH('決勝ヒート - レース正式結果表（印刷）'!U$11,'[1]決勝ヒート - レース結果（貼付）'!$1:$1,0)),"")=0,"",IFERROR(INDEX('[1]決勝ヒート - レース結果（貼付）'!$A:$Z,MATCH($B38,'[1]決勝ヒート - レース結果（貼付）'!$B:$B,0),MATCH('決勝ヒート - レース正式結果表（印刷）'!U$11,'[1]決勝ヒート - レース結果（貼付）'!$1:$1,0)),"")) -> -
A39: =IF(OR('[1]決勝ヒート - レース結果（貼付）'!A26="DNF",'[1]決勝ヒート - レース結果（貼付）'!A26="DNS",'[1]決勝ヒート - レース結果（貼付）'!A26="DQ"),'[1]決勝ヒート - レース結果（貼付）'!A26,IF(MAX('[1]決勝ヒート - レース結果（貼付）'!A:A)>A38,A38+1,"")) | B39: =IFERROR(INDEX('[1]決勝ヒート - レース結果（貼付）'!A26:$Z$50,MATCH($A39,'[1]決勝ヒート - レース結果（貼付）'!A26:$A$50,0),MATCH('決勝ヒート - レース正式結果表（印刷）'!B$11,'[1]決勝ヒート - レース結果（貼付）'!$1:$1,0)),"") | E39: =IFERROR(INDEX('[1]決勝ヒート - レース結果（貼付）'!$A:$Z,MATCH($B39,'[1]決勝ヒート - レース結果（貼付）'!$B:$B,0),MATCH('決勝ヒート - レース正式結果表（印刷）'!E$11,'[1]決勝ヒート - レース結果（貼付）'!$1:$1,0)),"") | F39: =IFERROR(INDEX('[1]決勝ヒート - レース結果（貼付）'!$A:$Z,MATCH($B39,'[1]決勝ヒート - レース結果（貼付）'!$B:$B,0),MATCH('決勝ヒート - レース正式結果表（印刷）'!F$11,'[1]決勝ヒート - レース結果（貼付）'!$1:$1,0)),"") | G39: =IFERROR(INDEX('[1]決勝ヒート - レース結果（貼付）'!$A:$Z,MATCH($B39,'[1]決勝ヒート - レース結果（貼付）'!$B:$B,0),MATCH('決勝ヒート - レース正式結果表（印刷）'!G$11,'[1]決勝ヒート - レース結果（貼付）'!$1:$1,0)),"") | H39: =IFERROR(INDEX('[1]決勝ヒート - レース結果（貼付）'!$A:$Z,MATCH($B39,'[1]決勝ヒート - レース結果（貼付）'!$B:$B,0),MATCH('決勝ヒート - レース正式結果表（印刷）'!H$11,'[1]決勝ヒート - レース結果（貼付）'!$1:$1,0)),"") | I39: =IF(A39="DNS","",IF(A39="DQ","",IFERROR(INDEX('[1]決勝ヒート - レース結果（貼付）'!$A:$Z,MATCH($A39,'[1]決勝ヒート - レース結果（貼付）'!$A:$A,0),MATCH('決勝ヒート - レース正式結果表（印刷）'!I$11,'[1]決勝ヒート - レース結果（貼付）'!$1:$1,0)),""))) | J39: =IF(A39="DNS","ｽﾀｰﾄ出来ず",IF(A39="DQ","失 格",IFERROR(INDEX('[1]決勝ヒート - レース結果（貼付）'!$A:$Z,MATCH($B39,'[1]決勝ヒート - レース結果（貼付）'!$B:$B,0),MATCH('決勝ヒート - レース正式結果表（印刷）'!J$11,'[1]決勝ヒート - レース結果（貼付）'!$1:$1,0)),""))) | K39: =IF(A39="DNS","",IF(A39="DQ","",IFERROR(INDEX('[1]決勝ヒート - レース結果（貼付）'!$A:$Z,MATCH($A39,'[1]決勝ヒート - レース結果（貼付）'!$A:$A,0),MATCH('決勝ヒート - レース正式結果表（印刷）'!K$11,'[1]決勝ヒート - レース結果（貼付）'!$1:$1,0)),""))) | L39: =IF(A39="DNS","",IF(A39="DQ","",IFERROR(INDEX('[1]決勝ヒート - レース結果（貼付）'!$A:$Z,MATCH($A39,'[1]決勝ヒート - レース結果（貼付）'!$A:$A,0),MATCH('決勝ヒート - レース正式結果表（印刷）'!L$11,'[1]決勝ヒート - レース結果（貼付）'!$1:$1,0)),""))) | M39: =IF(A39="DNS","",IF(A39="DQ","",IFERROR(INDEX('[1]決勝ヒート - レース結果（貼付）'!$A:$Z,MATCH($B39,'[1]決勝ヒート - レース結果（貼付）'!$B:$B,0),MATCH('決勝ヒート - レース正式結果表（印刷）'!M$11,'[1]決勝ヒート - レース結果（貼付）'!$1:$1,0)),""))) | N39: =IF(M39<1,"",IF($N$11>M39,"R","")) | Q39: =IF(IFERROR(INDEX('[1]決勝ヒート - レース結果（貼付）'!$A:$Z,MATCH($B39,'[1]決勝ヒート - レース結果（貼付）'!$B:$B,0),MATCH('決勝ヒート - レース正式結果表（印刷）'!Q$11,'[1]決勝ヒート - レース結果（貼付）'!$1:$1,0)),"")=0,"",IFERROR(INDEX('[1]決勝ヒート - レース結果（貼付）'!$A:$Z,MATCH($B39,'[1]決勝ヒート - レース結果（貼付）'!$B:$B,0),MATCH('決勝ヒート - レース正式結果表（印刷）'!Q$11,'[1]決勝ヒート - レース結果（貼付）'!$1:$1,0)),"")) | R39: =IF(Q39="","",COUNTIF($Q$13:Q39,"<>"&"")) | S39: =IFERROR(RANK(R39,$R$13:$R$46,1),"") | T39: =IF(IFERROR(INDEX('[1]決勝ヒート - レース結果（貼付）'!$A:$Z,MATCH($A39,'[1]決勝ヒート - レース結果（貼付）'!$A:$A,0),MATCH('決勝ヒート - レース正式結果表（印刷）'!T$11,'[1]決勝ヒート - レース結果（貼付）'!$1:$1,0)),"")=0,"",IFERROR(INDEX('[1]決勝ヒート - レース結果（貼付）'!$A:$Z,MATCH($A39,'[1]決勝ヒート - レース結果（貼付）'!$A:$A,0),MATCH('決勝ヒート - レース正式結果表（印刷）'!T$11,'[1]決勝ヒート - レース結果（貼付）'!$1:$1,0)),"")) | U39: =IF(IFERROR(INDEX('[1]決勝ヒート - レース結果（貼付）'!$A:$Z,MATCH($B39,'[1]決勝ヒート - レース結果（貼付）'!$B:$B,0),MATCH('決勝ヒート - レース正式結果表（印刷）'!U$11,'[1]決勝ヒート - レース結果（貼付）'!$1:$1,0)),"")=0,"",IFERROR(INDEX('[1]決勝ヒート - レース結果（貼付）'!$A:$Z,MATCH($B39,'[1]決勝ヒート - レース結果（貼付）'!$B:$B,0),MATCH('決勝ヒート - レース正式結果表（印刷）'!U$11,'[1]決勝ヒート - レース結果（貼付）'!$1:$1,0)),""))
