Workbook

Sheet 決勝ヒート - レース正式結果表（印刷）
K6: 44878 | M6: :
A7: =+[1]各種設定!D2 -> 2022年 全日本カート選手権 FS-125/FP-3部門 東西統一競技会 | K7: WEATHER: | L7: Rain
K8: COURSE : | L8: Wet
A9: =+[1]各種設定!D4 -> FS-125 | K9: 南コース 1.264Km
A10: 決勝ヒート正式結果表
B11: No. | E11: 名前 | F11: Model/Engine | G11: Team | H11: Tires | I11: Laps | J11: Total Time | K11: 差 | L11: GAP | M11: BestLap | N11: =VLOOKUP(A9,[1]コースレコード!$A:$G,3,FALSE) -> 49.222 | Q11: コメント | S11: ペナルティNo. | T11: グリッドコメント | U11: ベスト平均時速
A12: Pos. | B12: No. | E12: Driver | F12: Type | G12: Team | H12: Tire | I12: Laps | J12: Total Time | K12: Delay | L12: Gap | M12: Best
A13: 1 | B13: =IFERROR(INDEX('[1]決勝ヒート - レース結果（貼付）'!A2:$Z$50,MATCH($A13,'[1]決勝ヒート - レース結果（貼付）'!A2:$A$50,0),MATCH('決勝ヒート - レース正式結果表（印刷）'!B$11,'[1]決勝ヒート - レース結果（貼付）'!$1:$1,0)),"") -> 31 | E13: =IFERROR(INDEX('[1]決勝ヒート - レース結果（貼付）'!$A:$Z,MATCH($B13,'[1]決勝ヒート - レース結果（貼付）'!$B:$B,0),MATCH('決勝ヒート - レース正式結果表（印刷）'!E$11,'[1]決勝ヒート - レース結果（貼付）'!$1:$1,0)),"") -> 中井 陽斗 | F13: =IFERROR(INDEX('[1]決勝ヒート - レース結果（貼付）'!$A:$Z,MATCH($B13,'[1]決勝ヒート - レース結果（貼付）'!$B:$B,0),MATCH('決勝ヒート - レース正式結果表（印刷）'!F$11,'[1]決勝ヒート - レース結果（貼付）'!$1:$1,0)),"") -> CL/IAME | G13: =IFERROR(INDEX('[1]決勝ヒート - レース結果（貼付）'!$A:$Z,MATCH($B13,'[1]決勝ヒート - レース結果（貼付）'!$B:$B,0),MATCH('決勝ヒート - レース正式結果表（印刷）'!G$11,'[1]決勝ヒート - レース結果（貼付）'!$1:$1,0)),"") -> TEAM EMATY | H13: =IFERROR(INDEX('[1]決勝ヒート - レース結果（貼付）'!$A:$Z,MATCH($B13,'[1]決勝ヒート - レース結果（貼付）'!$B:$B,0),MATCH('決勝ヒート - レース正式結果表（印刷）'!H$11,'[1]決勝ヒート - レース結果（貼付）'!$1:$1,0)),"") -> BS | I13: =IFERROR(INDEX('[1]決勝ヒート - レース結果（貼付）'!$A:$Z,MATCH($B13,'[1]決勝ヒート - レース結果（貼付）'!$B:$B,0),MATCH('決勝ヒート - レース正式結果表（印刷）'!I$11,'[1]決勝ヒート - レース結果（貼付）'!$1:$1,0)),"") -> 22 | J13: =IF(A13="DNS","ｽﾀｰﾄ出来ず",IF(A13="DQ","失 格",IFERROR(INDEX('[1]決勝ヒート - レース結果（貼付）'!$A:$Z,MATCH($B13,'[1]決勝ヒート - レース結果（貼付）'!$B:$B,0),MATCH('決勝ヒート - レース正式結果表（印刷）'!J$11,'[1]決勝ヒート - レース結果（貼付）'!$1:$1,0)),""))) -> 0.013910023 | K13: =ROUND((1.264*I13)/(J13*24),2)&"km/h" -> 83.3km/h | M13: =IFERROR(INDEX('[1]決勝ヒート - レース結果（貼付）'!$A:$Z,MATCH($B13,'[1]決勝ヒート - レース結果（貼付）'!$B:$B,0),MATCH('決勝ヒート - レース正式結果表（印刷）'!M$11,'[1]決勝ヒート - レース結果（貼付）'!$1:$1,0)),"") -> 54.275 | N13: =IF(M13<1,"",IF($N$11>M13,"R","")) | Q13: =IF(IFERROR(INDEX('[1]決勝ヒート - レース結果（貼付）'!$A:$Z,MATCH($B13,'[1]決勝ヒート - レース結果（貼付）'!$B:$B,0),MATCH('決勝ヒート - レース正式結果表（印刷）'!Q$11,'[1]決勝ヒート - レース結果（貼付）'!$1:$1,0)),"")=0,"",IFERROR(INDEX('[1]決勝ヒート - レース結果（貼付）'!$A:$Z,MATCH($B13,'[1]決勝ヒート - レース結果（貼付）'!$B:$B,0),MATCH('決勝ヒート - レース正式結果表（印刷）'!Q$11,'[1]決勝ヒート - レース結果（貼付）'!$1:$1,0)),"")) | R13: =IF(Q13="","",COUNTIF($Q$13:Q13,"<>"&"")) | S13: =IFERROR(RANK(R13,$R$13:$R$46,1),"") | T13: =IF(IFERROR(INDEX('[1]決勝ヒート - レース結果（貼付）'!$A:$Z,MATCH($A13,'[1]決勝ヒート - レース結果（貼付）'!$A:$A,0),MATCH('決勝ヒート - レース正式結果表（印刷）'!T$11,'[1]決勝ヒート - レース結果（貼付）'!$1:$1,0)),"")=0,"",IFERROR(INDEX('[1]決勝ヒート - レース結果（貼付）'!$A:$Z,MATCH($A13,'[1]決勝ヒート - レース結果（貼付）'!$A:$A,0),MATCH('決勝ヒート - レース正式結果表（印刷）'!T$11,'[1]決勝ヒート - レース結果（貼付）'!$1:$1,0)),"")) | U13: =IF(IFERROR(INDEX('[1]決勝ヒート - レース結果（貼付）'!$A:$Z,MATCH($B13,'[1]決勝ヒート - レース結果（貼付）'!$B:$B,0),MATCH('決勝ヒート - レース正式結果表（印刷）'!U$11,'[1]決勝ヒート - レース結果（貼付）'!$1:$1,0)),"")=0,"",IFERROR(INDEX('[1]決勝ヒート - レース結果（貼付）'!$A:$Z,MATCH($B13,'[1]決勝ヒート - レース結果（貼付）'!$B:$B,0),MATCH('決勝ヒート - レース正式結果表（印刷）'!U$11,'[1]決勝ヒート - レース結果（貼付）'!$1:$1,0)),"")) -> 83.84
A14: =IF(OR('[1]決勝ヒート - レース結果（貼付）'!A3="DNF",'[1]決勝ヒート - レース結果（貼付）'!A3="DNS",'[1]決勝ヒート - レース結果（貼付）'!A3="DQ"),'[1]決勝ヒート - レース結果（貼付）'!A3,IF(MAX('[1]決勝ヒート - レース結果（貼付）'!A:A)>A13,A13+1,"")) -> 2 | B14: =IFERROR(INDEX('[1]決勝ヒート - レース結果（貼付）'!A3:$Z$50,MATCH($A14,'[1]決勝ヒート - レース結果（貼付）'!A3:$A$50,0),MATCH('決勝ヒート - レース正式結果表（印刷）'!B$11,'[1]決勝ヒート - レース結果（貼付）'!$1:$1,0)),"") -> 19 | E14: =IFERROR(INDEX('[1]決勝ヒート - レース結果（貼付）'!$A:$Z,MATCH($B14,'[1]決勝ヒート - レース結果（貼付）'!$B:$B,0),MATCH('決勝ヒート - レース正式結果表（印刷）'!E$11,'[1]決勝ヒート - レース結果（貼付）'!$1:$1,0)),"") -> 向畑 疾走 | F14: =IFERROR(INDEX('[1]決勝ヒート - レース結果（貼付）'!$A:$Z,MATCH($B14,'[1]決勝ヒート - レース結果（貼付）'!$B:$B,0),MATCH('決勝ヒート - レース正式結果表（印刷）'!F$11,'[1]決勝ヒート - レース結果（貼付）'!$1:$1,0)),"") -> CRG/IAME | G14: =IFERROR(INDEX('[1]決勝ヒート - レース結果（貼付）'!$A:$Z,MATCH($B14,'[1]決勝ヒート - レース結果（貼付）'!$B:$B,0),MATCH('決勝ヒート - レース正式結果表（印刷）'!G$11,'[1]決勝ヒート - レース結果（貼付）'!$1:$1,0)),"") -> KC NAGAHARA | H14: =IFERROR(INDEX('[1]決勝ヒート - レース結果（貼付）'!$A:$Z,MATCH($B14,'[1]決勝ヒート - レース結果（貼付）'!$B:$B,0),MATCH('決勝ヒート - レース正式結果表（印刷）'!H$11,'[1]決勝ヒート - レース結果（貼付）'!$1:$1,0)),"") -> BS | I14: =IF(A14="DNS","",IF(A14="DQ","",IFERROR(INDEX('[1]決勝ヒート - レース結果（貼付）'!$A:$Z,MATCH($A14,'[1]決勝ヒート - レース結果（貼付）'!$A:$A,0),MATCH('決勝ヒート - レース正式結果表（印刷）'!I$11,'[1]決勝ヒート - レース結果（貼付）'!$1:$1,0)),""))) -> 22 | J14: =IF(A14="DNS","ｽﾀｰﾄ出来ず",IF(A14="DQ","失 格",IFERROR(INDEX('[1]決勝ヒート - レース結果（貼付）'!$A:$Z,MATCH($B14,'[1]決勝ヒート - レース結果（貼付）'!$B:$B,0),MATCH('決勝ヒート - レース正式結果表（印刷）'!J$11,'[1]決勝ヒート - レース結果（貼付）'!$1:$1,0)),""))) -> 0.013991539 | K14: =IF(A14="DNS","",IF(A14="DQ","",IFERROR(INDEX('[1]決勝ヒート - レース結果（貼付）'!$A:$Z,MATCH($A14,'[1]決勝ヒート - レース結果（貼付）'!$A:$A,0),MATCH('決勝ヒート - レース正式結果表（印刷）'!K$11,'[1]決勝ヒート - レース結果（貼付）'!$1:$1,0)),""))) -> 7.043 | L14: =IF(A14="DNS","",IF(A14="DQ","",IFERROR(INDEX('[1]決勝ヒート - レース結果（貼付）'!$A:$Z,MATCH($A14,'[1]決勝ヒート - レース結果（貼付）'!$A:$A,0),MATCH('決勝ヒート - レース正式結果表（印刷）'!L$11,'[1]決勝ヒート - レース結果（貼付）'!$1:$1,0)),""))) -> 7.043 | M14: =IF(A14="DNS","",IF(A14="DQ","",IFERROR(INDEX('[1]決勝ヒート - レース結果（貼付）'!$A:$Z,MATCH($B14,'[1]決勝ヒート - レース結果（貼付）'!$B:$B,0),MATCH('決勝ヒート - レース正式結果表（印刷）'!M$11,'[1]決勝ヒート - レース結果（貼付）'!$1:$1,0)),""))) -> 54.252 | N14: =IF(M14<1,"",IF($N$11>M14,"R","")) | Q14: =IF(IFERROR(INDEX('[1]決勝ヒート - レース結果（貼付）'!$A:$Z,MATCH($B14,'[1]決勝ヒート - レース結果（貼付）'!$B:$B,0),MATCH('決勝ヒート - レース正式結果表（印刷）'!Q$11,'[1]決勝ヒート - レース結果（貼付）'!$1:$1,0)),"")=0,"",IFERROR(INDEX('[1]決勝ヒート - レース結果（貼付）'!$A:$Z,MATCH($B14,'[1]決勝ヒート - レース結果（貼付）'!$B:$B,0),MATCH('決勝ヒート - レース正式結果表（印刷）'!Q$11,'[1]決勝ヒート - レース結果（貼付）'!$1:$1,0)),"")) | R14: =IF(Q14="","",COUNTIF($Q$13:Q14,"<>"&"")) | S14: =IFERROR(RANK(R14,$R$13:$R$46,1),"") | T14: =IF(IFERROR(INDEX('[1]決勝ヒート - レース結果（貼付）'!$A:$Z,MATCH($A14,'[1]決勝ヒート - レース結果（貼付）'!$A:$A,0),MATCH('決勝ヒート - レース正式結果表（印刷）'!T$11,'[1]決勝ヒート - レース結果（貼付）'!$1:$1,0)),"")=0,"",IFERROR(INDEX('[1]決勝ヒート - レース結果（貼付）'!$A:$Z,MATCH($A14,'[1]決勝ヒート - レース結果（貼付）'!$A:$A,0),MATCH('決勝ヒート - レース正式結果表（印刷）'!T$11,'[1]決勝ヒート - レース結果（貼付）'!$1:$1,0)),"")) | U14: =IF(IFERROR(INDEX('[1]決勝ヒート - レース結果（貼付）'!$A:$Z,MATCH($B14,'[1]決勝ヒート - レース結果（貼付）'!$B:$B,0),MATCH('決勝ヒート - レース正式結果表（印刷）'!U$11,'[1]決勝ヒート - レース結果（貼付）'!$1:$1,0)),"")=0,"",IFERROR(INDEX('[1]決勝ヒート - レース結果（貼付）'!$A:$Z,MATCH($B14,'[1]決勝ヒート - レース結果（貼付）'!$B:$B,0),MATCH('決勝ヒート - レース正式結果表（印刷）'!U$11,'[1]決勝ヒート - レース結果（貼付）'!$1:$1,0)),"")) -> 83.875
A15: =IF(OR('[1]決勝ヒート - レース結果（貼付）'!A4="DNF",'[1]決勝ヒート - レース結果（貼付）'!A4="DNS",'[1]決勝ヒート - レース結果（貼付）'!A4="DQ"),'[1]決勝ヒート - レース結果（貼付）'!A4,IF(MAX('[1]決勝ヒート - レース結果（貼付）'!A:A)>A14,A14+1,"")) -> 3 | B15: =IFERROR(INDEX('[1]決勝ヒート - レース結果（貼付）'!A4:$Z$50,MATCH($A15,'[1]決勝ヒート - レース結果（貼付）'!A4:$A$50,0),MATCH('決勝ヒート - レース正式結果表（印刷）'!B$11,'[1]決勝ヒート - レース結果（貼付）'!$1:$1,0)),"") -> 83 | E15: =IFERROR(INDEX('[1]決勝ヒート - レース結果（貼付）'!$A:$Z,MATCH($B15,'[1]決勝ヒート - レース結果（貼付）'!$B:$B,0),MATCH('決勝ヒート - レース正式結果表（印刷）'!E$11,'[1]決勝ヒート - レース結果（貼付）'!$1:$1,0)),"") -> 近江川 暖人 | F15: =IFERROR(INDEX('[1]決勝ヒート - レース結果（貼付）'!$A:$Z,MATCH($B15,'[1]決勝ヒート - レース結果（貼付）'!$B:$B,0),MATCH('決勝ヒート - レース正式結果表（印刷）'!F$11,'[1]決勝ヒート - レース結果（貼付）'!$1:$1,0)),"") -> KOSMIC/IAME | G15: =IFERROR(INDEX('[1]決勝ヒート - レース結果（貼付）'!$A:$Z,MATCH($B15,'[1]決勝ヒート - レース結果（貼付）'!$B:$B,0),MATCH('決勝ヒート - レース正式結果表（印刷）'!G$11,'[1]決勝ヒート - レース結果（貼付）'!$1:$1,0)),"") -> HRS JAPAN | H15: =IFERROR(INDEX('[1]決勝ヒート - レース結果（貼付）'!$A:$Z,MATCH($B15,'[1]決勝ヒート - レース結果（貼付）'!$B:$B,0),MATCH('決勝ヒート - レース正式結果表（印刷）'!H$11,'[1]決勝ヒート - レース結果（貼付）'!$1:$1,0)),"") -> BS | I15: =IF(A15="DNS","",IF(A15="DQ","",IFERROR(INDEX('[1]決勝ヒート - レース結果（貼付）'!$A:$Z,MATCH($A15,'[1]決勝ヒート - レース結果（貼付）'!$A:$A,0),MATCH('決勝ヒート - レース正式結果表（印刷）'!I$11,'[1]決勝ヒート - レース結果（貼付）'!$1:$1,0)),""))) -> 22 | J15: =IF(A15="DNS","ｽﾀｰﾄ出来ず",IF(A15="DQ","失 格",IFERROR(INDEX('[1]決勝ヒート - レース結果（貼付）'!$A:$Z,MATCH($B15,'[1]決勝ヒート - レース結果（貼付）'!$B:$B,0),MATCH('決勝ヒート - レース正式結果表（印刷）'!J$11,'[1]決勝ヒート - レース結果（貼付）'!$1:$1,0)),""))) -> 0.014034271 | K15: =IF(A15="DNS","",IF(A15="DQ","",IFERROR(INDEX('[1]決勝ヒート - レース結果（貼付）'!$A:$Z,MATCH($A15,'[1]決勝ヒート - レース結果（貼付）'!$A:$A,0),MATCH('決勝ヒート - レース正式結果表（印刷）'!K$11,'[1]決勝ヒート - レース結果（貼付）'!$1:$1,0)),""))) -> 10.735 | L15: =IF(A15="DNS","",IF(A15="DQ","",IFERROR(INDEX('[1]決勝ヒート - レース結果（貼付）'!$A:$Z,MATCH($A15,'[1]決勝ヒート - レース結果（貼付）'!$A:$A,0),MATCH('決勝ヒート - レース正式結果表（印刷）'!L$11,'[1]決勝ヒート - レース結果（貼付）'!$1:$1,0)),""))) -> 3.692 | M15: =IF(A15="DNS","",IF(A15="DQ","",IFERROR(INDEX('[1]決勝ヒート - レース結果（貼付）'!$A:$Z,MATCH($B15,'[1]決勝ヒート - レース結果（貼付）'!$B:$B,0),MATCH('決勝ヒート - レース正式結果表（印刷）'!M$11,'[1]決勝ヒート - レース結果（貼付）'!$1:$1,0)),""))) -> 54.501 | N15: =IF(M15<1,"",IF($N$11>M15,"R","")) | Q15: =IF(IFERROR(INDEX('[1]決勝ヒート - レース結果（貼付）'!$A:$Z,MATCH($B15,'[1]決勝ヒート - レース結果（貼付）'!$B:$B,0),MATCH('決勝ヒート - レース正式結果表（印刷）'!Q$11,'[1]決勝ヒート - レース結果（貼付）'!$1:$1,0)),"")=0,"",IFERROR(INDEX('[1]決勝ヒート - レース結果（貼付）'!$A:$Z,MATCH($B15,'[1]決勝ヒート - レース結果（貼付）'!$B:$B,0),MATCH('決勝ヒート - レース正式結果表（印刷）'!Q$11,'[1]決勝ヒート - レース結果（貼付）'!$1:$1,0)),"")) | R15: =IF(Q15="","",COUNTIF($Q$13:Q15,"<>"&"")) | S15: =IFERROR(RANK(R15,$R$13:$R$46,1),"") | T15: =IF(IFERROR(INDEX('[1]決勝ヒート - レース結果（貼付）'!$A:$Z,MATCH($A15,'[1]決勝ヒート - レース結果（貼付）'!$A:$A,0),MATCH('決勝ヒート - レース正式結果表（印刷）'!T$11,'[1]決勝ヒート - レース結果（貼付）'!$1:$1,0)),"")=0,"",IFERROR(INDEX('[1]決勝ヒート - レース結果（貼付）'!$A:$Z,MATCH($A15,'[1]決勝ヒート - レース結果（貼付）'!$A:$A,0),MATCH('決勝ヒート - レース正式結果表（印刷）'!T$11,'[1]決勝ヒート - レース結果（貼付）'!$1:$1,0)),"")) | U15: =IF(IFERROR(INDEX('[1]決勝ヒート - レース結果（貼付）'!$A:$Z,MATCH($B15,'[1]決勝ヒート - レース結果（貼付）'!$B:$B,0),MATCH('決勝ヒート - レース正式結果表（印刷）'!U$11,'[1]決勝ヒート - レース結果（貼付）'!$1:$1,0)),"")=0,"",IFERROR(INDEX('[1]決勝ヒート - レース結果（貼付）'!$A:$Z,MATCH($B15,'[1]決勝ヒート - レース結果（貼付）'!$B:$B,0),MATCH('決勝ヒート - レース正式結果表（印刷）'!U$11,'[1]決勝ヒート - レース結果（貼付）'!$1:$1,0)),"")) -> 83.492
A16: =IF(OR('[1]決勝ヒート - レース結果（貼付）'!A5="DNF",'[1]決勝ヒート - レース結果（貼付）'!A5="DNS",'[1]決勝ヒート - レース結果（貼付）'!A5="DQ"),'[1]決勝ヒート - レース結果（貼付）'!A5,IF(MAX('[1]決勝ヒート - レース結果（貼付）'!A:A)>A15,A15+1,"")) -> 4 | B16: =IFERROR(INDEX('[1]決勝ヒート - レース結果（貼付）'!A5:$Z$50,MATCH($A16,'[1]決勝ヒート - レース結果（貼付）'!A5:$A$50,0),MATCH('決勝ヒート - レース正式結果表（印刷）'!B$11,'[1]決勝ヒート - レース結果（貼付）'!$1:$1,0)),"") -> 55 | E16: =IFERROR(INDEX('[1]決勝ヒート - レース結果（貼付）'!$A:$Z,MATCH($B16,'[1]決勝ヒート - レース結果（貼付）'!$B:$B,0),MATCH('決勝ヒート - レース正式結果表（印刷）'!E$11,'[1]決勝ヒート - レース結果（貼付）'!$1:$1,0)),"") -> 喜納 颯矢斗 | F16: =IFERROR(INDEX('[1]決勝ヒート - レース結果（貼付）'!$A:$Z,MATCH($B16,'[1]決勝ヒート - レース結果（貼付）'!$B:$B,0),MATCH('決勝ヒート - レース正式結果表（印刷）'!F$11,'[1]決勝ヒート - レース結果（貼付）'!$1:$1,0)),"") -> TONY KART/IAME | G16: =IFERROR(INDEX('[1]決勝ヒート - レース結果（貼付）'!$A:$Z,MATCH($B16,'[1]決勝ヒート - レース結果（貼付）'!$B:$B,0),MATCH('決勝ヒート - レース正式結果表（印刷）'!G$11,'[1]決勝ヒート - レース結果（貼付）'!$1:$1,0)),"") -> YRHKS | H16: =IFERROR(INDEX('[1]決勝ヒート - レース結果（貼付）'!$A:$Z,MATCH($B16,'[1]決勝ヒート - レース結果（貼付）'!$B:$B,0),MATCH('決勝ヒート - レース正式結果表（印刷）'!H$11,'[1]決勝ヒート - レース結果（貼付）'!$1:$1,0)),"") -> BS | I16: =IF(A16="DNS","",IF(A16="DQ","",IFERROR(INDEX('[1]決勝ヒート - レース結果（貼付）'!$A:$Z,MATCH($A16,'[1]決勝ヒート - レース結果（貼付）'!$A:$A,0),MATCH('決勝ヒート - レース正式結果表（印刷）'!I$11,'[1]決勝ヒート - レース結果（貼付）'!$1:$1,0)),""))) -> 22 | J16: =IF(A16="DNS","ｽﾀｰﾄ出来ず",IF(A16="DQ","失 格",IFERROR(INDEX('[1]決勝ヒート - レース結果（貼付）'!$A:$Z,MATCH($B16,'[1]決勝ヒート - レース結果（貼付）'!$B:$B,0),MATCH('決勝ヒート - レース正式結果表（印刷）'!J$11,'[1]決勝ヒート - レース結果（貼付）'!$1:$1,0)),""))) -> 0.01406103 | K16: =IF(A16="DNS","",IF(A16="DQ","",IFERROR(INDEX('[1]決勝ヒート - レース結果（貼付）'!$A:$Z,MATCH($A16,'[1]決勝ヒート - レース結果（貼付）'!$A:$A,0),MATCH('決勝ヒート - レース正式結果表（印刷）'!K$11,'[1]決勝ヒート - レース結果（貼付）'!$1:$1,0)),""))) -> 13.047 | L16: =IF(A16="DNS","",IF(A16="DQ","",IFERROR(INDEX('[1]決勝ヒート - レース結果（貼付）'!$A:$Z,MATCH($A16,'[1]決勝ヒート - レース結果（貼付）'!$A:$A,0),MATCH('決勝ヒート - レース正式結果表（印刷）'!L$11,'[1]決勝ヒート - レース結果（貼付）'!$1:$1,0)),""))) -> 2.312 | M16: =IF(A16="DNS","",IF(A16="DQ","",IFERROR(INDEX('[1]決勝ヒート - レース結果（貼付）'!$A:$Z,MATCH($B16,'[1]決勝ヒート - レース結果（貼付）'!$B:$B,0),MATCH('決勝ヒート - レース正式結果表（印刷）'!M$11,'[1]決勝ヒート - レース結果（貼付）'!$1:$1,0)),""))) -> 54.619 | N16: =IF(M16<1,"",IF($N$11>M16,"R","")) | Q16: =IF(IFERROR(INDEX('[1]決勝ヒート - レース結果（貼付）'!$A:$Z,MATCH($B16,'[1]決勝ヒート - レース結果（貼付）'!$B:$B,0),MATCH('決勝ヒート - レース正式結果表（印刷）'!Q$11,'[1]決勝ヒート - レース結果（貼付）'!$1:$1,0)),"")=0,"",IFERROR(INDEX('[1]決勝ヒート - レース結果（貼付）'!$A:$Z,MATCH($B16,'[1]決勝ヒート - レース結果（貼付）'!$B:$B,0),MATCH('決勝ヒート - レース正式結果表（印刷）'!Q$11,'[1]決勝ヒート - レース結果（貼付）'!$1:$1,0)),"")) | R16: =IF(Q16="","",COUNTIF($Q$13:Q16,"<>"&"")) | S16: =IFERROR(RANK(R16,$R$13:$R$46,1),"") | T16: =IF(IFERROR(INDEX('[1]決勝ヒート - レース結果（貼付）'!$A:$Z,MATCH($A16,'[1]決勝ヒート - レース結果（貼付）'!$A:$A,0),MATCH('決勝ヒート - レース正式結果表（印刷）'!T$11,'[1]決勝ヒート - レース結果（貼付）'!$1:$1,0)),"")=0,"",IFERROR(INDEX('[1]決勝ヒート - レース結果（貼付）'!$A:$Z,MATCH($A16,'[1]決勝ヒート - レース結果（貼付）'!$A:$A,0),MATCH('決勝ヒート - レース正式結果表（印刷）'!T$11,'[1]決勝ヒート - レース結果（貼付）'!$1:$1,0)),"")) | U16: =IF(IFERROR(INDEX('[1]決勝ヒート - レース結果（貼付）'!$A:$Z,MATCH($B16,'[1]決勝ヒート - レース結果（貼付）'!$B:$B,0),MATCH('決勝ヒート - レース正式結果表（印刷）'!U$11,'[1]決勝ヒート - レース結果（貼付）'!$1:$1,0)),"")=0,"",IFERROR(INDEX('[1]決勝ヒート - レース結果（貼付）'!$A:$Z,MATCH($B16,'[1]決勝ヒート - レース結果（貼付）'!$B:$B,0),MATCH('決勝ヒート - レース正式結果表（印刷）'!U$11,'[1]決勝ヒート - レース結果（貼付）'!$1:$1,0)),"")) -> 83.602
A17: =IF(OR('[1]決勝ヒート - レース結果（貼付）'!A6="DNF",'[1]決勝ヒート - レース結果（貼付）'!A6="DNS",'[1]決勝ヒート - レース結果（貼付）'!A6="DQ"),'[1]決勝ヒート - レース結果（貼付）'!A6,IF(MAX('[1]決勝ヒート - レース結果（貼付）'!A:A)>A16,A16+1,"")) -> 5 | B17: =IFERROR(INDEX('[1]決勝ヒート - レース結果（貼付）'!A6:$Z$50,MATCH($A17,'[1]決勝ヒート - レース結果（貼付）'!A6:$A$50,0),MATCH('決勝ヒート - レース正式結果表（印刷）'!B$11,'[1]決勝ヒート - レース結果（貼付）'!$1:$1,0)),"") -> 18 | E17: =IFERROR(INDEX('[1]決勝ヒート - レース結果（貼付）'!$A:$Z,MATCH($B17,'[1]決勝ヒート - レース結果（貼付）'!$B:$B,0),MATCH('決勝ヒート - レース正式結果表（印刷）'!E$11,'[1]決勝ヒート - レース結果（貼付）'!$1:$1,0)),"") -> 五十嵐 文太郎 | F17: =IFERROR(INDEX('[1]決勝ヒート - レース結果（貼付）'!$A:$Z,MATCH($B17,'[1]決勝ヒート - レース結果（貼付）'!$B:$B,0),MATCH('決勝ヒート - レース正式結果表（印刷）'!F$11,'[1]決勝ヒート - レース結果（貼付）'!$1:$1,0)),"") -> Birel ART/IAME | G17: =IFERROR(INDEX('[1]決勝ヒート - レース結果（貼付）'!$A:$Z,MATCH($B17,'[1]決勝ヒート - レース結果（貼付）'!$B:$B,0),MATCH('決勝ヒート - レース正式結果表（印刷）'!G$11,'[1]決勝ヒート - レース結果（貼付）'!$1:$1,0)),"") -> Formula Blue エッフェガーラ | H17: =IFERROR(INDEX('[1]決勝ヒート - レース結果（貼付）'!$A:$Z,MATCH($B17,'[1]決勝ヒート - レース結果（貼付）'!$B:$B,0),MATCH('決勝ヒート - レース正式結果表（印刷）'!H$11,'[1]決勝ヒート - レース結果（貼付）'!$1:$1,0)),"") -> BS | I17: =IF(A17="DNS","",IF(A17="DQ","",IFERROR(INDEX('[1]決勝ヒート - レース結果（貼付）'!$A:$Z,MATCH($A17,'[1]決勝ヒート - レース結果（貼付）'!$A:$A,0),MATCH('決勝ヒート - レース正式結果表（印刷）'!I$11,'[1]決勝ヒート - レース結果（貼付）'!$1:$1,0)),""))) -> 22 | J17: =IF(A17="DNS","ｽﾀｰﾄ出来ず",IF(A17="DQ","失 格",IFERROR(INDEX('[1]決勝ヒート - レース結果（貼付）'!$A:$Z,MATCH($B17,'[1]決勝ヒート - レース結果（貼付）'!$B:$B,0),MATCH('決勝ヒート - レース正式結果表（印刷）'!J$11,'[1]決勝ヒート - レース結果（貼付）'!$1:$1,0)),""))) -> 0.014068148 | K17: =IF(A17="DNS","",IF(A17="DQ","",IFERROR(INDEX('[1]決勝ヒート - レース結果（貼付）'!$A:$Z,MATCH($A17,'[1]決勝ヒート - レース結果（貼付）'!$A:$A,0),MATCH('決勝ヒート - レース正式結果表（印刷）'!K$11,'[1]決勝ヒート - レース結果（貼付）'!$1:$1,0)),""))) -> 13.662 | L17: =IF(A17="DNS","",IF(A17="DQ","",IFERROR(INDEX('[1]決勝ヒート - レース結果（貼付）'!$A:$Z,MATCH($A17,'[1]決勝ヒート - レース結果（貼付）'!$A:$A,0),MATCH('決勝ヒート - レース正式結果表（印刷）'!L$11,'[1]決勝ヒート - レース結果（貼付）'!$1:$1,0)),""))) -> 0.615 | M17: =IF(A17="DNS","",IF(A17="DQ","",IFERROR(INDEX('[1]決勝ヒート - レース結果（貼付）'!$A:$Z,MATCH($B17,'[1]決勝ヒート - レース結果（貼付）'!$B:$B,0),MATCH('決勝ヒート - レース正式結果表（印刷）'!M$11,'[1]決勝ヒート - レース結果（貼付）'!$1:$1,0)),""))) -> 54.493 | N17: =IF(M17<1,"",IF($N$11>M17,"R","")) | Q17: =IF(IFERROR(INDEX('[1]決勝ヒート - レース結果（貼付）'!$A:$Z,MATCH($B17,'[1]決勝ヒート - レース結果（貼付）'!$B:$B,0),MATCH('決勝ヒート - レース正式結果表（印刷）'!Q$11,'[1]決勝ヒート - レース結果（貼付）'!$1:$1,0)),"")=0,"",IFERROR(INDEX('[1]決勝ヒート - レース結果（貼付）'!$A:$Z,MATCH($B17,'[1]決勝ヒート - レース結果（貼付）'!$B:$B,0),MATCH('決勝ヒート - レース正式結果表（印刷）'!Q$11,'[1]決勝ヒート - レース結果（貼付）'!$1:$1,0)),"")) | R17: =IF(Q17="","",COUNTIF($Q$13:Q17,"<>"&"")) | S17: =IFERROR(RANK(R17,$R$13:$R$46,1),"") | T17: =IF(IFERROR(INDEX('[1]決勝ヒート - レース結果（貼付）'!$A:$Z,MATCH($A17,'[1]決勝ヒート - レース結果（貼付）'!$A:$A,0),MATCH('決勝ヒート - レース正式結果表（印刷）'!T$11,'[1]決勝ヒート - レース結果（貼付）'!$1:$1,0)),"")=0,"",IFERROR(INDEX('[1]決勝ヒート - レース結果（貼付）'!$A:$Z,MATCH($A17,'[1]決勝ヒート - レース結果（貼付）'!$A:$A,0),MATCH('決勝ヒート - レース正式結果表（印刷）'!T$11,'[1]決勝ヒート - レース結果（貼付）'!$1:$1,0)),"")) | U17: =IF(IFERROR(INDEX('[1]決勝ヒート - レース結果（貼付）'!$A:$Z,MATCH($B17,'[1]決勝ヒート - レース結果（貼付）'!$B:$B,0),MATCH('決勝ヒート - レース正式結果表（印刷）'!U$11,'[1]決勝ヒート - レース結果（貼付）'!$1:$1,0)),"")=0,"",IFERROR(INDEX('[1]決勝ヒート - レース結果（貼付）'!$A:$Z,MATCH($B17,'[1]決勝ヒート - レース結果（貼付）'!$B:$B,0),MATCH('決勝ヒート - レース正式結果表（印刷）'!U$11,'[1]決勝ヒート - レース結果（貼付）'!$1:$1,0)),"")) -> 83.494
A18: =IF(OR('[1]決勝ヒート - レース結果（貼付）'!A7="DNF",'[1]決勝ヒート - レース結果（貼付）'!A7="DNS",'[1]決勝ヒート - レース結果（貼付）'!A7="DQ"),'[1]決勝ヒート - レース結果（貼付）'!A7,IF(MAX('[1]決勝ヒート - レース結果（貼付）'!A:A)>A17,A17+1,"")) -> 6 | B18: =IFERROR(INDEX('[1]決勝ヒート - レース結果（貼付）'!A7:$Z$50,MATCH($A18,'[1]決勝ヒート - レース結果（貼付）'!A7:$A$50,0),MATCH('決勝ヒート - レース正式結果表（印刷）'!B$11,'[1]決勝ヒート - レース結果（貼付）'!$1:$1,0)),"") -> 44 | E18: =IFERROR(INDEX('[1]決勝ヒート - レース結果（貼付）'!$A:$Z,MATCH($B18,'[1]決勝ヒート - レース結果（貼付）'!$B:$B,0),MATCH('決勝ヒート - レース正式結果表（印刷）'!E$11,'[1]決勝ヒート - レース結果（貼付）'!$1:$1,0)),"") -> 菊田 悟 | F18: =IFERROR(INDEX('[1]決勝ヒート - レース結果（貼付）'!$A:$Z,MATCH($B18,'[1]決勝ヒート - レース結果（貼付）'!$B:$B,0),MATCH('決勝ヒート - レース正式結果表（印刷）'!F$11,'[1]決勝ヒート - レース結果（貼付）'!$1:$1,0)),"") -> KOSMIC/IAME | G18: =IFERROR(INDEX('[1]決勝ヒート - レース結果（貼付）'!$A:$Z,MATCH($B18,'[1]決勝ヒート - レース結果（貼付）'!$B:$B,0),MATCH('決勝ヒート - レース正式結果表（印刷）'!G$11,'[1]決勝ヒート - レース結果（貼付）'!$1:$1,0)),"") -> TEAM CRESCENT with ONE POINT | H18: =IFERROR(INDEX('[1]決勝ヒート - レース結果（貼付）'!$A:$Z,MATCH($B18,'[1]決勝ヒート - レース結果（貼付）'!$B:$B,0),MATCH('決勝ヒート - レース正式結果表（印刷）'!H$11,'[1]決勝ヒート - レース結果（貼付）'!$1:$1,0)),"") -> BS | I18: =IF(A18="DNS","",IF(A18="DQ","",IFERROR(INDEX('[1]決勝ヒート - レース結果（貼付）'!$A:$Z,MATCH($A18,'[1]決勝ヒート - レース結果（貼付）'!$A:$A,0),MATCH('決勝ヒート - レース正式結果表（印刷）'!I$11,'[1]決勝ヒート - レース結果（貼付）'!$1:$1,0)),""))) -> 22 | J18: =IF(A18="DNS","ｽﾀｰﾄ出来ず",IF(A18="DQ","失 格",IFERROR(INDEX('[1]決勝ヒート - レース結果（貼付）'!$A:$Z,MATCH($B18,'[1]決勝ヒート - レース結果（貼付）'!$B:$B,0),MATCH('決勝ヒート - レース正式結果表（印刷）'!J$11,'[1]決勝ヒート - レース結果（貼付）'!$1:$1,0)),""))) -> 0.014080023 | K18: =IF(A18="DNS","",IF(A18="DQ","",IFERROR(INDEX('[1]決勝ヒート - レース結果（貼付）'!$A:$Z,MATCH($A18,'[1]決勝ヒート - レース結果（貼付）'!$A:$A,0),MATCH('決勝ヒート - レース正式結果表（印刷）'!K$11,'[1]決勝ヒート - レース結果（貼付）'!$1:$1,0)),""))) -> 14.688 | L18: =IF(A18="DNS","",IF(A18="DQ","",IFERROR(INDEX('[1]決勝ヒート - レース結果（貼付）'!$A:$Z,MATCH($A18,'[1]決勝ヒート - レース結果（貼付）'!$A:$A,0),MATCH('決勝ヒート - レース正式結果表（印刷）'!L$11,'[1]決勝ヒート - レース結果（貼付）'!$1:$1,0)),""))) -> 1.026 | M18: =IF(A18="DNS","",IF(A18="DQ","",IFERROR(INDEX('[1]決勝ヒート - レース結果（貼付）'!$A:$Z,MATCH($B18,'[1]決勝ヒート - レース結果（貼付）'!$B:$B,0),MATCH('決勝ヒート - レース正式結果表（印刷）'!M$11,'[1]決勝ヒート - レース結果（貼付）'!$1:$1,0)),""))) -> 54.382 | N18: =IF(M18<1,"",IF($N$11>M18,"R","")) | Q18: =IF(IFERROR(INDEX('[1]決勝ヒート - レース結果（貼付）'!$A:$Z,MATCH($B18,'[1]決勝ヒート - レース結果（貼付）'!$B:$B,0),MATCH('決勝ヒート - レース正式結果表（印刷）'!Q$11,'[1]決勝ヒート - レース結果（貼付）'!$1:$1,0)),"")=0,"",IFERROR(INDEX('[1]決勝ヒート - レース結果（貼付）'!$A:$Z,MATCH($B18,'[1]決勝ヒート - レース結果（貼付）'!$B:$B,0),MATCH('決勝ヒート - レース正式結果表（印刷）'!Q$11,'[1]決勝ヒート - レース結果（貼付）'!$1:$1,0)),"")) | R18: =IF(Q18="","",COUNTIF($Q$13:Q18,"<>"&"")) | S18: =IFERROR(RANK(R18,$R$13:$R$46,1),"") | T18: =IF(IFERROR(INDEX('[1]決勝ヒート - レース結果（貼付）'!$A:$Z,MATCH($A18,'[1]決勝ヒート - レース結果（貼付）'!$A:$A,0),MATCH('決勝ヒート - レース正式結果表（印刷）'!T$11,'[1]決勝ヒート - レース結果（貼付）'!$1:$1,0)),"")=0,"",IFERROR(INDEX('[1]決勝ヒート - レース結果（貼付）'!$A:$Z,MATCH($A18,'[1]決勝ヒート - レース結果（貼付）'!$A:$A,0),MATCH('決勝ヒート - レース正式結果表（印刷）'!T$11,'[1]決勝ヒート - レース結果（貼付）'!$1:$1,0)),"")) | U18: =IF(IFERROR(INDEX('[1]決勝ヒート - レース結果（貼付）'!$A:$Z,MATCH($B18,'[1]決勝ヒート - レース結果（貼付）'!$B:$B,0),MATCH('決勝ヒート - レース正式結果表（印刷）'!U$11,'[1]決勝ヒート - レース結果（貼付）'!$1:$1,0)),"")=0,"",IFERROR(INDEX('[1]決勝ヒート - レース結果（貼付）'!$A:$Z,MATCH($B18,'[1]決勝ヒート - レース結果（貼付）'!$B:$B,0),MATCH('決勝ヒート - レース正式結果表（印刷）'!U$11,'[1]決勝ヒート - レース結果（貼付）'!$1:$1,0)),"")) -> 83.182
A19: =IF(OR('[1]決勝ヒート - レース結果（貼付）'!A8="DNF",'[1]決勝ヒート - レース結果（貼付）'!A8="DNS",'[1]決勝ヒート - レース結果（貼付）'!A8="DQ"),'[1]決勝ヒート - レース結果（貼付）'!A8,IF(MAX('[1]決勝ヒート - レース結果（貼付）'!A:A)>A18,A18+1,"")) -> 7 | B19: =IFERROR(INDEX('[1]決勝ヒート - レース結果（貼付）'!A8:$Z$50,MATCH($A19,'[1]決勝ヒート - レース結果（貼付）'!A8:$A$50,0),MATCH('決勝ヒート - レース正式結果表（印刷）'!B$11,'[1]決勝ヒート - レース結果（貼付）'!$1:$1,0)),"") -> 73 | E19: =IFERROR(INDEX('[1]決勝ヒート - レース結果（貼付）'!$A:$Z,MATCH($B19,'[1]決勝ヒート - レース結果（貼付）'!$B:$B,0),MATCH('決勝ヒート - レース正式結果表（印刷）'!E$11,'[1]決勝ヒート - レース結果（貼付）'!$1:$1,0)),"") -> 豊島 里空斗 | F19: =IFERROR(INDEX('[1]決勝ヒート - レース結果（貼付）'!$A:$Z,MATCH($B19,'[1]決勝ヒート - レース結果（貼付）'!$B:$B,0),MATCH('決勝ヒート - レース正式結果表（印刷）'!F$11,'[1]決勝ヒート - レース結果（貼付）'!$1:$1,0)),"") -> KOSMIC/IAME | G19: =IFERROR(INDEX('[1]決勝ヒート - レース結果（貼付）'!$A:$Z,MATCH($B19,'[1]決勝ヒート - レース結果（貼付）'!$B:$B,0),MATCH('決勝ヒート - レース正式結果表（印刷）'!G$11,'[1]決勝ヒート - レース結果（貼付）'!$1:$1,0)),"") -> HRTwithカローラ新茨城CSI Racing | H19: =IFERROR(INDEX('[1]決勝ヒート - レース結果（貼付）'!$A:$Z,MATCH($B19,'[1]決勝ヒート - レース結果（貼付）'!$B:$B,0),MATCH('決勝ヒート - レース正式結果表（印刷）'!H$11,'[1]決勝ヒート - レース結果（貼付）'!$1:$1,0)),"") -> BS | I19: =IF(A19="DNS","",IF(A19="DQ","",IFERROR(INDEX('[1]決勝ヒート - レース結果（貼付）'!$A:$Z,MATCH($A19,'[1]決勝ヒート - レース結果（貼付）'!$A:$A,0),MATCH('決勝ヒート - レース正式結果表（印刷）'!I$11,'[1]決勝ヒート - レース結果（貼付）'!$1:$1,0)),""))) -> 22 | J19: =IF(A19="DNS","ｽﾀｰﾄ出来ず",IF(A19="DQ","失 格",IFERROR(INDEX('[1]決勝ヒート - レース結果（貼付）'!$A:$Z,MATCH($B19,'[1]決勝ヒート - レース結果（貼付）'!$B:$B,0),MATCH('決勝ヒート - レース正式結果表（印刷）'!J$11,'[1]決勝ヒート - レース結果（貼付）'!$1:$1,0)),""))) -> 0.014102222 | K19: =IF(A19="DNS","",IF(A19="DQ","",IFERROR(INDEX('[1]決勝ヒート - レース結果（貼付）'!$A:$Z,MATCH($A19,'[1]決勝ヒート - レース結果（貼付）'!$A:$A,0),MATCH('決勝ヒート - レース正式結果表（印刷）'!K$11,'[1]決勝ヒート - レース結果（貼付）'!$1:$1,0)),""))) -> 16.606 | L19: =IF(A19="DNS","",IF(A19="DQ","",IFERROR(INDEX('[1]決勝ヒート - レース結果（貼付）'!$A:$Z,MATCH($A19,'[1]決勝ヒート - レース結果（貼付）'!$A:$A,0),MATCH('決勝ヒート - レース正式結果表（印刷）'!L$11,'[1]決勝ヒート - レース結果（貼付）'!$1:$1,0)),""))) -> 1.918 | M19: =IF(A19="DNS","",IF(A19="DQ","",IFERROR(INDEX('[1]決勝ヒート - レース結果（貼付）'!$A:$Z,MATCH($B19,'[1]決勝ヒート - レース結果（貼付）'!$B:$B,0),MATCH('決勝ヒート - レース正式結果表（印刷）'!M$11,'[1]決勝ヒート - レース結果（貼付）'!$1:$1,0)),""))) -> 54.5 | N19: =IF(M19<1,"",IF($N$11>M19,"R","")) | Q19: =IF(IFERROR(INDEX('[1]決勝ヒート - レース結果（貼付）'!$A:$Z,MATCH($B19,'[1]決勝ヒート - レース結果（貼付）'!$B:$B,0),MATCH('決勝ヒート - レース正式結果表（印刷）'!Q$11,'[1]決勝ヒート - レース結果（貼付）'!$1:$1,0)),"")=0,"",IFERROR(INDEX('[1]決勝ヒート - レース結果（貼付）'!$A:$Z,MATCH($B19,'[1]決勝ヒート - レース結果（貼付）'!$B:$B,0),MATCH('決勝ヒート - レース正式結果表（印刷）'!Q$11,'[1]決勝ヒート - レース結果（貼付）'!$1:$1,0)),"")) -> 全日本カート選手権統一規則書 第38条(25)(フロントフェアリングが正しい装着状態でない)により5秒加算した。 | R19: =IF(Q19="","",COUNTIF($Q$13:Q19,"<>"&"")) -> 7 | S19: =IFERROR(RANK(R19,$R$13:$R$46,1),"") -> 1 | T19: =IF(IFERROR(INDEX('[1]決勝ヒート - レース結果（貼付）'!$A:$Z,MATCH($A19,'[1]決勝ヒート - レース結果（貼付）'!$A:$A,0),MATCH('決勝ヒート - レース正式結果表（印刷）'!T$11,'[1]決勝ヒート - レース結果（貼付）'!$1:$1,0)),"")=0,"",IFERROR(INDEX('[1]決勝ヒート - レース結果（貼付）'!$A:$Z,MATCH($A19,'[1]決勝ヒート - レース結果（貼付）'!$A:$A,0),MATCH('決勝ヒート - レース正式結果表（印刷）'!T$11,'[1]決勝ヒート - レース結果（貼付）'!$1:$1,0)),"")) | U19: =IF(IFERROR(INDEX('[1]決勝ヒート - レース結果（貼付）'!$A:$Z,MATCH($B19,'[1]決勝ヒート - レース結果（貼付）'!$B:$B,0),MATCH('決勝ヒート - レース正式結果表（印刷）'!U$11,'[1]決勝ヒート - レース結果（貼付）'!$1:$1,0)),"")=0,"",IFERROR(INDEX('[1]決勝ヒート - レース結果（貼付）'!$A:$Z,MATCH($B19,'[1]決勝ヒート - レース結果（貼付）'!$B:$B,0),MATCH('決勝ヒート - レース正式結果表（印刷）'!U$11,'[1]決勝ヒート - レース結果（貼付）'!$1:$1,0)),"")) -> 83.383
A20: =IF(OR('[1]決勝ヒート - レース結果（貼付）'!A9="DNF",'[1]決勝ヒート - レース結果（貼付）'!A9="DNS",'[1]決勝ヒート - レース結果（貼付）'!A9="DQ"),'[1]決勝ヒート - レース結果（貼付）'!A9,IF(MAX('[1]決勝ヒート - レース結果（貼付）'!A:A)>A19,A19+1,"")) -> 8 | B20: =IFERROR(INDEX('[1]決勝ヒート - レース結果（貼付）'!A9:$Z$50,MATCH($A20,'[1]決勝ヒート - レース結果（貼付）'!A9:$A$50,0),MATCH('決勝ヒート - レース正式結果表（印刷）'!B$11,'[1]決勝ヒート - レース結果（貼付）'!$1:$1,0)),"") -> 21 | E20: =IFERROR(INDEX('[1]決勝ヒート - レース結果（貼付）'!$A:$Z,MATCH($B20,'[1]決勝ヒート - レース結果（貼付）'!$B:$B,0),MATCH('決勝ヒート - レース正式結果表（印刷）'!E$11,'[1]決勝ヒート - レース結果（貼付）'!$1:$1,0)),"") -> 百瀬 翔 | F20: =IFERROR(INDEX('[1]決勝ヒート - レース結果（貼付）'!$A:$Z,MATCH($B20,'[1]決勝ヒート - レース結果（貼付）'!$B:$B,0),MATCH('決勝ヒート - レース正式結果表（印刷）'!F$11,'[1]決勝ヒート - レース結果（貼付）'!$1:$1,0)),"") -> LN KART/IAME | G20: =IFERROR(INDEX('[1]決勝ヒート - レース結果（貼付）'!$A:$Z,MATCH($B20,'[1]決勝ヒート - レース結果（貼付）'!$B:$B,0),MATCH('決勝ヒート - レース正式結果表（印刷）'!G$11,'[1]決勝ヒート - レース結果（貼付）'!$1:$1,0)),"") -> HRS JAPAN | H20: =IFERROR(INDEX('[1]決勝ヒート - レース結果（貼付）'!$A:$Z,MATCH($B20,'[1]決勝ヒート - レース結果（貼付）'!$B:$B,0),MATCH('決勝ヒート - レース正式結果表（印刷）'!H$11,'[1]決勝ヒート - レース結果（貼付）'!$1:$1,0)),"") -> BS | I20: =IF(A20="DNS","",IF(A20="DQ","",IFERROR(INDEX('[1]決勝ヒート - レース結果（貼付）'!$A:$Z,MATCH($A20,'[1]決勝ヒート - レース結果（貼付）'!$A:$A,0),MATCH('決勝ヒート - レース正式結果表（印刷）'!I$11,'[1]決勝ヒート - レース結果（貼付）'!$1:$1,0)),""))) -> 22 | J20: =IF(A20="DNS","ｽﾀｰﾄ出来ず",IF(A20="DQ","失 格",IFERROR(INDEX('[1]決勝ヒート - レース結果（貼付）'!$A:$Z,MATCH($B20,'[1]決勝ヒート - レース結果（貼付）'!$B:$B,0),MATCH('決勝ヒート - レース正式結果表（印刷）'!J$11,'[1]決勝ヒート - レース結果（貼付）'!$1:$1,0)),""))) -> 0.014110255 | K20: =IF(A20="DNS","",IF(A20="DQ","",IFERROR(INDEX('[1]決勝ヒート - レース結果（貼付）'!$A:$Z,MATCH($A20,'[1]決勝ヒート - レース結果（貼付）'!$A:$A,0),MATCH('決勝ヒート - レース正式結果表（印刷）'!K$11,'[1]決勝ヒート - レース結果（貼付）'!$1:$1,0)),""))) -> 17.3 | L20: =IF(A20="DNS","",IF(A20="DQ","",IFERROR(INDEX('[1]決勝ヒート - レース結果（貼付）'!$A:$Z,MATCH($A20,'[1]決勝ヒート - レース結果（貼付）'!$A:$A,0),MATCH('決勝ヒート - レース正式結果表（印刷）'!L$11,'[1]決勝ヒート - レース結果（貼付）'!$1:$1,0)),""))) -> 0.694 | M20: =IF(A20="DNS","",IF(A20="DQ","",IFERROR(INDEX('[1]決勝ヒート - レース結果（貼付）'!$A:$Z,MATCH($B20,'[1]決勝ヒート - レース結果（貼付）'!$B:$B,0),MATCH('決勝ヒート - レース正式結果表（印刷）'!M$11,'[1]決勝ヒート - レース結果（貼付）'!$1:$1,0)),""))) -> 54.704 | N20: =IF(M20<1,"",IF($N$11>M20,"R","")) | Q20: =IF(IFERROR(INDEX('[1]決勝ヒート - レース結果（貼付）'!$A:$Z,MATCH($B20,'[1]決勝ヒート - レース結果（貼付）'!$B:$B,0),MATCH('決勝ヒート - レース正式結果表（印刷）'!Q$11,'[1]決勝ヒート - レース結果（貼付）'!$1:$1,0)),"")=0,"",IFERROR(INDEX('[1]決勝ヒート - レース結果（貼付）'!$A:$Z,MATCH($B20,'[1]決勝ヒート - レース結果（貼付）'!$B:$B,0),MATCH('決勝ヒート - レース正式結果表（印刷）'!Q$11,'[1]決勝ヒート - レース結果（貼付）'!$1:$1,0)),"")) -> 全日本カート選手権統一規則書 第38条(25)(フロントフェアリングが正しい装着状態でない)により5秒加算した。 | R20: =IF(Q20="","",COUNTIF($Q$13:Q20,"<>"&"")) -> 8 | S20: =IFERROR(RANK(R20,$R$13:$R$46,1),"") -> 2 | T20: =IF(IFERROR(INDEX('[1]決勝ヒート - レース結果（貼付）'!$A:$Z,MATCH($A20,'[1]決勝ヒート - レース結果（貼付）'!$A:$A,0),MATCH('決勝ヒート - レース正式結果表（印刷）'!T$11,'[1]決勝ヒート - レース結果（貼付）'!$1:$1,0)),"")=0,"",IFERROR(INDEX('[1]決勝ヒート - レース結果（貼付）'!$A:$Z,MATCH($A20,'[1]決勝ヒート - レース結果（貼付）'!$A:$A,0),MATCH('決勝ヒート - レース正式結果表（印刷）'!T$11,'[1]決勝ヒート - レース結果（貼付）'!$1:$1,0)),"")) | U20: =IF(IFERROR(INDEX('[1]決勝ヒート - レース結果（貼付）'!$A:$Z,MATCH($B20,'[1]決勝ヒート - レース結果（貼付）'!$B:$B,0),MATCH('決勝ヒート - レース正式結果表（印刷）'!U$11,'[1]決勝ヒート - レース結果（貼付）'!$1:$1,0)),"")=0,"",IFERROR(INDEX('[1]決勝ヒート - レース結果（貼付）'!$A:$Z,MATCH($B20,'[1]決勝ヒート - レース結果（貼付）'!$B:$B,0),MATCH('決勝ヒート - レース正式結果表（印刷）'!U$11,'[1]決勝ヒート - レース結果（貼付）'!$1:$1,0)),"")) -> 83.312
A21: =IF(OR('[1]決勝ヒート - レース結果（貼付）'!A10="DNF",'[1]決勝ヒート - レース結果（貼付）'!A10="DNS",'[1]決勝ヒート - レース結果（貼付）'!A10="DQ"),'[1]決勝ヒート - レース結果（貼付）'!A10,IF(MAX('[1]決勝ヒート - レース結果（貼付）'!A:A)>A20,A20+1,"")) -> 9 | B21: =IFERROR(INDEX('[1]決勝ヒート - レース結果（貼付）'!A10:$Z$50,MATCH($A21,'[1]決勝ヒート - レース結果（貼付）'!A10:$A$50,0),MATCH('決勝ヒート - レース正式結果表（印刷）'!B$11,'[1]決勝ヒート - レース結果（貼付）'!$1:$1,0)),"") -> 30 | E21: =IFERROR(INDEX('[1]決勝ヒート - レース結果（貼付）'!$A:$Z,MATCH($B21,'[1]決勝ヒート - レース結果（貼付）'!$B:$B,0),MATCH('決勝ヒート - レース正式結果表（印刷）'!E$11,'[1]決勝ヒート - レース結果（貼付）'!$1:$1,0)),"") -> 加納 康雅 | F21: =IFERROR(INDEX('[1]決勝ヒート - レース結果（貼付）'!$A:$Z,MATCH($B21,'[1]決勝ヒート - レース結果（貼付）'!$B:$B,0),MATCH('決勝ヒート - レース正式結果表（印刷）'!F$11,'[1]決勝ヒート - レース結果（貼付）'!$1:$1,0)),"") -> CL/IAME | G21: =IFERROR(INDEX('[1]決勝ヒート - レース結果（貼付）'!$A:$Z,MATCH($B21,'[1]決勝ヒート - レース結果（貼付）'!$B:$B,0),MATCH('決勝ヒート - レース正式結果表（印刷）'!G$11,'[1]決勝ヒート - レース結果（貼付）'!$1:$1,0)),"") -> TIGRE | H21: =IFERROR(INDEX('[1]決勝ヒート - レース結果（貼付）'!$A:$Z,MATCH($B21,'[1]決勝ヒート - レース結果（貼付）'!$B:$B,0),MATCH('決勝ヒート - レース正式結果表（印刷）'!H$11,'[1]決勝ヒート - レース結果（貼付）'!$1:$1,0)),"") -> BS | I21: =IF(A21="DNS","",IF(A21="DQ","",IFERROR(INDEX('[1]決勝ヒート - レース結果（貼付）'!$A:$Z,MATCH($A21,'[1]決勝ヒート - レース結果（貼付）'!$A:$A,0),MATCH('決勝ヒート - レース正式結果表（印刷）'!I$11,'[1]決勝ヒート - レース結果（貼付）'!$1:$1,0)),""))) -> 22 | J21: =IF(A21="DNS","ｽﾀｰﾄ出来ず",IF(A21="DQ","失 格",IFERROR(INDEX('[1]決勝ヒート - レース結果（貼付）'!$A:$Z,MATCH($B21,'[1]決勝ヒート - レース結果（貼付）'!$B:$B,0),MATCH('決勝ヒート - レース正式結果表（印刷）'!J$11,'[1]決勝ヒート - レース結果（貼付）'!$1:$1,0)),""))) -> 0.014113287 | K21: =IF(A21="DNS","",IF(A21="DQ","",IFERROR(INDEX('[1]決勝ヒート - レース結果（貼付）'!$A:$Z,MATCH($A21,'[1]決勝ヒート - レース結果（貼付）'!$A:$A,0),MATCH('決勝ヒート - レース正式結果表（印刷）'!K$11,'[1]決勝ヒート - レース結果（貼付）'!$1:$1,0)),""))) -> 17.562 | L21: =IF(A21="DNS","",IF(A21="DQ","",IFERROR(INDEX('[1]決勝ヒート - レース結果（貼付）'!$A:$Z,MATCH($A21,'[1]決勝ヒート - レース結果（貼付）'!$A:$A,0),MATCH('決勝ヒート - レース正式結果表（印刷）'!L$11,'[1]決勝ヒート - レース結果（貼付）'!$1:$1,0)),""))) -> 0.262 | M21: =IF(A21="DNS","",IF(A21="DQ","",IFERROR(INDEX('[1]決勝ヒート - レース結果（貼付）'!$A:$Z,MATCH($B21,'[1]決勝ヒート - レース結果（貼付）'!$B:$B,0),MATCH('決勝ヒート - レース正式結果表（印刷）'!M$11,'[1]決勝ヒート - レース結果（貼付）'!$1:$1,0)),""))) -> 54.677 | N21: =IF(M21<1,"",IF($N$11>M21,"R","")) | Q21: =IF(IFERROR(INDEX('[1]決勝ヒート - レース結果（貼付）'!$A:$Z,MATCH($B21,'[1]決勝ヒート - レース結果（貼付）'!$B:$B,0),MATCH('決勝ヒート - レース正式結果表（印刷）'!Q$11,'[1]決勝ヒート - レース結果（貼付）'!$1:$1,0)),"")=0,"",IFERROR(INDEX('[1]決勝ヒート - レース結果（貼付）'!$A:$Z,MATCH($B21,'[1]決勝ヒート - レース結果（貼付）'!$B:$B,0),MATCH('決勝ヒート - レース正式結果表（印刷）'!Q$11,'[1]決勝ヒート - レース結果（貼付）'!$1:$1,0)),"")) | R21: =IF(Q21="","",COUNTIF($Q$13:Q21,"<>"&"")) | S21: =IFERROR(RANK(R21,$R$13:$R$46,1),"") | T21: =IF(IFERROR(INDEX('[1]決勝ヒート - レース結果（貼付）'!$A:$Z,MATCH($A21,'[1]決勝ヒート - レース結果（貼付）'!$A:$A,0),MATCH('決勝ヒート - レース正式結果表（印刷）'!T$11,'[1]決勝ヒート - レース結果（貼付）'!$1:$1,0)),"")=0,"",IFERROR(INDEX('[1]決勝ヒート - レース結果（貼付）'!$A:$Z,MATCH($A21,'[1]決勝ヒート - レース結果（貼付）'!$A:$A,0),MATCH('決勝ヒート - レース正式結果表（印刷）'!T$11,'[1]決勝ヒート - レース結果（貼付）'!$1:$1,0)),"")) | U21: =IF(IFERROR(INDEX('[1]決勝ヒート - レース結果（貼付）'!$A:$Z,MATCH($B21,'[1]決勝ヒート - レース結果（貼付）'!$B:$B,0),MATCH('決勝ヒート - レース正式結果表（印刷）'!U$11,'[1]決勝ヒート - レース結果（貼付）'!$1:$1,0)),"")=0,"",IFERROR(INDEX('[1]決勝ヒート - レース結果（貼付）'!$A:$Z,MATCH($B21,'[1]決勝ヒート - レース結果（貼付）'!$B:$B,0),MATCH('決勝ヒート - レース正式結果表（印刷）'!U$11,'[1]決勝ヒート - レース結果（貼付）'!$1:$1,0)),"")) -> 83.504
A22: =IF(OR('[1]決勝ヒート - レース結果（貼付）'!A11="DNF",'[1]決勝ヒート - レース結果（貼付）'!A11="DNS",'[1]決勝ヒート - レース結果（貼付）'!A11="DQ"),'[1]決勝ヒート - レース結果（貼付）'!A11,IF(MAX('[1]決勝ヒート - レース結果（貼付）'!A:A)>A21,A21+1,"")) -> 10 | B22: =IFERROR(INDEX('[1]決勝ヒート - レース結果（貼付）'!A11:$Z$50,MATCH($A22,'[1]決勝ヒート - レース結果（貼付）'!A11:$A$50,0),MATCH('決勝ヒート - レース正式結果表（印刷）'!B$11,'[1]決勝ヒート - レース結果（貼付）'!$1:$1,0)),"") -> 39 | E22: =IFERROR(INDEX('[1]決勝ヒート - レース結果（貼付）'!$A:$Z,MATCH($B22,'[1]決勝ヒート - レース結果（貼付）'!$B:$B,0),MATCH('決勝ヒート - レース正式結果表（印刷）'!E$11,'[1]決勝ヒート - レース結果（貼付）'!$1:$1,0)),"") -> 塚本 凛世 | F22: =IFERROR(INDEX('[1]決勝ヒート - レース結果（貼付）'!$A:$Z,MATCH($B22,'[1]決勝ヒート - レース結果（貼付）'!$B:$B,0),MATCH('決勝ヒート - レース正式結果表（印刷）'!F$11,'[1]決勝ヒート - レース結果（貼付）'!$1:$1,0)),"") -> TONY KART/IAME | G22: =IFERROR(INDEX('[1]決勝ヒート - レース結果（貼付）'!$A:$Z,MATCH($B22,'[1]決勝ヒート - レース結果（貼付）'!$B:$B,0),MATCH('決勝ヒート - レース正式結果表（印刷）'!G$11,'[1]決勝ヒート - レース結果（貼付）'!$1:$1,0)),"") -> K.SPEED WIN | H22: =IFERROR(INDEX('[1]決勝ヒート - レース結果（貼付）'!$A:$Z,MATCH($B22,'[1]決勝ヒート - レース結果（貼付）'!$B:$B,0),MATCH('決勝ヒート - レース正式結果表（印刷）'!H$11,'[1]決勝ヒート - レース結果（貼付）'!$1:$1,0)),"") -> BS | I22: =IF(A22="DNS","",IF(A22="DQ","",IFERROR(INDEX('[1]決勝ヒート - レース結果（貼付）'!$A:$Z,MATCH($A22,'[1]決勝ヒート - レース結果（貼付）'!$A:$A,0),MATCH('決勝ヒート - レース正式結果表（印刷）'!I$11,'[1]決勝ヒート - レース結果（貼付）'!$1:$1,0)),""))) -> 22 | J22: =IF(A22="DNS","ｽﾀｰﾄ出来ず",IF(A22="DQ","失 格",IFERROR(INDEX('[1]決勝ヒート - レース結果（貼付）'!$A:$Z,MATCH($B22,'[1]決勝ヒート - レース結果（貼付）'!$B:$B,0),MATCH('決勝ヒート - レース正式結果表（印刷）'!J$11,'[1]決勝ヒート - レース結果（貼付）'!$1:$1,0)),""))) -> 0.014115637 | K22: =IF(A22="DNS","",IF(A22="DQ","",IFERROR(INDEX('[1]決勝ヒート - レース結果（貼付）'!$A:$Z,MATCH($A22,'[1]決勝ヒート - レース結果（貼付）'!$A:$A,0),MATCH('決勝ヒート - レース正式結果表（印刷）'!K$11,'[1]決勝ヒート - レース結果（貼付）'!$1:$1,0)),""))) -> 17.765 | L22: =IF(A22="DNS","",IF(A22="DQ","",IFERROR(INDEX('[1]決勝ヒート - レース結果（貼付）'!$A:$Z,MATCH($A22,'[1]決勝ヒート - レース結果（貼付）'!$A:$A,0),MATCH('決勝ヒート - レース正式結果表（印刷）'!L$11,'[1]決勝ヒート - レース結果（貼付）'!$1:$1,0)),""))) -> 0.203 | M22: =IF(A22="DNS","",IF(A22="DQ","",IFERROR(INDEX('[1]決勝ヒート - レース結果（貼付）'!$A:$Z,MATCH($B22,'[1]決勝ヒート - レース結果（貼付）'!$B:$B,0),MATCH('決勝ヒート - レース正式結果表（印刷）'!M$11,'[1]決勝ヒート - レース結果（貼付）'!$1:$1,0)),""))) -> 54.572 | N22: =IF(M22<1,"",IF($N$11>M22,"R","")) | Q22: =IF(IFERROR(INDEX('[1]決勝ヒート - レース結果（貼付）'!$A:$Z,MATCH($B22,'[1]決勝ヒート - レース結果（貼付）'!$B:$B,0),MATCH('決勝ヒート - レース正式結果表（印刷）'!Q$11,'[1]決勝ヒート - レース結果（貼付）'!$1:$1,0)),"")=0,"",IFERROR(INDEX('[1]決勝ヒート - レース結果（貼付）'!$A:$Z,MATCH($B22,'[1]決勝ヒート - レース結果（貼付）'!$B:$B,0),MATCH('決勝ヒート - レース正式結果表（印刷）'!Q$11,'[1]決勝ヒート - レース結果（貼付）'!$1:$1,0)),"")) -> 全日本カート選手権統一規則書 第38条(25)(フロントフェアリングが正しい装着状態でない)により5秒加算した。 | R22: =IF(Q22="","",COUNTIF($Q$13:Q22,"<>"&"")) -> 10 | S22: =IFERROR(RANK(R22,$R$13:$R$46,1),"") -> 3 | T22: =IF(IFERROR(INDEX('[1]決勝ヒート - レース結果（貼付）'!$A:$Z,MATCH($A22,'[1]決勝ヒート - レース結果（貼付）'!$A:$A,0),MATCH('決勝ヒート - レース正式結果表（印刷）'!T$11,'[1]決勝ヒート - レース結果（貼付）'!$1:$1,0)),"")=0,"",IFERROR(INDEX('[1]決勝ヒート - レース結果（貼付）'!$A:$Z,MATCH($A22,'[1]決勝ヒート - レース結果（貼付）'!$A:$A,0),MATCH('決勝ヒート - レース正式結果表（印刷）'!T$11,'[1]決勝ヒート - レース結果（貼付）'!$1:$1,0)),"")) | U22: =IF(IFERROR(INDEX('[1]決勝ヒート - レース結果（貼付）'!$A:$Z,MATCH($B22,'[1]決勝ヒート - レース結果（貼付）'!$B:$B,0),MATCH('決勝ヒート - レース正式結果表（印刷）'!U$11,'[1]決勝ヒート - レース結果（貼付）'!$1:$1,0)),"")=0,"",IFERROR(INDEX('[1]決勝ヒート - レース結果（貼付）'!$A:$Z,MATCH($B22,'[1]決勝ヒート - レース結果（貼付）'!$B:$B,0),MATCH('決勝ヒート - レース正式結果表（印刷）'!U$11,'[1]決勝ヒート - レース結果（貼付）'!$1:$1,0)),"")) -> 83.553
A23: =IF(OR('[1]決勝ヒート - レース結果（貼付）'!A12="DNF",'[1]決勝ヒート - レース結果（貼付）'!A12="DNS",'[1]決勝ヒート - レース結果（貼付）'!A12="DQ"),'[1]決勝ヒート - レース結果（貼付）'!A12,IF(MAX('[1]決勝ヒート - レース結果（貼付）'!A:A)>A22,A22+1,"")) -> 11 | B23: =IFERROR(INDEX('[1]決勝ヒート - レース結果（貼付）'!A12:$Z$50,MATCH($A23,'[1]決勝ヒート - レース結果（貼付）'!A12:$A$50,0),MATCH('決勝ヒート - レース正式結果表（印刷）'!B$11,'[1]決勝ヒート - レース結果（貼付）'!$1:$1,0)),"") -> 15 | E23: =IFERROR(INDEX('[1]決勝ヒート - レース結果（貼付）'!$A:$Z,MATCH($B23,'[1]決勝ヒート - レース結果（貼付）'!$B:$B,0),MATCH('決勝ヒート - レース正式結果表（印刷）'!E$11,'[1]決勝ヒート - レース結果（貼付）'!$1:$1,0)),"") -> 石田 瑞季 | F23: =IFERROR(INDEX('[1]決勝ヒート - レース結果（貼付）'!$A:$Z,MATCH($B23,'[1]決勝ヒート - レース結果（貼付）'!$B:$B,0),MATCH('決勝ヒート - レース正式結果表（印刷）'!F$11,'[1]決勝ヒート - レース結果（貼付）'!$1:$1,0)),"") -> KOSMIC/IAME | G23: =IFERROR(INDEX('[1]決勝ヒート - レース結果（貼付）'!$A:$Z,MATCH($B23,'[1]決勝ヒート - レース結果（貼付）'!$B:$B,0),MATCH('決勝ヒート - レース正式結果表（印刷）'!G$11,'[1]決勝ヒート - レース結果（貼付）'!$1:$1,0)),"") -> BRAVO-RACING | H23: =IFERROR(INDEX('[1]決勝ヒート - レース結果（貼付）'!$A:$Z,MATCH($B23,'[1]決勝ヒート - レース結果（貼付）'!$B:$B,0),MATCH('決勝ヒート - レース正式結果表（印刷）'!H$11,'[1]決勝ヒート - レース結果（貼付）'!$1:$1,0)),"") -> BS | I23: =IF(A23="DNS","",IF(A23="DQ","",IFERROR(INDEX('[1]決勝ヒート - レース結果（貼付）'!$A:$Z,MATCH($A23,'[1]決勝ヒート - レース結果（貼付）'!$A:$A,0),MATCH('決勝ヒート - レース正式結果表（印刷）'!I$11,'[1]決勝ヒート - レース結果（貼付）'!$1:$1,0)),""))) -> 22 | J23: =IF(A23="DNS","ｽﾀｰﾄ出来ず",IF(A23="DQ","失 格",IFERROR(INDEX('[1]決勝ヒート - レース結果（貼付）'!$A:$Z,MATCH($B23,'[1]決勝ヒート - レース結果（貼付）'!$B:$B,0),MATCH('決勝ヒート - レース正式結果表（印刷）'!J$11,'[1]決勝ヒート - レース結果（貼付）'!$1:$1,0)),""))) -> 0.014118125 | K23: =IF(A23="DNS","",IF(A23="DQ","",IFERROR(INDEX('[1]決勝ヒート - レース結果（貼付）'!$A:$Z,MATCH($A23,'[1]決勝ヒート - レース結果（貼付）'!$A:$A,0),MATCH('決勝ヒート - レース正式結果表（印刷）'!K$11,'[1]決勝ヒート - レース結果（貼付）'!$1:$1,0)),""))) -> 17.98 | L23: =IF(A23="DNS","",IF(A23="DQ","",IFERROR(INDEX('[1]決勝ヒート - レース結果（貼付）'!$A:$Z,MATCH($A23,'[1]決勝ヒート - レース結果（貼付）'!$A:$A,0),MATCH('決勝ヒート - レース正式結果表（印刷）'!L$11,'[1]決勝ヒート - レース結果（貼付）'!$1:$1,0)),""))) -> 0.215 | M23: =IF(A23="DNS","",IF(A23="DQ","",IFERROR(INDEX('[1]決勝ヒート - レース結果（貼付）'!$A:$Z,MATCH($B23,'[1]決勝ヒート - レース結果（貼付）'!$B:$B,0),MATCH('決勝ヒート - レース正式結果表（印刷）'!M$11,'[1]決勝ヒート - レース結果（貼付）'!$1:$1,0)),""))) -> 54.367 | N23: =IF(M23<1,"",IF($N$11>M23,"R","")) | Q23: =IF(IFERROR(INDEX('[1]決勝ヒート - レース結果（貼付）'!$A:$Z,MATCH($B23,'[1]決勝ヒート - レース結果（貼付）'!$B:$B,0),MATCH('決勝ヒート - レース正式結果表（印刷）'!Q$11,'[1]決勝ヒート - レース結果（貼付）'!$1:$1,0)),"")=0,"",IFERROR(INDEX('[1]決勝ヒート - レース結果（貼付）'!$A:$Z,MATCH($B23,'[1]決勝ヒート - レース結果（貼付）'!$B:$B,0),MATCH('決勝ヒート - レース正式結果表（印刷）'!Q$11,'[1]決勝ヒート - レース結果（貼付）'!$1:$1,0)),"")) | R23: =IF(Q23="","",COUNTIF($Q$13:Q23,"<>"&"")) | S23: =IFERROR(RANK(R23,$R$13:$R$46,1),"") | T23: =IF(IFERROR(INDEX('[1]決勝ヒート - レース結果（貼付）'!$A:$Z,MATCH($A23,'[1]決勝ヒート - レース結果（貼付）'!$A:$A,0),MATCH('決勝ヒート - レース正式結果表（印刷）'!T$11,'[1]決勝ヒート - レース結果（貼付）'!$1:$1,0)),"")=0,"",IFERROR(INDEX('[1]決勝ヒート - レース結果（貼付）'!$A:$Z,MATCH($A23,'[1]決勝ヒート - レース結果（貼付）'!$A:$A,0),MATCH('決勝ヒート - レース正式結果表（印刷）'!T$11,'[1]決勝ヒート - レース結果（貼付）'!$1:$1,0)),"")) | U23: =IF(IFERROR(INDEX('[1]決勝ヒート - レース結果（貼付）'!$A:$Z,MATCH($B23,'[1]決勝ヒート - レース結果（貼付）'!$B:$B,0),MATCH('決勝ヒート - レース正式結果表（印刷）'!U$11,'[1]決勝ヒート - レース結果（貼付）'!$1:$1,0)),"")=0,"",IFERROR(INDEX('[1]決勝ヒート - レース結果（貼付）'!$A:$Z,MATCH($B23,'[1]決勝ヒート - レース結果（貼付）'!$B:$B,0),MATCH('決勝ヒート - レース正式結果表（印刷）'!U$11,'[1]決勝ヒート - レース結果（貼付）'!$1:$1,0)),"")) -> 83.675
A24: =IF(OR('[1]決勝ヒート - レース結果（貼付）'!A13="DNF",'[1]決勝ヒート - レース結果（貼付）'!A13="DNS",'[1]決勝ヒート - レース結果（貼付）'!A13="DQ"),'[1]決勝ヒート - レース結果（貼付）'!A13,IF(MAX('[1]決勝ヒート - レース結果（貼付）'!A:A)>A23,A23+1,"")) -> 12 | B24: =IFERROR(INDEX('[1]決勝ヒート - レース結果（貼付）'!A13:$Z$50,MATCH($A24,'[1]決勝ヒート - レース結果（貼付）'!A13:$A$50,0),MATCH('決勝ヒート - レース正式結果表（印刷）'!B$11,'[1]決勝ヒート - レース結果（貼付）'!$1:$1,0)),"") -> 72 | E24: =IFERROR(INDEX('[1]決勝ヒート - レース結果（貼付）'!$A:$Z,MATCH($B24,'[1]決勝ヒート - レース結果（貼付）'!$B:$B,0),MATCH('決勝ヒート - レース正式結果表（印刷）'!E$11,'[1]決勝ヒート - レース結果（貼付）'!$1:$1,0)),"") -> 松井 海翔 | F24: =IFERROR(INDEX('[1]決勝ヒート - レース結果（貼付）'!$A:$Z,MATCH($B24,'[1]決勝ヒート - レース結果（貼付）'!$B:$B,0),MATCH('決勝ヒート - レース正式結果表（印刷）'!F$11,'[1]決勝ヒート - レース結果（貼付）'!$1:$1,0)),"") -> KOSMIC/IAME | G24: =IFERROR(INDEX('[1]決勝ヒート - レース結果（貼付）'!$A:$Z,MATCH($B24,'[1]決勝ヒート - レース結果（貼付）'!$B:$B,0),MATCH('決勝ヒート - レース正式結果表（印刷）'!G$11,'[1]決勝ヒート - レース結果（貼付）'!$1:$1,0)),"") -> HKC | H24: =IFERROR(INDEX('[1]決勝ヒート - レース結果（貼付）'!$A:$Z,MATCH($B24,'[1]決勝ヒート - レース結果（貼付）'!$B:$B,0),MATCH('決勝ヒート - レース正式結果表（印刷）'!H$11,'[1]決勝ヒート - レース結果（貼付）'!$1:$1,0)),"") -> BS | I24: =IF(A24="DNS","",IF(A24="DQ","",IFERROR(INDEX('[1]決勝ヒート - レース結果（貼付）'!$A:$Z,MATCH($A24,'[1]決勝ヒート - レース結果（貼付）'!$A:$A,0),MATCH('決勝ヒート - レース正式結果表（印刷）'!I$11,'[1]決勝ヒート - レース結果（貼付）'!$1:$1,0)),""))) -> 22 | J24: =IF(A24="DNS","ｽﾀｰﾄ出来ず",IF(A24="DQ","失 格",IFERROR(INDEX('[1]決勝ヒート - レース結果（貼付）'!$A:$Z,MATCH($B24,'[1]決勝ヒート - レース結果（貼付）'!$B:$B,0),MATCH('決勝ヒート - レース正式結果表（印刷）'!J$11,'[1]決勝ヒート - レース結果（貼付）'!$1:$1,0)),""))) -> 0.014124687 | K24: =IF(A24="DNS","",IF(A24="DQ","",IFERROR(INDEX('[1]決勝ヒート - レース結果（貼付）'!$A:$Z,MATCH($A24,'[1]決勝ヒート - レース結果（貼付）'!$A:$A,0),MATCH('決勝ヒート - レース正式結果表（印刷）'!K$11,'[1]決勝ヒート - レース結果（貼付）'!$1:$1,0)),""))) -> 18.547 | L24: =IF(A24="DNS","",IF(A24="DQ","",IFERROR(INDEX('[1]決勝ヒート - レース結果（貼付）'!$A:$Z,MATCH($A24,'[1]決勝ヒート - レース結果（貼付）'!$A:$A,0),MATCH('決勝ヒート - レース正式結果表（印刷）'!L$11,'[1]決勝ヒート - レース結果（貼付）'!$1:$1,0)),""))) -> 0.567 | M24: =IF(A24="DNS","",IF(A24="DQ","",IFERROR(INDEX('[1]決勝ヒート - レース結果（貼付）'!$A:$Z,MATCH($B24,'[1]決勝ヒート - レース結果（貼付）'!$B:$B,0),MATCH('決勝ヒート - レース正式結果表（印刷）'!M$11,'[1]決勝ヒート - レース結果（貼付）'!$1:$1,0)),""))) -> 54.682 | N24: =IF(M24<1,"",IF($N$11>M24,"R","")) | Q24: =IF(IFERROR(INDEX('[1]決勝ヒート - レース結果（貼付）'!$A:$Z,MATCH($B24,'[1]決勝ヒート - レース結果（貼付）'!$B:$B,0),MATCH('決勝ヒート - レース正式結果表（印刷）'!Q$11,'[1]決勝ヒート - レース結果（貼付）'!$1:$1,0)),"")=0,"",IFERROR(INDEX('[1]決勝ヒート - レース結果（貼付）'!$A:$Z,MATCH($B24,'[1]決勝ヒート - レース結果（貼付）'!$B:$B,0),MATCH('決勝ヒート - レース正式結果表（印刷）'!Q$11,'[1]決勝ヒート - レース結果（貼付）'!$1:$1,0)),"")) | R24: =IF(Q24="","",COUNTIF($Q$13:Q24,"<>"&"")) | S24: =IFERROR(RANK(R24,$R$13:$R$46,1),"") | T24: =IF(IFERROR(INDEX('[1]決勝ヒート - レース結果（貼付）'!$A:$Z,MATCH($A24,'[1]決勝ヒート - レース結果（貼付）'!$A:$A,0),MATCH('決勝ヒート - レース正式結果表（印刷）'!T$11,'[1]決勝ヒート - レース結果（貼付）'!$1:$1,0)),"")=0,"",IFERROR(INDEX('[1]決勝ヒート - レース結果（貼付）'!$A:$Z,MATCH($A24,'[1]決勝ヒート - レース結果（貼付）'!$A:$A,0),MATCH('決勝ヒート - レース正式結果表（印刷）'!T$11,'[1]決勝ヒート - レース結果（貼付）'!$1:$1,0)),"")) | U24: =IF(IFERROR(INDEX('[1]決勝ヒート - レース結果（貼付）'!$A:$Z,MATCH($B24,'[1]決勝ヒート - レース結果（貼付）'!$B:$B,0),MATCH('決勝ヒート - レース正式結果表（印刷）'!U$11,'[1]決勝ヒート - レース結果（貼付）'!$1:$1,0)),"")=0,"",IFERROR(INDEX('[1]決勝ヒート - レース結果（貼付）'!$A:$Z,MATCH($B24,'[1]決勝ヒート - レース結果（貼付）'!$B:$B,0),MATCH('決勝ヒート - レース正式結果表（印刷）'!U$11,'[1]決勝ヒート - レース結果（貼付）'!$1:$1,0)),"")) -> 83.223
A25: =IF(OR('[1]決勝ヒート - レース結果（貼付）'!A14="DNF",'[1]決勝ヒート - レース結果（貼付）'!A14="DNS",'[1]決勝ヒート - レース結果（貼付）'!A14="DQ"),'[1]決勝ヒート - レース結果（貼付）'!A14,IF(MAX('[1]決勝ヒート - レース結果（貼付）'!A:A)>A24,A24+1,"")) -> 13 | B25: =IFERROR(INDEX('[1]決勝ヒート - レース結果（貼付）'!A14:$Z$50,MATCH($A25,'[1]決勝ヒート - レース結果（貼付）'!A14:$A$50,0),MATCH('決勝ヒート - レース正式結果表（印刷）'!B$11,'[1]決勝ヒート - レース結果（貼付）'!$1:$1,0)),"") -> 58 | E25: =IFERROR(INDEX('[1]決勝ヒート - レース結果（貼付）'!$A:$Z,MATCH($B25,'[1]決勝ヒート - レース結果（貼付）'!$B:$B,0),MATCH('決勝ヒート - レース正式結果表（印刷）'!E$11,'[1]決勝ヒート - レース結果（貼付）'!$1:$1,0)),"") -> 鈴木 悠太 | F25: =IFERROR(INDEX('[1]決勝ヒート - レース結果（貼付）'!$A:$Z,MATCH($B25,'[1]決勝ヒート - レース結果（貼付）'!$B:$B,0),MATCH('決勝ヒート - レース正式結果表（印刷）'!F$11,'[1]決勝ヒート - レース結果（貼付）'!$1:$1,0)),"") -> EXPRIT/IAME | G25: =IFERROR(INDEX('[1]決勝ヒート - レース結果（貼付）'!$A:$Z,MATCH($B25,'[1]決勝ヒート - レース結果（貼付）'!$B:$B,0),MATCH('決勝ヒート - レース正式結果表（印刷）'!G$11,'[1]決勝ヒート - レース結果（貼付）'!$1:$1,0)),"") -> RT WORLD | H25: =IFERROR(INDEX('[1]決勝ヒート - レース結果（貼付）'!$A:$Z,MATCH($B25,'[1]決勝ヒート - レース結果（貼付）'!$B:$B,0),MATCH('決勝ヒート - レース正式結果表（印刷）'!H$11,'[1]決勝ヒート - レース結果（貼付）'!$1:$1,0)),"") -> BS | I25: =IF(A25="DNS","",IF(A25="DQ","",IFERROR(INDEX('[1]決勝ヒート - レース結果（貼付）'!$A:$Z,MATCH($A25,'[1]決勝ヒート - レース結果（貼付）'!$A:$A,0),MATCH('決勝ヒート - レース正式結果表（印刷）'!I$11,'[1]決勝ヒート - レース結果（貼付）'!$1:$1,0)),""))) -> 22 | J25: =IF(A25="DNS","ｽﾀｰﾄ出来ず",IF(A25="DQ","失 格",IFERROR(INDEX('[1]決勝ヒート - レース結果（貼付）'!$A:$Z,MATCH($B25,'[1]決勝ヒート - レース結果（貼付）'!$B:$B,0),MATCH('決勝ヒート - レース正式結果表（印刷）'!J$11,'[1]決勝ヒート - レース結果（貼付）'!$1:$1,0)),""))) -> 0.014133252 | K25: =IF(A25="DNS","",IF(A25="DQ","",IFERROR(INDEX('[1]決勝ヒート - レース結果（貼付）'!$A:$Z,MATCH($A25,'[1]決勝ヒート - レース結果（貼付）'!$A:$A,0),MATCH('決勝ヒート - レース正式結果表（印刷）'!K$11,'[1]決勝ヒート - レース結果（貼付）'!$1:$1,0)),""))) -> 19.287 | L25: =IF(A25="DNS","",IF(A25="DQ","",IFERROR(INDEX('[1]決勝ヒート - レース結果（貼付）'!$A:$Z,MATCH($A25,'[1]決勝ヒート - レース結果（貼付）'!$A:$A,0),MATCH('決勝ヒート - レース正式結果表（印刷）'!L$11,'[1]決勝ヒート - レース結果（貼付）'!$1:$1,0)),""))) -> 0.74 | M25: =IF(A25="DNS","",IF(A25="DQ","",IFERROR(INDEX('[1]決勝ヒート - レース結果（貼付）'!$A:$Z,MATCH($B25,'[1]決勝ヒート - レース結果（貼付）'!$B:$B,0),MATCH('決勝ヒート - レース正式結果表（印刷）'!M$11,'[1]決勝ヒート - レース結果（貼付）'!$1:$1,0)),""))) -> 54.461 | N25: =IF(M25<1,"",IF($N$11>M25,"R","")) | Q25: =IF(IFERROR(INDEX('[1]決勝ヒート - レース結果（貼付）'!$A:$Z,MATCH($B25,'[1]決勝ヒート - レース結果（貼付）'!$B:$B,0),MATCH('決勝ヒート - レース正式結果表（印刷）'!Q$11,'[1]決勝ヒート - レース結果（貼付）'!$1:$1,0)),"")=0,"",IFERROR(INDEX('[1]決勝ヒート - レース結果（貼付）'!$A:$Z,MATCH($B25,'[1]決勝ヒート - レース結果（貼付）'!$B:$B,0),MATCH('決勝ヒート - レース正式結果表（印刷）'!Q$11,'[1]決勝ヒート - レース結果（貼付）'!$1:$1,0)),"")) -> 全日本カート選手権統一規則書 第38条(25)(フロントフェアリングが正しい装着状態でない)により5秒加算した。 | R25: =IF(Q25="","",COUNTIF($Q$13:Q25,"<>"&"")) -> 13 | S25: =IFERROR(RANK(R25,$R$13:$R$46,1),"") -> 4 | T25: =IF(IFERROR(INDEX('[1]決勝ヒート - レース結果（貼付）'!$A:$Z,MATCH($A25,'[1]決勝ヒート - レース結果（貼付）'!$A:$A,0),MATCH('決勝ヒート - レース正式結果表（印刷）'!T$11,'[1]決勝ヒート - レース結果（貼付）'!$1:$1,0)),"")=0,"",IFERROR(INDEX('[1]決勝ヒート - レース結果（貼付）'!$A:$Z,MATCH($A25,'[1]決勝ヒート - レース結果（貼付）'!$A:$A,0),MATCH('決勝ヒート - レース正式結果表（印刷）'!T$11,'[1]決勝ヒート - レース結果（貼付）'!$1:$1,0)),"")) | U25: =IF(IFERROR(INDEX('[1]決勝ヒート - レース結果（貼付）'!$A:$Z,MATCH($B25,'[1]決勝ヒート - レース結果（貼付）'!$B:$B,0),MATCH('決勝ヒート - レース正式結果表（印刷）'!U$11,'[1]決勝ヒート - レース結果（貼付）'!$1:$1,0)),"")=0,"",IFERROR(INDEX('[1]決勝ヒート - レース結果（貼付）'!$A:$Z,MATCH($B25,'[1]決勝ヒート - レース結果（貼付）'!$B:$B,0),MATCH('決勝ヒート - レース正式結果表（印刷）'!U$11,'[1]決勝ヒート - レース結果（貼付）'!$1:$1,0)),"")) -> 83.698
... A33: =IF(OR('[1]決勝ヒート - レース結果（貼付）'!A22="DNF",'[1]決勝ヒート - レース結果（貼付）'!A22="DNS",'[1]決勝ヒート - レース結果（貼付）'!A22="DQ"),'[1]決勝ヒート - レース結果（貼付）'!A22,IF(MAX('[1]決勝ヒート - レース結果（貼付）'!A:A)>A32,A32+1,"")) -> 21 | B33: =IFERROR(INDEX('[1]決勝ヒート - レース結果（貼付）'!A22:$Z$50,MATCH($A33,'[1]決勝ヒート - レース結果（貼付）'!A22:$A$50,0),MATCH('決勝ヒート - レース正式結果表（印刷）'!B$11,'[1]決勝ヒート - レース結果（貼付）'!$1:$1,0)),"") -> 35 | E33: =IFERROR(INDEX('[1]決勝ヒート - レース結果（貼付）'!$A:$Z,MATCH($B33,'[1]決勝ヒート - レース結果（貼付）'!$B:$B,0),MATCH('決勝ヒート - レース正式結果表（印刷）'!E$11,'[1]決勝ヒート - レース結果（貼付）'!$1:$1,0)),"") -> 冨田 真弥 | F33: =IFERROR(INDEX('[1]決勝ヒート - レース結果（貼付）'!$A:$Z,MATCH($B33,'[1]決勝ヒート - レース結果（貼付）'!$B:$B,0),MATCH('決勝ヒート - レース正式結果表（印刷）'!F$11,'[1]決勝ヒート - レース結果（貼付）'!$1:$1,0)),"") -> Drago CORSE/IAME | G33: =IFERROR(INDEX('[1]決勝ヒート - レース結果（貼付）'!$A:$Z,MATCH($B33,'[1]決勝ヒート - レース結果（貼付）'!$B:$B,0),MATCH('決勝ヒート - レース正式結果表（印刷）'!G$11,'[1]決勝ヒート - レース結果（貼付）'!$1:$1,0)),"") -> EHRE MOTOR SPORTS | H33: =IFERROR(INDEX('[1]決勝ヒート - レース結果（貼付）'!$A:$Z,MATCH($B33,'[1]決勝ヒート - レース結果（貼付）'!$B:$B,0),MATCH('決勝ヒート - レース正式結果表（印刷）'!H$11,'[1]決勝ヒート - レース結果（貼付）'!$1:$1,0)),"") -> BS | I33: =IF(A33="DNS","",IF(A33="DQ","",IFERROR(INDEX('[1]決勝ヒート - レース結果（貼付）'!$A:$Z,MATCH($A33,'[1]決勝ヒート - レース結果（貼付）'!$A:$A,0),MATCH('決勝ヒート - レース正式結果表（印刷）'!I$11,'[1]決勝ヒート - レース結果（貼付）'!$1:$1,0)),""))) -> 22 | J33: =IF(A33="DNS","ｽﾀｰﾄ出来ず",IF(A33="DQ","失 格",IFERROR(INDEX('[1]決勝ヒート - レース結果（貼付）'!$A:$Z,MATCH($B33,'[1]決勝ヒート - レース結果（貼付）'!$B:$B,0),MATCH('決勝ヒート - レース正式結果表（印刷）'!J$11,'[1]決勝ヒート - レース結果（貼付）'!$1:$1,0)),""))) -> 0.014563403 | K33: =IF(A33="DNS","",IF(A33="DQ","",IFERROR(INDEX('[1]決勝ヒート - レース結果（貼付）'!$A:$Z,MATCH($A33,'[1]決勝ヒート - レース結果（貼付）'!$A:$A,0),MATCH('決勝ヒート - レース正式結果表（印刷）'!K$11,'[1]決勝ヒート - レース結果（貼付）'!$1:$1,0)),""))) -> 56.452 | L33: =IF(A33="DNS","",IF(A33="DQ","",IFERROR(INDEX('[1]決勝ヒート - レース結果（貼付）'!$A:$Z,MATCH($A33,'[1]決勝ヒート - レース結果（貼付）'!$A:$A,0),MATCH('決勝ヒート - レース正式結果表（印刷）'!L$11,'[1]決勝ヒート - レース結果（貼付）'!$1:$1,0)),""))) -> 7.338 | M33: =IF(A33="DNS","",IF(A33="DQ","",IFERROR(INDEX('[1]決勝ヒート - レース結果（貼付）'!$A:$Z,MATCH($B33,'[1]決勝ヒート - レース結果（貼付）'!$B:$B,0),MATCH('決勝ヒート - レース正式結果表（印刷）'!M$11,'[1]決勝ヒート - レース結果（貼付）'!$1:$1,0)),""))) -> 55.509 | N33: =IF(M33<1,"",IF($N$11>M33,"R","")) | Q33: =IF(IFERROR(INDEX('[1]決勝ヒート - レース結果（貼付）'!$A:$Z,MATCH($B33,'[1]決勝ヒート - レース結果（貼付）'!$B:$B,0),MATCH('決勝ヒート - レース正式結果表（印刷）'!Q$11,'[1]決勝ヒート - レース結果（貼付）'!$1:$1,0)),"")=0,"",IFERROR(INDEX('[1]決勝ヒート - レース結果（貼付）'!$A:$Z,MATCH($B33,'[1]決勝ヒート - レース結果（貼付）'!$B:$B,0),MATCH('決勝ヒート - レース正式結果表（印刷）'!Q$11,'[1]決勝ヒート - レース結果（貼付）'!$1:$1,0)),"")) | R33: =IF(Q33="","",COUNTIF($Q$13:Q33,"<>"&"")) | S33: =IFERROR(RANK(R33,$R$13:$R$46,1),"") | T33: =IF(IFERROR(INDEX('[1]決勝ヒート - レース結果（貼付）'!$A:$Z,MATCH($A33,'[1]決勝ヒート - レース結果（貼付）'!$A:$A,0),MATCH('決勝ヒート - レース正式結果表（印刷）'!T$11,'[1]決勝ヒート - レース結果（貼付）'!$1:$1,0)),"")=0,"",IFERROR(INDEX('[1]決勝ヒート - レース結果（貼付）'!$A:$Z,MATCH($A33,'[1]決勝ヒート - レース結果（貼付）'!$A:$A,0),MATCH('決勝ヒート - レース正式結果表（印刷）'!T$11,'[1]決勝ヒート - レース結果（貼付）'!$1:$1,0)),"")) | U33: =IF(IFERROR(INDEX('[1]決勝ヒート - レース結果（貼付）'!$A:$Z,MATCH($B33,'[1]決勝ヒート - レース結果（貼付）'!$B:$B,0),MATCH('決勝ヒート - レース正式結果表（印刷）'!U$11,'[1]決勝ヒート - レース結果（貼付）'!$1:$1,0)),"")=0,"",IFERROR(INDEX('[1]決勝ヒート - レース結果（貼付）'!$A:$Z,MATCH($B33,'[1]決勝ヒート - レース結果（貼付）'!$B:$B,0),MATCH('決勝ヒート - レース正式結果表（印刷）'!U$11,'[1]決勝ヒート - レース結果（貼付）'!$1:$1,0)),"")) -> 81.976
A34: 以下ﾌｨﾆｯｼｭﾗｲﾝ不通過：
A35: =IF(OR('[1]決勝ヒート - レース結果（貼付）'!A23="DNF",'[1]決勝ヒート - レース結果（貼付）'!A23="DNS",'[1]決勝ヒート - レース結果（貼付）'!A23="DQ"),'[1]決勝ヒート - レース結果（貼付）'!A23,IF(MAX('[1]決勝ヒート - レース結果（貼付）'!A:A)>A33,A33+1,"")) -> 22 | B35: =IFERROR(INDEX('[1]決勝ヒート - レース結果（貼付）'!A23:$Z$50,MATCH($A35,'[1]決勝ヒート - レース結果（貼付）'!A23:$A$50,0),MATCH('決勝ヒート - レース正式結果表（印刷）'!B$11,'[1]決勝ヒート - レース結果（貼付）'!$1:$1,0)),"") -> 13 | E35: =IFERROR(INDEX('[1]決勝ヒート - レース結果（貼付）'!$A:$Z,MATCH($B35,'[1]決勝ヒート - レース結果（貼付）'!$B:$B,0),MATCH('決勝ヒート - レース正式結果表（印刷）'!E$11,'[1]決勝ヒート - レース結果（貼付）'!$1:$1,0)),"") -> 関 優成 | F35: =IFERROR(INDEX('[1]決勝ヒート - レース結果（貼付）'!$A:$Z,MATCH($B35,'[1]決勝ヒート - レース結果（貼付）'!$B:$B,0),MATCH('決勝ヒート - レース正式結果表（印刷）'!F$11,'[1]決勝ヒート - レース結果（貼付）'!$1:$1,0)),"") -> Praga/IAME | G35: =IFERROR(INDEX('[1]決勝ヒート - レース結果（貼付）'!$A:$Z,MATCH($B35,'[1]決勝ヒート - レース結果（貼付）'!$B:$B,0),MATCH('決勝ヒート - レース正式結果表（印刷）'!G$11,'[1]決勝ヒート - レース結果（貼付）'!$1:$1,0)),"") -> TEAMぶるーと | H35: =IFERROR(INDEX('[1]決勝ヒート - レース結果（貼付）'!$A:$Z,MATCH($B35,'[1]決勝ヒート - レース結果（貼付）'!$B:$B,0),MATCH('決勝ヒート - レース正式結果表（印刷）'!H$11,'[1]決勝ヒート - レース結果（貼付）'!$1:$1,0)),"") -> BS | I35: =IF(A35="DNS","",IF(A35="DQ","",IFERROR(INDEX('[1]決勝ヒート - レース結果（貼付）'!$A:$Z,MATCH($A35,'[1]決勝ヒート - レース結果（貼付）'!$A:$A,0),MATCH('決勝ヒート - レース正式結果表（印刷）'!I$11,'[1]決勝ヒート - レース結果（貼付）'!$1:$1,0)),""))) -> 21 | J35: =IF(A35="DNS","ｽﾀｰﾄ出来ず",IF(A35="DQ","失 格",IFERROR(INDEX('[1]決勝ヒート - レース結果（貼付）'!$A:$Z,MATCH($B35,'[1]決勝ヒート - レース結果（貼付）'!$B:$B,0),MATCH('決勝ヒート - レース正式結果表（印刷）'!J$11,'[1]決勝ヒート - レース結果（貼付）'!$1:$1,0)),""))) -> 0.013664016 | K35: =IF(A35="DNS","",IF(A35="DQ","",IFERROR(INDEX('[1]決勝ヒート - レース結果（貼付）'!$A:$Z,MATCH($A35,'[1]決勝ヒート - レース結果（貼付）'!$A:$A,0),MATCH('決勝ヒート - レース正式結果表（印刷）'!K$11,'[1]決勝ヒート - レース結果（貼付）'!$1:$1,0)),""))) -> 1 Lap | L35: =IF(A35="DNS","",IF(A35="DQ","",IFERROR(INDEX('[1]決勝ヒート - レース結果（貼付）'!$A:$Z,MATCH($A35,'[1]決勝ヒート - レース結果（貼付）'!$A:$A,0),MATCH('決勝ヒート - レース正式結果表（印刷）'!L$11,'[1]決勝ヒート - レース結果（貼付）'!$1:$1,0)),""))) -> 1 Lap | M35: =IF(A35="DNS","",IF(A35="DQ","",IFERROR(INDEX('[1]決勝ヒート - レース結果（貼付）'!$A:$Z,MATCH($B35,'[1]決勝ヒート - レース結果（貼付）'!$B:$B,0),MATCH('決勝ヒート - レース正式結果表（印刷）'!M$11,'[1]決勝ヒート - レース結果（貼付）'!$1:$1,0)),""))) -> 55.371 | N35: =IF(M35<1,"",IF($N$11>M35,"R","")) | Q35: =IF(IFERROR(INDEX('[1]決勝ヒート - レース結果（貼付）'!$A:$Z,MATCH($B35,'[1]決勝ヒート - レース結果（貼付）'!$B:$B,0),MATCH('決勝ヒート - レース正式結果表（印刷）'!Q$11,'[1]決勝ヒート - レース結果（貼付）'!$1:$1,0)),"")=0,"",IFERROR(INDEX('[1]決勝ヒート - レース結果（貼付）'!$A:$Z,MATCH($B35,'[1]決勝ヒート - レース結果（貼付）'!$B:$B,0),MATCH('決勝ヒート - レース正式結果表（印刷）'!Q$11,'[1]決勝ヒート - レース結果（貼付）'!$1:$1,0)),"")) | R35: =IF(Q35="","",COUNTIF($Q$13:Q35,"<>"&"")) | S35: =IFERROR(RANK(R35,$R$13:$R$46,1),"") | T35: =IF(IFERROR(INDEX('[1]決勝ヒート - レース結果（貼付）'!$A:$Z,MATCH($A35,'[1]決勝ヒート - レース結果（貼付）'!$A:$A,0),MATCH('決勝ヒート - レース正式結果表（印刷）'!T$11,'[1]決勝ヒート - レース結果（貼付）'!$1:$1,0)),"")=0,"",IFERROR(INDEX('[1]決勝ヒート - レース結果（貼付）'!$A:$Z,MATCH($A35,'[1]決勝ヒート - レース結果（貼付）'!$A:$A,0),MATCH('決勝ヒート - レース正式結果表（印刷）'!T$11,'[1]決勝ヒート - レース結果（貼付）'!$1:$1,0)),"")) | U35: =IF(IFERROR(INDEX('[1]決勝ヒート - レース結果（貼付）'!$A:$Z,MATCH($B35,'[1]決勝ヒート - レース結果（貼付）'!$B:$B,0),MATCH('決勝ヒート - レース正式結果表（印刷）'!U$11,'[1]決勝ヒート - レース結果（貼付）'!$1:$1,0)),"")=0,"",IFERROR(INDEX('[1]決勝ヒート - レース結果（貼付）'!$A:$Z,MATCH($B35,'[1]決勝ヒート - レース結果（貼付）'!$B:$B,0),MATCH('決勝ヒート - レース正式結果表（印刷）'!U$11,'[1]決勝ヒート - レース結果（貼付）'!$1:$1,0)),"")) -> 82.18
A36: =IF(OR('[1]決勝ヒート - レース結果（貼付）'!A24="DNF",'[1]決勝ヒート - レース結果（貼付）'!A24="DNS",'[1]決勝ヒート - レース結果（貼付）'!A24="DQ"),'[1]決勝ヒート - レース結果（貼付）'!A24,IF(MAX('[1]決勝ヒート - レース結果（貼付）'!A:A)>A35,A35+1,"")) -> 23 | B36: =IFERROR(INDEX('[1]決勝ヒート - レース結果（貼付）'!A24:$Z$50,MATCH($A36,'[1]決勝ヒート - レース結果（貼付）'!A24:$A$50,0),MATCH('決勝ヒート - レース正式結果表（印刷）'!B$11,'[1]決勝ヒート - レース結果（貼付）'!$1:$1,0)),"") -> 78 | E36: =IFERROR(INDEX('[1]決勝ヒート - レース結果（貼付）'!$A:$Z,MATCH($B36,'[1]決勝ヒート - レース結果（貼付）'!$B:$B,0),MATCH('決勝ヒート - レース正式結果表（印刷）'!E$11,'[1]決勝ヒート - レース結果（貼付）'!$1:$1,0)),"") -> 福岡 主税 | F36: =IFERROR(INDEX('[1]決勝ヒート - レース結果（貼付）'!$A:$Z,MATCH($B36,'[1]決勝ヒート - レース結果（貼付）'!$B:$B,0),MATCH('決勝ヒート - レース正式結果表（印刷）'!F$11,'[1]決勝ヒート - レース結果（貼付）'!$1:$1,0)),"") -> TONY KART/IAME | G36: =IFERROR(INDEX('[1]決勝ヒート - レース結果（貼付）'!$A:$Z,MATCH($B36,'[1]決勝ヒート - レース結果（貼付）'!$B:$B,0),MATCH('決勝ヒート - レース正式結果表（印刷）'!G$11,'[1]決勝ヒート - レース結果（貼付）'!$1:$1,0)),"") -> SCUDERIA SFIDA | H36: =IFERROR(INDEX('[1]決勝ヒート - レース結果（貼付）'!$A:$Z,MATCH($B36,'[1]決勝ヒート - レース結果（貼付）'!$B:$B,0),MATCH('決勝ヒート - レース正式結果表（印刷）'!H$11,'[1]決勝ヒート - レース結果（貼付）'!$1:$1,0)),"") -> BS | I36: =IF(A36="DNS","",IF(A36="DQ","",IFERROR(INDEX('[1]決勝ヒート - レース結果（貼付）'!$A:$Z,MATCH($A36,'[1]決勝ヒート - レース結果（貼付）'!$A:$A,0),MATCH('決勝ヒート - レース正式結果表（印刷）'!I$11,'[1]決勝ヒート - レース結果（貼付）'!$1:$1,0)),""))) -> 21 | J36: =IF(A36="DNS","ｽﾀｰﾄ出来ず",IF(A36="DQ","失 格",IFERROR(INDEX('[1]決勝ヒート - レース結果（貼付）'!$A:$Z,MATCH($B36,'[1]決勝ヒート - レース結果（貼付）'!$B:$B,0),MATCH('決勝ヒート - レース正式結果表（印刷）'!J$11,'[1]決勝ヒート - レース結果（貼付）'!$1:$1,0)),""))) -> 0.013694201 | K36: =IF(A36="DNS","",IF(A36="DQ","",IFERROR(INDEX('[1]決勝ヒート - レース結果（貼付）'!$A:$Z,MATCH($A36,'[1]決勝ヒート - レース結果（貼付）'!$A:$A,0),MATCH('決勝ヒート - レース正式結果表（印刷）'!K$11,'[1]決勝ヒート - レース結果（貼付）'!$1:$1,0)),""))) -> 1 Lap | L36: =IF(A36="DNS","",IF(A36="DQ","",IFERROR(INDEX('[1]決勝ヒート - レース結果（貼付）'!$A:$Z,MATCH($A36,'[1]決勝ヒート - レース結果（貼付）'!$A:$A,0),MATCH('決勝ヒート - レース正式結果表（印刷）'!L$11,'[1]決勝ヒート - レース結果（貼付）'!$1:$1,0)),""))) -> 2.608 | M36: =IF(A36="DNS","",IF(A36="DQ","",IFERROR(INDEX('[1]決勝ヒート - レース結果（貼付）'!$A:$Z,MATCH($B36,'[1]決勝ヒート - レース結果（貼付）'!$B:$B,0),MATCH('決勝ヒート - レース正式結果表（印刷）'!M$11,'[1]決勝ヒート - レース結果（貼付）'!$1:$1,0)),""))) -> 54.949 | N36: =IF(M36<1,"",IF($N$11>M36,"R","")) | Q36: =IF(IFERROR(INDEX('[1]決勝ヒート - レース結果（貼付）'!$A:$Z,MATCH($B36,'[1]決勝ヒート - レース結果（貼付）'!$B:$B,0),MATCH('決勝ヒート - レース正式結果表（印刷）'!Q$11,'[1]決勝ヒート - レース結果（貼付）'!$1:$1,0)),"")=0,"",IFERROR(INDEX('[1]決勝ヒート - レース結果（貼付）'!$A:$Z,MATCH($B36,'[1]決勝ヒート - レース結果（貼付）'!$B:$B,0),MATCH('決勝ヒート - レース正式結果表（印刷）'!Q$11,'[1]決勝ヒート - レース結果（貼付）'!$1:$1,0)),"")) | R36: =IF(Q36="","",COUNTIF($Q$13:Q36,"<>"&"")) | S36: =IFERROR(RANK(R36,$R$13:$R$46,1),"") | T36: =IF(IFERROR(INDEX('[1]決勝ヒート - レース結果（貼付）'!$A:$Z,MATCH($A36,'[1]決勝ヒート - レース結果（貼付）'!$A:$A,0),MATCH('決勝ヒート - レース正式結果表（印刷）'!T$11,'[1]決勝ヒート - レース結果（貼付）'!$1:$1,0)),"")=0,"",IFERROR(INDEX('[1]決勝ヒート - レース結果（貼付）'!$A:$Z,MATCH($A36,'[1]決勝ヒート - レース結果（貼付）'!$A:$A,0),MATCH('決勝ヒート - レース正式結果表（印刷）'!T$11,'[1]決勝ヒート - レース結果（貼付）'!$1:$1,0)),"")) | U36: =IF(IFERROR(INDEX('[1]決勝ヒート - レース結果（貼付）'!$A:$Z,MATCH($B36,'[1]決勝ヒート - レース結果（貼付）'!$B:$B,0),MATCH('決勝ヒート - レース正式結果表（印刷）'!U$11,'[1]決勝ヒート - レース結果（貼付）'!$1:$1,0)),"")=0,"",IFERROR(INDEX('[1]決勝ヒート - レース結果（貼付）'!$A:$Z,MATCH($B36,'[1]決勝ヒート - レース結果（貼付）'!$B:$B,0),MATCH('決勝ヒート - レース正式結果表（印刷）'!U$11,'[1]決勝ヒート - レース結果（貼付）'!$1:$1,0)),"")) -> 82.811
A37: 以上 規定周回数完走：
A38: =IF(OR('[1]決勝ヒート - レース結果（貼付）'!A25="DNF",'[1]決勝ヒート - レース結果（貼付）'!A25="DNS",'[1]決勝ヒート - レース結果（貼付）'!A25="DQ"),'[1]決勝ヒート - レース結果（貼付）'!A25,IF(MAX('[1]決勝ヒート - レース結果（貼付）'!A:A)>A36,A36+1,"")) -> 24 | B38: =IFERROR(INDEX('[1]決勝ヒート - レース結果（貼付）'!A25:$Z$50,MATCH($A38,'[1]決勝ヒート - レース結果（貼付）'!A25:$A$50,0),MATCH('決勝ヒート - レース正式結果表（印刷）'!B$11,'[1]決勝ヒート - レース結果（貼付）'!$1:$1,0)),"") -> 22 | E38: =IFERROR(INDEX('[1]決勝ヒート - レース結果（貼付）'!$A:$Z,MATCH($B38,'[1]決勝ヒート - レース結果（貼付）'!$B:$B,0),MATCH('決勝ヒート - レース正式結果表（印刷）'!E$11,'[1]決勝ヒート - レース結果（貼付）'!$1:$1,0)),"") -> 一宮 總太朗 | F38: =IFERROR(INDEX('[1]決勝ヒート - レース結果（貼付）'!$A:$Z,MATCH($B38,'[1]決勝ヒート - レース結果（貼付）'!$B:$B,0),MATCH('決勝ヒート - レース正式結果表（印刷）'!F$11,'[1]決勝ヒート - レース結果（貼付）'!$1:$1,0)),"") -> KR/IAME | G38: =IFERROR(INDEX('[1]決勝ヒート - レース結果（貼付）'!$A:$Z,MATCH($B38,'[1]決勝ヒート - レース結果（貼付）'!$B:$B,0),MATCH('決勝ヒート - レース正式結果表（印刷）'!G$11,'[1]決勝ヒート - レース結果（貼付）'!$1:$1,0)),"") -> KAKIE Racing Team | H38: =IFERROR(INDEX('[1]決勝ヒート - レース結果（貼付）'!$A:$Z,MATCH($B38,'[1]決勝ヒート - レース結果（貼付）'!$B:$B,0),MATCH('決勝ヒート - レース正式結果表（印刷）'!H$11,'[1]決勝ヒート - レース結果（貼付）'!$1:$1,0)),"") -> BS | I38: =IF(A38="DNS","",IF(A38="DQ","",IFERROR(INDEX('[1]決勝ヒート - レース結果（貼付）'!$A:$Z,MATCH($A38,'[1]決勝ヒート - レース結果（貼付）'!$A:$A,0),MATCH('決勝ヒート - レース正式結果表（印刷）'!I$11,'[1]決勝ヒート - レース結果（貼付）'!$1:$1,0)),""))) -> 0 | J38: =IF(A38="DNS","ｽﾀｰﾄ出来ず",IF(A38="DQ","失 格",IFERROR(INDEX('[1]決勝ヒート - レース結果（貼付）'!$A:$Z,MATCH($B38,'[1]決勝ヒート - レース結果（貼付）'!$B:$B,0),MATCH('決勝ヒート - レース正式結果表（印刷）'!J$11,'[1]決勝ヒート - レース結果（貼付）'!$1:$1,0)),""))) -> 2.417 | K38: =IF(A38="DNS","",IF(A38="DQ","",IFERROR(INDEX('[1]決勝ヒート - レース結果（貼付）'!$A:$Z,MATCH($A38,'[1]決勝ヒート - レース結果（貼付）'!$A:$A,0),MATCH('決勝ヒート - レース正式結果表（印刷）'!K$11,'[1]決勝ヒート - レース結果（貼付）'!$1:$1,0)),""))) -> 22 Laps | L38: =IF(A38="DNS","",IF(A38="DQ","",IFERROR(INDEX('[1]決勝ヒート - レース結果（貼付）'!$A:$Z,MATCH($A38,'[1]決勝ヒート - レース結果（貼付）'!$A:$A,0),MATCH('決勝ヒート - レース正式結果表（印刷）'!L$11,'[1]決勝ヒート - レース結果（貼付）'!$1:$1,0)),""))) -> 21 Laps | M38: =IF(A38="DNS","",IF(A38="DQ","",IFERROR(INDEX('[1]決勝ヒート - レース結果（貼付）'!$A:$Z,MATCH($B38,'[1]決勝ヒート - レース結果（貼付）'!$B:$B,0),MATCH('決勝ヒート - レース正式結果表（印刷）'!M$11,'[1]決勝ヒート - レース結果（貼付）'!$1:$1,0)),""))) -> 0 | N38: =IF(M38<1,"",IF($N$11>M38,"R","")) | Q38: =IF(IFERROR(INDEX('[1]決勝ヒート - レース結果（貼付）'!$A:$Z,MATCH($B38,'[1]決勝ヒート - レース結果（貼付）'!$B:$B,0),MATCH('決勝ヒート - レース正式結果表（印刷）'!Q$11,'[1]決勝ヒート - レース結果（貼付）'!$1:$1,0)),"")=0,"",IFERROR(INDEX('[1]決勝ヒート - レース結果（貼付）'!$A:$Z,MATCH($B38,'[1]決勝ヒート - レース結果（貼付）'!$B:$B,0),MATCH('決勝ヒート - レース正式結果表（印刷）'!Q$11,'[1]決勝ヒート - レース結果（貼付）'!$1:$1,0)),"")) | R38: =IF(Q38="","",COUNTIF($Q$13:Q38,"<>"&"")) | S38: =IFERROR(RANK(R38,$R$13:$R$46,1),"") | T38: =IF(IFERROR(INDEX('[1]決勝ヒート - レース結果（貼付）'!$A:$Z,MATCH($A38,'[1]決勝ヒート - レース結果（貼付）'!$A:$A,0),MATCH('決勝ヒート - レース正式結果表（印刷）'!T$11,'[1]決勝ヒート - レース結果（貼付）'!$1:$1,0)),"")=0,"",IFERROR(INDEX('[1]決勝ヒート - レース結果（貼付）'!$A:$Z,MATCH($A38,'[1]決勝ヒート - レース結果（貼付）'!$A:$A,0),MATCH('決勝ヒート - レース正式結果表（印刷）'!T$11,'[1]決勝ヒート - レース結果（貼付）'!$1:$1,0)),"")) | U38: =IF(IFERROR(INDEX('[1]決勝ヒート - レース結果（貼付）'!$A:$Z,MATCH($B38,'[1]決勝ヒート - レース結果（貼付）'!$B:$B,0),MATCH('決勝ヒート - レース正式結果表（印刷）'!U$11,'[1]決勝ヒート - レース結果（貼付）'!$1:$1,0)),"")=0,"",IFERROR(INDEX('[1]決勝ヒート - レース結果（貼付）'!$A:$Z,MATCH($B38,'[1]決勝ヒート - レース結果（貼付）'!$B:$B,0),MATCH('決勝ヒート - レース正式結果表（印刷）'!U$11,'[1]決勝ヒート - レース結果（貼付）'!$1:$1,0)),"")) -> -
A39: =IF(OR('[1]決勝ヒート - レース結果（貼付）'!A26="DNF",'[1]決勝ヒート - レース結果（貼付）'!A26="DNS",'[1]決勝ヒート - レース結果（貼付）'!A26="DQ"),'[1]決勝ヒート - レース結果（貼付）'!A26,IF(MAX('[1]決勝ヒート - レース結果（貼付）'!A:A)>A38,A38+1,"")) | B39: =IFERROR(INDEX('[1]決勝ヒート - レース結果（貼付）'!A26:$Z$50,MATCH($A39,'[1]決勝ヒート - レース結果（貼付）'!A26:$A$50,0),MATCH('決勝ヒート - レース正式結果表（印刷）'!B$11,'[1]決勝ヒート - レース結果（貼付）'!$1:$1,0)),"") | E39: =IFERROR(INDEX('[1]決勝ヒート - レース結果（貼付）'!$A:$Z,MATCH($B39,'[1]決勝ヒート - レース結果（貼付）'!$B:$B,0),MATCH('決勝ヒート - レース正式結果表（印刷）'!E$11,'[1]決勝ヒート - レース結果（貼付）'!$1:$1,0)),"") | F39: =IFERROR(INDEX('[1]決勝ヒート - レース結果（貼付）'!$A:$Z,MATCH($B39,'[1]決勝ヒート - レース結果（貼付）'!$B:$B,0),MATCH('決勝ヒート - レース正式結果表（印刷）'!F$11,'[1]決勝ヒート - レース結果（貼付）'!$1:$1,0)),"") | G39: =IFERROR(INDEX('[1]決勝ヒート - レース結果（貼付）'!$A:$Z,MATCH($B39,'[1]決勝ヒート - レース結果（貼付）'!$B:$B,0),MATCH('決勝ヒート - レース正式結果表（印刷）'!G$11,'[1]決勝ヒート - レース結果（貼付）'!$1:$1,0)),"") | H39: =IFERROR(INDEX('[1]決勝ヒート - レース結果（貼付）'!$A:$Z,MATCH($B39,'[1]決勝ヒート - レース結果（貼付）'!$B:$B,0),MATCH('決勝ヒート - レース正式結果表（印刷）'!H$11,'[1]決勝ヒート - レース結果（貼付）'!$1:$1,0)),"") | I39: =IF(A39="DNS","",IF(A39="DQ","",IFERROR(INDEX('[1]決勝ヒート - レース結果（貼付）'!$A:$Z,MATCH($A39,'[1]決勝ヒート - レース結果（貼付）'!$A:$A,0),MATCH('決勝ヒート - レース正式結果表（印刷）'!I$11,'[1]決勝ヒート - レース結果（貼付）'!$1:$1,0)),""))) | J39: =IF(A39="DNS","ｽﾀｰﾄ出来ず",IF(A39="DQ","失 格",IFERROR(INDEX('[1]決勝ヒート - レース結果（貼付）'!$A:$Z,MATCH($B39,'[1]決勝ヒート - レース結果（貼付）'!$B:$B,0),MATCH('決勝ヒート - レース正式結果表（印刷）'!J$11,'[1]決勝ヒート - レース結果（貼付）'!$1:$1,0)),""))) | K39: =IF(A39="DNS","",IF(A39="DQ","",IFERROR(INDEX('[1]決勝ヒート - レース結果（貼付）'!$A:$Z,MATCH($A39,'[1]決勝ヒート - レース結果（貼付）'!$A:$A,0),MATCH('決勝ヒート - レース正式結果表（印刷）'!K$11,'[1]決勝ヒート - レース結果（貼付）'!$1:$1,0)),""))) | L39: =IF(A39="DNS","",IF(A39="DQ","",IFERROR(INDEX('[1]決勝ヒート - レース結果（貼付）'!$A:$Z,MATCH($A39,'[1]決勝ヒート - レース結果（貼付）'!$A:$A,0),MATCH('決勝ヒート - レース正式結果表（印刷）'!L$11,'[1]決勝ヒート - レース結果（貼付）'!$1:$1,0)),""))) | M39: =IF(A39="DNS","",IF(A39="DQ","",IFERROR(INDEX('[1]決勝ヒート - レース結果（貼付）'!$A:$Z,MATCH($B39,'[1]決勝ヒート - レース結果（貼付）'!$B:$B,0),MATCH('決勝ヒート - レース正式結果表（印刷）'!M$11,'[1]決勝ヒート - レース結果（貼付）'!$1:$1,0)),""))) | N39: =IF(M39<1,"",IF($N$11>M39,"R","")) | Q39: =IF(IFERROR(INDEX('[1]決勝ヒート - レース結果（貼付）'!$A:$Z,MATCH($B39,'[1]決勝ヒート - レース結果（貼付）'!$B:$B,0),MATCH('決勝ヒート - レース正式結果表（印刷）'!Q$11,'[1]決勝ヒート - レース結果（貼付）'!$1:$1,0)),"")=0,"",IFERROR(INDEX('[1]決勝ヒート - レース結果（貼付）'!$A:$Z,MATCH($B39,'[1]決勝ヒート - レース結果（貼付）'!$B:$B,0),MATCH('決勝ヒート - レース正式結果表（印刷）'!Q$11,'[1]決勝ヒート - レース結果（貼付）'!$1:$1,0)),"")) | R39: =IF(Q39="","",COUNTIF($Q$13:Q39,"<>"&"")) | S39: =IFERROR(RANK(R39,$R$13:$R$46,1),"") | T39: =IF(IFERROR(INDEX('[1]決勝ヒート - レース結果（貼付）'!$A:$Z,MATCH($A39,'[1]決勝ヒート - レース結果（貼付）'!$A:$A,0),MATCH('決勝ヒート - レース正式結果表（印刷）'!T$11,'[1]決勝ヒート - レース結果（貼付）'!$1:$1,0)),"")=0,"",IFERROR(INDEX('[1]決勝ヒート - レース結果（貼付）'!$A:$Z,MATCH($A39,'[1]決勝ヒート - レース結果（貼付）'!$A:$A,0),MATCH('決勝ヒート - レース正式結果表（印刷）'!T$11,'[1]決勝ヒート - レース結果（貼付）'!$1:$1,0)),"")) | U39: =IF(IFERROR(INDEX('[1]決勝ヒート - レース結果（貼付）'!$A:$Z,MATCH($B39,'[1]決勝ヒート - レース結果（貼付）'!$B:$B,0),MATCH('決勝ヒート - レース正式結果表（印刷）'!U$11,'[1]決勝ヒート - レース結果（貼付）'!$1:$1,0)),"")=0,"",IFERROR(INDEX('[1]決勝ヒート - レース結果（貼付）'!$A:$Z,MATCH($B39,'[1]決勝ヒート - レース結果（貼付）'!$B:$B,0),MATCH('決勝ヒート - レース正式結果表（印刷）'!U$11,'[1]決勝ヒート - レース結果（貼付）'!$1:$1,0)),""))
A40: =IF(OR('[1]決勝ヒート - レース結果（貼付）'!A27="DNF",'[1]決勝ヒート - レース結果（貼付）'!A27="DNS",'[1]決勝ヒート - レース結果（貼付）'!A27="DQ"),'[1]決勝ヒート - レース結果（貼付）'!A27,IF(MAX('[1]決勝ヒート - レース結果（貼付）'!A:A)>A39,A39+1,"")) | B40: =IFERROR(INDEX('[1]決勝ヒート - レース結果（貼付）'!A27:$Z$50,MATCH($A40,'[1]決勝ヒート - レース結果（貼付）'!A27:$A$50,0),MATCH('決勝ヒート - レース正式結果表（印刷）'!B$11,'[1]決勝ヒート - レース結果（貼付）'!$1:$1,0)),"") | E40: =IFERROR(INDEX('[1]決勝ヒート - レース結果（貼付）'!$A:$Z,MATCH($B40,'[1]決勝ヒート - レース結果（貼付）'!$B:$B,0),MATCH('決勝ヒート - レース正式結果表（印刷）'!E$11,'[1]決勝ヒート - レース結果（貼付）'!$1:$1,0)),"") | F40: =IFERROR(INDEX('[1]決勝ヒート - レース結果（貼付）'!$A:$Z,MATCH($B40,'[1]決勝ヒート - レース結果（貼付）'!$B:$B,0),MATCH('決勝ヒート - レース正式結果表（印刷）'!F$11,'[1]決勝ヒート - レース結果（貼付）'!$1:$1,0)),"") | G40: =IFERROR(INDEX('[1]決勝ヒート - レース結果（貼付）'!$A:$Z,MATCH($B40,'[1]決勝ヒート - レース結果（貼付）'!$B:$B,0),MATCH('決勝ヒート - レース正式結果表（印刷）'!G$11,'[1]決勝ヒート - レース結果（貼付）'!$1:$1,0)),"") | H40: =IFERROR(INDEX('[1]決勝ヒート - レース結果（貼付）'!$A:$Z,MATCH($B40,'[1]決勝ヒート - レース結果（貼付）'!$B:$B,0),MATCH('決勝ヒート - レース正式結果表（印刷）'!H$11,'[1]決勝ヒート - レース結果（貼付）'!$1:$1,0)),"") | I40: =IF(A40="DNS","",IF(A40="DQ","",IFERROR(INDEX('[1]決勝ヒート - レース結果（貼付）'!$A:$Z,MATCH($A40,'[1]決勝ヒート - レース結果（貼付）'!$A:$A,0),MATCH('決勝ヒート - レース正式結果表（印刷）'!I$11,'[1]決勝ヒート - レース結果（貼付）'!$1:$1,0)),""))) | J40: =IF(A40="DNS","ｽﾀｰﾄ出来ず",IF(A40="DQ","失 格",IFERROR(INDEX('[1]決勝ヒート - レース結果（貼付）'!$A:$Z,MATCH($B40,'[1]決勝ヒート - レース結果（貼付）'!$B:$B,0),MATCH('決勝ヒート - レース正式結果表（印刷）'!J$11,'[1]決勝ヒート - レース結果（貼付）'!$1:$1,0)),""))) | K40: =IF(A40="DNS","",IF(A40="DQ","",IFERROR(INDEX('[1]決勝ヒート - レース結果（貼付）'!$A:$Z,MATCH($A40,'[1]決勝ヒート - レース結果（貼付）'!$A:$A,0),MATCH('決勝ヒート - レース正式結果表（印刷）'!K$11,'[1]決勝ヒート - レース結果（貼付）'!$1:$1,0)),""))) | L40: =IF(A40="DNS","",IF(A40="DQ","",IFERROR(INDEX('[1]決勝ヒート - レース結果（貼付）'!$A:$Z,MATCH($A40,'[1]決勝ヒート - レース結果（貼付）'!$A:$A,0),MATCH('決勝ヒート - レース正式結果表（印刷）'!L$11,'[1]決勝ヒート - レース結果（貼付）'!$1:$1,0)),""))) | M40: =IF(A40="DNS","",IF(A40="DQ","",IFERROR(INDEX('[1]決勝ヒート - レース結果（貼付）'!$A:$Z,MATCH($B40,'[1]決勝ヒート - レース結果（貼付）'!$B:$B,0),MATCH('決勝ヒート - レース正式結果表（印刷）'!M$11,'[1]決勝ヒート - レース結果（貼付）'!$1:$1,0)),""))) | N40: =IF(M40<1,"",IF($N$11>M40,"R","")) | Q40: =IF(IFERROR(INDEX('[1]決勝ヒート - レース結果（貼付）'!$A:$Z,MATCH($B40,'[1]決勝ヒート - レース結果（貼付）'!$B:$B,0),MATCH('決勝ヒート - レース正式結果表（印刷）'!Q$11,'[1]決勝ヒート - レース結果（貼付）'!$1:$1,0)),"")=0,"",IFERROR(INDEX('[1]決勝ヒート - レース結果（貼付）'!$A:$Z,MATCH($B40,'[1]決勝ヒート - レース結果（貼付）'!$B:$B,0),MATCH('決勝ヒート - レース正式結果表（印刷）'!Q$11,'[1]決勝ヒート - レース結果（貼付）'!$1:$1,0)),"")) | R40: =IF(Q40="","",COUNTIF($Q$13:Q40,"<>"&"")) | S40: =IFERROR(RANK(R40,$R$13:$R$46,1),"") | T40: =IF(IFERROR(INDEX('[1]決勝ヒート - レース結果（貼付）'!$A:$Z,MATCH($A40,'[1]決勝ヒート - レース結果（貼付）'!$A:$A,0),MATCH('決勝ヒート - レース正式結果表（印刷）'!T$11,'[1]決勝ヒート - レース結果（貼付）'!$1:$1,0)),"")=0,"",IFERROR(INDEX('[1]決勝ヒート - レース結果（貼付）'!$A:$Z,MATCH($A40,'[1]決勝ヒート - レース結果（貼付）'!$A:$A,0),MATCH('決勝ヒート - レース正式結果表（印刷）'!T$11,'[1]決勝ヒート - レース結果（貼付）'!$1:$1,0)),"")) | U40: =IF(IFERROR(INDEX('[1]決勝ヒート - レース結果（貼付）'!$A:$Z,MATCH($B40,'[1]決勝ヒート - レース結果（貼付）'!$B:$B,0),MATCH('決勝ヒート - レース正式結果表（印刷）'!U$11,'[1]決勝ヒート - レース結果（貼付）'!$1:$1,0)),"")=0,"",IFERROR(INDEX('[1]決勝ヒート - レース結果（貼付）'!$A:$Z,MATCH($B40,'[1]決勝ヒート - レース結果（貼付）'!$B:$B,0),MATCH('決勝ヒート - レース正式結果表（印刷）'!U$11,'[1]決勝ヒート - レース結果（貼付）'!$1:$1,0)),""))
A41: =IF(OR('[1]決勝ヒート - レース結果（貼付）'!A28="DNF",'[1]決勝ヒート - レース結果（貼付）'!A28="DNS",'[1]決勝ヒート - レース結果（貼付）'!A28="DQ"),'[1]決勝ヒート - レース結果（貼付）'!A28,IF(MAX('[1]決勝ヒート - レース結果（貼付）'!A:A)>A40,A40+1,"")) | B41: =IFERROR(INDEX('[1]決勝ヒート - レース結果（貼付）'!A28:$Z$50,MATCH($A41,'[1]決勝ヒート - レース結果（貼付）'!A28:$A$50,0),MATCH('決勝ヒート - レース正式結果表（印刷）'!B$11,'[1]決勝ヒート - レース結果（貼付）'!$1:$1,0)),"") | E41: =IFERROR(INDEX('[1]決勝ヒート - レース結果（貼付）'!$A:$Z,MATCH($B41,'[1]決勝ヒート - レース結果（貼付）'!$B:$B,0),MATCH('決勝ヒート - レース正式結果表（印刷）'!E$11,'[1]決勝ヒート - レース結果（貼付）'!$1:$1,0)),"") | F41: =IFERROR(INDEX('[1]決勝ヒート - レース結果（貼付）'!$A:$Z,MATCH($B41,'[1]決勝ヒート - レース結果（貼付）'!$B:$B,0),MATCH('決勝ヒート - レース正式結果表（印刷）'!F$11,'[1]決勝ヒート - レース結果（貼付）'!$1:$1,0)),"") | G41: =IFERROR(INDEX('[1]決勝ヒート - レース結果（貼付）'!$A:$Z,MATCH($B41,'[1]決勝ヒート - レース結果（貼付）'!$B:$B,0),MATCH('決勝ヒート - レース正式結果表（印刷）'!G$11,'[1]決勝ヒート - レース結果（貼付）'!$1:$1,0)),"") | H41: =IFERROR(INDEX('[1]決勝ヒート - レース結果（貼付）'!$A:$Z,MATCH($B41,'[1]決勝ヒート - レース結果（貼付）'!$B:$B,0),MATCH('決勝ヒート - レース正式結果表（印刷）'!H$11,'[1]決勝ヒート - レース結果（貼付）'!$1:$1,0)),"") | I41: =IF(A41="DNS","",IF(A41="DQ","",IFERROR(INDEX('[1]決勝ヒート - レース結果（貼付）'!$A:$Z,MATCH($A41,'[1]決勝ヒート - レース結果（貼付）'!$A:$A,0),MATCH('決勝ヒート - レース正式結果表（印刷）'!I$11,'[1]決勝ヒート - レース結果（貼付）'!$1:$1,0)),""))) | J41: =IF(A41="DNS","ｽﾀｰﾄ出来ず",IF(A41="DQ","失 格",IFERROR(INDEX('[1]決勝ヒート - レース結果（貼付）'!$A:$Z,MATCH($B41,'[1]決勝ヒート - レース結果（貼付）'!$B:$B,0),MATCH('決勝ヒート - レース正式結果表（印刷）'!J$11,'[1]決勝ヒート - レース結果（貼付）'!$1:$1,0)),""))) | K41: =IF(A41="DNS","",IF(A41="DQ","",IFERROR(INDEX('[1]決勝ヒート - レース結果（貼付）'!$A:$Z,MATCH($A41,'[1]決勝ヒート - レース結果（貼付）'!$A:$A,0),MATCH('決勝ヒート - レース正式結果表（印刷）'!K$11,'[1]決勝ヒート - レース結果（貼付）'!$1:$1,0)),""))) | L41: =IF(A41="DNS","",IF(A41="DQ","",IFERROR(INDEX('[1]決勝ヒート - レース結果（貼付）'!$A:$Z,MATCH($A41,'[1]決勝ヒート - レース結果（貼付）'!$A:$A,0),MATCH('決勝ヒート - レース正式結果表（印刷）'!L$11,'[1]決勝ヒート - レース結果（貼付）'!$1:$1,0)),""))) | M41: =IF(A41="DNS","",IF(A41="DQ","",IFERROR(INDEX('[1]決勝ヒート - レース結果（貼付）'!$A:$Z,MATCH($B41,'[1]決勝ヒート - レース結果（貼付）'!$B:$B,0),MATCH('決勝ヒート - レース正式結果表（印刷）'!M$11,'[1]決勝ヒート - レース結果（貼付）'!$1:$1,0)),""))) | N41: =IF(M41<1,"",IF($N$11>M41,"R","")) | Q41: =IF(IFERROR(INDEX('[1]決勝ヒート - レース結果（貼付）'!$A:$Z,MATCH($B41,'[1]決勝ヒート - レース結果（貼付）'!$B:$B,0),MATCH('決勝ヒート - レース正式結果表（印刷）'!Q$11,'[1]決勝ヒート - レース結果（貼付）'!$1:$1,0)),"")=0,"",IFERROR(INDEX('[1]決勝ヒート - レース結果（貼付）'!$A:$Z,MATCH($B41,'[1]決勝ヒート - レース結果（貼付）'!$B:$B,0),MATCH('決勝ヒート - レース正式結果表（印刷）'!Q$11,'[1]決勝ヒート - レース結果（貼付）'!$1:$1,0)),"")) | R41: =IF(Q41="","",COUNTIF($Q$13:Q41,"<>"&"")) | S41: =IFERROR(RANK(R41,$R$13:$R$46,1),"") | T41: =IF(IFERROR(INDEX('[1]決勝ヒート - レース結果（貼付）'!$A:$Z,MATCH($A41,'[1]決勝ヒート - レース結果（貼付）'!$A:$A,0),MATCH('決勝ヒート - レース正式結果表（印刷）'!T$11,'[1]決勝ヒート - レース結果（貼付）'!$1:$1,0)),"")=0,"",IFERROR(INDEX('[1]決勝ヒート - レース結果（貼付）'!$A:$Z,MATCH($A41,'[1]決勝ヒート - レース結果（貼付）'!$A:$A,0),MATCH('決勝ヒート - レース正式結果表（印刷）'!T$11,'[1]決勝ヒート - レース結果（貼付）'!$1:$1,0)),"")) | U41: =IF(IFERROR(INDEX('[1]決勝ヒート - レース結果（貼付）'!$A:$Z,MATCH($B41,'[1]決勝ヒート - レース結果（貼付）'!$B:$B,0),MATCH('決勝ヒート - レース正式結果表（印刷）'!U$11,'[1]決勝ヒート - レース結果（貼付）'!$1:$1,0)),"")=0,"",IFERROR(INDEX('[1]決勝ヒート - レース結果（貼付）'!$A:$Z,MATCH($B41,'[1]決勝ヒート - レース結果（貼付）'!$B:$B,0),MATCH('決勝ヒート - レース正式結果表（印刷）'!U$11,'[1]決勝ヒート - レース結果（貼付）'!$1:$1,0)),""))
Q42: =IF(IFERROR(INDEX('[1]決勝ヒート - レース結果（貼付）'!$A:$Z,MATCH($B42,'[1]決勝ヒート - レース結果（貼付）'!$B:$B,0),MATCH('決勝ヒート - レース正式結果表（印刷）'!Q$11,'[1]決勝ヒート - レース結果（貼付）'!$1:$1,0)),"")=0,"",IFERROR(INDEX('[1]決勝ヒート - レース結果（貼付）'!$A:$Z,MATCH($B42,'[1]決勝ヒート - レース結果（貼付）'!$B:$B,0),MATCH('決勝ヒート - レース正式結果表（印刷）'!Q$11,'[1]決勝ヒート - レース結果（貼付）'!$1:$1,0)),"")) | R42: =IF(Q42="","",COUNTIF($Q$13:Q42,"<>"&"")) | S42: =IFERROR(RANK(R42,$R$13:$R$46,1),"") | T42: =IF(IFERROR(INDEX('[1]決勝ヒート - レース結果（貼付）'!$A:$Z,MATCH($A42,'[1]決勝ヒート - レース結果（貼付）'!$A:$A,0),MATCH('決勝ヒート - レース正式結果表（印刷）'!T$11,'[1]決勝ヒート - レース結果（貼付）'!$1:$1,0)),"")=0,"",IFERROR(INDEX('[1]決勝ヒート - レース結果（貼付）'!$A:$Z,MATCH($A42,'[1]決勝ヒート - レース結果（貼付）'!$A:$A,0),MATCH('決勝ヒート - レース正式結果表（印刷）'!T$11,'[1]決勝ヒート - レース結果（貼付）'!$1:$1,0)),"")) | U42: =IF(IFERROR(INDEX('[1]決勝ヒート - レース結果（貼付）'!$A:$Z,MATCH($B42,'[1]決勝ヒート - レース結果（貼付）'!$B:$B,0),MATCH('決勝ヒート - レース正式結果表（印刷）'!U$11,'[1]決勝ヒート - レース結果（貼付）'!$1:$1,0)),"")=0,"",IFERROR(INDEX('[1]決勝ヒート - レース結果（貼付）'!$A:$Z,MATCH($B42,'[1]決勝ヒート - レース結果（貼付）'!$B:$B,0),MATCH('決勝ヒート - レース正式結果表（印刷）'!U$11,'[1]決勝ヒート - レース結果（貼付）'!$1:$1,0)),""))
Q43: =IF(IFERROR(INDEX('[1]決勝ヒート - レース結果（貼付）'!$A:$Z,MATCH($B43,'[1]決勝ヒート - レース結果（貼付）'!$B:$B,0),MATCH('決勝ヒート - レース正式結果表（印刷）'!Q$11,'[1]決勝ヒート - レース結果（貼付）'!$1:$1,0)),"")=0,"",IFERROR(INDEX('[1]決勝ヒート - レース結果（貼付）'!$A:$Z,MATCH($B43,'[1]決勝ヒート - レース結果（貼付）'!$B:$B,0),MATCH('決勝ヒート - レース正式結果表（印刷）'!Q$11,'[1]決勝ヒート - レース結果（貼付）'!$1:$1,0)),"")) | R43: =IF(Q43="","",COUNTIF($Q$13:Q43,"<>"&"")) | S43: =IFERROR(RANK(R43,$R$13:$R$46,1),"") | T43: =IF(IFERROR(INDEX('[1]決勝ヒート - レース結果（貼付）'!$A:$Z,MATCH($A43,'[1]決勝ヒート - レース結果（貼付）'!$A:$A,0),MATCH('決勝ヒート - レース正式結果表（印刷）'!T$11,'[1]決勝ヒート - レース結果（貼付）'!$1:$1,0)),"")=0,"",IFERROR(INDEX('[1]決勝ヒート - レース結果（貼付）'!$A:$Z,MATCH($A43,'[1]決勝ヒート - レース結果（貼付）'!$A:$A,0),MATCH('決勝ヒート - レース正式結果表（印刷）'!T$11,'[1]決勝ヒート - レース結果（貼付）'!$1:$1,0)),"")) | U43: =IF(IFERROR(INDEX('[1]決勝ヒート - レース結果（貼付）'!$A:$Z,MATCH($B43,'[1]決勝ヒート - レース結果（貼付）'!$B:$B,0),MATCH('決勝ヒート - レース正式結果表（印刷）'!U$11,'[1]決勝ヒート - レース結果（貼付）'!$1:$1,0)),"")=0,"",IFERROR(INDEX('[1]決勝ヒート - レース結果（貼付）'!$A:$Z,MATCH($B43,'[1]決勝ヒート - レース結果（貼付）'!$B:$B,0),MATCH('決勝ヒート - レース正式結果表（印刷）'!U$11,'[1]決勝ヒート - レース結果（貼付）'!$1:$1,0)),""))
Q44: =IF(IFERROR(INDEX('[1]決勝ヒート - レース結果（貼付）'!$A:$Z,MATCH($B44,'[1]決勝ヒート - レース結果（貼付）'!$B:$B,0),MATCH('決勝ヒート - レース正式結果表（印刷）'!Q$11,'[1]決勝ヒート - レース結果（貼付）'!$1:$1,0)),"")=0,"",IFERROR(INDEX('[1]決勝ヒート - レース結果（貼付）'!$A:$Z,MATCH($B44,'[1]決勝ヒート - レース結果（貼付）'!$B:$B,0),MATCH('決勝ヒート - レース正式結果表（印刷）'!Q$11,'[1]決勝ヒート - レース結果（貼付）'!$1:$1,0)),"")) | R44: =IF(Q44="","",COUNTIF($Q$13:Q44,"<>"&"")) | S44: =IFERROR(RANK(R44,$R$13:$R$46,1),"") | T44: =IF(IFERROR(INDEX('[1]決勝ヒート - レース結果（貼付）'!$A:$Z,MATCH($A44,'[1]決勝ヒート - レース結果（貼付）'!$A:$A,0),MATCH('決勝ヒート - レース正式結果表（印刷）'!T$11,'[1]決勝ヒート - レース結果（貼付）'!$1:$1,0)),"")=0,"",IFERROR(INDEX('[1]決勝ヒート - レース結果（貼付）'!$A:$Z,MATCH($A44,'[1]決勝ヒート - レース結果（貼付）'!$A:$A,0),MATCH('決勝ヒート - レース正式結果表（印刷）'!T$11,'[1]決勝ヒート - レース結果（貼付）'!$1:$1,0)),"")) | U44: =IF(IFERROR(INDEX('[1]決勝ヒート - レース結果（貼付）'!$A:$Z,MATCH($B44,'[1]決勝ヒート - レース結果（貼付）'!$B:$B,0),MATCH('決勝ヒート - レース正式結果表（印刷）'!U$11,'[1]決勝ヒート - レース結果（貼付）'!$1:$1,0)),"")=0,"",IFERROR(INDEX('[1]決勝ヒート - レース結果（貼付）'!$A:$Z,MATCH($B44,'[1]決勝ヒート - レース結果（貼付）'!$B:$B,0),MATCH('決勝ヒート - レース正式結果表（印刷）'!U$11,'[1]決勝ヒート - レース結果（貼付）'!$1:$1,0)),""))
Q45: =IF(IFERROR(INDEX('[1]決勝ヒート - レース結果（貼付）'!$A:$Z,MATCH($B45,'[1]決勝ヒート - レース結果（貼付）'!$B:$B,0),MATCH('決勝ヒート - レース正式結果表（印刷）'!Q$11,'[1]決勝ヒート - レース結果（貼付）'!$1:$1,0)),"")=0,"",IFERROR(INDEX('[1]決勝ヒート - レース結果（貼付）'!$A:$Z,MATCH($B45,'[1]決勝ヒート - レース結果（貼付）'!$B:$B,0),MATCH('決勝ヒート - レース正式結果表（印刷）'!Q$11,'[1]決勝ヒート - レース結果（貼付）'!$1:$1,0)),"")) | R45: =IF(Q45="","",COUNTIF($Q$13:Q45,"<>"&"")) | S45: =IFERROR(RANK(R45,$R$13:$R$46,1),"") | T45: =IF(IFERROR(INDEX('[1]決勝ヒート - レース結果（貼付）'!$A:$Z,MATCH($A45,'[1]決勝ヒート - レース結果（貼付）'!$A:$A,0),MATCH('決勝ヒート - レース正式結果表（印刷）'!T$11,'[1]決勝ヒート - レース結果（貼付）'!$1:$1,0)),"")=0,"",IFERROR(INDEX('[1]決勝ヒート - レース結果（貼付）'!$A:$Z,MATCH($A45,'[1]決勝ヒート - レース結果（貼付）'!$A:$A,0),MATCH('決勝ヒート - レース正式結果表（印刷）'!T$11,'[1]決勝ヒート - レース結果（貼付）'!$1:$1,0)),"")) | U45: =IF(IFERROR(INDEX('[1]決勝ヒート - レース結果（貼付）'!$A:$Z,MATCH($B45,'[1]決勝ヒート - レース結果（貼付）'!$B:$B,0),MATCH('決勝ヒート - レース正式結果表（印刷）'!U$11,'[1]決勝ヒート - レース結果（貼付）'!$1:$1,0)),"")=0,"",IFERROR(INDEX('[1]決勝ヒート - レース結果（貼付）'!$A:$Z,MATCH($B45,'[1]決勝ヒート - レース結果（貼付）'!$B:$B,0),MATCH('決勝ヒート - レース正式結果表（印刷）'!U$11,'[1]決勝ヒート - レース結果（貼付）'!$1:$1,0)),""))
A46: Fastest Lap | E46: =IFERROR(INDEX('[1]決勝ヒート - レース結果（貼付）'!$A:$Z,MATCH($B46,'[1]決勝ヒート - レース結果（貼付）'!$B:$B,0),MATCH('決勝ヒート - レース正式結果表（印刷）'!E$11,'[1]決勝ヒート - レース結果（貼付）'!$1:$1,0)),"") | F46: =IFERROR(INDEX('[1]決勝ヒート - レース結果（貼付）'!$A:$Z,MATCH($B46,'[1]決勝ヒート - レース結果（貼付）'!$B:$B,0),MATCH('決勝ヒート - レース正式結果表（印刷）'!F$11,'[1]決勝ヒート - レース結果（貼付）'!$1:$1,0)),"") | G46: =IFERROR(INDEX('[1]決勝ヒート - レース結果（貼付）'!$A:$Z,MATCH($B46,'[1]決勝ヒート - レース結果（貼付）'!$B:$B,0),MATCH('決勝ヒート - レース正式結果表（印刷）'!G$11,'[1]決勝ヒート - レース結果（貼付）'!$1:$1,0)),"") | Q46: =IF(IFERROR(INDEX('[1]決勝ヒート - レース結果（貼付）'!$A:$Z,MATCH($B46,'[1]決勝ヒート - レース結果（貼付）'!$B:$B,0),MATCH('決勝ヒート - レース正式結果表（印刷）'!Q$11,'[1]決勝ヒート - レース結果（貼付）'!$1:$1,0)),"")=0,"",IFERROR(INDEX('[1]決勝ヒート - レース結果（貼付）'!$A:$Z,MATCH($B46,'[1]決勝ヒート - レース結果（貼付）'!$B:$B,0),MATCH('決勝ヒート - レース正式結果表（印刷）'!Q$11,'[1]決勝ヒート - レース結果（貼付）'!$1:$1,0)),"")) | R46: =IF(Q46="","",COUNTIF($Q$13:Q46,"<>"&"")) | S46: =IFERROR(RANK(R46,$R$13:$R$46,1),"") | T46: =IF(IFERROR(INDEX('[1]決勝ヒート - レース結果（貼付）'!$A:$Z,MATCH(#REF!,'[1]決勝ヒート - レース結果（貼付）'!$A:$A,0),MATCH('決勝ヒート - レース正式結果表（印刷）'!T$11,'[1]決勝ヒート - レース結果（貼付）'!$1:$1,0)),"")=0,"",IFERROR(INDEX('[1]決勝ヒート - レース結果（貼付）'!$A:$Z,MATCH(#REF!,'[1]決勝ヒート - レース結果（貼付）'!$A:$A,0),MATCH('決勝ヒート - レース正式結果表（印刷）'!T$11,'[1]決勝ヒート - レース結果（貼付）'!$1:$1,0)),"")) | U46: =IF(IFERROR(INDEX('[1]決勝ヒート - レース結果（貼付）'!$A:$Z,MATCH($B46,'[1]決勝ヒート - レース結果（貼付）'!$B:$B,0),MATCH('決勝ヒート - レース正式結果表（印刷）'!U$11,'[1]決勝ヒート - レース結果（貼付）'!$1:$1,0)),"")=0,"",IFERROR(INDEX('[1]決勝ヒート - レース結果（貼付）'!$A:$Z,MATCH($B46,'[1]決勝ヒート - レース結果（貼付）'!$B:$B,0),MATCH('決勝ヒート - レース正式結果表（印刷）'!U$11,'[1]決勝ヒート - レース結果（貼付）'!$1:$1,0)),""))
A47: C700賞 | E47: ="No."&IFERROR(INDEX($A11:$Z46,MATCH($J$47,$U$11:$U$46,0),MATCH("No.",$11:$11,0)),"")&" "&IFERROR(INDEX($A11:$Z46,MATCH($J$47,$U$11:$U$46,0),MATCH("名前",$11:$11,0)),"") -> No.19 向畑 疾走 | F47: =IFERROR(INDEX($A11:$Z46,MATCH($J$47,$U$11:$U$46,0),MATCH("team",$11:$11,0)),"") -> KC NAGAHARA | G47: =1.264/MAX($U:$U)*3600 -> 54.252161 | I47: =INDEX('[2]決勝ヒート - レース結果（貼付）'!$A:$Z,MATCH(INDEX($A12:$Z45,MATCH($J$47,$U$12:$U$45,0),MATCH("No.",$11:$11,0)),'[2]決勝ヒート - レース結果（貼付）'!$B:$B,0),MATCH("In Lap",'[2]決勝ヒート - レース結果（貼付）'!$1:$1,0))&"/"&IFERROR(INDEX($A12:$Z45,MATCH($J$47,$U$12:$U$45,0),MATCH("laps",$11:$11,0)),"") -> 15/22 | J47: =MAX($U:$U) -> 83.875 | K47: km/h
B49: =IFERROR(INDEX('[1]決勝ヒート - レース結果（貼付）'!A30:$Z$50,MATCH($A49,'[1]決勝ヒート - レース結果（貼付）'!A30:$A$50,0),MATCH('決勝ヒート - レース正式結果表（印刷）'!B$11,'[1]決勝ヒート - レース結果（貼付）'!$1:$1,0)),"") | E49: =IFERROR(INDEX('[1]決勝ヒート - レース結果（貼付）'!$A:$Z,MATCH($B49,'[1]決勝ヒート - レース結果（貼付）'!$B:$B,0),MATCH('決勝ヒート - レース正式結果表（印刷）'!E$11,'[1]決勝ヒート - レース結果（貼付）'!$1:$1,0)),"") | F49: =IFERROR(INDEX('[1]決勝ヒート - レース結果（貼付）'!$A:$Z,MATCH($B49,'[1]決勝ヒート - レース結果（貼付）'!$B:$B,0),MATCH('決勝ヒート - レース正式結果表（印刷）'!F$11,'[1]決勝ヒート - レース結果（貼付）'!$1:$1,0)),"") | G49: =IFERROR(INDEX('[1]決勝ヒート - レース結果（貼付）'!$A:$Z,MATCH($B49,'[1]決勝ヒート - レース結果（貼付）'!$B:$B,0),MATCH('決勝ヒート - レース正式結果表（印刷）'!G$11,'[1]決勝ヒート - レース結果（貼付）'!$1:$1,0)),"") | Q49: =IF(IFERROR(INDEX('[1]決勝ヒート - レース結果（貼付）'!$A:$Z,MATCH($B49,'[1]決勝ヒート - レース結果（貼付）'!$B:$B,0),MATCH('決勝ヒート - レース正式結果表（印刷）'!Q$11,'[1]決勝ヒート - レース結果（貼付）'!$1:$1,0)),"")=0,"",IFERROR(INDEX('[1]決勝ヒート - レース結果（貼付）'!$A:$Z,MATCH($B49,'[1]決勝ヒート - レース結果（貼付）'!$B:$B,0),MATCH('決勝ヒート - レース正式結果表（印刷）'!Q$11,'[1]決勝ヒート - レース結果（貼付）'!$1:$1,0)),"")) | R49: =IF(Q49="","",COUNTIF($Q$13:Q49,"<>"&"")) | S49: =IFERROR(RANK(R49,$R$13:$R$46,1),"") | T49: =IF(IFERROR(INDEX('[1]決勝ヒート - レース結果（貼付）'!$A:$Z,MATCH($A49,'[1]決勝ヒート - レース結果（貼付）'!$A:$A,0),MATCH('決勝ヒート - レース正式結果表（印刷）'!T$11,'[1]決勝ヒート - レース結果（貼付）'!$1:$1,0)),"")=0,"",IFERROR(INDEX('[1]決勝ヒート - レース結果（貼付）'!$A:$Z,MATCH($A49,'[1]決勝ヒート - レース結果（貼付）'!$A:$A,0),MATCH('決勝ヒート - レース正式結果表（印刷）'!T$11,'[1]決勝ヒート - レース結果（貼付）'!$1:$1,0)),"")) | U49: =IF(IFERROR(INDEX('[1]決勝ヒート - レース結果（貼付）'!$A:$Z,MATCH($B49,'[1]決勝ヒート - レース結果（貼付）'!$B:$B,0),MATCH('決勝ヒート - レース正式結果表（印刷）'!U$11,'[1]決勝ヒート - レース結果（貼付）'!$1:$1,0)),"")=0,"",IFERROR(INDEX('[1]決勝ヒート - レース結果（貼付）'!$A:$Z,MATCH($B49,'[1]決勝ヒート - レース結果（貼付）'!$B:$B,0),MATCH('決勝ヒート - レース正式結果表（印刷）'!U$11,'[1]決勝ヒート - レース結果（貼付）'!$1:$1,0)),""))
A50: このレース結果によりシリーズランキング暫定チャンピオンは百瀬 翔選手に決定 | Q50: =IF(IFERROR(INDEX('[1]決勝ヒート - レース結果（貼付）'!$A:$Z,MATCH($A50,'[1]決勝ヒート - レース結果（貼付）'!$B:$B,0),MATCH('決勝ヒート - レース正式結果表（印刷）'!Q$11,'[1]決勝ヒート - レース結果（貼付）'!$1:$1,0)),"")=0,"",IFERROR(INDEX('[1]決勝ヒート - レース結果（貼付）'!$A:$Z,MATCH($A50,'[1]決勝ヒート - レース結果（貼付）'!$B:$B,0),MATCH('決勝ヒート - レース正式結果表（印刷）'!Q$11,'[1]決勝ヒート - レース結果（貼付）'!$1:$1,0)),"")) | R50: =IF(Q50="","",COUNTIF($Q$13:Q50,"<>"&"")) | S50: =IFERROR(RANK(R50,$R$13:$R$46,1),"") | T50: =IF(IFERROR(INDEX('[1]決勝ヒート - レース結果（貼付）'!$A:$Z,MATCH(#REF!,'[1]決勝ヒート - レース結果（貼付）'!$A:$A,0),MATCH('決勝ヒート - レース正式結果表（印刷）'!T$11,'[1]決勝ヒート - レース結果（貼付）'!$1:$1,0)),"")=0,"",IFERROR(INDEX('[1]決勝ヒート - レース結果（貼付）'!$A:$Z,MATCH(#REF!,'[1]決勝ヒート - レース結果（貼付）'!$A:$A,0),MATCH('決勝ヒート - レース正式結果表（印刷）'!T$11,'[1]決勝ヒート - レース結果（貼付）'!$1:$1,0)),"")) | U50: =IF(IFERROR(INDEX('[1]決勝ヒート - レース結果（貼付）'!$A:$Z,MATCH($A50,'[1]決勝ヒート - レース結果（貼付）'!$B:$B,0),MATCH('決勝ヒート - レース正式結果表（印刷）'!U$11,'[1]決勝ヒート - レース結果（貼付）'!$1:$1,0)),"")=0,"",IFERROR(INDEX('[1]決勝ヒート - レース結果（貼付）'!$A:$Z,MATCH($A50,'[1]決勝ヒート - レース結果（貼付）'!$B:$B,0),MATCH('決勝ヒート - レース正式結果表（印刷）'!U$11,'[1]決勝ヒート - レース結果（貼付）'!$1:$1,0)),""))
A51: =IF(COUNTIF(N:N,"R")>=1,"""R"" マークの車は、コースレコードを更新しました。従来のレコードタイムは"&" "&N11,"")
A53: =IF(A54="","","ﾍﾟﾅﾙﾃｨ") -> ﾍﾟﾅﾙﾃｨ
A54: =IF(MAX(R13:R46)<1,"",1) -> 1 | B54: =IF(A54="","","No."&INDEX($A$11:$V$46,MATCH($A54,$S$11:$S$46,0),MATCH("No.",$11:$11,0))) -> No.73 | C54: 全日本カート選手権統一規則書 第38条(25)(フロントフェアリングが正しい装着状態でない)により5秒加算した。
A55: =IF(A54<COUNTIF($S$12:$S$46,">"&0),A54+1,"") -> 2 | B55: =IF(A55="","","No."&INDEX($A$11:$V$46,MATCH($A55,$S$11:$S$46,0),MATCH("No.",$11:$11,0))) -> No.21 | C55: 全日本カート選手権統一規則書 第38条(25)(フロントフェアリングが正しい装着状態でない)により5秒加算した。
A56: =IF(A55<COUNTIF($S$12:$S$46,">"&0),A55+1,"") -> 3 | B56: =IF(A56="","","No."&INDEX($A$11:$V$46,MATCH($A56,$S$11:$S$46,0),MATCH("No.",$11:$11,0))) -> No.39 | C56: 全日本カート選手権統一規則書 第38条(25)(フロントフェアリングが正しい装着状態でない)により5秒加算した。
A57: =IF(A56<COUNTIF($S$12:$S$46,">"&0),A56+1,"") -> 4 | B57: =IF(A57="","","No."&INDEX($A$11:$V$46,MATCH($A57,$S$11:$S$46,0),MATCH("No.",$11:$11,0))) -> No.58 | C57: 全日本カート選手権統一規則書 第38条(25)(フロントフェアリングが正しい装着状態でない)により5秒加算した。
A58: =IF(A57<COUNTIF($S$12:$S$46,">"&0),A57+1,"") -> 5 | B58: =IF(A58="","","No."&INDEX($A$11:$V$46,MATCH($A58,$S$11:$S$46,0),MATCH("No.",$11:$11,0))) -> No.11 | C58: JAF国内ｶｰﾄ競技規則 ｶｰﾄ競技会運営に関する規定 22条(妨害の禁止(無理な進入))違反により、10秒加算とした。
A59: =IF(A58<COUNTIF($S$12:$S$46,">"&0),A58+1,"") -> 6 | B59: =IF(A59="","","No."&INDEX($A$11:$V$46,MATCH($A59,$S$11:$S$46,0),MATCH("No.",$11:$11,0))) -> No.27 | C59: 全日本カート選手権統一規則書 第38条(25)(フロントフェアリングが正しい装着状態でない)により5秒加算した。
A60: =IF(A59<COUNTIF($S$12:$S$46,">"&0),A59+1,"") | B60: =IF(A60="","","No."&INDEX($A$11:$V$46,MATCH($A60,$S$11:$S$46,0),MATCH("No.",$11:$11,0)))
A61: =IF(A60<COUNTIF($S$12:$S$46,">"&0),A60+1,"") | B61: =IF(A61="","","No."&INDEX($A$11:$V$46,MATCH($A61,$S$11:$S$46,0),MATCH("No.",$11:$11,0)))
A62: =IF(A61<COUNTIF($S$12:$S$46,">"&0),A61+1,"") | B62: =IF(A62="","","No."&INDEX($A$11:$V$46,MATCH($A62,$S$11:$S$46,0),MATCH("No.",$11:$11,0)))
A63: =IF(A62<COUNTIF($S$12:$S$46,">"&0),A62+1,"") | B63: =IF(A63="","","No."&INDEX($A$11:$V$46,MATCH($A63,$S$11:$S$46,0),MATCH("No.",$11:$11,0)))
A64: =IF(A63<COUNTIF($S$12:$S$46,">"&0),A63+1,"") | B64: =IF(A64="","","No."&INDEX($A$11:$V$46,MATCH($A64,$S$11:$S$46,0),MATCH("No.",$11:$11,0)))
B66: ="審査委員長 ："&" "&[1]各種設定!$D$20 -> 審査委員長 ： Makoto SAITO | G66: ="競技委員長 ："&" "&[1]各種設定!$D$22 -> 競技委員長 ： Toshiaki KUBOTA | J66: ="計時委員長 ："&" "&[1]各種設定!$D$24 -> 計時委員長 ： Tsutomu HAYAKAWA

Sheet 決勝ヒート - レース暫定結果表（印刷）
K6: 44878 | M6: :
A7: =+[1]各種設定!D2 -> 2022年 全日本カート選手権 FS-125/FP-3部門 東西統一競技会 | K7: WEATHER: | L7: Rain
K8: COURSE : | L8: Wet
A9: =+[1]各種設定!D4 -> FS-125 | K9: 南コース 1.264Km
A10: 決勝ヒート暫定結果表
B11: No. | E11: 名前 | F11: Model/Engine | G11: Team | H11: Tires | I11: Laps | J11: Total Time | K11: 差 | L11: GAP | M11: BestLap | N11: =VLOOKUP(A9,[1]コースレコード!$A:$G,3,FALSE) -> 49.222 | Q11: コメント | S11: ペナルティNo. | T11: グリッドコメント | U11: ベスト平均時速
A12: Pos. | B12: No. | E12: Driver | F12: Type | G12: Team | H12: Tire | I12: Laps | J12: Total Time | K12: Delay | L12: Gap | M12: Best
A13: 1 | B13: =IFERROR(INDEX('[1]決勝ヒート - レース結果（貼付）'!A2:$Z$50,MATCH($A13,'[1]決勝ヒート - レース結果（貼付）'!A2:$A$50,0),MATCH('決勝ヒート - レース暫定結果表（印刷）'!B$11,'[1]決勝ヒート - レース結果（貼付）'!$1:$1,0)),"") -> 31 | E13: =IFERROR(INDEX('[1]決勝ヒート - レース結果（貼付）'!$A:$Z,MATCH($B13,'[1]決勝ヒート - レース結果（貼付）'!$B:$B,0),MATCH('決勝ヒート - レース暫定結果表（印刷）'!E$11,'[1]決勝ヒート - レース結果（貼付）'!$1:$1,0)),"") -> 中井 陽斗 | F13: =IFERROR(INDEX('[1]決勝ヒート - レース結果（貼付）'!$A:$Z,MATCH($B13,'[1]決勝ヒート - レース結果（貼付）'!$B:$B,0),MATCH('決勝ヒート - レース暫定結果表（印刷）'!F$11,'[1]決勝ヒート - レース結果（貼付）'!$1:$1,0)),"") -> CL/IAME | G13: =IFERROR(INDEX('[1]決勝ヒート - レース結果（貼付）'!$A:$Z,MATCH($B13,'[1]決勝ヒート - レース結果（貼付）'!$B:$B,0),MATCH('決勝ヒート - レース暫定結果表（印刷）'!G$11,'[1]決勝ヒート - レース結果（貼付）'!$1:$1,0)),"") -> TEAM EMATY | H13: =IFERROR(INDEX('[1]決勝ヒート - レース結果（貼付）'!$A:$Z,MATCH($B13,'[1]決勝ヒート - レース結果（貼付）'!$B:$B,0),MATCH('決勝ヒート - レース暫定結果表（印刷）'!H$11,'[1]決勝ヒート - レース結果（貼付）'!$1:$1,0)),"") -> BS | I13: =IFERROR(INDEX('[1]決勝ヒート - レース結果（貼付）'!$A:$Z,MATCH($B13,'[1]決勝ヒート - レース結果（貼付）'!$B:$B,0),MATCH('決勝ヒート - レース暫定結果表（印刷）'!I$11,'[1]決勝ヒート - レース結果（貼付）'!$1:$1,0)),"") -> 22 | J13: =IF(A13="DNS","ｽﾀｰﾄ出来ず",IF(A13="DQ","失 格",IFERROR(INDEX('[1]決勝ヒート - レース結果（貼付）'!$A:$Z,MATCH($B13,'[1]決勝ヒート - レース結果（貼付）'!$B:$B,0),MATCH('決勝ヒート - レース暫定結果表（印刷）'!J$11,'[1]決勝ヒート - レース結果（貼付）'!$1:$1,0)),""))) -> 0.013910023 | K13: =ROUND((1.264*I13)/(J13*24),2)&"km/h" -> 83.3km/h | M13: =IFERROR(INDEX('[1]決勝ヒート - レース結果（貼付）'!$A:$Z,MATCH($B13,'[1]決勝ヒート - レース結果（貼付）'!$B:$B,0),MATCH('決勝ヒート - レース暫定結果表（印刷）'!M$11,'[1]決勝ヒート - レース結果（貼付）'!$1:$1,0)),"") -> 54.275 | N13: =IF(M13<1,"",IF($N$11>M13,"R","")) | Q13: =IF(IFERROR(INDEX('[1]決勝ヒート - レース結果（貼付）'!$A:$Z,MATCH($B13,'[1]決勝ヒート - レース結果（貼付）'!$B:$B,0),MATCH('決勝ヒート - レース暫定結果表（印刷）'!Q$11,'[1]決勝ヒート - レース結果（貼付）'!$1:$1,0)),"")=0,"",IFERROR(INDEX('[1]決勝ヒート - レース結果（貼付）'!$A:$Z,MATCH($B13,'[1]決勝ヒート - レース結果（貼付）'!$B:$B,0),MATCH('決勝ヒート - レース暫定結果表（印刷）'!Q$11,'[1]決勝ヒート - レース結果（貼付）'!$1:$1,0)),"")) | R13: =IF(Q13="","",COUNTIF($Q$13:Q13,"<>"&"")) | S13: =IFERROR(RANK(R13,$R$13:$R$48,1),"") | T13: =IF(IFERROR(INDEX('[1]決勝ヒート - レース結果（貼付）'!$A:$Z,MATCH($A13,'[1]決勝ヒート - レース結果（貼付）'!$A:$A,0),MATCH('決勝ヒート - レース暫定結果表（印刷）'!T$11,'[1]決勝ヒート - レース結果（貼付）'!$1:$1,0)),"")=0,"",IFERROR(INDEX('[1]決勝ヒート - レース結果（貼付）'!$A:$Z,MATCH($A13,'[1]決勝ヒート - レース結果（貼付）'!$A:$A,0),MATCH('決勝ヒート - レース暫定結果表（印刷）'!T$11,'[1]決勝ヒート - レース結果（貼付）'!$1:$1,0)),"")) | U13: =IF(IFERROR(INDEX('[1]決勝ヒート - レース結果（貼付）'!$A:$Z,MATCH($B13,'[1]決勝ヒート - レース結果（貼付）'!$B:$B,0),MATCH('[1]決勝ヒート - レース正式結果表（印刷）'!U$11,'[1]決勝ヒート - レース結果（貼付）'!$1:$1,0)),"")=0,"",IFERROR(INDEX('[1]決勝ヒート - レース結果（貼付）'!$A:$Z,MATCH($B13,'[1]決勝ヒート - レース結果（貼付）'!$B:$B,0),MATCH('[1]決勝ヒート - レース正式結果表（印刷）'!U$11,'[1]決勝ヒート - レース結果（貼付）'!$1:$1,0)),"")) -> 83.84
A14: =IF(OR('[1]決勝ヒート - レース結果（貼付）'!A3="DNF",'[1]決勝ヒート - レース結果（貼付）'!A3="DNS",'[1]決勝ヒート - レース結果（貼付）'!A3="DQ"),'[1]決勝ヒート - レース結果（貼付）'!A3,IF(MAX('[1]決勝ヒート - レース結果（貼付）'!A:A)>A13,A13+1,"")) -> 2 | B14: =IFERROR(INDEX('[1]決勝ヒート - レース結果（貼付）'!A3:$Z$50,MATCH($A14,'[1]決勝ヒート - レース結果（貼付）'!A3:$A$50,0),MATCH('決勝ヒート - レース暫定結果表（印刷）'!B$11,'[1]決勝ヒート - レース結果（貼付）'!$1:$1,0)),"") -> 19 | E14: =IFERROR(INDEX('[1]決勝ヒート - レース結果（貼付）'!$A:$Z,MATCH($B14,'[1]決勝ヒート - レース結果（貼付）'!$B:$B,0),MATCH('決勝ヒート - レース暫定結果表（印刷）'!E$11,'[1]決勝ヒート - レース結果（貼付）'!$1:$1,0)),"") -> 向畑 疾走 | F14: =IFERROR(INDEX('[1]決勝ヒート - レース結果（貼付）'!$A:$Z,MATCH($B14,'[1]決勝ヒート - レース結果（貼付）'!$B:$B,0),MATCH('決勝ヒート - レース暫定結果表（印刷）'!F$11,'[1]決勝ヒート - レース結果（貼付）'!$1:$1,0)),"") -> CRG/IAME | G14: =IFERROR(INDEX('[1]決勝ヒート - レース結果（貼付）'!$A:$Z,MATCH($B14,'[1]決勝ヒート - レース結果（貼付）'!$B:$B,0),MATCH('決勝ヒート - レース暫定結果表（印刷）'!G$11,'[1]決勝ヒート - レース結果（貼付）'!$1:$1,0)),"") -> KC NAGAHARA | H14: =IFERROR(INDEX('[1]決勝ヒート - レース結果（貼付）'!$A:$Z,MATCH($B14,'[1]決勝ヒート - レース結果（貼付）'!$B:$B,0),MATCH('決勝ヒート - レース暫定結果表（印刷）'!H$11,'[1]決勝ヒート - レース結果（貼付）'!$1:$1,0)),"") -> BS | I14: =IF(A14="DNS","",IF(A14="DQ","",IFERROR(INDEX('[1]決勝ヒート - レース結果（貼付）'!$A:$Z,MATCH($A14,'[1]決勝ヒート - レース結果（貼付）'!$A:$A,0),MATCH('決勝ヒート - レース暫定結果表（印刷）'!I$11,'[1]決勝ヒート - レース結果（貼付）'!$1:$1,0)),""))) -> 22 | J14: =IF(A14="DNS","ｽﾀｰﾄ出来ず",IF(A14="DQ","失 格",IFERROR(INDEX('[1]決勝ヒート - レース結果（貼付）'!$A:$Z,MATCH($B14,'[1]決勝ヒート - レース結果（貼付）'!$B:$B,0),MATCH('決勝ヒート - レース暫定結果表（印刷）'!J$11,'[1]決勝ヒート - レース結果（貼付）'!$1:$1,0)),""))) -> 0.013991539 | K14: =IF(A14="DNS","",IF(A14="DQ","",IFERROR(INDEX('[1]決勝ヒート - レース結果（貼付）'!$A:$Z,MATCH($A14,'[1]決勝ヒート - レース結果（貼付）'!$A:$A,0),MATCH('決勝ヒート - レース暫定結果表（印刷）'!K$11,'[1]決勝ヒート - レース結果（貼付）'!$1:$1,0)),""))) -> 7.043 | L14: =IF(A14="DNS","",IF(A14="DQ","",IFERROR(INDEX('[1]決勝ヒート - レース結果（貼付）'!$A:$Z,MATCH($A14,'[1]決勝ヒート - レース結果（貼付）'!$A:$A,0),MATCH('決勝ヒート - レース暫定結果表（印刷）'!L$11,'[1]決勝ヒート - レース結果（貼付）'!$1:$1,0)),""))) -> 7.043 | M14: =IF(A14="DNS","",IF(A14="DQ","",IFERROR(INDEX('[1]決勝ヒート - レース結果（貼付）'!$A:$Z,MATCH($B14,'[1]決勝ヒート - レース結果（貼付）'!$B:$B,0),MATCH('決勝ヒート - レース暫定結果表（印刷）'!M$11,'[1]決勝ヒート - レース結果（貼付）'!$1:$1,0)),""))) -> 54.252 | N14: =IF(M14<1,"",IF($N$11>M14,"R","")) | Q14: =IF(IFERROR(INDEX('[1]決勝ヒート - レース結果（貼付）'!$A:$Z,MATCH($B14,'[1]決勝ヒート - レース結果（貼付）'!$B:$B,0),MATCH('決勝ヒート - レース暫定結果表（印刷）'!Q$11,'[1]決勝ヒート - レース結果（貼付）'!$1:$1,0)),"")=0,"",IFERROR(INDEX('[1]決勝ヒート - レース結果（貼付）'!$A:$Z,MATCH($B14,'[1]決勝ヒート - レース結果（貼付）'!$B:$B,0),MATCH('決勝ヒート - レース暫定結果表（印刷）'!Q$11,'[1]決勝ヒート - レース結果（貼付）'!$1:$1,0)),"")) | R14: =IF(Q14="","",COUNTIF($Q$13:Q14,"<>"&"")) | S14: =IFERROR(RANK(R14,$R$13:$R$48,1),"") | T14: =IF(IFERROR(INDEX('[1]決勝ヒート - レース結果（貼付）'!$A:$Z,MATCH($A14,'[1]決勝ヒート - レース結果（貼付）'!$A:$A,0),MATCH('決勝ヒート - レース暫定結果表（印刷）'!T$11,'[1]決勝ヒート - レース結果（貼付）'!$1:$1,0)),"")=0,"",IFERROR(INDEX('[1]決勝ヒート - レース結果（貼付）'!$A:$Z,MATCH($A14,'[1]決勝ヒート - レース結果（貼付）'!$A:$A,0),MATCH('決勝ヒート - レース暫定結果表（印刷）'!T$11,'[1]決勝ヒート - レース結果（貼付）'!$1:$1,0)),"")) | U14: =IF(IFERROR(INDEX('[1]決勝ヒート - レース結果（貼付）'!$A:$Z,MATCH($B14,'[1]決勝ヒート - レース結果（貼付）'!$B:$B,0),MATCH('[1]決勝ヒート - レース正式結果表（印刷）'!U$11,'[1]決勝ヒート - レース結果（貼付）'!$1:$1,0)),"")=0,"",IFERROR(INDEX('[1]決勝ヒート - レース結果（貼付）'!$A:$Z,MATCH($B14,'[1]決勝ヒート - レース結果（貼付）'!$B:$B,0),MATCH('[1]決勝ヒート - レース正式結果表（印刷）'!U$11,'[1]決勝ヒート - レース結果（貼付）'!$1:$1,0)),"")) -> 83.875
A15: =IF(OR('[1]決勝ヒート - レース結果（貼付）'!A4="DNF",'[1]決勝ヒート - レース結果（貼付）'!A4="DNS",'[1]決勝ヒート - レース結果（貼付）'!A4="DQ"),'[1]決勝ヒート - レース結果（貼付）'!A4,IF(MAX('[1]決勝ヒート - レース結果（貼付）'!A:A)>A14,A14+1,"")) -> 3 | B15: =IFERROR(INDEX('[1]決勝ヒート - レース結果（貼付）'!A4:$Z$50,MATCH($A15,'[1]決勝ヒート - レース結果（貼付）'!A4:$A$50,0),MATCH('決勝ヒート - レース暫定結果表（印刷）'!B$11,'[1]決勝ヒート - レース結果（貼付）'!$1:$1,0)),"") -> 83 | E15: =IFERROR(INDEX('[1]決勝ヒート - レース結果（貼付）'!$A:$Z,MATCH($B15,'[1]決勝ヒート - レース結果（貼付）'!$B:$B,0),MATCH('決勝ヒート - レース暫定結果表（印刷）'!E$11,'[1]決勝ヒート - レース結果（貼付）'!$1:$1,0)),"") -> 近江川 暖人 | F15: =IFERROR(INDEX('[1]決勝ヒート - レース結果（貼付）'!$A:$Z,MATCH($B15,'[1]決勝ヒート - レース結果（貼付）'!$B:$B,0),MATCH('決勝ヒート - レース暫定結果表（印刷）'!F$11,'[1]決勝ヒート - レース結果（貼付）'!$1:$1,0)),"") -> KOSMIC/IAME | G15: =IFERROR(INDEX('[1]決勝ヒート - レース結果（貼付）'!$A:$Z,MATCH($B15,'[1]決勝ヒート - レース結果（貼付）'!$B:$B,0),MATCH('決勝ヒート - レース暫定結果表（印刷）'!G$11,'[1]決勝ヒート - レース結果（貼付）'!$1:$1,0)),"") -> HRS JAPAN | H15: =IFERROR(INDEX('[1]決勝ヒート - レース結果（貼付）'!$A:$Z,MATCH($B15,'[1]決勝ヒート - レース結果（貼付）'!$B:$B,0),MATCH('決勝ヒート - レース暫定結果表（印刷）'!H$11,'[1]決勝ヒート - レース結果（貼付）'!$1:$1,0)),"") -> BS | I15: =IF(A15="DNS","",IF(A15="DQ","",IFERROR(INDEX('[1]決勝ヒート - レース結果（貼付）'!$A:$Z,MATCH($A15,'[1]決勝ヒート - レース結果（貼付）'!$A:$A,0),MATCH('決勝ヒート - レース暫定結果表（印刷）'!I$11,'[1]決勝ヒート - レース結果（貼付）'!$1:$1,0)),""))) -> 22 | J15: =IF(A15="DNS","ｽﾀｰﾄ出来ず",IF(A15="DQ","失 格",IFERROR(INDEX('[1]決勝ヒート - レース結果（貼付）'!$A:$Z,MATCH($B15,'[1]決勝ヒート - レース結果（貼付）'!$B:$B,0),MATCH('決勝ヒート - レース暫定結果表（印刷）'!J$11,'[1]決勝ヒート - レース結果（貼付）'!$1:$1,0)),""))) -> 0.014034271 | K15: =IF(A15="DNS","",IF(A15="DQ","",IFERROR(INDEX('[1]決勝ヒート - レース結果（貼付）'!$A:$Z,MATCH($A15,'[1]決勝ヒート - レース結果（貼付）'!$A:$A,0),MATCH('決勝ヒート - レース暫定結果表（印刷）'!K$11,'[1]決勝ヒート - レース結果（貼付）'!$1:$1,0)),""))) -> 10.735 | L15: =IF(A15="DNS","",IF(A15="DQ","",IFERROR(INDEX('[1]決勝ヒート - レース結果（貼付）'!$A:$Z,MATCH($A15,'[1]決勝ヒート - レース結果（貼付）'!$A:$A,0),MATCH('決勝ヒート - レース暫定結果表（印刷）'!L$11,'[1]決勝ヒート - レース結果（貼付）'!$1:$1,0)),""))) -> 3.692 | M15: =IF(A15="DNS","",IF(A15="DQ","",IFERROR(INDEX('[1]決勝ヒート - レース結果（貼付）'!$A:$Z,MATCH($B15,'[1]決勝ヒート - レース結果（貼付）'!$B:$B,0),MATCH('決勝ヒート - レース暫定結果表（印刷）'!M$11,'[1]決勝ヒート - レース結果（貼付）'!$1:$1,0)),""))) -> 54.501 | N15: =IF(M15<1,"",IF($N$11>M15,"R","")) | Q15: =IF(IFERROR(INDEX('[1]決勝ヒート - レース結果（貼付）'!$A:$Z,MATCH($B15,'[1]決勝ヒート - レース結果（貼付）'!$B:$B,0),MATCH('決勝ヒート - レース暫定結果表（印刷）'!Q$11,'[1]決勝ヒート - レース結果（貼付）'!$1:$1,0)),"")=0,"",IFERROR(INDEX('[1]決勝ヒート - レース結果（貼付）'!$A:$Z,MATCH($B15,'[1]決勝ヒート - レース結果（貼付）'!$B:$B,0),MATCH('決勝ヒート - レース暫定結果表（印刷）'!Q$11,'[1]決勝ヒート - レース結果（貼付）'!$1:$1,0)),"")) | R15: =IF(Q15="","",COUNTIF($Q$13:Q15,"<>"&"")) | S15: =IFERROR(RANK(R15,$R$13:$R$48,1),"") | T15: =IF(IFERROR(INDEX('[1]決勝ヒート - レース結果（貼付）'!$A:$Z,MATCH($A15,'[1]決勝ヒート - レース結果（貼付）'!$A:$A,0),MATCH('決勝ヒート - レース暫定結果表（印刷）'!T$11,'[1]決勝ヒート - レース結果（貼付）'!$1:$1,0)),"")=0,"",IFERROR(INDEX('[1]決勝ヒート - レース結果（貼付）'!$A:$Z,MATCH($A15,'[1]決勝ヒート - レース結果（貼付）'!$A:$A,0),MATCH('決勝ヒート - レース暫定結果表（印刷）'!T$11,'[1]決勝ヒート - レース結果（貼付）'!$1:$1,0)),"")) | U15: =IF(IFERROR(INDEX('[1]決勝ヒート - レース結果（貼付）'!$A:$Z,MATCH($B15,'[1]決勝ヒート - レース結果（貼付）'!$B:$B,0),MATCH('[1]決勝ヒート - レース正式結果表（印刷）'!U$11,'[1]決勝ヒート - レース結果（貼付）'!$1:$1,0)),"")=0,"",IFERROR(INDEX('[1]決勝ヒート - レース結果（貼付）'!$A:$Z,MATCH($B15,'[1]決勝ヒート - レース結果（貼付）'!$B:$B,0),MATCH('[1]決勝ヒート - レース正式結果表（印刷）'!U$11,'[1]決勝ヒート - レース結果（貼付）'!$1:$1,0)),"")) -> 83.492
A16: =IF(OR('[1]決勝ヒート - レース結果（貼付）'!A5="DNF",'[1]決勝ヒート - レース結果（貼付）'!A5="DNS",'[1]決勝ヒート - レース結果（貼付）'!A5="DQ"),'[1]決勝ヒート - レース結果（貼付）'!A5,IF(MAX('[1]決勝ヒート - レース結果（貼付）'!A:A)>A15,A15+1,"")) -> 4 | B16: =IFERROR(INDEX('[1]決勝ヒート - レース結果（貼付）'!A5:$Z$50,MATCH($A16,'[1]決勝ヒート - レース結果（貼付）'!A5:$A$50,0),MATCH('決勝ヒート - レース暫定結果表（印刷）'!B$11,'[1]決勝ヒート - レース結果（貼付）'!$1:$1,0)),"") -> 55 | E16: =IFERROR(INDEX('[1]決勝ヒート - レース結果（貼付）'!$A:$Z,MATCH($B16,'[1]決勝ヒート - レース結果（貼付）'!$B:$B,0),MATCH('決勝ヒート - レース暫定結果表（印刷）'!E$11,'[1]決勝ヒート - レース結果（貼付）'!$1:$1,0)),"") -> 喜納 颯矢斗 | F16: =IFERROR(INDEX('[1]決勝ヒート - レース結果（貼付）'!$A:$Z,MATCH($B16,'[1]決勝ヒート - レース結果（貼付）'!$B:$B,0),MATCH('決勝ヒート - レース暫定結果表（印刷）'!F$11,'[1]決勝ヒート - レース結果（貼付）'!$1:$1,0)),"") -> TONY KART/IAME | G16: =IFERROR(INDEX('[1]決勝ヒート - レース結果（貼付）'!$A:$Z,MATCH($B16,'[1]決勝ヒート - レース結果（貼付）'!$B:$B,0),MATCH('決勝ヒート - レース暫定結果表（印刷）'!G$11,'[1]決勝ヒート - レース結果（貼付）'!$1:$1,0)),"") -> YRHKS | H16: =IFERROR(INDEX('[1]決勝ヒート - レース結果（貼付）'!$A:$Z,MATCH($B16,'[1]決勝ヒート - レース結果（貼付）'!$B:$B,0),MATCH('決勝ヒート - レース暫定結果表（印刷）'!H$11,'[1]決勝ヒート - レース結果（貼付）'!$1:$1,0)),"") -> BS | I16: =IF(A16="DNS","",IF(A16="DQ","",IFERROR(INDEX('[1]決勝ヒート - レース結果（貼付）'!$A:$Z,MATCH($A16,'[1]決勝ヒート - レース結果（貼付）'!$A:$A,0),MATCH('決勝ヒート - レース暫定結果表（印刷）'!I$11,'[1]決勝ヒート - レース結果（貼付）'!$1:$1,0)),""))) -> 22 | J16: =IF(A16="DNS","ｽﾀｰﾄ出来ず",IF(A16="DQ","失 格",IFERROR(INDEX('[1]決勝ヒート - レース結果（貼付）'!$A:$Z,MATCH($B16,'[1]決勝ヒート - レース結果（貼付）'!$B:$B,0),MATCH('決勝ヒート - レース暫定結果表（印刷）'!J$11,'[1]決勝ヒート - レース結果（貼付）'!$1:$1,0)),""))) -> 0.01406103 | K16: =IF(A16="DNS","",IF(A16="DQ","",IFERROR(INDEX('[1]決勝ヒート - レース結果（貼付）'!$A:$Z,MATCH($A16,'[1]決勝ヒート - レース結果（貼付）'!$A:$A,0),MATCH('決勝ヒート - レース暫定結果表（印刷）'!K$11,'[1]決勝ヒート - レース結果（貼付）'!$1:$1,0)),""))) -> 13.047 | L16: =IF(A16="DNS","",IF(A16="DQ","",IFERROR(INDEX('[1]決勝ヒート - レース結果（貼付）'!$A:$Z,MATCH($A16,'[1]決勝ヒート - レース結果（貼付）'!$A:$A,0),MATCH('決勝ヒート - レース暫定結果表（印刷）'!L$11,'[1]決勝ヒート - レース結果（貼付）'!$1:$1,0)),""))) -> 2.312 | M16: =IF(A16="DNS","",IF(A16="DQ","",IFERROR(INDEX('[1]決勝ヒート - レース結果（貼付）'!$A:$Z,MATCH($B16,'[1]決勝ヒート - レース結果（貼付）'!$B:$B,0),MATCH('決勝ヒート - レース暫定結果表（印刷）'!M$11,'[1]決勝ヒート - レース結果（貼付）'!$1:$1,0)),""))) -> 54.619 | N16: =IF(M16<1,"",IF($N$11>M16,"R","")) | Q16: =IF(IFERROR(INDEX('[1]決勝ヒート - レース結果（貼付）'!$A:$Z,MATCH($B16,'[1]決勝ヒート - レース結果（貼付）'!$B:$B,0),MATCH('決勝ヒート - レース暫定結果表（印刷）'!Q$11,'[1]決勝ヒート - レース結果（貼付）'!$1:$1,0)),"")=0,"",IFERROR(INDEX('[1]決勝ヒート - レース結果（貼付）'!$A:$Z,MATCH($B16,'[1]決勝ヒート - レース結果（貼付）'!$B:$B,0),MATCH('決勝ヒート - レース暫定結果表（印刷）'!Q$11,'[1]決勝ヒート - レース結果（貼付）'!$1:$1,0)),"")) | R16: =IF(Q16="","",COUNTIF($Q$13:Q16,"<>"&"")) | S16: =IFERROR(RANK(R16,$R$13:$R$48,1),"") | T16: =IF(IFERROR(INDEX('[1]決勝ヒート - レース結果（貼付）'!$A:$Z,MATCH($A16,'[1]決勝ヒート - レース結果（貼付）'!$A:$A,0),MATCH('決勝ヒート - レース暫定結果表（印刷）'!T$11,'[1]決勝ヒート - レース結果（貼付）'!$1:$1,0)),"")=0,"",IFERROR(INDEX('[1]決勝ヒート - レース結果（貼付）'!$A:$Z,MATCH($A16,'[1]決勝ヒート - レース結果（貼付）'!$A:$A,0),MATCH('決勝ヒート - レース暫定結果表（印刷）'!T$11,'[1]決勝ヒート - レース結果（貼付）'!$1:$1,0)),"")) | U16: =IF(IFERROR(INDEX('[1]決勝ヒート - レース結果（貼付）'!$A:$Z,MATCH($B16,'[1]決勝ヒート - レース結果（貼付）'!$B:$B,0),MATCH('[1]決勝ヒート - レース正式結果表（印刷）'!U$11,'[1]決勝ヒート - レース結果（貼付）'!$1:$1,0)),"")=0,"",IFERROR(INDEX('[1]決勝ヒート - レース結果（貼付）'!$A:$Z,MATCH($B16,'[1]決勝ヒート - レース結果（貼付）'!$B:$B,0),MATCH('[1]決勝ヒート - レース正式結果表（印刷）'!U$11,'[1]決勝ヒート - レース結果（貼付）'!$1:$1,0)),"")) -> 83.602
A17: =IF(OR('[1]決勝ヒート - レース結果（貼付）'!A6="DNF",'[1]決勝ヒート - レース結果（貼付）'!A6="DNS",'[1]決勝ヒート - レース結果（貼付）'!A6="DQ"),'[1]決勝ヒート - レース結果（貼付）'!A6,IF(MAX('[1]決勝ヒート - レース結果（貼付）'!A:A)>A16,A16+1,"")) -> 5 | B17: =IFERROR(INDEX('[1]決勝ヒート - レース結果（貼付）'!A6:$Z$50,MATCH($A17,'[1]決勝ヒート - レース結果（貼付）'!A6:$A$50,0),MATCH('決勝ヒート - レース暫定結果表（印刷）'!B$11,'[1]決勝ヒート - レース結果（貼付）'!$1:$1,0)),"") -> 18 | E17: =IFERROR(INDEX('[1]決勝ヒート - レース結果（貼付）'!$A:$Z,MATCH($B17,'[1]決勝ヒート - レース結果（貼付）'!$B:$B,0),MATCH('決勝ヒート - レース暫定結果表（印刷）'!E$11,'[1]決勝ヒート - レース結果（貼付）'!$1:$1,0)),"") -> 五十嵐 文太郎 | F17: =IFERROR(INDEX('[1]決勝ヒート - レース結果（貼付）'!$A:$Z,MATCH($B17,'[1]決勝ヒート - レース結果（貼付）'!$B:$B,0),MATCH('決勝ヒート - レース暫定結果表（印刷）'!F$11,'[1]決勝ヒート - レース結果（貼付）'!$1:$1,0)),"") -> Birel ART/IAME | G17: =IFERROR(INDEX('[1]決勝ヒート - レース結果（貼付）'!$A:$Z,MATCH($B17,'[1]決勝ヒート - レース結果（貼付）'!$B:$B,0),MATCH('決勝ヒート - レース暫定結果表（印刷）'!G$11,'[1]決勝ヒート - レース結果（貼付）'!$1:$1,0)),"") -> Formula Blue エッフェガーラ | H17: =IFERROR(INDEX('[1]決勝ヒート - レース結果（貼付）'!$A:$Z,MATCH($B17,'[1]決勝ヒート - レース結果（貼付）'!$B:$B,0),MATCH('決勝ヒート - レース暫定結果表（印刷）'!H$11,'[1]決勝ヒート - レース結果（貼付）'!$1:$1,0)),"") -> BS | I17: =IF(A17="DNS","",IF(A17="DQ","",IFERROR(INDEX('[1]決勝ヒート - レース結果（貼付）'!$A:$Z,MATCH($A17,'[1]決勝ヒート - レース結果（貼付）'!$A:$A,0),MATCH('決勝ヒート - レース暫定結果表（印刷）'!I$11,'[1]決勝ヒート - レース結果（貼付）'!$1:$1,0)),""))) -> 22 | J17: =IF(A17="DNS","ｽﾀｰﾄ出来ず",IF(A17="DQ","失 格",IFERROR(INDEX('[1]決勝ヒート - レース結果（貼付）'!$A:$Z,MATCH($B17,'[1]決勝ヒート - レース結果（貼付）'!$B:$B,0),MATCH('決勝ヒート - レース暫定結果表（印刷）'!J$11,'[1]決勝ヒート - レース結果（貼付）'!$1:$1,0)),""))) -> 0.014068148 | K17: =IF(A17="DNS","",IF(A17="DQ","",IFERROR(INDEX('[1]決勝ヒート - レース結果（貼付）'!$A:$Z,MATCH($A17,'[1]決勝ヒート - レース結果（貼付）'!$A:$A,0),MATCH('決勝ヒート - レース暫定結果表（印刷）'!K$11,'[1]決勝ヒート - レース結果（貼付）'!$1:$1,0)),""))) -> 13.662 | L17: =IF(A17="DNS","",IF(A17="DQ","",IFERROR(INDEX('[1]決勝ヒート - レース結果（貼付）'!$A:$Z,MATCH($A17,'[1]決勝ヒート - レース結果（貼付）'!$A:$A,0),MATCH('決勝ヒート - レース暫定結果表（印刷）'!L$11,'[1]決勝ヒート - レース結果（貼付）'!$1:$1,0)),""))) -> 0.615 | M17: =IF(A17="DNS","",IF(A17="DQ","",IFERROR(INDEX('[1]決勝ヒート - レース結果（貼付）'!$A:$Z,MATCH($B17,'[1]決勝ヒート - レース結果（貼付）'!$B:$B,0),MATCH('決勝ヒート - レース暫定結果表（印刷）'!M$11,'[1]決勝ヒート - レース結果（貼付）'!$1:$1,0)),""))) -> 54.493 | N17: =IF(M17<1,"",IF($N$11>M17,"R","")) | Q17: =IF(IFERROR(INDEX('[1]決勝ヒート - レース結果（貼付）'!$A:$Z,MATCH($B17,'[1]決勝ヒート - レース結果（貼付）'!$B:$B,0),MATCH('決勝ヒート - レース暫定結果表（印刷）'!Q$11,'[1]決勝ヒート - レース結果（貼付）'!$1:$1,0)),"")=0,"",IFERROR(INDEX('[1]決勝ヒート - レース結果（貼付）'!$A:$Z,MATCH($B17,'[1]決勝ヒート - レース結果（貼付）'!$B:$B,0),MATCH('決勝ヒート - レース暫定結果表（印刷）'!Q$11,'[1]決勝ヒート - レース結果（貼付）'!$1:$1,0)),"")) | R17: =IF(Q17="","",COUNTIF($Q$13:Q17,"<>"&"")) | S17: =IFERROR(RANK(R17,$R$13:$R$48,1),"") | T17: =IF(IFERROR(INDEX('[1]決勝ヒート - レース結果（貼付）'!$A:$Z,MATCH($A17,'[1]決勝ヒート - レース結果（貼付）'!$A:$A,0),MATCH('決勝ヒート - レース暫定結果表（印刷）'!T$11,'[1]決勝ヒート - レース結果（貼付）'!$1:$1,0)),"")=0,"",IFERROR(INDEX('[1]決勝ヒート - レース結果（貼付）'!$A:$Z,MATCH($A17,'[1]決勝ヒート - レース結果（貼付）'!$A:$A,0),MATCH('決勝ヒート - レース暫定結果表（印刷）'!T$11,'[1]決勝ヒート - レース結果（貼付）'!$1:$1,0)),"")) | U17: =IF(IFERROR(INDEX('[1]決勝ヒート - レース結果（貼付）'!$A:$Z,MATCH($B17,'[1]決勝ヒート - レース結果（貼付）'!$B:$B,0),MATCH('[1]決勝ヒート - レース正式結果表（印刷）'!U$11,'[1]決勝ヒート - レース結果（貼付）'!$1:$1,0)),"")=0,"",IFERROR(INDEX('[1]決勝ヒート - レース結果（貼付）'!$A:$Z,MATCH($B17,'[1]決勝ヒート - レース結果（貼付）'!$B:$B,0),MATCH('[1]決勝ヒート - レース正式結果表（印刷）'!U$11,'[1]決勝ヒート - レース結果（貼付）'!$1:$1,0)),"")) -> 83.494
A18: =IF(OR('[1]決勝ヒート - レース結果（貼付）'!A7="DNF",'[1]決勝ヒート - レース結果（貼付）'!A7="DNS",'[1]決勝ヒート - レース結果（貼付）'!A7="DQ"),'[1]決勝ヒート - レース結果（貼付）'!A7,IF(MAX('[1]決勝ヒート - レース結果（貼付）'!A:A)>A17,A17+1,"")) -> 6 | B18: =IFERROR(INDEX('[1]決勝ヒート - レース結果（貼付）'!A7:$Z$50,MATCH($A18,'[1]決勝ヒート - レース結果（貼付）'!A7:$A$50,0),MATCH('決勝ヒート - レース暫定結果表（印刷）'!B$11,'[1]決勝ヒート - レース結果（貼付）'!$1:$1,0)),"") -> 44 | E18: =IFERROR(INDEX('[1]決勝ヒート - レース結果（貼付）'!$A:$Z,MATCH($B18,'[1]決勝ヒート - レース結果（貼付）'!$B:$B,0),MATCH('決勝ヒート - レース暫定結果表（印刷）'!E$11,'[1]決勝ヒート - レース結果（貼付）'!$1:$1,0)),"") -> 菊田 悟 | F18: =IFERROR(INDEX('[1]決勝ヒート - レース結果（貼付）'!$A:$Z,MATCH($B18,'[1]決勝ヒート - レース結果（貼付）'!$B:$B,0),MATCH('決勝ヒート - レース暫定結果表（印刷）'!F$11,'[1]決勝ヒート - レース結果（貼付）'!$1:$1,0)),"") -> KOSMIC/IAME | G18: =IFERROR(INDEX('[1]決勝ヒート - レース結果（貼付）'!$A:$Z,MATCH($B18,'[1]決勝ヒート - レース結果（貼付）'!$B:$B,0),MATCH('決勝ヒート - レース暫定結果表（印刷）'!G$11,'[1]決勝ヒート - レース結果（貼付）'!$1:$1,0)),"") -> TEAM CRESCENT with ONE POINT | H18: =IFERROR(INDEX('[1]決勝ヒート - レース結果（貼付）'!$A:$Z,MATCH($B18,'[1]決勝ヒート - レース結果（貼付）'!$B:$B,0),MATCH('決勝ヒート - レース暫定結果表（印刷）'!H$11,'[1]決勝ヒート - レース結果（貼付）'!$1:$1,0)),"") -> BS | I18: =IF(A18="DNS","",IF(A18="DQ","",IFERROR(INDEX('[1]決勝ヒート - レース結果（貼付）'!$A:$Z,MATCH($A18,'[1]決勝ヒート - レース結果（貼付）'!$A:$A,0),MATCH('決勝ヒート - レース暫定結果表（印刷）'!I$11,'[1]決勝ヒート - レース結果（貼付）'!$1:$1,0)),""))) -> 22 | J18: =IF(A18="DNS","ｽﾀｰﾄ出来ず",IF(A18="DQ","失 格",IFERROR(INDEX('[1]決勝ヒート - レース結果（貼付）'!$A:$Z,MATCH($B18,'[1]決勝ヒート - レース結果（貼付）'!$B:$B,0),MATCH('決勝ヒート - レース暫定結果表（印刷）'!J$11,'[1]決勝ヒート - レース結果（貼付）'!$1:$1,0)),""))) -> 0.014080023 | K18: =IF(A18="DNS","",IF(A18="DQ","",IFERROR(INDEX('[1]決勝ヒート - レース結果（貼付）'!$A:$Z,MATCH($A18,'[1]決勝ヒート - レース結果（貼付）'!$A:$A,0),MATCH('決勝ヒート - レース暫定結果表（印刷）'!K$11,'[1]決勝ヒート - レース結果（貼付）'!$1:$1,0)),""))) -> 14.688 | L18: =IF(A18="DNS","",IF(A18="DQ","",IFERROR(INDEX('[1]決勝ヒート - レース結果（貼付）'!$A:$Z,MATCH($A18,'[1]決勝ヒート - レース結果（貼付）'!$A:$A,0),MATCH('決勝ヒート - レース暫定結果表（印刷）'!L$11,'[1]決勝ヒート - レース結果（貼付）'!$1:$1,0)),""))) -> 1.026 | M18: =IF(A18="DNS","",IF(A18="DQ","",IFERROR(INDEX('[1]決勝ヒート - レース結果（貼付）'!$A:$Z,MATCH($B18,'[1]決勝ヒート - レース結果（貼付）'!$B:$B,0),MATCH('決勝ヒート - レース暫定結果表（印刷）'!M$11,'[1]決勝ヒート - レース結果（貼付）'!$1:$1,0)),""))) -> 54.382 | N18: =IF(M18<1,"",IF($N$11>M18,"R","")) | Q18: =IF(IFERROR(INDEX('[1]決勝ヒート - レース結果（貼付）'!$A:$Z,MATCH($B18,'[1]決勝ヒート - レース結果（貼付）'!$B:$B,0),MATCH('決勝ヒート - レース暫定結果表（印刷）'!Q$11,'[1]決勝ヒート - レース結果（貼付）'!$1:$1,0)),"")=0,"",IFERROR(INDEX('[1]決勝ヒート - レース結果（貼付）'!$A:$Z,MATCH($B18,'[1]決勝ヒート - レース結果（貼付）'!$B:$B,0),MATCH('決勝ヒート - レース暫定結果表（印刷）'!Q$11,'[1]決勝ヒート - レース結果（貼付）'!$1:$1,0)),"")) | R18: =IF(Q18="","",COUNTIF($Q$13:Q18,"<>"&"")) | S18: =IFERROR(RANK(R18,$R$13:$R$48,1),"") | T18: =IF(IFERROR(INDEX('[1]決勝ヒート - レース結果（貼付）'!$A:$Z,MATCH($A18,'[1]決勝ヒート - レース結果（貼付）'!$A:$A,0),MATCH('決勝ヒート - レース暫定結果表（印刷）'!T$11,'[1]決勝ヒート - レース結果（貼付）'!$1:$1,0)),"")=0,"",IFERROR(INDEX('[1]決勝ヒート - レース結果（貼付）'!$A:$Z,MATCH($A18,'[1]決勝ヒート - レース結果（貼付）'!$A:$A,0),MATCH('決勝ヒート - レース暫定結果表（印刷）'!T$11,'[1]決勝ヒート - レース結果（貼付）'!$1:$1,0)),"")) | U18: =IF(IFERROR(INDEX('[1]決勝ヒート - レース結果（貼付）'!$A:$Z,MATCH($B18,'[1]決勝ヒート - レース結果（貼付）'!$B:$B,0),MATCH('[1]決勝ヒート - レース正式結果表（印刷）'!U$11,'[1]決勝ヒート - レース結果（貼付）'!$1:$1,0)),"")=0,"",IFERROR(INDEX('[1]決勝ヒート - レース結果（貼付）'!$A:$Z,MATCH($B18,'[1]決勝ヒート - レース結果（貼付）'!$B:$B,0),MATCH('[1]決勝ヒート - レース正式結果表（印刷）'!U$11,'[1]決勝ヒート - レース結果（貼付）'!$1:$1,0)),"")) -> 83.182
A19: =IF(OR('[1]決勝ヒート - レース結果（貼付）'!A8="DNF",'[1]決勝ヒート - レース結果（貼付）'!A8="DNS",'[1]決勝ヒート - レース結果（貼付）'!A8="DQ"),'[1]決勝ヒート - レース結果（貼付）'!A8,IF(MAX('[1]決勝ヒート - レース結果（貼付）'!A:A)>A18,A18+1,"")) -> 7 | B19: =IFERROR(INDEX('[1]決勝ヒート - レース結果（貼付）'!A8:$Z$50,MATCH($A19,'[1]決勝ヒート - レース結果（貼付）'!A8:$A$50,0),MATCH('決勝ヒート - レース暫定結果表（印刷）'!B$11,'[1]決勝ヒート - レース結果（貼付）'!$1:$1,0)),"") -> 73 | E19: =IFERROR(INDEX('[1]決勝ヒート - レース結果（貼付）'!$A:$Z,MATCH($B19,'[1]決勝ヒート - レース結果（貼付）'!$B:$B,0),MATCH('決勝ヒート - レース暫定結果表（印刷）'!E$11,'[1]決勝ヒート - レース結果（貼付）'!$1:$1,0)),"") -> 豊島 里空斗 | F19: =IFERROR(INDEX('[1]決勝ヒート - レース結果（貼付）'!$A:$Z,MATCH($B19,'[1]決勝ヒート - レース結果（貼付）'!$B:$B,0),MATCH('決勝ヒート - レース暫定結果表（印刷）'!F$11,'[1]決勝ヒート - レース結果（貼付）'!$1:$1,0)),"") -> KOSMIC/IAME | G19: =IFERROR(INDEX('[1]決勝ヒート - レース結果（貼付）'!$A:$Z,MATCH($B19,'[1]決勝ヒート - レース結果（貼付）'!$B:$B,0),MATCH('決勝ヒート - レース暫定結果表（印刷）'!G$11,'[1]決勝ヒート - レース結果（貼付）'!$1:$1,0)),"") -> HRTwithカローラ新茨城CSI Racing | H19: =IFERROR(INDEX('[1]決勝ヒート - レース結果（貼付）'!$A:$Z,MATCH($B19,'[1]決勝ヒート - レース結果（貼付）'!$B:$B,0),MATCH('決勝ヒート - レース暫定結果表（印刷）'!H$11,'[1]決勝ヒート - レース結果（貼付）'!$1:$1,0)),"") -> BS | I19: =IF(A19="DNS","",IF(A19="DQ","",IFERROR(INDEX('[1]決勝ヒート - レース結果（貼付）'!$A:$Z,MATCH($A19,'[1]決勝ヒート - レース結果（貼付）'!$A:$A,0),MATCH('決勝ヒート - レース暫定結果表（印刷）'!I$11,'[1]決勝ヒート - レース結果（貼付）'!$1:$1,0)),""))) -> 22 | J19: =IF(A19="DNS","ｽﾀｰﾄ出来ず",IF(A19="DQ","失 格",IFERROR(INDEX('[1]決勝ヒート - レース結果（貼付）'!$A:$Z,MATCH($B19,'[1]決勝ヒート - レース結果（貼付）'!$B:$B,0),MATCH('決勝ヒート - レース暫定結果表（印刷）'!J$11,'[1]決勝ヒート - レース結果（貼付）'!$1:$1,0)),""))) -> 0.014102222 | K19: =IF(A19="DNS","",IF(A19="DQ","",IFERROR(INDEX('[1]決勝ヒート - レース結果（貼付）'!$A:$Z,MATCH($A19,'[1]決勝ヒート - レース結果（貼付）'!$A:$A,0),MATCH('決勝ヒート - レース暫定結果表（印刷）'!K$11,'[1]決勝ヒート - レース結果（貼付）'!$1:$1,0)),""))) -> 16.606 | L19: =IF(A19="DNS","",IF(A19="DQ","",IFERROR(INDEX('[1]決勝ヒート - レース結果（貼付）'!$A:$Z,MATCH($A19,'[1]決勝ヒート - レース結果（貼付）'!$A:$A,0),MATCH('決勝ヒート - レース暫定結果表（印刷）'!L$11,'[1]決勝ヒート - レース結果（貼付）'!$1:$1,0)),""))) -> 1.918 | M19: =IF(A19="DNS","",IF(A19="DQ","",IFERROR(INDEX('[1]決勝ヒート - レース結果（貼付）'!$A:$Z,MATCH($B19,'[1]決勝ヒート - レース結果（貼付）'!$B:$B,0),MATCH('決勝ヒート - レース暫定結果表（印刷）'!M$11,'[1]決勝ヒート - レース結果（貼付）'!$1:$1,0)),""))) -> 54.5 | N19: =IF(M19<1,"",IF($N$11>M19,"R","")) | Q19: =IF(IFERROR(INDEX('[1]決勝ヒート - レース結果（貼付）'!$A:$Z,MATCH($B19,'[1]決勝ヒート - レース結果（貼付）'!$B:$B,0),MATCH('決勝ヒート - レース暫定結果表（印刷）'!Q$11,'[1]決勝ヒート - レース結果（貼付）'!$1:$1,0)),"")=0,"",IFERROR(INDEX('[1]決勝ヒート - レース結果（貼付）'!$A:$Z,MATCH($B19,'[1]決勝ヒート - レース結果（貼付）'!$B:$B,0),MATCH('決勝ヒート - レース暫定結果表（印刷）'!Q$11,'[1]決勝ヒート - レース結果（貼付）'!$1:$1,0)),"")) -> 全日本カート選手権統一規則書 第38条(25)(フロントフェアリングが正しい装着状態でない)により5秒加算した。 | R19: =IF(Q19="","",COUNTIF($Q$13:Q19,"<>"&"")) -> 7 | S19: =IFERROR(RANK(R19,$R$13:$R$48,1),"") -> 1 | T19: =IF(IFERROR(INDEX('[1]決勝ヒート - レース結果（貼付）'!$A:$Z,MATCH($A19,'[1]決勝ヒート - レース結果（貼付）'!$A:$A,0),MATCH('決勝ヒート - レース暫定結果表（印刷）'!T$11,'[1]決勝ヒート - レース結果（貼付）'!$1:$1,0)),"")=0,"",IFERROR(INDEX('[1]決勝ヒート - レース結果（貼付）'!$A:$Z,MATCH($A19,'[1]決勝ヒート - レース結果（貼付）'!$A:$A,0),MATCH('決勝ヒート - レース暫定結果表（印刷）'!T$11,'[1]決勝ヒート - レース結果（貼付）'!$1:$1,0)),"")) | U19: =IF(IFERROR(INDEX('[1]決勝ヒート - レース結果（貼付）'!$A:$Z,MATCH($B19,'[1]決勝ヒート - レース結果（貼付）'!$B:$B,0),MATCH('[1]決勝ヒート - レース正式結果表（印刷）'!U$11,'[1]決勝ヒート - レース結果（貼付）'!$1:$1,0)),"")=0,"",IFERROR(INDEX('[1]決勝ヒート - レース結果（貼付）'!$A:$Z,MATCH($B19,'[1]決勝ヒート - レース結果（貼付）'!$B:$B,0),MATCH('[1]決勝ヒート - レース正式結果表（印刷）'!U$11,'[1]決勝ヒート - レース結果（貼付）'!$1:$1,0)),"")) -> 83.383
A20: =IF(OR('[1]決勝ヒート - レース結果（貼付）'!A9="DNF",'[1]決勝ヒート - レース結果（貼付）'!A9="DNS",'[1]決勝ヒート - レース結果（貼付）'!A9="DQ"),'[1]決勝ヒート - レース結果（貼付）'!A9,IF(MAX('[1]決勝ヒート - レース結果（貼付）'!A:A)>A19,A19+1,"")) -> 8 | B20: =IFERROR(INDEX('[1]決勝ヒート - レース結果（貼付）'!A9:$Z$50,MATCH($A20,'[1]決勝ヒート - レース結果（貼付）'!A9:$A$50,0),MATCH('決勝ヒート - レース暫定結果表（印刷）'!B$11,'[1]決勝ヒート - レース結果（貼付）'!$1:$1,0)),"") -> 21 | E20: =IFERROR(INDEX('[1]決勝ヒート - レース結果（貼付）'!$A:$Z,MATCH($B20,'[1]決勝ヒート - レース結果（貼付）'!$B:$B,0),MATCH('決勝ヒート - レース暫定結果表（印刷）'!E$11,'[1]決勝ヒート - レース結果（貼付）'!$1:$1,0)),"") -> 百瀬 翔 | F20: =IFERROR(INDEX('[1]決勝ヒート - レース結果（貼付）'!$A:$Z,MATCH($B20,'[1]決勝ヒート - レース結果（貼付）'!$B:$B,0),MATCH('決勝ヒート - レース暫定結果表（印刷）'!F$11,'[1]決勝ヒート - レース結果（貼付）'!$1:$1,0)),"") -> LN KART/IAME | G20: =IFERROR(INDEX('[1]決勝ヒート - レース結果（貼付）'!$A:$Z,MATCH($B20,'[1]決勝ヒート - レース結果（貼付）'!$B:$B,0),MATCH('決勝ヒート - レース暫定結果表（印刷）'!G$11,'[1]決勝ヒート - レース結果（貼付）'!$1:$1,0)),"") -> HRS JAPAN | H20: =IFERROR(INDEX('[1]決勝ヒート - レース結果（貼付）'!$A:$Z,MATCH($B20,'[1]決勝ヒート - レース結果（貼付）'!$B:$B,0),MATCH('決勝ヒート - レース暫定結果表（印刷）'!H$11,'[1]決勝ヒート - レース結果（貼付）'!$1:$1,0)),"") -> BS | I20: =IF(A20="DNS","",IF(A20="DQ","",IFERROR(INDEX('[1]決勝ヒート - レース結果（貼付）'!$A:$Z,MATCH($A20,'[1]決勝ヒート - レース結果（貼付）'!$A:$A,0),MATCH('決勝ヒート - レース暫定結果表（印刷）'!I$11,'[1]決勝ヒート - レース結果（貼付）'!$1:$1,0)),""))) -> 22 | J20: =IF(A20="DNS","ｽﾀｰﾄ出来ず",IF(A20="DQ","失 格",IFERROR(INDEX('[1]決勝ヒート - レース結果（貼付）'!$A:$Z,MATCH($B20,'[1]決勝ヒート - レース結果（貼付）'!$B:$B,0),MATCH('決勝ヒート - レース暫定結果表（印刷）'!J$11,'[1]決勝ヒート - レース結果（貼付）'!$1:$1,0)),""))) -> 0.014110255 | K20: =IF(A20="DNS","",IF(A20="DQ","",IFERROR(INDEX('[1]決勝ヒート - レース結果（貼付）'!$A:$Z,MATCH($A20,'[1]決勝ヒート - レース結果（貼付）'!$A:$A,0),MATCH('決勝ヒート - レース暫定結果表（印刷）'!K$11,'[1]決勝ヒート - レース結果（貼付）'!$1:$1,0)),""))) -> 17.3 | L20: =IF(A20="DNS","",IF(A20="DQ","",IFERROR(INDEX('[1]決勝ヒート - レース結果（貼付）'!$A:$Z,MATCH($A20,'[1]決勝ヒート - レース結果（貼付）'!$A:$A,0),MATCH('決勝ヒート - レース暫定結果表（印刷）'!L$11,'[1]決勝ヒート - レース結果（貼付）'!$1:$1,0)),""))) -> 0.694 | M20: =IF(A20="DNS","",IF(A20="DQ","",IFERROR(INDEX('[1]決勝ヒート - レース結果（貼付）'!$A:$Z,MATCH($B20,'[1]決勝ヒート - レース結果（貼付）'!$B:$B,0),MATCH('決勝ヒート - レース暫定結果表（印刷）'!M$11,'[1]決勝ヒート - レース結果（貼付）'!$1:$1,0)),""))) -> 54.704 | N20: =IF(M20<1,"",IF($N$11>M20,"R","")) | Q20: =IF(IFERROR(INDEX('[1]決勝ヒート - レース結果（貼付）'!$A:$Z,MATCH($B20,'[1]決勝ヒート - レース結果（貼付）'!$B:$B,0),MATCH('決勝ヒート - レース暫定結果表（印刷）'!Q$11,'[1]決勝ヒート - レース結果（貼付）'!$1:$1,0)),"")=0,"",IFERROR(INDEX('[1]決勝ヒート - レース結果（貼付）'!$A:$Z,MATCH($B20,'[1]決勝ヒート - レース結果（貼付）'!$B:$B,0),MATCH('決勝ヒート - レース暫定結果表（印刷）'!Q$11,'[1]決勝ヒート - レース結果（貼付）'!$1:$1,0)),"")) -> 全日本カート選手権統一規則書 第38条(25)(フロントフェアリングが正しい装着状態でない)により5秒加算した。 | R20: =IF(Q20="","",COUNTIF($Q$13:Q20,"<>"&"")) -> 8 | S20: =IFERROR(RANK(R20,$R$13:$R$48,1),"") -> 2 | T20: =IF(IFERROR(INDEX('[1]決勝ヒート - レース結果（貼付）'!$A:$Z,MATCH($A20,'[1]決勝ヒート - レース結果（貼付）'!$A:$A,0),MATCH('決勝ヒート - レース暫定結果表（印刷）'!T$11,'[1]決勝ヒート - レース結果（貼付）'!$1:$1,0)),"")=0,"",IFERROR(INDEX('[1]決勝ヒート - レース結果（貼付）'!$A:$Z,MATCH($A20,'[1]決勝ヒート - レース結果（貼付）'!$A:$A,0),MATCH('決勝ヒート - レース暫定結果表（印刷）'!T$11,'[1]決勝ヒート - レース結果（貼付）'!$1:$1,0)),"")) | U20: =IF(IFERROR(INDEX('[1]決勝ヒート - レース結果（貼付）'!$A:$Z,MATCH($B20,'[1]決勝ヒート - レース結果（貼付）'!$B:$B,0),MATCH('[1]決勝ヒート - レース正式結果表（印刷）'!U$11,'[1]決勝ヒート - レース結果（貼付）'!$1:$1,0)),"")=0,"",IFERROR(INDEX('[1]決勝ヒート - レース結果（貼付）'!$A:$Z,MATCH($B20,'[1]決勝ヒート - レース結果（貼付）'!$B:$B,0),MATCH('[1]決勝ヒート - レース正式結果表（印刷）'!U$11,'[1]決勝ヒート - レース結果（貼付）'!$1:$1,0)),"")) -> 83.312
A21: =IF(OR('[1]決勝ヒート - レース結果（貼付）'!A10="DNF",'[1]決勝ヒート - レース結果（貼付）'!A10="DNS",'[1]決勝ヒート - レース結果（貼付）'!A10="DQ"),'[1]決勝ヒート - レース結果（貼付）'!A10,IF(MAX('[1]決勝ヒート - レース結果（貼付）'!A:A)>A20,A20+1,"")) -> 9 | B21: =IFERROR(INDEX('[1]決勝ヒート - レース結果（貼付）'!A10:$Z$50,MATCH($A21,'[1]決勝ヒート - レース結果（貼付）'!A10:$A$50,0),MATCH('決勝ヒート - レース暫定結果表（印刷）'!B$11,'[1]決勝ヒート - レース結果（貼付）'!$1:$1,0)),"") -> 30 | E21: =IFERROR(INDEX('[1]決勝ヒート - レース結果（貼付）'!$A:$Z,MATCH($B21,'[1]決勝ヒート - レース結果（貼付）'!$B:$B,0),MATCH('決勝ヒート - レース暫定結果表（印刷）'!E$11,'[1]決勝ヒート - レース結果（貼付）'!$1:$1,0)),"") -> 加納 康雅 | F21: =IFERROR(INDEX('[1]決勝ヒート - レース結果（貼付）'!$A:$Z,MATCH($B21,'[1]決勝ヒート - レース結果（貼付）'!$B:$B,0),MATCH('決勝ヒート - レース暫定結果表（印刷）'!F$11,'[1]決勝ヒート - レース結果（貼付）'!$1:$1,0)),"") -> CL/IAME | G21: =IFERROR(INDEX('[1]決勝ヒート - レース結果（貼付）'!$A:$Z,MATCH($B21,'[1]決勝ヒート - レース結果（貼付）'!$B:$B,0),MATCH('決勝ヒート - レース暫定結果表（印刷）'!G$11,'[1]決勝ヒート - レース結果（貼付）'!$1:$1,0)),"") -> TIGRE | H21: =IFERROR(INDEX('[1]決勝ヒート - レース結果（貼付）'!$A:$Z,MATCH($B21,'[1]決勝ヒート - レース結果（貼付）'!$B:$B,0),MATCH('決勝ヒート - レース暫定結果表（印刷）'!H$11,'[1]決勝ヒート - レース結果（貼付）'!$1:$1,0)),"") -> BS | I21: =IF(A21="DNS","",IF(A21="DQ","",IFERROR(INDEX('[1]決勝ヒート - レース結果（貼付）'!$A:$Z,MATCH($A21,'[1]決勝ヒート - レース結果（貼付）'!$A:$A,0),MATCH('決勝ヒート - レース暫定結果表（印刷）'!I$11,'[1]決勝ヒート - レース結果（貼付）'!$1:$1,0)),""))) -> 22 | J21: =IF(A21="DNS","ｽﾀｰﾄ出来ず",IF(A21="DQ","失 格",IFERROR(INDEX('[1]決勝ヒート - レース結果（貼付）'!$A:$Z,MATCH($B21,'[1]決勝ヒート - レース結果（貼付）'!$B:$B,0),MATCH('決勝ヒート - レース暫定結果表（印刷）'!J$11,'[1]決勝ヒート - レース結果（貼付）'!$1:$1,0)),""))) -> 0.014113287 | K21: =IF(A21="DNS","",IF(A21="DQ","",IFERROR(INDEX('[1]決勝ヒート - レース結果（貼付）'!$A:$Z,MATCH($A21,'[1]決勝ヒート - レース結果（貼付）'!$A:$A,0),MATCH('決勝ヒート - レース暫定結果表（印刷）'!K$11,'[1]決勝ヒート - レース結果（貼付）'!$1:$1,0)),""))) -> 17.562 | L21: =IF(A21="DNS","",IF(A21="DQ","",IFERROR(INDEX('[1]決勝ヒート - レース結果（貼付）'!$A:$Z,MATCH($A21,'[1]決勝ヒート - レース結果（貼付）'!$A:$A,0),MATCH('決勝ヒート - レース暫定結果表（印刷）'!L$11,'[1]決勝ヒート - レース結果（貼付）'!$1:$1,0)),""))) -> 0.262 | M21: =IF(A21="DNS","",IF(A21="DQ","",IFERROR(INDEX('[1]決勝ヒート - レース結果（貼付）'!$A:$Z,MATCH($B21,'[1]決勝ヒート - レース結果（貼付）'!$B:$B,0),MATCH('決勝ヒート - レース暫定結果表（印刷）'!M$11,'[1]決勝ヒート - レース結果（貼付）'!$1:$1,0)),""))) -> 54.677 | N21: =IF(M21<1,"",IF($N$11>M21,"R","")) | Q21: =IF(IFERROR(INDEX('[1]決勝ヒート - レース結果（貼付）'!$A:$Z,MATCH($B21,'[1]決勝ヒート - レース結果（貼付）'!$B:$B,0),MATCH('決勝ヒート - レース暫定結果表（印刷）'!Q$11,'[1]決勝ヒート - レース結果（貼付）'!$1:$1,0)),"")=0,"",IFERROR(INDEX('[1]決勝ヒート - レース結果（貼付）'!$A:$Z,MATCH($B21,'[1]決勝ヒート - レース結果（貼付）'!$B:$B,0),MATCH('決勝ヒート - レース暫定結果表（印刷）'!Q$11,'[1]決勝ヒート - レース結果（貼付）'!$1:$1,0)),"")) | R21: =IF(Q21="","",COUNTIF($Q$13:Q21,"<>"&"")) | S21: =IFERROR(RANK(R21,$R$13:$R$48,1),"") | T21: =IF(IFERROR(INDEX('[1]決勝ヒート - レース結果（貼付）'!$A:$Z,MATCH($A21,'[1]決勝ヒート - レース結果（貼付）'!$A:$A,0),MATCH('決勝ヒート - レース暫定結果表（印刷）'!T$11,'[1]決勝ヒート - レース結果（貼付）'!$1:$1,0)),"")=0,"",IFERROR(INDEX('[1]決勝ヒート - レース結果（貼付）'!$A:$Z,MATCH($A21,'[1]決勝ヒート - レース結果（貼付）'!$A:$A,0),MATCH('決勝ヒート - レース暫定結果表（印刷）'!T$11,'[1]決勝ヒート - レース結果（貼付）'!$1:$1,0)),"")) | U21: =IF(IFERROR(INDEX('[1]決勝ヒート - レース結果（貼付）'!$A:$Z,MATCH($B21,'[1]決勝ヒート - レース結果（貼付）'!$B:$B,0),MATCH('[1]決勝ヒート - レース正式結果表（印刷）'!U$11,'[1]決勝ヒート - レース結果（貼付）'!$1:$1,0)),"")=0,"",IFERROR(INDEX('[1]決勝ヒート - レース結果（貼付）'!$A:$Z,MATCH($B21,'[1]決勝ヒート - レース結果（貼付）'!$B:$B,0),MATCH('[1]決勝ヒート - レース正式結果表（印刷）'!U$11,'[1]決勝ヒート - レース結果（貼付）'!$1:$1,0)),"")) -> 83.504
A22: =IF(OR('[1]決勝ヒート - レース結果（貼付）'!A11="DNF",'[1]決勝ヒート - レース結果（貼付）'!A11="DNS",'[1]決勝ヒート - レース結果（貼付）'!A11="DQ"),'[1]決勝ヒート - レース結果（貼付）'!A11,IF(MAX('[1]決勝ヒート - レース結果（貼付）'!A:A)>A21,A21+1,"")) -> 10 | B22: =IFERROR(INDEX('[1]決勝ヒート - レース結果（貼付）'!A11:$Z$50,MATCH($A22,'[1]決勝ヒート - レース結果（貼付）'!A11:$A$50,0),MATCH('決勝ヒート - レース暫定結果表（印刷）'!B$11,'[1]決勝ヒート - レース結果（貼付）'!$1:$1,0)),"") -> 39 | E22: =IFERROR(INDEX('[1]決勝ヒート - レース結果（貼付）'!$A:$Z,MATCH($B22,'[1]決勝ヒート - レース結果（貼付）'!$B:$B,0),MATCH('決勝ヒート - レース暫定結果表（印刷）'!E$11,'[1]決勝ヒート - レース結果（貼付）'!$1:$1,0)),"") -> 塚本 凛世 | F22: =IFERROR(INDEX('[1]決勝ヒート - レース結果（貼付）'!$A:$Z,MATCH($B22,'[1]決勝ヒート - レース結果（貼付）'!$B:$B,0),MATCH('決勝ヒート - レース暫定結果表（印刷）'!F$11,'[1]決勝ヒート - レース結果（貼付）'!$1:$1,0)),"") -> TONY KART/IAME | G22: =IFERROR(INDEX('[1]決勝ヒート - レース結果（貼付）'!$A:$Z,MATCH($B22,'[1]決勝ヒート - レース結果（貼付）'!$B:$B,0),MATCH('決勝ヒート - レース暫定結果表（印刷）'!G$11,'[1]決勝ヒート - レース結果（貼付）'!$1:$1,0)),"") -> K.SPEED WIN | H22: =IFERROR(INDEX('[1]決勝ヒート - レース結果（貼付）'!$A:$Z,MATCH($B22,'[1]決勝ヒート - レース結果（貼付）'!$B:$B,0),MATCH('決勝ヒート - レース暫定結果表（印刷）'!H$11,'[1]決勝ヒート - レース結果（貼付）'!$1:$1,0)),"") -> BS | I22: =IF(A22="DNS","",IF(A22="DQ","",IFERROR(INDEX('[1]決勝ヒート - レース結果（貼付）'!$A:$Z,MATCH($A22,'[1]決勝ヒート - レース結果（貼付）'!$A:$A,0),MATCH('決勝ヒート - レース暫定結果表（印刷）'!I$11,'[1]決勝ヒート - レース結果（貼付）'!$1:$1,0)),""))) -> 22 | J22: =IF(A22="DNS","ｽﾀｰﾄ出来ず",IF(A22="DQ","失 格",IFERROR(INDEX('[1]決勝ヒート - レース結果（貼付）'!$A:$Z,MATCH($B22,'[1]決勝ヒート - レース結果（貼付）'!$B:$B,0),MATCH('決勝ヒート - レース暫定結果表（印刷）'!J$11,'[1]決勝ヒート - レース結果（貼付）'!$1:$1,0)),""))) -> 0.014115637 | K22: =IF(A22="DNS","",IF(A22="DQ","",IFERROR(INDEX('[1]決勝ヒート - レース結果（貼付）'!$A:$Z,MATCH($A22,'[1]決勝ヒート - レース結果（貼付）'!$A:$A,0),MATCH('決勝ヒート - レース暫定結果表（印刷）'!K$11,'[1]決勝ヒート - レース結果（貼付）'!$1:$1,0)),""))) -> 17.765 | L22: =IF(A22="DNS","",IF(A22="DQ","",IFERROR(INDEX('[1]決勝ヒート - レース結果（貼付）'!$A:$Z,MATCH($A22,'[1]決勝ヒート - レース結果（貼付）'!$A:$A,0),MATCH('決勝ヒート - レース暫定結果表（印刷）'!L$11,'[1]決勝ヒート - レース結果（貼付）'!$1:$1,0)),""))) -> 0.203 | M22: =IF(A22="DNS","",IF(A22="DQ","",IFERROR(INDEX('[1]決勝ヒート - レース結果（貼付）'!$A:$Z,MATCH($B22,'[1]決勝ヒート - レース結果（貼付）'!$B:$B,0),MATCH('決勝ヒート - レース暫定結果表（印刷）'!M$11,'[1]決勝ヒート - レース結果（貼付）'!$1:$1,0)),""))) -> 54.572 | N22: =IF(M22<1,"",IF($N$11>M22,"R","")) | Q22: =IF(IFERROR(INDEX('[1]決勝ヒート - レース結果（貼付）'!$A:$Z,MATCH($B22,'[1]決勝ヒート - レース結果（貼付）'!$B:$B,0),MATCH('決勝ヒート - レース暫定結果表（印刷）'!Q$11,'[1]決勝ヒート - レース結果（貼付）'!$1:$1,0)),"")=0,"",IFERROR(INDEX('[1]決勝ヒート - レース結果（貼付）'!$A:$Z,MATCH($B22,'[1]決勝ヒート - レース結果（貼付）'!$B:$B,0),MATCH('決勝ヒート - レース暫定結果表（印刷）'!Q$11,'[1]決勝ヒート - レース結果（貼付）'!$1:$1,0)),"")) -> 全日本カート選手権統一規則書 第38条(25)(フロントフェアリングが正しい装着状態でない)により5秒加算した。 | R22: =IF(Q22="","",COUNTIF($Q$13:Q22,"<>"&"")) -> 10 | S22: =IFERROR(RANK(R22,$R$13:$R$48,1),"") -> 3 | T22: =IF(IFERROR(INDEX('[1]決勝ヒート - レース結果（貼付）'!$A:$Z,MATCH($A22,'[1]決勝ヒート - レース結果（貼付）'!$A:$A,0),MATCH('決勝ヒート - レース暫定結果表（印刷）'!T$11,'[1]決勝ヒート - レース結果（貼付）'!$1:$1,0)),"")=0,"",IFERROR(INDEX('[1]決勝ヒート - レース結果（貼付）'!$A:$Z,MATCH($A22,'[1]決勝ヒート - レース結果（貼付）'!$A:$A,0),MATCH('決勝ヒート - レース暫定結果表（印刷）'!T$11,'[1]決勝ヒート - レース結果（貼付）'!$1:$1,0)),"")) | U22: =IF(IFERROR(INDEX('[1]決勝ヒート - レース結果（貼付）'!$A:$Z,MATCH($B22,'[1]決勝ヒート - レース結果（貼付）'!$B:$B,0),MATCH('[1]決勝ヒート - レース正式結果表（印刷）'!U$11,'[1]決勝ヒート - レース結果（貼付）'!$1:$1,0)),"")=0,"",IFERROR(INDEX('[1]決勝ヒート - レース結果（貼付）'!$A:$Z,MATCH($B22,'[1]決勝ヒート - レース結果（貼付）'!$B:$B,0),MATCH('[1]決勝ヒート - レース正式結果表（印刷）'!U$11,'[1]決勝ヒート - レース結果（貼付）'!$1:$1,0)),"")) -> 83.553
A23: =IF(OR('[1]決勝ヒート - レース結果（貼付）'!A12="DNF",'[1]決勝ヒート - レース結果（貼付）'!A12="DNS",'[1]決勝ヒート - レース結果（貼付）'!A12="DQ"),'[1]決勝ヒート - レース結果（貼付）'!A12,IF(MAX('[1]決勝ヒート - レース結果（貼付）'!A:A)>A22,A22+1,"")) -> 11 | B23: =IFERROR(INDEX('[1]決勝ヒート - レース結果（貼付）'!A12:$Z$50,MATCH($A23,'[1]決勝ヒート - レース結果（貼付）'!A12:$A$50,0),MATCH('決勝ヒート - レース暫定結果表（印刷）'!B$11,'[1]決勝ヒート - レース結果（貼付）'!$1:$1,0)),"") -> 15 | E23: =IFERROR(INDEX('[1]決勝ヒート - レース結果（貼付）'!$A:$Z,MATCH($B23,'[1]決勝ヒート - レース結果（貼付）'!$B:$B,0),MATCH('決勝ヒート - レース暫定結果表（印刷）'!E$11,'[1]決勝ヒート - レース結果（貼付）'!$1:$1,0)),"") -> 石田 瑞季 | F23: =IFERROR(INDEX('[1]決勝ヒート - レース結果（貼付）'!$A:$Z,MATCH($B23,'[1]決勝ヒート - レース結果（貼付）'!$B:$B,0),MATCH('決勝ヒート - レース暫定結果表（印刷）'!F$11,'[1]決勝ヒート - レース結果（貼付）'!$1:$1,0)),"") -> KOSMIC/IAME | G23: =IFERROR(INDEX('[1]決勝ヒート - レース結果（貼付）'!$A:$Z,MATCH($B23,'[1]決勝ヒート - レース結果（貼付）'!$B:$B,0),MATCH('決勝ヒート - レース暫定結果表（印刷）'!G$11,'[1]決勝ヒート - レース結果（貼付）'!$1:$1,0)),"") -> BRAVO-RACING | H23: =IFERROR(INDEX('[1]決勝ヒート - レース結果（貼付）'!$A:$Z,MATCH($B23,'[1]決勝ヒート - レース結果（貼付）'!$B:$B,0),MATCH('決勝ヒート - レース暫定結果表（印刷）'!H$11,'[1]決勝ヒート - レース結果（貼付）'!$1:$1,0)),"") -> BS | I23: =IF(A23="DNS","",IF(A23="DQ","",IFERROR(INDEX('[1]決勝ヒート - レース結果（貼付）'!$A:$Z,MATCH($A23,'[1]決勝ヒート - レース結果（貼付）'!$A:$A,0),MATCH('決勝ヒート - レース暫定結果表（印刷）'!I$11,'[1]決勝ヒート - レース結果（貼付）'!$1:$1,0)),""))) -> 22 | J23: =IF(A23="DNS","ｽﾀｰﾄ出来ず",IF(A23="DQ","失 格",IFERROR(INDEX('[1]決勝ヒート - レース結果（貼付）'!$A:$Z,MATCH($B23,'[1]決勝ヒート - レース結果（貼付）'!$B:$B,0),MATCH('決勝ヒート - レース暫定結果表（印刷）'!J$11,'[1]決勝ヒート - レース結果（貼付）'!$1:$1,0)),""))) -> 0.014118125 | K23: =IF(A23="DNS","",IF(A23="DQ","",IFERROR(INDEX('[1]決勝ヒート - レース結果（貼付）'!$A:$Z,MATCH($A23,'[1]決勝ヒート - レース結果（貼付）'!$A:$A,0),MATCH('決勝ヒート - レース暫定結果表（印刷）'!K$11,'[1]決勝ヒート - レース結果（貼付）'!$1:$1,0)),""))) -> 17.98 | L23: =IF(A23="DNS","",IF(A23="DQ","",IFERROR(INDEX('[1]決勝ヒート - レース結果（貼付）'!$A:$Z,MATCH($A23,'[1]決勝ヒート - レース結果（貼付）'!$A:$A,0),MATCH('決勝ヒート - レース暫定結果表（印刷）'!L$11,'[1]決勝ヒート - レース結果（貼付）'!$1:$1,0)),""))) -> 0.215 | M23: =IF(A23="DNS","",IF(A23="DQ","",IFERROR(INDEX('[1]決勝ヒート - レース結果（貼付）'!$A:$Z,MATCH($B23,'[1]決勝ヒート - レース結果（貼付）'!$B:$B,0),MATCH('決勝ヒート - レース暫定結果表（印刷）'!M$11,'[1]決勝ヒート - レース結果（貼付）'!$1:$1,0)),""))) -> 54.367 | N23: =IF(M23<1,"",IF($N$11>M23,"R","")) | Q23: =IF(IFERROR(INDEX('[1]決勝ヒート - レース結果（貼付）'!$A:$Z,MATCH($B23,'[1]決勝ヒート - レース結果（貼付）'!$B:$B,0),MATCH('決勝ヒート - レース暫定結果表（印刷）'!Q$11,'[1]決勝ヒート - レース結果（貼付）'!$1:$1,0)),"")=0,"",IFERROR(INDEX('[1]決勝ヒート - レース結果（貼付）'!$A:$Z,MATCH($B23,'[1]決勝ヒート - レース結果（貼付）'!$B:$B,0),MATCH('決勝ヒート - レース暫定結果表（印刷）'!Q$11,'[1]決勝ヒート - レース結果（貼付）'!$1:$1,0)),"")) | R23: =IF(Q23="","",COUNTIF($Q$13:Q23,"<>"&"")) | S23: =IFERROR(RANK(R23,$R$13:$R$48,1),"") | T23: =IF(IFERROR(INDEX('[1]決勝ヒート - レース結果（貼付）'!$A:$Z,MATCH($A23,'[1]決勝ヒート - レース結果（貼付）'!$A:$A,0),MATCH('決勝ヒート - レース暫定結果表（印刷）'!T$11,'[1]決勝ヒート - レース結果（貼付）'!$1:$1,0)),"")=0,"",IFERROR(INDEX('[1]決勝ヒート - レース結果（貼付）'!$A:$Z,MATCH($A23,'[1]決勝ヒート - レース結果（貼付）'!$A:$A,0),MATCH('決勝ヒート - レース暫定結果表（印刷）'!T$11,'[1]決勝ヒート - レース結果（貼付）'!$1:$1,0)),"")) | U23: =IF(IFERROR(INDEX('[1]決勝ヒート - レース結果（貼付）'!$A:$Z,MATCH($B23,'[1]決勝ヒート - レース結果（貼付）'!$B:$B,0),MATCH('[1]決勝ヒート - レース正式結果表（印刷）'!U$11,'[1]決勝ヒート - レース結果（貼付）'!$1:$1,0)),"")=0,"",IFERROR(INDEX('[1]決勝ヒート - レース結果（貼付）'!$A:$Z,MATCH($B23,'[1]決勝ヒート - レース結果（貼付）'!$B:$B,0),MATCH('[1]決勝ヒート - レース正式結果表（印刷）'!U$11,'[1]決勝ヒート - レース結果（貼付）'!$1:$1,0)),"")) -> 83.675
A24: =IF(OR('[1]決勝ヒート - レース結果（貼付）'!A13="DNF",'[1]決勝ヒート - レース結果（貼付）'!A13="DNS",'[1]決勝ヒート - レース結果（貼付）'!A13="DQ"),'[1]決勝ヒート - レース結果（貼付）'!A13,IF(MAX('[1]決勝ヒート - レース結果（貼付）'!A:A)>A23,A23+1,"")) -> 12 | B24: =IFERROR(INDEX('[1]決勝ヒート - レース結果（貼付）'!A13:$Z$50,MATCH($A24,'[1]決勝ヒート - レース結果（貼付）'!A13:$A$50,0),MATCH('決勝ヒート - レース暫定結果表（印刷）'!B$11,'[1]決勝ヒート - レース結果（貼付）'!$1:$1,0)),"") -> 72 | E24: =IFERROR(INDEX('[1]決勝ヒート - レース結果（貼付）'!$A:$Z,MATCH($B24,'[1]決勝ヒート - レース結果（貼付）'!$B:$B,0),MATCH('決勝ヒート - レース暫定結果表（印刷）'!E$11,'[1]決勝ヒート - レース結果（貼付）'!$1:$1,0)),"") -> 松井 海翔 | F24: =IFERROR(INDEX('[1]決勝ヒート - レース結果（貼付）'!$A:$Z,MATCH($B24,'[1]決勝ヒート - レース結果（貼付）'!$B:$B,0),MATCH('決勝ヒート - レース暫定結果表（印刷）'!F$11,'[1]決勝ヒート - レース結果（貼付）'!$1:$1,0)),"") -> KOSMIC/IAME | G24: =IFERROR(INDEX('[1]決勝ヒート - レース結果（貼付）'!$A:$Z,MATCH($B24,'[1]決勝ヒート - レース結果（貼付）'!$B:$B,0),MATCH('決勝ヒート - レース暫定結果表（印刷）'!G$11,'[1]決勝ヒート - レース結果（貼付）'!$1:$1,0)),"") -> HKC | H24: =IFERROR(INDEX('[1]決勝ヒート - レース結果（貼付）'!$A:$Z,MATCH($B24,'[1]決勝ヒート - レース結果（貼付）'!$B:$B,0),MATCH('決勝ヒート - レース暫定結果表（印刷）'!H$11,'[1]決勝ヒート - レース結果（貼付）'!$1:$1,0)),"") -> BS | I24: =IF(A24="DNS","",IF(A24="DQ","",IFERROR(INDEX('[1]決勝ヒート - レース結果（貼付）'!$A:$Z,MATCH($A24,'[1]決勝ヒート - レース結果（貼付）'!$A:$A,0),MATCH('決勝ヒート - レース暫定結果表（印刷）'!I$11,'[1]決勝ヒート - レース結果（貼付）'!$1:$1,0)),""))) -> 22 | J24: =IF(A24="DNS","ｽﾀｰﾄ出来ず",IF(A24="DQ","失 格",IFERROR(INDEX('[1]決勝ヒート - レース結果（貼付）'!$A:$Z,MATCH($B24,'[1]決勝ヒート - レース結果（貼付）'!$B:$B,0),MATCH('決勝ヒート - レース暫定結果表（印刷）'!J$11,'[1]決勝ヒート - レース結果（貼付）'!$1:$1,0)),""))) -> 0.014124687 | K24: =IF(A24="DNS","",IF(A24="DQ","",IFERROR(INDEX('[1]決勝ヒート - レース結果（貼付）'!$A:$Z,MATCH($A24,'[1]決勝ヒート - レース結果（貼付）'!$A:$A,0),MATCH('決勝ヒート - レース暫定結果表（印刷）'!K$11,'[1]決勝ヒート - レース結果（貼付）'!$1:$1,0)),""))) -> 18.547 | L24: =IF(A24="DNS","",IF(A24="DQ","",IFERROR(INDEX('[1]決勝ヒート - レース結果（貼付）'!$A:$Z,MATCH($A24,'[1]決勝ヒート - レース結果（貼付）'!$A:$A,0),MATCH('決勝ヒート - レース暫定結果表（印刷）'!L$11,'[1]決勝ヒート - レース結果（貼付）'!$1:$1,0)),""))) -> 0.567 | M24: =IF(A24="DNS","",IF(A24="DQ","",IFERROR(INDEX('[1]決勝ヒート - レース結果（貼付）'!$A:$Z,MATCH($B24,'[1]決勝ヒート - レース結果（貼付）'!$B:$B,0),MATCH('決勝ヒート - レース暫定結果表（印刷）'!M$11,'[1]決勝ヒート - レース結果（貼付）'!$1:$1,0)),""))) -> 54.682 | N24: =IF(M24<1,"",IF($N$11>M24,"R","")) | Q24: =IF(IFERROR(INDEX('[1]決勝ヒート - レース結果（貼付）'!$A:$Z,MATCH($B24,'[1]決勝ヒート - レース結果（貼付）'!$B:$B,0),MATCH('決勝ヒート - レース暫定結果表（印刷）'!Q$11,'[1]決勝ヒート - レース結果（貼付）'!$1:$1,0)),"")=0,"",IFERROR(INDEX('[1]決勝ヒート - レース結果（貼付）'!$A:$Z,MATCH($B24,'[1]決勝ヒート - レース結果（貼付）'!$B:$B,0),MATCH('決勝ヒート - レース暫定結果表（印刷）'!Q$11,'[1]決勝ヒート - レース結果（貼付）'!$1:$1,0)),"")) | R24: =IF(Q24="","",COUNTIF($Q$13:Q24,"<>"&"")) | S24: =IFERROR(RANK(R24,$R$13:$R$48,1),"") | T24: =IF(IFERROR(INDEX('[1]決勝ヒート - レース結果（貼付）'!$A:$Z,MATCH($A24,'[1]決勝ヒート - レース結果（貼付）'!$A:$A,0),MATCH('決勝ヒート - レース暫定結果表（印刷）'!T$11,'[1]決勝ヒート - レース結果（貼付）'!$1:$1,0)),"")=0,"",IFERROR(INDEX('[1]決勝ヒート - レース結果（貼付）'!$A:$Z,MATCH($A24,'[1]決勝ヒート - レース結果（貼付）'!$A:$A,0),MATCH('決勝ヒート - レース暫定結果表（印刷）'!T$11,'[1]決勝ヒート - レース結果（貼付）'!$1:$1,0)),"")) | U24: =IF(IFERROR(INDEX('[1]決勝ヒート - レース結果（貼付）'!$A:$Z,MATCH($B24,'[1]決勝ヒート - レース結果（貼付）'!$B:$B,0),MATCH('[1]決勝ヒート - レース正式結果表（印刷）'!U$11,'[1]決勝ヒート - レース結果（貼付）'!$1:$1,0)),"")=0,"",IFERROR(INDEX('[1]決勝ヒート - レース結果（貼付）'!$A:$Z,MATCH($B24,'[1]決勝ヒート - レース結果（貼付）'!$B:$B,0),MATCH('[1]決勝ヒート - レース正式結果表（印刷）'!U$11,'[1]決勝ヒート - レース結果（貼付）'!$1:$1,0)),"")) -> 83.223
A25: =IF(OR('[1]決勝ヒート - レース結果（貼付）'!A14="DNF",'[1]決勝ヒート - レース結果（貼付）'!A14="DNS",'[1]決勝ヒート - レース結果（貼付）'!A14="DQ"),'[1]決勝ヒート - レース結果（貼付）'!A14,IF(MAX('[1]決勝ヒート - レース結果（貼付）'!A:A)>A24,A24+1,"")) -> 13 | B25: =IFERROR(INDEX('[1]決勝ヒート - レース結果（貼付）'!A14:$Z$50,MATCH($A25,'[1]決勝ヒート - レース結果（貼付）'!A14:$A$50,0),MATCH('決勝ヒート - レース暫定結果表（印刷）'!B$11,'[1]決勝ヒート - レース結果（貼付）'!$1:$1,0)),"") -> 58 | E25: =IFERROR(INDEX('[1]決勝ヒート - レース結果（貼付）'!$A:$Z,MATCH($B25,'[1]決勝ヒート - レース結果（貼付）'!$B:$B,0),MATCH('決勝ヒート - レース暫定結果表（印刷）'!E$11,'[1]決勝ヒート - レース結果（貼付）'!$1:$1,0)),"") -> 鈴木 悠太 | F25: =IFERROR(INDEX('[1]決勝ヒート - レース結果（貼付）'!$A:$Z,MATCH($B25,'[1]決勝ヒート - レース結果（貼付）'!$B:$B,0),MATCH('決勝ヒート - レース暫定結果表（印刷）'!F$11,'[1]決勝ヒート - レース結果（貼付）'!$1:$1,0)),"") -> EXPRIT/IAME | G25: =IFERROR(INDEX('[1]決勝ヒート - レース結果（貼付）'!$A:$Z,MATCH($B25,'[1]決勝ヒート - レース結果（貼付）'!$B:$B,0),MATCH('決勝ヒート - レース暫定結果表（印刷）'!G$11,'[1]決勝ヒート - レース結果（貼付）'!$1:$1,0)),"") -> RT WORLD | H25: =IFERROR(INDEX('[1]決勝ヒート - レース結果（貼付）'!$A:$Z,MATCH($B25,'[1]決勝ヒート - レース結果（貼付）'!$B:$B,0),MATCH('決勝ヒート - レース暫定結果表（印刷）'!H$11,'[1]決勝ヒート - レース結果（貼付）'!$1:$1,0)),"") -> BS | I25: =IF(A25="DNS","",IF(A25="DQ","",IFERROR(INDEX('[1]決勝ヒート - レース結果（貼付）'!$A:$Z,MATCH($A25,'[1]決勝ヒート - レース結果（貼付）'!$A:$A,0),MATCH('決勝ヒート - レース暫定結果表（印刷）'!I$11,'[1]決勝ヒート - レース結果（貼付）'!$1:$1,0)),""))) -> 22 | J25: =IF(A25="DNS","ｽﾀｰﾄ出来ず",IF(A25="DQ","失 格",IFERROR(INDEX('[1]決勝ヒート - レース結果（貼付）'!$A:$Z,MATCH($B25,'[1]決勝ヒート - レース結果（貼付）'!$B:$B,0),MATCH('決勝ヒート - レース暫定結果表（印刷）'!J$11,'[1]決勝ヒート - レース結果（貼付）'!$1:$1,0)),""))) -> 0.014133252 | K25: =IF(A25="DNS","",IF(A25="DQ","",IFERROR(INDEX('[1]決勝ヒート - レース結果（貼付）'!$A:$Z,MATCH($A25,'[1]決勝ヒート - レース結果（貼付）'!$A:$A,0),MATCH('決勝ヒート - レース暫定結果表（印刷）'!K$11,'[1]決勝ヒート - レース結果（貼付）'!$1:$1,0)),""))) -> 19.287 | L25: =IF(A25="DNS","",IF(A25="DQ","",IFERROR(INDEX('[1]決勝ヒート - レース結果（貼付）'!$A:$Z,MATCH($A25,'[1]決勝ヒート - レース結果（貼付）'!$A:$A,0),MATCH('決勝ヒート - レース暫定結果表（印刷）'!L$11,'[1]決勝ヒート - レース結果（貼付）'!$1:$1,0)),""))) -> 0.74 | M25: =IF(A25="DNS","",IF(A25="DQ","",IFERROR(INDEX('[1]決勝ヒート - レース結果（貼付）'!$A:$Z,MATCH($B25,'[1]決勝ヒート - レース結果（貼付）'!$B:$B,0),MATCH('決勝ヒート - レース暫定結果表（印刷）'!M$11,'[1]決勝ヒート - レース結果（貼付）'!$1:$1,0)),""))) -> 54.461 | N25: =IF(M25<1,"",IF($N$11>M25,"R","")) | Q25: =IF(IFERROR(INDEX('[1]決勝ヒート - レース結果（貼付）'!$A:$Z,MATCH($B25,'[1]決勝ヒート - レース結果（貼付）'!$B:$B,0),MATCH('決勝ヒート - レース暫定結果表（印刷）'!Q$11,'[1]決勝ヒート - レース結果（貼付）'!$1:$1,0)),"")=0,"",IFERROR(INDEX('[1]決勝ヒート - レース結果（貼付）'!$A:$Z,MATCH($B25,'[1]決勝ヒート - レース結果（貼付）'!$B:$B,0),MATCH('決勝ヒート - レース暫定結果表（印刷）'!Q$11,'[1]決勝ヒート - レース結果（貼付）'!$1:$1,0)),"")) -> 全日本カート選手権統一規則書 第38条(25)(フロントフェアリングが正しい装着状態でない)により5秒加算した。 | R25: =IF(Q25="","",COUNTIF($Q$13:Q25,"<>"&"")) -> 13 | S25: =IFERROR(RANK(R25,$R$13:$R$48,1),"") -> 4 | T25: =IF(IFERROR(INDEX('[1]決勝ヒート - レース結果（貼付）'!$A:$Z,MATCH($A25,'[1]決勝ヒート - レース結果（貼付）'!$A:$A,0),MATCH('決勝ヒート - レース暫定結果表（印刷）'!T$11,'[1]決勝ヒート - レース結果（貼付）'!$1:$1,0)),"")=0,"",IFERROR(INDEX('[1]決勝ヒート - レース結果（貼付）'!$A:$Z,MATCH($A25,'[1]決勝ヒート - レース結果（貼付）'!$A:$A,0),MATCH('決勝ヒート - レース暫定結果表（印刷）'!T$11,'[1]決勝ヒート - レース結果（貼付）'!$1:$1,0)),"")) | U25: =IF(IFERROR(INDEX('[1]決勝ヒート - レース結果（貼付）'!$A:$Z,MATCH($B25,'[1]決勝ヒート - レース結果（貼付）'!$B:$B,0),MATCH('[1]決勝ヒート - レース正式結果表（印刷）'!U$11,'[1]決勝ヒート - レース結果（貼付）'!$1:$1,0)),"")=0,"",IFERROR(INDEX('[1]決勝ヒート - レース結果（貼付）'!$A:$Z,MATCH($B25,'[1]決勝ヒート - レース結果（貼付）'!$B:$B,0),MATCH('[1]決勝ヒート - レース正式結果表（印刷）'!U$11,'[1]決勝ヒート - レース結果（貼付）'!$1:$1,0)),"")) -> 83.698
... A33: =IF(OR('[1]決勝ヒート - レース結果（貼付）'!A22="DNF",'[1]決勝ヒート - レース結果（貼付）'!A22="DNS",'[1]決勝ヒート - レース結果（貼付）'!A22="DQ"),'[1]決勝ヒート - レース結果（貼付）'!A22,IF(MAX('[1]決勝ヒート - レース結果（貼付）'!A:A)>A32,A32+1,"")) -> 21 | B33: =IFERROR(INDEX('[1]決勝ヒート - レース結果（貼付）'!A22:$Z$50,MATCH($A33,'[1]決勝ヒート - レース結果（貼付）'!A22:$A$50,0),MATCH('決勝ヒート - レース暫定結果表（印刷）'!B$11,'[1]決勝ヒート - レース結果（貼付）'!$1:$1,0)),"") -> 35 | E33: =IFERROR(INDEX('[1]決勝ヒート - レース結果（貼付）'!$A:$Z,MATCH($B33,'[1]決勝ヒート - レース結果（貼付）'!$B:$B,0),MATCH('決勝ヒート - レース暫定結果表（印刷）'!E$11,'[1]決勝ヒート - レース結果（貼付）'!$1:$1,0)),"") -> 冨田 真弥 | F33: =IFERROR(INDEX('[1]決勝ヒート - レース結果（貼付）'!$A:$Z,MATCH($B33,'[1]決勝ヒート - レース結果（貼付）'!$B:$B,0),MATCH('決勝ヒート - レース暫定結果表（印刷）'!F$11,'[1]決勝ヒート - レース結果（貼付）'!$1:$1,0)),"") -> Drago CORSE/IAME | G33: =IFERROR(INDEX('[1]決勝ヒート - レース結果（貼付）'!$A:$Z,MATCH($B33,'[1]決勝ヒート - レース結果（貼付）'!$B:$B,0),MATCH('決勝ヒート - レース暫定結果表（印刷）'!G$11,'[1]決勝ヒート - レース結果（貼付）'!$1:$1,0)),"") -> EHRE MOTOR SPORTS | H33: =IFERROR(INDEX('[1]決勝ヒート - レース結果（貼付）'!$A:$Z,MATCH($B33,'[1]決勝ヒート - レース結果（貼付）'!$B:$B,0),MATCH('決勝ヒート - レース暫定結果表（印刷）'!H$11,'[1]決勝ヒート - レース結果（貼付）'!$1:$1,0)),"") -> BS | I33: =IF(A33="DNS","",IF(A33="DQ","",IFERROR(INDEX('[1]決勝ヒート - レース結果（貼付）'!$A:$Z,MATCH($A33,'[1]決勝ヒート - レース結果（貼付）'!$A:$A,0),MATCH('決勝ヒート - レース暫定結果表（印刷）'!I$11,'[1]決勝ヒート - レース結果（貼付）'!$1:$1,0)),""))) -> 22 | J33: =IF(A33="DNS","ｽﾀｰﾄ出来ず",IF(A33="DQ","失 格",IFERROR(INDEX('[1]決勝ヒート - レース結果（貼付）'!$A:$Z,MATCH($B33,'[1]決勝ヒート - レース結果（貼付）'!$B:$B,0),MATCH('決勝ヒート - レース暫定結果表（印刷）'!J$11,'[1]決勝ヒート - レース結果（貼付）'!$1:$1,0)),""))) -> 0.014563403 | K33: =IF(A33="DNS","",IF(A33="DQ","",IFERROR(INDEX('[1]決勝ヒート - レース結果（貼付）'!$A:$Z,MATCH($A33,'[1]決勝ヒート - レース結果（貼付）'!$A:$A,0),MATCH('決勝ヒート - レース暫定結果表（印刷）'!K$11,'[1]決勝ヒート - レース結果（貼付）'!$1:$1,0)),""))) -> 56.452 | L33: =IF(A33="DNS","",IF(A33="DQ","",IFERROR(INDEX('[1]決勝ヒート - レース結果（貼付）'!$A:$Z,MATCH($A33,'[1]決勝ヒート - レース結果（貼付）'!$A:$A,0),MATCH('決勝ヒート - レース暫定結果表（印刷）'!L$11,'[1]決勝ヒート - レース結果（貼付）'!$1:$1,0)),""))) -> 7.338 | M33: =IF(A33="DNS","",IF(A33="DQ","",IFERROR(INDEX('[1]決勝ヒート - レース結果（貼付）'!$A:$Z,MATCH($B33,'[1]決勝ヒート - レース結果（貼付）'!$B:$B,0),MATCH('決勝ヒート - レース暫定結果表（印刷）'!M$11,'[1]決勝ヒート - レース結果（貼付）'!$1:$1,0)),""))) -> 55.509 | N33: =IF(M33<1,"",IF($N$11>M33,"R","")) | Q33: =IF(IFERROR(INDEX('[1]決勝ヒート - レース結果（貼付）'!$A:$Z,MATCH($B33,'[1]決勝ヒート - レース結果（貼付）'!$B:$B,0),MATCH('決勝ヒート - レース暫定結果表（印刷）'!Q$11,'[1]決勝ヒート - レース結果（貼付）'!$1:$1,0)),"")=0,"",IFERROR(INDEX('[1]決勝ヒート - レース結果（貼付）'!$A:$Z,MATCH($B33,'[1]決勝ヒート - レース結果（貼付）'!$B:$B,0),MATCH('決勝ヒート - レース暫定結果表（印刷）'!Q$11,'[1]決勝ヒート - レース結果（貼付）'!$1:$1,0)),"")) | R33: =IF(Q33="","",COUNTIF($Q$13:Q33,"<>"&"")) | S33: =IFERROR(RANK(R33,$R$13:$R$48,1),"") | T33: =IF(IFERROR(INDEX('[1]決勝ヒート - レース結果（貼付）'!$A:$Z,MATCH($A33,'[1]決勝ヒート - レース結果（貼付）'!$A:$A,0),MATCH('決勝ヒート - レース暫定結果表（印刷）'!T$11,'[1]決勝ヒート - レース結果（貼付）'!$1:$1,0)),"")=0,"",IFERROR(INDEX('[1]決勝ヒート - レース結果（貼付）'!$A:$Z,MATCH($A33,'[1]決勝ヒート - レース結果（貼付）'!$A:$A,0),MATCH('決勝ヒート - レース暫定結果表（印刷）'!T$11,'[1]決勝ヒート - レース結果（貼付）'!$1:$1,0)),"")) | U33: =IF(IFERROR(INDEX('[1]決勝ヒート - レース結果（貼付）'!$A:$Z,MATCH($B33,'[1]決勝ヒート - レース結果（貼付）'!$B:$B,0),MATCH('[1]決勝ヒート - レース正式結果表（印刷）'!U$11,'[1]決勝ヒート - レース結果（貼付）'!$1:$1,0)),"")=0,"",IFERROR(INDEX('[1]決勝ヒート - レース結果（貼付）'!$A:$Z,MATCH($B33,'[1]決勝ヒート - レース結果（貼付）'!$B:$B,0),MATCH('[1]決勝ヒート - レース正式結果表（印刷）'!U$11,'[1]決勝ヒート - レース結果（貼付）'!$1:$1,0)),"")) -> 81.976
A34: 以下ﾌｨﾆｯｼｭﾗｲﾝ不通過：
A35: =IF(OR('[1]決勝ヒート - レース結果（貼付）'!A23="DNF",'[1]決勝ヒート - レース結果（貼付）'!A23="DNS",'[1]決勝ヒート - レース結果（貼付）'!A23="DQ"),'[1]決勝ヒート - レース結果（貼付）'!A23,IF(MAX('[1]決勝ヒート - レース結果（貼付）'!A:A)>A33,A33+1,"")) -> 22 | B35: =IFERROR(INDEX('[1]決勝ヒート - レース結果（貼付）'!A23:$Z$50,MATCH($A35,'[1]決勝ヒート - レース結果（貼付）'!A23:$A$50,0),MATCH('決勝ヒート - レース暫定結果表（印刷）'!B$11,'[1]決勝ヒート - レース結果（貼付）'!$1:$1,0)),"") -> 13 | E35: =IFERROR(INDEX('[1]決勝ヒート - レース結果（貼付）'!$A:$Z,MATCH($B35,'[1]決勝ヒート - レース結果（貼付）'!$B:$B,0),MATCH('決勝ヒート - レース暫定結果表（印刷）'!E$11,'[1]決勝ヒート - レース結果（貼付）'!$1:$1,0)),"") -> 関 優成 | F35: =IFERROR(INDEX('[1]決勝ヒート - レース結果（貼付）'!$A:$Z,MATCH($B35,'[1]決勝ヒート - レース結果（貼付）'!$B:$B,0),MATCH('決勝ヒート - レース暫定結果表（印刷）'!F$11,'[1]決勝ヒート - レース結果（貼付）'!$1:$1,0)),"") -> Praga/IAME | G35: =IFERROR(INDEX('[1]決勝ヒート - レース結果（貼付）'!$A:$Z,MATCH($B35,'[1]決勝ヒート - レース結果（貼付）'!$B:$B,0),MATCH('決勝ヒート - レース暫定結果表（印刷）'!G$11,'[1]決勝ヒート - レース結果（貼付）'!$1:$1,0)),"") -> TEAMぶるーと | H35: =IFERROR(INDEX('[1]決勝ヒート - レース結果（貼付）'!$A:$Z,MATCH($B35,'[1]決勝ヒート - レース結果（貼付）'!$B:$B,0),MATCH('決勝ヒート - レース暫定結果表（印刷）'!H$11,'[1]決勝ヒート - レース結果（貼付）'!$1:$1,0)),"") -> BS | I35: =IF(A35="DNS","",IF(A35="DQ","",IFERROR(INDEX('[1]決勝ヒート - レース結果（貼付）'!$A:$Z,MATCH($A35,'[1]決勝ヒート - レース結果（貼付）'!$A:$A,0),MATCH('決勝ヒート - レース暫定結果表（印刷）'!I$11,'[1]決勝ヒート - レース結果（貼付）'!$1:$1,0)),""))) -> 21 | J35: =IF(A35="DNS","ｽﾀｰﾄ出来ず",IF(A35="DQ","失 格",IFERROR(INDEX('[1]決勝ヒート - レース結果（貼付）'!$A:$Z,MATCH($B35,'[1]決勝ヒート - レース結果（貼付）'!$B:$B,0),MATCH('決勝ヒート - レース暫定結果表（印刷）'!J$11,'[1]決勝ヒート - レース結果（貼付）'!$1:$1,0)),""))) -> 0.013664016 | K35: =IF(A35="DNS","",IF(A35="DQ","",IFERROR(INDEX('[1]決勝ヒート - レース結果（貼付）'!$A:$Z,MATCH($A35,'[1]決勝ヒート - レース結果（貼付）'!$A:$A,0),MATCH('決勝ヒート - レース暫定結果表（印刷）'!K$11,'[1]決勝ヒート - レース結果（貼付）'!$1:$1,0)),""))) -> 1 Lap | L35: =IF(A35="DNS","",IF(A35="DQ","",IFERROR(INDEX('[1]決勝ヒート - レース結果（貼付）'!$A:$Z,MATCH($A35,'[1]決勝ヒート - レース結果（貼付）'!$A:$A,0),MATCH('決勝ヒート - レース暫定結果表（印刷）'!L$11,'[1]決勝ヒート - レース結果（貼付）'!$1:$1,0)),""))) -> 1 Lap | M35: =IF(A35="DNS","",IF(A35="DQ","",IFERROR(INDEX('[1]決勝ヒート - レース結果（貼付）'!$A:$Z,MATCH($B35,'[1]決勝ヒート - レース結果（貼付）'!$B:$B,0),MATCH('決勝ヒート - レース暫定結果表（印刷）'!M$11,'[1]決勝ヒート - レース結果（貼付）'!$1:$1,0)),""))) -> 55.371 | N35: =IF(M35<1,"",IF($N$11>M35,"R","")) | Q35: =IF(IFERROR(INDEX('[1]決勝ヒート - レース結果（貼付）'!$A:$Z,MATCH($B35,'[1]決勝ヒート - レース結果（貼付）'!$B:$B,0),MATCH('決勝ヒート - レース暫定結果表（印刷）'!Q$11,'[1]決勝ヒート - レース結果（貼付）'!$1:$1,0)),"")=0,"",IFERROR(INDEX('[1]決勝ヒート - レース結果（貼付）'!$A:$Z,MATCH($B35,'[1]決勝ヒート - レース結果（貼付）'!$B:$B,0),MATCH('決勝ヒート - レース暫定結果表（印刷）'!Q$11,'[1]決勝ヒート - レース結果（貼付）'!$1:$1,0)),"")) | R35: =IF(Q35="","",COUNTIF($Q$13:Q35,"<>"&"")) | S35: =IFERROR(RANK(R35,$R$13:$R$48,1),"") | T35: =IF(IFERROR(INDEX('[1]決勝ヒート - レース結果（貼付）'!$A:$Z,MATCH($A35,'[1]決勝ヒート - レース結果（貼付）'!$A:$A,0),MATCH('決勝ヒート - レース暫定結果表（印刷）'!T$11,'[1]決勝ヒート - レース結果（貼付）'!$1:$1,0)),"")=0,"",IFERROR(INDEX('[1]決勝ヒート - レース結果（貼付）'!$A:$Z,MATCH($A35,'[1]決勝ヒート - レース結果（貼付）'!$A:$A,0),MATCH('決勝ヒート - レース暫定結果表（印刷）'!T$11,'[1]決勝ヒート - レース結果（貼付）'!$1:$1,0)),"")) | U35: =IF(IFERROR(INDEX('[1]決勝ヒート - レース結果（貼付）'!$A:$Z,MATCH($B35,'[1]決勝ヒート - レース結果（貼付）'!$B:$B,0),MATCH('[1]決勝ヒート - レース正式結果表（印刷）'!U$11,'[1]決勝ヒート - レース結果（貼付）'!$1:$1,0)),"")=0,"",IFERROR(INDEX('[1]決勝ヒート - レース結果（貼付）'!$A:$Z,MATCH($B35,'[1]決勝ヒート - レース結果（貼付）'!$B:$B,0),MATCH('[1]決勝ヒート - レース正式結果表（印刷）'!U$11,'[1]決勝ヒート - レース結果（貼付）'!$1:$1,0)),"")) -> 82.18
A36: =IF(OR('[1]決勝ヒート - レース結果（貼付）'!A24="DNF",'[1]決勝ヒート - レース結果（貼付）'!A24="DNS",'[1]決勝ヒート - レース結果（貼付）'!A24="DQ"),'[1]決勝ヒート - レース結果（貼付）'!A24,IF(MAX('[1]決勝ヒート - レース結果（貼付）'!A:A)>A35,A35+1,"")) -> 23 | B36: =IFERROR(INDEX('[1]決勝ヒート - レース結果（貼付）'!A24:$Z$50,MATCH($A36,'[1]決勝ヒート - レース結果（貼付）'!A24:$A$50,0),MATCH('決勝ヒート - レース暫定結果表（印刷）'!B$11,'[1]決勝ヒート - レース結果（貼付）'!$1:$1,0)),"") -> 78 | E36: =IFERROR(INDEX('[1]決勝ヒート - レース結果（貼付）'!$A:$Z,MATCH($B36,'[1]決勝ヒート - レース結果（貼付）'!$B:$B,0),MATCH('決勝ヒート - レース暫定結果表（印刷）'!E$11,'[1]決勝ヒート - レース結果（貼付）'!$1:$1,0)),"") -> 福岡 主税 | F36: =IFERROR(INDEX('[1]決勝ヒート - レース結果（貼付）'!$A:$Z,MATCH($B36,'[1]決勝ヒート - レース結果（貼付）'!$B:$B,0),MATCH('決勝ヒート - レース暫定結果表（印刷）'!F$11,'[1]決勝ヒート - レース結果（貼付）'!$1:$1,0)),"") -> TONY KART/IAME | G36: =IFERROR(INDEX('[1]決勝ヒート - レース結果（貼付）'!$A:$Z,MATCH($B36,'[1]決勝ヒート - レース結果（貼付）'!$B:$B,0),MATCH('決勝ヒート - レース暫定結果表（印刷）'!G$11,'[1]決勝ヒート - レース結果（貼付）'!$1:$1,0)),"") -> SCUDERIA SFIDA | H36: =IFERROR(INDEX('[1]決勝ヒート - レース結果（貼付）'!$A:$Z,MATCH($B36,'[1]決勝ヒート - レース結果（貼付）'!$B:$B,0),MATCH('決勝ヒート - レース暫定結果表（印刷）'!H$11,'[1]決勝ヒート - レース結果（貼付）'!$1:$1,0)),"") -> BS | I36: =IF(A36="DNS","",IF(A36="DQ","",IFERROR(INDEX('[1]決勝ヒート - レース結果（貼付）'!$A:$Z,MATCH($A36,'[1]決勝ヒート - レース結果（貼付）'!$A:$A,0),MATCH('決勝ヒート - レース暫定結果表（印刷）'!I$11,'[1]決勝ヒート - レース結果（貼付）'!$1:$1,0)),""))) -> 21 | J36: =IF(A36="DNS","ｽﾀｰﾄ出来ず",IF(A36="DQ","失 格",IFERROR(INDEX('[1]決勝ヒート - レース結果（貼付）'!$A:$Z,MATCH($B36,'[1]決勝ヒート - レース結果（貼付）'!$B:$B,0),MATCH('決勝ヒート - レース暫定結果表（印刷）'!J$11,'[1]決勝ヒート - レース結果（貼付）'!$1:$1,0)),""))) -> 0.013694201 | K36: =IF(A36="DNS","",IF(A36="DQ","",IFERROR(INDEX('[1]決勝ヒート - レース結果（貼付）'!$A:$Z,MATCH($A36,'[1]決勝ヒート - レース結果（貼付）'!$A:$A,0),MATCH('決勝ヒート - レース暫定結果表（印刷）'!K$11,'[1]決勝ヒート - レース結果（貼付）'!$1:$1,0)),""))) -> 1 Lap | L36: =IF(A36="DNS","",IF(A36="DQ","",IFERROR(INDEX('[1]決勝ヒート - レース結果（貼付）'!$A:$Z,MATCH($A36,'[1]決勝ヒート - レース結果（貼付）'!$A:$A,0),MATCH('決勝ヒート - レース暫定結果表（印刷）'!L$11,'[1]決勝ヒート - レース結果（貼付）'!$1:$1,0)),""))) -> 2.608 | M36: =IF(A36="DNS","",IF(A36="DQ","",IFERROR(INDEX('[1]決勝ヒート - レース結果（貼付）'!$A:$Z,MATCH($B36,'[1]決勝ヒート - レース結果（貼付）'!$B:$B,0),MATCH('決勝ヒート - レース暫定結果表（印刷）'!M$11,'[1]決勝ヒート - レース結果（貼付）'!$1:$1,0)),""))) -> 54.949 | N36: =IF(M36<1,"",IF($N$11>M36,"R","")) | Q36: =IF(IFERROR(INDEX('[1]決勝ヒート - レース結果（貼付）'!$A:$Z,MATCH($B36,'[1]決勝ヒート - レース結果（貼付）'!$B:$B,0),MATCH('決勝ヒート - レース暫定結果表（印刷）'!Q$11,'[1]決勝ヒート - レース結果（貼付）'!$1:$1,0)),"")=0,"",IFERROR(INDEX('[1]決勝ヒート - レース結果（貼付）'!$A:$Z,MATCH($B36,'[1]決勝ヒート - レース結果（貼付）'!$B:$B,0),MATCH('決勝ヒート - レース暫定結果表（印刷）'!Q$11,'[1]決勝ヒート - レース結果（貼付）'!$1:$1,0)),"")) | R36: =IF(Q36="","",COUNTIF($Q$13:Q36,"<>"&"")) | S36: =IFERROR(RANK(R36,$R$13:$R$48,1),"") | T36: =IF(IFERROR(INDEX('[1]決勝ヒート - レース結果（貼付）'!$A:$Z,MATCH($A36,'[1]決勝ヒート - レース結果（貼付）'!$A:$A,0),MATCH('決勝ヒート - レース暫定結果表（印刷）'!T$11,'[1]決勝ヒート - レース結果（貼付）'!$1:$1,0)),"")=0,"",IFERROR(INDEX('[1]決勝ヒート - レース結果（貼付）'!$A:$Z,MATCH($A36,'[1]決勝ヒート - レース結果（貼付）'!$A:$A,0),MATCH('決勝ヒート - レース暫定結果表（印刷）'!T$11,'[1]決勝ヒート - レース結果（貼付）'!$1:$1,0)),"")) | U36: =IF(IFERROR(INDEX('[1]決勝ヒート - レース結果（貼付）'!$A:$Z,MATCH($B36,'[1]決勝ヒート - レース結果（貼付）'!$B:$B,0),MATCH('[1]決勝ヒート - レース正式結果表（印刷）'!U$11,'[1]決勝ヒート - レース結果（貼付）'!$1:$1,0)),"")=0,"",IFERROR(INDEX('[1]決勝ヒート - レース結果（貼付）'!$A:$Z,MATCH($B36,'[1]決勝ヒート - レース結果（貼付）'!$B:$B,0),MATCH('[1]決勝ヒート - レース正式結果表（印刷）'!U$11,'[1]決勝ヒート - レース結果（貼付）'!$1:$1,0)),"")) -> 82.811
A37: 以上 規定周回数完走：
A38: =IF(OR('[1]決勝ヒート - レース結果（貼付）'!A25="DNF",'[1]決勝ヒート - レース結果（貼付）'!A25="DNS",'[1]決勝ヒート - レース結果（貼付）'!A25="DQ"),'[1]決勝ヒート - レース結果（貼付）'!A25,IF(MAX('[1]決勝ヒート - レース結果（貼付）'!A:A)>A36,A36+1,"")) -> 24 | B38: =IFERROR(INDEX('[1]決勝ヒート - レース結果（貼付）'!A25:$Z$50,MATCH($A38,'[1]決勝ヒート - レース結果（貼付）'!A25:$A$50,0),MATCH('決勝ヒート - レース暫定結果表（印刷）'!B$11,'[1]決勝ヒート - レース結果（貼付）'!$1:$1,0)),"") -> 22 | E38: =IFERROR(INDEX('[1]決勝ヒート - レース結果（貼付）'!$A:$Z,MATCH($B38,'[1]決勝ヒート - レース結果（貼付）'!$B:$B,0),MATCH('決勝ヒート - レース暫定結果表（印刷）'!E$11,'[1]決勝ヒート - レース結果（貼付）'!$1:$1,0)),"") -> 一宮 總太朗 | F38: =IFERROR(INDEX('[1]決勝ヒート - レース結果（貼付）'!$A:$Z,MATCH($B38,'[1]決勝ヒート - レース結果（貼付）'!$B:$B,0),MATCH('決勝ヒート - レース暫定結果表（印刷）'!F$11,'[1]決勝ヒート - レース結果（貼付）'!$1:$1,0)),"") -> KR/IAME | G38: =IFERROR(INDEX('[1]決勝ヒート - レース結果（貼付）'!$A:$Z,MATCH($B38,'[1]決勝ヒート - レース結果（貼付）'!$B:$B,0),MATCH('決勝ヒート - レース暫定結果表（印刷）'!G$11,'[1]決勝ヒート - レース結果（貼付）'!$1:$1,0)),"") -> KAKIE Racing Team | H38: =IFERROR(INDEX('[1]決勝ヒート - レース結果（貼付）'!$A:$Z,MATCH($B38,'[1]決勝ヒート - レース結果（貼付）'!$B:$B,0),MATCH('決勝ヒート - レース暫定結果表（印刷）'!H$11,'[1]決勝ヒート - レース結果（貼付）'!$1:$1,0)),"") -> BS | I38: =IF(A38="DNS","",IF(A38="DQ","",IFERROR(INDEX('[1]決勝ヒート - レース結果（貼付）'!$A:$Z,MATCH($A38,'[1]決勝ヒート - レース結果（貼付）'!$A:$A,0),MATCH('決勝ヒート - レース暫定結果表（印刷）'!I$11,'[1]決勝ヒート - レース結果（貼付）'!$1:$1,0)),""))) -> 0 | J38: =IF(A38="DNS","ｽﾀｰﾄ出来ず",IF(A38="DQ","失 格",IFERROR(INDEX('[1]決勝ヒート - レース結果（貼付）'!$A:$Z,MATCH($B38,'[1]決勝ヒート - レース結果（貼付）'!$B:$B,0),MATCH('決勝ヒート - レース暫定結果表（印刷）'!J$11,'[1]決勝ヒート - レース結果（貼付）'!$1:$1,0)),""))) -> 2.417 | K38: =IF(A38="DNS","",IF(A38="DQ","",IFERROR(INDEX('[1]決勝ヒート - レース結果（貼付）'!$A:$Z,MATCH($A38,'[1]決勝ヒート - レース結果（貼付）'!$A:$A,0),MATCH('決勝ヒート - レース暫定結果表（印刷）'!K$11,'[1]決勝ヒート - レース結果（貼付）'!$1:$1,0)),""))) -> 22 Laps | L38: =IF(A38="DNS","",IF(A38="DQ","",IFERROR(INDEX('[1]決勝ヒート - レース結果（貼付）'!$A:$Z,MATCH($A38,'[1]決勝ヒート - レース結果（貼付）'!$A:$A,0),MATCH('決勝ヒート - レース暫定結果表（印刷）'!L$11,'[1]決勝ヒート - レース結果（貼付）'!$1:$1,0)),""))) -> 21 Laps | M38: =IF(A38="DNS","",IF(A38="DQ","",IFERROR(INDEX('[1]決勝ヒート - レース結果（貼付）'!$A:$Z,MATCH($B38,'[1]決勝ヒート - レース結果（貼付）'!$B:$B,0),MATCH('決勝ヒート - レース暫定結果表（印刷）'!M$11,'[1]決勝ヒート - レース結果（貼付）'!$1:$1,0)),""))) -> 0 | N38: =IF(M38<1,"",IF($N$11>M38,"R","")) | Q38: =IF(IFERROR(INDEX('[1]決勝ヒート - レース結果（貼付）'!$A:$Z,MATCH($B38,'[1]決勝ヒート - レース結果（貼付）'!$B:$B,0),MATCH('決勝ヒート - レース暫定結果表（印刷）'!Q$11,'[1]決勝ヒート - レース結果（貼付）'!$1:$1,0)),"")=0,"",IFERROR(INDEX('[1]決勝ヒート - レース結果（貼付）'!$A:$Z,MATCH($B38,'[1]決勝ヒート - レース結果（貼付）'!$B:$B,0),MATCH('決勝ヒート - レース暫定結果表（印刷）'!Q$11,'[1]決勝ヒート - レース結果（貼付）'!$1:$1,0)),"")) | R38: =IF(Q38="","",COUNTIF($Q$13:Q38,"<>"&"")) | S38: =IFERROR(RANK(R38,$R$13:$R$48,1),"") | T38: =IF(IFERROR(INDEX('[1]決勝ヒート - レース結果（貼付）'!$A:$Z,MATCH($A38,'[1]決勝ヒート - レース結果（貼付）'!$A:$A,0),MATCH('決勝ヒート - レース暫定結果表（印刷）'!T$11,'[1]決勝ヒート - レース結果（貼付）'!$1:$1,0)),"")=0,"",IFERROR(INDEX('[1]決勝ヒート - レース結果（貼付）'!$A:$Z,MATCH($A38,'[1]決勝ヒート - レース結果（貼付）'!$A:$A,0),MATCH('決勝ヒート - レース暫定結果表（印刷）'!T$11,'[1]決勝ヒート - レース結果（貼付）'!$1:$1,0)),"")) | U38: =IF(IFERROR(INDEX('[1]決勝ヒート - レース結果（貼付）'!$A:$Z,MATCH($B38,'[1]決勝ヒート - レース結果（貼付）'!$B:$B,0),MATCH('[1]決勝ヒート - レース正式結果表（印刷）'!U$11,'[1]決勝ヒート - レース結果（貼付）'!$1:$1,0)),"")=0,"",IFERROR(INDEX('[1]決勝ヒート - レース結果（貼付）'!$A:$Z,MATCH($B38,'[1]決勝ヒート - レース結果（貼付）'!$B:$B,0),MATCH('[1]決勝ヒート - レース正式結果表（印刷）'!U$11,'[1]決勝ヒート - レース結果（貼付）'!$1:$1,0)),"")) -> -
A39: =IF(OR('[1]決勝ヒート - レース結果（貼付）'!A26="DNF",'[1]決勝ヒート - レース結果（貼付）'!A26="DNS",'[1]決勝ヒート - レース結果（貼付）'!A26="DQ"),'[1]決勝ヒート - レース結果（貼付）'!A26,IF(MAX('[1]決勝ヒート - レース結果（貼付）'!A:A)>A38,A38+1,"")) | B39: =IFERROR(INDEX('[1]決勝ヒート - レース結果（貼付）'!A26:$Z$50,MATCH($A39,'[1]決勝ヒート - レース結果（貼付）'!A26:$A$50,0),MATCH('決勝ヒート - レース暫定結果表（印刷）'!B$11,'[1]決勝ヒート - レース結果（貼付）'!$1:$1,0)),"") | E39: =IFERROR(INDEX('[1]決勝ヒート - レース結果（貼付）'!$A:$Z,MATCH($B39,'[1]決勝ヒート - レース結果（貼付）'!$B:$B,0),MATCH('決勝ヒート - レース暫定結果表（印刷）'!E$11,'[1]決勝ヒート - レース結果（貼付）'!$1:$1,0)),"") | F39: =IFERROR(INDEX('[1]決勝ヒート - レース結果（貼付）'!$A:$Z,MATCH($B39,'[1]決勝ヒート - レース結果（貼付）'!$B:$B,0),MATCH('決勝ヒート - レース暫定結果表（印刷）'!F$11,'[1]決勝ヒート - レース結果（貼付）'!$1:$1,0)),"") | G39: =IFERROR(INDEX('[1]決勝ヒート - レース結果（貼付）'!$A:$Z,MATCH($B39,'[1]決勝ヒート - レース結果（貼付）'!$B:$B,0),MATCH('決勝ヒート - レース暫定結果表（印刷）'!G$11,'[1]決勝ヒート - レース結果（貼付）'!$1:$1,0)),"") | H39: =IFERROR(INDEX('[1]決勝ヒート - レース結果（貼付）'!$A:$Z,MATCH($B39,'[1]決勝ヒート - レース結果（貼付）'!$B:$B,0),MATCH('決勝ヒート - レース暫定結果表（印刷）'!H$11,'[1]決勝ヒート - レース結果（貼付）'!$1:$1,0)),"") | I39: =IF(A39="DNS","",IF(A39="DQ","",IFERROR(INDEX('[1]決勝ヒート - レース結果（貼付）'!$A:$Z,MATCH($A39,'[1]決勝ヒート - レース結果（貼付）'!$A:$A,0),MATCH('決勝ヒート - レース暫定結果表（印刷）'!I$11,'[1]決勝ヒート - レース結果（貼付）'!$1:$1,0)),""))) | J39: =IF(A39="DNS","ｽﾀｰﾄ出来ず",IF(A39="DQ","失 格",IFERROR(INDEX('[1]決勝ヒート - レース結果（貼付）'!$A:$Z,MATCH($B39,'[1]決勝ヒート - レース結果（貼付）'!$B:$B,0),MATCH('決勝ヒート - レース暫定結果表（印刷）'!J$11,'[1]決勝ヒート - レース結果（貼付）'!$1:$1,0)),""))) | K39: =IF(A39="DNS","",IF(A39="DQ","",IFERROR(INDEX('[1]決勝ヒート - レース結果（貼付）'!$A:$Z,MATCH($A39,'[1]決勝ヒート - レース結果（貼付）'!$A:$A,0),MATCH('決勝ヒート - レース暫定結果表（印刷）'!K$11,'[1]決勝ヒート - レース結果（貼付）'!$1:$1,0)),""))) | L39: =IF(A39="DNS","",IF(A39="DQ","",IFERROR(INDEX('[1]決勝ヒート - レース結果（貼付）'!$A:$Z,MATCH($A39,'[1]決勝ヒート - レース結果（貼付）'!$A:$A,0),MATCH('決勝ヒート - レース暫定結果表（印刷）'!L$11,'[1]決勝ヒート - レース結果（貼付）'!$1:$1,0)),""))) | M39: =IF(A39="DNS","",IF(A39="DQ","",IFERROR(INDEX('[1]決勝ヒート - レース結果（貼付）'!$A:$Z,MATCH($B39,'[1]決勝ヒート - レース結果（貼付）'!$B:$B,0),MATCH('決勝ヒート - レース暫定結果表（印刷）'!M$11,'[1]決勝ヒート - レース結果（貼付）'!$1:$1,0)),""))) | N39: =IF(M39<1,"",IF($N$11>M39,"R","")) | Q39: =IF(IFERROR(INDEX('[1]決勝ヒート - レース結果（貼付）'!$A:$Z,MATCH($B39,'[1]決勝ヒート - レース結果（貼付）'!$B:$B,0),MATCH('決勝ヒート - レース暫定結果表（印刷）'!Q$11,'[1]決勝ヒート - レース結果（貼付）'!$1:$1,0)),"")=0,"",IFERROR(INDEX('[1]決勝ヒート - レース結果（貼付）'!$A:$Z,MATCH($B39,'[1]決勝ヒート - レース結果（貼付）'!$B:$B,0),MATCH('決勝ヒート - レース暫定結果表（印刷）'!Q$11,'[1]決勝ヒート - レース結果（貼付）'!$1:$1,0)),"")) | R39: =IF(Q39="","",COUNTIF($Q$13:Q39,"<>"&"")) | S39: =IFERROR(RANK(R39,$R$13:$R$48,1),"") | T39: =IF(IFERROR(INDEX('[1]決勝ヒート - レース結果（貼付）'!$A:$Z,MATCH($A39,'[1]決勝ヒート - レース結果（貼付）'!$A:$A,0),MATCH('決勝ヒート - レース暫定結果表（印刷）'!T$11,'[1]決勝ヒート - レース結果（貼付）'!$1:$1,0)),"")=0,"",IFERROR(INDEX('[1]決勝ヒート - レース結果（貼付）'!$A:$Z,MATCH($A39,'[1]決勝ヒート - レース結果（貼付）'!$A:$A,0),MATCH('決勝ヒート - レース暫定結果表（印刷）'!T$11,'[1]決勝ヒート - レース結果（貼付）'!$1:$1,0)),"")) | U39: =IF(IFERROR(INDEX('[1]決勝ヒート - レース結果（貼付）'!$A:$Z,MATCH($B39,'[1]決勝ヒート - レース結果（貼付）'!$B:$B,0),MATCH('[1]決勝ヒート - レース正式結果表（印刷）'!U$11,'[1]決勝ヒート - レース結果（貼付）'!$1:$1,0)),"")=0,"",IFERROR(INDEX('[1]決勝ヒート - レース結果（貼付）'!$A:$Z,MATCH($B39,'[1]決勝ヒート - レース結果（貼付）'!$B:$B,0),MATCH('[1]決勝ヒート - レース正式結果表（印刷）'!U$11,'[1]決勝ヒート - レース結果（貼付）'!$1:$1,0)),""))
A40: =IF(OR('[1]決勝ヒート - レース結果（貼付）'!A27="DNF",'[1]決勝ヒート - レース結果（貼付）'!A27="DNS",'[1]決勝ヒート - レース結果（貼付）'!A27="DQ"),'[1]決勝ヒート - レース結果（貼付）'!A27,IF(MAX('[1]決勝ヒート - レース結果（貼付）'!A:A)>A39,A39+1,"")) | B40: =IFERROR(INDEX('[1]決勝ヒート - レース結果（貼付）'!A27:$Z$50,MATCH($A40,'[1]決勝ヒート - レース結果（貼付）'!A27:$A$50,0),MATCH('決勝ヒート - レース暫定結果表（印刷）'!B$11,'[1]決勝ヒート - レース結果（貼付）'!$1:$1,0)),"") | E40: =IFERROR(INDEX('[1]決勝ヒート - レース結果（貼付）'!$A:$Z,MATCH($B40,'[1]決勝ヒート - レース結果（貼付）'!$B:$B,0),MATCH('決勝ヒート - レース暫定結果表（印刷）'!E$11,'[1]決勝ヒート - レース結果（貼付）'!$1:$1,0)),"") | F40: =IFERROR(INDEX('[1]決勝ヒート - レース結果（貼付）'!$A:$Z,MATCH($B40,'[1]決勝ヒート - レース結果（貼付）'!$B:$B,0),MATCH('決勝ヒート - レース暫定結果表（印刷）'!F$11,'[1]決勝ヒート - レース結果（貼付）'!$1:$1,0)),"") | G40: =IFERROR(INDEX('[1]決勝ヒート - レース結果（貼付）'!$A:$Z,MATCH($B40,'[1]決勝ヒート - レース結果（貼付）'!$B:$B,0),MATCH('決勝ヒート - レース暫定結果表（印刷）'!G$11,'[1]決勝ヒート - レース結果（貼付）'!$1:$1,0)),"") | H40: =IFERROR(INDEX('[1]決勝ヒート - レース結果（貼付）'!$A:$Z,MATCH($B40,'[1]決勝ヒート - レース結果（貼付）'!$B:$B,0),MATCH('決勝ヒート - レース暫定結果表（印刷）'!H$11,'[1]決勝ヒート - レース結果（貼付）'!$1:$1,0)),"") | I40: =IF(A40="DNS","",IF(A40="DQ","",IFERROR(INDEX('[1]決勝ヒート - レース結果（貼付）'!$A:$Z,MATCH($A40,'[1]決勝ヒート - レース結果（貼付）'!$A:$A,0),MATCH('決勝ヒート - レース暫定結果表（印刷）'!I$11,'[1]決勝ヒート - レース結果（貼付）'!$1:$1,0)),""))) | J40: =IF(A40="DNS","ｽﾀｰﾄ出来ず",IF(A40="DQ","失 格",IFERROR(INDEX('[1]決勝ヒート - レース結果（貼付）'!$A:$Z,MATCH($B40,'[1]決勝ヒート - レース結果（貼付）'!$B:$B,0),MATCH('決勝ヒート - レース暫定結果表（印刷）'!J$11,'[1]決勝ヒート - レース結果（貼付）'!$1:$1,0)),""))) | K40: =IF(A40="DNS","",IF(A40="DQ","",IFERROR(INDEX('[1]決勝ヒート - レース結果（貼付）'!$A:$Z,MATCH($A40,'[1]決勝ヒート - レース結果（貼付）'!$A:$A,0),MATCH('決勝ヒート - レース暫定結果表（印刷）'!K$11,'[1]決勝ヒート - レース結果（貼付）'!$1:$1,0)),""))) | L40: =IF(A40="DNS","",IF(A40="DQ","",IFERROR(INDEX('[1]決勝ヒート - レース結果（貼付）'!$A:$Z,MATCH($A40,'[1]決勝ヒート - レース結果（貼付）'!$A:$A,0),MATCH('決勝ヒート - レース暫定結果表（印刷）'!L$11,'[1]決勝ヒート - レース結果（貼付）'!$1:$1,0)),""))) | M40: =IF(A40="DNS","",IF(A40="DQ","",IFERROR(INDEX('[1]決勝ヒート - レース結果（貼付）'!$A:$Z,MATCH($B40,'[1]決勝ヒート - レース結果（貼付）'!$B:$B,0),MATCH('決勝ヒート - レース暫定結果表（印刷）'!M$11,'[1]決勝ヒート - レース結果（貼付）'!$1:$1,0)),""))) | N40: =IF(M40<1,"",IF($N$11>M40,"R","")) | Q40: =IF(IFERROR(INDEX('[1]決勝ヒート - レース結果（貼付）'!$A:$Z,MATCH($B40,'[1]決勝ヒート - レース結果（貼付）'!$B:$B,0),MATCH('決勝ヒート - レース暫定結果表（印刷）'!Q$11,'[1]決勝ヒート - レース結果（貼付）'!$1:$1,0)),"")=0,"",IFERROR(INDEX('[1]決勝ヒート - レース結果（貼付）'!$A:$Z,MATCH($B40,'[1]決勝ヒート - レース結果（貼付）'!$B:$B,0),MATCH('決勝ヒート - レース暫定結果表（印刷）'!Q$11,'[1]決勝ヒート - レース結果（貼付）'!$1:$1,0)),"")) | R40: =IF(Q40="","",COUNTIF($Q$13:Q40,"<>"&"")) | S40: =IFERROR(RANK(R40,$R$13:$R$48,1),"") | T40: =IF(IFERROR(INDEX('[1]決勝ヒート - レース結果（貼付）'!$A:$Z,MATCH($A40,'[1]決勝ヒート - レース結果（貼付）'!$A:$A,0),MATCH('決勝ヒート - レース暫定結果表（印刷）'!T$11,'[1]決勝ヒート - レース結果（貼付）'!$1:$1,0)),"")=0,"",IFERROR(INDEX('[1]決勝ヒート - レース結果（貼付）'!$A:$Z,MATCH($A40,'[1]決勝ヒート - レース結果（貼付）'!$A:$A,0),MATCH('決勝ヒート - レース暫定結果表（印刷）'!T$11,'[1]決勝ヒート - レース結果（貼付）'!$1:$1,0)),"")) | U40: =IF(IFERROR(INDEX('[1]決勝ヒート - レース結果（貼付）'!$A:$Z,MATCH($B40,'[1]決勝ヒート - レース結果（貼付）'!$B:$B,0),MATCH('[1]決勝ヒート - レース正式結果表（印刷）'!U$11,'[1]決勝ヒート - レース結果（貼付）'!$1:$1,0)),"")=0,"",IFERROR(INDEX('[1]決勝ヒート - レース結果（貼付）'!$A:$Z,MATCH($B40,'[1]決勝ヒート - レース結果（貼付）'!$B:$B,0),MATCH('[1]決勝ヒート - レース正式結果表（印刷）'!U$11,'[1]決勝ヒート - レース結果（貼付）'!$1:$1,0)),""))
A41: =IF(OR('[1]決勝ヒート - レース結果（貼付）'!A28="DNF",'[1]決勝ヒート - レース結果（貼付）'!A28="DNS",'[1]決勝ヒート - レース結果（貼付）'!A28="DQ"),'[1]決勝ヒート - レース結果（貼付）'!A28,IF(MAX('[1]決勝ヒート - レース結果（貼付）'!A:A)>A40,A40+1,"")) | B41: =IFERROR(INDEX('[1]決勝ヒート - レース結果（貼付）'!A28:$Z$50,MATCH($A41,'[1]決勝ヒート - レース結果（貼付）'!A28:$A$50,0),MATCH('決勝ヒート - レース暫定結果表（印刷）'!B$11,'[1]決勝ヒート - レース結果（貼付）'!$1:$1,0)),"") | E41: =IFERROR(INDEX('[1]決勝ヒート - レース結果（貼付）'!$A:$Z,MATCH($B41,'[1]決勝ヒート - レース結果（貼付）'!$B:$B,0),MATCH('決勝ヒート - レース暫定結果表（印刷）'!E$11,'[1]決勝ヒート - レース結果（貼付）'!$1:$1,0)),"") | F41: =IFERROR(INDEX('[1]決勝ヒート - レース結果（貼付）'!$A:$Z,MATCH($B41,'[1]決勝ヒート - レース結果（貼付）'!$B:$B,0),MATCH('決勝ヒート - レース暫定結果表（印刷）'!F$11,'[1]決勝ヒート - レース結果（貼付）'!$1:$1,0)),"") | G41: =IFERROR(INDEX('[1]決勝ヒート - レース結果（貼付）'!$A:$Z,MATCH($B41,'[1]決勝ヒート - レース結果（貼付）'!$B:$B,0),MATCH('決勝ヒート - レース暫定結果表（印刷）'!G$11,'[1]決勝ヒート - レース結果（貼付）'!$1:$1,0)),"") | H41: =IFERROR(INDEX('[1]決勝ヒート - レース結果（貼付）'!$A:$Z,MATCH($B41,'[1]決勝ヒート - レース結果（貼付）'!$B:$B,0),MATCH('決勝ヒート - レース暫定結果表（印刷）'!H$11,'[1]決勝ヒート - レース結果（貼付）'!$1:$1,0)),"") | I41: =IF(A41="DNS","",IF(A41="DQ","",IFERROR(INDEX('[1]決勝ヒート - レース結果（貼付）'!$A:$Z,MATCH($A41,'[1]決勝ヒート - レース結果（貼付）'!$A:$A,0),MATCH('決勝ヒート - レース暫定結果表（印刷）'!I$11,'[1]決勝ヒート - レース結果（貼付）'!$1:$1,0)),""))) | J41: =IF(A41="DNS","ｽﾀｰﾄ出来ず",IF(A41="DQ","失 格",IFERROR(INDEX('[1]決勝ヒート - レース結果（貼付）'!$A:$Z,MATCH($B41,'[1]決勝ヒート - レース結果（貼付）'!$B:$B,0),MATCH('決勝ヒート - レース暫定結果表（印刷）'!J$11,'[1]決勝ヒート - レース結果（貼付）'!$1:$1,0)),""))) | K41: =IF(A41="DNS","",IF(A41="DQ","",IFERROR(INDEX('[1]決勝ヒート - レース結果（貼付）'!$A:$Z,MATCH($A41,'[1]決勝ヒート - レース結果（貼付）'!$A:$A,0),MATCH('決勝ヒート - レース暫定結果表（印刷）'!K$11,'[1]決勝ヒート - レース結果（貼付）'!$1:$1,0)),""))) | L41: =IF(A41="DNS","",IF(A41="DQ","",IFERROR(INDEX('[1]決勝ヒート - レース結果（貼付）'!$A:$Z,MATCH($A41,'[1]決勝ヒート - レース結果（貼付）'!$A:$A,0),MATCH('決勝ヒート - レース暫定結果表（印刷）'!L$11,'[1]決勝ヒート - レース結果（貼付）'!$1:$1,0)),""))) | M41: =IF(A41="DNS","",IF(A41="DQ","",IFERROR(INDEX('[1]決勝ヒート - レース結果（貼付）'!$A:$Z,MATCH($B41,'[1]決勝ヒート - レース結果（貼付）'!$B:$B,0),MATCH('決勝ヒート - レース暫定結果表（印刷）'!M$11,'[1]決勝ヒート - レース結果（貼付）'!$1:$1,0)),""))) | N41: =IF(M41<1,"",IF($N$11>M41,"R","")) | Q41: =IF(IFERROR(INDEX('[1]決勝ヒート - レース結果（貼付）'!$A:$Z,MATCH($B41,'[1]決勝ヒート - レース結果（貼付）'!$B:$B,0),MATCH('決勝ヒート - レース暫定結果表（印刷）'!Q$11,'[1]決勝ヒート - レース結果（貼付）'!$1:$1,0)),"")=0,"",IFERROR(INDEX('[1]決勝ヒート - レース結果（貼付）'!$A:$Z,MATCH($B41,'[1]決勝ヒート - レース結果（貼付）'!$B:$B,0),MATCH('決勝ヒート - レース暫定結果表（印刷）'!Q$11,'[1]決勝ヒート - レース結果（貼付）'!$1:$1,0)),"")) | R41: =IF(Q41="","",COUNTIF($Q$13:Q41,"<>"&"")) | S41: =IFERROR(RANK(R41,$R$13:$R$48,1),"") | T41: =IF(IFERROR(INDEX('[1]決勝ヒート - レース結果（貼付）'!$A:$Z,MATCH($A41,'[1]決勝ヒート - レース結果（貼付）'!$A:$A,0),MATCH('決勝ヒート - レース暫定結果表（印刷）'!T$11,'[1]決勝ヒート - レース結果（貼付）'!$1:$1,0)),"")=0,"",IFERROR(INDEX('[1]決勝ヒート - レース結果（貼付）'!$A:$Z,MATCH($A41,'[1]決勝ヒート - レース結果（貼付）'!$A:$A,0),MATCH('決勝ヒート - レース暫定結果表（印刷）'!T$11,'[1]決勝ヒート - レース結果（貼付）'!$1:$1,0)),"")) | U41: =IF(IFERROR(INDEX('[1]決勝ヒート - レース結果（貼付）'!$A:$Z,MATCH($B41,'[1]決勝ヒート - レース結果（貼付）'!$B:$B,0),MATCH('[1]決勝ヒート - レース正式結果表（印刷）'!U$11,'[1]決勝ヒート - レース結果（貼付）'!$1:$1,0)),"")=0,"",IFERROR(INDEX('[1]決勝ヒート - レース結果（貼付）'!$A:$Z,MATCH($B41,'[1]決勝ヒート - レース結果（貼付）'!$B:$B,0),MATCH('[1]決勝ヒート - レース正式結果表（印刷）'!U$11,'[1]決勝ヒート - レース結果（貼付）'!$1:$1,0)),""))
A42: =IF(OR('[1]決勝ヒート - レース結果（貼付）'!A29="DNF",'[1]決勝ヒート - レース結果（貼付）'!A29="DNS",'[1]決勝ヒート - レース結果（貼付）'!A29="DQ"),'[1]決勝ヒート - レース結果（貼付）'!A29,IF(MAX('[1]決勝ヒート - レース結果（貼付）'!A:A)>A41,A41+1,"")) | B42: =IFERROR(INDEX('[1]決勝ヒート - レース結果（貼付）'!A29:$Z$50,MATCH($A42,'[1]決勝ヒート - レース結果（貼付）'!A29:$A$50,0),MATCH('決勝ヒート - レース暫定結果表（印刷）'!B$11,'[1]決勝ヒート - レース結果（貼付）'!$1:$1,0)),"") | E42: =IFERROR(INDEX('[1]決勝ヒート - レース結果（貼付）'!$A:$Z,MATCH($B42,'[1]決勝ヒート - レース結果（貼付）'!$B:$B,0),MATCH('決勝ヒート - レース暫定結果表（印刷）'!E$11,'[1]決勝ヒート - レース結果（貼付）'!$1:$1,0)),"") | F42: =IFERROR(INDEX('[1]決勝ヒート - レース結果（貼付）'!$A:$Z,MATCH($B42,'[1]決勝ヒート - レース結果（貼付）'!$B:$B,0),MATCH('決勝ヒート - レース暫定結果表（印刷）'!F$11,'[1]決勝ヒート - レース結果（貼付）'!$1:$1,0)),"") | G42: =IFERROR(INDEX('[1]決勝ヒート - レース結果（貼付）'!$A:$Z,MATCH($B42,'[1]決勝ヒート - レース結果（貼付）'!$B:$B,0),MATCH('決勝ヒート - レース暫定結果表（印刷）'!G$11,'[1]決勝ヒート - レース結果（貼付）'!$1:$1,0)),"") | H42: =IFERROR(INDEX('[1]決勝ヒート - レース結果（貼付）'!$A:$Z,MATCH($B42,'[1]決勝ヒート - レース結果（貼付）'!$B:$B,0),MATCH('決勝ヒート - レース暫定結果表（印刷）'!H$11,'[1]決勝ヒート - レース結果（貼付）'!$1:$1,0)),"") | I42: =IF(A42="DNS","",IF(A42="DQ","",IFERROR(INDEX('[1]決勝ヒート - レース結果（貼付）'!$A:$Z,MATCH($A42,'[1]決勝ヒート - レース結果（貼付）'!$A:$A,0),MATCH('決勝ヒート - レース暫定結果表（印刷）'!I$11,'[1]決勝ヒート - レース結果（貼付）'!$1:$1,0)),""))) | J42: =IF(A42="DNS","ｽﾀｰﾄ出来ず",IF(A42="DQ","失 格",IFERROR(INDEX('[1]決勝ヒート - レース結果（貼付）'!$A:$Z,MATCH($B42,'[1]決勝ヒート - レース結果（貼付）'!$B:$B,0),MATCH('決勝ヒート - レース暫定結果表（印刷）'!J$11,'[1]決勝ヒート - レース結果（貼付）'!$1:$1,0)),""))) | K42: =IF(A42="DNS","",IF(A42="DQ","",IFERROR(INDEX('[1]決勝ヒート - レース結果（貼付）'!$A:$Z,MATCH($A42,'[1]決勝ヒート - レース結果（貼付）'!$A:$A,0),MATCH('決勝ヒート - レース暫定結果表（印刷）'!K$11,'[1]決勝ヒート - レース結果（貼付）'!$1:$1,0)),""))) | L42: =IF(A42="DNS","",IF(A42="DQ","",IFERROR(INDEX('[1]決勝ヒート - レース結果（貼付）'!$A:$Z,MATCH($A42,'[1]決勝ヒート - レース結果（貼付）'!$A:$A,0),MATCH('決勝ヒート - レース暫定結果表（印刷）'!L$11,'[1]決勝ヒート - レース結果（貼付）'!$1:$1,0)),""))) | M42: =IF(A42="DNS","",IF(A42="DQ","",IFERROR(INDEX('[1]決勝ヒート - レース結果（貼付）'!$A:$Z,MATCH($B42,'[1]決勝ヒート - レース結果（貼付）'!$B:$B,0),MATCH('決勝ヒート - レース暫定結果表（印刷）'!M$11,'[1]決勝ヒート - レース結果（貼付）'!$1:$1,0)),""))) | N42: =IF(M42<1,"",IF($N$11>M42,"R","")) | Q42: =IF(IFERROR(INDEX('[1]決勝ヒート - レース結果（貼付）'!$A:$Z,MATCH($B42,'[1]決勝ヒート - レース結果（貼付）'!$B:$B,0),MATCH('決勝ヒート - レース暫定結果表（印刷）'!Q$11,'[1]決勝ヒート - レース結果（貼付）'!$1:$1,0)),"")=0,"",IFERROR(INDEX('[1]決勝ヒート - レース結果（貼付）'!$A:$Z,MATCH($B42,'[1]決勝ヒート - レース結果（貼付）'!$B:$B,0),MATCH('決勝ヒート - レース暫定結果表（印刷）'!Q$11,'[1]決勝ヒート - レース結果（貼付）'!$1:$1,0)),"")) | R42: =IF(Q42="","",COUNTIF($Q$13:Q42,"<>"&"")) | S42: =IFERROR(RANK(R42,$R$13:$R$48,1),"") | T42: =IF(IFERROR(INDEX('[1]決勝ヒート - レース結果（貼付）'!$A:$Z,MATCH($A42,'[1]決勝ヒート - レース結果（貼付）'!$A:$A,0),MATCH('決勝ヒート - レース暫定結果表（印刷）'!T$11,'[1]決勝ヒート - レース結果（貼付）'!$1:$1,0)),"")=0,"",IFERROR(INDEX('[1]決勝ヒート - レース結果（貼付）'!$A:$Z,MATCH($A42,'[1]決勝ヒート - レース結果（貼付）'!$A:$A,0),MATCH('決勝ヒート - レース暫定結果表（印刷）'!T$11,'[1]決勝ヒート - レース結果（貼付）'!$1:$1,0)),"")) | U42: =IF(IFERROR(INDEX('[1]決勝ヒート - レース結果（貼付）'!$A:$Z,MATCH($B42,'[1]決勝ヒート - レース結果（貼付）'!$B:$B,0),MATCH('[1]決勝ヒート - レース正式結果表（印刷）'!U$11,'[1]決勝ヒート - レース結果（貼付）'!$1:$1,0)),"")=0,"",IFERROR(INDEX('[1]決勝ヒート - レース結果（貼付）'!$A:$Z,MATCH($B42,'[1]決勝ヒート - レース結果（貼付）'!$B:$B,0),MATCH('[1]決勝ヒート - レース正式結果表（印刷）'!U$11,'[1]決勝ヒート - レース結果（貼付）'!$1:$1,0)),""))
A43: =IF(OR('[1]決勝ヒート - レース結果（貼付）'!A30="DNF",'[1]決勝ヒート - レース結果（貼付）'!A30="DNS",'[1]決勝ヒート - レース結果（貼付）'!A30="DQ"),'[1]決勝ヒート - レース結果（貼付）'!A30,IF(MAX('[1]決勝ヒート - レース結果（貼付）'!A:A)>A42,A42+1,"")) | B43: =IFERROR(INDEX('[1]決勝ヒート - レース結果（貼付）'!A30:$Z$50,MATCH($A43,'[1]決勝ヒート - レース結果（貼付）'!A30:$A$50,0),MATCH('決勝ヒート - レース暫定結果表（印刷）'!B$11,'[1]決勝ヒート - レース結果（貼付）'!$1:$1,0)),"") | E43: =IFERROR(INDEX('[1]決勝ヒート - レース結果（貼付）'!$A:$Z,MATCH($B43,'[1]決勝ヒート - レース結果（貼付）'!$B:$B,0),MATCH('決勝ヒート - レース暫定結果表（印刷）'!E$11,'[1]決勝ヒート - レース結果（貼付）'!$1:$1,0)),"") | F43: =IFERROR(INDEX('[1]決勝ヒート - レース結果（貼付）'!$A:$Z,MATCH($B43,'[1]決勝ヒート - レース結果（貼付）'!$B:$B,0),MATCH('決勝ヒート - レース暫定結果表（印刷）'!F$11,'[1]決勝ヒート - レース結果（貼付）'!$1:$1,0)),"") | G43: =IFERROR(INDEX('[1]決勝ヒート - レース結果（貼付）'!$A:$Z,MATCH($B43,'[1]決勝ヒート - レース結果（貼付）'!$B:$B,0),MATCH('決勝ヒート - レース暫定結果表（印刷）'!G$11,'[1]決勝ヒート - レース結果（貼付）'!$1:$1,0)),"") | H43: =IFERROR(INDEX('[1]決勝ヒート - レース結果（貼付）'!$A:$Z,MATCH($B43,'[1]決勝ヒート - レース結果（貼付）'!$B:$B,0),MATCH('決勝ヒート - レース暫定結果表（印刷）'!H$11,'[1]決勝ヒート - レース結果（貼付）'!$1:$1,0)),"") | I43: =IF(A43="DNS","",IF(A43="DQ","",IFERROR(INDEX('[1]決勝ヒート - レース結果（貼付）'!$A:$Z,MATCH($A43,'[1]決勝ヒート - レース結果（貼付）'!$A:$A,0),MATCH('決勝ヒート - レース暫定結果表（印刷）'!I$11,'[1]決勝ヒート - レース結果（貼付）'!$1:$1,0)),""))) | J43: =IF(A43="DNS","ｽﾀｰﾄ出来ず",IF(A43="DQ","失 格",IFERROR(INDEX('[1]決勝ヒート - レース結果（貼付）'!$A:$Z,MATCH($B43,'[1]決勝ヒート - レース結果（貼付）'!$B:$B,0),MATCH('決勝ヒート - レース暫定結果表（印刷）'!J$11,'[1]決勝ヒート - レース結果（貼付）'!$1:$1,0)),""))) | K43: =IF(A43="DNS","",IF(A43="DQ","",IFERROR(INDEX('[1]決勝ヒート - レース結果（貼付）'!$A:$Z,MATCH($A43,'[1]決勝ヒート - レース結果（貼付）'!$A:$A,0),MATCH('決勝ヒート - レース暫定結果表（印刷）'!K$11,'[1]決勝ヒート - レース結果（貼付）'!$1:$1,0)),""))) | L43: =IF(A43="DNS","",IF(A43="DQ","",IFERROR(INDEX('[1]決勝ヒート - レース結果（貼付）'!$A:$Z,MATCH($A43,'[1]決勝ヒート - レース結果（貼付）'!$A:$A,0),MATCH('決勝ヒート - レース暫定結果表（印刷）'!L$11,'[1]決勝ヒート - レース結果（貼付）'!$1:$1,0)),""))) | M43: =IF(A43="DNS","",IF(A43="DQ","",IFERROR(INDEX('[1]決勝ヒート - レース結果（貼付）'!$A:$Z,MATCH($B43,'[1]決勝ヒート - レース結果（貼付）'!$B:$B,0),MATCH('決勝ヒート - レース暫定結果表（印刷）'!M$11,'[1]決勝ヒート - レース結果（貼付）'!$1:$1,0)),""))) | N43: =IF(M43<1,"",IF($N$11>M43,"R","")) | Q43: =IF(IFERROR(INDEX('[1]決勝ヒート - レース結果（貼付）'!$A:$Z,MATCH($B43,'[1]決勝ヒート - レース結果（貼付）'!$B:$B,0),MATCH('決勝ヒート - レース暫定結果表（印刷）'!Q$11,'[1]決勝ヒート - レース結果（貼付）'!$1:$1,0)),"")=0,"",IFERROR(INDEX('[1]決勝ヒート - レース結果（貼付）'!$A:$Z,MATCH($B43,'[1]決勝ヒート - レース結果（貼付）'!$B:$B,0),MATCH('決勝ヒート - レース暫定結果表（印刷）'!Q$11,'[1]決勝ヒート - レース結果（貼付）'!$1:$1,0)),"")) | R43: =IF(Q43="","",COUNTIF($Q$13:Q43,"<>"&"")) | S43: =IFERROR(RANK(R43,$R$13:$R$48,1),"") | T43: =IF(IFERROR(INDEX('[1]決勝ヒート - レース結果（貼付）'!$A:$Z,MATCH($A43,'[1]決勝ヒート - レース結果（貼付）'!$A:$A,0),MATCH('決勝ヒート - レース暫定結果表（印刷）'!T$11,'[1]決勝ヒート - レース結果（貼付）'!$1:$1,0)),"")=0,"",IFERROR(INDEX('[1]決勝ヒート - レース結果（貼付）'!$A:$Z,MATCH($A43,'[1]決勝ヒート - レース結果（貼付）'!$A:$A,0),MATCH('決勝ヒート - レース暫定結果表（印刷）'!T$11,'[1]決勝ヒート - レース結果（貼付）'!$1:$1,0)),"")) | U43: =IF(IFERROR(INDEX('[1]決勝ヒート - レース結果（貼付）'!$A:$Z,MATCH($B43,'[1]決勝ヒート - レース結果（貼付）'!$B:$B,0),MATCH('[1]決勝ヒート - レース正式結果表（印刷）'!U$11,'[1]決勝ヒート - レース結果（貼付）'!$1:$1,0)),"")=0,"",IFERROR(INDEX('[1]決勝ヒート - レース結果（貼付）'!$A:$Z,MATCH($B43,'[1]決勝ヒート - レース結果（貼付）'!$B:$B,0),MATCH('[1]決勝ヒート - レース正式結果表（印刷）'!U$11,'[1]決勝ヒート - レース結果（貼付）'!$1:$1,0)),""))
A44: =IF(OR('[1]決勝ヒート - レース結果（貼付）'!A31="DNF",'[1]決勝ヒート - レース結果（貼付）'!A31="DNS",'[1]決勝ヒート - レース結果（貼付）'!A31="DQ"),'[1]決勝ヒート - レース結果（貼付）'!A31,IF(MAX('[1]決勝ヒート - レース結果（貼付）'!A:A)>A43,A43+1,"")) | B44: =IFERROR(INDEX('[1]決勝ヒート - レース結果（貼付）'!A31:$Z$50,MATCH($A44,'[1]決勝ヒート - レース結果（貼付）'!A31:$A$50,0),MATCH('決勝ヒート - レース暫定結果表（印刷）'!B$11,'[1]決勝ヒート - レース結果（貼付）'!$1:$1,0)),"") | E44: =IFERROR(INDEX('[1]決勝ヒート - レース結果（貼付）'!$A:$Z,MATCH($B44,'[1]決勝ヒート - レース結果（貼付）'!$B:$B,0),MATCH('決勝ヒート - レース暫定結果表（印刷）'!E$11,'[1]決勝ヒート - レース結果（貼付）'!$1:$1,0)),"") | F44: =IFERROR(INDEX('[1]決勝ヒート - レース結果（貼付）'!$A:$Z,MATCH($B44,'[1]決勝ヒート - レース結果（貼付）'!$B:$B,0),MATCH('決勝ヒート - レース暫定結果表（印刷）'!F$11,'[1]決勝ヒート - レース結果（貼付）'!$1:$1,0)),"") | G44: =IFERROR(INDEX('[1]決勝ヒート - レース結果（貼付）'!$A:$Z,MATCH($B44,'[1]決勝ヒート - レース結果（貼付）'!$B:$B,0),MATCH('決勝ヒート - レース暫定結果表（印刷）'!G$11,'[1]決勝ヒート - レース結果（貼付）'!$1:$1,0)),"") | H44: =IFERROR(INDEX('[1]決勝ヒート - レース結果（貼付）'!$A:$Z,MATCH($B44,'[1]決勝ヒート - レース結果（貼付）'!$B:$B,0),MATCH('決勝ヒート - レース暫定結果表（印刷）'!H$11,'[1]決勝ヒート - レース結果（貼付）'!$1:$1,0)),"") | I44: =IF(A44="DNS","",IF(A44="DQ","",IFERROR(INDEX('[1]決勝ヒート - レース結果（貼付）'!$A:$Z,MATCH($A44,'[1]決勝ヒート - レース結果（貼付）'!$A:$A,0),MATCH('決勝ヒート - レース暫定結果表（印刷）'!I$11,'[1]決勝ヒート - レース結果（貼付）'!$1:$1,0)),""))) | J44: =IF(A44="DNS","ｽﾀｰﾄ出来ず",IF(A44="DQ","失 格",IFERROR(INDEX('[1]決勝ヒート - レース結果（貼付）'!$A:$Z,MATCH($B44,'[1]決勝ヒート - レース結果（貼付）'!$B:$B,0),MATCH('決勝ヒート - レース暫定結果表（印刷）'!J$11,'[1]決勝ヒート - レース結果（貼付）'!$1:$1,0)),""))) | K44: =IF(A44="DNS","",IF(A44="DQ","",IFERROR(INDEX('[1]決勝ヒート - レース結果（貼付）'!$A:$Z,MATCH($A44,'[1]決勝ヒート - レース結果（貼付）'!$A:$A,0),MATCH('決勝ヒート - レース暫定結果表（印刷）'!K$11,'[1]決勝ヒート - レース結果（貼付）'!$1:$1,0)),""))) | L44: =IF(A44="DNS","",IF(A44="DQ","",IFERROR(INDEX('[1]決勝ヒート - レース結果（貼付）'!$A:$Z,MATCH($A44,'[1]決勝ヒート - レース結果（貼付）'!$A:$A,0),MATCH('決勝ヒート - レース暫定結果表（印刷）'!L$11,'[1]決勝ヒート - レース結果（貼付）'!$1:$1,0)),""))) | M44: =IF(A44="DNS","",IF(A44="DQ","",IFERROR(INDEX('[1]決勝ヒート - レース結果（貼付）'!$A:$Z,MATCH($B44,'[1]決勝ヒート - レース結果（貼付）'!$B:$B,0),MATCH('決勝ヒート - レース暫定結果表（印刷）'!M$11,'[1]決勝ヒート - レース結果（貼付）'!$1:$1,0)),""))) | N44: =IF(M44<1,"",IF($N$11>M44,"R","")) | Q44: =IF(IFERROR(INDEX('[1]決勝ヒート - レース結果（貼付）'!$A:$Z,MATCH($B44,'[1]決勝ヒート - レース結果（貼付）'!$B:$B,0),MATCH('決勝ヒート - レース暫定結果表（印刷）'!Q$11,'[1]決勝ヒート - レース結果（貼付）'!$1:$1,0)),"")=0,"",IFERROR(INDEX('[1]決勝ヒート - レース結果（貼付）'!$A:$Z,MATCH($B44,'[1]決勝ヒート - レース結果（貼付）'!$B:$B,0),MATCH('決勝ヒート - レース暫定結果表（印刷）'!Q$11,'[1]決勝ヒート - レース結果（貼付）'!$1:$1,0)),"")) | R44: =IF(Q44="","",COUNTIF($Q$13:Q44,"<>"&"")) | S44: =IFERROR(RANK(R44,$R$13:$R$48,1),"") | T44: =IF(IFERROR(INDEX('[1]決勝ヒート - レース結果（貼付）'!$A:$Z,MATCH($A44,'[1]決勝ヒート - レース結果（貼付）'!$A:$A,0),MATCH('決勝ヒート - レース暫定結果表（印刷）'!T$11,'[1]決勝ヒート - レース結果（貼付）'!$1:$1,0)),"")=0,"",IFERROR(INDEX('[1]決勝ヒート - レース結果（貼付）'!$A:$Z,MATCH($A44,'[1]決勝ヒート - レース結果（貼付）'!$A:$A,0),MATCH('決勝ヒート - レース暫定結果表（印刷）'!T$11,'[1]決勝ヒート - レース結果（貼付）'!$1:$1,0)),"")) | U44: =IF(IFERROR(INDEX('[1]決勝ヒート - レース結果（貼付）'!$A:$Z,MATCH($B44,'[1]決勝ヒート - レース結果（貼付）'!$B:$B,0),MATCH('[1]決勝ヒート - レース正式結果表（印刷）'!U$11,'[1]決勝ヒート - レース結果（貼付）'!$1:$1,0)),"")=0,"",IFERROR(INDEX('[1]決勝ヒート - レース結果（貼付）'!$A:$Z,MATCH($B44,'[1]決勝ヒート - レース結果（貼付）'!$B:$B,0),MATCH('[1]決勝ヒート - レース正式結果表（印刷）'!U$11,'[1]決勝ヒート - レース結果（貼付）'!$1:$1,0)),""))
A45: =IF(OR('[1]決勝ヒート - レース結果（貼付）'!A32="DNF",'[1]決勝ヒート - レース結果（貼付）'!A32="DNS",'[1]決勝ヒート - レース結果（貼付）'!A32="DQ"),'[1]決勝ヒート - レース結果（貼付）'!A32,IF(MAX('[1]決勝ヒート - レース結果（貼付）'!A:A)>A44,A44+1,"")) | B45: =IFERROR(INDEX('[1]決勝ヒート - レース結果（貼付）'!A32:$Z$50,MATCH($A45,'[1]決勝ヒート - レース結果（貼付）'!A32:$A$50,0),MATCH('決勝ヒート - レース暫定結果表（印刷）'!B$11,'[1]決勝ヒート - レース結果（貼付）'!$1:$1,0)),"") | E45: =IFERROR(INDEX('[1]決勝ヒート - レース結果（貼付）'!$A:$Z,MATCH($B45,'[1]決勝ヒート - レース結果（貼付）'!$B:$B,0),MATCH('決勝ヒート - レース暫定結果表（印刷）'!E$11,'[1]決勝ヒート - レース結果（貼付）'!$1:$1,0)),"") | F45: =IFERROR(INDEX('[1]決勝ヒート - レース結果（貼付）'!$A:$Z,MATCH($B45,'[1]決勝ヒート - レース結果（貼付）'!$B:$B,0),MATCH('決勝ヒート - レース暫定結果表（印刷）'!F$11,'[1]決勝ヒート - レース結果（貼付）'!$1:$1,0)),"") | G45: =IFERROR(INDEX('[1]決勝ヒート - レース結果（貼付）'!$A:$Z,MATCH($B45,'[1]決勝ヒート - レース結果（貼付）'!$B:$B,0),MATCH('決勝ヒート - レース暫定結果表（印刷）'!G$11,'[1]決勝ヒート - レース結果（貼付）'!$1:$1,0)),"") | H45: =IFERROR(INDEX('[1]決勝ヒート - レース結果（貼付）'!$A:$Z,MATCH($B45,'[1]決勝ヒート - レース結果（貼付）'!$B:$B,0),MATCH('決勝ヒート - レース暫定結果表（印刷）'!H$11,'[1]決勝ヒート - レース結果（貼付）'!$1:$1,0)),"") | I45: =IF(A45="DNS","",IF(A45="DQ","",IFERROR(INDEX('[1]決勝ヒート - レース結果（貼付）'!$A:$Z,MATCH($A45,'[1]決勝ヒート - レース結果（貼付）'!$A:$A,0),MATCH('決勝ヒート - レース暫定結果表（印刷）'!I$11,'[1]決勝ヒート - レース結果（貼付）'!$1:$1,0)),""))) | J45: =IF(A45="DNS","ｽﾀｰﾄ出来ず",IF(A45="DQ","失 格",IFERROR(INDEX('[1]決勝ヒート - レース結果（貼付）'!$A:$Z,MATCH($B45,'[1]決勝ヒート - レース結果（貼付）'!$B:$B,0),MATCH('決勝ヒート - レース暫定結果表（印刷）'!J$11,'[1]決勝ヒート - レース結果（貼付）'!$1:$1,0)),""))) | K45: =IF(A45="DNS","",IF(A45="DQ","",IFERROR(INDEX('[1]決勝ヒート - レース結果（貼付）'!$A:$Z,MATCH($A45,'[1]決勝ヒート - レース結果（貼付）'!$A:$A,0),MATCH('決勝ヒート - レース暫定結果表（印刷）'!K$11,'[1]決勝ヒート - レース結果（貼付）'!$1:$1,0)),""))) | L45: =IF(A45="DNS","",IF(A45="DQ","",IFERROR(INDEX('[1]決勝ヒート - レース結果（貼付）'!$A:$Z,MATCH($A45,'[1]決勝ヒート - レース結果（貼付）'!$A:$A,0),MATCH('決勝ヒート - レース暫定結果表（印刷）'!L$11,'[1]決勝ヒート - レース結果（貼付）'!$1:$1,0)),""))) | M45: =IF(A45="DNS","",IF(A45="DQ","",IFERROR(INDEX('[1]決勝ヒート - レース結果（貼付）'!$A:$Z,MATCH($B45,'[1]決勝ヒート - レース結果（貼付）'!$B:$B,0),MATCH('決勝ヒート - レース暫定結果表（印刷）'!M$11,'[1]決勝ヒート - レース結果（貼付）'!$1:$1,0)),""))) | N45: =IF(M45<1,"",IF($N$11>M45,"R","")) | Q45: =IF(IFERROR(INDEX('[1]決勝ヒート - レース結果（貼付）'!$A:$Z,MATCH($B45,'[1]決勝ヒート - レース結果（貼付）'!$B:$B,0),MATCH('決勝ヒート - レース暫定結果表（印刷）'!Q$11,'[1]決勝ヒート - レース結果（貼付）'!$1:$1,0)),"")=0,"",IFERROR(INDEX('[1]決勝ヒート - レース結果（貼付）'!$A:$Z,MATCH($B45,'[1]決勝ヒート - レース結果（貼付）'!$B:$B,0),MATCH('決勝ヒート - レース暫定結果表（印刷）'!Q$11,'[1]決勝ヒート - レース結果（貼付）'!$1:$1,0)),"")) | R45: =IF(Q45="","",COUNTIF($Q$13:Q45,"<>"&"")) | S45: =IFERROR(RANK(R45,$R$13:$R$48,1),"") | T45: =IF(IFERROR(INDEX('[1]決勝ヒート - レース結果（貼付）'!$A:$Z,MATCH($A45,'[1]決勝ヒート - レース結果（貼付）'!$A:$A,0),MATCH('決勝ヒート - レース暫定結果表（印刷）'!T$11,'[1]決勝ヒート - レース結果（貼付）'!$1:$1,0)),"")=0,"",IFERROR(INDEX('[1]決勝ヒート - レース結果（貼付）'!$A:$Z,MATCH($A45,'[1]決勝ヒート - レース結果（貼付）'!$A:$A,0),MATCH('決勝ヒート - レース暫定結果表（印刷）'!T$11,'[1]決勝ヒート - レース結果（貼付）'!$1:$1,0)),"")) | U45: =IF(IFERROR(INDEX('[1]決勝ヒート - レース結果（貼付）'!$A:$Z,MATCH($B45,'[1]決勝ヒート - レース結果（貼付）'!$B:$B,0),MATCH('[1]決勝ヒート - レース正式結果表（印刷）'!U$11,'[1]決勝ヒート - レース結果（貼付）'!$1:$1,0)),"")=0,"",IFERROR(INDEX('[1]決勝ヒート - レース結果（貼付）'!$A:$Z,MATCH($B45,'[1]決勝ヒート - レース結果（貼付）'!$B:$B,0),MATCH('[1]決勝ヒート - レース正式結果表（印刷）'!U$11,'[1]決勝ヒート - レース結果（貼付）'!$1:$1,0)),""))
A46: =IF(OR('[1]決勝ヒート - レース結果（貼付）'!A33="DNF",'[1]決勝ヒート - レース結果（貼付）'!A33="DNS",'[1]決勝ヒート - レース結果（貼付）'!A33="DQ"),'[1]決勝ヒート - レース結果（貼付）'!A33,IF(MAX('[1]決勝ヒート - レース結果（貼付）'!A:A)>A45,A45+1,"")) | B46: =IFERROR(INDEX('[1]決勝ヒート - レース結果（貼付）'!A33:$Z$50,MATCH($A46,'[1]決勝ヒート - レース結果（貼付）'!A33:$A$50,0),MATCH('決勝ヒート - レース暫定結果表（印刷）'!B$11,'[1]決勝ヒート - レース結果（貼付）'!$1:$1,0)),"") | E46: =IFERROR(INDEX('[1]決勝ヒート - レース結果（貼付）'!$A:$Z,MATCH($B46,'[1]決勝ヒート - レース結果（貼付）'!$B:$B,0),MATCH('決勝ヒート - レース暫定結果表（印刷）'!E$11,'[1]決勝ヒート - レース結果（貼付）'!$1:$1,0)),"") | F46: =IFERROR(INDEX('[1]決勝ヒート - レース結果（貼付）'!$A:$Z,MATCH($B46,'[1]決勝ヒート - レース結果（貼付）'!$B:$B,0),MATCH('決勝ヒート - レース暫定結果表（印刷）'!F$11,'[1]決勝ヒート - レース結果（貼付）'!$1:$1,0)),"") | G46: =IFERROR(INDEX('[1]決勝ヒート - レース結果（貼付）'!$A:$Z,MATCH($B46,'[1]決勝ヒート - レース結果（貼付）'!$B:$B,0),MATCH('決勝ヒート - レース暫定結果表（印刷）'!G$11,'[1]決勝ヒート - レース結果（貼付）'!$1:$1,0)),"") | H46: =IFERROR(INDEX('[1]決勝ヒート - レース結果（貼付）'!$A:$Z,MATCH($B46,'[1]決勝ヒート - レース結果（貼付）'!$B:$B,0),MATCH('決勝ヒート - レース暫定結果表（印刷）'!H$11,'[1]決勝ヒート - レース結果（貼付）'!$1:$1,0)),"") | I46: =IF(A46="DNS","",IF(A46="DQ","",IFERROR(INDEX('[1]決勝ヒート - レース結果（貼付）'!$A:$Z,MATCH($A46,'[1]決勝ヒート - レース結果（貼付）'!$A:$A,0),MATCH('決勝ヒート - レース暫定結果表（印刷）'!I$11,'[1]決勝ヒート - レース結果（貼付）'!$1:$1,0)),""))) | J46: =IF(A46="DNS","ｽﾀｰﾄ出来ず",IF(A46="DQ","失 格",IFERROR(INDEX('[1]決勝ヒート - レース結果（貼付）'!$A:$Z,MATCH($B46,'[1]決勝ヒート - レース結果（貼付）'!$B:$B,0),MATCH('決勝ヒート - レース暫定結果表（印刷）'!J$11,'[1]決勝ヒート - レース結果（貼付）'!$1:$1,0)),""))) | K46: =IF(A46="DNS","",IF(A46="DQ","",IFERROR(INDEX('[1]決勝ヒート - レース結果（貼付）'!$A:$Z,MATCH($A46,'[1]決勝ヒート - レース結果（貼付）'!$A:$A,0),MATCH('決勝ヒート - レース暫定結果表（印刷）'!K$11,'[1]決勝ヒート - レース結果（貼付）'!$1:$1,0)),""))) | L46: =IF(A46="DNS","",IF(A46="DQ","",IFERROR(INDEX('[1]決勝ヒート - レース結果（貼付）'!$A:$Z,MATCH($A46,'[1]決勝ヒート - レース結果（貼付）'!$A:$A,0),MATCH('決勝ヒート - レース暫定結果表（印刷）'!L$11,'[1]決勝ヒート - レース結果（貼付）'!$1:$1,0)),""))) | M46: =IF(A46="DNS","",IF(A46="DQ","",IFERROR(INDEX('[1]決勝ヒート - レース結果（貼付）'!$A:$Z,MATCH($B46,'[1]決勝ヒート - レース結果（貼付）'!$B:$B,0),MATCH('決勝ヒート - レース暫定結果表（印刷）'!M$11,'[1]決勝ヒート - レース結果（貼付）'!$1:$1,0)),""))) | N46: =IF(M46<1,"",IF($N$11>M46,"R","")) | Q46: =IF(IFERROR(INDEX('[1]決勝ヒート - レース結果（貼付）'!$A:$Z,MATCH($B46,'[1]決勝ヒート - レース結果（貼付）'!$B:$B,0),MATCH('決勝ヒート - レース暫定結果表（印刷）'!Q$11,'[1]決勝ヒート - レース結果（貼付）'!$1:$1,0)),"")=0,"",IFERROR(INDEX('[1]決勝ヒート - レース結果（貼付）'!$A:$Z,MATCH($B46,'[1]決勝ヒート - レース結果（貼付）'!$B:$B,0),MATCH('決勝ヒート - レース暫定結果表（印刷）'!Q$11,'[1]決勝ヒート - レース結果（貼付）'!$1:$1,0)),"")) | R46: =IF(Q46="","",COUNTIF($Q$13:Q46,"<>"&"")) | S46: =IFERROR(RANK(R46,$R$13:$R$48,1),"") | T46: =IF(IFERROR(INDEX('[1]決勝ヒート - レース結果（貼付）'!$A:$Z,MATCH($A46,'[1]決勝ヒート - レース結果（貼付）'!$A:$A,0),MATCH('決勝ヒート - レース暫定結果表（印刷）'!T$11,'[1]決勝ヒート - レース結果（貼付）'!$1:$1,0)),"")=0,"",IFERROR(INDEX('[1]決勝ヒート - レース結果（貼付）'!$A:$Z,MATCH($A46,'[1]決勝ヒート - レース結果（貼付）'!$A:$A,0),MATCH('決勝ヒート - レース暫定結果表（印刷）'!T$11,'[1]決勝ヒート - レース結果（貼付）'!$1:$1,0)),"")) | U46: =IF(IFERROR(INDEX('[1]決勝ヒート - レース結果（貼付）'!$A:$Z,MATCH($B46,'[1]決勝ヒート - レース結果（貼付）'!$B:$B,0),MATCH('[1]決勝ヒート - レース正式結果表（印刷）'!U$11,'[1]決勝ヒート - レース結果（貼付）'!$1:$1,0)),"")=0,"",IFERROR(INDEX('[1]決勝ヒート - レース結果（貼付）'!$A:$Z,MATCH($B46,'[1]決勝ヒート - レース結果（貼付）'!$B:$B,0),MATCH('[1]決勝ヒート - レース正式結果表（印刷）'!U$11,'[1]決勝ヒート - レース結果（貼付）'!$1:$1,0)),""))
A47: =IF(OR('[1]決勝ヒート - レース結果（貼付）'!A34="DNF",'[1]決勝ヒート - レース結果（貼付）'!A34="DNS",'[1]決勝ヒート - レース結果（貼付）'!A34="DQ"),'[1]決勝ヒート - レース結果（貼付）'!A34,IF(MAX('[1]決勝ヒート - レース結果（貼付）'!A:A)>A46,A46+1,"")) | B47: =IFERROR(INDEX('[1]決勝ヒート - レース結果（貼付）'!A34:$Z$50,MATCH($A47,'[1]決勝ヒート - レース結果（貼付）'!A34:$A$50,0),MATCH('決勝ヒート - レース暫定結果表（印刷）'!B$11,'[1]決勝ヒート - レース結果（貼付）'!$1:$1,0)),"") | E47: =IFERROR(INDEX('[1]決勝ヒート - レース結果（貼付）'!$A:$Z,MATCH($B47,'[1]決勝ヒート - レース結果（貼付）'!$B:$B,0),MATCH('決勝ヒート - レース暫定結果表（印刷）'!E$11,'[1]決勝ヒート - レース結果（貼付）'!$1:$1,0)),"") | F47: =IFERROR(INDEX('[1]決勝ヒート - レース結果（貼付）'!$A:$Z,MATCH($B47,'[1]決勝ヒート - レース結果（貼付）'!$B:$B,0),MATCH('決勝ヒート - レース暫定結果表（印刷）'!F$11,'[1]決勝ヒート - レース結果（貼付）'!$1:$1,0)),"") | G47: =IFERROR(INDEX('[1]決勝ヒート - レース結果（貼付）'!$A:$Z,MATCH($B47,'[1]決勝ヒート - レース結果（貼付）'!$B:$B,0),MATCH('決勝ヒート - レース暫定結果表（印刷）'!G$11,'[1]決勝ヒート - レース結果（貼付）'!$1:$1,0)),"") | H47: =IFERROR(INDEX('[1]決勝ヒート - レース結果（貼付）'!$A:$Z,MATCH($B47,'[1]決勝ヒート - レース結果（貼付）'!$B:$B,0),MATCH('決勝ヒート - レース暫定結果表（印刷）'!H$11,'[1]決勝ヒート - レース結果（貼付）'!$1:$1,0)),"") | I47: =IF(A47="DNS","",IF(A47="DQ","",IFERROR(INDEX('[1]決勝ヒート - レース結果（貼付）'!$A:$Z,MATCH($A47,'[1]決勝ヒート - レース結果（貼付）'!$A:$A,0),MATCH('決勝ヒート - レース暫定結果表（印刷）'!I$11,'[1]決勝ヒート - レース結果（貼付）'!$1:$1,0)),""))) | J47: =IF(A47="DNS","ｽﾀｰﾄ出来ず",IF(A47="DQ","失 格",IFERROR(INDEX('[1]決勝ヒート - レース結果（貼付）'!$A:$Z,MATCH($B47,'[1]決勝ヒート - レース結果（貼付）'!$B:$B,0),MATCH('決勝ヒート - レース暫定結果表（印刷）'!J$11,'[1]決勝ヒート - レース結果（貼付）'!$1:$1,0)),""))) | K47: =IF(A47="DNS","",IF(A47="DQ","",IFERROR(INDEX('[1]決勝ヒート - レース結果（貼付）'!$A:$Z,MATCH($A47,'[1]決勝ヒート - レース結果（貼付）'!$A:$A,0),MATCH('決勝ヒート - レース暫定結果表（印刷）'!K$11,'[1]決勝ヒート - レース結果（貼付）'!$1:$1,0)),""))) | L47: =IF(A47="DNS","",IF(A47="DQ","",IFERROR(INDEX('[1]決勝ヒート - レース結果（貼付）'!$A:$Z,MATCH($A47,'[1]決勝ヒート - レース結果（貼付）'!$A:$A,0),MATCH('決勝ヒート - レース暫定結果表（印刷）'!L$11,'[1]決勝ヒート - レース結果（貼付）'!$1:$1,0)),""))) | M47: =IF(A47="DNS","",IF(A47="DQ","",IFERROR(INDEX('[1]決勝ヒート - レース結果（貼付）'!$A:$Z,MATCH($B47,'[1]決勝ヒート - レース結果（貼付）'!$B:$B,0),MATCH('決勝ヒート - レース暫定結果表（印刷）'!M$11,'[1]決勝ヒート - レース結果（貼付）'!$1:$1,0)),""))) | N47: =IF(M47<1,"",IF($N$11>M47,"R","")) | Q47: =IF(IFERROR(INDEX('[1]決勝ヒート - レース結果（貼付）'!$A:$Z,MATCH($B47,'[1]決勝ヒート - レース結果（貼付）'!$B:$B,0),MATCH('決勝ヒート - レース暫定結果表（印刷）'!Q$11,'[1]決勝ヒート - レース結果（貼付）'!$1:$1,0)),"")=0,"",IFERROR(INDEX('[1]決勝ヒート - レース結果（貼付）'!$A:$Z,MATCH($B47,'[1]決勝ヒート - レース結果（貼付）'!$B:$B,0),MATCH('決勝ヒート - レース暫定結果表（印刷）'!Q$11,'[1]決勝ヒート - レース結果（貼付）'!$1:$1,0)),"")) | R47: =IF(Q47="","",COUNTIF($Q$13:Q47,"<>"&"")) | S47: =IFERROR(RANK(R47,$R$13:$R$48,1),"") | T47: =IF(IFERROR(INDEX('[1]決勝ヒート - レース結果（貼付）'!$A:$Z,MATCH($A47,'[1]決勝ヒート - レース結果（貼付）'!$A:$A,0),MATCH('決勝ヒート - レース暫定結果表（印刷）'!T$11,'[1]決勝ヒート - レース結果（貼付）'!$1:$1,0)),"")=0,"",IFERROR(INDEX('[1]決勝ヒート - レース結果（貼付）'!$A:$Z,MATCH($A47,'[1]決勝ヒート - レース結果（貼付）'!$A:$A,0),MATCH('決勝ヒート - レース暫定結果表（印刷）'!T$11,'[1]決勝ヒート - レース結果（貼付）'!$1:$1,0)),"")) | U47: =IF(IFERROR(INDEX('[1]決勝ヒート - レース結果（貼付）'!$A:$Z,MATCH($B47,'[1]決勝ヒート - レース結果（貼付）'!$B:$B,0),MATCH('[1]決勝ヒート - レース正式結果表（印刷）'!U$11,'[1]決勝ヒート - レース結果（貼付）'!$1:$1,0)),"")=0,"",IFERROR(INDEX('[1]決勝ヒート - レース結果（貼付）'!$A:$Z,MATCH($B47,'[1]決勝ヒート - レース結果（貼付）'!$B:$B,0),MATCH('[1]決勝ヒート - レース正式結果表（印刷）'!U$11,'[1]決勝ヒート - レース結果（貼付）'!$1:$1,0)),""))
A48: =IF(OR('[1]決勝ヒート - レース結果（貼付）'!A35="DNF",'[1]決勝ヒート - レース結果（貼付）'!A35="DNS",'[1]決勝ヒート - レース結果（貼付）'!A35="DQ"),'[1]決勝ヒート - レース結果（貼付）'!A35,IF(MAX('[1]決勝ヒート - レース結果（貼付）'!A:A)>A47,A47+1,"")) | B48: =IFERROR(INDEX('[1]決勝ヒート - レース結果（貼付）'!A35:$Z$50,MATCH($A48,'[1]決勝ヒート - レース結果（貼付）'!A35:$A$50,0),MATCH('決勝ヒート - レース暫定結果表（印刷）'!B$11,'[1]決勝ヒート - レース結果（貼付）'!$1:$1,0)),"") | E48: =IFERROR(INDEX('[1]決勝ヒート - レース結果（貼付）'!$A:$Z,MATCH($B48,'[1]決勝ヒート - レース結果（貼付）'!$B:$B,0),MATCH('決勝ヒート - レース暫定結果表（印刷）'!E$11,'[1]決勝ヒート - レース結果（貼付）'!$1:$1,0)),"") | F48: =IFERROR(INDEX('[1]決勝ヒート - レース結果（貼付）'!$A:$Z,MATCH($B48,'[1]決勝ヒート - レース結果（貼付）'!$B:$B,0),MATCH('決勝ヒート - レース暫定結果表（印刷）'!F$11,'[1]決勝ヒート - レース結果（貼付）'!$1:$1,0)),"") | G48: =IFERROR(INDEX('[1]決勝ヒート - レース結果（貼付）'!$A:$Z,MATCH($B48,'[1]決勝ヒート - レース結果（貼付）'!$B:$B,0),MATCH('決勝ヒート - レース暫定結果表（印刷）'!G$11,'[1]決勝ヒート - レース結果（貼付）'!$1:$1,0)),"") | H48: =IFERROR(INDEX('[1]決勝ヒート - レース結果（貼付）'!$A:$Z,MATCH($B48,'[1]決勝ヒート - レース結果（貼付）'!$B:$B,0),MATCH('決勝ヒート - レース暫定結果表（印刷）'!H$11,'[1]決勝ヒート - レース結果（貼付）'!$1:$1,0)),"") | I48: =IF(A48="DNS","",IF(A48="DQ","",IFERROR(INDEX('[1]決勝ヒート - レース結果（貼付）'!$A:$Z,MATCH($A48,'[1]決勝ヒート - レース結果（貼付）'!$A:$A,0),MATCH('決勝ヒート - レース暫定結果表（印刷）'!I$11,'[1]決勝ヒート - レース結果（貼付）'!$1:$1,0)),""))) | J48: =IF(A48="DNS","ｽﾀｰﾄ出来ず",IF(A48="DQ","失 格",IFERROR(INDEX('[1]決勝ヒート - レース結果（貼付）'!$A:$Z,MATCH($B48,'[1]決勝ヒート - レース結果（貼付）'!$B:$B,0),MATCH('決勝ヒート - レース暫定結果表（印刷）'!J$11,'[1]決勝ヒート - レース結果（貼付）'!$1:$1,0)),""))) | K48: =IF(A48="DNS","",IF(A48="DQ","",IFERROR(INDEX('[1]決勝ヒート - レース結果（貼付）'!$A:$Z,MATCH($A48,'[1]決勝ヒート - レース結果（貼付）'!$A:$A,0),MATCH('決勝ヒート - レース暫定結果表（印刷）'!K$11,'[1]決勝ヒート - レース結果（貼付）'!$1:$1,0)),""))) | L48: =IF(A48="DNS","",IF(A48="DQ","",IFERROR(INDEX('[1]決勝ヒート - レース結果（貼付）'!$A:$Z,MATCH($A48,'[1]決勝ヒート - レース結果（貼付）'!$A:$A,0),MATCH('決勝ヒート - レース暫定結果表（印刷）'!L$11,'[1]決勝ヒート - レース結果（貼付）'!$1:$1,0)),""))) | M48: =IF(A48="DNS","",IF(A48="DQ","",IFERROR(INDEX('[1]決勝ヒート - レース結果（貼付）'!$A:$Z,MATCH($B48,'[1]決勝ヒート - レース結果（貼付）'!$B:$B,0),MATCH('決勝ヒート - レース暫定結果表（印刷）'!M$11,'[1]決勝ヒート - レース結果（貼付）'!$1:$1,0)),""))) | N48: =IF(M48<1,"",IF($N$11>M48,"R","")) | Q48: =IF(IFERROR(INDEX('[1]決勝ヒート - レース結果（貼付）'!$A:$Z,MATCH($B48,'[1]決勝ヒート - レース結果（貼付）'!$B:$B,0),MATCH('決勝ヒート - レース暫定結果表（印刷）'!Q$11,'[1]決勝ヒート - レース結果（貼付）'!$1:$1,0)),"")=0,"",IFERROR(INDEX('[1]決勝ヒート - レース結果（貼付）'!$A:$Z,MATCH($B48,'[1]決勝ヒート - レース結果（貼付）'!$B:$B,0),MATCH('決勝ヒート - レース暫定結果表（印刷）'!Q$11,'[1]決勝ヒート - レース結果（貼付）'!$1:$1,0)),"")) | R48: =IF(Q48="","",COUNTIF($Q$13:Q48,"<>"&"")) | S48: =IFERROR(RANK(R48,$R$13:$R$48,1),"") | T48: =IF(IFERROR(INDEX('[1]決勝ヒート - レース結果（貼付）'!$A:$Z,MATCH($A48,'[1]決勝ヒート - レース結果（貼付）'!$A:$A,0),MATCH('決勝ヒート - レース暫定結果表（印刷）'!T$11,'[1]決勝ヒート - レース結果（貼付）'!$1:$1,0)),"")=0,"",IFERROR(INDEX('[1]決勝ヒート - レース結果（貼付）'!$A:$Z,MATCH($A48,'[1]決勝ヒート - レース結果（貼付）'!$A:$A,0),MATCH('決勝ヒート - レース暫定結果表（印刷）'!T$11,'[1]決勝ヒート - レース結果（貼付）'!$1:$1,0)),"")) | U48: =IF(IFERROR(INDEX('[1]決勝ヒート - レース結果（貼付）'!$A:$Z,MATCH($B48,'[1]決勝ヒート - レース結果（貼付）'!$B:$B,0),MATCH('[1]決勝ヒート - レース正式結果表（印刷）'!U$11,'[1]決勝ヒート - レース結果（貼付）'!$1:$1,0)),"")=0,"",IFERROR(INDEX('[1]決勝ヒート - レース結果（貼付）'!$A:$Z,MATCH($B48,'[1]決勝ヒート - レース結果（貼付）'!$B:$B,0),MATCH('[1]決勝ヒート - レース正式結果表（印刷）'!U$11,'[1]決勝ヒート - レース結果（貼付）'!$1:$1,0)),""))
A49: Fastest Lap | E49: ="No."&IFERROR(INDEX($A11:$Z48,MATCH($J$49,$U$11:$U$48,0),MATCH("No.",$11:$11,0)),"")&" "&IFERROR(INDEX($A11:$Z48,MATCH($J$49,$U$11:$U$48,0),MATCH("名前",$11:$11,0)),"") -> No.19 向畑 疾走 | F49: =IFERROR(INDEX($A11:$Z48,MATCH($J$49,$U$11:$U$48,0),MATCH("team",$11:$11,0)),"") -> KC NAGAHARA | G49: =1.264/MAX($U:$U)*3600 -> 54.252161 | I49: =INDEX('[2]決勝ヒート - レース結果（貼付）'!$A:$Z,MATCH(INDEX($A12:$Z47,MATCH($J$49,$U$12:$U$47,0),MATCH("No.",$11:$11,0)),'[2]決勝ヒート - レース結果（貼付）'!$B:$B,0),MATCH("In Lap",'[2]決勝ヒート - レース結果（貼付）'!$1:$1,0))&"/"&IFERROR(INDEX($A12:$Z47,MATCH($J$49,$U$12:$U$47,0),MATCH("laps",$11:$11,0)),"") -> 15/22 | J49: =MAX($U:$U) -> 83.875 | K49: km/h
A51: =IF(COUNTIF(N:N,"R")>=1,"""R"" マークの車は、コースレコードを更新しました。従来のレコードタイムは"&" "&N11,"")
A53: =IF(A54="","","ﾍﾟﾅﾙﾃｨ") -> ﾍﾟﾅﾙﾃｨ
A54: =IF(MAX(R13:R48)<1,"",1) -> 1 | B54: =IF(A54="","","No."&INDEX($A$11:$V$48,MATCH($A54,$S$11:$S$48,0),MATCH("No.",$11:$11,0))) -> No.73 | C54: 全日本カート選手権統一規則書 第38条(25)(フロントフェアリングが正しい装着状態でない)により5秒加算した。
A55: =IF(A54<COUNTIF($S$12:$S$48,">"&0),A54+1,"") -> 2 | B55: =IF(A55="","","No."&INDEX($A$11:$V$48,MATCH($A55,$S$11:$S$48,0),MATCH("No.",$11:$11,0))) -> No.21 | C55: 全日本カート選手権統一規則書 第38条(25)(フロントフェアリングが正しい装着状態でない)により5秒加算した。
A56: =IF(A55<COUNTIF($S$12:$S$48,">"&0),A55+1,"") -> 3 | B56: =IF(A56="","","No."&INDEX($A$11:$V$48,MATCH($A56,$S$11:$S$48,0),MATCH("No.",$11:$11,0))) -> No.39 | C56: 全日本カート選手権統一規則書 第38条(25)(フロントフェアリングが正しい装着状態でない)により5秒加算した。
A57: =IF(A56<COUNTIF($S$12:$S$48,">"&0),A56+1,"") -> 4 | B57: =IF(A57="","","No."&INDEX($A$11:$V$48,MATCH($A57,$S$11:$S$48,0),MATCH("No.",$11:$11,0))) -> No.58 | C57: 全日本カート選手権統一規則書 第38条(25)(フロントフェアリングが正しい装着状態でない)により5秒加算した。
A58: =IF(A57<COUNTIF($S$12:$S$48,">"&0),A57+1,"") -> 5 | B58: =IF(A58="","","No."&INDEX($A$11:$V$48,MATCH($A58,$S$11:$S$48,0),MATCH("No.",$11:$11,0))) -> No.11 | C58: JAF国内ｶｰﾄ競技規則 ｶｰﾄ競技会運営に関する規定 22条(妨害の禁止(無理な進入))違反により、10秒加算とした。
A59: =IF(A58<COUNTIF($S$12:$S$48,">"&0),A58+1,"") -> 6 | B59: =IF(A59="","","No."&INDEX($A$11:$V$48,MATCH($A59,$S$11:$S$48,0),MATCH("No.",$11:$11,0))) -> No.27 | C59: 全日本カート選手権統一規則書 第38条(25)(フロントフェアリングが正しい装着状態でない)により5秒加算した。
A60: =IF(A59<COUNTIF($S$12:$S$48,">"&0),A59+1,"") | B60: =IF(A60="","","No."&INDEX($A$11:$V$48,MATCH($A60,$S$11:$S$48,0),MATCH("No.",$11:$11,0)))
A61: =IF(A60<COUNTIF($S$12:$S$48,">"&0),A60+1,"") | B61: =IF(A61="","","No."&INDEX($A$11:$V$48,MATCH($A61,$S$11:$S$48,0),MATCH("No.",$11:$11,0)))
A62: =IF(A61<COUNTIF($S$12:$S$48,">"&0),A61+1,"") | B62: =IF(A62="","","No."&INDEX($A$11:$V$48,MATCH($A62,$S$11:$S$48,0),MATCH("No.",$11:$11,0)))
A63: =IF(A62<COUNTIF($S$12:$S$48,">"&0),A62+1,"") | B63: =IF(A63="","","No."&INDEX($A$11:$V$48,MATCH($A63,$S$11:$S$48,0),MATCH("No.",$11:$11,0)))
A64: =IF(A63<COUNTIF($S$12:$S$48,">"&0),A63+1,"") | B64: =IF(A64="","","No."&INDEX($A$11:$V$48,MATCH($A64,$S$11:$S$48,0),MATCH("No.",$11:$11,0)))
B66: ="審査委員長 ："&" "&[1]各種設定!$D$20 -> 審査委員長 ： Makoto SAITO | F66: ="競技委員長 ："&" "&[1]各種設定!$D$22 -> 競技委員長 ： Toshiaki KUBOTA | I66: ="計時委員長 ："&" "&[1]各種設定!$D$24 -> 計時委員長 ： Tsutomu HAYAKAWA

Sheet 決勝ヒート - グリッド表（印刷）
J7: =+[1]各種設定!D18 -> 44878
A8: =+[1]各種設定!D2 -> 2022年 全日本カート選手権 FS-125/FP-3部門 東西統一競技会 | K8: :
A10: =+[1]各種設定!D4 -> FS-125 | L10: 南コース 1.264Km
A11: 決勝ヒート グリッド表
B15: PP | C15: =IFERROR(INDEX('[1]予選ヒート-レース結果表・グリッド用（貼付）'!$A:$Z,MATCH(1,'[1]予選ヒート-レース結果表・グリッド用（貼付）'!$A:$A,0),MATCH("No.",'[1]予選ヒート-レース結果表・グリッド用（貼付）'!$1:$1,0)),"") -> 18 | D15: =INDEX('[1]予選ヒート-レース結果表・グリッド用（貼付）'!$A:$Z,MATCH(1,'[1]予選ヒート-レース結果表・グリッド用（貼付）'!$A:$A,0),MATCH("名前",'[1]予選ヒート-レース結果表・グリッド用（貼付）'!$1:$1,0)) -> 五十嵐 文太郎 | G15: 2 | H15: =IFERROR(INDEX('[1]予選ヒート-レース結果表・グリッド用（貼付）'!$A:$Z,MATCH($G15,'[1]予選ヒート-レース結果表・グリッド用（貼付）'!$A:$A,0),MATCH("No.",'[1]予選ヒート-レース結果表・グリッド用（貼付）'!$1:$1,0)),"") -> 19 | I15: =INDEX('[1]予選ヒート-レース結果表・グリッド用（貼付）'!$A:$Z,MATCH($G15,'[1]予選ヒート-レース結果表・グリッド用（貼付）'!$A:$A,0),MATCH("名前",'[1]予選ヒート-レース結果表・グリッド用（貼付）'!$1:$1,0)) -> 向畑 疾走
C16: =IF(INDEX('[1]予選ヒート-レース結果表・グリッド用（貼付）'!$A:$Z,MATCH(1,'[1]予選ヒート-レース結果表・グリッド用（貼付）'!$A:$A,0),MATCH("クラス",'[1]予選ヒート-レース結果表・グリッド用（貼付）'!$1:$1,0))=0,"",INDEX('[1]予選ヒート-レース結果表・グリッド用（貼付）'!$A:$Z,MATCH(1,'[1]予選ヒート-レース結果表・グリッド用（貼付）'!$A:$A,0),MATCH("クラス",'[1]予選ヒート-レース結果表・グリッド用（貼付）'!$1:$1,0))) -> FS-125 | F16: =INDEX('[1]予選ヒート-レース結果表・グリッド用（貼付）'!$A:$Z,MATCH(1,'[1]予選ヒート-レース結果表・グリッド用（貼付）'!$A:$A,0),MATCH("Model/Engine",'[1]予選ヒート-レース結果表・グリッド用（貼付）'!$1:$1,0)) -> Birel ART/IAME | H16: =IF(INDEX('[1]予選ヒート-レース結果表・グリッド用（貼付）'!$A:$Z,MATCH(G15,'[1]予選ヒート-レース結果表・グリッド用（貼付）'!$A:$A,0),MATCH("クラス",'[1]予選ヒート-レース結果表・グリッド用（貼付）'!$1:$1,0))=0,"",INDEX('[1]予選ヒート-レース結果表・グリッド用（貼付）'!$A:$Z,MATCH(G15,'[1]予選ヒート-レース結果表・グリッド用（貼付）'!$A:$A,0),MATCH("クラス",'[1]予選ヒート-レース結果表・グリッド用（貼付）'!$1:$1,0))) -> FS-125 | K16: =INDEX('[1]予選ヒート-レース結果表・グリッド用（貼付）'!$A:$Z,MATCH($G15,'[1]予選ヒート-レース結果表・グリッド用（貼付）'!$A:$A,0),MATCH("Model/Engine",'[1]予選ヒート-レース結果表・グリッド用（貼付）'!$1:$1,0)) -> CRG/IAME
C17: =INDEX('[1]予選ヒート-レース結果表・グリッド用（貼付）'!$A:$Z,MATCH(1,'[1]予選ヒート-レース結果表・グリッド用（貼付）'!$A:$A,0),MATCH("team",'[1]予選ヒート-レース結果表・グリッド用（貼付）'!$1:$1,0)) -> Formula Blue エッフェガーラ | H17: =IF(INDEX('[1]予選ヒート-レース結果表・グリッド用（貼付）'!$A:$Z,MATCH($G15,'[1]予選ヒート-レース結果表・グリッド用（貼付）'!$A:$A,0),MATCH("team",'[1]予選ヒート-レース結果表・グリッド用（貼付）'!$1:$1,0))=0,"",INDEX('[1]予選ヒート-レース結果表・グリッド用（貼付）'!$A:$Z,MATCH($G15,'[1]予選ヒート-レース結果表・グリッド用（貼付）'!$A:$A,0),MATCH("team",'[1]予選ヒート-レース結果表・グリッド用（貼付）'!$1:$1,0))) -> KC NAGAHARA
B19: =IF(MAX('[1]予選ヒート-レース結果表・グリッド用（貼付）'!A:A)>G15,G15+1,"") -> 3 | C19: =IFERROR(INDEX('[1]予選ヒート-レース結果表・グリッド用（貼付）'!$A:$Z,MATCH($B19,'[1]予選ヒート-レース結果表・グリッド用（貼付）'!$A:$A,0),MATCH("No.",'[1]予選ヒート-レース結果表・グリッド用（貼付）'!$1:$1,0)),"") -> 30 | D19: =IFERROR(INDEX('[1]予選ヒート-レース結果表・グリッド用（貼付）'!$A:$Z,MATCH($B19,'[1]予選ヒート-レース結果表・グリッド用（貼付）'!$A:$A,0),MATCH("名前",'[1]予選ヒート-レース結果表・グリッド用（貼付）'!$1:$1,0)),"") -> 加納 康雅 | G19: =IF(MAX('[1]予選ヒート-レース結果表・グリッド用（貼付）'!A:A)>B19,B19+1,"") -> 4 | H19: =IFERROR(INDEX('[1]予選ヒート-レース結果表・グリッド用（貼付）'!$A:$Z,MATCH($G19,'[1]予選ヒート-レース結果表・グリッド用（貼付）'!$A:$A,0),MATCH("No.",'[1]予選ヒート-レース結果表・グリッド用（貼付）'!$1:$1,0)),"") -> 39 | I19: =IFERROR(INDEX('[1]予選ヒート-レース結果表・グリッド用（貼付）'!$A:$Z,MATCH($G19,'[1]予選ヒート-レース結果表・グリッド用（貼付）'!$A:$A,0),MATCH("名前",'[1]予選ヒート-レース結果表・グリッド用（貼付）'!$1:$1,0)),"") -> 塚本 凛世
C20: =IFERROR(IF(INDEX('[1]予選ヒート-レース結果表・グリッド用（貼付）'!$A:$Z,MATCH(B19,'[1]予選ヒート-レース結果表・グリッド用（貼付）'!$A:$A,0),MATCH("クラス",'[1]予選ヒート-レース結果表・グリッド用（貼付）'!$1:$1,0))=0,"",INDEX('[1]予選ヒート-レース結果表・グリッド用（貼付）'!$A:$Z,MATCH(B19,'[1]予選ヒート-レース結果表・グリッド用（貼付）'!$A:$A,0),MATCH("クラス",'[1]予選ヒート-レース結果表・グリッド用（貼付）'!$1:$1,0))),"") -> FS-125 | F20: =IFERROR(INDEX('[1]予選ヒート-レース結果表・グリッド用（貼付）'!$A:$Z,MATCH($B19,'[1]予選ヒート-レース結果表・グリッド用（貼付）'!$A:$A,0),MATCH("Model/Engine",'[1]予選ヒート-レース結果表・グリッド用（貼付）'!$1:$1,0)),"") -> CL/IAME | H20: =IFERROR(IF(INDEX('[1]予選ヒート-レース結果表・グリッド用（貼付）'!$A:$Z,MATCH(G19,'[1]予選ヒート-レース結果表・グリッド用（貼付）'!$A:$A,0),MATCH("クラス",'[1]予選ヒート-レース結果表・グリッド用（貼付）'!$1:$1,0))=0,"",INDEX('[1]予選ヒート-レース結果表・グリッド用（貼付）'!$A:$Z,MATCH(G19,'[1]予選ヒート-レース結果表・グリッド用（貼付）'!$A:$A,0),MATCH("クラス",'[1]予選ヒート-レース結果表・グリッド用（貼付）'!$1:$1,0))),"") -> FS-125 | K20: =IFERROR(INDEX('[1]予選ヒート-レース結果表・グリッド用（貼付）'!$A:$Z,MATCH($G19,'[1]予選ヒート-レース結果表・グリッド用（貼付）'!$A:$A,0),MATCH("Model/Engine",'[1]予選ヒート-レース結果表・グリッド用（貼付）'!$1:$1,0)),"") -> TONY KART/IAME
C21: =IF(IFERROR(INDEX('[1]予選ヒート-レース結果表・グリッド用（貼付）'!$A:$Z,MATCH($B19,'[1]予選ヒート-レース結果表・グリッド用（貼付）'!$A:$A,0),MATCH("team",'[1]予選ヒート-レース結果表・グリッド用（貼付）'!$1:$1,0)),"")=0,"",IFERROR(INDEX('[1]予選ヒート-レース結果表・グリッド用（貼付）'!$A:$Z,MATCH($B19,'[1]予選ヒート-レース結果表・グリッド用（貼付）'!$A:$A,0),MATCH("team",'[1]予選ヒート-レース結果表・グリッド用（貼付）'!$1:$1,0)),"")) -> TIGRE | H21: =IFERROR(IF(INDEX('[1]予選ヒート-レース結果表・グリッド用（貼付）'!$A:$Z,MATCH($G19,'[1]予選ヒート-レース結果表・グリッド用（貼付）'!$A:$A,0),MATCH("team",'[1]予選ヒート-レース結果表・グリッド用（貼付）'!$1:$1,0))=0,"",INDEX('[1]予選ヒート-レース結果表・グリッド用（貼付）'!$A:$Z,MATCH($G19,'[1]予選ヒート-レース結果表・グリッド用（貼付）'!$A:$A,0),MATCH("team",'[1]予選ヒート-レース結果表・グリッド用（貼付）'!$1:$1,0))),"") -> K.SPEED WIN
B23: =IF(MAX('[1]予選ヒート-レース結果表・グリッド用（貼付）'!A:A)>G19,G19+1,"") -> 5 | C23: =IFERROR(INDEX('[1]予選ヒート-レース結果表・グリッド用（貼付）'!$A:$Z,MATCH($B23,'[1]予選ヒート-レース結果表・グリッド用（貼付）'!$A:$A,0),MATCH("No.",'[1]予選ヒート-レース結果表・グリッド用（貼付）'!$1:$1,0)),"") -> 11 | D23: =IFERROR(INDEX('[1]予選ヒート-レース結果表・グリッド用（貼付）'!$A:$Z,MATCH($B23,'[1]予選ヒート-レース結果表・グリッド用（貼付）'!$A:$A,0),MATCH("名前",'[1]予選ヒート-レース結果表・グリッド用（貼付）'!$1:$1,0)),"") -> 落合 蓮音 | G23: =IF(MAX('[1]予選ヒート-レース結果表・グリッド用（貼付）'!A:A)>B23,B23+1,"") -> 6 | H23: =IFERROR(INDEX('[1]予選ヒート-レース結果表・グリッド用（貼付）'!$A:$Z,MATCH($G23,'[1]予選ヒート-レース結果表・グリッド用（貼付）'!$A:$A,0),MATCH("No.",'[1]予選ヒート-レース結果表・グリッド用（貼付）'!$1:$1,0)),"") -> 55 | I23: =IFERROR(INDEX('[1]予選ヒート-レース結果表・グリッド用（貼付）'!$A:$Z,MATCH($G23,'[1]予選ヒート-レース結果表・グリッド用（貼付）'!$A:$A,0),MATCH("名前",'[1]予選ヒート-レース結果表・グリッド用（貼付）'!$1:$1,0)),"") -> 喜納 颯矢斗
C24: =IFERROR(IF(INDEX('[1]予選ヒート-レース結果表・グリッド用（貼付）'!$A:$Z,MATCH(B23,'[1]予選ヒート-レース結果表・グリッド用（貼付）'!$A:$A,0),MATCH("クラス",'[1]予選ヒート-レース結果表・グリッド用（貼付）'!$1:$1,0))=0,"",INDEX('[1]予選ヒート-レース結果表・グリッド用（貼付）'!$A:$Z,MATCH(B23,'[1]予選ヒート-レース結果表・グリッド用（貼付）'!$A:$A,0),MATCH("クラス",'[1]予選ヒート-レース結果表・グリッド用（貼付）'!$1:$1,0))),"") -> FS-125 | F24: =IFERROR(INDEX('[1]予選ヒート-レース結果表・グリッド用（貼付）'!$A:$Z,MATCH($B23,'[1]予選ヒート-レース結果表・グリッド用（貼付）'!$A:$A,0),MATCH("Model/Engine",'[1]予選ヒート-レース結果表・グリッド用（貼付）'!$1:$1,0)),"") -> TONY KART/IAME | H24: =IFERROR(IF(INDEX('[1]予選ヒート-レース結果表・グリッド用（貼付）'!$A:$Z,MATCH(G23,'[1]予選ヒート-レース結果表・グリッド用（貼付）'!$A:$A,0),MATCH("クラス",'[1]予選ヒート-レース結果表・グリッド用（貼付）'!$1:$1,0))=0,"",INDEX('[1]予選ヒート-レース結果表・グリッド用（貼付）'!$A:$Z,MATCH(G23,'[1]予選ヒート-レース結果表・グリッド用（貼付）'!$A:$A,0),MATCH("クラス",'[1]予選ヒート-レース結果表・グリッド用（貼付）'!$1:$1,0))),"") -> FS-125 | K24: =IFERROR(INDEX('[1]予選ヒート-レース結果表・グリッド用（貼付）'!$A:$Z,MATCH($G23,'[1]予選ヒート-レース結果表・グリッド用（貼付）'!$A:$A,0),MATCH("Model/Engine",'[1]予選ヒート-レース結果表・グリッド用（貼付）'!$1:$1,0)),"") -> TONY KART/IAME
C25: =IF(IFERROR(INDEX('[1]予選ヒート-レース結果表・グリッド用（貼付）'!$A:$Z,MATCH($B23,'[1]予選ヒート-レース結果表・グリッド用（貼付）'!$A:$A,0),MATCH("team",'[1]予選ヒート-レース結果表・グリッド用（貼付）'!$1:$1,0)),"")=0,"",IFERROR(INDEX('[1]予選ヒート-レース結果表・グリッド用（貼付）'!$A:$Z,MATCH($B23,'[1]予選ヒート-レース結果表・グリッド用（貼付）'!$A:$A,0),MATCH("team",'[1]予選ヒート-レース結果表・グリッド用（貼付）'!$1:$1,0)),"")) -> Formula Blue Ash | H25: =IFERROR(IF(INDEX('[1]予選ヒート-レース結果表・グリッド用（貼付）'!$A:$Z,MATCH($G23,'[1]予選ヒート-レース結果表・グリッド用（貼付）'!$A:$A,0),MATCH("team",'[1]予選ヒート-レース結果表・グリッド用（貼付）'!$1:$1,0))=0,"",INDEX('[1]予選ヒート-レース結果表・グリッド用（貼付）'!$A:$Z,MATCH($G23,'[1]予選ヒート-レース結果表・グリッド用（貼付）'!$A:$A,0),MATCH("team",'[1]予選ヒート-レース結果表・グリッド用（貼付）'!$1:$1,0))),"") -> YRHKS
B27: =IF(MAX('[1]予選ヒート-レース結果表・グリッド用（貼付）'!A:A)>G23,G23+1,"") -> 7 | C27: =IFERROR(INDEX('[1]予選ヒート-レース結果表・グリッド用（貼付）'!$A:$Z,MATCH($B27,'[1]予選ヒート-レース結果表・グリッド用（貼付）'!$A:$A,0),MATCH("No.",'[1]予選ヒート-レース結果表・グリッド用（貼付）'!$1:$1,0)),"") -> 31 | D27: =IFERROR(INDEX('[1]予選ヒート-レース結果表・グリッド用（貼付）'!$A:$Z,MATCH($B27,'[1]予選ヒート-レース結果表・グリッド用（貼付）'!$A:$A,0),MATCH("名前",'[1]予選ヒート-レース結果表・グリッド用（貼付）'!$1:$1,0)),"") -> 中井 陽斗 | G27: =IF(MAX('[1]予選ヒート-レース結果表・グリッド用（貼付）'!A:A)>B27,B27+1,"") -> 8 | H27: =IFERROR(INDEX('[1]予選ヒート-レース結果表・グリッド用（貼付）'!$A:$Z,MATCH($G27,'[1]予選ヒート-レース結果表・グリッド用（貼付）'!$A:$A,0),MATCH("No.",'[1]予選ヒート-レース結果表・グリッド用（貼付）'!$1:$1,0)),"") -> 21 | I27: =IFERROR(INDEX('[1]予選ヒート-レース結果表・グリッド用（貼付）'!$A:$Z,MATCH($G27,'[1]予選ヒート-レース結果表・グリッド用（貼付）'!$A:$A,0),MATCH("名前",'[1]予選ヒート-レース結果表・グリッド用（貼付）'!$1:$1,0)),"") -> 百瀬 翔
C28: =IFERROR(IF(INDEX('[1]予選ヒート-レース結果表・グリッド用（貼付）'!$A:$Z,MATCH(B27,'[1]予選ヒート-レース結果表・グリッド用（貼付）'!$A:$A,0),MATCH("クラス",'[1]予選ヒート-レース結果表・グリッド用（貼付）'!$1:$1,0))=0,"",INDEX('[1]予選ヒート-レース結果表・グリッド用（貼付）'!$A:$Z,MATCH(B27,'[1]予選ヒート-レース結果表・グリッド用（貼付）'!$A:$A,0),MATCH("クラス",'[1]予選ヒート-レース結果表・グリッド用（貼付）'!$1:$1,0))),"") -> FS-125 | F28: =IFERROR(INDEX('[1]予選ヒート-レース結果表・グリッド用（貼付）'!$A:$Z,MATCH($B27,'[1]予選ヒート-レース結果表・グリッド用（貼付）'!$A:$A,0),MATCH("Model/Engine",'[1]予選ヒート-レース結果表・グリッド用（貼付）'!$1:$1,0)),"") -> CL/IAME | H28: =IFERROR(IF(INDEX('[1]予選ヒート-レース結果表・グリッド用（貼付）'!$A:$Z,MATCH(G27,'[1]予選ヒート-レース結果表・グリッド用（貼付）'!$A:$A,0),MATCH("クラス",'[1]予選ヒート-レース結果表・グリッド用（貼付）'!$1:$1,0))=0,"",INDEX('[1]予選ヒート-レース結果表・グリッド用（貼付）'!$A:$Z,MATCH(G27,'[1]予選ヒート-レース結果表・グリッド用（貼付）'!$A:$A,0),MATCH("クラス",'[1]予選ヒート-レース結果表・グリッド用（貼付）'!$1:$1,0))),"") -> FS-125 | K28: =IFERROR(INDEX('[1]予選ヒート-レース結果表・グリッド用（貼付）'!$A:$Z,MATCH($G27,'[1]予選ヒート-レース結果表・グリッド用（貼付）'!$A:$A,0),MATCH("Model/Engine",'[1]予選ヒート-レース結果表・グリッド用（貼付）'!$1:$1,0)),"") -> LN KART/IAME
C29: =IF(IFERROR(INDEX('[1]予選ヒート-レース結果表・グリッド用（貼付）'!$A:$Z,MATCH($B27,'[1]予選ヒート-レース結果表・グリッド用（貼付）'!$A:$A,0),MATCH("team",'[1]予選ヒート-レース結果表・グリッド用（貼付）'!$1:$1,0)),"")=0,"",IFERROR(INDEX('[1]予選ヒート-レース結果表・グリッド用（貼付）'!$A:$Z,MATCH($B27,'[1]予選ヒート-レース結果表・グリッド用（貼付）'!$A:$A,0),MATCH("team",'[1]予選ヒート-レース結果表・グリッド用（貼付）'!$1:$1,0)),"")) -> TEAM EMATY | H29: =IFERROR(IF(INDEX('[1]予選ヒート-レース結果表・グリッド用（貼付）'!$A:$Z,MATCH($G27,'[1]予選ヒート-レース結果表・グリッド用（貼付）'!$A:$A,0),MATCH("team",'[1]予選ヒート-レース結果表・グリッド用（貼付）'!$1:$1,0))=0,"",INDEX('[1]予選ヒート-レース結果表・グリッド用（貼付）'!$A:$Z,MATCH($G27,'[1]予選ヒート-レース結果表・グリッド用（貼付）'!$A:$A,0),MATCH("team",'[1]予選ヒート-レース結果表・グリッド用（貼付）'!$1:$1,0))),"") -> HRS JAPAN
B31: =IF(MAX('[1]予選ヒート-レース結果表・グリッド用（貼付）'!A:A)>G27,G27+1,"") -> 9 | C31: =IFERROR(INDEX('[1]予選ヒート-レース結果表・グリッド用（貼付）'!$A:$Z,MATCH($B31,'[1]予選ヒート-レース結果表・グリッド用（貼付）'!$A:$A,0),MATCH("No.",'[1]予選ヒート-レース結果表・グリッド用（貼付）'!$1:$1,0)),"") -> 35 | D31: =IFERROR(INDEX('[1]予選ヒート-レース結果表・グリッド用（貼付）'!$A:$Z,MATCH($B31,'[1]予選ヒート-レース結果表・グリッド用（貼付）'!$A:$A,0),MATCH("名前",'[1]予選ヒート-レース結果表・グリッド用（貼付）'!$1:$1,0)),"") -> 冨田 真弥 | G31: =IF(MAX('[1]予選ヒート-レース結果表・グリッド用（貼付）'!A:A)>B31,B31+1,"") -> 10 | H31: =IFERROR(INDEX('[1]予選ヒート-レース結果表・グリッド用（貼付）'!$A:$Z,MATCH($G31,'[1]予選ヒート-レース結果表・グリッド用（貼付）'!$A:$A,0),MATCH("No.",'[1]予選ヒート-レース結果表・グリッド用（貼付）'!$1:$1,0)),"") -> 44 | I31: =IFERROR(INDEX('[1]予選ヒート-レース結果表・グリッド用（貼付）'!$A:$Z,MATCH($G31,'[1]予選ヒート-レース結果表・グリッド用（貼付）'!$A:$A,0),MATCH("名前",'[1]予選ヒート-レース結果表・グリッド用（貼付）'!$1:$1,0)),"") -> 菊田 悟
C32: =IFERROR(IF(INDEX('[1]予選ヒート-レース結果表・グリッド用（貼付）'!$A:$Z,MATCH(B31,'[1]予選ヒート-レース結果表・グリッド用（貼付）'!$A:$A,0),MATCH("クラス",'[1]予選ヒート-レース結果表・グリッド用（貼付）'!$1:$1,0))=0,"",INDEX('[1]予選ヒート-レース結果表・グリッド用（貼付）'!$A:$Z,MATCH(B31,'[1]予選ヒート-レース結果表・グリッド用（貼付）'!$A:$A,0),MATCH("クラス",'[1]予選ヒート-レース結果表・グリッド用（貼付）'!$1:$1,0))),"") -> FS-125 | F32: =IFERROR(INDEX('[1]予選ヒート-レース結果表・グリッド用（貼付）'!$A:$Z,MATCH($B31,'[1]予選ヒート-レース結果表・グリッド用（貼付）'!$A:$A,0),MATCH("Model/Engine",'[1]予選ヒート-レース結果表・グリッド用（貼付）'!$1:$1,0)),"") -> Drago CORSE/IAME | H32: =IFERROR(IF(INDEX('[1]予選ヒート-レース結果表・グリッド用（貼付）'!$A:$Z,MATCH(G31,'[1]予選ヒート-レース結果表・グリッド用（貼付）'!$A:$A,0),MATCH("クラス",'[1]予選ヒート-レース結果表・グリッド用（貼付）'!$1:$1,0))=0,"",INDEX('[1]予選ヒート-レース結果表・グリッド用（貼付）'!$A:$Z,MATCH(G31,'[1]予選ヒート-レース結果表・グリッド用（貼付）'!$A:$A,0),MATCH("クラス",'[1]予選ヒート-レース結果表・グリッド用（貼付）'!$1:$1,0))),"") -> FS-125 | K32: =IFERROR(INDEX('[1]予選ヒート-レース結果表・グリッド用（貼付）'!$A:$Z,MATCH($G31,'[1]予選ヒート-レース結果表・グリッド用（貼付）'!$A:$A,0),MATCH("Model/Engine",'[1]予選ヒート-レース結果表・グリッド用（貼付）'!$1:$1,0)),"") -> KOSMIC/IAME
C33: =IF(IFERROR(INDEX('[1]予選ヒート-レース結果表・グリッド用（貼付）'!$A:$Z,MATCH($B31,'[1]予選ヒート-レース結果表・グリッド用（貼付）'!$A:$A,0),MATCH("team",'[1]予選ヒート-レース結果表・グリッド用（貼付）'!$1:$1,0)),"")=0,"",IFERROR(INDEX('[1]予選ヒート-レース結果表・グリッド用（貼付）'!$A:$Z,MATCH($B31,'[1]予選ヒート-レース結果表・グリッド用（貼付）'!$A:$A,0),MATCH("team",'[1]予選ヒート-レース結果表・グリッド用（貼付）'!$1:$1,0)),"")) -> EHRE MOTOR SPORTS | H33: =IFERROR(IF(INDEX('[1]予選ヒート-レース結果表・グリッド用（貼付）'!$A:$Z,MATCH($G31,'[1]予選ヒート-レース結果表・グリッド用（貼付）'!$A:$A,0),MATCH("team",'[1]予選ヒート-レース結果表・グリッド用（貼付）'!$1:$1,0))=0,"",INDEX('[1]予選ヒート-レース結果表・グリッド用（貼付）'!$A:$Z,MATCH($G31,'[1]予選ヒート-レース結果表・グリッド用（貼付）'!$A:$A,0),MATCH("team",'[1]予選ヒート-レース結果表・グリッド用（貼付）'!$1:$1,0))),"") -> TEAM CRESCENT with ONE POINT
B35: =IF(MAX('[1]予選ヒート-レース結果表・グリッド用（貼付）'!A:A)>G31,G31+1,"") -> 11 | C35: =IFERROR(INDEX('[1]予選ヒート-レース結果表・グリッド用（貼付）'!$A:$Z,MATCH($B35,'[1]予選ヒート-レース結果表・グリッド用（貼付）'!$A:$A,0),MATCH("No.",'[1]予選ヒート-レース結果表・グリッド用（貼付）'!$1:$1,0)),"") -> 83 | D35: =IFERROR(INDEX('[1]予選ヒート-レース結果表・グリッド用（貼付）'!$A:$Z,MATCH($B35,'[1]予選ヒート-レース結果表・グリッド用（貼付）'!$A:$A,0),MATCH("名前",'[1]予選ヒート-レース結果表・グリッド用（貼付）'!$1:$1,0)),"") -> 近江川 暖人 | G35: =IF(MAX('[1]予選ヒート-レース結果表・グリッド用（貼付）'!A:A)>B35,B35+1,"") -> 12 | H35: =IFERROR(INDEX('[1]予選ヒート-レース結果表・グリッド用（貼付）'!$A:$Z,MATCH($G35,'[1]予選ヒート-レース結果表・グリッド用（貼付）'!$A:$A,0),MATCH("No.",'[1]予選ヒート-レース結果表・グリッド用（貼付）'!$1:$1,0)),"") -> 27 | I35: =IFERROR(INDEX('[1]予選ヒート-レース結果表・グリッド用（貼付）'!$A:$Z,MATCH($G35,'[1]予選ヒート-レース結果表・グリッド用（貼付）'!$A:$A,0),MATCH("名前",'[1]予選ヒート-レース結果表・グリッド用（貼付）'!$1:$1,0)),"") -> 菊池 貴博
C36: =IFERROR(IF(INDEX('[1]予選ヒート-レース結果表・グリッド用（貼付）'!$A:$Z,MATCH(B35,'[1]予選ヒート-レース結果表・グリッド用（貼付）'!$A:$A,0),MATCH("クラス",'[1]予選ヒート-レース結果表・グリッド用（貼付）'!$1:$1,0))=0,"",INDEX('[1]予選ヒート-レース結果表・グリッド用（貼付）'!$A:$Z,MATCH(B35,'[1]予選ヒート-レース結果表・グリッド用（貼付）'!$A:$A,0),MATCH("クラス",'[1]予選ヒート-レース結果表・グリッド用（貼付）'!$1:$1,0))),"") -> FS-125 | F36: =IFERROR(INDEX('[1]予選ヒート-レース結果表・グリッド用（貼付）'!$A:$Z,MATCH($B35,'[1]予選ヒート-レース結果表・グリッド用（貼付）'!$A:$A,0),MATCH("Model/Engine",'[1]予選ヒート-レース結果表・グリッド用（貼付）'!$1:$1,0)),"") -> KOSMIC/IAME | H36: =IFERROR(IF(INDEX('[1]予選ヒート-レース結果表・グリッド用（貼付）'!$A:$Z,MATCH(G35,'[1]予選ヒート-レース結果表・グリッド用（貼付）'!$A:$A,0),MATCH("クラス",'[1]予選ヒート-レース結果表・グリッド用（貼付）'!$1:$1,0))=0,"",INDEX('[1]予選ヒート-レース結果表・グリッド用（貼付）'!$A:$Z,MATCH(G35,'[1]予選ヒート-レース結果表・グリッド用（貼付）'!$A:$A,0),MATCH("クラス",'[1]予選ヒート-レース結果表・グリッド用（貼付）'!$1:$1,0))),"") -> FS-125 | K36: =IFERROR(INDEX('[1]予選ヒート-レース結果表・グリッド用（貼付）'!$A:$Z,MATCH($G35,'[1]予選ヒート-レース結果表・グリッド用（貼付）'!$A:$A,0),MATCH("Model/Engine",'[1]予選ヒート-レース結果表・グリッド用（貼付）'!$1:$1,0)),"") -> CRG/IAME
C37: =IF(IFERROR(INDEX('[1]予選ヒート-レース結果表・グリッド用（貼付）'!$A:$Z,MATCH($B35,'[1]予選ヒート-レース結果表・グリッド用（貼付）'!$A:$A,0),MATCH("team",'[1]予選ヒート-レース結果表・グリッド用（貼付）'!$1:$1,0)),"")=0,"",IFERROR(INDEX('[1]予選ヒート-レース結果表・グリッド用（貼付）'!$A:$Z,MATCH($B35,'[1]予選ヒート-レース結果表・グリッド用（貼付）'!$A:$A,0),MATCH("team",'[1]予選ヒート-レース結果表・グリッド用（貼付）'!$1:$1,0)),"")) -> HRS JAPAN | H37: =IFERROR(IF(INDEX('[1]予選ヒート-レース結果表・グリッド用（貼付）'!$A:$Z,MATCH($G35,'[1]予選ヒート-レース結果表・グリッド用（貼付）'!$A:$A,0),MATCH("team",'[1]予選ヒート-レース結果表・グリッド用（貼付）'!$1:$1,0))=0,"",INDEX('[1]予選ヒート-レース結果表・グリッド用（貼付）'!$A:$Z,MATCH($G35,'[1]予選ヒート-レース結果表・グリッド用（貼付）'!$A:$A,0),MATCH("team",'[1]予選ヒート-レース結果表・グリッド用（貼付）'!$1:$1,0))),"") -> K SPEED WIN
B39: =IF(MAX('[1]予選ヒート-レース結果表・グリッド用（貼付）'!A:A)>G35,G35+1,"") -> 13 | C39: =IFERROR(INDEX('[1]予選ヒート-レース結果表・グリッド用（貼付）'!$A:$Z,MATCH($B39,'[1]予選ヒート-レース結果表・グリッド用（貼付）'!$A:$A,0),MATCH("No.",'[1]予選ヒート-レース結果表・グリッド用（貼付）'!$1:$1,0)),"") -> 73 | D39: =IFERROR(INDEX('[1]予選ヒート-レース結果表・グリッド用（貼付）'!$A:$Z,MATCH($B39,'[1]予選ヒート-レース結果表・グリッド用（貼付）'!$A:$A,0),MATCH("名前",'[1]予選ヒート-レース結果表・グリッド用（貼付）'!$1:$1,0)),"") -> 豊島 里空斗 | G39: =IF(MAX('[1]予選ヒート-レース結果表・グリッド用（貼付）'!A:A)>B39,B39+1,"") -> 14 | H39: =IFERROR(INDEX('[1]予選ヒート-レース結果表・グリッド用（貼付）'!$A:$Z,MATCH($G39,'[1]予選ヒート-レース結果表・グリッド用（貼付）'!$A:$A,0),MATCH("No.",'[1]予選ヒート-レース結果表・グリッド用（貼付）'!$1:$1,0)),"") -> 78 | I39: =IFERROR(INDEX('[1]予選ヒート-レース結果表・グリッド用（貼付）'!$A:$Z,MATCH($G39,'[1]予選ヒート-レース結果表・グリッド用（貼付）'!$A:$A,0),MATCH("名前",'[1]予選ヒート-レース結果表・グリッド用（貼付）'!$1:$1,0)),"") -> 福岡 主税
C40: =IFERROR(IF(INDEX('[1]予選ヒート-レース結果表・グリッド用（貼付）'!$A:$Z,MATCH(B39,'[1]予選ヒート-レース結果表・グリッド用（貼付）'!$A:$A,0),MATCH("クラス",'[1]予選ヒート-レース結果表・グリッド用（貼付）'!$1:$1,0))=0,"",INDEX('[1]予選ヒート-レース結果表・グリッド用（貼付）'!$A:$Z,MATCH(B39,'[1]予選ヒート-レース結果表・グリッド用（貼付）'!$A:$A,0),MATCH("クラス",'[1]予選ヒート-レース結果表・グリッド用（貼付）'!$1:$1,0))),"") -> FS-125 | F40: =IFERROR(INDEX('[1]予選ヒート-レース結果表・グリッド用（貼付）'!$A:$Z,MATCH($B39,'[1]予選ヒート-レース結果表・グリッド用（貼付）'!$A:$A,0),MATCH("Model/Engine",'[1]予選ヒート-レース結果表・グリッド用（貼付）'!$1:$1,0)),"") -> KOSMIC/IAME | H40: =IFERROR(IF(INDEX('[1]予選ヒート-レース結果表・グリッド用（貼付）'!$A:$Z,MATCH(G39,'[1]予選ヒート-レース結果表・グリッド用（貼付）'!$A:$A,0),MATCH("クラス",'[1]予選ヒート-レース結果表・グリッド用（貼付）'!$1:$1,0))=0,"",INDEX('[1]予選ヒート-レース結果表・グリッド用（貼付）'!$A:$Z,MATCH(G39,'[1]予選ヒート-レース結果表・グリッド用（貼付）'!$A:$A,0),MATCH("クラス",'[1]予選ヒート-レース結果表・グリッド用（貼付）'!$1:$1,0))),"") -> FS-125 | K40: =IFERROR(INDEX('[1]予選ヒート-レース結果表・グリッド用（貼付）'!$A:$Z,MATCH($G39,'[1]予選ヒート-レース結果表・グリッド用（貼付）'!$A:$A,0),MATCH("Model/Engine",'[1]予選ヒート-レース結果表・グリッド用（貼付）'!$1:$1,0)),"") -> TONY KART/IAME
C41: =IF(IFERROR(INDEX('[1]予選ヒート-レース結果表・グリッド用（貼付）'!$A:$Z,MATCH($B39,'[1]予選ヒート-レース結果表・グリッド用（貼付）'!$A:$A,0),MATCH("team",'[1]予選ヒート-レース結果表・グリッド用（貼付）'!$1:$1,0)),"")=0,"",IFERROR(INDEX('[1]予選ヒート-レース結果表・グリッド用（貼付）'!$A:$Z,MATCH($B39,'[1]予選ヒート-レース結果表・グリッド用（貼付）'!$A:$A,0),MATCH("team",'[1]予選ヒート-レース結果表・グリッド用（貼付）'!$1:$1,0)),"")) -> HRTwithカローラ新茨城CSI Racing | H41: =IFERROR(IF(INDEX('[1]予選ヒート-レース結果表・グリッド用（貼付）'!$A:$Z,MATCH($G39,'[1]予選ヒート-レース結果表・グリッド用（貼付）'!$A:$A,0),MATCH("team",'[1]予選ヒート-レース結果表・グリッド用（貼付）'!$1:$1,0))=0,"",INDEX('[1]予選ヒート-レース結果表・グリッド用（貼付）'!$A:$Z,MATCH($G39,'[1]予選ヒート-レース結果表・グリッド用（貼付）'!$A:$A,0),MATCH("team",'[1]予選ヒート-レース結果表・グリッド用（貼付）'!$1:$1,0))),"") -> SCUDERIA SFIDA
B43: =IF(MAX('[1]予選ヒート-レース結果表・グリッド用（貼付）'!A:A)>G39,G39+1,"") -> 15 | C43: =IFERROR(INDEX('[1]予選ヒート-レース結果表・グリッド用（貼付）'!$A:$Z,MATCH($B43,'[1]予選ヒート-レース結果表・グリッド用（貼付）'!$A:$A,0),MATCH("No.",'[1]予選ヒート-レース結果表・グリッド用（貼付）'!$1:$1,0)),"") -> 72 | D43: =IFERROR(INDEX('[1]予選ヒート-レース結果表・グリッド用（貼付）'!$A:$Z,MATCH($B43,'[1]予選ヒート-レース結果表・グリッド用（貼付）'!$A:$A,0),MATCH("名前",'[1]予選ヒート-レース結果表・グリッド用（貼付）'!$1:$1,0)),"") -> 松井 海翔 | G43: =IF(MAX('[1]予選ヒート-レース結果表・グリッド用（貼付）'!A:A)>B43,B43+1,"") -> 16 | H43: =IFERROR(INDEX('[1]予選ヒート-レース結果表・グリッド用（貼付）'!$A:$Z,MATCH($G43,'[1]予選ヒート-レース結果表・グリッド用（貼付）'!$A:$A,0),MATCH("No.",'[1]予選ヒート-レース結果表・グリッド用（貼付）'!$1:$1,0)),"") -> 58 | I43: =IFERROR(INDEX('[1]予選ヒート-レース結果表・グリッド用（貼付）'!$A:$Z,MATCH($G43,'[1]予選ヒート-レース結果表・グリッド用（貼付）'!$A:$A,0),MATCH("名前",'[1]予選ヒート-レース結果表・グリッド用（貼付）'!$1:$1,0)),"") -> 鈴木 悠太
C44: =IFERROR(IF(INDEX('[1]予選ヒート-レース結果表・グリッド用（貼付）'!$A:$Z,MATCH(B43,'[1]予選ヒート-レース結果表・グリッド用（貼付）'!$A:$A,0),MATCH("クラス",'[1]予選ヒート-レース結果表・グリッド用（貼付）'!$1:$1,0))=0,"",INDEX('[1]予選ヒート-レース結果表・グリッド用（貼付）'!$A:$Z,MATCH(B43,'[1]予選ヒート-レース結果表・グリッド用（貼付）'!$A:$A,0),MATCH("クラス",'[1]予選ヒート-レース結果表・グリッド用（貼付）'!$1:$1,0))),"") -> FS-125 | F44: =IFERROR(INDEX('[1]予選ヒート-レース結果表・グリッド用（貼付）'!$A:$Z,MATCH($B43,'[1]予選ヒート-レース結果表・グリッド用（貼付）'!$A:$A,0),MATCH("Model/Engine",'[1]予選ヒート-レース結果表・グリッド用（貼付）'!$1:$1,0)),"") -> KOSMIC/IAME | H44: =IFERROR(IF(INDEX('[1]予選ヒート-レース結果表・グリッド用（貼付）'!$A:$Z,MATCH(G43,'[1]予選ヒート-レース結果表・グリッド用（貼付）'!$A:$A,0),MATCH("クラス",'[1]予選ヒート-レース結果表・グリッド用（貼付）'!$1:$1,0))=0,"",INDEX('[1]予選ヒート-レース結果表・グリッド用（貼付）'!$A:$Z,MATCH(G43,'[1]予選ヒート-レース結果表・グリッド用（貼付）'!$A:$A,0),MATCH("クラス",'[1]予選ヒート-レース結果表・グリッド用（貼付）'!$1:$1,0))),"") -> FS-125 | K44: =IFERROR(INDEX('[1]予選ヒート-レース結果表・グリッド用（貼付）'!$A:$Z,MATCH($G43,'[1]予選ヒート-レース結果表・グリッド用（貼付）'!$A:$A,0),MATCH("Model/Engine",'[1]予選ヒート-レース結果表・グリッド用（貼付）'!$1:$1,0)),"") -> EXPRIT/IAME
C45: =IF(IFERROR(INDEX('[1]予選ヒート-レース結果表・グリッド用（貼付）'!$A:$Z,MATCH($B43,'[1]予選ヒート-レース結果表・グリッド用（貼付）'!$A:$A,0),MATCH("team",'[1]予選ヒート-レース結果表・グリッド用（貼付）'!$1:$1,0)),"")=0,"",IFERROR(INDEX('[1]予選ヒート-レース結果表・グリッド用（貼付）'!$A:$Z,MATCH($B43,'[1]予選ヒート-レース結果表・グリッド用（貼付）'!$A:$A,0),MATCH("team",'[1]予選ヒート-レース結果表・グリッド用（貼付）'!$1:$1,0)),"")) -> HKC | H45: =IFERROR(IF(INDEX('[1]予選ヒート-レース結果表・グリッド用（貼付）'!$A:$Z,MATCH($G43,'[1]予選ヒート-レース結果表・グリッド用（貼付）'!$A:$A,0),MATCH("team",'[1]予選ヒート-レース結果表・グリッド用（貼付）'!$1:$1,0))=0,"",INDEX('[1]予選ヒート-レース結果表・グリッド用（貼付）'!$A:$Z,MATCH($G43,'[1]予選ヒート-レース結果表・グリッド用（貼付）'!$A:$A,0),MATCH("team",'[1]予選ヒート-レース結果表・グリッド用（貼付）'!$1:$1,0))),"") -> RT WORLD
B47: =IF(MAX('[1]予選ヒート-レース結果表・グリッド用（貼付）'!A:A)>G43,G43+1,"") -> 17 | C47: =IFERROR(INDEX('[1]予選ヒート-レース結果表・グリッド用（貼付）'!$A:$Z,MATCH($B47,'[1]予選ヒート-レース結果表・グリッド用（貼付）'!$A:$A,0),MATCH("No.",'[1]予選ヒート-レース結果表・グリッド用（貼付）'!$1:$1,0)),"") -> 38 | D47: =IFERROR(INDEX('[1]予選ヒート-レース結果表・グリッド用（貼付）'!$A:$Z,MATCH($B47,'[1]予選ヒート-レース結果表・グリッド用（貼付）'!$A:$A,0),MATCH("名前",'[1]予選ヒート-レース結果表・グリッド用（貼付）'!$1:$1,0)),"") -> 成宮 柊磨 | G47: =IF(MAX('[1]予選ヒート-レース結果表・グリッド用（貼付）'!A:A)>B47,B47+1,"") -> 18 | H47: =IFERROR(INDEX('[1]予選ヒート-レース結果表・グリッド用（貼付）'!$A:$Z,MATCH($G47,'[1]予選ヒート-レース結果表・グリッド用（貼付）'!$A:$A,0),MATCH("No.",'[1]予選ヒート-レース結果表・グリッド用（貼付）'!$1:$1,0)),"") -> 13 | I47: =IFERROR(INDEX('[1]予選ヒート-レース結果表・グリッド用（貼付）'!$A:$Z,MATCH($G47,'[1]予選ヒート-レース結果表・グリッド用（貼付）'!$A:$A,0),MATCH("名前",'[1]予選ヒート-レース結果表・グリッド用（貼付）'!$1:$1,0)),"") -> 関 優成
C48: =IFERROR(IF(INDEX('[1]予選ヒート-レース結果表・グリッド用（貼付）'!$A:$Z,MATCH(B47,'[1]予選ヒート-レース結果表・グリッド用（貼付）'!$A:$A,0),MATCH("クラス",'[1]予選ヒート-レース結果表・グリッド用（貼付）'!$1:$1,0))=0,"",INDEX('[1]予選ヒート-レース結果表・グリッド用（貼付）'!$A:$Z,MATCH(B47,'[1]予選ヒート-レース結果表・グリッド用（貼付）'!$A:$A,0),MATCH("クラス",'[1]予選ヒート-レース結果表・グリッド用（貼付）'!$1:$1,0))),"") -> FS-125 | F48: =IFERROR(INDEX('[1]予選ヒート-レース結果表・グリッド用（貼付）'!$A:$Z,MATCH($B47,'[1]予選ヒート-レース結果表・グリッド用（貼付）'!$A:$A,0),MATCH("Model/Engine",'[1]予選ヒート-レース結果表・グリッド用（貼付）'!$1:$1,0)),"") -> KR/IAME | H48: =IFERROR(IF(INDEX('[1]予選ヒート-レース結果表・グリッド用（貼付）'!$A:$Z,MATCH(G47,'[1]予選ヒート-レース結果表・グリッド用（貼付）'!$A:$A,0),MATCH("クラス",'[1]予選ヒート-レース結果表・グリッド用（貼付）'!$1:$1,0))=0,"",INDEX('[1]予選ヒート-レース結果表・グリッド用（貼付）'!$A:$Z,MATCH(G47,'[1]予選ヒート-レース結果表・グリッド用（貼付）'!$A:$A,0),MATCH("クラス",'[1]予選ヒート-レース結果表・グリッド用（貼付）'!$1:$1,0))),"") -> FS-125 | K48: =IFERROR(INDEX('[1]予選ヒート-レース結果表・グリッド用（貼付）'!$A:$Z,MATCH($G47,'[1]予選ヒート-レース結果表・グリッド用（貼付）'!$A:$A,0),MATCH("Model/Engine",'[1]予選ヒート-レース結果表・グリッド用（貼付）'!$1:$1,0)),"") -> Praga/IAME
C49: =IF(IFERROR(INDEX('[1]予選ヒート-レース結果表・グリッド用（貼付）'!$A:$Z,MATCH($B47,'[1]予選ヒート-レース結果表・グリッド用（貼付）'!$A:$A,0),MATCH("team",'[1]予選ヒート-レース結果表・グリッド用（貼付）'!$1:$1,0)),"")=0,"",IFERROR(INDEX('[1]予選ヒート-レース結果表・グリッド用（貼付）'!$A:$Z,MATCH($B47,'[1]予選ヒート-レース結果表・グリッド用（貼付）'!$A:$A,0),MATCH("team",'[1]予選ヒート-レース結果表・グリッド用（貼付）'!$1:$1,0)),"")) -> Team REGOLITH | H49: =IFERROR(IF(INDEX('[1]予選ヒート-レース結果表・グリッド用（貼付）'!$A:$Z,MATCH($G47,'[1]予選ヒート-レース結果表・グリッド用（貼付）'!$A:$A,0),MATCH("team",'[1]予選ヒート-レース結果表・グリッド用（貼付）'!$1:$1,0))=0,"",INDEX('[1]予選ヒート-レース結果表・グリッド用（貼付）'!$A:$Z,MATCH($G47,'[1]予選ヒート-レース結果表・グリッド用（貼付）'!$A:$A,0),MATCH("team",'[1]予選ヒート-レース結果表・グリッド用（貼付）'!$1:$1,0))),"") -> TEAMぶるーと
B51: =IF(MAX('[1]予選ヒート-レース結果表・グリッド用（貼付）'!A:A)>G47,G47+1,"") -> 19 | C51: =IFERROR(INDEX('[1]予選ヒート-レース結果表・グリッド用（貼付）'!$A:$Z,MATCH($B51,'[1]予選ヒート-レース結果表・グリッド用（貼付）'!$A:$A,0),MATCH("No.",'[1]予選ヒート-レース結果表・グリッド用（貼付）'!$1:$1,0)),"") -> 22 | D51: =IFERROR(INDEX('[1]予選ヒート-レース結果表・グリッド用（貼付）'!$A:$Z,MATCH($B51,'[1]予選ヒート-レース結果表・グリッド用（貼付）'!$A:$A,0),MATCH("名前",'[1]予選ヒート-レース結果表・グリッド用（貼付）'!$1:$1,0)),"") -> 一宮 總太朗 | G51: =IF(MAX('[1]予選ヒート-レース結果表・グリッド用（貼付）'!A:A)>B51,B51+1,"") -> 20 | H51: =IFERROR(INDEX('[1]予選ヒート-レース結果表・グリッド用（貼付）'!$A:$Z,MATCH($G51,'[1]予選ヒート-レース結果表・グリッド用（貼付）'!$A:$A,0),MATCH("No.",'[1]予選ヒート-レース結果表・グリッド用（貼付）'!$1:$1,0)),"") -> 17 | I51: =IFERROR(INDEX('[1]予選ヒート-レース結果表・グリッド用（貼付）'!$A:$Z,MATCH($G51,'[1]予選ヒート-レース結果表・グリッド用（貼付）'!$A:$A,0),MATCH("名前",'[1]予選ヒート-レース結果表・グリッド用（貼付）'!$1:$1,0)),"") -> 白石 いつも
C52: =IFERROR(IF(INDEX('[1]予選ヒート-レース結果表・グリッド用（貼付）'!$A:$Z,MATCH(B51,'[1]予選ヒート-レース結果表・グリッド用（貼付）'!$A:$A,0),MATCH("クラス",'[1]予選ヒート-レース結果表・グリッド用（貼付）'!$1:$1,0))=0,"",INDEX('[1]予選ヒート-レース結果表・グリッド用（貼付）'!$A:$Z,MATCH(B51,'[1]予選ヒート-レース結果表・グリッド用（貼付）'!$A:$A,0),MATCH("クラス",'[1]予選ヒート-レース結果表・グリッド用（貼付）'!$1:$1,0))),"") -> FS-125 | F52: =IFERROR(INDEX('[1]予選ヒート-レース結果表・グリッド用（貼付）'!$A:$Z,MATCH($B51,'[1]予選ヒート-レース結果表・グリッド用（貼付）'!$A:$A,0),MATCH("Model/Engine",'[1]予選ヒート-レース結果表・グリッド用（貼付）'!$1:$1,0)),"") -> KR/IAME | H52: =IFERROR(IF(INDEX('[1]予選ヒート-レース結果表・グリッド用（貼付）'!$A:$Z,MATCH(G51,'[1]予選ヒート-レース結果表・グリッド用（貼付）'!$A:$A,0),MATCH("クラス",'[1]予選ヒート-レース結果表・グリッド用（貼付）'!$1:$1,0))=0,"",INDEX('[1]予選ヒート-レース結果表・グリッド用（貼付）'!$A:$Z,MATCH(G51,'[1]予選ヒート-レース結果表・グリッド用（貼付）'!$A:$A,0),MATCH("クラス",'[1]予選ヒート-レース結果表・グリッド用（貼付）'!$1:$1,0))),"") -> FS-125 | K52: =IFERROR(INDEX('[1]予選ヒート-レース結果表・グリッド用（貼付）'!$A:$Z,MATCH($G51,'[1]予選ヒート-レース結果表・グリッド用（貼付）'!$A:$A,0),MATCH("Model/Engine",'[1]予選ヒート-レース結果表・グリッド用（貼付）'!$1:$1,0)),"") -> KOSMIC/IAME
C53: =IF(IFERROR(INDEX('[1]予選ヒート-レース結果表・グリッド用（貼付）'!$A:$Z,MATCH($B51,'[1]予選ヒート-レース結果表・グリッド用（貼付）'!$A:$A,0),MATCH("team",'[1]予選ヒート-レース結果表・グリッド用（貼付）'!$1:$1,0)),"")=0,"",IFERROR(INDEX('[1]予選ヒート-レース結果表・グリッド用（貼付）'!$A:$Z,MATCH($B51,'[1]予選ヒート-レース結果表・グリッド用（貼付）'!$A:$A,0),MATCH("team",'[1]予選ヒート-レース結果表・グリッド用（貼付）'!$1:$1,0)),"")) -> KAKIE Racing Team | H53: =IFERROR(IF(INDEX('[1]予選ヒート-レース結果表・グリッド用（貼付）'!$A:$Z,MATCH($G51,'[1]予選ヒート-レース結果表・グリッド用（貼付）'!$A:$A,0),MATCH("team",'[1]予選ヒート-レース結果表・グリッド用（貼付）'!$1:$1,0))=0,"",INDEX('[1]予選ヒート-レース結果表・グリッド用（貼付）'!$A:$Z,MATCH($G51,'[1]予選ヒート-レース結果表・グリッド用（貼付）'!$A:$A,0),MATCH("team",'[1]予選ヒート-レース結果表・グリッド用（貼付）'!$1:$1,0))),"") -> HRSJAPAN
B55: =IF(MAX('[1]予選ヒート-レース結果表・グリッド用（貼付）'!A:A)>G51,G51+1,"") -> 21 | C55: =IFERROR(INDEX('[1]予選ヒート-レース結果表・グリッド用（貼付）'!$A:$Z,MATCH($B55,'[1]予選ヒート-レース結果表・グリッド用（貼付）'!$A:$A,0),MATCH("No.",'[1]予選ヒート-レース結果表・グリッド用（貼付）'!$1:$1,0)),"") -> 34 | D55: =IFERROR(INDEX('[1]予選ヒート-レース結果表・グリッド用（貼付）'!$A:$Z,MATCH($B55,'[1]予選ヒート-レース結果表・グリッド用（貼付）'!$A:$A,0),MATCH("名前",'[1]予選ヒート-レース結果表・グリッド用（貼付）'!$1:$1,0)),"") -> 柳沼 光太 | G55: =IF(MAX('[1]予選ヒート-レース結果表・グリッド用（貼付）'!A:A)>B55,B55+1,"") -> 22 | H55: =IFERROR(INDEX('[1]予選ヒート-レース結果表・グリッド用（貼付）'!$A:$Z,MATCH($G55,'[1]予選ヒート-レース結果表・グリッド用（貼付）'!$A:$A,0),MATCH("No.",'[1]予選ヒート-レース結果表・グリッド用（貼付）'!$1:$1,0)),"") -> 66 | I55: =IFERROR(INDEX('[1]予選ヒート-レース結果表・グリッド用（貼付）'!$A:$Z,MATCH($G55,'[1]予選ヒート-レース結果表・グリッド用（貼付）'!$A:$A,0),MATCH("名前",'[1]予選ヒート-レース結果表・グリッド用（貼付）'!$1:$1,0)),"") -> 橘田 明弘
C56: =IFERROR(IF(INDEX('[1]予選ヒート-レース結果表・グリッド用（貼付）'!$A:$Z,MATCH(B55,'[1]予選ヒート-レース結果表・グリッド用（貼付）'!$A:$A,0),MATCH("クラス",'[1]予選ヒート-レース結果表・グリッド用（貼付）'!$1:$1,0))=0,"",INDEX('[1]予選ヒート-レース結果表・グリッド用（貼付）'!$A:$Z,MATCH(B55,'[1]予選ヒート-レース結果表・グリッド用（貼付）'!$A:$A,0),MATCH("クラス",'[1]予選ヒート-レース結果表・グリッド用（貼付）'!$1:$1,0))),"") -> FS-125 | F56: =IFERROR(INDEX('[1]予選ヒート-レース結果表・グリッド用（貼付）'!$A:$Z,MATCH($B55,'[1]予選ヒート-レース結果表・グリッド用（貼付）'!$A:$A,0),MATCH("Model/Engine",'[1]予選ヒート-レース結果表・グリッド用（貼付）'!$1:$1,0)),"") -> Birel ART/IAME | H56: =IFERROR(IF(INDEX('[1]予選ヒート-レース結果表・グリッド用（貼付）'!$A:$Z,MATCH(G55,'[1]予選ヒート-レース結果表・グリッド用（貼付）'!$A:$A,0),MATCH("クラス",'[1]予選ヒート-レース結果表・グリッド用（貼付）'!$1:$1,0))=0,"",INDEX('[1]予選ヒート-レース結果表・グリッド用（貼付）'!$A:$Z,MATCH(G55,'[1]予選ヒート-レース結果表・グリッド用（貼付）'!$A:$A,0),MATCH("クラス",'[1]予選ヒート-レース結果表・グリッド用（貼付）'!$1:$1,0))),"") -> FS-125 | K56: =IFERROR(INDEX('[1]予選ヒート-レース結果表・グリッド用（貼付）'!$A:$Z,MATCH($G55,'[1]予選ヒート-レース結果表・グリッド用（貼付）'!$A:$A,0),MATCH("Model/Engine",'[1]予選ヒート-レース結果表・グリッド用（貼付）'!$1:$1,0)),"") -> Drago CORSE/IAME
C57: =IF(IFERROR(INDEX('[1]予選ヒート-レース結果表・グリッド用（貼付）'!$A:$Z,MATCH($B55,'[1]予選ヒート-レース結果表・グリッド用（貼付）'!$A:$A,0),MATCH("team",'[1]予選ヒート-レース結果表・グリッド用（貼付）'!$1:$1,0)),"")=0,"",IFERROR(INDEX('[1]予選ヒート-レース結果表・グリッド用（貼付）'!$A:$Z,MATCH($B55,'[1]予選ヒート-レース結果表・グリッド用（貼付）'!$A:$A,0),MATCH("team",'[1]予選ヒート-レース結果表・グリッド用（貼付）'!$1:$1,0)),"")) -> Formula Blue ガレージC | H57: =IFERROR(IF(INDEX('[1]予選ヒート-レース結果表・グリッド用（貼付）'!$A:$Z,MATCH($G55,'[1]予選ヒート-レース結果表・グリッド用（貼付）'!$A:$A,0),MATCH("team",'[1]予選ヒート-レース結果表・グリッド用（貼付）'!$1:$1,0))=0,"",INDEX('[1]予選ヒート-レース結果表・グリッド用（貼付）'!$A:$Z,MATCH($G55,'[1]予選ヒート-レース結果表・グリッド用（貼付）'!$A:$A,0),MATCH("team",'[1]予選ヒート-レース結果表・グリッド用（貼付）'!$1:$1,0))),"") -> K Speed Win
B59: =IF(MAX('[1]予選ヒート-レース結果表・グリッド用（貼付）'!A:A)>G55,G55+1,"") -> 23 | C59: =IFERROR(INDEX('[1]予選ヒート-レース結果表・グリッド用（貼付）'!$A:$Z,MATCH($B59,'[1]予選ヒート-レース結果表・グリッド用（貼付）'!$A:$A,0),MATCH("No.",'[1]予選ヒート-レース結果表・グリッド用（貼付）'!$1:$1,0)),"") -> 15 | D59: =IFERROR(INDEX('[1]予選ヒート-レース結果表・グリッド用（貼付）'!$A:$Z,MATCH($B59,'[1]予選ヒート-レース結果表・グリッド用（貼付）'!$A:$A,0),MATCH("名前",'[1]予選ヒート-レース結果表・グリッド用（貼付）'!$1:$1,0)),"") -> 石田 瑞季 | G59: =IF(MAX('[1]予選ヒート-レース結果表・グリッド用（貼付）'!A:A)>B59,B59+1,"") -> 24 | H59: =IFERROR(INDEX('[1]予選ヒート-レース結果表・グリッド用（貼付）'!$A:$Z,MATCH($G59,'[1]予選ヒート-レース結果表・グリッド用（貼付）'!$A:$A,0),MATCH("No.",'[1]予選ヒート-レース結果表・グリッド用（貼付）'!$1:$1,0)),"") -> 12 | I59: =IFERROR(INDEX('[1]予選ヒート-レース結果表・グリッド用（貼付）'!$A:$Z,MATCH($G59,'[1]予選ヒート-レース結果表・グリッド用（貼付）'!$A:$A,0),MATCH("名前",'[1]予選ヒート-レース結果表・グリッド用（貼付）'!$1:$1,0)),"") -> 宮本 颯斗
C60: =IFERROR(IF(INDEX('[1]予選ヒート-レース結果表・グリッド用（貼付）'!$A:$Z,MATCH(B59,'[1]予選ヒート-レース結果表・グリッド用（貼付）'!$A:$A,0),MATCH("クラス",'[1]予選ヒート-レース結果表・グリッド用（貼付）'!$1:$1,0))=0,"",INDEX('[1]予選ヒート-レース結果表・グリッド用（貼付）'!$A:$Z,MATCH(B59,'[1]予選ヒート-レース結果表・グリッド用（貼付）'!$A:$A,0),MATCH("クラス",'[1]予選ヒート-レース結果表・グリッド用（貼付）'!$1:$1,0))),"") -> FS-125 | F60: =IFERROR(INDEX('[1]予選ヒート-レース結果表・グリッド用（貼付）'!$A:$Z,MATCH($B59,'[1]予選ヒート-レース結果表・グリッド用（貼付）'!$A:$A,0),MATCH("Model/Engine",'[1]予選ヒート-レース結果表・グリッド用（貼付）'!$1:$1,0)),"") -> KOSMIC/IAME | H60: =IFERROR(IF(INDEX('[1]予選ヒート-レース結果表・グリッド用（貼付）'!$A:$Z,MATCH(G59,'[1]予選ヒート-レース結果表・グリッド用（貼付）'!$A:$A,0),MATCH("クラス",'[1]予選ヒート-レース結果表・グリッド用（貼付）'!$1:$1,0))=0,"",INDEX('[1]予選ヒート-レース結果表・グリッド用（貼付）'!$A:$Z,MATCH(G59,'[1]予選ヒート-レース結果表・グリッド用（貼付）'!$A:$A,0),MATCH("クラス",'[1]予選ヒート-レース結果表・グリッド用（貼付）'!$1:$1,0))),"") -> FS-125 | K60: =IFERROR(INDEX('[1]予選ヒート-レース結果表・グリッド用（貼付）'!$A:$Z,MATCH($G59,'[1]予選ヒート-レース結果表・グリッド用（貼付）'!$A:$A,0),MATCH("Model/Engine",'[1]予選ヒート-レース結果表・グリッド用（貼付）'!$1:$1,0)),"") -> Praga/IAME
C61: =IF(IFERROR(INDEX('[1]予選ヒート-レース結果表・グリッド用（貼付）'!$A:$Z,MATCH($B59,'[1]予選ヒート-レース結果表・グリッド用（貼付）'!$A:$A,0),MATCH("team",'[1]予選ヒート-レース結果表・グリッド用（貼付）'!$1:$1,0)),"")=0,"",IFERROR(INDEX('[1]予選ヒート-レース結果表・グリッド用（貼付）'!$A:$Z,MATCH($B59,'[1]予選ヒート-レース結果表・グリッド用（貼付）'!$A:$A,0),MATCH("team",'[1]予選ヒート-レース結果表・グリッド用（貼付）'!$1:$1,0)),"")) -> BRAVO-RACING | H61: =IFERROR(IF(INDEX('[1]予選ヒート-レース結果表・グリッド用（貼付）'!$A:$Z,MATCH($G59,'[1]予選ヒート-レース結果表・グリッド用（貼付）'!$A:$A,0),MATCH("team",'[1]予選ヒート-レース結果表・グリッド用（貼付）'!$1:$1,0))=0,"",INDEX('[1]予選ヒート-レース結果表・グリッド用（貼付）'!$A:$Z,MATCH($G59,'[1]予選ヒート-レース結果表・グリッド用（貼付）'!$A:$A,0),MATCH("team",'[1]予選ヒート-レース結果表・グリッド用（貼付）'!$1:$1,0))),"") -> Teamぶるーと
B63: =IF(MAX('[1]予選ヒート-レース結果表・グリッド用（貼付）'!A:A)>G59,G59+1,"") | C63: =IFERROR(INDEX('[1]予選ヒート-レース結果表・グリッド用（貼付）'!$A:$Z,MATCH($B63,'[1]予選ヒート-レース結果表・グリッド用（貼付）'!$A:$A,0),MATCH("No.",'[1]予選ヒート-レース結果表・グリッド用（貼付）'!$1:$1,0)),"") | D63: =IFERROR(INDEX('[1]予選ヒート-レース結果表・グリッド用（貼付）'!$A:$Z,MATCH($B63,'[1]予選ヒート-レース結果表・グリッド用（貼付）'!$A:$A,0),MATCH("名前",'[1]予選ヒート-レース結果表・グリッド用（貼付）'!$1:$1,0)),"") | G63: =IF(MAX('[1]予選ヒート-レース結果表・グリッド用（貼付）'!A:A)>B63,B63+1,"") | H63: =IFERROR(INDEX('[1]予選ヒート-レース結果表・グリッド用（貼付）'!$A:$Z,MATCH($G63,'[1]予選ヒート-レース結果表・グリッド用（貼付）'!$A:$A,0),MATCH("No.",'[1]予選ヒート-レース結果表・グリッド用（貼付）'!$1:$1,0)),"") | I63: =IFERROR(INDEX('[1]予選ヒート-レース結果表・グリッド用（貼付）'!$A:$Z,MATCH($G63,'[1]予選ヒート-レース結果表・グリッド用（貼付）'!$A:$A,0),MATCH("名前",'[1]予選ヒート-レース結果表・グリッド用（貼付）'!$1:$1,0)),"")
C64: =IFERROR(IF(INDEX('[1]予選ヒート-レース結果表・グリッド用（貼付）'!$A:$Z,MATCH(B63,'[1]予選ヒート-レース結果表・グリッド用（貼付）'!$A:$A,0),MATCH("クラス",'[1]予選ヒート-レース結果表・グリッド用（貼付）'!$1:$1,0))=0,"",INDEX('[1]予選ヒート-レース結果表・グリッド用（貼付）'!$A:$Z,MATCH(B63,'[1]予選ヒート-レース結果表・グリッド用（貼付）'!$A:$A,0),MATCH("クラス",'[1]予選ヒート-レース結果表・グリッド用（貼付）'!$1:$1,0))),"") | F64: =IFERROR(INDEX('[1]予選ヒート-レース結果表・グリッド用（貼付）'!$A:$Z,MATCH($B63,'[1]予選ヒート-レース結果表・グリッド用（貼付）'!$A:$A,0),MATCH("Model/Engine",'[1]予選ヒート-レース結果表・グリッド用（貼付）'!$1:$1,0)),"") | H64: =IFERROR(IF(INDEX('[1]予選ヒート-レース結果表・グリッド用（貼付）'!$A:$Z,MATCH(G63,'[1]予選ヒート-レース結果表・グリッド用（貼付）'!$A:$A,0),MATCH("クラス",'[1]予選ヒート-レース結果表・グリッド用（貼付）'!$1:$1,0))=0,"",INDEX('[1]予選ヒート-レース結果表・グリッド用（貼付）'!$A:$Z,MATCH(G63,'[1]予選ヒート-レース結果表・グリッド用（貼付）'!$A:$A,0),MATCH("クラス",'[1]予選ヒート-レース結果表・グリッド用（貼付）'!$1:$1,0))),"") | K64: =IFERROR(INDEX('[1]予選ヒート-レース結果表・グリッド用（貼付）'!$A:$Z,MATCH($G63,'[1]予選ヒート-レース結果表・グリッド用（貼付）'!$A:$A,0),MATCH("Model/Engine",'[1]予選ヒート-レース結果表・グリッド用（貼付）'!$1:$1,0)),"")
C65: =IF(IFERROR(INDEX('[1]予選ヒート-レース結果表・グリッド用（貼付）'!$A:$Z,MATCH($B63,'[1]予選ヒート-レース結果表・グリッド用（貼付）'!$A:$A,0),MATCH("team",'[1]予選ヒート-レース結果表・グリッド用（貼付）'!$1:$1,0)),"")=0,"",IFERROR(INDEX('[1]予選ヒート-レース結果表・グリッド用（貼付）'!$A:$Z,MATCH($B63,'[1]予選ヒート-レース結果表・グリッド用（貼付）'!$A:$A,0),MATCH("team",'[1]予選ヒート-レース結果表・グリッド用（貼付）'!$1:$1,0)),"")) | H65: =IFERROR(IF(INDEX('[1]予選ヒート-レース結果表・グリッド用（貼付）'!$A:$Z,MATCH($G63,'[1]予選ヒート-レース結果表・グリッド用（貼付）'!$A:$A,0),MATCH("team",'[1]予選ヒート-レース結果表・グリッド用（貼付）'!$1:$1,0))=0,"",INDEX('[1]予選ヒート-レース結果表・グリッド用（貼付）'!$A:$Z,MATCH($G63,'[1]予選ヒート-レース結果表・グリッド用（貼付）'!$A:$A,0),MATCH("team",'[1]予選ヒート-レース結果表・グリッド用（貼付）'!$1:$1,0))),"")
B67: =IF(MAX('[1]予選ヒート-レース結果表・グリッド用（貼付）'!A:A)>G63,G63+1,"") | C67: =IFERROR(INDEX('[1]予選ヒート-レース結果表・グリッド用（貼付）'!$A:$Z,MATCH($B67,'[1]予選ヒート-レース結果表・グリッド用（貼付）'!$A:$A,0),MATCH("No.",'[1]予選ヒート-レース結果表・グリッド用（貼付）'!$1:$1,0)),"") | D67: =IFERROR(INDEX('[1]予選ヒート-レース結果表・グリッド用（貼付）'!$A:$Z,MATCH($B67,'[1]予選ヒート-レース結果表・グリッド用（貼付）'!$A:$A,0),MATCH("名前",'[1]予選ヒート-レース結果表・グリッド用（貼付）'!$1:$1,0)),"") | G67: =IF(MAX('[1]予選ヒート-レース結果表・グリッド用（貼付）'!A:A)>B67,B67+1,"") | H67: =IFERROR(INDEX('[1]予選ヒート-レース結果表・グリッド用（貼付）'!$A:$Z,MATCH($G67,'[1]予選ヒート-レース結果表・グリッド用（貼付）'!$A:$A,0),MATCH("No.",'[1]予選ヒート-レース結果表・グリッド用（貼付）'!$1:$1,0)),"") | I67: =IFERROR(INDEX('[1]予選ヒート-レース結果表・グリッド用（貼付）'!$A:$Z,MATCH($G67,'[1]予選ヒート-レース結果表・グリッド用（貼付）'!$A:$A,0),MATCH("名前",'[1]予選ヒート-レース結果表・グリッド用（貼付）'!$1:$1,0)),"")
