Workbook

Sheet 決勝ヒート - レース暫定結果表（印刷）
I6: =+[1]各種設定!D18 -> 44815 | K6: :
A7: =+[1]各種設定!D2 -> 2022 鈴鹿選手権シリーズ第6戦 ｶｰﾄﾚｰｽ IN SUZUKA | J7: WEATHER: | K7: Fine
J8: COURSE : | K8: Dry
A9: =+[1]各種設定!D4 -> FS-125/X30 | L9: 南コース 1.264Km
A10: 決勝ヒート暫定結果表
B11: No. | D11: 名前 | E11: Model/Engine | F11: Team | G11: Tires | H11: Laps | I11: Total Time | J11: 差 | K11: GAP | L11: BestLap | M11: =VLOOKUP(A9,[1]コースレコード!$A:$G,3,FALSE) -> 48.758 | P11: コメント | R11: ペナルティNo. | S11: グリッドコメント | U11: ベスト平均時速
A12: Pos. | B12: No. | D12: Driver | E12: Type | F12: Team | G12: Tire | H12: Laps | I12: Total Time | J12: Delay | K12: Gap | L12: Best
A13: 1 | B13: =IFERROR(INDEX('[1]決勝ヒート - レース結果（貼付）'!A2:$Z$50,MATCH($A13,'[1]決勝ヒート - レース結果（貼付）'!A2:$A$50,0),MATCH('決勝ヒート - レース暫定結果表（印刷）'!B$11,'[1]決勝ヒート - レース結果（貼付）'!$1:$1,0)),"") -> 19 | D13: =IFERROR(INDEX('[1]決勝ヒート - レース結果（貼付）'!$A:$Z,MATCH($B13,'[1]決勝ヒート - レース結果（貼付）'!$B:$B,0),MATCH('決勝ヒート - レース暫定結果表（印刷）'!D$11,'[1]決勝ヒート - レース結果（貼付）'!$1:$1,0)),"") -> 向畑 疾走 | E13: =IFERROR(INDEX('[1]決勝ヒート - レース結果（貼付）'!$A:$Z,MATCH($B13,'[1]決勝ヒート - レース結果（貼付）'!$B:$B,0),MATCH('決勝ヒート - レース暫定結果表（印刷）'!E$11,'[1]決勝ヒート - レース結果（貼付）'!$1:$1,0)),"") -> CRG/IAME | F13: =IFERROR(INDEX('[1]決勝ヒート - レース結果（貼付）'!$A:$Z,MATCH($B13,'[1]決勝ヒート - レース結果（貼付）'!$B:$B,0),MATCH('決勝ヒート - レース暫定結果表（印刷）'!F$11,'[1]決勝ヒート - レース結果（貼付）'!$1:$1,0)),"") -> KC NAGAHARA | G13: =IFERROR(INDEX('[1]決勝ヒート - レース結果（貼付）'!$A:$Z,MATCH($B13,'[1]決勝ヒート - レース結果（貼付）'!$B:$B,0),MATCH('決勝ヒート - レース暫定結果表（印刷）'!G$11,'[1]決勝ヒート - レース結果（貼付）'!$1:$1,0)),"") -> BS | H13: =IFERROR(INDEX('[1]決勝ヒート - レース結果（貼付）'!$A:$Z,MATCH($B13,'[1]決勝ヒート - レース結果（貼付）'!$B:$B,0),MATCH('決勝ヒート - レース暫定結果表（印刷）'!H$11,'[1]決勝ヒート - レース結果（貼付）'!$1:$1,0)),"") -> 16 | I13: =IF(A13="DNS","ｽﾀｰﾄ出来ず",IF(A13="DQ","失 格",IFERROR(INDEX('[1]決勝ヒート - レース結果（貼付）'!$A:$Z,MATCH($B13,'[1]決勝ヒート - レース結果（貼付）'!$B:$B,0),MATCH('決勝ヒート - レース暫定結果表（印刷）'!I$11,'[1]決勝ヒート - レース結果（貼付）'!$1:$1,0)),""))) -> 0.0092938194 | J13: =ROUND((1.264*H13)/(I13*24),2)&"km/h" -> 90.67km/h | L13: =IFERROR(INDEX('[1]決勝ヒート - レース結果（貼付）'!$A:$Z,MATCH($B13,'[1]決勝ヒート - レース結果（貼付）'!$B:$B,0),MATCH('決勝ヒート - レース暫定結果表（印刷）'!L$11,'[1]決勝ヒート - レース結果（貼付）'!$1:$1,0)),"") -> 49.952 | M13: =IF(L13<1,"",IF($M$11>L13,"R","")) | P13: =IF(IFERROR(INDEX('[1]決勝ヒート - レース結果（貼付）'!$A:$Z,MATCH($B13,'[1]決勝ヒート - レース結果（貼付）'!$B:$B,0),MATCH('決勝ヒート - レース暫定結果表（印刷）'!P$11,'[1]決勝ヒート - レース結果（貼付）'!$1:$1,0)),"")=0,"",IFERROR(INDEX('[1]決勝ヒート - レース結果（貼付）'!$A:$Z,MATCH($B13,'[1]決勝ヒート - レース結果（貼付）'!$B:$B,0),MATCH('決勝ヒート - レース暫定結果表（印刷）'!P$11,'[1]決勝ヒート - レース結果（貼付）'!$1:$1,0)),"")) | Q13: =IF(P13="","",COUNTIF($P$13:P13,"<>"&"")) | R13: =IFERROR(RANK(Q13,$Q$13:$Q$48,1),"") | S13: =IF(IFERROR(INDEX('[1]決勝ヒート - レース結果（貼付）'!$A:$Z,MATCH($A13,'[1]決勝ヒート - レース結果（貼付）'!$A:$A,0),MATCH('決勝ヒート - レース暫定結果表（印刷）'!S$11,'[1]決勝ヒート - レース結果（貼付）'!$1:$1,0)),"")=0,"",IFERROR(INDEX('[1]決勝ヒート - レース結果（貼付）'!$A:$Z,MATCH($A13,'[1]決勝ヒート - レース結果（貼付）'!$A:$A,0),MATCH('決勝ヒート - レース暫定結果表（印刷）'!S$11,'[1]決勝ヒート - レース結果（貼付）'!$1:$1,0)),"")) | U13: =IF(IFERROR(INDEX('[1]決勝ヒート - レース結果（貼付）'!$A:$Z,MATCH($B13,'[1]決勝ヒート - レース結果（貼付）'!$B:$B,0),MATCH('決勝ヒート - レース暫定結果表（印刷）'!U$11,'[1]決勝ヒート - レース結果（貼付）'!$1:$1,0)),"")=0,"",IFERROR(INDEX('[1]決勝ヒート - レース結果（貼付）'!$A:$Z,MATCH($B13,'[1]決勝ヒート - レース結果（貼付）'!$B:$B,0),MATCH('決勝ヒート - レース暫定結果表（印刷）'!U$11,'[1]決勝ヒート - レース結果（貼付）'!$1:$1,0)),"")) -> 91.095
A14: =IF(OR('[1]決勝ヒート - レース結果（貼付）'!A3="DNF",'[1]決勝ヒート - レース結果（貼付）'!A3="DNS",'[1]決勝ヒート - レース結果（貼付）'!A3="DQ"),'[1]決勝ヒート - レース結果（貼付）'!A3,IF(MAX('[1]決勝ヒート - レース結果（貼付）'!A:A)>A13,A13+1,"")) -> 2 | B14: =IFERROR(INDEX('[1]決勝ヒート - レース結果（貼付）'!A3:$Z$50,MATCH($A14,'[1]決勝ヒート - レース結果（貼付）'!A3:$A$50,0),MATCH('決勝ヒート - レース暫定結果表（印刷）'!B$11,'[1]決勝ヒート - レース結果（貼付）'!$1:$1,0)),"") -> 31 | D14: =IFERROR(INDEX('[1]決勝ヒート - レース結果（貼付）'!$A:$Z,MATCH($B14,'[1]決勝ヒート - レース結果（貼付）'!$B:$B,0),MATCH('決勝ヒート - レース暫定結果表（印刷）'!D$11,'[1]決勝ヒート - レース結果（貼付）'!$1:$1,0)),"") -> 中井 陽斗 | E14: =IFERROR(INDEX('[1]決勝ヒート - レース結果（貼付）'!$A:$Z,MATCH($B14,'[1]決勝ヒート - レース結果（貼付）'!$B:$B,0),MATCH('決勝ヒート - レース暫定結果表（印刷）'!E$11,'[1]決勝ヒート - レース結果（貼付）'!$1:$1,0)),"") -> CL/IAME | F14: =IFERROR(INDEX('[1]決勝ヒート - レース結果（貼付）'!$A:$Z,MATCH($B14,'[1]決勝ヒート - レース結果（貼付）'!$B:$B,0),MATCH('決勝ヒート - レース暫定結果表（印刷）'!F$11,'[1]決勝ヒート - レース結果（貼付）'!$1:$1,0)),"") -> TEAM EMATY | G14: =IFERROR(INDEX('[1]決勝ヒート - レース結果（貼付）'!$A:$Z,MATCH($B14,'[1]決勝ヒート - レース結果（貼付）'!$B:$B,0),MATCH('決勝ヒート - レース暫定結果表（印刷）'!G$11,'[1]決勝ヒート - レース結果（貼付）'!$1:$1,0)),"") -> BS | H14: =IF(A14="DNS","",IF(A14="DQ","",IFERROR(INDEX('[1]決勝ヒート - レース結果（貼付）'!$A:$Z,MATCH($A14,'[1]決勝ヒート - レース結果（貼付）'!$A:$A,0),MATCH('決勝ヒート - レース暫定結果表（印刷）'!H$11,'[1]決勝ヒート - レース結果（貼付）'!$1:$1,0)),""))) -> 16 | I14: =IF(A14="DNS","ｽﾀｰﾄ出来ず",IF(A14="DQ","失 格",IFERROR(INDEX('[1]決勝ヒート - レース結果（貼付）'!$A:$Z,MATCH($B14,'[1]決勝ヒート - レース結果（貼付）'!$B:$B,0),MATCH('決勝ヒート - レース暫定結果表（印刷）'!I$11,'[1]決勝ヒート - レース結果（貼付）'!$1:$1,0)),""))) -> 0.0092999306 | J14: =IF(A14="DNS","",IF(A14="DQ","",IFERROR(INDEX('[1]決勝ヒート - レース結果（貼付）'!$A:$Z,MATCH($A14,'[1]決勝ヒート - レース結果（貼付）'!$A:$A,0),MATCH('決勝ヒート - レース暫定結果表（印刷）'!J$11,'[1]決勝ヒート - レース結果（貼付）'!$1:$1,0)),""))) -> 0.528 | K14: =IF(A14="DNS","",IF(A14="DQ","",IFERROR(INDEX('[1]決勝ヒート - レース結果（貼付）'!$A:$Z,MATCH($A14,'[1]決勝ヒート - レース結果（貼付）'!$A:$A,0),MATCH('決勝ヒート - レース暫定結果表（印刷）'!K$11,'[1]決勝ヒート - レース結果（貼付）'!$1:$1,0)),""))) -> 0.528 | L14: =IF(A14="DNS","",IF(A14="DQ","",IFERROR(INDEX('[1]決勝ヒート - レース結果（貼付）'!$A:$Z,MATCH($B14,'[1]決勝ヒート - レース結果（貼付）'!$B:$B,0),MATCH('決勝ヒート - レース暫定結果表（印刷）'!L$11,'[1]決勝ヒート - レース結果（貼付）'!$1:$1,0)),""))) -> 49.766 | M14: =IF(L14<1,"",IF($M$11>L14,"R","")) | P14: =IF(IFERROR(INDEX('[1]決勝ヒート - レース結果（貼付）'!$A:$Z,MATCH($B14,'[1]決勝ヒート - レース結果（貼付）'!$B:$B,0),MATCH('決勝ヒート - レース暫定結果表（印刷）'!P$11,'[1]決勝ヒート - レース結果（貼付）'!$1:$1,0)),"")=0,"",IFERROR(INDEX('[1]決勝ヒート - レース結果（貼付）'!$A:$Z,MATCH($B14,'[1]決勝ヒート - レース結果（貼付）'!$B:$B,0),MATCH('決勝ヒート - レース暫定結果表（印刷）'!P$11,'[1]決勝ヒート - レース結果（貼付）'!$1:$1,0)),"")) | Q14: =IF(P14="","",COUNTIF($P$13:P14,"<>"&"")) | R14: =IFERROR(RANK(Q14,$Q$13:$Q$48,1),"") | S14: =IF(IFERROR(INDEX('[1]決勝ヒート - レース結果（貼付）'!$A:$Z,MATCH($A14,'[1]決勝ヒート - レース結果（貼付）'!$A:$A,0),MATCH('決勝ヒート - レース暫定結果表（印刷）'!S$11,'[1]決勝ヒート - レース結果（貼付）'!$1:$1,0)),"")=0,"",IFERROR(INDEX('[1]決勝ヒート - レース結果（貼付）'!$A:$Z,MATCH($A14,'[1]決勝ヒート - レース結果（貼付）'!$A:$A,0),MATCH('決勝ヒート - レース暫定結果表（印刷）'!S$11,'[1]決勝ヒート - レース結果（貼付）'!$1:$1,0)),"")) | U14: =IF(IFERROR(INDEX('[1]決勝ヒート - レース結果（貼付）'!$A:$Z,MATCH($B14,'[1]決勝ヒート - レース結果（貼付）'!$B:$B,0),MATCH('決勝ヒート - レース暫定結果表（印刷）'!U$11,'[1]決勝ヒート - レース結果（貼付）'!$1:$1,0)),"")=0,"",IFERROR(INDEX('[1]決勝ヒート - レース結果（貼付）'!$A:$Z,MATCH($B14,'[1]決勝ヒート - レース結果（貼付）'!$B:$B,0),MATCH('決勝ヒート - レース暫定結果表（印刷）'!U$11,'[1]決勝ヒート - レース結果（貼付）'!$1:$1,0)),"")) -> 91.436
A15: =IF(OR('[1]決勝ヒート - レース結果（貼付）'!A4="DNF",'[1]決勝ヒート - レース結果（貼付）'!A4="DNS",'[1]決勝ヒート - レース結果（貼付）'!A4="DQ"),'[1]決勝ヒート - レース結果（貼付）'!A4,IF(MAX('[1]決勝ヒート - レース結果（貼付）'!A:A)>A14,A14+1,"")) -> 3 | B15: =IFERROR(INDEX('[1]決勝ヒート - レース結果（貼付）'!A4:$Z$50,MATCH($A15,'[1]決勝ヒート - レース結果（貼付）'!A4:$A$50,0),MATCH('決勝ヒート - レース暫定結果表（印刷）'!B$11,'[1]決勝ヒート - レース結果（貼付）'!$1:$1,0)),"") -> 10 | D15: =IFERROR(INDEX('[1]決勝ヒート - レース結果（貼付）'!$A:$Z,MATCH($B15,'[1]決勝ヒート - レース結果（貼付）'!$B:$B,0),MATCH('決勝ヒート - レース暫定結果表（印刷）'!D$11,'[1]決勝ヒート - レース結果（貼付）'!$1:$1,0)),"") -> 北野 雄丈 | E15: =IFERROR(INDEX('[1]決勝ヒート - レース結果（貼付）'!$A:$Z,MATCH($B15,'[1]決勝ヒート - レース結果（貼付）'!$B:$B,0),MATCH('決勝ヒート - レース暫定結果表（印刷）'!E$11,'[1]決勝ヒート - レース結果（貼付）'!$1:$1,0)),"") -> Crocpromotion/IAME | F15: =IFERROR(INDEX('[1]決勝ヒート - レース結果（貼付）'!$A:$Z,MATCH($B15,'[1]決勝ヒート - レース結果（貼付）'!$B:$B,0),MATCH('決勝ヒート - レース暫定結果表（印刷）'!F$11,'[1]決勝ヒート - レース結果（貼付）'!$1:$1,0)),"") -> EHRE motorsport | G15: =IFERROR(INDEX('[1]決勝ヒート - レース結果（貼付）'!$A:$Z,MATCH($B15,'[1]決勝ヒート - レース結果（貼付）'!$B:$B,0),MATCH('決勝ヒート - レース暫定結果表（印刷）'!G$11,'[1]決勝ヒート - レース結果（貼付）'!$1:$1,0)),"") -> BS | H15: =IF(A15="DNS","",IF(A15="DQ","",IFERROR(INDEX('[1]決勝ヒート - レース結果（貼付）'!$A:$Z,MATCH($A15,'[1]決勝ヒート - レース結果（貼付）'!$A:$A,0),MATCH('決勝ヒート - レース暫定結果表（印刷）'!H$11,'[1]決勝ヒート - レース結果（貼付）'!$1:$1,0)),""))) -> 16 | I15: =IF(A15="DNS","ｽﾀｰﾄ出来ず",IF(A15="DQ","失 格",IFERROR(INDEX('[1]決勝ヒート - レース結果（貼付）'!$A:$Z,MATCH($B15,'[1]決勝ヒート - レース結果（貼付）'!$B:$B,0),MATCH('決勝ヒート - レース暫定結果表（印刷）'!I$11,'[1]決勝ヒート - レース結果（貼付）'!$1:$1,0)),""))) -> 0.0093210069 | J15: =IF(A15="DNS","",IF(A15="DQ","",IFERROR(INDEX('[1]決勝ヒート - レース結果（貼付）'!$A:$Z,MATCH($A15,'[1]決勝ヒート - レース結果（貼付）'!$A:$A,0),MATCH('決勝ヒート - レース暫定結果表（印刷）'!J$11,'[1]決勝ヒート - レース結果（貼付）'!$1:$1,0)),""))) -> 2.349 | K15: =IF(A15="DNS","",IF(A15="DQ","",IFERROR(INDEX('[1]決勝ヒート - レース結果（貼付）'!$A:$Z,MATCH($A15,'[1]決勝ヒート - レース結果（貼付）'!$A:$A,0),MATCH('決勝ヒート - レース暫定結果表（印刷）'!K$11,'[1]決勝ヒート - レース結果（貼付）'!$1:$1,0)),""))) -> 1.821 | L15: =IF(A15="DNS","",IF(A15="DQ","",IFERROR(INDEX('[1]決勝ヒート - レース結果（貼付）'!$A:$Z,MATCH($B15,'[1]決勝ヒート - レース結果（貼付）'!$B:$B,0),MATCH('決勝ヒート - レース暫定結果表（印刷）'!L$11,'[1]決勝ヒート - レース結果（貼付）'!$1:$1,0)),""))) -> 49.883 | M15: =IF(L15<1,"",IF($M$11>L15,"R","")) | P15: =IF(IFERROR(INDEX('[1]決勝ヒート - レース結果（貼付）'!$A:$Z,MATCH($B15,'[1]決勝ヒート - レース結果（貼付）'!$B:$B,0),MATCH('決勝ヒート - レース暫定結果表（印刷）'!P$11,'[1]決勝ヒート - レース結果（貼付）'!$1:$1,0)),"")=0,"",IFERROR(INDEX('[1]決勝ヒート - レース結果（貼付）'!$A:$Z,MATCH($B15,'[1]決勝ヒート - レース結果（貼付）'!$B:$B,0),MATCH('決勝ヒート - レース暫定結果表（印刷）'!P$11,'[1]決勝ヒート - レース結果（貼付）'!$1:$1,0)),"")) | Q15: =IF(P15="","",COUNTIF($P$13:P15,"<>"&"")) | R15: =IFERROR(RANK(Q15,$Q$13:$Q$48,1),"") | S15: =IF(IFERROR(INDEX('[1]決勝ヒート - レース結果（貼付）'!$A:$Z,MATCH($A15,'[1]決勝ヒート - レース結果（貼付）'!$A:$A,0),MATCH('決勝ヒート - レース暫定結果表（印刷）'!S$11,'[1]決勝ヒート - レース結果（貼付）'!$1:$1,0)),"")=0,"",IFERROR(INDEX('[1]決勝ヒート - レース結果（貼付）'!$A:$Z,MATCH($A15,'[1]決勝ヒート - レース結果（貼付）'!$A:$A,0),MATCH('決勝ヒート - レース暫定結果表（印刷）'!S$11,'[1]決勝ヒート - レース結果（貼付）'!$1:$1,0)),"")) | U15: =IF(IFERROR(INDEX('[1]決勝ヒート - レース結果（貼付）'!$A:$Z,MATCH($B15,'[1]決勝ヒート - レース結果（貼付）'!$B:$B,0),MATCH('決勝ヒート - レース暫定結果表（印刷）'!U$11,'[1]決勝ヒート - レース結果（貼付）'!$1:$1,0)),"")=0,"",IFERROR(INDEX('[1]決勝ヒート - レース結果（貼付）'!$A:$Z,MATCH($B15,'[1]決勝ヒート - レース結果（貼付）'!$B:$B,0),MATCH('決勝ヒート - レース暫定結果表（印刷）'!U$11,'[1]決勝ヒート - レース結果（貼付）'!$1:$1,0)),"")) -> 91.221
A16: =IF(OR('[1]決勝ヒート - レース結果（貼付）'!A5="DNF",'[1]決勝ヒート - レース結果（貼付）'!A5="DNS",'[1]決勝ヒート - レース結果（貼付）'!A5="DQ"),'[1]決勝ヒート - レース結果（貼付）'!A5,IF(MAX('[1]決勝ヒート - レース結果（貼付）'!A:A)>A15,A15+1,"")) -> 4 | B16: =IFERROR(INDEX('[1]決勝ヒート - レース結果（貼付）'!A5:$Z$50,MATCH($A16,'[1]決勝ヒート - レース結果（貼付）'!A5:$A$50,0),MATCH('決勝ヒート - レース暫定結果表（印刷）'!B$11,'[1]決勝ヒート - レース結果（貼付）'!$1:$1,0)),"") -> 21 | D16: =IFERROR(INDEX('[1]決勝ヒート - レース結果（貼付）'!$A:$Z,MATCH($B16,'[1]決勝ヒート - レース結果（貼付）'!$B:$B,0),MATCH('決勝ヒート - レース暫定結果表（印刷）'!D$11,'[1]決勝ヒート - レース結果（貼付）'!$1:$1,0)),"") -> 百瀬 翔 | E16: =IFERROR(INDEX('[1]決勝ヒート - レース結果（貼付）'!$A:$Z,MATCH($B16,'[1]決勝ヒート - レース結果（貼付）'!$B:$B,0),MATCH('決勝ヒート - レース暫定結果表（印刷）'!E$11,'[1]決勝ヒート - レース結果（貼付）'!$1:$1,0)),"") -> LN/IAME | F16: =IFERROR(INDEX('[1]決勝ヒート - レース結果（貼付）'!$A:$Z,MATCH($B16,'[1]決勝ヒート - レース結果（貼付）'!$B:$B,0),MATCH('決勝ヒート - レース暫定結果表（印刷）'!F$11,'[1]決勝ヒート - レース結果（貼付）'!$1:$1,0)),"") -> HRS JAPAN | G16: =IFERROR(INDEX('[1]決勝ヒート - レース結果（貼付）'!$A:$Z,MATCH($B16,'[1]決勝ヒート - レース結果（貼付）'!$B:$B,0),MATCH('決勝ヒート - レース暫定結果表（印刷）'!G$11,'[1]決勝ヒート - レース結果（貼付）'!$1:$1,0)),"") -> BS | H16: =IF(A16="DNS","",IF(A16="DQ","",IFERROR(INDEX('[1]決勝ヒート - レース結果（貼付）'!$A:$Z,MATCH($A16,'[1]決勝ヒート - レース結果（貼付）'!$A:$A,0),MATCH('決勝ヒート - レース暫定結果表（印刷）'!H$11,'[1]決勝ヒート - レース結果（貼付）'!$1:$1,0)),""))) -> 16 | I16: =IF(A16="DNS","ｽﾀｰﾄ出来ず",IF(A16="DQ","失 格",IFERROR(INDEX('[1]決勝ヒート - レース結果（貼付）'!$A:$Z,MATCH($B16,'[1]決勝ヒート - レース結果（貼付）'!$B:$B,0),MATCH('決勝ヒート - レース暫定結果表（印刷）'!I$11,'[1]決勝ヒート - レース結果（貼付）'!$1:$1,0)),""))) -> 0.0093276505 | J16: =IF(A16="DNS","",IF(A16="DQ","",IFERROR(INDEX('[1]決勝ヒート - レース結果（貼付）'!$A:$Z,MATCH($A16,'[1]決勝ヒート - レース結果（貼付）'!$A:$A,0),MATCH('決勝ヒート - レース暫定結果表（印刷）'!J$11,'[1]決勝ヒート - レース結果（貼付）'!$1:$1,0)),""))) -> 2.923 | K16: =IF(A16="DNS","",IF(A16="DQ","",IFERROR(INDEX('[1]決勝ヒート - レース結果（貼付）'!$A:$Z,MATCH($A16,'[1]決勝ヒート - レース結果（貼付）'!$A:$A,0),MATCH('決勝ヒート - レース暫定結果表（印刷）'!K$11,'[1]決勝ヒート - レース結果（貼付）'!$1:$1,0)),""))) -> 0.574 | L16: =IF(A16="DNS","",IF(A16="DQ","",IFERROR(INDEX('[1]決勝ヒート - レース結果（貼付）'!$A:$Z,MATCH($B16,'[1]決勝ヒート - レース結果（貼付）'!$B:$B,0),MATCH('決勝ヒート - レース暫定結果表（印刷）'!L$11,'[1]決勝ヒート - レース結果（貼付）'!$1:$1,0)),""))) -> 49.952 | M16: =IF(L16<1,"",IF($M$11>L16,"R","")) | P16: =IF(IFERROR(INDEX('[1]決勝ヒート - レース結果（貼付）'!$A:$Z,MATCH($B16,'[1]決勝ヒート - レース結果（貼付）'!$B:$B,0),MATCH('決勝ヒート - レース暫定結果表（印刷）'!P$11,'[1]決勝ヒート - レース結果（貼付）'!$1:$1,0)),"")=0,"",IFERROR(INDEX('[1]決勝ヒート - レース結果（貼付）'!$A:$Z,MATCH($B16,'[1]決勝ヒート - レース結果（貼付）'!$B:$B,0),MATCH('決勝ヒート - レース暫定結果表（印刷）'!P$11,'[1]決勝ヒート - レース結果（貼付）'!$1:$1,0)),"")) | Q16: =IF(P16="","",COUNTIF($P$13:P16,"<>"&"")) | R16: =IFERROR(RANK(Q16,$Q$13:$Q$48,1),"") | S16: =IF(IFERROR(INDEX('[1]決勝ヒート - レース結果（貼付）'!$A:$Z,MATCH($A16,'[1]決勝ヒート - レース結果（貼付）'!$A:$A,0),MATCH('決勝ヒート - レース暫定結果表（印刷）'!S$11,'[1]決勝ヒート - レース結果（貼付）'!$1:$1,0)),"")=0,"",IFERROR(INDEX('[1]決勝ヒート - レース結果（貼付）'!$A:$Z,MATCH($A16,'[1]決勝ヒート - レース結果（貼付）'!$A:$A,0),MATCH('決勝ヒート - レース暫定結果表（印刷）'!S$11,'[1]決勝ヒート - レース結果（貼付）'!$1:$1,0)),"")) | U16: =IF(IFERROR(INDEX('[1]決勝ヒート - レース結果（貼付）'!$A:$Z,MATCH($B16,'[1]決勝ヒート - レース結果（貼付）'!$B:$B,0),MATCH('決勝ヒート - レース暫定結果表（印刷）'!U$11,'[1]決勝ヒート - レース結果（貼付）'!$1:$1,0)),"")=0,"",IFERROR(INDEX('[1]決勝ヒート - レース結果（貼付）'!$A:$Z,MATCH($B16,'[1]決勝ヒート - レース結果（貼付）'!$B:$B,0),MATCH('決勝ヒート - レース暫定結果表（印刷）'!U$11,'[1]決勝ヒート - レース結果（貼付）'!$1:$1,0)),"")) -> 91.095
A17: =IF(OR('[1]決勝ヒート - レース結果（貼付）'!A6="DNF",'[1]決勝ヒート - レース結果（貼付）'!A6="DNS",'[1]決勝ヒート - レース結果（貼付）'!A6="DQ"),'[1]決勝ヒート - レース結果（貼付）'!A6,IF(MAX('[1]決勝ヒート - レース結果（貼付）'!A:A)>A16,A16+1,"")) -> 5 | B17: =IFERROR(INDEX('[1]決勝ヒート - レース結果（貼付）'!A6:$Z$50,MATCH($A17,'[1]決勝ヒート - レース結果（貼付）'!A6:$A$50,0),MATCH('決勝ヒート - レース暫定結果表（印刷）'!B$11,'[1]決勝ヒート - レース結果（貼付）'!$1:$1,0)),"") -> 35 | D17: =IFERROR(INDEX('[1]決勝ヒート - レース結果（貼付）'!$A:$Z,MATCH($B17,'[1]決勝ヒート - レース結果（貼付）'!$B:$B,0),MATCH('決勝ヒート - レース暫定結果表（印刷）'!D$11,'[1]決勝ヒート - レース結果（貼付）'!$1:$1,0)),"") -> 冨田 真弥 | E17: =IFERROR(INDEX('[1]決勝ヒート - レース結果（貼付）'!$A:$Z,MATCH($B17,'[1]決勝ヒート - レース結果（貼付）'!$B:$B,0),MATCH('決勝ヒート - レース暫定結果表（印刷）'!E$11,'[1]決勝ヒート - レース結果（貼付）'!$1:$1,0)),"") -> Drago CORSE/IAME | F17: =IFERROR(INDEX('[1]決勝ヒート - レース結果（貼付）'!$A:$Z,MATCH($B17,'[1]決勝ヒート - レース結果（貼付）'!$B:$B,0),MATCH('決勝ヒート - レース暫定結果表（印刷）'!F$11,'[1]決勝ヒート - レース結果（貼付）'!$1:$1,0)),"") -> EHRE MOTOR SPORTS | G17: =IFERROR(INDEX('[1]決勝ヒート - レース結果（貼付）'!$A:$Z,MATCH($B17,'[1]決勝ヒート - レース結果（貼付）'!$B:$B,0),MATCH('決勝ヒート - レース暫定結果表（印刷）'!G$11,'[1]決勝ヒート - レース結果（貼付）'!$1:$1,0)),"") -> BS | H17: =IF(A17="DNS","",IF(A17="DQ","",IFERROR(INDEX('[1]決勝ヒート - レース結果（貼付）'!$A:$Z,MATCH($A17,'[1]決勝ヒート - レース結果（貼付）'!$A:$A,0),MATCH('決勝ヒート - レース暫定結果表（印刷）'!H$11,'[1]決勝ヒート - レース結果（貼付）'!$1:$1,0)),""))) -> 16 | I17: =IF(A17="DNS","ｽﾀｰﾄ出来ず",IF(A17="DQ","失 格",IFERROR(INDEX('[1]決勝ヒート - レース結果（貼付）'!$A:$Z,MATCH($B17,'[1]決勝ヒート - レース結果（貼付）'!$B:$B,0),MATCH('決勝ヒート - レース暫定結果表（印刷）'!I$11,'[1]決勝ヒート - レース結果（貼付）'!$1:$1,0)),""))) -> 0.0093294213 | J17: =IF(A17="DNS","",IF(A17="DQ","",IFERROR(INDEX('[1]決勝ヒート - レース結果（貼付）'!$A:$Z,MATCH($A17,'[1]決勝ヒート - レース結果（貼付）'!$A:$A,0),MATCH('決勝ヒート - レース暫定結果表（印刷）'!J$11,'[1]決勝ヒート - レース結果（貼付）'!$1:$1,0)),""))) -> 3.076 | K17: =IF(A17="DNS","",IF(A17="DQ","",IFERROR(INDEX('[1]決勝ヒート - レース結果（貼付）'!$A:$Z,MATCH($A17,'[1]決勝ヒート - レース結果（貼付）'!$A:$A,0),MATCH('決勝ヒート - レース暫定結果表（印刷）'!K$11,'[1]決勝ヒート - レース結果（貼付）'!$1:$1,0)),""))) -> 0.153 | L17: =IF(A17="DNS","",IF(A17="DQ","",IFERROR(INDEX('[1]決勝ヒート - レース結果（貼付）'!$A:$Z,MATCH($B17,'[1]決勝ヒート - レース結果（貼付）'!$B:$B,0),MATCH('決勝ヒート - レース暫定結果表（印刷）'!L$11,'[1]決勝ヒート - レース結果（貼付）'!$1:$1,0)),""))) -> 49.846 | M17: =IF(L17<1,"",IF($M$11>L17,"R","")) | P17: =IF(IFERROR(INDEX('[1]決勝ヒート - レース結果（貼付）'!$A:$Z,MATCH($B17,'[1]決勝ヒート - レース結果（貼付）'!$B:$B,0),MATCH('決勝ヒート - レース暫定結果表（印刷）'!P$11,'[1]決勝ヒート - レース結果（貼付）'!$1:$1,0)),"")=0,"",IFERROR(INDEX('[1]決勝ヒート - レース結果（貼付）'!$A:$Z,MATCH($B17,'[1]決勝ヒート - レース結果（貼付）'!$B:$B,0),MATCH('決勝ヒート - レース暫定結果表（印刷）'!P$11,'[1]決勝ヒート - レース結果（貼付）'!$1:$1,0)),"")) | Q17: =IF(P17="","",COUNTIF($P$13:P17,"<>"&"")) | R17: =IFERROR(RANK(Q17,$Q$13:$Q$48,1),"") | S17: =IF(IFERROR(INDEX('[1]決勝ヒート - レース結果（貼付）'!$A:$Z,MATCH($A17,'[1]決勝ヒート - レース結果（貼付）'!$A:$A,0),MATCH('決勝ヒート - レース暫定結果表（印刷）'!S$11,'[1]決勝ヒート - レース結果（貼付）'!$1:$1,0)),"")=0,"",IFERROR(INDEX('[1]決勝ヒート - レース結果（貼付）'!$A:$Z,MATCH($A17,'[1]決勝ヒート - レース結果（貼付）'!$A:$A,0),MATCH('決勝ヒート - レース暫定結果表（印刷）'!S$11,'[1]決勝ヒート - レース結果（貼付）'!$1:$1,0)),"")) | U17: =IF(IFERROR(INDEX('[1]決勝ヒート - レース結果（貼付）'!$A:$Z,MATCH($B17,'[1]決勝ヒート - レース結果（貼付）'!$B:$B,0),MATCH('決勝ヒート - レース暫定結果表（印刷）'!U$11,'[1]決勝ヒート - レース結果（貼付）'!$1:$1,0)),"")=0,"",IFERROR(INDEX('[1]決勝ヒート - レース結果（貼付）'!$A:$Z,MATCH($B17,'[1]決勝ヒート - レース結果（貼付）'!$B:$B,0),MATCH('決勝ヒート - レース暫定結果表（印刷）'!U$11,'[1]決勝ヒート - レース結果（貼付）'!$1:$1,0)),"")) -> 91.289
A18: =IF(OR('[1]決勝ヒート - レース結果（貼付）'!A7="DNF",'[1]決勝ヒート - レース結果（貼付）'!A7="DNS",'[1]決勝ヒート - レース結果（貼付）'!A7="DQ"),'[1]決勝ヒート - レース結果（貼付）'!A7,IF(MAX('[1]決勝ヒート - レース結果（貼付）'!A:A)>A17,A17+1,"")) -> 6 | B18: =IFERROR(INDEX('[1]決勝ヒート - レース結果（貼付）'!A7:$Z$50,MATCH($A18,'[1]決勝ヒート - レース結果（貼付）'!A7:$A$50,0),MATCH('決勝ヒート - レース暫定結果表（印刷）'!B$11,'[1]決勝ヒート - レース結果（貼付）'!$1:$1,0)),"") -> 55 | D18: =IFERROR(INDEX('[1]決勝ヒート - レース結果（貼付）'!$A:$Z,MATCH($B18,'[1]決勝ヒート - レース結果（貼付）'!$B:$B,0),MATCH('決勝ヒート - レース暫定結果表（印刷）'!D$11,'[1]決勝ヒート - レース結果（貼付）'!$1:$1,0)),"") -> 箕浦 稜己 | E18: =IFERROR(INDEX('[1]決勝ヒート - レース結果（貼付）'!$A:$Z,MATCH($B18,'[1]決勝ヒート - レース結果（貼付）'!$B:$B,0),MATCH('決勝ヒート - レース暫定結果表（印刷）'!E$11,'[1]決勝ヒート - レース結果（貼付）'!$1:$1,0)),"") -> ビレル/IAME | F18: =IFERROR(INDEX('[1]決勝ヒート - レース結果（貼付）'!$A:$Z,MATCH($B18,'[1]決勝ヒート - レース結果（貼付）'!$B:$B,0),MATCH('決勝ヒート - レース暫定結果表（印刷）'!F$11,'[1]決勝ヒート - レース結果（貼付）'!$1:$1,0)),"") -> BirelART West | G18: =IFERROR(INDEX('[1]決勝ヒート - レース結果（貼付）'!$A:$Z,MATCH($B18,'[1]決勝ヒート - レース結果（貼付）'!$B:$B,0),MATCH('決勝ヒート - レース暫定結果表（印刷）'!G$11,'[1]決勝ヒート - レース結果（貼付）'!$1:$1,0)),"") -> BS | H18: =IF(A18="DNS","",IF(A18="DQ","",IFERROR(INDEX('[1]決勝ヒート - レース結果（貼付）'!$A:$Z,MATCH($A18,'[1]決勝ヒート - レース結果（貼付）'!$A:$A,0),MATCH('決勝ヒート - レース暫定結果表（印刷）'!H$11,'[1]決勝ヒート - レース結果（貼付）'!$1:$1,0)),""))) -> 16 | I18: =IF(A18="DNS","ｽﾀｰﾄ出来ず",IF(A18="DQ","失 格",IFERROR(INDEX('[1]決勝ヒート - レース結果（貼付）'!$A:$Z,MATCH($B18,'[1]決勝ヒート - レース結果（貼付）'!$B:$B,0),MATCH('決勝ヒート - レース暫定結果表（印刷）'!I$11,'[1]決勝ヒート - レース結果（貼付）'!$1:$1,0)),""))) -> 0.0093304398 | J18: =IF(A18="DNS","",IF(A18="DQ","",IFERROR(INDEX('[1]決勝ヒート - レース結果（貼付）'!$A:$Z,MATCH($A18,'[1]決勝ヒート - レース結果（貼付）'!$A:$A,0),MATCH('決勝ヒート - レース暫定結果表（印刷）'!J$11,'[1]決勝ヒート - レース結果（貼付）'!$1:$1,0)),""))) -> 3.164 | K18: =IF(A18="DNS","",IF(A18="DQ","",IFERROR(INDEX('[1]決勝ヒート - レース結果（貼付）'!$A:$Z,MATCH($A18,'[1]決勝ヒート - レース結果（貼付）'!$A:$A,0),MATCH('決勝ヒート - レース暫定結果表（印刷）'!K$11,'[1]決勝ヒート - レース結果（貼付）'!$1:$1,0)),""))) -> 0.088 | L18: =IF(A18="DNS","",IF(A18="DQ","",IFERROR(INDEX('[1]決勝ヒート - レース結果（貼付）'!$A:$Z,MATCH($B18,'[1]決勝ヒート - レース結果（貼付）'!$B:$B,0),MATCH('決勝ヒート - レース暫定結果表（印刷）'!L$11,'[1]決勝ヒート - レース結果（貼付）'!$1:$1,0)),""))) -> 50.003 | M18: =IF(L18<1,"",IF($M$11>L18,"R","")) | P18: =IF(IFERROR(INDEX('[1]決勝ヒート - レース結果（貼付）'!$A:$Z,MATCH($B18,'[1]決勝ヒート - レース結果（貼付）'!$B:$B,0),MATCH('決勝ヒート - レース暫定結果表（印刷）'!P$11,'[1]決勝ヒート - レース結果（貼付）'!$1:$1,0)),"")=0,"",IFERROR(INDEX('[1]決勝ヒート - レース結果（貼付）'!$A:$Z,MATCH($B18,'[1]決勝ヒート - レース結果（貼付）'!$B:$B,0),MATCH('決勝ヒート - レース暫定結果表（印刷）'!P$11,'[1]決勝ヒート - レース結果（貼付）'!$1:$1,0)),"")) | Q18: =IF(P18="","",COUNTIF($P$13:P18,"<>"&"")) | R18: =IFERROR(RANK(Q18,$Q$13:$Q$48,1),"") | S18: =IF(IFERROR(INDEX('[1]決勝ヒート - レース結果（貼付）'!$A:$Z,MATCH($A18,'[1]決勝ヒート - レース結果（貼付）'!$A:$A,0),MATCH('決勝ヒート - レース暫定結果表（印刷）'!S$11,'[1]決勝ヒート - レース結果（貼付）'!$1:$1,0)),"")=0,"",IFERROR(INDEX('[1]決勝ヒート - レース結果（貼付）'!$A:$Z,MATCH($A18,'[1]決勝ヒート - レース結果（貼付）'!$A:$A,0),MATCH('決勝ヒート - レース暫定結果表（印刷）'!S$11,'[1]決勝ヒート - レース結果（貼付）'!$1:$1,0)),"")) | U18: =IF(IFERROR(INDEX('[1]決勝ヒート - レース結果（貼付）'!$A:$Z,MATCH($B18,'[1]決勝ヒート - レース結果（貼付）'!$B:$B,0),MATCH('決勝ヒート - レース暫定結果表（印刷）'!U$11,'[1]決勝ヒート - レース結果（貼付）'!$1:$1,0)),"")=0,"",IFERROR(INDEX('[1]決勝ヒート - レース結果（貼付）'!$A:$Z,MATCH($B18,'[1]決勝ヒート - レース結果（貼付）'!$B:$B,0),MATCH('決勝ヒート - レース暫定結果表（印刷）'!U$11,'[1]決勝ヒート - レース結果（貼付）'!$1:$1,0)),"")) -> 91.003
A19: =IF(OR('[1]決勝ヒート - レース結果（貼付）'!A8="DNF",'[1]決勝ヒート - レース結果（貼付）'!A8="DNS",'[1]決勝ヒート - レース結果（貼付）'!A8="DQ"),'[1]決勝ヒート - レース結果（貼付）'!A8,IF(MAX('[1]決勝ヒート - レース結果（貼付）'!A:A)>A18,A18+1,"")) -> 7 | B19: =IFERROR(INDEX('[1]決勝ヒート - レース結果（貼付）'!A8:$Z$50,MATCH($A19,'[1]決勝ヒート - レース結果（貼付）'!A8:$A$50,0),MATCH('決勝ヒート - レース暫定結果表（印刷）'!B$11,'[1]決勝ヒート - レース結果（貼付）'!$1:$1,0)),"") -> 12 | D19: =IFERROR(INDEX('[1]決勝ヒート - レース結果（貼付）'!$A:$Z,MATCH($B19,'[1]決勝ヒート - レース結果（貼付）'!$B:$B,0),MATCH('決勝ヒート - レース暫定結果表（印刷）'!D$11,'[1]決勝ヒート - レース結果（貼付）'!$1:$1,0)),"") -> 五十嵐 文太郎 | E19: =IFERROR(INDEX('[1]決勝ヒート - レース結果（貼付）'!$A:$Z,MATCH($B19,'[1]決勝ヒート - レース結果（貼付）'!$B:$B,0),MATCH('決勝ヒート - レース暫定結果表（印刷）'!E$11,'[1]決勝ヒート - レース結果（貼付）'!$1:$1,0)),"") -> birel ART/IAME | F19: =IFERROR(INDEX('[1]決勝ヒート - レース結果（貼付）'!$A:$Z,MATCH($B19,'[1]決勝ヒート - レース結果（貼付）'!$B:$B,0),MATCH('決勝ヒート - レース暫定結果表（印刷）'!F$11,'[1]決勝ヒート - レース結果（貼付）'!$1:$1,0)),"") -> チーム エッフェガーラ | G19: =IFERROR(INDEX('[1]決勝ヒート - レース結果（貼付）'!$A:$Z,MATCH($B19,'[1]決勝ヒート - レース結果（貼付）'!$B:$B,0),MATCH('決勝ヒート - レース暫定結果表（印刷）'!G$11,'[1]決勝ヒート - レース結果（貼付）'!$1:$1,0)),"") -> BS | H19: =IF(A19="DNS","",IF(A19="DQ","",IFERROR(INDEX('[1]決勝ヒート - レース結果（貼付）'!$A:$Z,MATCH($A19,'[1]決勝ヒート - レース結果（貼付）'!$A:$A,0),MATCH('決勝ヒート - レース暫定結果表（印刷）'!H$11,'[1]決勝ヒート - レース結果（貼付）'!$1:$1,0)),""))) -> 16 | I19: =IF(A19="DNS","ｽﾀｰﾄ出来ず",IF(A19="DQ","失 格",IFERROR(INDEX('[1]決勝ヒート - レース結果（貼付）'!$A:$Z,MATCH($B19,'[1]決勝ヒート - レース結果（貼付）'!$B:$B,0),MATCH('決勝ヒート - レース暫定結果表（印刷）'!I$11,'[1]決勝ヒート - レース結果（貼付）'!$1:$1,0)),""))) -> 0.0093383449 | J19: =IF(A19="DNS","",IF(A19="DQ","",IFERROR(INDEX('[1]決勝ヒート - レース結果（貼付）'!$A:$Z,MATCH($A19,'[1]決勝ヒート - レース結果（貼付）'!$A:$A,0),MATCH('決勝ヒート - レース暫定結果表（印刷）'!J$11,'[1]決勝ヒート - レース結果（貼付）'!$1:$1,0)),""))) -> 3.847 | K19: =IF(A19="DNS","",IF(A19="DQ","",IFERROR(INDEX('[1]決勝ヒート - レース結果（貼付）'!$A:$Z,MATCH($A19,'[1]決勝ヒート - レース結果（貼付）'!$A:$A,0),MATCH('決勝ヒート - レース暫定結果表（印刷）'!K$11,'[1]決勝ヒート - レース結果（貼付）'!$1:$1,0)),""))) -> 0.683 | L19: =IF(A19="DNS","",IF(A19="DQ","",IFERROR(INDEX('[1]決勝ヒート - レース結果（貼付）'!$A:$Z,MATCH($B19,'[1]決勝ヒート - レース結果（貼付）'!$B:$B,0),MATCH('決勝ヒート - レース暫定結果表（印刷）'!L$11,'[1]決勝ヒート - レース結果（貼付）'!$1:$1,0)),""))) -> 50 | M19: =IF(L19<1,"",IF($M$11>L19,"R","")) | P19: =IF(IFERROR(INDEX('[1]決勝ヒート - レース結果（貼付）'!$A:$Z,MATCH($B19,'[1]決勝ヒート - レース結果（貼付）'!$B:$B,0),MATCH('決勝ヒート - レース暫定結果表（印刷）'!P$11,'[1]決勝ヒート - レース結果（貼付）'!$1:$1,0)),"")=0,"",IFERROR(INDEX('[1]決勝ヒート - レース結果（貼付）'!$A:$Z,MATCH($B19,'[1]決勝ヒート - レース結果（貼付）'!$B:$B,0),MATCH('決勝ヒート - レース暫定結果表（印刷）'!P$11,'[1]決勝ヒート - レース結果（貼付）'!$1:$1,0)),"")) | Q19: =IF(P19="","",COUNTIF($P$13:P19,"<>"&"")) | R19: =IFERROR(RANK(Q19,$Q$13:$Q$48,1),"") | S19: =IF(IFERROR(INDEX('[1]決勝ヒート - レース結果（貼付）'!$A:$Z,MATCH($A19,'[1]決勝ヒート - レース結果（貼付）'!$A:$A,0),MATCH('決勝ヒート - レース暫定結果表（印刷）'!S$11,'[1]決勝ヒート - レース結果（貼付）'!$1:$1,0)),"")=0,"",IFERROR(INDEX('[1]決勝ヒート - レース結果（貼付）'!$A:$Z,MATCH($A19,'[1]決勝ヒート - レース結果（貼付）'!$A:$A,0),MATCH('決勝ヒート - レース暫定結果表（印刷）'!S$11,'[1]決勝ヒート - レース結果（貼付）'!$1:$1,0)),"")) | U19: =IF(IFERROR(INDEX('[1]決勝ヒート - レース結果（貼付）'!$A:$Z,MATCH($B19,'[1]決勝ヒート - レース結果（貼付）'!$B:$B,0),MATCH('決勝ヒート - レース暫定結果表（印刷）'!U$11,'[1]決勝ヒート - レース結果（貼付）'!$1:$1,0)),"")=0,"",IFERROR(INDEX('[1]決勝ヒート - レース結果（貼付）'!$A:$Z,MATCH($B19,'[1]決勝ヒート - レース結果（貼付）'!$B:$B,0),MATCH('決勝ヒート - レース暫定結果表（印刷）'!U$11,'[1]決勝ヒート - レース結果（貼付）'!$1:$1,0)),"")) -> 91.008
A20: =IF(OR('[1]決勝ヒート - レース結果（貼付）'!A9="DNF",'[1]決勝ヒート - レース結果（貼付）'!A9="DNS",'[1]決勝ヒート - レース結果（貼付）'!A9="DQ"),'[1]決勝ヒート - レース結果（貼付）'!A9,IF(MAX('[1]決勝ヒート - レース結果（貼付）'!A:A)>A19,A19+1,"")) -> 8 | B20: =IFERROR(INDEX('[1]決勝ヒート - レース結果（貼付）'!A9:$Z$50,MATCH($A20,'[1]決勝ヒート - レース結果（貼付）'!A9:$A$50,0),MATCH('決勝ヒート - レース暫定結果表（印刷）'!B$11,'[1]決勝ヒート - レース結果（貼付）'!$1:$1,0)),"") -> 8 | D20: =IFERROR(INDEX('[1]決勝ヒート - レース結果（貼付）'!$A:$Z,MATCH($B20,'[1]決勝ヒート - レース結果（貼付）'!$B:$B,0),MATCH('決勝ヒート - レース暫定結果表（印刷）'!D$11,'[1]決勝ヒート - レース結果（貼付）'!$1:$1,0)),"") -> 中條 智裕 | E20: =IFERROR(INDEX('[1]決勝ヒート - レース結果（貼付）'!$A:$Z,MATCH($B20,'[1]決勝ヒート - レース結果（貼付）'!$B:$B,0),MATCH('決勝ヒート - レース暫定結果表（印刷）'!E$11,'[1]決勝ヒート - レース結果（貼付）'!$1:$1,0)),"") -> birelART/IAME | F20: =IFERROR(INDEX('[1]決勝ヒート - レース結果（貼付）'!$A:$Z,MATCH($B20,'[1]決勝ヒート - レース結果（貼付）'!$B:$B,0),MATCH('決勝ヒート - レース暫定結果表（印刷）'!F$11,'[1]決勝ヒート - レース結果（貼付）'!$1:$1,0)),"") -> Scuderia Sfida | G20: =IFERROR(INDEX('[1]決勝ヒート - レース結果（貼付）'!$A:$Z,MATCH($B20,'[1]決勝ヒート - レース結果（貼付）'!$B:$B,0),MATCH('決勝ヒート - レース暫定結果表（印刷）'!G$11,'[1]決勝ヒート - レース結果（貼付）'!$1:$1,0)),"") -> BS | H20: =IF(A20="DNS","",IF(A20="DQ","",IFERROR(INDEX('[1]決勝ヒート - レース結果（貼付）'!$A:$Z,MATCH($A20,'[1]決勝ヒート - レース結果（貼付）'!$A:$A,0),MATCH('決勝ヒート - レース暫定結果表（印刷）'!H$11,'[1]決勝ヒート - レース結果（貼付）'!$1:$1,0)),""))) -> 16 | I20: =IF(A20="DNS","ｽﾀｰﾄ出来ず",IF(A20="DQ","失 格",IFERROR(INDEX('[1]決勝ヒート - レース結果（貼付）'!$A:$Z,MATCH($B20,'[1]決勝ヒート - レース結果（貼付）'!$B:$B,0),MATCH('決勝ヒート - レース暫定結果表（印刷）'!I$11,'[1]決勝ヒート - レース結果（貼付）'!$1:$1,0)),""))) -> 0.0093935069 | J20: =IF(A20="DNS","",IF(A20="DQ","",IFERROR(INDEX('[1]決勝ヒート - レース結果（貼付）'!$A:$Z,MATCH($A20,'[1]決勝ヒート - レース結果（貼付）'!$A:$A,0),MATCH('決勝ヒート - レース暫定結果表（印刷）'!J$11,'[1]決勝ヒート - レース結果（貼付）'!$1:$1,0)),""))) -> 8.613 | K20: =IF(A20="DNS","",IF(A20="DQ","",IFERROR(INDEX('[1]決勝ヒート - レース結果（貼付）'!$A:$Z,MATCH($A20,'[1]決勝ヒート - レース結果（貼付）'!$A:$A,0),MATCH('決勝ヒート - レース暫定結果表（印刷）'!K$11,'[1]決勝ヒート - レース結果（貼付）'!$1:$1,0)),""))) -> 4.766 | L20: =IF(A20="DNS","",IF(A20="DQ","",IFERROR(INDEX('[1]決勝ヒート - レース結果（貼付）'!$A:$Z,MATCH($B20,'[1]決勝ヒート - レース結果（貼付）'!$B:$B,0),MATCH('決勝ヒート - レース暫定結果表（印刷）'!L$11,'[1]決勝ヒート - レース結果（貼付）'!$1:$1,0)),""))) -> 50.356 | M20: =IF(L20<1,"",IF($M$11>L20,"R","")) | P20: =IF(IFERROR(INDEX('[1]決勝ヒート - レース結果（貼付）'!$A:$Z,MATCH($B20,'[1]決勝ヒート - レース結果（貼付）'!$B:$B,0),MATCH('決勝ヒート - レース暫定結果表（印刷）'!P$11,'[1]決勝ヒート - レース結果（貼付）'!$1:$1,0)),"")=0,"",IFERROR(INDEX('[1]決勝ヒート - レース結果（貼付）'!$A:$Z,MATCH($B20,'[1]決勝ヒート - レース結果（貼付）'!$B:$B,0),MATCH('決勝ヒート - レース暫定結果表（印刷）'!P$11,'[1]決勝ヒート - レース結果（貼付）'!$1:$1,0)),"")) | Q20: =IF(P20="","",COUNTIF($P$13:P20,"<>"&"")) | R20: =IFERROR(RANK(Q20,$Q$13:$Q$48,1),"") | S20: =IF(IFERROR(INDEX('[1]決勝ヒート - レース結果（貼付）'!$A:$Z,MATCH($A20,'[1]決勝ヒート - レース結果（貼付）'!$A:$A,0),MATCH('決勝ヒート - レース暫定結果表（印刷）'!S$11,'[1]決勝ヒート - レース結果（貼付）'!$1:$1,0)),"")=0,"",IFERROR(INDEX('[1]決勝ヒート - レース結果（貼付）'!$A:$Z,MATCH($A20,'[1]決勝ヒート - レース結果（貼付）'!$A:$A,0),MATCH('決勝ヒート - レース暫定結果表（印刷）'!S$11,'[1]決勝ヒート - レース結果（貼付）'!$1:$1,0)),"")) | U20: =IF(IFERROR(INDEX('[1]決勝ヒート - レース結果（貼付）'!$A:$Z,MATCH($B20,'[1]決勝ヒート - レース結果（貼付）'!$B:$B,0),MATCH('決勝ヒート - レース暫定結果表（印刷）'!U$11,'[1]決勝ヒート - レース結果（貼付）'!$1:$1,0)),"")=0,"",IFERROR(INDEX('[1]決勝ヒート - レース結果（貼付）'!$A:$Z,MATCH($B20,'[1]決勝ヒート - レース結果（貼付）'!$B:$B,0),MATCH('決勝ヒート - レース暫定結果表（印刷）'!U$11,'[1]決勝ヒート - レース結果（貼付）'!$1:$1,0)),"")) -> 90.365
A21: =IF(OR('[1]決勝ヒート - レース結果（貼付）'!A10="DNF",'[1]決勝ヒート - レース結果（貼付）'!A10="DNS",'[1]決勝ヒート - レース結果（貼付）'!A10="DQ"),'[1]決勝ヒート - レース結果（貼付）'!A10,IF(MAX('[1]決勝ヒート - レース結果（貼付）'!A:A)>A20,A20+1,"")) -> 9 | B21: =IFERROR(INDEX('[1]決勝ヒート - レース結果（貼付）'!A10:$Z$50,MATCH($A21,'[1]決勝ヒート - レース結果（貼付）'!A10:$A$50,0),MATCH('決勝ヒート - レース暫定結果表（印刷）'!B$11,'[1]決勝ヒート - レース結果（貼付）'!$1:$1,0)),"") -> 11 | D21: =IFERROR(INDEX('[1]決勝ヒート - レース結果（貼付）'!$A:$Z,MATCH($B21,'[1]決勝ヒート - レース結果（貼付）'!$B:$B,0),MATCH('決勝ヒート - レース暫定結果表（印刷）'!D$11,'[1]決勝ヒート - レース結果（貼付）'!$1:$1,0)),"") -> 千田 琉貢 | E21: =IFERROR(INDEX('[1]決勝ヒート - レース結果（貼付）'!$A:$Z,MATCH($B21,'[1]決勝ヒート - レース結果（貼付）'!$B:$B,0),MATCH('決勝ヒート - レース暫定結果表（印刷）'!E$11,'[1]決勝ヒート - レース結果（貼付）'!$1:$1,0)),"") -> KOSMIC/IAME | F21: =IFERROR(INDEX('[1]決勝ヒート - レース結果（貼付）'!$A:$Z,MATCH($B21,'[1]決勝ヒート - レース結果（貼付）'!$B:$B,0),MATCH('決勝ヒート - レース暫定結果表（印刷）'!F$11,'[1]決勝ヒート - レース結果（貼付）'!$1:$1,0)),"") -> Racing Team YRHKS | G21: =IFERROR(INDEX('[1]決勝ヒート - レース結果（貼付）'!$A:$Z,MATCH($B21,'[1]決勝ヒート - レース結果（貼付）'!$B:$B,0),MATCH('決勝ヒート - レース暫定結果表（印刷）'!G$11,'[1]決勝ヒート - レース結果（貼付）'!$1:$1,0)),"") -> BS | H21: =IF(A21="DNS","",IF(A21="DQ","",IFERROR(INDEX('[1]決勝ヒート - レース結果（貼付）'!$A:$Z,MATCH($A21,'[1]決勝ヒート - レース結果（貼付）'!$A:$A,0),MATCH('決勝ヒート - レース暫定結果表（印刷）'!H$11,'[1]決勝ヒート - レース結果（貼付）'!$1:$1,0)),""))) -> 16 | I21: =IF(A21="DNS","ｽﾀｰﾄ出来ず",IF(A21="DQ","失 格",IFERROR(INDEX('[1]決勝ヒート - レース結果（貼付）'!$A:$Z,MATCH($B21,'[1]決勝ヒート - レース結果（貼付）'!$B:$B,0),MATCH('決勝ヒート - レース暫定結果表（印刷）'!I$11,'[1]決勝ヒート - レース結果（貼付）'!$1:$1,0)),""))) -> 0.0093960532 | J21: =IF(A21="DNS","",IF(A21="DQ","",IFERROR(INDEX('[1]決勝ヒート - レース結果（貼付）'!$A:$Z,MATCH($A21,'[1]決勝ヒート - レース結果（貼付）'!$A:$A,0),MATCH('決勝ヒート - レース暫定結果表（印刷）'!J$11,'[1]決勝ヒート - レース結果（貼付）'!$1:$1,0)),""))) -> 8.833 | K21: =IF(A21="DNS","",IF(A21="DQ","",IFERROR(INDEX('[1]決勝ヒート - レース結果（貼付）'!$A:$Z,MATCH($A21,'[1]決勝ヒート - レース結果（貼付）'!$A:$A,0),MATCH('決勝ヒート - レース暫定結果表（印刷）'!K$11,'[1]決勝ヒート - レース結果（貼付）'!$1:$1,0)),""))) -> 0.22 | L21: =IF(A21="DNS","",IF(A21="DQ","",IFERROR(INDEX('[1]決勝ヒート - レース結果（貼付）'!$A:$Z,MATCH($B21,'[1]決勝ヒート - レース結果（貼付）'!$B:$B,0),MATCH('決勝ヒート - レース暫定結果表（印刷）'!L$11,'[1]決勝ヒート - レース結果（貼付）'!$1:$1,0)),""))) -> 50.282 | M21: =IF(L21<1,"",IF($M$11>L21,"R","")) | P21: =IF(IFERROR(INDEX('[1]決勝ヒート - レース結果（貼付）'!$A:$Z,MATCH($B21,'[1]決勝ヒート - レース結果（貼付）'!$B:$B,0),MATCH('決勝ヒート - レース暫定結果表（印刷）'!P$11,'[1]決勝ヒート - レース結果（貼付）'!$1:$1,0)),"")=0,"",IFERROR(INDEX('[1]決勝ヒート - レース結果（貼付）'!$A:$Z,MATCH($B21,'[1]決勝ヒート - レース結果（貼付）'!$B:$B,0),MATCH('決勝ヒート - レース暫定結果表（印刷）'!P$11,'[1]決勝ヒート - レース結果（貼付）'!$1:$1,0)),"")) | Q21: =IF(P21="","",COUNTIF($P$13:P21,"<>"&"")) | R21: =IFERROR(RANK(Q21,$Q$13:$Q$48,1),"") | S21: =IF(IFERROR(INDEX('[1]決勝ヒート - レース結果（貼付）'!$A:$Z,MATCH($A21,'[1]決勝ヒート - レース結果（貼付）'!$A:$A,0),MATCH('決勝ヒート - レース暫定結果表（印刷）'!S$11,'[1]決勝ヒート - レース結果（貼付）'!$1:$1,0)),"")=0,"",IFERROR(INDEX('[1]決勝ヒート - レース結果（貼付）'!$A:$Z,MATCH($A21,'[1]決勝ヒート - レース結果（貼付）'!$A:$A,0),MATCH('決勝ヒート - レース暫定結果表（印刷）'!S$11,'[1]決勝ヒート - レース結果（貼付）'!$1:$1,0)),"")) | U21: =IF(IFERROR(INDEX('[1]決勝ヒート - レース結果（貼付）'!$A:$Z,MATCH($B21,'[1]決勝ヒート - レース結果（貼付）'!$B:$B,0),MATCH('決勝ヒート - レース暫定結果表（印刷）'!U$11,'[1]決勝ヒート - レース結果（貼付）'!$1:$1,0)),"")=0,"",IFERROR(INDEX('[1]決勝ヒート - レース結果（貼付）'!$A:$Z,MATCH($B21,'[1]決勝ヒート - レース結果（貼付）'!$B:$B,0),MATCH('決勝ヒート - レース暫定結果表（印刷）'!U$11,'[1]決勝ヒート - レース結果（貼付）'!$1:$1,0)),"")) -> 90.498
A22: =IF(OR('[1]決勝ヒート - レース結果（貼付）'!A11="DNF",'[1]決勝ヒート - レース結果（貼付）'!A11="DNS",'[1]決勝ヒート - レース結果（貼付）'!A11="DQ"),'[1]決勝ヒート - レース結果（貼付）'!A11,IF(MAX('[1]決勝ヒート - レース結果（貼付）'!A:A)>A21,A21+1,"")) -> 10 | B22: =IFERROR(INDEX('[1]決勝ヒート - レース結果（貼付）'!A11:$Z$50,MATCH($A22,'[1]決勝ヒート - レース結果（貼付）'!A11:$A$50,0),MATCH('決勝ヒート - レース暫定結果表（印刷）'!B$11,'[1]決勝ヒート - レース結果（貼付）'!$1:$1,0)),"") -> 39 | D22: =IFERROR(INDEX('[1]決勝ヒート - レース結果（貼付）'!$A:$Z,MATCH($B22,'[1]決勝ヒート - レース結果（貼付）'!$B:$B,0),MATCH('決勝ヒート - レース暫定結果表（印刷）'!D$11,'[1]決勝ヒート - レース結果（貼付）'!$1:$1,0)),"") -> 成宮 柊磨 | E22: =IFERROR(INDEX('[1]決勝ヒート - レース結果（貼付）'!$A:$Z,MATCH($B22,'[1]決勝ヒート - レース結果（貼付）'!$B:$B,0),MATCH('決勝ヒート - レース暫定結果表（印刷）'!E$11,'[1]決勝ヒート - レース結果（貼付）'!$1:$1,0)),"") -> KR/IAME | F22: =IFERROR(INDEX('[1]決勝ヒート - レース結果（貼付）'!$A:$Z,MATCH($B22,'[1]決勝ヒート - レース結果（貼付）'!$B:$B,0),MATCH('決勝ヒート - レース暫定結果表（印刷）'!F$11,'[1]決勝ヒート - レース結果（貼付）'!$1:$1,0)),"") -> Team REGOLITH | G22: =IFERROR(INDEX('[1]決勝ヒート - レース結果（貼付）'!$A:$Z,MATCH($B22,'[1]決勝ヒート - レース結果（貼付）'!$B:$B,0),MATCH('決勝ヒート - レース暫定結果表（印刷）'!G$11,'[1]決勝ヒート - レース結果（貼付）'!$1:$1,0)),"") -> BS | H22: =IF(A22="DNS","",IF(A22="DQ","",IFERROR(INDEX('[1]決勝ヒート - レース結果（貼付）'!$A:$Z,MATCH($A22,'[1]決勝ヒート - レース結果（貼付）'!$A:$A,0),MATCH('決勝ヒート - レース暫定結果表（印刷）'!H$11,'[1]決勝ヒート - レース結果（貼付）'!$1:$1,0)),""))) -> 16 | I22: =IF(A22="DNS","ｽﾀｰﾄ出来ず",IF(A22="DQ","失 格",IFERROR(INDEX('[1]決勝ヒート - レース結果（貼付）'!$A:$Z,MATCH($B22,'[1]決勝ヒート - レース結果（貼付）'!$B:$B,0),MATCH('決勝ヒート - レース暫定結果表（印刷）'!I$11,'[1]決勝ヒート - レース結果（貼付）'!$1:$1,0)),""))) -> 0.0093989815 | J22: =IF(A22="DNS","",IF(A22="DQ","",IFERROR(INDEX('[1]決勝ヒート - レース結果（貼付）'!$A:$Z,MATCH($A22,'[1]決勝ヒート - レース結果（貼付）'!$A:$A,0),MATCH('決勝ヒート - レース暫定結果表（印刷）'!J$11,'[1]決勝ヒート - レース結果（貼付）'!$1:$1,0)),""))) -> 9.086 | K22: =IF(A22="DNS","",IF(A22="DQ","",IFERROR(INDEX('[1]決勝ヒート - レース結果（貼付）'!$A:$Z,MATCH($A22,'[1]決勝ヒート - レース結果（貼付）'!$A:$A,0),MATCH('決勝ヒート - レース暫定結果表（印刷）'!K$11,'[1]決勝ヒート - レース結果（貼付）'!$1:$1,0)),""))) -> 0.253 | L22: =IF(A22="DNS","",IF(A22="DQ","",IFERROR(INDEX('[1]決勝ヒート - レース結果（貼付）'!$A:$Z,MATCH($B22,'[1]決勝ヒート - レース結果（貼付）'!$B:$B,0),MATCH('決勝ヒート - レース暫定結果表（印刷）'!L$11,'[1]決勝ヒート - レース結果（貼付）'!$1:$1,0)),""))) -> 50.014 | M22: =IF(L22<1,"",IF($M$11>L22,"R","")) | P22: =IF(IFERROR(INDEX('[1]決勝ヒート - レース結果（貼付）'!$A:$Z,MATCH($B22,'[1]決勝ヒート - レース結果（貼付）'!$B:$B,0),MATCH('決勝ヒート - レース暫定結果表（印刷）'!P$11,'[1]決勝ヒート - レース結果（貼付）'!$1:$1,0)),"")=0,"",IFERROR(INDEX('[1]決勝ヒート - レース結果（貼付）'!$A:$Z,MATCH($B22,'[1]決勝ヒート - レース結果（貼付）'!$B:$B,0),MATCH('決勝ヒート - レース暫定結果表（印刷）'!P$11,'[1]決勝ヒート - レース結果（貼付）'!$1:$1,0)),"")) | Q22: =IF(P22="","",COUNTIF($P$13:P22,"<>"&"")) | R22: =IFERROR(RANK(Q22,$Q$13:$Q$48,1),"") | S22: =IF(IFERROR(INDEX('[1]決勝ヒート - レース結果（貼付）'!$A:$Z,MATCH($A22,'[1]決勝ヒート - レース結果（貼付）'!$A:$A,0),MATCH('決勝ヒート - レース暫定結果表（印刷）'!S$11,'[1]決勝ヒート - レース結果（貼付）'!$1:$1,0)),"")=0,"",IFERROR(INDEX('[1]決勝ヒート - レース結果（貼付）'!$A:$Z,MATCH($A22,'[1]決勝ヒート - レース結果（貼付）'!$A:$A,0),MATCH('決勝ヒート - レース暫定結果表（印刷）'!S$11,'[1]決勝ヒート - レース結果（貼付）'!$1:$1,0)),"")) | U22: =IF(IFERROR(INDEX('[1]決勝ヒート - レース結果（貼付）'!$A:$Z,MATCH($B22,'[1]決勝ヒート - レース結果（貼付）'!$B:$B,0),MATCH('決勝ヒート - レース暫定結果表（印刷）'!U$11,'[1]決勝ヒート - レース結果（貼付）'!$1:$1,0)),"")=0,"",IFERROR(INDEX('[1]決勝ヒート - レース結果（貼付）'!$A:$Z,MATCH($B22,'[1]決勝ヒート - レース結果（貼付）'!$B:$B,0),MATCH('決勝ヒート - レース暫定結果表（印刷）'!U$11,'[1]決勝ヒート - レース結果（貼付）'!$1:$1,0)),"")) -> 90.983
A23: =IF(OR('[1]決勝ヒート - レース結果（貼付）'!A12="DNF",'[1]決勝ヒート - レース結果（貼付）'!A12="DNS",'[1]決勝ヒート - レース結果（貼付）'!A12="DQ"),'[1]決勝ヒート - レース結果（貼付）'!A12,IF(MAX('[1]決勝ヒート - レース結果（貼付）'!A:A)>A22,A22+1,"")) -> 11 | B23: =IFERROR(INDEX('[1]決勝ヒート - レース結果（貼付）'!A12:$Z$50,MATCH($A23,'[1]決勝ヒート - レース結果（貼付）'!A12:$A$50,0),MATCH('決勝ヒート - レース暫定結果表（印刷）'!B$11,'[1]決勝ヒート - レース結果（貼付）'!$1:$1,0)),"") -> 7 | D23: =IFERROR(INDEX('[1]決勝ヒート - レース結果（貼付）'!$A:$Z,MATCH($B23,'[1]決勝ヒート - レース結果（貼付）'!$B:$B,0),MATCH('決勝ヒート - レース暫定結果表（印刷）'!D$11,'[1]決勝ヒート - レース結果（貼付）'!$1:$1,0)),"") -> 黒川 史哉 | E23: =IFERROR(INDEX('[1]決勝ヒート - レース結果（貼付）'!$A:$Z,MATCH($B23,'[1]決勝ヒート - レース結果（貼付）'!$B:$B,0),MATCH('決勝ヒート - レース暫定結果表（印刷）'!E$11,'[1]決勝ヒート - レース結果（貼付）'!$1:$1,0)),"") -> コスミック/IAME | F23: =IFERROR(INDEX('[1]決勝ヒート - レース結果（貼付）'!$A:$Z,MATCH($B23,'[1]決勝ヒート - レース結果（貼付）'!$B:$B,0),MATCH('決勝ヒート - レース暫定結果表（印刷）'!F$11,'[1]決勝ヒート - レース結果（貼付）'!$1:$1,0)),"") -> ASH | G23: =IFERROR(INDEX('[1]決勝ヒート - レース結果（貼付）'!$A:$Z,MATCH($B23,'[1]決勝ヒート - レース結果（貼付）'!$B:$B,0),MATCH('決勝ヒート - レース暫定結果表（印刷）'!G$11,'[1]決勝ヒート - レース結果（貼付）'!$1:$1,0)),"") -> BS | H23: =IF(A23="DNS","",IF(A23="DQ","",IFERROR(INDEX('[1]決勝ヒート - レース結果（貼付）'!$A:$Z,MATCH($A23,'[1]決勝ヒート - レース結果（貼付）'!$A:$A,0),MATCH('決勝ヒート - レース暫定結果表（印刷）'!H$11,'[1]決勝ヒート - レース結果（貼付）'!$1:$1,0)),""))) -> 16 | I23: =IF(A23="DNS","ｽﾀｰﾄ出来ず",IF(A23="DQ","失 格",IFERROR(INDEX('[1]決勝ヒート - レース結果（貼付）'!$A:$Z,MATCH($B23,'[1]決勝ヒート - レース結果（貼付）'!$B:$B,0),MATCH('決勝ヒート - レース暫定結果表（印刷）'!I$11,'[1]決勝ヒート - レース結果（貼付）'!$1:$1,0)),""))) -> 0.0094029977 | J23: =IF(A23="DNS","",IF(A23="DQ","",IFERROR(INDEX('[1]決勝ヒート - レース結果（貼付）'!$A:$Z,MATCH($A23,'[1]決勝ヒート - レース結果（貼付）'!$A:$A,0),MATCH('決勝ヒート - レース暫定結果表（印刷）'!J$11,'[1]決勝ヒート - レース結果（貼付）'!$1:$1,0)),""))) -> 9.433 | K23: =IF(A23="DNS","",IF(A23="DQ","",IFERROR(INDEX('[1]決勝ヒート - レース結果（貼付）'!$A:$Z,MATCH($A23,'[1]決勝ヒート - レース結果（貼付）'!$A:$A,0),MATCH('決勝ヒート - レース暫定結果表（印刷）'!K$11,'[1]決勝ヒート - レース結果（貼付）'!$1:$1,0)),""))) -> 0.347 | L23: =IF(A23="DNS","",IF(A23="DQ","",IFERROR(INDEX('[1]決勝ヒート - レース結果（貼付）'!$A:$Z,MATCH($B23,'[1]決勝ヒート - レース結果（貼付）'!$B:$B,0),MATCH('決勝ヒート - レース暫定結果表（印刷）'!L$11,'[1]決勝ヒート - レース結果（貼付）'!$1:$1,0)),""))) -> 50.356 | M23: =IF(L23<1,"",IF($M$11>L23,"R","")) | P23: =IF(IFERROR(INDEX('[1]決勝ヒート - レース結果（貼付）'!$A:$Z,MATCH($B23,'[1]決勝ヒート - レース結果（貼付）'!$B:$B,0),MATCH('決勝ヒート - レース暫定結果表（印刷）'!P$11,'[1]決勝ヒート - レース結果（貼付）'!$1:$1,0)),"")=0,"",IFERROR(INDEX('[1]決勝ヒート - レース結果（貼付）'!$A:$Z,MATCH($B23,'[1]決勝ヒート - レース結果（貼付）'!$B:$B,0),MATCH('決勝ヒート - レース暫定結果表（印刷）'!P$11,'[1]決勝ヒート - レース結果（貼付）'!$1:$1,0)),"")) | Q23: =IF(P23="","",COUNTIF($P$13:P23,"<>"&"")) | R23: =IFERROR(RANK(Q23,$Q$13:$Q$48,1),"") | S23: =IF(IFERROR(INDEX('[1]決勝ヒート - レース結果（貼付）'!$A:$Z,MATCH($A23,'[1]決勝ヒート - レース結果（貼付）'!$A:$A,0),MATCH('決勝ヒート - レース暫定結果表（印刷）'!S$11,'[1]決勝ヒート - レース結果（貼付）'!$1:$1,0)),"")=0,"",IFERROR(INDEX('[1]決勝ヒート - レース結果（貼付）'!$A:$Z,MATCH($A23,'[1]決勝ヒート - レース結果（貼付）'!$A:$A,0),MATCH('決勝ヒート - レース暫定結果表（印刷）'!S$11,'[1]決勝ヒート - レース結果（貼付）'!$1:$1,0)),"")) | U23: =IF(IFERROR(INDEX('[1]決勝ヒート - レース結果（貼付）'!$A:$Z,MATCH($B23,'[1]決勝ヒート - レース結果（貼付）'!$B:$B,0),MATCH('決勝ヒート - レース暫定結果表（印刷）'!U$11,'[1]決勝ヒート - レース結果（貼付）'!$1:$1,0)),"")=0,"",IFERROR(INDEX('[1]決勝ヒート - レース結果（貼付）'!$A:$Z,MATCH($B23,'[1]決勝ヒート - レース結果（貼付）'!$B:$B,0),MATCH('決勝ヒート - レース暫定結果表（印刷）'!U$11,'[1]決勝ヒート - レース結果（貼付）'!$1:$1,0)),"")) -> 90.365
A24: =IF(OR('[1]決勝ヒート - レース結果（貼付）'!A13="DNF",'[1]決勝ヒート - レース結果（貼付）'!A13="DNS",'[1]決勝ヒート - レース結果（貼付）'!A13="DQ"),'[1]決勝ヒート - レース結果（貼付）'!A13,IF(MAX('[1]決勝ヒート - レース結果（貼付）'!A:A)>A23,A23+1,"")) -> 12 | B24: =IFERROR(INDEX('[1]決勝ヒート - レース結果（貼付）'!A13:$Z$50,MATCH($A24,'[1]決勝ヒート - レース結果（貼付）'!A13:$A$50,0),MATCH('決勝ヒート - レース暫定結果表（印刷）'!B$11,'[1]決勝ヒート - レース結果（貼付）'!$1:$1,0)),"") -> 17 | D24: =IFERROR(INDEX('[1]決勝ヒート - レース結果（貼付）'!$A:$Z,MATCH($B24,'[1]決勝ヒート - レース結果（貼付）'!$B:$B,0),MATCH('決勝ヒート - レース暫定結果表（印刷）'!D$11,'[1]決勝ヒート - レース結果（貼付）'!$1:$1,0)),"") -> 白石 いつも | E24: =IFERROR(INDEX('[1]決勝ヒート - レース結果（貼付）'!$A:$Z,MATCH($B24,'[1]決勝ヒート - レース結果（貼付）'!$B:$B,0),MATCH('決勝ヒート - レース暫定結果表（印刷）'!E$11,'[1]決勝ヒート - レース結果（貼付）'!$1:$1,0)),"") -> KOSMIC/IAME | F24: =IFERROR(INDEX('[1]決勝ヒート - レース結果（貼付）'!$A:$Z,MATCH($B24,'[1]決勝ヒート - レース結果（貼付）'!$B:$B,0),MATCH('決勝ヒート - レース暫定結果表（印刷）'!F$11,'[1]決勝ヒート - レース結果（貼付）'!$1:$1,0)),"") -> HRSJAPAN | G24: =IFERROR(INDEX('[1]決勝ヒート - レース結果（貼付）'!$A:$Z,MATCH($B24,'[1]決勝ヒート - レース結果（貼付）'!$B:$B,0),MATCH('決勝ヒート - レース暫定結果表（印刷）'!G$11,'[1]決勝ヒート - レース結果（貼付）'!$1:$1,0)),"") -> BS | H24: =IF(A24="DNS","",IF(A24="DQ","",IFERROR(INDEX('[1]決勝ヒート - レース結果（貼付）'!$A:$Z,MATCH($A24,'[1]決勝ヒート - レース結果（貼付）'!$A:$A,0),MATCH('決勝ヒート - レース暫定結果表（印刷）'!H$11,'[1]決勝ヒート - レース結果（貼付）'!$1:$1,0)),""))) -> 16 | I24: =IF(A24="DNS","ｽﾀｰﾄ出来ず",IF(A24="DQ","失 格",IFERROR(INDEX('[1]決勝ヒート - レース結果（貼付）'!$A:$Z,MATCH($B24,'[1]決勝ヒート - レース結果（貼付）'!$B:$B,0),MATCH('決勝ヒート - レース暫定結果表（印刷）'!I$11,'[1]決勝ヒート - レース結果（貼付）'!$1:$1,0)),""))) -> 0.0094038194 | J24: =IF(A24="DNS","",IF(A24="DQ","",IFERROR(INDEX('[1]決勝ヒート - レース結果（貼付）'!$A:$Z,MATCH($A24,'[1]決勝ヒート - レース結果（貼付）'!$A:$A,0),MATCH('決勝ヒート - レース暫定結果表（印刷）'!J$11,'[1]決勝ヒート - レース結果（貼付）'!$1:$1,0)),""))) -> 9.504 | K24: =IF(A24="DNS","",IF(A24="DQ","",IFERROR(INDEX('[1]決勝ヒート - レース結果（貼付）'!$A:$Z,MATCH($A24,'[1]決勝ヒート - レース結果（貼付）'!$A:$A,0),MATCH('決勝ヒート - レース暫定結果表（印刷）'!K$11,'[1]決勝ヒート - レース結果（貼付）'!$1:$1,0)),""))) -> 0.071 | L24: =IF(A24="DNS","",IF(A24="DQ","",IFERROR(INDEX('[1]決勝ヒート - レース結果（貼付）'!$A:$Z,MATCH($B24,'[1]決勝ヒート - レース結果（貼付）'!$B:$B,0),MATCH('決勝ヒート - レース暫定結果表（印刷）'!L$11,'[1]決勝ヒート - レース結果（貼付）'!$1:$1,0)),""))) -> 50.323 | M24: =IF(L24<1,"",IF($M$11>L24,"R","")) | P24: =IF(IFERROR(INDEX('[1]決勝ヒート - レース結果（貼付）'!$A:$Z,MATCH($B24,'[1]決勝ヒート - レース結果（貼付）'!$B:$B,0),MATCH('決勝ヒート - レース暫定結果表（印刷）'!P$11,'[1]決勝ヒート - レース結果（貼付）'!$1:$1,0)),"")=0,"",IFERROR(INDEX('[1]決勝ヒート - レース結果（貼付）'!$A:$Z,MATCH($B24,'[1]決勝ヒート - レース結果（貼付）'!$B:$B,0),MATCH('決勝ヒート - レース暫定結果表（印刷）'!P$11,'[1]決勝ヒート - レース結果（貼付）'!$1:$1,0)),"")) | Q24: =IF(P24="","",COUNTIF($P$13:P24,"<>"&"")) | R24: =IFERROR(RANK(Q24,$Q$13:$Q$48,1),"") | S24: =IF(IFERROR(INDEX('[1]決勝ヒート - レース結果（貼付）'!$A:$Z,MATCH($A24,'[1]決勝ヒート - レース結果（貼付）'!$A:$A,0),MATCH('決勝ヒート - レース暫定結果表（印刷）'!S$11,'[1]決勝ヒート - レース結果（貼付）'!$1:$1,0)),"")=0,"",IFERROR(INDEX('[1]決勝ヒート - レース結果（貼付）'!$A:$Z,MATCH($A24,'[1]決勝ヒート - レース結果（貼付）'!$A:$A,0),MATCH('決勝ヒート - レース暫定結果表（印刷）'!S$11,'[1]決勝ヒート - レース結果（貼付）'!$1:$1,0)),"")) | U24: =IF(IFERROR(INDEX('[1]決勝ヒート - レース結果（貼付）'!$A:$Z,MATCH($B24,'[1]決勝ヒート - レース結果（貼付）'!$B:$B,0),MATCH('決勝ヒート - レース暫定結果表（印刷）'!U$11,'[1]決勝ヒート - レース結果（貼付）'!$1:$1,0)),"")=0,"",IFERROR(INDEX('[1]決勝ヒート - レース結果（貼付）'!$A:$Z,MATCH($B24,'[1]決勝ヒート - レース結果（貼付）'!$B:$B,0),MATCH('決勝ヒート - レース暫定結果表（印刷）'!U$11,'[1]決勝ヒート - レース結果（貼付）'!$1:$1,0)),"")) -> 90.424
A25: =IF(OR('[1]決勝ヒート - レース結果（貼付）'!A14="DNF",'[1]決勝ヒート - レース結果（貼付）'!A14="DNS",'[1]決勝ヒート - レース結果（貼付）'!A14="DQ"),'[1]決勝ヒート - レース結果（貼付）'!A14,IF(MAX('[1]決勝ヒート - レース結果（貼付）'!A:A)>A24,A24+1,"")) -> 13 | B25: =IFERROR(INDEX('[1]決勝ヒート - レース結果（貼付）'!A14:$Z$50,MATCH($A25,'[1]決勝ヒート - レース結果（貼付）'!A14:$A$50,0),MATCH('決勝ヒート - レース暫定結果表（印刷）'!B$11,'[1]決勝ヒート - レース結果（貼付）'!$1:$1,0)),"") -> 25 | D25: =IFERROR(INDEX('[1]決勝ヒート - レース結果（貼付）'!$A:$Z,MATCH($B25,'[1]決勝ヒート - レース結果（貼付）'!$B:$B,0),MATCH('決勝ヒート - レース暫定結果表（印刷）'!D$11,'[1]決勝ヒート - レース結果（貼付）'!$1:$1,0)),"") -> 松本 琉輝斗 | E25: =IFERROR(INDEX('[1]決勝ヒート - レース結果（貼付）'!$A:$Z,MATCH($B25,'[1]決勝ヒート - レース結果（貼付）'!$B:$B,0),MATCH('決勝ヒート - レース暫定結果表（印刷）'!E$11,'[1]決勝ヒート - レース結果（貼付）'!$1:$1,0)),"") -> Energy/IAME | F25: =IFERROR(INDEX('[1]決勝ヒート - レース結果（貼付）'!$A:$Z,MATCH($B25,'[1]決勝ヒート - レース結果（貼付）'!$B:$B,0),MATCH('決勝ヒート - レース暫定結果表（印刷）'!F$11,'[1]決勝ヒート - レース結果（貼付）'!$1:$1,0)),"") -> チームナガオ | G25: =IFERROR(INDEX('[1]決勝ヒート - レース結果（貼付）'!$A:$Z,MATCH($B25,'[1]決勝ヒート - レース結果（貼付）'!$B:$B,0),MATCH('決勝ヒート - レース暫定結果表（印刷）'!G$11,'[1]決勝ヒート - レース結果（貼付）'!$1:$1,0)),"") -> BS | H25: =IF(A25="DNS","",IF(A25="DQ","",IFERROR(INDEX('[1]決勝ヒート - レース結果（貼付）'!$A:$Z,MATCH($A25,'[1]決勝ヒート - レース結果（貼付）'!$A:$A,0),MATCH('決勝ヒート - レース暫定結果表（印刷）'!H$11,'[1]決勝ヒート - レース結果（貼付）'!$1:$1,0)),""))) -> 16 | I25: =IF(A25="DNS","ｽﾀｰﾄ出来ず",IF(A25="DQ","失 格",IFERROR(INDEX('[1]決勝ヒート - レース結果（貼付）'!$A:$Z,MATCH($B25,'[1]決勝ヒート - レース結果（貼付）'!$B:$B,0),MATCH('決勝ヒート - レース暫定結果表（印刷）'!I$11,'[1]決勝ヒート - レース結果（貼付）'!$1:$1,0)),""))) -> 0.0094050463 | J25: =IF(A25="DNS","",IF(A25="DQ","",IFERROR(INDEX('[1]決勝ヒート - レース結果（貼付）'!$A:$Z,MATCH($A25,'[1]決勝ヒート - レース結果（貼付）'!$A:$A,0),MATCH('決勝ヒート - レース暫定結果表（印刷）'!J$11,'[1]決勝ヒート - レース結果（貼付）'!$1:$1,0)),""))) -> 9.61 | K25: =IF(A25="DNS","",IF(A25="DQ","",IFERROR(INDEX('[1]決勝ヒート - レース結果（貼付）'!$A:$Z,MATCH($A25,'[1]決勝ヒート - レース結果（貼付）'!$A:$A,0),MATCH('決勝ヒート - レース暫定結果表（印刷）'!K$11,'[1]決勝ヒート - レース結果（貼付）'!$1:$1,0)),""))) -> 0.106 | L25: =IF(A25="DNS","",IF(A25="DQ","",IFERROR(INDEX('[1]決勝ヒート - レース結果（貼付）'!$A:$Z,MATCH($B25,'[1]決勝ヒート - レース結果（貼付）'!$B:$B,0),MATCH('決勝ヒート - レース暫定結果表（印刷）'!L$11,'[1]決勝ヒート - レース結果（貼付）'!$1:$1,0)),""))) -> 50.222 | M25: =IF(L25<1,"",IF($M$11>L25,"R","")) | P25: =IF(IFERROR(INDEX('[1]決勝ヒート - レース結果（貼付）'!$A:$Z,MATCH($B25,'[1]決勝ヒート - レース結果（貼付）'!$B:$B,0),MATCH('決勝ヒート - レース暫定結果表（印刷）'!P$11,'[1]決勝ヒート - レース結果（貼付）'!$1:$1,0)),"")=0,"",IFERROR(INDEX('[1]決勝ヒート - レース結果（貼付）'!$A:$Z,MATCH($B25,'[1]決勝ヒート - レース結果（貼付）'!$B:$B,0),MATCH('決勝ヒート - レース暫定結果表（印刷）'!P$11,'[1]決勝ヒート - レース結果（貼付）'!$1:$1,0)),"")) | Q25: =IF(P25="","",COUNTIF($P$13:P25,"<>"&"")) | R25: =IFERROR(RANK(Q25,$Q$13:$Q$48,1),"") | S25: =IF(IFERROR(INDEX('[1]決勝ヒート - レース結果（貼付）'!$A:$Z,MATCH($A25,'[1]決勝ヒート - レース結果（貼付）'!$A:$A,0),MATCH('決勝ヒート - レース暫定結果表（印刷）'!S$11,'[1]決勝ヒート - レース結果（貼付）'!$1:$1,0)),"")=0,"",IFERROR(INDEX('[1]決勝ヒート - レース結果（貼付）'!$A:$Z,MATCH($A25,'[1]決勝ヒート - レース結果（貼付）'!$A:$A,0),MATCH('決勝ヒート - レース暫定結果表（印刷）'!S$11,'[1]決勝ヒート - レース結果（貼付）'!$1:$1,0)),"")) | U25: =IF(IFERROR(INDEX('[1]決勝ヒート - レース結果（貼付）'!$A:$Z,MATCH($B25,'[1]決勝ヒート - レース結果（貼付）'!$B:$B,0),MATCH('決勝ヒート - レース暫定結果表（印刷）'!U$11,'[1]決勝ヒート - レース結果（貼付）'!$1:$1,0)),"")=0,"",IFERROR(INDEX('[1]決勝ヒート - レース結果（貼付）'!$A:$Z,MATCH($B25,'[1]決勝ヒート - レース結果（貼付）'!$B:$B,0),MATCH('決勝ヒート - レース暫定結果表（印刷）'!U$11,'[1]決勝ヒート - レース結果（貼付）'!$1:$1,0)),"")) -> 90.606
... A36: =IF(OR('[1]決勝ヒート - レース結果（貼付）'!A25="DNF",'[1]決勝ヒート - レース結果（貼付）'!A25="DNS",'[1]決勝ヒート - レース結果（貼付）'!A25="DQ"),'[1]決勝ヒート - レース結果（貼付）'!A25,IF(MAX('[1]決勝ヒート - レース結果（貼付）'!A:A)>A35,A35+1,"")) -> 24 | B36: =IFERROR(INDEX('[1]決勝ヒート - レース結果（貼付）'!A25:$Z$50,MATCH($A36,'[1]決勝ヒート - レース結果（貼付）'!A25:$A$50,0),MATCH('決勝ヒート - レース暫定結果表（印刷）'!B$11,'[1]決勝ヒート - レース結果（貼付）'!$1:$1,0)),"") -> 1 | D36: =IFERROR(INDEX('[1]決勝ヒート - レース結果（貼付）'!$A:$Z,MATCH($B36,'[1]決勝ヒート - レース結果（貼付）'!$B:$B,0),MATCH('決勝ヒート - レース暫定結果表（印刷）'!D$11,'[1]決勝ヒート - レース結果（貼付）'!$1:$1,0)),"") -> 落合 蓮音 | E36: =IFERROR(INDEX('[1]決勝ヒート - レース結果（貼付）'!$A:$Z,MATCH($B36,'[1]決勝ヒート - レース結果（貼付）'!$B:$B,0),MATCH('決勝ヒート - レース暫定結果表（印刷）'!E$11,'[1]決勝ヒート - レース結果（貼付）'!$1:$1,0)),"") -> トニー/IAME | F36: =IFERROR(INDEX('[1]決勝ヒート - レース結果（貼付）'!$A:$Z,MATCH($B36,'[1]決勝ヒート - レース結果（貼付）'!$B:$B,0),MATCH('決勝ヒート - レース暫定結果表（印刷）'!F$11,'[1]決勝ヒート - レース結果（貼付）'!$1:$1,0)),"") -> Ash | G36: =IFERROR(INDEX('[1]決勝ヒート - レース結果（貼付）'!$A:$Z,MATCH($B36,'[1]決勝ヒート - レース結果（貼付）'!$B:$B,0),MATCH('決勝ヒート - レース暫定結果表（印刷）'!G$11,'[1]決勝ヒート - レース結果（貼付）'!$1:$1,0)),"") -> BS | H36: =IF(A36="DNS","",IF(A36="DQ","",IFERROR(INDEX('[1]決勝ヒート - レース結果（貼付）'!$A:$Z,MATCH($A36,'[1]決勝ヒート - レース結果（貼付）'!$A:$A,0),MATCH('決勝ヒート - レース暫定結果表（印刷）'!H$11,'[1]決勝ヒート - レース結果（貼付）'!$1:$1,0)),""))) -> 15 | I36: =IF(A36="DNS","ｽﾀｰﾄ出来ず",IF(A36="DQ","失 格",IFERROR(INDEX('[1]決勝ヒート - レース結果（貼付）'!$A:$Z,MATCH($B36,'[1]決勝ヒート - レース結果（貼付）'!$B:$B,0),MATCH('決勝ヒート - レース暫定結果表（印刷）'!I$11,'[1]決勝ヒート - レース結果（貼付）'!$1:$1,0)),""))) -> 0.0093263079 | J36: =IF(A36="DNS","",IF(A36="DQ","",IFERROR(INDEX('[1]決勝ヒート - レース結果（貼付）'!$A:$Z,MATCH($A36,'[1]決勝ヒート - レース結果（貼付）'!$A:$A,0),MATCH('決勝ヒート - レース暫定結果表（印刷）'!J$11,'[1]決勝ヒート - レース結果（貼付）'!$1:$1,0)),""))) -> 1 Lap | K36: =IF(A36="DNS","",IF(A36="DQ","",IFERROR(INDEX('[1]決勝ヒート - レース結果（貼付）'!$A:$Z,MATCH($A36,'[1]決勝ヒート - レース結果（貼付）'!$A:$A,0),MATCH('決勝ヒート - レース暫定結果表（印刷）'!K$11,'[1]決勝ヒート - レース結果（貼付）'!$1:$1,0)),""))) -> 1 Lap | L36: =IF(A36="DNS","",IF(A36="DQ","",IFERROR(INDEX('[1]決勝ヒート - レース結果（貼付）'!$A:$Z,MATCH($B36,'[1]決勝ヒート - レース結果（貼付）'!$B:$B,0),MATCH('決勝ヒート - レース暫定結果表（印刷）'!L$11,'[1]決勝ヒート - レース結果（貼付）'!$1:$1,0)),""))) -> 50.016 | M36: =IF(L36<1,"",IF($M$11>L36,"R","")) | P36: =IF(IFERROR(INDEX('[1]決勝ヒート - レース結果（貼付）'!$A:$Z,MATCH($B36,'[1]決勝ヒート - レース結果（貼付）'!$B:$B,0),MATCH('決勝ヒート - レース暫定結果表（印刷）'!P$11,'[1]決勝ヒート - レース結果（貼付）'!$1:$1,0)),"")=0,"",IFERROR(INDEX('[1]決勝ヒート - レース結果（貼付）'!$A:$Z,MATCH($B36,'[1]決勝ヒート - レース結果（貼付）'!$B:$B,0),MATCH('決勝ヒート - レース暫定結果表（印刷）'!P$11,'[1]決勝ヒート - レース結果（貼付）'!$1:$1,0)),"")) -> JAF国内ｶｰﾄ競技規則 ｶｰﾄ競技会運営に関する規定 21条(ｺｰｽｱｳﾄ)違反により、競技結果より1周減算とする。 | Q36: =IF(P36="","",COUNTIF($P$13:P36,"<>"&"")) -> 24 | R36: =IFERROR(RANK(Q36,$Q$13:$Q$48,1),"") -> 2 | S36: =IF(IFERROR(INDEX('[1]決勝ヒート - レース結果（貼付）'!$A:$Z,MATCH($A36,'[1]決勝ヒート - レース結果（貼付）'!$A:$A,0),MATCH('決勝ヒート - レース暫定結果表（印刷）'!S$11,'[1]決勝ヒート - レース結果（貼付）'!$1:$1,0)),"")=0,"",IFERROR(INDEX('[1]決勝ヒート - レース結果（貼付）'!$A:$Z,MATCH($A36,'[1]決勝ヒート - レース結果（貼付）'!$A:$A,0),MATCH('決勝ヒート - レース暫定結果表（印刷）'!S$11,'[1]決勝ヒート - レース結果（貼付）'!$1:$1,0)),"")) | U36: =IF(IFERROR(INDEX('[1]決勝ヒート - レース結果（貼付）'!$A:$Z,MATCH($B36,'[1]決勝ヒート - レース結果（貼付）'!$B:$B,0),MATCH('決勝ヒート - レース暫定結果表（印刷）'!U$11,'[1]決勝ヒート - レース結果（貼付）'!$1:$1,0)),"")=0,"",IFERROR(INDEX('[1]決勝ヒート - レース結果（貼付）'!$A:$Z,MATCH($B36,'[1]決勝ヒート - レース結果（貼付）'!$B:$B,0),MATCH('決勝ヒート - レース暫定結果表（印刷）'!U$11,'[1]決勝ヒート - レース結果（貼付）'!$1:$1,0)),"")) -> 90.979
A37: 以上 規定周回数完走：
A38: =IF(OR('[1]決勝ヒート - レース結果（貼付）'!A26="DNF",'[1]決勝ヒート - レース結果（貼付）'!A26="DNS",'[1]決勝ヒート - レース結果（貼付）'!A26="DQ"),'[1]決勝ヒート - レース結果（貼付）'!A26,IF(MAX('[1]決勝ヒート - レース結果（貼付）'!A:A)>A36,A36+1,"")) | B38: =IFERROR(INDEX('[1]決勝ヒート - レース結果（貼付）'!A26:$Z$50,MATCH($A38,'[1]決勝ヒート - レース結果（貼付）'!A26:$A$50,0),MATCH('決勝ヒート - レース暫定結果表（印刷）'!B$11,'[1]決勝ヒート - レース結果（貼付）'!$1:$1,0)),"") | D38: =IFERROR(INDEX('[1]決勝ヒート - レース結果（貼付）'!$A:$Z,MATCH($B38,'[1]決勝ヒート - レース結果（貼付）'!$B:$B,0),MATCH('決勝ヒート - レース暫定結果表（印刷）'!D$11,'[1]決勝ヒート - レース結果（貼付）'!$1:$1,0)),"") | E38: =IFERROR(INDEX('[1]決勝ヒート - レース結果（貼付）'!$A:$Z,MATCH($B38,'[1]決勝ヒート - レース結果（貼付）'!$B:$B,0),MATCH('決勝ヒート - レース暫定結果表（印刷）'!E$11,'[1]決勝ヒート - レース結果（貼付）'!$1:$1,0)),"") | F38: =IFERROR(INDEX('[1]決勝ヒート - レース結果（貼付）'!$A:$Z,MATCH($B38,'[1]決勝ヒート - レース結果（貼付）'!$B:$B,0),MATCH('決勝ヒート - レース暫定結果表（印刷）'!F$11,'[1]決勝ヒート - レース結果（貼付）'!$1:$1,0)),"") | G38: =IFERROR(INDEX('[1]決勝ヒート - レース結果（貼付）'!$A:$Z,MATCH($B38,'[1]決勝ヒート - レース結果（貼付）'!$B:$B,0),MATCH('決勝ヒート - レース暫定結果表（印刷）'!G$11,'[1]決勝ヒート - レース結果（貼付）'!$1:$1,0)),"") | H38: =IF(A38="DNS","",IF(A38="DQ","",IFERROR(INDEX('[1]決勝ヒート - レース結果（貼付）'!$A:$Z,MATCH($A38,'[1]決勝ヒート - レース結果（貼付）'!$A:$A,0),MATCH('決勝ヒート - レース暫定結果表（印刷）'!H$11,'[1]決勝ヒート - レース結果（貼付）'!$1:$1,0)),""))) | I38: =IF(A38="DNS","ｽﾀｰﾄ出来ず",IF(A38="DQ","失 格",IFERROR(INDEX('[1]決勝ヒート - レース結果（貼付）'!$A:$Z,MATCH($B38,'[1]決勝ヒート - レース結果（貼付）'!$B:$B,0),MATCH('決勝ヒート - レース暫定結果表（印刷）'!I$11,'[1]決勝ヒート - レース結果（貼付）'!$1:$1,0)),""))) | J38: =IF(A38="DNS","",IF(A38="DQ","",IFERROR(INDEX('[1]決勝ヒート - レース結果（貼付）'!$A:$Z,MATCH($A38,'[1]決勝ヒート - レース結果（貼付）'!$A:$A,0),MATCH('決勝ヒート - レース暫定結果表（印刷）'!J$11,'[1]決勝ヒート - レース結果（貼付）'!$1:$1,0)),""))) | K38: =IF(A38="DNS","",IF(A38="DQ","",IFERROR(INDEX('[1]決勝ヒート - レース結果（貼付）'!$A:$Z,MATCH($A38,'[1]決勝ヒート - レース結果（貼付）'!$A:$A,0),MATCH('決勝ヒート - レース暫定結果表（印刷）'!K$11,'[1]決勝ヒート - レース結果（貼付）'!$1:$1,0)),""))) | L38: =IF(A38="DNS","",IF(A38="DQ","",IFERROR(INDEX('[1]決勝ヒート - レース結果（貼付）'!$A:$Z,MATCH($B38,'[1]決勝ヒート - レース結果（貼付）'!$B:$B,0),MATCH('決勝ヒート - レース暫定結果表（印刷）'!L$11,'[1]決勝ヒート - レース結果（貼付）'!$1:$1,0)),""))) | M38: =IF(L38<1,"",IF($M$11>L38,"R","")) | P38: =IF(IFERROR(INDEX('[1]決勝ヒート - レース結果（貼付）'!$A:$Z,MATCH($B38,'[1]決勝ヒート - レース結果（貼付）'!$B:$B,0),MATCH('決勝ヒート - レース暫定結果表（印刷）'!P$11,'[1]決勝ヒート - レース結果（貼付）'!$1:$1,0)),"")=0,"",IFERROR(INDEX('[1]決勝ヒート - レース結果（貼付）'!$A:$Z,MATCH($B38,'[1]決勝ヒート - レース結果（貼付）'!$B:$B,0),MATCH('決勝ヒート - レース暫定結果表（印刷）'!P$11,'[1]決勝ヒート - レース結果（貼付）'!$1:$1,0)),"")) | Q38: =IF(P38="","",COUNTIF($P$13:P38,"<>"&"")) | R38: =IFERROR(RANK(Q38,$Q$13:$Q$48,1),"") | S38: =IF(IFERROR(INDEX('[1]決勝ヒート - レース結果（貼付）'!$A:$Z,MATCH($A38,'[1]決勝ヒート - レース結果（貼付）'!$A:$A,0),MATCH('決勝ヒート - レース暫定結果表（印刷）'!S$11,'[1]決勝ヒート - レース結果（貼付）'!$1:$1,0)),"")=0,"",IFERROR(INDEX('[1]決勝ヒート - レース結果（貼付）'!$A:$Z,MATCH($A38,'[1]決勝ヒート - レース結果（貼付）'!$A:$A,0),MATCH('決勝ヒート - レース暫定結果表（印刷）'!S$11,'[1]決勝ヒート - レース結果（貼付）'!$1:$1,0)),"")) | U38: =IF(IFERROR(INDEX('[1]決勝ヒート - レース結果（貼付）'!$A:$Z,MATCH($B38,'[1]決勝ヒート - レース結果（貼付）'!$B:$B,0),MATCH('決勝ヒート - レース暫定結果表（印刷）'!U$11,'[1]決勝ヒート - レース結果（貼付）'!$1:$1,0)),"")=0,"",IFERROR(INDEX('[1]決勝ヒート - レース結果（貼付）'!$A:$Z,MATCH($B38,'[1]決勝ヒート - レース結果（貼付）'!$B:$B,0),MATCH('決勝ヒート - レース暫定結果表（印刷）'!U$11,'[1]決勝ヒート - レース結果（貼付）'!$1:$1,0)),""))
A39: Fastest Lap | D39: ="No."&IFERROR(INDEX($A11:$Z48,MATCH($I$39,$U$11:$U$48,0),MATCH("No.",$11:$11,0)),"")&" "&IFERROR(INDEX($A11:$Z48,MATCH($I$39,$U$11:$U$48,0),MATCH("名前",$11:$11,0)),"") -> No.31 中井 陽斗 | E39: =IFERROR(INDEX($A11:$Z48,MATCH($I$39,$U$11:$U$48,0),MATCH("team",$11:$11,0)),"") -> TEAM EMATY | F39: =1.264/MAX($U:$U)*3600 -> 49.765957 | H39: =INDEX('[1]決勝ヒート - レース結果（貼付）'!$A:$Z,MATCH(INDEX($A12:$Z47,MATCH($I$39,$U$12:$U$47,0),MATCH("No.",$11:$11,0)),'[1]決勝ヒート - レース結果（貼付）'!$B:$B,0),MATCH("In Lap",'[1]決勝ヒート - レース結果（貼付）'!$1:$1,0))&"/"&IFERROR(INDEX($A12:$Z47,MATCH($I$39,$U$12:$U$47,0),MATCH("laps",$11:$11,0)),"") -> 15/16 | I39: =MAX($U:$U) -> 91.436 | J39: km/h
A40: =IF(OR('[1]決勝ヒート - レース結果（貼付）'!A27="DNF",'[1]決勝ヒート - レース結果（貼付）'!A27="DNS",'[1]決勝ヒート - レース結果（貼付）'!A27="DQ"),'[1]決勝ヒート - レース結果（貼付）'!A27,IF(MAX('[1]決勝ヒート - レース結果（貼付）'!A:A)>A38,A38+1,"")) | B40: =IFERROR(INDEX('[1]決勝ヒート - レース結果（貼付）'!A27:$Z$50,MATCH($A40,'[1]決勝ヒート - レース結果（貼付）'!A27:$A$50,0),MATCH('決勝ヒート - レース暫定結果表（印刷）'!B$11,'[1]決勝ヒート - レース結果（貼付）'!$1:$1,0)),"") | D40: =IFERROR(INDEX('[1]決勝ヒート - レース結果（貼付）'!$A:$Z,MATCH($B40,'[1]決勝ヒート - レース結果（貼付）'!$B:$B,0),MATCH('決勝ヒート - レース暫定結果表（印刷）'!D$11,'[1]決勝ヒート - レース結果（貼付）'!$1:$1,0)),"") | E40: =IFERROR(INDEX('[1]決勝ヒート - レース結果（貼付）'!$A:$Z,MATCH($B40,'[1]決勝ヒート - レース結果（貼付）'!$B:$B,0),MATCH('決勝ヒート - レース暫定結果表（印刷）'!E$11,'[1]決勝ヒート - レース結果（貼付）'!$1:$1,0)),"") | F40: =IFERROR(INDEX('[1]決勝ヒート - レース結果（貼付）'!$A:$Z,MATCH($B40,'[1]決勝ヒート - レース結果（貼付）'!$B:$B,0),MATCH('決勝ヒート - レース暫定結果表（印刷）'!F$11,'[1]決勝ヒート - レース結果（貼付）'!$1:$1,0)),"") | G40: =IFERROR(INDEX('[1]決勝ヒート - レース結果（貼付）'!$A:$Z,MATCH($B40,'[1]決勝ヒート - レース結果（貼付）'!$B:$B,0),MATCH('決勝ヒート - レース暫定結果表（印刷）'!G$11,'[1]決勝ヒート - レース結果（貼付）'!$1:$1,0)),"") | H40: =IF(A40="DNS","",IF(A40="DQ","",IFERROR(INDEX('[1]決勝ヒート - レース結果（貼付）'!$A:$Z,MATCH($A40,'[1]決勝ヒート - レース結果（貼付）'!$A:$A,0),MATCH('決勝ヒート - レース暫定結果表（印刷）'!H$11,'[1]決勝ヒート - レース結果（貼付）'!$1:$1,0)),""))) | I40: =IF(A40="DNS","ｽﾀｰﾄ出来ず",IF(A40="DQ","失 格",IFERROR(INDEX('[1]決勝ヒート - レース結果（貼付）'!$A:$Z,MATCH($B40,'[1]決勝ヒート - レース結果（貼付）'!$B:$B,0),MATCH('決勝ヒート - レース暫定結果表（印刷）'!I$11,'[1]決勝ヒート - レース結果（貼付）'!$1:$1,0)),""))) | J40: =IF(A40="DNS","",IF(A40="DQ","",IFERROR(INDEX('[1]決勝ヒート - レース結果（貼付）'!$A:$Z,MATCH($A40,'[1]決勝ヒート - レース結果（貼付）'!$A:$A,0),MATCH('決勝ヒート - レース暫定結果表（印刷）'!J$11,'[1]決勝ヒート - レース結果（貼付）'!$1:$1,0)),""))) | K40: =IF(A40="DNS","",IF(A40="DQ","",IFERROR(INDEX('[1]決勝ヒート - レース結果（貼付）'!$A:$Z,MATCH($A40,'[1]決勝ヒート - レース結果（貼付）'!$A:$A,0),MATCH('決勝ヒート - レース暫定結果表（印刷）'!K$11,'[1]決勝ヒート - レース結果（貼付）'!$1:$1,0)),""))) | L40: =IF(A40="DNS","",IF(A40="DQ","",IFERROR(INDEX('[1]決勝ヒート - レース結果（貼付）'!$A:$Z,MATCH($B40,'[1]決勝ヒート - レース結果（貼付）'!$B:$B,0),MATCH('決勝ヒート - レース暫定結果表（印刷）'!L$11,'[1]決勝ヒート - レース結果（貼付）'!$1:$1,0)),""))) | M40: =IF(L40<1,"",IF($M$11>L40,"R","")) | P40: =IF(IFERROR(INDEX('[1]決勝ヒート - レース結果（貼付）'!$A:$Z,MATCH($B40,'[1]決勝ヒート - レース結果（貼付）'!$B:$B,0),MATCH('決勝ヒート - レース暫定結果表（印刷）'!P$11,'[1]決勝ヒート - レース結果（貼付）'!$1:$1,0)),"")=0,"",IFERROR(INDEX('[1]決勝ヒート - レース結果（貼付）'!$A:$Z,MATCH($B40,'[1]決勝ヒート - レース結果（貼付）'!$B:$B,0),MATCH('決勝ヒート - レース暫定結果表（印刷）'!P$11,'[1]決勝ヒート - レース結果（貼付）'!$1:$1,0)),"")) | Q40: =IF(P40="","",COUNTIF($P$13:P40,"<>"&"")) | R40: =IFERROR(RANK(Q40,$Q$13:$Q$48,1),"") | S40: =IF(IFERROR(INDEX('[1]決勝ヒート - レース結果（貼付）'!$A:$Z,MATCH($A40,'[1]決勝ヒート - レース結果（貼付）'!$A:$A,0),MATCH('決勝ヒート - レース暫定結果表（印刷）'!S$11,'[1]決勝ヒート - レース結果（貼付）'!$1:$1,0)),"")=0,"",IFERROR(INDEX('[1]決勝ヒート - レース結果（貼付）'!$A:$Z,MATCH($A40,'[1]決勝ヒート - レース結果（貼付）'!$A:$A,0),MATCH('決勝ヒート - レース暫定結果表（印刷）'!S$11,'[1]決勝ヒート - レース結果（貼付）'!$1:$1,0)),"")) | U40: =IF(IFERROR(INDEX('[1]決勝ヒート - レース結果（貼付）'!$A:$Z,MATCH($B40,'[1]決勝ヒート - レース結果（貼付）'!$B:$B,0),MATCH('決勝ヒート - レース暫定結果表（印刷）'!U$11,'[1]決勝ヒート - レース結果（貼付）'!$1:$1,0)),"")=0,"",IFERROR(INDEX('[1]決勝ヒート - レース結果（貼付）'!$A:$Z,MATCH($B40,'[1]決勝ヒート - レース結果（貼付）'!$B:$B,0),MATCH('決勝ヒート - レース暫定結果表（印刷）'!U$11,'[1]決勝ヒート - レース結果（貼付）'!$1:$1,0)),""))
A41: =IF(OR('[1]決勝ヒート - レース結果（貼付）'!A28="DNF",'[1]決勝ヒート - レース結果（貼付）'!A28="DNS",'[1]決勝ヒート - レース結果（貼付）'!A28="DQ"),'[1]決勝ヒート - レース結果（貼付）'!A28,IF(MAX('[1]決勝ヒート - レース結果（貼付）'!A:A)>A40,A40+1,"")) | B41: =IFERROR(INDEX('[1]決勝ヒート - レース結果（貼付）'!A28:$Z$50,MATCH($A41,'[1]決勝ヒート - レース結果（貼付）'!A28:$A$50,0),MATCH('決勝ヒート - レース暫定結果表（印刷）'!B$11,'[1]決勝ヒート - レース結果（貼付）'!$1:$1,0)),"") | D41: =IFERROR(INDEX('[1]決勝ヒート - レース結果（貼付）'!$A:$Z,MATCH($B41,'[1]決勝ヒート - レース結果（貼付）'!$B:$B,0),MATCH('決勝ヒート - レース暫定結果表（印刷）'!D$11,'[1]決勝ヒート - レース結果（貼付）'!$1:$1,0)),"") | E41: =IFERROR(INDEX('[1]決勝ヒート - レース結果（貼付）'!$A:$Z,MATCH($B41,'[1]決勝ヒート - レース結果（貼付）'!$B:$B,0),MATCH('決勝ヒート - レース暫定結果表（印刷）'!E$11,'[1]決勝ヒート - レース結果（貼付）'!$1:$1,0)),"") | F41: =IFERROR(INDEX('[1]決勝ヒート - レース結果（貼付）'!$A:$Z,MATCH($B41,'[1]決勝ヒート - レース結果（貼付）'!$B:$B,0),MATCH('決勝ヒート - レース暫定結果表（印刷）'!F$11,'[1]決勝ヒート - レース結果（貼付）'!$1:$1,0)),"") | G41: =IFERROR(INDEX('[1]決勝ヒート - レース結果（貼付）'!$A:$Z,MATCH($B41,'[1]決勝ヒート - レース結果（貼付）'!$B:$B,0),MATCH('決勝ヒート - レース暫定結果表（印刷）'!G$11,'[1]決勝ヒート - レース結果（貼付）'!$1:$1,0)),"") | H41: =IF(A41="DNS","",IF(A41="DQ","",IFERROR(INDEX('[1]決勝ヒート - レース結果（貼付）'!$A:$Z,MATCH($A41,'[1]決勝ヒート - レース結果（貼付）'!$A:$A,0),MATCH('決勝ヒート - レース暫定結果表（印刷）'!H$11,'[1]決勝ヒート - レース結果（貼付）'!$1:$1,0)),""))) | I41: =IF(A41="DNS","ｽﾀｰﾄ出来ず",IF(A41="DQ","失 格",IFERROR(INDEX('[1]決勝ヒート - レース結果（貼付）'!$A:$Z,MATCH($B41,'[1]決勝ヒート - レース結果（貼付）'!$B:$B,0),MATCH('決勝ヒート - レース暫定結果表（印刷）'!I$11,'[1]決勝ヒート - レース結果（貼付）'!$1:$1,0)),""))) | J41: =IF(A41="DNS","",IF(A41="DQ","",IFERROR(INDEX('[1]決勝ヒート - レース結果（貼付）'!$A:$Z,MATCH($A41,'[1]決勝ヒート - レース結果（貼付）'!$A:$A,0),MATCH('決勝ヒート - レース暫定結果表（印刷）'!J$11,'[1]決勝ヒート - レース結果（貼付）'!$1:$1,0)),""))) | K41: =IF(A41="DNS","",IF(A41="DQ","",IFERROR(INDEX('[1]決勝ヒート - レース結果（貼付）'!$A:$Z,MATCH($A41,'[1]決勝ヒート - レース結果（貼付）'!$A:$A,0),MATCH('決勝ヒート - レース暫定結果表（印刷）'!K$11,'[1]決勝ヒート - レース結果（貼付）'!$1:$1,0)),""))) | L41: =IF(A41="DNS","",IF(A41="DQ","",IFERROR(INDEX('[1]決勝ヒート - レース結果（貼付）'!$A:$Z,MATCH($B41,'[1]決勝ヒート - レース結果（貼付）'!$B:$B,0),MATCH('決勝ヒート - レース暫定結果表（印刷）'!L$11,'[1]決勝ヒート - レース結果（貼付）'!$1:$1,0)),""))) | M41: =IF(L41<1,"",IF($M$11>L41,"R","")) | P41: =IF(IFERROR(INDEX('[1]決勝ヒート - レース結果（貼付）'!$A:$Z,MATCH($B41,'[1]決勝ヒート - レース結果（貼付）'!$B:$B,0),MATCH('決勝ヒート - レース暫定結果表（印刷）'!P$11,'[1]決勝ヒート - レース結果（貼付）'!$1:$1,0)),"")=0,"",IFERROR(INDEX('[1]決勝ヒート - レース結果（貼付）'!$A:$Z,MATCH($B41,'[1]決勝ヒート - レース結果（貼付）'!$B:$B,0),MATCH('決勝ヒート - レース暫定結果表（印刷）'!P$11,'[1]決勝ヒート - レース結果（貼付）'!$1:$1,0)),"")) | Q41: =IF(P41="","",COUNTIF($P$13:P41,"<>"&"")) | R41: =IFERROR(RANK(Q41,$Q$13:$Q$48,1),"") | S41: =IF(IFERROR(INDEX('[1]決勝ヒート - レース結果（貼付）'!$A:$Z,MATCH($A41,'[1]決勝ヒート - レース結果（貼付）'!$A:$A,0),MATCH('決勝ヒート - レース暫定結果表（印刷）'!S$11,'[1]決勝ヒート - レース結果（貼付）'!$1:$1,0)),"")=0,"",IFERROR(INDEX('[1]決勝ヒート - レース結果（貼付）'!$A:$Z,MATCH($A41,'[1]決勝ヒート - レース結果（貼付）'!$A:$A,0),MATCH('決勝ヒート - レース暫定結果表（印刷）'!S$11,'[1]決勝ヒート - レース結果（貼付）'!$1:$1,0)),"")) | U41: =IF(IFERROR(INDEX('[1]決勝ヒート - レース結果（貼付）'!$A:$Z,MATCH($B41,'[1]決勝ヒート - レース結果（貼付）'!$B:$B,0),MATCH('決勝ヒート - レース暫定結果表（印刷）'!U$11,'[1]決勝ヒート - レース結果（貼付）'!$1:$1,0)),"")=0,"",IFERROR(INDEX('[1]決勝ヒート - レース結果（貼付）'!$A:$Z,MATCH($B41,'[1]決勝ヒート - レース結果（貼付）'!$B:$B,0),MATCH('決勝ヒート - レース暫定結果表（印刷）'!U$11,'[1]決勝ヒート - レース結果（貼付）'!$1:$1,0)),""))
A42: =IF(OR('[1]決勝ヒート - レース結果（貼付）'!A29="DNF",'[1]決勝ヒート - レース結果（貼付）'!A29="DNS",'[1]決勝ヒート - レース結果（貼付）'!A29="DQ"),'[1]決勝ヒート - レース結果（貼付）'!A29,IF(MAX('[1]決勝ヒート - レース結果（貼付）'!A:A)>A41,A41+1,"")) | B42: =IFERROR(INDEX('[1]決勝ヒート - レース結果（貼付）'!A29:$Z$50,MATCH($A42,'[1]決勝ヒート - レース結果（貼付）'!A29:$A$50,0),MATCH('決勝ヒート - レース暫定結果表（印刷）'!B$11,'[1]決勝ヒート - レース結果（貼付）'!$1:$1,0)),"") | D42: =IFERROR(INDEX('[1]決勝ヒート - レース結果（貼付）'!$A:$Z,MATCH($B42,'[1]決勝ヒート - レース結果（貼付）'!$B:$B,0),MATCH('決勝ヒート - レース暫定結果表（印刷）'!D$11,'[1]決勝ヒート - レース結果（貼付）'!$1:$1,0)),"") | E42: =IFERROR(INDEX('[1]決勝ヒート - レース結果（貼付）'!$A:$Z,MATCH($B42,'[1]決勝ヒート - レース結果（貼付）'!$B:$B,0),MATCH('決勝ヒート - レース暫定結果表（印刷）'!E$11,'[1]決勝ヒート - レース結果（貼付）'!$1:$1,0)),"") | F42: =IFERROR(INDEX('[1]決勝ヒート - レース結果（貼付）'!$A:$Z,MATCH($B42,'[1]決勝ヒート - レース結果（貼付）'!$B:$B,0),MATCH('決勝ヒート - レース暫定結果表（印刷）'!F$11,'[1]決勝ヒート - レース結果（貼付）'!$1:$1,0)),"") | G42: =IFERROR(INDEX('[1]決勝ヒート - レース結果（貼付）'!$A:$Z,MATCH($B42,'[1]決勝ヒート - レース結果（貼付）'!$B:$B,0),MATCH('決勝ヒート - レース暫定結果表（印刷）'!G$11,'[1]決勝ヒート - レース結果（貼付）'!$1:$1,0)),"") | H42: =IF(A42="DNS","",IF(A42="DQ","",IFERROR(INDEX('[1]決勝ヒート - レース結果（貼付）'!$A:$Z,MATCH($A42,'[1]決勝ヒート - レース結果（貼付）'!$A:$A,0),MATCH('決勝ヒート - レース暫定結果表（印刷）'!H$11,'[1]決勝ヒート - レース結果（貼付）'!$1:$1,0)),""))) | I42: =IF(A42="DNS","ｽﾀｰﾄ出来ず",IF(A42="DQ","失 格",IFERROR(INDEX('[1]決勝ヒート - レース結果（貼付）'!$A:$Z,MATCH($B42,'[1]決勝ヒート - レース結果（貼付）'!$B:$B,0),MATCH('決勝ヒート - レース暫定結果表（印刷）'!I$11,'[1]決勝ヒート - レース結果（貼付）'!$1:$1,0)),""))) | J42: =IF(A42="DNS","",IF(A42="DQ","",IFERROR(INDEX('[1]決勝ヒート - レース結果（貼付）'!$A:$Z,MATCH($A42,'[1]決勝ヒート - レース結果（貼付）'!$A:$A,0),MATCH('決勝ヒート - レース暫定結果表（印刷）'!J$11,'[1]決勝ヒート - レース結果（貼付）'!$1:$1,0)),""))) | K42: =IF(A42="DNS","",IF(A42="DQ","",IFERROR(INDEX('[1]決勝ヒート - レース結果（貼付）'!$A:$Z,MATCH($A42,'[1]決勝ヒート - レース結果（貼付）'!$A:$A,0),MATCH('決勝ヒート - レース暫定結果表（印刷）'!K$11,'[1]決勝ヒート - レース結果（貼付）'!$1:$1,0)),""))) | L42: =IF(A42="DNS","",IF(A42="DQ","",IFERROR(INDEX('[1]決勝ヒート - レース結果（貼付）'!$A:$Z,MATCH($B42,'[1]決勝ヒート - レース結果（貼付）'!$B:$B,0),MATCH('決勝ヒート - レース暫定結果表（印刷）'!L$11,'[1]決勝ヒート - レース結果（貼付）'!$1:$1,0)),""))) | M42: =IF(L42<1,"",IF($M$11>L42,"R","")) | P42: =IF(IFERROR(INDEX('[1]決勝ヒート - レース結果（貼付）'!$A:$Z,MATCH($B42,'[1]決勝ヒート - レース結果（貼付）'!$B:$B,0),MATCH('決勝ヒート - レース暫定結果表（印刷）'!P$11,'[1]決勝ヒート - レース結果（貼付）'!$1:$1,0)),"")=0,"",IFERROR(INDEX('[1]決勝ヒート - レース結果（貼付）'!$A:$Z,MATCH($B42,'[1]決勝ヒート - レース結果（貼付）'!$B:$B,0),MATCH('決勝ヒート - レース暫定結果表（印刷）'!P$11,'[1]決勝ヒート - レース結果（貼付）'!$1:$1,0)),"")) | Q42: =IF(P42="","",COUNTIF($P$13:P42,"<>"&"")) | R42: =IFERROR(RANK(Q42,$Q$13:$Q$48,1),"") | S42: =IF(IFERROR(INDEX('[1]決勝ヒート - レース結果（貼付）'!$A:$Z,MATCH($A42,'[1]決勝ヒート - レース結果（貼付）'!$A:$A,0),MATCH('決勝ヒート - レース暫定結果表（印刷）'!S$11,'[1]決勝ヒート - レース結果（貼付）'!$1:$1,0)),"")=0,"",IFERROR(INDEX('[1]決勝ヒート - レース結果（貼付）'!$A:$Z,MATCH($A42,'[1]決勝ヒート - レース結果（貼付）'!$A:$A,0),MATCH('決勝ヒート - レース暫定結果表（印刷）'!S$11,'[1]決勝ヒート - レース結果（貼付）'!$1:$1,0)),"")) | U42: =IF(IFERROR(INDEX('[1]決勝ヒート - レース結果（貼付）'!$A:$Z,MATCH($B42,'[1]決勝ヒート - レース結果（貼付）'!$B:$B,0),MATCH('決勝ヒート - レース暫定結果表（印刷）'!U$11,'[1]決勝ヒート - レース結果（貼付）'!$1:$1,0)),"")=0,"",IFERROR(INDEX('[1]決勝ヒート - レース結果（貼付）'!$A:$Z,MATCH($B42,'[1]決勝ヒート - レース結果（貼付）'!$B:$B,0),MATCH('決勝ヒート - レース暫定結果表（印刷）'!U$11,'[1]決勝ヒート - レース結果（貼付）'!$1:$1,0)),""))
A43: =IF(OR('[1]決勝ヒート - レース結果（貼付）'!A30="DNF",'[1]決勝ヒート - レース結果（貼付）'!A30="DNS",'[1]決勝ヒート - レース結果（貼付）'!A30="DQ"),'[1]決勝ヒート - レース結果（貼付）'!A30,IF(MAX('[1]決勝ヒート - レース結果（貼付）'!A:A)>A42,A42+1,"")) | B43: =IFERROR(INDEX('[1]決勝ヒート - レース結果（貼付）'!A30:$Z$50,MATCH($A43,'[1]決勝ヒート - レース結果（貼付）'!A30:$A$50,0),MATCH('決勝ヒート - レース暫定結果表（印刷）'!B$11,'[1]決勝ヒート - レース結果（貼付）'!$1:$1,0)),"") | D43: =IFERROR(INDEX('[1]決勝ヒート - レース結果（貼付）'!$A:$Z,MATCH($B43,'[1]決勝ヒート - レース結果（貼付）'!$B:$B,0),MATCH('決勝ヒート - レース暫定結果表（印刷）'!D$11,'[1]決勝ヒート - レース結果（貼付）'!$1:$1,0)),"") | E43: =IFERROR(INDEX('[1]決勝ヒート - レース結果（貼付）'!$A:$Z,MATCH($B43,'[1]決勝ヒート - レース結果（貼付）'!$B:$B,0),MATCH('決勝ヒート - レース暫定結果表（印刷）'!E$11,'[1]決勝ヒート - レース結果（貼付）'!$1:$1,0)),"") | F43: =IFERROR(INDEX('[1]決勝ヒート - レース結果（貼付）'!$A:$Z,MATCH($B43,'[1]決勝ヒート - レース結果（貼付）'!$B:$B,0),MATCH('決勝ヒート - レース暫定結果表（印刷）'!F$11,'[1]決勝ヒート - レース結果（貼付）'!$1:$1,0)),"") | G43: =IFERROR(INDEX('[1]決勝ヒート - レース結果（貼付）'!$A:$Z,MATCH($B43,'[1]決勝ヒート - レース結果（貼付）'!$B:$B,0),MATCH('決勝ヒート - レース暫定結果表（印刷）'!G$11,'[1]決勝ヒート - レース結果（貼付）'!$1:$1,0)),"") | H43: =IF(A43="DNS","",IF(A43="DQ","",IFERROR(INDEX('[1]決勝ヒート - レース結果（貼付）'!$A:$Z,MATCH($A43,'[1]決勝ヒート - レース結果（貼付）'!$A:$A,0),MATCH('決勝ヒート - レース暫定結果表（印刷）'!H$11,'[1]決勝ヒート - レース結果（貼付）'!$1:$1,0)),""))) | I43: =IF(A43="DNS","ｽﾀｰﾄ出来ず",IF(A43="DQ","失 格",IFERROR(INDEX('[1]決勝ヒート - レース結果（貼付）'!$A:$Z,MATCH($B43,'[1]決勝ヒート - レース結果（貼付）'!$B:$B,0),MATCH('決勝ヒート - レース暫定結果表（印刷）'!I$11,'[1]決勝ヒート - レース結果（貼付）'!$1:$1,0)),""))) | J43: =IF(A43="DNS","",IF(A43="DQ","",IFERROR(INDEX('[1]決勝ヒート - レース結果（貼付）'!$A:$Z,MATCH($A43,'[1]決勝ヒート - レース結果（貼付）'!$A:$A,0),MATCH('決勝ヒート - レース暫定結果表（印刷）'!J$11,'[1]決勝ヒート - レース結果（貼付）'!$1:$1,0)),""))) | K43: =IF(A43="DNS","",IF(A43="DQ","",IFERROR(INDEX('[1]決勝ヒート - レース結果（貼付）'!$A:$Z,MATCH($A43,'[1]決勝ヒート - レース結果（貼付）'!$A:$A,0),MATCH('決勝ヒート - レース暫定結果表（印刷）'!K$11,'[1]決勝ヒート - レース結果（貼付）'!$1:$1,0)),""))) | L43: =IF(A43="DNS","",IF(A43="DQ","",IFERROR(INDEX('[1]決勝ヒート - レース結果（貼付）'!$A:$Z,MATCH($B43,'[1]決勝ヒート - レース結果（貼付）'!$B:$B,0),MATCH('決勝ヒート - レース暫定結果表（印刷）'!L$11,'[1]決勝ヒート - レース結果（貼付）'!$1:$1,0)),""))) | M43: =IF(L43<1,"",IF($M$11>L43,"R","")) | P43: =IF(IFERROR(INDEX('[1]決勝ヒート - レース結果（貼付）'!$A:$Z,MATCH($B43,'[1]決勝ヒート - レース結果（貼付）'!$B:$B,0),MATCH('決勝ヒート - レース暫定結果表（印刷）'!P$11,'[1]決勝ヒート - レース結果（貼付）'!$1:$1,0)),"")=0,"",IFERROR(INDEX('[1]決勝ヒート - レース結果（貼付）'!$A:$Z,MATCH($B43,'[1]決勝ヒート - レース結果（貼付）'!$B:$B,0),MATCH('決勝ヒート - レース暫定結果表（印刷）'!P$11,'[1]決勝ヒート - レース結果（貼付）'!$1:$1,0)),"")) | Q43: =IF(P43="","",COUNTIF($P$13:P43,"<>"&"")) | R43: =IFERROR(RANK(Q43,$Q$13:$Q$48,1),"") | S43: =IF(IFERROR(INDEX('[1]決勝ヒート - レース結果（貼付）'!$A:$Z,MATCH($A43,'[1]決勝ヒート - レース結果（貼付）'!$A:$A,0),MATCH('決勝ヒート - レース暫定結果表（印刷）'!S$11,'[1]決勝ヒート - レース結果（貼付）'!$1:$1,0)),"")=0,"",IFERROR(INDEX('[1]決勝ヒート - レース結果（貼付）'!$A:$Z,MATCH($A43,'[1]決勝ヒート - レース結果（貼付）'!$A:$A,0),MATCH('決勝ヒート - レース暫定結果表（印刷）'!S$11,'[1]決勝ヒート - レース結果（貼付）'!$1:$1,0)),"")) | U43: =IF(IFERROR(INDEX('[1]決勝ヒート - レース結果（貼付）'!$A:$Z,MATCH($B43,'[1]決勝ヒート - レース結果（貼付）'!$B:$B,0),MATCH('決勝ヒート - レース暫定結果表（印刷）'!U$11,'[1]決勝ヒート - レース結果（貼付）'!$1:$1,0)),"")=0,"",IFERROR(INDEX('[1]決勝ヒート - レース結果（貼付）'!$A:$Z,MATCH($B43,'[1]決勝ヒート - レース結果（貼付）'!$B:$B,0),MATCH('決勝ヒート - レース暫定結果表（印刷）'!U$11,'[1]決勝ヒート - レース結果（貼付）'!$1:$1,0)),""))
A44: =IF(OR('[1]決勝ヒート - レース結果（貼付）'!A31="DNF",'[1]決勝ヒート - レース結果（貼付）'!A31="DNS",'[1]決勝ヒート - レース結果（貼付）'!A31="DQ"),'[1]決勝ヒート - レース結果（貼付）'!A31,IF(MAX('[1]決勝ヒート - レース結果（貼付）'!A:A)>A43,A43+1,"")) | B44: =IFERROR(INDEX('[1]決勝ヒート - レース結果（貼付）'!A31:$Z$50,MATCH($A44,'[1]決勝ヒート - レース結果（貼付）'!A31:$A$50,0),MATCH('決勝ヒート - レース暫定結果表（印刷）'!B$11,'[1]決勝ヒート - レース結果（貼付）'!$1:$1,0)),"") | D44: =IFERROR(INDEX('[1]決勝ヒート - レース結果（貼付）'!$A:$Z,MATCH($B44,'[1]決勝ヒート - レース結果（貼付）'!$B:$B,0),MATCH('決勝ヒート - レース暫定結果表（印刷）'!D$11,'[1]決勝ヒート - レース結果（貼付）'!$1:$1,0)),"") | E44: =IFERROR(INDEX('[1]決勝ヒート - レース結果（貼付）'!$A:$Z,MATCH($B44,'[1]決勝ヒート - レース結果（貼付）'!$B:$B,0),MATCH('決勝ヒート - レース暫定結果表（印刷）'!E$11,'[1]決勝ヒート - レース結果（貼付）'!$1:$1,0)),"") | F44: =IFERROR(INDEX('[1]決勝ヒート - レース結果（貼付）'!$A:$Z,MATCH($B44,'[1]決勝ヒート - レース結果（貼付）'!$B:$B,0),MATCH('決勝ヒート - レース暫定結果表（印刷）'!F$11,'[1]決勝ヒート - レース結果（貼付）'!$1:$1,0)),"") | G44: =IFERROR(INDEX('[1]決勝ヒート - レース結果（貼付）'!$A:$Z,MATCH($B44,'[1]決勝ヒート - レース結果（貼付）'!$B:$B,0),MATCH('決勝ヒート - レース暫定結果表（印刷）'!G$11,'[1]決勝ヒート - レース結果（貼付）'!$1:$1,0)),"") | H44: =IF(A44="DNS","",IF(A44="DQ","",IFERROR(INDEX('[1]決勝ヒート - レース結果（貼付）'!$A:$Z,MATCH($A44,'[1]決勝ヒート - レース結果（貼付）'!$A:$A,0),MATCH('決勝ヒート - レース暫定結果表（印刷）'!H$11,'[1]決勝ヒート - レース結果（貼付）'!$1:$1,0)),""))) | I44: =IF(A44="DNS","ｽﾀｰﾄ出来ず",IF(A44="DQ","失 格",IFERROR(INDEX('[1]決勝ヒート - レース結果（貼付）'!$A:$Z,MATCH($B44,'[1]決勝ヒート - レース結果（貼付）'!$B:$B,0),MATCH('決勝ヒート - レース暫定結果表（印刷）'!I$11,'[1]決勝ヒート - レース結果（貼付）'!$1:$1,0)),""))) | J44: =IF(A44="DNS","",IF(A44="DQ","",IFERROR(INDEX('[1]決勝ヒート - レース結果（貼付）'!$A:$Z,MATCH($A44,'[1]決勝ヒート - レース結果（貼付）'!$A:$A,0),MATCH('決勝ヒート - レース暫定結果表（印刷）'!J$11,'[1]決勝ヒート - レース結果（貼付）'!$1:$1,0)),""))) | K44: =IF(A44="DNS","",IF(A44="DQ","",IFERROR(INDEX('[1]決勝ヒート - レース結果（貼付）'!$A:$Z,MATCH($A44,'[1]決勝ヒート - レース結果（貼付）'!$A:$A,0),MATCH('決勝ヒート - レース暫定結果表（印刷）'!K$11,'[1]決勝ヒート - レース結果（貼付）'!$1:$1,0)),""))) | L44: =IF(A44="DNS","",IF(A44="DQ","",IFERROR(INDEX('[1]決勝ヒート - レース結果（貼付）'!$A:$Z,MATCH($B44,'[1]決勝ヒート - レース結果（貼付）'!$B:$B,0),MATCH('決勝ヒート - レース暫定結果表（印刷）'!L$11,'[1]決勝ヒート - レース結果（貼付）'!$1:$1,0)),""))) | M44: =IF(L44<1,"",IF($M$11>L44,"R","")) | P44: =IF(IFERROR(INDEX('[1]決勝ヒート - レース結果（貼付）'!$A:$Z,MATCH($B44,'[1]決勝ヒート - レース結果（貼付）'!$B:$B,0),MATCH('決勝ヒート - レース暫定結果表（印刷）'!P$11,'[1]決勝ヒート - レース結果（貼付）'!$1:$1,0)),"")=0,"",IFERROR(INDEX('[1]決勝ヒート - レース結果（貼付）'!$A:$Z,MATCH($B44,'[1]決勝ヒート - レース結果（貼付）'!$B:$B,0),MATCH('決勝ヒート - レース暫定結果表（印刷）'!P$11,'[1]決勝ヒート - レース結果（貼付）'!$1:$1,0)),"")) | Q44: =IF(P44="","",COUNTIF($P$13:P44,"<>"&"")) | R44: =IFERROR(RANK(Q44,$Q$13:$Q$48,1),"") | S44: =IF(IFERROR(INDEX('[1]決勝ヒート - レース結果（貼付）'!$A:$Z,MATCH($A44,'[1]決勝ヒート - レース結果（貼付）'!$A:$A,0),MATCH('決勝ヒート - レース暫定結果表（印刷）'!S$11,'[1]決勝ヒート - レース結果（貼付）'!$1:$1,0)),"")=0,"",IFERROR(INDEX('[1]決勝ヒート - レース結果（貼付）'!$A:$Z,MATCH($A44,'[1]決勝ヒート - レース結果（貼付）'!$A:$A,0),MATCH('決勝ヒート - レース暫定結果表（印刷）'!S$11,'[1]決勝ヒート - レース結果（貼付）'!$1:$1,0)),"")) | U44: =IF(IFERROR(INDEX('[1]決勝ヒート - レース結果（貼付）'!$A:$Z,MATCH($B44,'[1]決勝ヒート - レース結果（貼付）'!$B:$B,0),MATCH('決勝ヒート - レース暫定結果表（印刷）'!U$11,'[1]決勝ヒート - レース結果（貼付）'!$1:$1,0)),"")=0,"",IFERROR(INDEX('[1]決勝ヒート - レース結果（貼付）'!$A:$Z,MATCH($B44,'[1]決勝ヒート - レース結果（貼付）'!$B:$B,0),MATCH('決勝ヒート - レース暫定結果表（印刷）'!U$11,'[1]決勝ヒート - レース結果（貼付）'!$1:$1,0)),""))
A45: =IF(OR('[1]決勝ヒート - レース結果（貼付）'!A32="DNF",'[1]決勝ヒート - レース結果（貼付）'!A32="DNS",'[1]決勝ヒート - レース結果（貼付）'!A32="DQ"),'[1]決勝ヒート - レース結果（貼付）'!A32,IF(MAX('[1]決勝ヒート - レース結果（貼付）'!A:A)>A44,A44+1,"")) | B45: =IFERROR(INDEX('[1]決勝ヒート - レース結果（貼付）'!A32:$Z$50,MATCH($A45,'[1]決勝ヒート - レース結果（貼付）'!A32:$A$50,0),MATCH('決勝ヒート - レース暫定結果表（印刷）'!B$11,'[1]決勝ヒート - レース結果（貼付）'!$1:$1,0)),"") | D45: =IFERROR(INDEX('[1]決勝ヒート - レース結果（貼付）'!$A:$Z,MATCH($B45,'[1]決勝ヒート - レース結果（貼付）'!$B:$B,0),MATCH('決勝ヒート - レース暫定結果表（印刷）'!D$11,'[1]決勝ヒート - レース結果（貼付）'!$1:$1,0)),"") | E45: =IFERROR(INDEX('[1]決勝ヒート - レース結果（貼付）'!$A:$Z,MATCH($B45,'[1]決勝ヒート - レース結果（貼付）'!$B:$B,0),MATCH('決勝ヒート - レース暫定結果表（印刷）'!E$11,'[1]決勝ヒート - レース結果（貼付）'!$1:$1,0)),"") | F45: =IFERROR(INDEX('[1]決勝ヒート - レース結果（貼付）'!$A:$Z,MATCH($B45,'[1]決勝ヒート - レース結果（貼付）'!$B:$B,0),MATCH('決勝ヒート - レース暫定結果表（印刷）'!F$11,'[1]決勝ヒート - レース結果（貼付）'!$1:$1,0)),"") | G45: =IFERROR(INDEX('[1]決勝ヒート - レース結果（貼付）'!$A:$Z,MATCH($B45,'[1]決勝ヒート - レース結果（貼付）'!$B:$B,0),MATCH('決勝ヒート - レース暫定結果表（印刷）'!G$11,'[1]決勝ヒート - レース結果（貼付）'!$1:$1,0)),"") | H45: =IF(A45="DNS","",IF(A45="DQ","",IFERROR(INDEX('[1]決勝ヒート - レース結果（貼付）'!$A:$Z,MATCH($A45,'[1]決勝ヒート - レース結果（貼付）'!$A:$A,0),MATCH('決勝ヒート - レース暫定結果表（印刷）'!H$11,'[1]決勝ヒート - レース結果（貼付）'!$1:$1,0)),""))) | I45: =IF(A45="DNS","ｽﾀｰﾄ出来ず",IF(A45="DQ","失 格",IFERROR(INDEX('[1]決勝ヒート - レース結果（貼付）'!$A:$Z,MATCH($B45,'[1]決勝ヒート - レース結果（貼付）'!$B:$B,0),MATCH('決勝ヒート - レース暫定結果表（印刷）'!I$11,'[1]決勝ヒート - レース結果（貼付）'!$1:$1,0)),""))) | J45: =IF(A45="DNS","",IF(A45="DQ","",IFERROR(INDEX('[1]決勝ヒート - レース結果（貼付）'!$A:$Z,MATCH($A45,'[1]決勝ヒート - レース結果（貼付）'!$A:$A,0),MATCH('決勝ヒート - レース暫定結果表（印刷）'!J$11,'[1]決勝ヒート - レース結果（貼付）'!$1:$1,0)),""))) | K45: =IF(A45="DNS","",IF(A45="DQ","",IFERROR(INDEX('[1]決勝ヒート - レース結果（貼付）'!$A:$Z,MATCH($A45,'[1]決勝ヒート - レース結果（貼付）'!$A:$A,0),MATCH('決勝ヒート - レース暫定結果表（印刷）'!K$11,'[1]決勝ヒート - レース結果（貼付）'!$1:$1,0)),""))) | L45: =IF(A45="DNS","",IF(A45="DQ","",IFERROR(INDEX('[1]決勝ヒート - レース結果（貼付）'!$A:$Z,MATCH($B45,'[1]決勝ヒート - レース結果（貼付）'!$B:$B,0),MATCH('決勝ヒート - レース暫定結果表（印刷）'!L$11,'[1]決勝ヒート - レース結果（貼付）'!$1:$1,0)),""))) | M45: =IF(L45<1,"",IF($M$11>L45,"R","")) | P45: =IF(IFERROR(INDEX('[1]決勝ヒート - レース結果（貼付）'!$A:$Z,MATCH($B45,'[1]決勝ヒート - レース結果（貼付）'!$B:$B,0),MATCH('決勝ヒート - レース暫定結果表（印刷）'!P$11,'[1]決勝ヒート - レース結果（貼付）'!$1:$1,0)),"")=0,"",IFERROR(INDEX('[1]決勝ヒート - レース結果（貼付）'!$A:$Z,MATCH($B45,'[1]決勝ヒート - レース結果（貼付）'!$B:$B,0),MATCH('決勝ヒート - レース暫定結果表（印刷）'!P$11,'[1]決勝ヒート - レース結果（貼付）'!$1:$1,0)),"")) | Q45: =IF(P45="","",COUNTIF($P$13:P45,"<>"&"")) | R45: =IFERROR(RANK(Q45,$Q$13:$Q$48,1),"") | S45: =IF(IFERROR(INDEX('[1]決勝ヒート - レース結果（貼付）'!$A:$Z,MATCH($A45,'[1]決勝ヒート - レース結果（貼付）'!$A:$A,0),MATCH('決勝ヒート - レース暫定結果表（印刷）'!S$11,'[1]決勝ヒート - レース結果（貼付）'!$1:$1,0)),"")=0,"",IFERROR(INDEX('[1]決勝ヒート - レース結果（貼付）'!$A:$Z,MATCH($A45,'[1]決勝ヒート - レース結果（貼付）'!$A:$A,0),MATCH('決勝ヒート - レース暫定結果表（印刷）'!S$11,'[1]決勝ヒート - レース結果（貼付）'!$1:$1,0)),"")) | U45: =IF(IFERROR(INDEX('[1]決勝ヒート - レース結果（貼付）'!$A:$Z,MATCH($B45,'[1]決勝ヒート - レース結果（貼付）'!$B:$B,0),MATCH('決勝ヒート - レース暫定結果表（印刷）'!U$11,'[1]決勝ヒート - レース結果（貼付）'!$1:$1,0)),"")=0,"",IFERROR(INDEX('[1]決勝ヒート - レース結果（貼付）'!$A:$Z,MATCH($B45,'[1]決勝ヒート - レース結果（貼付）'!$B:$B,0),MATCH('決勝ヒート - レース暫定結果表（印刷）'!U$11,'[1]決勝ヒート - レース結果（貼付）'!$1:$1,0)),""))
A46: =IF(OR('[1]決勝ヒート - レース結果（貼付）'!A33="DNF",'[1]決勝ヒート - レース結果（貼付）'!A33="DNS",'[1]決勝ヒート - レース結果（貼付）'!A33="DQ"),'[1]決勝ヒート - レース結果（貼付）'!A33,IF(MAX('[1]決勝ヒート - レース結果（貼付）'!A:A)>A45,A45+1,"")) | B46: =IFERROR(INDEX('[1]決勝ヒート - レース結果（貼付）'!A33:$Z$50,MATCH($A46,'[1]決勝ヒート - レース結果（貼付）'!A33:$A$50,0),MATCH('決勝ヒート - レース暫定結果表（印刷）'!B$11,'[1]決勝ヒート - レース結果（貼付）'!$1:$1,0)),"") | D46: =IFERROR(INDEX('[1]決勝ヒート - レース結果（貼付）'!$A:$Z,MATCH($B46,'[1]決勝ヒート - レース結果（貼付）'!$B:$B,0),MATCH('決勝ヒート - レース暫定結果表（印刷）'!D$11,'[1]決勝ヒート - レース結果（貼付）'!$1:$1,0)),"") | E46: =IFERROR(INDEX('[1]決勝ヒート - レース結果（貼付）'!$A:$Z,MATCH($B46,'[1]決勝ヒート - レース結果（貼付）'!$B:$B,0),MATCH('決勝ヒート - レース暫定結果表（印刷）'!E$11,'[1]決勝ヒート - レース結果（貼付）'!$1:$1,0)),"") | F46: =IFERROR(INDEX('[1]決勝ヒート - レース結果（貼付）'!$A:$Z,MATCH($B46,'[1]決勝ヒート - レース結果（貼付）'!$B:$B,0),MATCH('決勝ヒート - レース暫定結果表（印刷）'!F$11,'[1]決勝ヒート - レース結果（貼付）'!$1:$1,0)),"") | G46: =IFERROR(INDEX('[1]決勝ヒート - レース結果（貼付）'!$A:$Z,MATCH($B46,'[1]決勝ヒート - レース結果（貼付）'!$B:$B,0),MATCH('決勝ヒート - レース暫定結果表（印刷）'!G$11,'[1]決勝ヒート - レース結果（貼付）'!$1:$1,0)),"") | H46: =IF(A46="DNS","",IF(A46="DQ","",IFERROR(INDEX('[1]決勝ヒート - レース結果（貼付）'!$A:$Z,MATCH($A46,'[1]決勝ヒート - レース結果（貼付）'!$A:$A,0),MATCH('決勝ヒート - レース暫定結果表（印刷）'!H$11,'[1]決勝ヒート - レース結果（貼付）'!$1:$1,0)),""))) | I46: =IF(A46="DNS","ｽﾀｰﾄ出来ず",IF(A46="DQ","失 格",IFERROR(INDEX('[1]決勝ヒート - レース結果（貼付）'!$A:$Z,MATCH($B46,'[1]決勝ヒート - レース結果（貼付）'!$B:$B,0),MATCH('決勝ヒート - レース暫定結果表（印刷）'!I$11,'[1]決勝ヒート - レース結果（貼付）'!$1:$1,0)),""))) | J46: =IF(A46="DNS","",IF(A46="DQ","",IFERROR(INDEX('[1]決勝ヒート - レース結果（貼付）'!$A:$Z,MATCH($A46,'[1]決勝ヒート - レース結果（貼付）'!$A:$A,0),MATCH('決勝ヒート - レース暫定結果表（印刷）'!J$11,'[1]決勝ヒート - レース結果（貼付）'!$1:$1,0)),""))) | K46: =IF(A46="DNS","",IF(A46="DQ","",IFERROR(INDEX('[1]決勝ヒート - レース結果（貼付）'!$A:$Z,MATCH($A46,'[1]決勝ヒート - レース結果（貼付）'!$A:$A,0),MATCH('決勝ヒート - レース暫定結果表（印刷）'!K$11,'[1]決勝ヒート - レース結果（貼付）'!$1:$1,0)),""))) | L46: =IF(A46="DNS","",IF(A46="DQ","",IFERROR(INDEX('[1]決勝ヒート - レース結果（貼付）'!$A:$Z,MATCH($B46,'[1]決勝ヒート - レース結果（貼付）'!$B:$B,0),MATCH('決勝ヒート - レース暫定結果表（印刷）'!L$11,'[1]決勝ヒート - レース結果（貼付）'!$1:$1,0)),""))) | M46: =IF(L46<1,"",IF($M$11>L46,"R","")) | P46: =IF(IFERROR(INDEX('[1]決勝ヒート - レース結果（貼付）'!$A:$Z,MATCH($B46,'[1]決勝ヒート - レース結果（貼付）'!$B:$B,0),MATCH('決勝ヒート - レース暫定結果表（印刷）'!P$11,'[1]決勝ヒート - レース結果（貼付）'!$1:$1,0)),"")=0,"",IFERROR(INDEX('[1]決勝ヒート - レース結果（貼付）'!$A:$Z,MATCH($B46,'[1]決勝ヒート - レース結果（貼付）'!$B:$B,0),MATCH('決勝ヒート - レース暫定結果表（印刷）'!P$11,'[1]決勝ヒート - レース結果（貼付）'!$1:$1,0)),"")) | Q46: =IF(P46="","",COUNTIF($P$13:P46,"<>"&"")) | R46: =IFERROR(RANK(Q46,$Q$13:$Q$48,1),"") | S46: =IF(IFERROR(INDEX('[1]決勝ヒート - レース結果（貼付）'!$A:$Z,MATCH($A46,'[1]決勝ヒート - レース結果（貼付）'!$A:$A,0),MATCH('決勝ヒート - レース暫定結果表（印刷）'!S$11,'[1]決勝ヒート - レース結果（貼付）'!$1:$1,0)),"")=0,"",IFERROR(INDEX('[1]決勝ヒート - レース結果（貼付）'!$A:$Z,MATCH($A46,'[1]決勝ヒート - レース結果（貼付）'!$A:$A,0),MATCH('決勝ヒート - レース暫定結果表（印刷）'!S$11,'[1]決勝ヒート - レース結果（貼付）'!$1:$1,0)),"")) | U46: =IF(IFERROR(INDEX('[1]決勝ヒート - レース結果（貼付）'!$A:$Z,MATCH($B46,'[1]決勝ヒート - レース結果（貼付）'!$B:$B,0),MATCH('決勝ヒート - レース暫定結果表（印刷）'!U$11,'[1]決勝ヒート - レース結果（貼付）'!$1:$1,0)),"")=0,"",IFERROR(INDEX('[1]決勝ヒート - レース結果（貼付）'!$A:$Z,MATCH($B46,'[1]決勝ヒート - レース結果（貼付）'!$B:$B,0),MATCH('決勝ヒート - レース暫定結果表（印刷）'!U$11,'[1]決勝ヒート - レース結果（貼付）'!$1:$1,0)),""))
A47: =IF(OR('[1]決勝ヒート - レース結果（貼付）'!A34="DNF",'[1]決勝ヒート - レース結果（貼付）'!A34="DNS",'[1]決勝ヒート - レース結果（貼付）'!A34="DQ"),'[1]決勝ヒート - レース結果（貼付）'!A34,IF(MAX('[1]決勝ヒート - レース結果（貼付）'!A:A)>A46,A46+1,"")) | B47: =IFERROR(INDEX('[1]決勝ヒート - レース結果（貼付）'!A34:$Z$50,MATCH($A47,'[1]決勝ヒート - レース結果（貼付）'!A34:$A$50,0),MATCH('決勝ヒート - レース暫定結果表（印刷）'!B$11,'[1]決勝ヒート - レース結果（貼付）'!$1:$1,0)),"") | D47: =IFERROR(INDEX('[1]決勝ヒート - レース結果（貼付）'!$A:$Z,MATCH($B47,'[1]決勝ヒート - レース結果（貼付）'!$B:$B,0),MATCH('決勝ヒート - レース暫定結果表（印刷）'!D$11,'[1]決勝ヒート - レース結果（貼付）'!$1:$1,0)),"") | E47: =IFERROR(INDEX('[1]決勝ヒート - レース結果（貼付）'!$A:$Z,MATCH($B47,'[1]決勝ヒート - レース結果（貼付）'!$B:$B,0),MATCH('決勝ヒート - レース暫定結果表（印刷）'!E$11,'[1]決勝ヒート - レース結果（貼付）'!$1:$1,0)),"") | F47: =IFERROR(INDEX('[1]決勝ヒート - レース結果（貼付）'!$A:$Z,MATCH($B47,'[1]決勝ヒート - レース結果（貼付）'!$B:$B,0),MATCH('決勝ヒート - レース暫定結果表（印刷）'!F$11,'[1]決勝ヒート - レース結果（貼付）'!$1:$1,0)),"") | G47: =IFERROR(INDEX('[1]決勝ヒート - レース結果（貼付）'!$A:$Z,MATCH($B47,'[1]決勝ヒート - レース結果（貼付）'!$B:$B,0),MATCH('決勝ヒート - レース暫定結果表（印刷）'!G$11,'[1]決勝ヒート - レース結果（貼付）'!$1:$1,0)),"") | H47: =IF(A47="DNS","",IF(A47="DQ","",IFERROR(INDEX('[1]決勝ヒート - レース結果（貼付）'!$A:$Z,MATCH($A47,'[1]決勝ヒート - レース結果（貼付）'!$A:$A,0),MATCH('決勝ヒート - レース暫定結果表（印刷）'!H$11,'[1]決勝ヒート - レース結果（貼付）'!$1:$1,0)),""))) | I47: =IF(A47="DNS","ｽﾀｰﾄ出来ず",IF(A47="DQ","失 格",IFERROR(INDEX('[1]決勝ヒート - レース結果（貼付）'!$A:$Z,MATCH($B47,'[1]決勝ヒート - レース結果（貼付）'!$B:$B,0),MATCH('決勝ヒート - レース暫定結果表（印刷）'!I$11,'[1]決勝ヒート - レース結果（貼付）'!$1:$1,0)),""))) | J47: =IF(A47="DNS","",IF(A47="DQ","",IFERROR(INDEX('[1]決勝ヒート - レース結果（貼付）'!$A:$Z,MATCH($A47,'[1]決勝ヒート - レース結果（貼付）'!$A:$A,0),MATCH('決勝ヒート - レース暫定結果表（印刷）'!J$11,'[1]決勝ヒート - レース結果（貼付）'!$1:$1,0)),""))) | K47: =IF(A47="DNS","",IF(A47="DQ","",IFERROR(INDEX('[1]決勝ヒート - レース結果（貼付）'!$A:$Z,MATCH($A47,'[1]決勝ヒート - レース結果（貼付）'!$A:$A,0),MATCH('決勝ヒート - レース暫定結果表（印刷）'!K$11,'[1]決勝ヒート - レース結果（貼付）'!$1:$1,0)),""))) | L47: =IF(A47="DNS","",IF(A47="DQ","",IFERROR(INDEX('[1]決勝ヒート - レース結果（貼付）'!$A:$Z,MATCH($B47,'[1]決勝ヒート - レース結果（貼付）'!$B:$B,0),MATCH('決勝ヒート - レース暫定結果表（印刷）'!L$11,'[1]決勝ヒート - レース結果（貼付）'!$1:$1,0)),""))) | M47: =IF(L47<1,"",IF($M$11>L47,"R","")) | P47: =IF(IFERROR(INDEX('[1]決勝ヒート - レース結果（貼付）'!$A:$Z,MATCH($B47,'[1]決勝ヒート - レース結果（貼付）'!$B:$B,0),MATCH('決勝ヒート - レース暫定結果表（印刷）'!P$11,'[1]決勝ヒート - レース結果（貼付）'!$1:$1,0)),"")=0,"",IFERROR(INDEX('[1]決勝ヒート - レース結果（貼付）'!$A:$Z,MATCH($B47,'[1]決勝ヒート - レース結果（貼付）'!$B:$B,0),MATCH('決勝ヒート - レース暫定結果表（印刷）'!P$11,'[1]決勝ヒート - レース結果（貼付）'!$1:$1,0)),"")) | Q47: =IF(P47="","",COUNTIF($P$13:P47,"<>"&"")) | R47: =IFERROR(RANK(Q47,$Q$13:$Q$48,1),"") | S47: =IF(IFERROR(INDEX('[1]決勝ヒート - レース結果（貼付）'!$A:$Z,MATCH($A47,'[1]決勝ヒート - レース結果（貼付）'!$A:$A,0),MATCH('決勝ヒート - レース暫定結果表（印刷）'!S$11,'[1]決勝ヒート - レース結果（貼付）'!$1:$1,0)),"")=0,"",IFERROR(INDEX('[1]決勝ヒート - レース結果（貼付）'!$A:$Z,MATCH($A47,'[1]決勝ヒート - レース結果（貼付）'!$A:$A,0),MATCH('決勝ヒート - レース暫定結果表（印刷）'!S$11,'[1]決勝ヒート - レース結果（貼付）'!$1:$1,0)),"")) | U47: =IF(IFERROR(INDEX('[1]決勝ヒート - レース結果（貼付）'!$A:$Z,MATCH($B47,'[1]決勝ヒート - レース結果（貼付）'!$B:$B,0),MATCH('決勝ヒート - レース暫定結果表（印刷）'!U$11,'[1]決勝ヒート - レース結果（貼付）'!$1:$1,0)),"")=0,"",IFERROR(INDEX('[1]決勝ヒート - レース結果（貼付）'!$A:$Z,MATCH($B47,'[1]決勝ヒート - レース結果（貼付）'!$B:$B,0),MATCH('決勝ヒート - レース暫定結果表（印刷）'!U$11,'[1]決勝ヒート - レース結果（貼付）'!$1:$1,0)),""))
A48: =IF(OR('[1]決勝ヒート - レース結果（貼付）'!A35="DNF",'[1]決勝ヒート - レース結果（貼付）'!A35="DNS",'[1]決勝ヒート - レース結果（貼付）'!A35="DQ"),'[1]決勝ヒート - レース結果（貼付）'!A35,IF(MAX('[1]決勝ヒート - レース結果（貼付）'!A:A)>A47,A47+1,"")) | B48: =IFERROR(INDEX('[1]決勝ヒート - レース結果（貼付）'!A35:$Z$50,MATCH($A48,'[1]決勝ヒート - レース結果（貼付）'!A35:$A$50,0),MATCH('決勝ヒート - レース暫定結果表（印刷）'!B$11,'[1]決勝ヒート - レース結果（貼付）'!$1:$1,0)),"") | D48: =IFERROR(INDEX('[1]決勝ヒート - レース結果（貼付）'!$A:$Z,MATCH($B48,'[1]決勝ヒート - レース結果（貼付）'!$B:$B,0),MATCH('決勝ヒート - レース暫定結果表（印刷）'!D$11,'[1]決勝ヒート - レース結果（貼付）'!$1:$1,0)),"") | E48: =IFERROR(INDEX('[1]決勝ヒート - レース結果（貼付）'!$A:$Z,MATCH($B48,'[1]決勝ヒート - レース結果（貼付）'!$B:$B,0),MATCH('決勝ヒート - レース暫定結果表（印刷）'!E$11,'[1]決勝ヒート - レース結果（貼付）'!$1:$1,0)),"") | F48: =IFERROR(INDEX('[1]決勝ヒート - レース結果（貼付）'!$A:$Z,MATCH($B48,'[1]決勝ヒート - レース結果（貼付）'!$B:$B,0),MATCH('決勝ヒート - レース暫定結果表（印刷）'!F$11,'[1]決勝ヒート - レース結果（貼付）'!$1:$1,0)),"") | G48: =IFERROR(INDEX('[1]決勝ヒート - レース結果（貼付）'!$A:$Z,MATCH($B48,'[1]決勝ヒート - レース結果（貼付）'!$B:$B,0),MATCH('決勝ヒート - レース暫定結果表（印刷）'!G$11,'[1]決勝ヒート - レース結果（貼付）'!$1:$1,0)),"") | H48: =IF(A48="DNS","",IF(A48="DQ","",IFERROR(INDEX('[1]決勝ヒート - レース結果（貼付）'!$A:$Z,MATCH($A48,'[1]決勝ヒート - レース結果（貼付）'!$A:$A,0),MATCH('決勝ヒート - レース暫定結果表（印刷）'!H$11,'[1]決勝ヒート - レース結果（貼付）'!$1:$1,0)),""))) | I48: =IF(A48="DNS","ｽﾀｰﾄ出来ず",IF(A48="DQ","失 格",IFERROR(INDEX('[1]決勝ヒート - レース結果（貼付）'!$A:$Z,MATCH($B48,'[1]決勝ヒート - レース結果（貼付）'!$B:$B,0),MATCH('決勝ヒート - レース暫定結果表（印刷）'!I$11,'[1]決勝ヒート - レース結果（貼付）'!$1:$1,0)),""))) | J48: =IF(A48="DNS","",IF(A48="DQ","",IFERROR(INDEX('[1]決勝ヒート - レース結果（貼付）'!$A:$Z,MATCH($A48,'[1]決勝ヒート - レース結果（貼付）'!$A:$A,0),MATCH('決勝ヒート - レース暫定結果表（印刷）'!J$11,'[1]決勝ヒート - レース結果（貼付）'!$1:$1,0)),""))) | K48: =IF(A48="DNS","",IF(A48="DQ","",IFERROR(INDEX('[1]決勝ヒート - レース結果（貼付）'!$A:$Z,MATCH($A48,'[1]決勝ヒート - レース結果（貼付）'!$A:$A,0),MATCH('決勝ヒート - レース暫定結果表（印刷）'!K$11,'[1]決勝ヒート - レース結果（貼付）'!$1:$1,0)),""))) | L48: =IF(A48="DNS","",IF(A48="DQ","",IFERROR(INDEX('[1]決勝ヒート - レース結果（貼付）'!$A:$Z,MATCH($B48,'[1]決勝ヒート - レース結果（貼付）'!$B:$B,0),MATCH('決勝ヒート - レース暫定結果表（印刷）'!L$11,'[1]決勝ヒート - レース結果（貼付）'!$1:$1,0)),""))) | M48: =IF(L48<1,"",IF($M$11>L48,"R","")) | P48: =IF(IFERROR(INDEX('[1]決勝ヒート - レース結果（貼付）'!$A:$Z,MATCH($B48,'[1]決勝ヒート - レース結果（貼付）'!$B:$B,0),MATCH('決勝ヒート - レース暫定結果表（印刷）'!P$11,'[1]決勝ヒート - レース結果（貼付）'!$1:$1,0)),"")=0,"",IFERROR(INDEX('[1]決勝ヒート - レース結果（貼付）'!$A:$Z,MATCH($B48,'[1]決勝ヒート - レース結果（貼付）'!$B:$B,0),MATCH('決勝ヒート - レース暫定結果表（印刷）'!P$11,'[1]決勝ヒート - レース結果（貼付）'!$1:$1,0)),"")) | Q48: =IF(P48="","",COUNTIF($P$13:P48,"<>"&"")) | R48: =IFERROR(RANK(Q48,$Q$13:$Q$48,1),"") | S48: =IF(IFERROR(INDEX('[1]決勝ヒート - レース結果（貼付）'!$A:$Z,MATCH($A48,'[1]決勝ヒート - レース結果（貼付）'!$A:$A,0),MATCH('決勝ヒート - レース暫定結果表（印刷）'!S$11,'[1]決勝ヒート - レース結果（貼付）'!$1:$1,0)),"")=0,"",IFERROR(INDEX('[1]決勝ヒート - レース結果（貼付）'!$A:$Z,MATCH($A48,'[1]決勝ヒート - レース結果（貼付）'!$A:$A,0),MATCH('決勝ヒート - レース暫定結果表（印刷）'!S$11,'[1]決勝ヒート - レース結果（貼付）'!$1:$1,0)),"")) | U48: =IF(IFERROR(INDEX('[1]決勝ヒート - レース結果（貼付）'!$A:$Z,MATCH($B48,'[1]決勝ヒート - レース結果（貼付）'!$B:$B,0),MATCH('決勝ヒート - レース暫定結果表（印刷）'!U$11,'[1]決勝ヒート - レース結果（貼付）'!$1:$1,0)),"")=0,"",IFERROR(INDEX('[1]決勝ヒート - レース結果（貼付）'!$A:$Z,MATCH($B48,'[1]決勝ヒート - レース結果（貼付）'!$B:$B,0),MATCH('決勝ヒート - レース暫定結果表（印刷）'!U$11,'[1]決勝ヒート - レース結果（貼付）'!$1:$1,0)),""))
A51: =IF(COUNTIF(M:M,"R")>=1,"""R"" マークの車は、コースレコードを更新しました。従来のレコードタイムは"&" "&M11,"")
A53: =IF(A62<COUNTIF($R$12:$R$48,">"&0),A62+1,"") | B53: =IF(A53="","","No."&INDEX($A$11:$U$48,MATCH($A53,$R$11:$R$48,0),MATCH("No.",$11:$11,0))) | C53: =INDEX($A$11:$U$48,MATCH($A53,$R$11:$R$48,0),MATCH("コメント",$11:$11,0))
A54: =IF(A53<COUNTIF($R$12:$R$48,">"&0),A53+1,"") | B54: =IF(A54="","","No."&INDEX($A$11:$U$48,MATCH($A54,$R$11:$R$48,0),MATCH("No.",$11:$11,0))) | C54: =INDEX($A$11:$U$48,MATCH($A54,$R$11:$R$48,0),MATCH("コメント",$11:$11,0))
A55: =IF(A54<COUNTIF($R$12:$R$48,">"&0),A54+1,"") | B55: =IF(A55="","","No."&INDEX($A$11:$U$48,MATCH($A55,$R$11:$R$48,0),MATCH("No.",$11:$11,0))) | C55: =INDEX($A$11:$U$48,MATCH($A55,$R$11:$R$48,0),MATCH("コメント",$11:$11,0))
A56: =IF(A55<COUNTIF($R$12:$R$48,">"&0),A55+1,"") | B56: =IF(A56="","","No."&INDEX($A$11:$U$48,MATCH($A56,$R$11:$R$48,0),MATCH("No.",$11:$11,0))) | C56: =INDEX($A$11:$U$48,MATCH($A56,$R$11:$R$48,0),MATCH("コメント",$11:$11,0))
A57: =IF(A56<COUNTIF($R$12:$R$48,">"&0),A56+1,"") | B57: =IF(A57="","","No."&INDEX($A$11:$U$48,MATCH($A57,$R$11:$R$48,0),MATCH("No.",$11:$11,0))) | C57: =INDEX($A$11:$U$48,MATCH($A57,$R$11:$R$48,0),MATCH("コメント",$11:$11,0))
A58: =IF(A57<COUNTIF($R$12:$R$48,">"&0),A57+1,"") | B58: =IF(A58="","","No."&INDEX($A$11:$U$48,MATCH($A58,$R$11:$R$48,0),MATCH("No.",$11:$11,0))) | C58: =INDEX($A$11:$U$48,MATCH($A58,$R$11:$R$48,0),MATCH("コメント",$11:$11,0))
A59: =IF(A58<COUNTIF($R$12:$R$48,">"&0),A58+1,"") | B59: =IF(A59="","","No."&INDEX($A$11:$U$48,MATCH($A59,$R$11:$R$48,0),MATCH("No.",$11:$11,0))) | C59: =INDEX($A$11:$U$48,MATCH($A59,$R$11:$R$48,0),MATCH("コメント",$11:$11,0))
A60: =IF(A61="","","ﾍﾟﾅﾙﾃｨ") -> ﾍﾟﾅﾙﾃｨ
A61: =IF(MAX(Q13:Q48)<1,"",1) -> 1 | B61: =IF(A61="","","No."&INDEX($A$11:$U$48,MATCH($A61,$R$11:$R$48,0),MATCH("No.",$11:$11,0))) -> No.43 | C61: =INDEX($A$11:$U$48,MATCH($A61,$R$11:$R$48,0),MATCH("コメント",$11:$11,0)) -> 鈴鹿選手権ｼﾘｰｽﾞ特別規則 競技車両規則第60条(ﾌﾛﾝﾄﾌｪｱﾘﾝｸﾞ)違反により、5秒加算とした。
A62: =IF(A61<COUNTIF($R$12:$R$48,">"&0),A61+1,"") -> 2 | B62: =IF(A62="","","No."&INDEX($A$11:$U$48,MATCH($A62,$R$11:$R$48,0),MATCH("No.",$11:$11,0))) -> No.1 | C62: =INDEX($A$11:$U$48,MATCH($A62,$R$11:$R$48,0),MATCH("コメント",$11:$11,0)) -> JAF国内ｶｰﾄ競技規則 ｶｰﾄ競技会運営に関する規定 21条(ｺｰｽｱｳﾄ)違反により、競技結果より1周減算とする。
A63: =IF(A59<COUNTIF($R$12:$R$48,">"&0),A59+1,"") | B63: =IF(A63="","","No."&INDEX($A$11:$U$48,MATCH($A63,$R$11:$R$48,0),MATCH("No.",$11:$11,0))) | C63: =INDEX($A$11:$U$48,MATCH($A63,$R$11:$R$48,0),MATCH("コメント",$11:$11,0))
A64: =IF(A63<COUNTIF($R$12:$R$48,">"&0),A63+1,"") | B64: =IF(A64="","","No."&INDEX($A$11:$U$48,MATCH($A64,$R$11:$R$48,0),MATCH("No.",$11:$11,0))) | C64: =INDEX($A$11:$U$48,MATCH($A64,$R$11:$R$48,0),MATCH("コメント",$11:$11,0))
B65: ="審査委員長 ："&" "&[1]各種設定!$D$20 -> 審査委員長 ： Hideyuki KOMIYAMA
