Workbook

Sheet 公式予選結果表
I6: =+[1]各種設定!D18 -> 44759 | K6: :
A7: =+[1]各種設定!D2 -> 2022 鈴鹿選手権シリーズ第4戦 ｶｰﾄﾚｰｽ IN SUZUKA | J7: WEATHER: | K7: Fine
J8: COURSE : | K8: Dry
A9: =+[1]各種設定!D4 -> EXGEL OK CHAMP | L9: 国際南コース 1.264Km
A10: 公式予選結果表
B11: No. | D11: 名前 | E11: Model/Engine | F11: Team | G11: Tires | H11: BestLap | I11: =VLOOKUP(A9,[1]コースレコード!$A:$G,3,FALSE) -> 46.999 | J11: 差 | K11: GAP | P11: コメント | R11: ペナルティNo. | S11: グリッドコメント
A12: Pos. | B12: No. | D12: Driver | E12: Type | F12: Team | G12: Tire | H12: Time | J12: Delay | K12: Gap | L12: Lap
A13: 1 | B13: =IFERROR(INDEX('[1]公式予選（TT）-結果表（貼付）'!A2:$V$50,MATCH($A13,'[1]公式予選（TT）-結果表（貼付）'!A2:$A$50,0),MATCH(公式予選結果表!B$11,'[1]公式予選（TT）-結果表（貼付）'!$1:$1,0)),"") -> 20 | D13: =IFERROR(INDEX('[1]公式予選（TT）-結果表（貼付）'!$A:$Z,MATCH($B13,'[1]公式予選（TT）-結果表（貼付）'!$B:$B,0),MATCH(公式予選結果表!D$11,'[1]公式予選（TT）-結果表（貼付）'!$1:$1,0)),"") -> 加藤大翔 | E13: =IFERROR(INDEX('[1]公式予選（TT）-結果表（貼付）'!$A:$Z,MATCH($B13,'[1]公式予選（TT）-結果表（貼付）'!$B:$B,0),MATCH(公式予選結果表!E$11,'[1]公式予選（TT）-結果表（貼付）'!$1:$1,0)),"") -> LN KART/TM | F13: =IFERROR(INDEX('[1]公式予選（TT）-結果表（貼付）'!$A:$Z,MATCH($B13,'[1]公式予選（TT）-結果表（貼付）'!$B:$B,0),MATCH(公式予選結果表!F$11,'[1]公式予選（TT）-結果表（貼付）'!$1:$1,0)),"") -> HRS JAPAN | G13: =IFERROR(INDEX('[1]公式予選（TT）-結果表（貼付）'!$A:$Z,MATCH($B13,'[1]公式予選（TT）-結果表（貼付）'!$B:$B,0),MATCH(公式予選結果表!G$11,'[1]公式予選（TT）-結果表（貼付）'!$1:$1,0)),"") -> YH | H13: =IF(A13="DNS","ｽﾀｰﾄ出来ず",IF(A13="DQ","失 格",IFERROR(INDEX('[1]公式予選（TT）-結果表（貼付）'!$A:$Z,MATCH($B13,'[1]公式予選（TT）-結果表（貼付）'!$B:$B,0),MATCH(公式予選結果表!H$11,'[1]公式予選（TT）-結果表（貼付）'!$1:$1,0)),""))) -> 48.274 | I13: =IF(H13<1,"",IF($I$11>H13,"R","")) | J13: =ROUND(INDEX('[1]公式予選（TT）-結果表（貼付）'!$A:$Z,MATCH($B13,'[1]公式予選（TT）-結果表（貼付）'!$B:$B,0),MATCH("ベスト平均時速",'[1]公式予選（TT）-結果表（貼付）'!$1:$1,0)),2)&"km/h" -> 94.26km/h | L13: =IF(OR('[1]公式予選（TT）-結果表（貼付）'!A2="DNS",'[1]公式予選（TT）-結果表（貼付）'!A2="DQ"),"",IFERROR(INDEX('[1]公式予選（TT）-結果表（貼付）'!$A:$Z,MATCH($B13,'[1]公式予選（TT）-結果表（貼付）'!$B:$B,0),MATCH("In Lap",'[1]公式予選（TT）-結果表（貼付）'!$1:$1,0))&"/"&INDEX('[1]公式予選（TT）-結果表（貼付）'!$A:$Z,MATCH($B13,'[1]公式予選（TT）-結果表（貼付）'!$B:$B,0),MATCH("Laps",'[1]公式予選（TT）-結果表（貼付）'!$1:$1,0)),"")) -> 2/4 | P13: =IF(IFERROR(INDEX('[1]公式予選（TT）-結果表（貼付）'!$A:$Z,MATCH($B13,'[1]公式予選（TT）-結果表（貼付）'!$B:$B,0),MATCH(P$11,'[1]公式予選（TT）-結果表（貼付）'!$1:$1,0)),"")=0,"",IFERROR(INDEX('[1]公式予選（TT）-結果表（貼付）'!$A:$Z,MATCH($B13,'[1]公式予選（TT）-結果表（貼付）'!$B:$B,0),MATCH(P$11,'[1]公式予選（TT）-結果表（貼付）'!$1:$1,0)),"")) | Q13: =IF(P13="","",COUNTIF($P$13:P13,"<>"&"")) | R13: =IFERROR(RANK(Q13,$Q$13:$Q$47,1),"") | S13: =IF(IFERROR(INDEX('[1]公式予選（TT）-結果表（貼付）'!$A:$Z,MATCH($A13,'[1]公式予選（TT）-結果表（貼付）'!$A:$A,0),MATCH(S$11,'[1]公式予選（TT）-結果表（貼付）'!$1:$1,0)),"")=0,"",IFERROR(INDEX('[1]公式予選（TT）-結果表（貼付）'!$A:$Z,MATCH($A13,'[1]公式予選（TT）-結果表（貼付）'!$A:$A,0),MATCH(S$11,'[1]公式予選（TT）-結果表（貼付）'!$1:$1,0)),""))
A14: =IF(OR('[1]公式予選（TT）-結果表（貼付）'!A3="DNF",'[1]公式予選（TT）-結果表（貼付）'!A3="DNS",'[1]公式予選（TT）-結果表（貼付）'!A3="DQ"),'[1]公式予選（TT）-結果表（貼付）'!A3,IF(MAX('[1]公式予選（TT）-結果表（貼付）'!$A:$A)>A13,A13+1,"")) -> 2 | B14: =IFERROR(INDEX('[1]公式予選（TT）-結果表（貼付）'!A3:$V$50,MATCH($A14,'[1]公式予選（TT）-結果表（貼付）'!A3:$A$50,0),MATCH(公式予選結果表!B$11,'[1]公式予選（TT）-結果表（貼付）'!$1:$1,0)),"") -> 32 | D14: =IFERROR(INDEX('[1]公式予選（TT）-結果表（貼付）'!$A:$Z,MATCH($B14,'[1]公式予選（TT）-結果表（貼付）'!$B:$B,0),MATCH(公式予選結果表!D$11,'[1]公式予選（TT）-結果表（貼付）'!$1:$1,0)),"") -> 上野晴紀 | E14: =IFERROR(INDEX('[1]公式予選（TT）-結果表（貼付）'!$A:$Z,MATCH($B14,'[1]公式予選（TT）-結果表（貼付）'!$B:$B,0),MATCH(公式予選結果表!E$11,'[1]公式予選（TT）-結果表（貼付）'!$1:$1,0)),"") -> birelART/IAME | F14: =IFERROR(INDEX('[1]公式予選（TT）-結果表（貼付）'!$A:$Z,MATCH($B14,'[1]公式予選（TT）-結果表（貼付）'!$B:$B,0),MATCH(公式予選結果表!F$11,'[1]公式予選（TT）-結果表（貼付）'!$1:$1,0)),"") -> ASTECH | G14: =IFERROR(INDEX('[1]公式予選（TT）-結果表（貼付）'!$A:$Z,MATCH($B14,'[1]公式予選（TT）-結果表（貼付）'!$B:$B,0),MATCH(公式予選結果表!G$11,'[1]公式予選（TT）-結果表（貼付）'!$1:$1,0)),"") -> YH | H14: =IF(A14="DNS","ｽﾀｰﾄ出来ず",IF(A14="DQ","失 格",IFERROR(INDEX('[1]公式予選（TT）-結果表（貼付）'!$A:$Z,MATCH($B14,'[1]公式予選（TT）-結果表（貼付）'!$B:$B,0),MATCH(公式予選結果表!H$11,'[1]公式予選（TT）-結果表（貼付）'!$1:$1,0)),""))) -> 48.337 | I14: =IF(H14<1,"",IF($I$11>H14,"R","")) | J14: =IF(OR('[1]公式予選（TT）-結果表（貼付）'!A3="DNS",'[1]公式予選（TT）-結果表（貼付）'!A3="DQ"),"",IFERROR(INDEX('[1]公式予選（TT）-結果表（貼付）'!$A:$Z,MATCH($B14,'[1]公式予選（TT）-結果表（貼付）'!$B:$B,0),MATCH(公式予選結果表!J$11,'[1]公式予選（TT）-結果表（貼付）'!$1:$1,0)),"")) -> 0.063 | K14: =IF(OR('[1]公式予選（TT）-結果表（貼付）'!A3="DNS",'[1]公式予選（TT）-結果表（貼付）'!A3="DQ"),"",IFERROR(INDEX('[1]公式予選（TT）-結果表（貼付）'!$A:$Z,MATCH($B14,'[1]公式予選（TT）-結果表（貼付）'!$B:$B,0),MATCH(公式予選結果表!K$11,'[1]公式予選（TT）-結果表（貼付）'!$1:$1,0)),"")) -> 0.063 | L14: =IF(OR('[1]公式予選（TT）-結果表（貼付）'!A3="DNS",'[1]公式予選（TT）-結果表（貼付）'!A3="DQ"),"",IFERROR(INDEX('[1]公式予選（TT）-結果表（貼付）'!$A:$Z,MATCH($B14,'[1]公式予選（TT）-結果表（貼付）'!$B:$B,0),MATCH("In Lap",'[1]公式予選（TT）-結果表（貼付）'!$1:$1,0))&"/"&INDEX('[1]公式予選（TT）-結果表（貼付）'!$A:$Z,MATCH($B14,'[1]公式予選（TT）-結果表（貼付）'!$B:$B,0),MATCH("Laps",'[1]公式予選（TT）-結果表（貼付）'!$1:$1,0)),"")) -> 2/4 | P14: =IF(IFERROR(INDEX('[1]公式予選（TT）-結果表（貼付）'!$A:$Z,MATCH($B14,'[1]公式予選（TT）-結果表（貼付）'!$B:$B,0),MATCH(P$11,'[1]公式予選（TT）-結果表（貼付）'!$1:$1,0)),"")=0,"",IFERROR(INDEX('[1]公式予選（TT）-結果表（貼付）'!$A:$Z,MATCH($B14,'[1]公式予選（TT）-結果表（貼付）'!$B:$B,0),MATCH(P$11,'[1]公式予選（TT）-結果表（貼付）'!$1:$1,0)),"")) | Q14: =IF(P14="","",COUNTIF($P$13:P14,"<>"&"")) | R14: =IFERROR(RANK(Q14,$Q$13:$Q$47,1),"") | S14: =IF(IFERROR(INDEX('[1]公式予選（TT）-結果表（貼付）'!$A:$Z,MATCH($A14,'[1]公式予選（TT）-結果表（貼付）'!$A:$A,0),MATCH(S$11,'[1]公式予選（TT）-結果表（貼付）'!$1:$1,0)),"")=0,"",IFERROR(INDEX('[1]公式予選（TT）-結果表（貼付）'!$A:$Z,MATCH($A14,'[1]公式予選（TT）-結果表（貼付）'!$A:$A,0),MATCH(S$11,'[1]公式予選（TT）-結果表（貼付）'!$1:$1,0)),""))
A15: =IF(OR('[1]公式予選（TT）-結果表（貼付）'!A4="DNF",'[1]公式予選（TT）-結果表（貼付）'!A4="DNS",'[1]公式予選（TT）-結果表（貼付）'!A4="DQ"),'[1]公式予選（TT）-結果表（貼付）'!A4,IF(MAX('[1]公式予選（TT）-結果表（貼付）'!$A:$A)>A14,A14+1,"")) -> 3 | B15: =IFERROR(INDEX('[1]公式予選（TT）-結果表（貼付）'!A4:$V$50,MATCH($A15,'[1]公式予選（TT）-結果表（貼付）'!A4:$A$50,0),MATCH(公式予選結果表!B$11,'[1]公式予選（TT）-結果表（貼付）'!$1:$1,0)),"") -> 3 | D15: =IFERROR(INDEX('[1]公式予選（TT）-結果表（貼付）'!$A:$Z,MATCH($B15,'[1]公式予選（TT）-結果表（貼付）'!$B:$B,0),MATCH(公式予選結果表!D$11,'[1]公式予選（TT）-結果表（貼付）'!$1:$1,0)),"") -> 洞地遼大 | E15: =IFERROR(INDEX('[1]公式予選（TT）-結果表（貼付）'!$A:$Z,MATCH($B15,'[1]公式予選（TT）-結果表（貼付）'!$B:$B,0),MATCH(公式予選結果表!E$11,'[1]公式予選（TT）-結果表（貼付）'!$1:$1,0)),"") -> KART REPUBLIC/TM | F15: =IFERROR(INDEX('[1]公式予選（TT）-結果表（貼付）'!$A:$Z,MATCH($B15,'[1]公式予選（TT）-結果表（貼付）'!$B:$B,0),MATCH(公式予選結果表!F$11,'[1]公式予選（TT）-結果表（貼付）'!$1:$1,0)),"") -> PONOS HIROTEX R | G15: =IFERROR(INDEX('[1]公式予選（TT）-結果表（貼付）'!$A:$Z,MATCH($B15,'[1]公式予選（TT）-結果表（貼付）'!$B:$B,0),MATCH(公式予選結果表!G$11,'[1]公式予選（TT）-結果表（貼付）'!$1:$1,0)),"") -> YH | H15: =IF(A15="DNS","ｽﾀｰﾄ出来ず",IF(A15="DQ","失 格",IFERROR(INDEX('[1]公式予選（TT）-結果表（貼付）'!$A:$Z,MATCH($B15,'[1]公式予選（TT）-結果表（貼付）'!$B:$B,0),MATCH(公式予選結果表!H$11,'[1]公式予選（TT）-結果表（貼付）'!$1:$1,0)),""))) -> 48.393 | I15: =IF(H15<1,"",IF($I$11>H15,"R","")) | J15: =IF(OR('[1]公式予選（TT）-結果表（貼付）'!A4="DNS",'[1]公式予選（TT）-結果表（貼付）'!A4="DQ"),"",IFERROR(INDEX('[1]公式予選（TT）-結果表（貼付）'!$A:$Z,MATCH($B15,'[1]公式予選（TT）-結果表（貼付）'!$B:$B,0),MATCH(公式予選結果表!J$11,'[1]公式予選（TT）-結果表（貼付）'!$1:$1,0)),"")) -> 0.119 | K15: =IF(OR('[1]公式予選（TT）-結果表（貼付）'!A4="DNS",'[1]公式予選（TT）-結果表（貼付）'!A4="DQ"),"",IFERROR(INDEX('[1]公式予選（TT）-結果表（貼付）'!$A:$Z,MATCH($B15,'[1]公式予選（TT）-結果表（貼付）'!$B:$B,0),MATCH(公式予選結果表!K$11,'[1]公式予選（TT）-結果表（貼付）'!$1:$1,0)),"")) -> 0.056 | L15: =IF(OR('[1]公式予選（TT）-結果表（貼付）'!A4="DNS",'[1]公式予選（TT）-結果表（貼付）'!A4="DQ"),"",IFERROR(INDEX('[1]公式予選（TT）-結果表（貼付）'!$A:$Z,MATCH($B15,'[1]公式予選（TT）-結果表（貼付）'!$B:$B,0),MATCH("In Lap",'[1]公式予選（TT）-結果表（貼付）'!$1:$1,0))&"/"&INDEX('[1]公式予選（TT）-結果表（貼付）'!$A:$Z,MATCH($B15,'[1]公式予選（TT）-結果表（貼付）'!$B:$B,0),MATCH("Laps",'[1]公式予選（TT）-結果表（貼付）'!$1:$1,0)),"")) -> 3/4 | P15: =IF(IFERROR(INDEX('[1]公式予選（TT）-結果表（貼付）'!$A:$Z,MATCH($B15,'[1]公式予選（TT）-結果表（貼付）'!$B:$B,0),MATCH(P$11,'[1]公式予選（TT）-結果表（貼付）'!$1:$1,0)),"")=0,"",IFERROR(INDEX('[1]公式予選（TT）-結果表（貼付）'!$A:$Z,MATCH($B15,'[1]公式予選（TT）-結果表（貼付）'!$B:$B,0),MATCH(P$11,'[1]公式予選（TT）-結果表（貼付）'!$1:$1,0)),"")) | Q15: =IF(P15="","",COUNTIF($P$13:P15,"<>"&"")) | R15: =IFERROR(RANK(Q15,$Q$13:$Q$47,1),"") | S15: =IF(IFERROR(INDEX('[1]公式予選（TT）-結果表（貼付）'!$A:$Z,MATCH($A15,'[1]公式予選（TT）-結果表（貼付）'!$A:$A,0),MATCH(S$11,'[1]公式予選（TT）-結果表（貼付）'!$1:$1,0)),"")=0,"",IFERROR(INDEX('[1]公式予選（TT）-結果表（貼付）'!$A:$Z,MATCH($A15,'[1]公式予選（TT）-結果表（貼付）'!$A:$A,0),MATCH(S$11,'[1]公式予選（TT）-結果表（貼付）'!$1:$1,0)),""))
A16: =IF(OR('[1]公式予選（TT）-結果表（貼付）'!A5="DNF",'[1]公式予選（TT）-結果表（貼付）'!A5="DNS",'[1]公式予選（TT）-結果表（貼付）'!A5="DQ"),'[1]公式予選（TT）-結果表（貼付）'!A5,IF(MAX('[1]公式予選（TT）-結果表（貼付）'!$A:$A)>A15,A15+1,"")) -> 4 | B16: =IFERROR(INDEX('[1]公式予選（TT）-結果表（貼付）'!A5:$V$50,MATCH($A16,'[1]公式予選（TT）-結果表（貼付）'!A5:$A$50,0),MATCH(公式予選結果表!B$11,'[1]公式予選（TT）-結果表（貼付）'!$1:$1,0)),"") -> 4 | D16: =IFERROR(INDEX('[1]公式予選（TT）-結果表（貼付）'!$A:$Z,MATCH($B16,'[1]公式予選（TT）-結果表（貼付）'!$B:$B,0),MATCH(公式予選結果表!D$11,'[1]公式予選（TT）-結果表（貼付）'!$1:$1,0)),"") -> 朝日ﾀｰﾎﾞ | E16: =IFERROR(INDEX('[1]公式予選（TT）-結果表（貼付）'!$A:$Z,MATCH($B16,'[1]公式予選（TT）-結果表（貼付）'!$B:$B,0),MATCH(公式予選結果表!E$11,'[1]公式予選（TT）-結果表（貼付）'!$1:$1,0)),"") -> PRAGA/TM | F16: =IFERROR(INDEX('[1]公式予選（TT）-結果表（貼付）'!$A:$Z,MATCH($B16,'[1]公式予選（TT）-結果表（貼付）'!$B:$B,0),MATCH(公式予選結果表!F$11,'[1]公式予選（TT）-結果表（貼付）'!$1:$1,0)),"") -> team Farina | G16: =IFERROR(INDEX('[1]公式予選（TT）-結果表（貼付）'!$A:$Z,MATCH($B16,'[1]公式予選（TT）-結果表（貼付）'!$B:$B,0),MATCH(公式予選結果表!G$11,'[1]公式予選（TT）-結果表（貼付）'!$1:$1,0)),"") -> YH | H16: =IF(A16="DNS","ｽﾀｰﾄ出来ず",IF(A16="DQ","失 格",IFERROR(INDEX('[1]公式予選（TT）-結果表（貼付）'!$A:$Z,MATCH($B16,'[1]公式予選（TT）-結果表（貼付）'!$B:$B,0),MATCH(公式予選結果表!H$11,'[1]公式予選（TT）-結果表（貼付）'!$1:$1,0)),""))) -> 48.474 | I16: =IF(H16<1,"",IF($I$11>H16,"R","")) | J16: =IF(OR('[1]公式予選（TT）-結果表（貼付）'!A5="DNS",'[1]公式予選（TT）-結果表（貼付）'!A5="DQ"),"",IFERROR(INDEX('[1]公式予選（TT）-結果表（貼付）'!$A:$Z,MATCH($B16,'[1]公式予選（TT）-結果表（貼付）'!$B:$B,0),MATCH(公式予選結果表!J$11,'[1]公式予選（TT）-結果表（貼付）'!$1:$1,0)),"")) -> 0.2 | K16: =IF(OR('[1]公式予選（TT）-結果表（貼付）'!A5="DNS",'[1]公式予選（TT）-結果表（貼付）'!A5="DQ"),"",IFERROR(INDEX('[1]公式予選（TT）-結果表（貼付）'!$A:$Z,MATCH($B16,'[1]公式予選（TT）-結果表（貼付）'!$B:$B,0),MATCH(公式予選結果表!K$11,'[1]公式予選（TT）-結果表（貼付）'!$1:$1,0)),"")) -> 0.081 | L16: =IF(OR('[1]公式予選（TT）-結果表（貼付）'!A5="DNS",'[1]公式予選（TT）-結果表（貼付）'!A5="DQ"),"",IFERROR(INDEX('[1]公式予選（TT）-結果表（貼付）'!$A:$Z,MATCH($B16,'[1]公式予選（TT）-結果表（貼付）'!$B:$B,0),MATCH("In Lap",'[1]公式予選（TT）-結果表（貼付）'!$1:$1,0))&"/"&INDEX('[1]公式予選（TT）-結果表（貼付）'!$A:$Z,MATCH($B16,'[1]公式予選（TT）-結果表（貼付）'!$B:$B,0),MATCH("Laps",'[1]公式予選（TT）-結果表（貼付）'!$1:$1,0)),"")) -> 2/6 | P16: =IF(IFERROR(INDEX('[1]公式予選（TT）-結果表（貼付）'!$A:$Z,MATCH($B16,'[1]公式予選（TT）-結果表（貼付）'!$B:$B,0),MATCH(P$11,'[1]公式予選（TT）-結果表（貼付）'!$1:$1,0)),"")=0,"",IFERROR(INDEX('[1]公式予選（TT）-結果表（貼付）'!$A:$Z,MATCH($B16,'[1]公式予選（TT）-結果表（貼付）'!$B:$B,0),MATCH(P$11,'[1]公式予選（TT）-結果表（貼付）'!$1:$1,0)),"")) | Q16: =IF(P16="","",COUNTIF($P$13:P16,"<>"&"")) | R16: =IFERROR(RANK(Q16,$Q$13:$Q$47,1),"") | S16: =IF(IFERROR(INDEX('[1]公式予選（TT）-結果表（貼付）'!$A:$Z,MATCH($A16,'[1]公式予選（TT）-結果表（貼付）'!$A:$A,0),MATCH(S$11,'[1]公式予選（TT）-結果表（貼付）'!$1:$1,0)),"")=0,"",IFERROR(INDEX('[1]公式予選（TT）-結果表（貼付）'!$A:$Z,MATCH($A16,'[1]公式予選（TT）-結果表（貼付）'!$A:$A,0),MATCH(S$11,'[1]公式予選（TT）-結果表（貼付）'!$1:$1,0)),""))
A17: =IF(OR('[1]公式予選（TT）-結果表（貼付）'!A6="DNF",'[1]公式予選（TT）-結果表（貼付）'!A6="DNS",'[1]公式予選（TT）-結果表（貼付）'!A6="DQ"),'[1]公式予選（TT）-結果表（貼付）'!A6,IF(MAX('[1]公式予選（TT）-結果表（貼付）'!$A:$A)>A16,A16+1,"")) -> 5 | B17: =IFERROR(INDEX('[1]公式予選（TT）-結果表（貼付）'!A6:$V$50,MATCH($A17,'[1]公式予選（TT）-結果表（貼付）'!A6:$A$50,0),MATCH(公式予選結果表!B$11,'[1]公式予選（TT）-結果表（貼付）'!$1:$1,0)),"") -> 1 | D17: =IFERROR(INDEX('[1]公式予選（TT）-結果表（貼付）'!$A:$Z,MATCH($B17,'[1]公式予選（TT）-結果表（貼付）'!$B:$B,0),MATCH(公式予選結果表!D$11,'[1]公式予選（TT）-結果表（貼付）'!$1:$1,0)),"") -> 佐野雄城 | E17: =IFERROR(INDEX('[1]公式予選（TT）-結果表（貼付）'!$A:$Z,MATCH($B17,'[1]公式予選（TT）-結果表（貼付）'!$B:$B,0),MATCH(公式予選結果表!E$11,'[1]公式予選（TT）-結果表（貼付）'!$1:$1,0)),"") -> birelART/IAME | F17: =IFERROR(INDEX('[1]公式予選（TT）-結果表（貼付）'!$A:$Z,MATCH($B17,'[1]公式予選（TT）-結果表（貼付）'!$B:$B,0),MATCH(公式予選結果表!F$11,'[1]公式予選（TT）-結果表（貼付）'!$1:$1,0)),"") -> ｽﾏｲﾙﾏｯｸｽwith ｱｽﾃｯｸ | G17: =IFERROR(INDEX('[1]公式予選（TT）-結果表（貼付）'!$A:$Z,MATCH($B17,'[1]公式予選（TT）-結果表（貼付）'!$B:$B,0),MATCH(公式予選結果表!G$11,'[1]公式予選（TT）-結果表（貼付）'!$1:$1,0)),"") -> YH | H17: =IF(A17="DNS","ｽﾀｰﾄ出来ず",IF(A17="DQ","失 格",IFERROR(INDEX('[1]公式予選（TT）-結果表（貼付）'!$A:$Z,MATCH($B17,'[1]公式予選（TT）-結果表（貼付）'!$B:$B,0),MATCH(公式予選結果表!H$11,'[1]公式予選（TT）-結果表（貼付）'!$1:$1,0)),""))) -> 48.488 | I17: =IF(H17<1,"",IF($I$11>H17,"R","")) | J17: =IF(OR('[1]公式予選（TT）-結果表（貼付）'!A6="DNS",'[1]公式予選（TT）-結果表（貼付）'!A6="DQ"),"",IFERROR(INDEX('[1]公式予選（TT）-結果表（貼付）'!$A:$Z,MATCH($B17,'[1]公式予選（TT）-結果表（貼付）'!$B:$B,0),MATCH(公式予選結果表!J$11,'[1]公式予選（TT）-結果表（貼付）'!$1:$1,0)),"")) -> 0.214 | K17: =IF(OR('[1]公式予選（TT）-結果表（貼付）'!A6="DNS",'[1]公式予選（TT）-結果表（貼付）'!A6="DQ"),"",IFERROR(INDEX('[1]公式予選（TT）-結果表（貼付）'!$A:$Z,MATCH($B17,'[1]公式予選（TT）-結果表（貼付）'!$B:$B,0),MATCH(公式予選結果表!K$11,'[1]公式予選（TT）-結果表（貼付）'!$1:$1,0)),"")) -> 0.014 | L17: =IF(OR('[1]公式予選（TT）-結果表（貼付）'!A6="DNS",'[1]公式予選（TT）-結果表（貼付）'!A6="DQ"),"",IFERROR(INDEX('[1]公式予選（TT）-結果表（貼付）'!$A:$Z,MATCH($B17,'[1]公式予選（TT）-結果表（貼付）'!$B:$B,0),MATCH("In Lap",'[1]公式予選（TT）-結果表（貼付）'!$1:$1,0))&"/"&INDEX('[1]公式予選（TT）-結果表（貼付）'!$A:$Z,MATCH($B17,'[1]公式予選（TT）-結果表（貼付）'!$B:$B,0),MATCH("Laps",'[1]公式予選（TT）-結果表（貼付）'!$1:$1,0)),"")) -> 2/4 | P17: =IF(IFERROR(INDEX('[1]公式予選（TT）-結果表（貼付）'!$A:$Z,MATCH($B17,'[1]公式予選（TT）-結果表（貼付）'!$B:$B,0),MATCH(P$11,'[1]公式予選（TT）-結果表（貼付）'!$1:$1,0)),"")=0,"",IFERROR(INDEX('[1]公式予選（TT）-結果表（貼付）'!$A:$Z,MATCH($B17,'[1]公式予選（TT）-結果表（貼付）'!$B:$B,0),MATCH(P$11,'[1]公式予選（TT）-結果表（貼付）'!$1:$1,0)),"")) | Q17: =IF(P17="","",COUNTIF($P$13:P17,"<>"&"")) | R17: =IFERROR(RANK(Q17,$Q$13:$Q$47,1),"") | S17: =IF(IFERROR(INDEX('[1]公式予選（TT）-結果表（貼付）'!$A:$Z,MATCH($A17,'[1]公式予選（TT）-結果表（貼付）'!$A:$A,0),MATCH(S$11,'[1]公式予選（TT）-結果表（貼付）'!$1:$1,0)),"")=0,"",IFERROR(INDEX('[1]公式予選（TT）-結果表（貼付）'!$A:$Z,MATCH($A17,'[1]公式予選（TT）-結果表（貼付）'!$A:$A,0),MATCH(S$11,'[1]公式予選（TT）-結果表（貼付）'!$1:$1,0)),""))
A18: =IF(OR('[1]公式予選（TT）-結果表（貼付）'!A7="DNF",'[1]公式予選（TT）-結果表（貼付）'!A7="DNS",'[1]公式予選（TT）-結果表（貼付）'!A7="DQ"),'[1]公式予選（TT）-結果表（貼付）'!A7,IF(MAX('[1]公式予選（TT）-結果表（貼付）'!$A:$A)>A17,A17+1,"")) -> 6 | B18: =IFERROR(INDEX('[1]公式予選（TT）-結果表（貼付）'!A7:$V$50,MATCH($A18,'[1]公式予選（TT）-結果表（貼付）'!A7:$A$50,0),MATCH(公式予選結果表!B$11,'[1]公式予選（TT）-結果表（貼付）'!$1:$1,0)),"") -> 23 | D18: =IFERROR(INDEX('[1]公式予選（TT）-結果表（貼付）'!$A:$Z,MATCH($B18,'[1]公式予選（TT）-結果表（貼付）'!$B:$B,0),MATCH(公式予選結果表!D$11,'[1]公式予選（TT）-結果表（貼付）'!$1:$1,0)),"") -> 森田真心 | E18: =IFERROR(INDEX('[1]公式予選（TT）-結果表（貼付）'!$A:$Z,MATCH($B18,'[1]公式予選（TT）-結果表（貼付）'!$B:$B,0),MATCH(公式予選結果表!E$11,'[1]公式予選（TT）-結果表（貼付）'!$1:$1,0)),"") -> TONYKART/TM | F18: =IFERROR(INDEX('[1]公式予選（TT）-結果表（貼付）'!$A:$Z,MATCH($B18,'[1]公式予選（TT）-結果表（貼付）'!$B:$B,0),MATCH(公式予選結果表!F$11,'[1]公式予選（TT）-結果表（貼付）'!$1:$1,0)),"") -> PLORISSA M.S | G18: =IFERROR(INDEX('[1]公式予選（TT）-結果表（貼付）'!$A:$Z,MATCH($B18,'[1]公式予選（TT）-結果表（貼付）'!$B:$B,0),MATCH(公式予選結果表!G$11,'[1]公式予選（TT）-結果表（貼付）'!$1:$1,0)),"") -> YH | H18: =IF(A18="DNS","ｽﾀｰﾄ出来ず",IF(A18="DQ","失 格",IFERROR(INDEX('[1]公式予選（TT）-結果表（貼付）'!$A:$Z,MATCH($B18,'[1]公式予選（TT）-結果表（貼付）'!$B:$B,0),MATCH(公式予選結果表!H$11,'[1]公式予選（TT）-結果表（貼付）'!$1:$1,0)),""))) -> 48.527 | I18: =IF(H18<1,"",IF($I$11>H18,"R","")) | J18: =IF(OR('[1]公式予選（TT）-結果表（貼付）'!A7="DNS",'[1]公式予選（TT）-結果表（貼付）'!A7="DQ"),"",IFERROR(INDEX('[1]公式予選（TT）-結果表（貼付）'!$A:$Z,MATCH($B18,'[1]公式予選（TT）-結果表（貼付）'!$B:$B,0),MATCH(公式予選結果表!J$11,'[1]公式予選（TT）-結果表（貼付）'!$1:$1,0)),"")) -> 0.253 | K18: =IF(OR('[1]公式予選（TT）-結果表（貼付）'!A7="DNS",'[1]公式予選（TT）-結果表（貼付）'!A7="DQ"),"",IFERROR(INDEX('[1]公式予選（TT）-結果表（貼付）'!$A:$Z,MATCH($B18,'[1]公式予選（TT）-結果表（貼付）'!$B:$B,0),MATCH(公式予選結果表!K$11,'[1]公式予選（TT）-結果表（貼付）'!$1:$1,0)),"")) -> 0.039 | L18: =IF(OR('[1]公式予選（TT）-結果表（貼付）'!A7="DNS",'[1]公式予選（TT）-結果表（貼付）'!A7="DQ"),"",IFERROR(INDEX('[1]公式予選（TT）-結果表（貼付）'!$A:$Z,MATCH($B18,'[1]公式予選（TT）-結果表（貼付）'!$B:$B,0),MATCH("In Lap",'[1]公式予選（TT）-結果表（貼付）'!$1:$1,0))&"/"&INDEX('[1]公式予選（TT）-結果表（貼付）'!$A:$Z,MATCH($B18,'[1]公式予選（TT）-結果表（貼付）'!$B:$B,0),MATCH("Laps",'[1]公式予選（TT）-結果表（貼付）'!$1:$1,0)),"")) -> 2/6 | P18: =IF(IFERROR(INDEX('[1]公式予選（TT）-結果表（貼付）'!$A:$Z,MATCH($B18,'[1]公式予選（TT）-結果表（貼付）'!$B:$B,0),MATCH(P$11,'[1]公式予選（TT）-結果表（貼付）'!$1:$1,0)),"")=0,"",IFERROR(INDEX('[1]公式予選（TT）-結果表（貼付）'!$A:$Z,MATCH($B18,'[1]公式予選（TT）-結果表（貼付）'!$B:$B,0),MATCH(P$11,'[1]公式予選（TT）-結果表（貼付）'!$1:$1,0)),"")) | Q18: =IF(P18="","",COUNTIF($P$13:P18,"<>"&"")) | R18: =IFERROR(RANK(Q18,$Q$13:$Q$47,1),"") | S18: =IF(IFERROR(INDEX('[1]公式予選（TT）-結果表（貼付）'!$A:$Z,MATCH($A18,'[1]公式予選（TT）-結果表（貼付）'!$A:$A,0),MATCH(S$11,'[1]公式予選（TT）-結果表（貼付）'!$1:$1,0)),"")=0,"",IFERROR(INDEX('[1]公式予選（TT）-結果表（貼付）'!$A:$Z,MATCH($A18,'[1]公式予選（TT）-結果表（貼付）'!$A:$A,0),MATCH(S$11,'[1]公式予選（TT）-結果表（貼付）'!$1:$1,0)),""))
A19: =IF(OR('[1]公式予選（TT）-結果表（貼付）'!A8="DNF",'[1]公式予選（TT）-結果表（貼付）'!A8="DNS",'[1]公式予選（TT）-結果表（貼付）'!A8="DQ"),'[1]公式予選（TT）-結果表（貼付）'!A8,IF(MAX('[1]公式予選（TT）-結果表（貼付）'!$A:$A)>A18,A18+1,"")) -> 7 | B19: =IFERROR(INDEX('[1]公式予選（TT）-結果表（貼付）'!A8:$V$50,MATCH($A19,'[1]公式予選（TT）-結果表（貼付）'!A8:$A$50,0),MATCH(公式予選結果表!B$11,'[1]公式予選（TT）-結果表（貼付）'!$1:$1,0)),"") -> 25 | D19: =IFERROR(INDEX('[1]公式予選（TT）-結果表（貼付）'!$A:$Z,MATCH($B19,'[1]公式予選（TT）-結果表（貼付）'!$B:$B,0),MATCH(公式予選結果表!D$11,'[1]公式予選（TT）-結果表（貼付）'!$1:$1,0)),"") -> 小田 優 | E19: =IFERROR(INDEX('[1]公式予選（TT）-結果表（貼付）'!$A:$Z,MATCH($B19,'[1]公式予選（TT）-結果表（貼付）'!$B:$B,0),MATCH(公式予選結果表!E$11,'[1]公式予選（TT）-結果表（貼付）'!$1:$1,0)),"") -> DragoCORSE/TM | F19: =IFERROR(INDEX('[1]公式予選（TT）-結果表（貼付）'!$A:$Z,MATCH($B19,'[1]公式予選（TT）-結果表（貼付）'!$B:$B,0),MATCH(公式予選結果表!F$11,'[1]公式予選（TT）-結果表（貼付）'!$1:$1,0)),"") -> ｽﾏｲﾙﾏｯｸｽwith KSW | G19: =IFERROR(INDEX('[1]公式予選（TT）-結果表（貼付）'!$A:$Z,MATCH($B19,'[1]公式予選（TT）-結果表（貼付）'!$B:$B,0),MATCH(公式予選結果表!G$11,'[1]公式予選（TT）-結果表（貼付）'!$1:$1,0)),"") -> YH | H19: =IF(A19="DNS","ｽﾀｰﾄ出来ず",IF(A19="DQ","失 格",IFERROR(INDEX('[1]公式予選（TT）-結果表（貼付）'!$A:$Z,MATCH($B19,'[1]公式予選（TT）-結果表（貼付）'!$B:$B,0),MATCH(公式予選結果表!H$11,'[1]公式予選（TT）-結果表（貼付）'!$1:$1,0)),""))) -> 48.538 | I19: =IF(H19<1,"",IF($I$11>H19,"R","")) | J19: =IF(OR('[1]公式予選（TT）-結果表（貼付）'!A8="DNS",'[1]公式予選（TT）-結果表（貼付）'!A8="DQ"),"",IFERROR(INDEX('[1]公式予選（TT）-結果表（貼付）'!$A:$Z,MATCH($B19,'[1]公式予選（TT）-結果表（貼付）'!$B:$B,0),MATCH(公式予選結果表!J$11,'[1]公式予選（TT）-結果表（貼付）'!$1:$1,0)),"")) -> 0.264 | K19: =IF(OR('[1]公式予選（TT）-結果表（貼付）'!A8="DNS",'[1]公式予選（TT）-結果表（貼付）'!A8="DQ"),"",IFERROR(INDEX('[1]公式予選（TT）-結果表（貼付）'!$A:$Z,MATCH($B19,'[1]公式予選（TT）-結果表（貼付）'!$B:$B,0),MATCH(公式予選結果表!K$11,'[1]公式予選（TT）-結果表（貼付）'!$1:$1,0)),"")) -> 0.011 | L19: =IF(OR('[1]公式予選（TT）-結果表（貼付）'!A8="DNS",'[1]公式予選（TT）-結果表（貼付）'!A8="DQ"),"",IFERROR(INDEX('[1]公式予選（TT）-結果表（貼付）'!$A:$Z,MATCH($B19,'[1]公式予選（TT）-結果表（貼付）'!$B:$B,0),MATCH("In Lap",'[1]公式予選（TT）-結果表（貼付）'!$1:$1,0))&"/"&INDEX('[1]公式予選（TT）-結果表（貼付）'!$A:$Z,MATCH($B19,'[1]公式予選（TT）-結果表（貼付）'!$B:$B,0),MATCH("Laps",'[1]公式予選（TT）-結果表（貼付）'!$1:$1,0)),"")) -> 3/5 | P19: =IF(IFERROR(INDEX('[1]公式予選（TT）-結果表（貼付）'!$A:$Z,MATCH($B19,'[1]公式予選（TT）-結果表（貼付）'!$B:$B,0),MATCH(P$11,'[1]公式予選（TT）-結果表（貼付）'!$1:$1,0)),"")=0,"",IFERROR(INDEX('[1]公式予選（TT）-結果表（貼付）'!$A:$Z,MATCH($B19,'[1]公式予選（TT）-結果表（貼付）'!$B:$B,0),MATCH(P$11,'[1]公式予選（TT）-結果表（貼付）'!$1:$1,0)),"")) | Q19: =IF(P19="","",COUNTIF($P$13:P19,"<>"&"")) | R19: =IFERROR(RANK(Q19,$Q$13:$Q$47,1),"") | S19: =IF(IFERROR(INDEX('[1]公式予選（TT）-結果表（貼付）'!$A:$Z,MATCH($A19,'[1]公式予選（TT）-結果表（貼付）'!$A:$A,0),MATCH(S$11,'[1]公式予選（TT）-結果表（貼付）'!$1:$1,0)),"")=0,"",IFERROR(INDEX('[1]公式予選（TT）-結果表（貼付）'!$A:$Z,MATCH($A19,'[1]公式予選（TT）-結果表（貼付）'!$A:$A,0),MATCH(S$11,'[1]公式予選（TT）-結果表（貼付）'!$1:$1,0)),""))
A20: =IF(OR('[1]公式予選（TT）-結果表（貼付）'!A9="DNF",'[1]公式予選（TT）-結果表（貼付）'!A9="DNS",'[1]公式予選（TT）-結果表（貼付）'!A9="DQ"),'[1]公式予選（TT）-結果表（貼付）'!A9,IF(MAX('[1]公式予選（TT）-結果表（貼付）'!$A:$A)>A19,A19+1,"")) -> 8 | B20: =IFERROR(INDEX('[1]公式予選（TT）-結果表（貼付）'!A9:$V$50,MATCH($A20,'[1]公式予選（TT）-結果表（貼付）'!A9:$A$50,0),MATCH(公式予選結果表!B$11,'[1]公式予選（TT）-結果表（貼付）'!$1:$1,0)),"") -> 89 | D20: =IFERROR(INDEX('[1]公式予選（TT）-結果表（貼付）'!$A:$Z,MATCH($B20,'[1]公式予選（TT）-結果表（貼付）'!$B:$B,0),MATCH(公式予選結果表!D$11,'[1]公式予選（TT）-結果表（貼付）'!$1:$1,0)),"") -> 安田裕信 | E20: =IFERROR(INDEX('[1]公式予選（TT）-結果表（貼付）'!$A:$Z,MATCH($B20,'[1]公式予選（TT）-結果表（貼付）'!$B:$B,0),MATCH(公式予選結果表!E$11,'[1]公式予選（TT）-結果表（貼付）'!$1:$1,0)),"") -> KART REPUBLIC/TM | F20: =IFERROR(INDEX('[1]公式予選（TT）-結果表（貼付）'!$A:$Z,MATCH($B20,'[1]公式予選（TT）-結果表（貼付）'!$B:$B,0),MATCH(公式予選結果表!F$11,'[1]公式予選（TT）-結果表（貼付）'!$1:$1,0)),"") -> monocolle | G20: =IFERROR(INDEX('[1]公式予選（TT）-結果表（貼付）'!$A:$Z,MATCH($B20,'[1]公式予選（TT）-結果表（貼付）'!$B:$B,0),MATCH(公式予選結果表!G$11,'[1]公式予選（TT）-結果表（貼付）'!$1:$1,0)),"") -> YH | H20: =IF(A20="DNS","ｽﾀｰﾄ出来ず",IF(A20="DQ","失 格",IFERROR(INDEX('[1]公式予選（TT）-結果表（貼付）'!$A:$Z,MATCH($B20,'[1]公式予選（TT）-結果表（貼付）'!$B:$B,0),MATCH(公式予選結果表!H$11,'[1]公式予選（TT）-結果表（貼付）'!$1:$1,0)),""))) -> 48.54 | I20: =IF(H20<1,"",IF($I$11>H20,"R","")) | J20: =IF(OR('[1]公式予選（TT）-結果表（貼付）'!A9="DNS",'[1]公式予選（TT）-結果表（貼付）'!A9="DQ"),"",IFERROR(INDEX('[1]公式予選（TT）-結果表（貼付）'!$A:$Z,MATCH($B20,'[1]公式予選（TT）-結果表（貼付）'!$B:$B,0),MATCH(公式予選結果表!J$11,'[1]公式予選（TT）-結果表（貼付）'!$1:$1,0)),"")) -> 0.266 | K20: =IF(OR('[1]公式予選（TT）-結果表（貼付）'!A9="DNS",'[1]公式予選（TT）-結果表（貼付）'!A9="DQ"),"",IFERROR(INDEX('[1]公式予選（TT）-結果表（貼付）'!$A:$Z,MATCH($B20,'[1]公式予選（TT）-結果表（貼付）'!$B:$B,0),MATCH(公式予選結果表!K$11,'[1]公式予選（TT）-結果表（貼付）'!$1:$1,0)),"")) -> 0.002 | L20: =IF(OR('[1]公式予選（TT）-結果表（貼付）'!A9="DNS",'[1]公式予選（TT）-結果表（貼付）'!A9="DQ"),"",IFERROR(INDEX('[1]公式予選（TT）-結果表（貼付）'!$A:$Z,MATCH($B20,'[1]公式予選（TT）-結果表（貼付）'!$B:$B,0),MATCH("In Lap",'[1]公式予選（TT）-結果表（貼付）'!$1:$1,0))&"/"&INDEX('[1]公式予選（TT）-結果表（貼付）'!$A:$Z,MATCH($B20,'[1]公式予選（TT）-結果表（貼付）'!$B:$B,0),MATCH("Laps",'[1]公式予選（TT）-結果表（貼付）'!$1:$1,0)),"")) -> 2/4 | P20: =IF(IFERROR(INDEX('[1]公式予選（TT）-結果表（貼付）'!$A:$Z,MATCH($B20,'[1]公式予選（TT）-結果表（貼付）'!$B:$B,0),MATCH(P$11,'[1]公式予選（TT）-結果表（貼付）'!$1:$1,0)),"")=0,"",IFERROR(INDEX('[1]公式予選（TT）-結果表（貼付）'!$A:$Z,MATCH($B20,'[1]公式予選（TT）-結果表（貼付）'!$B:$B,0),MATCH(P$11,'[1]公式予選（TT）-結果表（貼付）'!$1:$1,0)),"")) | Q20: =IF(P20="","",COUNTIF($P$13:P20,"<>"&"")) | R20: =IFERROR(RANK(Q20,$Q$13:$Q$47,1),"") | S20: =IF(IFERROR(INDEX('[1]公式予選（TT）-結果表（貼付）'!$A:$Z,MATCH($A20,'[1]公式予選（TT）-結果表（貼付）'!$A:$A,0),MATCH(S$11,'[1]公式予選（TT）-結果表（貼付）'!$1:$1,0)),"")=0,"",IFERROR(INDEX('[1]公式予選（TT）-結果表（貼付）'!$A:$Z,MATCH($A20,'[1]公式予選（TT）-結果表（貼付）'!$A:$A,0),MATCH(S$11,'[1]公式予選（TT）-結果表（貼付）'!$1:$1,0)),""))
A21: =IF(OR('[1]公式予選（TT）-結果表（貼付）'!A10="DNF",'[1]公式予選（TT）-結果表（貼付）'!A10="DNS",'[1]公式予選（TT）-結果表（貼付）'!A10="DQ"),'[1]公式予選（TT）-結果表（貼付）'!A10,IF(MAX('[1]公式予選（TT）-結果表（貼付）'!$A:$A)>A20,A20+1,"")) -> 9 | B21: =IFERROR(INDEX('[1]公式予選（TT）-結果表（貼付）'!A10:$V$50,MATCH($A21,'[1]公式予選（TT）-結果表（貼付）'!A10:$A$50,0),MATCH(公式予選結果表!B$11,'[1]公式予選（TT）-結果表（貼付）'!$1:$1,0)),"") -> 22 | D21: =IFERROR(INDEX('[1]公式予選（TT）-結果表（貼付）'!$A:$Z,MATCH($B21,'[1]公式予選（TT）-結果表（貼付）'!$B:$B,0),MATCH(公式予選結果表!D$11,'[1]公式予選（TT）-結果表（貼付）'!$1:$1,0)),"") -> 竹本優月輝 | E21: =IFERROR(INDEX('[1]公式予選（TT）-結果表（貼付）'!$A:$Z,MATCH($B21,'[1]公式予選（TT）-結果表（貼付）'!$B:$B,0),MATCH(公式予選結果表!E$11,'[1]公式予選（TT）-結果表（貼付）'!$1:$1,0)),"") -> EXPRIT/TM | F21: =IFERROR(INDEX('[1]公式予選（TT）-結果表（貼付）'!$A:$Z,MATCH($B21,'[1]公式予選（TT）-結果表（貼付）'!$B:$B,0),MATCH(公式予選結果表!F$11,'[1]公式予選（TT）-結果表（貼付）'!$1:$1,0)),"") -> TAKAGI PLANNING | G21: =IFERROR(INDEX('[1]公式予選（TT）-結果表（貼付）'!$A:$Z,MATCH($B21,'[1]公式予選（TT）-結果表（貼付）'!$B:$B,0),MATCH(公式予選結果表!G$11,'[1]公式予選（TT）-結果表（貼付）'!$1:$1,0)),"") -> YH | H21: =IF(A21="DNS","ｽﾀｰﾄ出来ず",IF(A21="DQ","失 格",IFERROR(INDEX('[1]公式予選（TT）-結果表（貼付）'!$A:$Z,MATCH($B21,'[1]公式予選（TT）-結果表（貼付）'!$B:$B,0),MATCH(公式予選結果表!H$11,'[1]公式予選（TT）-結果表（貼付）'!$1:$1,0)),""))) -> 48.604 | I21: =IF(H21<1,"",IF($I$11>H21,"R","")) | J21: =IF(OR('[1]公式予選（TT）-結果表（貼付）'!A10="DNS",'[1]公式予選（TT）-結果表（貼付）'!A10="DQ"),"",IFERROR(INDEX('[1]公式予選（TT）-結果表（貼付）'!$A:$Z,MATCH($B21,'[1]公式予選（TT）-結果表（貼付）'!$B:$B,0),MATCH(公式予選結果表!J$11,'[1]公式予選（TT）-結果表（貼付）'!$1:$1,0)),"")) -> 0.33 | K21: =IF(OR('[1]公式予選（TT）-結果表（貼付）'!A10="DNS",'[1]公式予選（TT）-結果表（貼付）'!A10="DQ"),"",IFERROR(INDEX('[1]公式予選（TT）-結果表（貼付）'!$A:$Z,MATCH($B21,'[1]公式予選（TT）-結果表（貼付）'!$B:$B,0),MATCH(公式予選結果表!K$11,'[1]公式予選（TT）-結果表（貼付）'!$1:$1,0)),"")) -> 0.064 | L21: =IF(OR('[1]公式予選（TT）-結果表（貼付）'!A10="DNS",'[1]公式予選（TT）-結果表（貼付）'!A10="DQ"),"",IFERROR(INDEX('[1]公式予選（TT）-結果表（貼付）'!$A:$Z,MATCH($B21,'[1]公式予選（TT）-結果表（貼付）'!$B:$B,0),MATCH("In Lap",'[1]公式予選（TT）-結果表（貼付）'!$1:$1,0))&"/"&INDEX('[1]公式予選（TT）-結果表（貼付）'!$A:$Z,MATCH($B21,'[1]公式予選（TT）-結果表（貼付）'!$B:$B,0),MATCH("Laps",'[1]公式予選（TT）-結果表（貼付）'!$1:$1,0)),"")) -> 2/4 | P21: =IF(IFERROR(INDEX('[1]公式予選（TT）-結果表（貼付）'!$A:$Z,MATCH($B21,'[1]公式予選（TT）-結果表（貼付）'!$B:$B,0),MATCH(P$11,'[1]公式予選（TT）-結果表（貼付）'!$1:$1,0)),"")=0,"",IFERROR(INDEX('[1]公式予選（TT）-結果表（貼付）'!$A:$Z,MATCH($B21,'[1]公式予選（TT）-結果表（貼付）'!$B:$B,0),MATCH(P$11,'[1]公式予選（TT）-結果表（貼付）'!$1:$1,0)),"")) | Q21: =IF(P21="","",COUNTIF($P$13:P21,"<>"&"")) | R21: =IFERROR(RANK(Q21,$Q$13:$Q$47,1),"") | S21: =IF(IFERROR(INDEX('[1]公式予選（TT）-結果表（貼付）'!$A:$Z,MATCH($A21,'[1]公式予選（TT）-結果表（貼付）'!$A:$A,0),MATCH(S$11,'[1]公式予選（TT）-結果表（貼付）'!$1:$1,0)),"")=0,"",IFERROR(INDEX('[1]公式予選（TT）-結果表（貼付）'!$A:$Z,MATCH($A21,'[1]公式予選（TT）-結果表（貼付）'!$A:$A,0),MATCH(S$11,'[1]公式予選（TT）-結果表（貼付）'!$1:$1,0)),""))
A22: =IF(OR('[1]公式予選（TT）-結果表（貼付）'!A11="DNF",'[1]公式予選（TT）-結果表（貼付）'!A11="DNS",'[1]公式予選（TT）-結果表（貼付）'!A11="DQ"),'[1]公式予選（TT）-結果表（貼付）'!A11,IF(MAX('[1]公式予選（TT）-結果表（貼付）'!$A:$A)>A21,A21+1,"")) -> 10 | B22: =IFERROR(INDEX('[1]公式予選（TT）-結果表（貼付）'!A11:$V$50,MATCH($A22,'[1]公式予選（TT）-結果表（貼付）'!A11:$A$50,0),MATCH(公式予選結果表!B$11,'[1]公式予選（TT）-結果表（貼付）'!$1:$1,0)),"") -> 81 | D22: =IFERROR(INDEX('[1]公式予選（TT）-結果表（貼付）'!$A:$Z,MATCH($B22,'[1]公式予選（TT）-結果表（貼付）'!$B:$B,0),MATCH(公式予選結果表!D$11,'[1]公式予選（TT）-結果表（貼付）'!$1:$1,0)),"") -> 山田杯利 | E22: =IFERROR(INDEX('[1]公式予選（TT）-結果表（貼付）'!$A:$Z,MATCH($B22,'[1]公式予選（TT）-結果表（貼付）'!$B:$B,0),MATCH(公式予選結果表!E$11,'[1]公式予選（TT）-結果表（貼付）'!$1:$1,0)),"") -> DragoCORSE/TM | F22: =IFERROR(INDEX('[1]公式予選（TT）-結果表（貼付）'!$A:$Z,MATCH($B22,'[1]公式予選（TT）-結果表（貼付）'!$B:$B,0),MATCH(公式予選結果表!F$11,'[1]公式予選（TT）-結果表（貼付）'!$1:$1,0)),"") -> Crocpro motion | G22: =IFERROR(INDEX('[1]公式予選（TT）-結果表（貼付）'!$A:$Z,MATCH($B22,'[1]公式予選（TT）-結果表（貼付）'!$B:$B,0),MATCH(公式予選結果表!G$11,'[1]公式予選（TT）-結果表（貼付）'!$1:$1,0)),"") -> YH | H22: =IF(A22="DNS","ｽﾀｰﾄ出来ず",IF(A22="DQ","失 格",IFERROR(INDEX('[1]公式予選（TT）-結果表（貼付）'!$A:$Z,MATCH($B22,'[1]公式予選（TT）-結果表（貼付）'!$B:$B,0),MATCH(公式予選結果表!H$11,'[1]公式予選（TT）-結果表（貼付）'!$1:$1,0)),""))) -> 48.607 | I22: =IF(H22<1,"",IF($I$11>H22,"R","")) | J22: =IF(OR('[1]公式予選（TT）-結果表（貼付）'!A11="DNS",'[1]公式予選（TT）-結果表（貼付）'!A11="DQ"),"",IFERROR(INDEX('[1]公式予選（TT）-結果表（貼付）'!$A:$Z,MATCH($B22,'[1]公式予選（TT）-結果表（貼付）'!$B:$B,0),MATCH(公式予選結果表!J$11,'[1]公式予選（TT）-結果表（貼付）'!$1:$1,0)),"")) -> 0.333 | K22: =IF(OR('[1]公式予選（TT）-結果表（貼付）'!A11="DNS",'[1]公式予選（TT）-結果表（貼付）'!A11="DQ"),"",IFERROR(INDEX('[1]公式予選（TT）-結果表（貼付）'!$A:$Z,MATCH($B22,'[1]公式予選（TT）-結果表（貼付）'!$B:$B,0),MATCH(公式予選結果表!K$11,'[1]公式予選（TT）-結果表（貼付）'!$1:$1,0)),"")) -> 0.003 | L22: =IF(OR('[1]公式予選（TT）-結果表（貼付）'!A11="DNS",'[1]公式予選（TT）-結果表（貼付）'!A11="DQ"),"",IFERROR(INDEX('[1]公式予選（TT）-結果表（貼付）'!$A:$Z,MATCH($B22,'[1]公式予選（TT）-結果表（貼付）'!$B:$B,0),MATCH("In Lap",'[1]公式予選（TT）-結果表（貼付）'!$1:$1,0))&"/"&INDEX('[1]公式予選（TT）-結果表（貼付）'!$A:$Z,MATCH($B22,'[1]公式予選（TT）-結果表（貼付）'!$B:$B,0),MATCH("Laps",'[1]公式予選（TT）-結果表（貼付）'!$1:$1,0)),"")) -> 3/6 | P22: =IF(IFERROR(INDEX('[1]公式予選（TT）-結果表（貼付）'!$A:$Z,MATCH($B22,'[1]公式予選（TT）-結果表（貼付）'!$B:$B,0),MATCH(P$11,'[1]公式予選（TT）-結果表（貼付）'!$1:$1,0)),"")=0,"",IFERROR(INDEX('[1]公式予選（TT）-結果表（貼付）'!$A:$Z,MATCH($B22,'[1]公式予選（TT）-結果表（貼付）'!$B:$B,0),MATCH(P$11,'[1]公式予選（TT）-結果表（貼付）'!$1:$1,0)),"")) | Q22: =IF(P22="","",COUNTIF($P$13:P22,"<>"&"")) | R22: =IFERROR(RANK(Q22,$Q$13:$Q$47,1),"") | S22: =IF(IFERROR(INDEX('[1]公式予選（TT）-結果表（貼付）'!$A:$Z,MATCH($A22,'[1]公式予選（TT）-結果表（貼付）'!$A:$A,0),MATCH(S$11,'[1]公式予選（TT）-結果表（貼付）'!$1:$1,0)),"")=0,"",IFERROR(INDEX('[1]公式予選（TT）-結果表（貼付）'!$A:$Z,MATCH($A22,'[1]公式予選（TT）-結果表（貼付）'!$A:$A,0),MATCH(S$11,'[1]公式予選（TT）-結果表（貼付）'!$1:$1,0)),""))
A23: =IF(OR('[1]公式予選（TT）-結果表（貼付）'!A12="DNF",'[1]公式予選（TT）-結果表（貼付）'!A12="DNS",'[1]公式予選（TT）-結果表（貼付）'!A12="DQ"),'[1]公式予選（TT）-結果表（貼付）'!A12,IF(MAX('[1]公式予選（TT）-結果表（貼付）'!$A:$A)>A22,A22+1,"")) -> 11 | B23: =IFERROR(INDEX('[1]公式予選（TT）-結果表（貼付）'!A12:$V$50,MATCH($A23,'[1]公式予選（TT）-結果表（貼付）'!A12:$A$50,0),MATCH(公式予選結果表!B$11,'[1]公式予選（TT）-結果表（貼付）'!$1:$1,0)),"") -> 67 | D23: =IFERROR(INDEX('[1]公式予選（TT）-結果表（貼付）'!$A:$Z,MATCH($B23,'[1]公式予選（TT）-結果表（貼付）'!$B:$B,0),MATCH(公式予選結果表!D$11,'[1]公式予選（TT）-結果表（貼付）'!$1:$1,0)),"") -> 田中照久 | E23: =IFERROR(INDEX('[1]公式予選（TT）-結果表（貼付）'!$A:$Z,MATCH($B23,'[1]公式予選（TT）-結果表（貼付）'!$B:$B,0),MATCH(公式予選結果表!E$11,'[1]公式予選（TT）-結果表（貼付）'!$1:$1,0)),"") -> GLEATEQ/TM | F23: =IFERROR(INDEX('[1]公式予選（TT）-結果表（貼付）'!$A:$Z,MATCH($B23,'[1]公式予選（TT）-結果表（貼付）'!$B:$B,0),MATCH(公式予選結果表!F$11,'[1]公式予選（TT）-結果表（貼付）'!$1:$1,0)),"") -> TECORSA | G23: =IFERROR(INDEX('[1]公式予選（TT）-結果表（貼付）'!$A:$Z,MATCH($B23,'[1]公式予選（TT）-結果表（貼付）'!$B:$B,0),MATCH(公式予選結果表!G$11,'[1]公式予選（TT）-結果表（貼付）'!$1:$1,0)),"") -> YH | H23: =IF(A23="DNS","ｽﾀｰﾄ出来ず",IF(A23="DQ","失 格",IFERROR(INDEX('[1]公式予選（TT）-結果表（貼付）'!$A:$Z,MATCH($B23,'[1]公式予選（TT）-結果表（貼付）'!$B:$B,0),MATCH(公式予選結果表!H$11,'[1]公式予選（TT）-結果表（貼付）'!$1:$1,0)),""))) -> 48.624 | I23: =IF(H23<1,"",IF($I$11>H23,"R","")) | J23: =IF(OR('[1]公式予選（TT）-結果表（貼付）'!A12="DNS",'[1]公式予選（TT）-結果表（貼付）'!A12="DQ"),"",IFERROR(INDEX('[1]公式予選（TT）-結果表（貼付）'!$A:$Z,MATCH($B23,'[1]公式予選（TT）-結果表（貼付）'!$B:$B,0),MATCH(公式予選結果表!J$11,'[1]公式予選（TT）-結果表（貼付）'!$1:$1,0)),"")) -> 0.35 | K23: =IF(OR('[1]公式予選（TT）-結果表（貼付）'!A12="DNS",'[1]公式予選（TT）-結果表（貼付）'!A12="DQ"),"",IFERROR(INDEX('[1]公式予選（TT）-結果表（貼付）'!$A:$Z,MATCH($B23,'[1]公式予選（TT）-結果表（貼付）'!$B:$B,0),MATCH(公式予選結果表!K$11,'[1]公式予選（TT）-結果表（貼付）'!$1:$1,0)),"")) -> 0.017 | L23: =IF(OR('[1]公式予選（TT）-結果表（貼付）'!A12="DNS",'[1]公式予選（TT）-結果表（貼付）'!A12="DQ"),"",IFERROR(INDEX('[1]公式予選（TT）-結果表（貼付）'!$A:$Z,MATCH($B23,'[1]公式予選（TT）-結果表（貼付）'!$B:$B,0),MATCH("In Lap",'[1]公式予選（TT）-結果表（貼付）'!$1:$1,0))&"/"&INDEX('[1]公式予選（TT）-結果表（貼付）'!$A:$Z,MATCH($B23,'[1]公式予選（TT）-結果表（貼付）'!$B:$B,0),MATCH("Laps",'[1]公式予選（TT）-結果表（貼付）'!$1:$1,0)),"")) -> 3/5 | P23: =IF(IFERROR(INDEX('[1]公式予選（TT）-結果表（貼付）'!$A:$Z,MATCH($B23,'[1]公式予選（TT）-結果表（貼付）'!$B:$B,0),MATCH(P$11,'[1]公式予選（TT）-結果表（貼付）'!$1:$1,0)),"")=0,"",IFERROR(INDEX('[1]公式予選（TT）-結果表（貼付）'!$A:$Z,MATCH($B23,'[1]公式予選（TT）-結果表（貼付）'!$B:$B,0),MATCH(P$11,'[1]公式予選（TT）-結果表（貼付）'!$1:$1,0)),"")) | Q23: =IF(P23="","",COUNTIF($P$13:P23,"<>"&"")) | R23: =IFERROR(RANK(Q23,$Q$13:$Q$47,1),"") | S23: =IF(IFERROR(INDEX('[1]公式予選（TT）-結果表（貼付）'!$A:$Z,MATCH($A23,'[1]公式予選（TT）-結果表（貼付）'!$A:$A,0),MATCH(S$11,'[1]公式予選（TT）-結果表（貼付）'!$1:$1,0)),"")=0,"",IFERROR(INDEX('[1]公式予選（TT）-結果表（貼付）'!$A:$Z,MATCH($A23,'[1]公式予選（TT）-結果表（貼付）'!$A:$A,0),MATCH(S$11,'[1]公式予選（TT）-結果表（貼付）'!$1:$1,0)),""))
A24: =IF(OR('[1]公式予選（TT）-結果表（貼付）'!A13="DNF",'[1]公式予選（TT）-結果表（貼付）'!A13="DNS",'[1]公式予選（TT）-結果表（貼付）'!A13="DQ"),'[1]公式予選（TT）-結果表（貼付）'!A13,IF(MAX('[1]公式予選（TT）-結果表（貼付）'!$A:$A)>A23,A23+1,"")) -> 12 | B24: =IFERROR(INDEX('[1]公式予選（TT）-結果表（貼付）'!A13:$V$50,MATCH($A24,'[1]公式予選（TT）-結果表（貼付）'!A13:$A$50,0),MATCH(公式予選結果表!B$11,'[1]公式予選（TT）-結果表（貼付）'!$1:$1,0)),"") -> 31 | D24: =IFERROR(INDEX('[1]公式予選（TT）-結果表（貼付）'!$A:$Z,MATCH($B24,'[1]公式予選（TT）-結果表（貼付）'!$B:$B,0),MATCH(公式予選結果表!D$11,'[1]公式予選（TT）-結果表（貼付）'!$1:$1,0)),"") -> ﾛﾆｰ･ｸｲﾝﾀﾚｯﾘ | E24: =IFERROR(INDEX('[1]公式予選（TT）-結果表（貼付）'!$A:$Z,MATCH($B24,'[1]公式予選（TT）-結果表（貼付）'!$B:$B,0),MATCH(公式予選結果表!E$11,'[1]公式予選（TT）-結果表（貼付）'!$1:$1,0)),"") -> EXPRIT/TM | F24: =IFERROR(INDEX('[1]公式予選（TT）-結果表（貼付）'!$A:$Z,MATCH($B24,'[1]公式予選（TT）-結果表（貼付）'!$B:$B,0),MATCH(公式予選結果表!F$11,'[1]公式予選（TT）-結果表（貼付）'!$1:$1,0)),"") -> TAKAGI PLANNING | G24: =IFERROR(INDEX('[1]公式予選（TT）-結果表（貼付）'!$A:$Z,MATCH($B24,'[1]公式予選（TT）-結果表（貼付）'!$B:$B,0),MATCH(公式予選結果表!G$11,'[1]公式予選（TT）-結果表（貼付）'!$1:$1,0)),"") -> YH | H24: =IF(A24="DNS","ｽﾀｰﾄ出来ず",IF(A24="DQ","失 格",IFERROR(INDEX('[1]公式予選（TT）-結果表（貼付）'!$A:$Z,MATCH($B24,'[1]公式予選（TT）-結果表（貼付）'!$B:$B,0),MATCH(公式予選結果表!H$11,'[1]公式予選（TT）-結果表（貼付）'!$1:$1,0)),""))) -> 48.63 | I24: =IF(H24<1,"",IF($I$11>H24,"R","")) | J24: =IF(OR('[1]公式予選（TT）-結果表（貼付）'!A13="DNS",'[1]公式予選（TT）-結果表（貼付）'!A13="DQ"),"",IFERROR(INDEX('[1]公式予選（TT）-結果表（貼付）'!$A:$Z,MATCH($B24,'[1]公式予選（TT）-結果表（貼付）'!$B:$B,0),MATCH(公式予選結果表!J$11,'[1]公式予選（TT）-結果表（貼付）'!$1:$1,0)),"")) -> 0.356 | K24: =IF(OR('[1]公式予選（TT）-結果表（貼付）'!A13="DNS",'[1]公式予選（TT）-結果表（貼付）'!A13="DQ"),"",IFERROR(INDEX('[1]公式予選（TT）-結果表（貼付）'!$A:$Z,MATCH($B24,'[1]公式予選（TT）-結果表（貼付）'!$B:$B,0),MATCH(公式予選結果表!K$11,'[1]公式予選（TT）-結果表（貼付）'!$1:$1,0)),"")) -> 0.006 | L24: =IF(OR('[1]公式予選（TT）-結果表（貼付）'!A13="DNS",'[1]公式予選（TT）-結果表（貼付）'!A13="DQ"),"",IFERROR(INDEX('[1]公式予選（TT）-結果表（貼付）'!$A:$Z,MATCH($B24,'[1]公式予選（TT）-結果表（貼付）'!$B:$B,0),MATCH("In Lap",'[1]公式予選（TT）-結果表（貼付）'!$1:$1,0))&"/"&INDEX('[1]公式予選（TT）-結果表（貼付）'!$A:$Z,MATCH($B24,'[1]公式予選（TT）-結果表（貼付）'!$B:$B,0),MATCH("Laps",'[1]公式予選（TT）-結果表（貼付）'!$1:$1,0)),"")) -> 3/5 | P24: =IF(IFERROR(INDEX('[1]公式予選（TT）-結果表（貼付）'!$A:$Z,MATCH($B24,'[1]公式予選（TT）-結果表（貼付）'!$B:$B,0),MATCH(P$11,'[1]公式予選（TT）-結果表（貼付）'!$1:$1,0)),"")=0,"",IFERROR(INDEX('[1]公式予選（TT）-結果表（貼付）'!$A:$Z,MATCH($B24,'[1]公式予選（TT）-結果表（貼付）'!$B:$B,0),MATCH(P$11,'[1]公式予選（TT）-結果表（貼付）'!$1:$1,0)),"")) | Q24: =IF(P24="","",COUNTIF($P$13:P24,"<>"&"")) | R24: =IFERROR(RANK(Q24,$Q$13:$Q$47,1),"") | S24: =IF(IFERROR(INDEX('[1]公式予選（TT）-結果表（貼付）'!$A:$Z,MATCH($A24,'[1]公式予選（TT）-結果表（貼付）'!$A:$A,0),MATCH(S$11,'[1]公式予選（TT）-結果表（貼付）'!$1:$1,0)),"")=0,"",IFERROR(INDEX('[1]公式予選（TT）-結果表（貼付）'!$A:$Z,MATCH($A24,'[1]公式予選（TT）-結果表（貼付）'!$A:$A,0),MATCH(S$11,'[1]公式予選（TT）-結果表（貼付）'!$1:$1,0)),""))
A25: =IF(OR('[1]公式予選（TT）-結果表（貼付）'!A14="DNF",'[1]公式予選（TT）-結果表（貼付）'!A14="DNS",'[1]公式予選（TT）-結果表（貼付）'!A14="DQ"),'[1]公式予選（TT）-結果表（貼付）'!A14,IF(MAX('[1]公式予選（TT）-結果表（貼付）'!$A:$A)>A24,A24+1,"")) -> 13 | B25: =IFERROR(INDEX('[1]公式予選（TT）-結果表（貼付）'!A14:$V$50,MATCH($A25,'[1]公式予選（TT）-結果表（貼付）'!A14:$A$50,0),MATCH(公式予選結果表!B$11,'[1]公式予選（TT）-結果表（貼付）'!$1:$1,0)),"") -> 13 | D25: =IFERROR(INDEX('[1]公式予選（TT）-結果表（貼付）'!$A:$Z,MATCH($B25,'[1]公式予選（TT）-結果表（貼付）'!$B:$B,0),MATCH(公式予選結果表!D$11,'[1]公式予選（TT）-結果表（貼付）'!$1:$1,0)),"") -> 熊谷憲太 | E25: =IFERROR(INDEX('[1]公式予選（TT）-結果表（貼付）'!$A:$Z,MATCH($B25,'[1]公式予選（TT）-結果表（貼付）'!$B:$B,0),MATCH(公式予選結果表!E$11,'[1]公式予選（TT）-結果表（貼付）'!$1:$1,0)),"") -> KART REPUBLIC/TM | F25: =IFERROR(INDEX('[1]公式予選（TT）-結果表（貼付）'!$A:$Z,MATCH($B25,'[1]公式予選（TT）-結果表（貼付）'!$B:$B,0),MATCH(公式予選結果表!F$11,'[1]公式予選（TT）-結果表（貼付）'!$1:$1,0)),"") -> KP BUZZ | G25: =IFERROR(INDEX('[1]公式予選（TT）-結果表（貼付）'!$A:$Z,MATCH($B25,'[1]公式予選（TT）-結果表（貼付）'!$B:$B,0),MATCH(公式予選結果表!G$11,'[1]公式予選（TT）-結果表（貼付）'!$1:$1,0)),"") -> YH | H25: =IF(A25="DNS","ｽﾀｰﾄ出来ず",IF(A25="DQ","失 格",IFERROR(INDEX('[1]公式予選（TT）-結果表（貼付）'!$A:$Z,MATCH($B25,'[1]公式予選（TT）-結果表（貼付）'!$B:$B,0),MATCH(公式予選結果表!H$11,'[1]公式予選（TT）-結果表（貼付）'!$1:$1,0)),""))) -> 48.644 | I25: =IF(H25<1,"",IF($I$11>H25,"R","")) | J25: =IF(OR('[1]公式予選（TT）-結果表（貼付）'!A14="DNS",'[1]公式予選（TT）-結果表（貼付）'!A14="DQ"),"",IFERROR(INDEX('[1]公式予選（TT）-結果表（貼付）'!$A:$Z,MATCH($B25,'[1]公式予選（TT）-結果表（貼付）'!$B:$B,0),MATCH(公式予選結果表!J$11,'[1]公式予選（TT）-結果表（貼付）'!$1:$1,0)),"")) -> 0.37 | K25: =IF(OR('[1]公式予選（TT）-結果表（貼付）'!A14="DNS",'[1]公式予選（TT）-結果表（貼付）'!A14="DQ"),"",IFERROR(INDEX('[1]公式予選（TT）-結果表（貼付）'!$A:$Z,MATCH($B25,'[1]公式予選（TT）-結果表（貼付）'!$B:$B,0),MATCH(公式予選結果表!K$11,'[1]公式予選（TT）-結果表（貼付）'!$1:$1,0)),"")) -> 0.014 | L25: =IF(OR('[1]公式予選（TT）-結果表（貼付）'!A14="DNS",'[1]公式予選（TT）-結果表（貼付）'!A14="DQ"),"",IFERROR(INDEX('[1]公式予選（TT）-結果表（貼付）'!$A:$Z,MATCH($B25,'[1]公式予選（TT）-結果表（貼付）'!$B:$B,0),MATCH("In Lap",'[1]公式予選（TT）-結果表（貼付）'!$1:$1,0))&"/"&INDEX('[1]公式予選（TT）-結果表（貼付）'!$A:$Z,MATCH($B25,'[1]公式予選（TT）-結果表（貼付）'!$B:$B,0),MATCH("Laps",'[1]公式予選（TT）-結果表（貼付）'!$1:$1,0)),"")) -> 3/6 | P25: =IF(IFERROR(INDEX('[1]公式予選（TT）-結果表（貼付）'!$A:$Z,MATCH($B25,'[1]公式予選（TT）-結果表（貼付）'!$B:$B,0),MATCH(P$11,'[1]公式予選（TT）-結果表（貼付）'!$1:$1,0)),"")=0,"",IFERROR(INDEX('[1]公式予選（TT）-結果表（貼付）'!$A:$Z,MATCH($B25,'[1]公式予選（TT）-結果表（貼付）'!$B:$B,0),MATCH(P$11,'[1]公式予選（TT）-結果表（貼付）'!$1:$1,0)),"")) | Q25: =IF(P25="","",COUNTIF($P$13:P25,"<>"&"")) | R25: =IFERROR(RANK(Q25,$Q$13:$Q$47,1),"") | S25: =IF(IFERROR(INDEX('[1]公式予選（TT）-結果表（貼付）'!$A:$Z,MATCH($A25,'[1]公式予選（TT）-結果表（貼付）'!$A:$A,0),MATCH(S$11,'[1]公式予選（TT）-結果表（貼付）'!$1:$1,0)),"")=0,"",IFERROR(INDEX('[1]公式予選（TT）-結果表（貼付）'!$A:$Z,MATCH($A25,'[1]公式予選（TT）-結果表（貼付）'!$A:$A,0),MATCH(S$11,'[1]公式予選（TT）-結果表（貼付）'!$1:$1,0)),""))
... A45: =IF(OR('[1]公式予選（TT）-結果表（貼付）'!A34="DNF",'[1]公式予選（TT）-結果表（貼付）'!A34="DNS",'[1]公式予選（TT）-結果表（貼付）'!A34="DQ"),'[1]公式予選（TT）-結果表（貼付）'!A34,IF(MAX('[1]公式予選（TT）-結果表（貼付）'!$A:$A)>A44,A44+1,"")) | B45: =IFERROR(INDEX('[1]公式予選（TT）-結果表（貼付）'!A34:$V$50,MATCH($A45,'[1]公式予選（TT）-結果表（貼付）'!A34:$A$50,0),MATCH(公式予選結果表!B$11,'[1]公式予選（TT）-結果表（貼付）'!$1:$1,0)),"") | D45: =IFERROR(INDEX('[1]公式予選（TT）-結果表（貼付）'!$A:$Z,MATCH($B45,'[1]公式予選（TT）-結果表（貼付）'!$B:$B,0),MATCH(公式予選結果表!D$11,'[1]公式予選（TT）-結果表（貼付）'!$1:$1,0)),"") | E45: =IFERROR(INDEX('[1]公式予選（TT）-結果表（貼付）'!$A:$Z,MATCH($B45,'[1]公式予選（TT）-結果表（貼付）'!$B:$B,0),MATCH(公式予選結果表!E$11,'[1]公式予選（TT）-結果表（貼付）'!$1:$1,0)),"") | F45: =IFERROR(INDEX('[1]公式予選（TT）-結果表（貼付）'!$A:$Z,MATCH($B45,'[1]公式予選（TT）-結果表（貼付）'!$B:$B,0),MATCH(公式予選結果表!F$11,'[1]公式予選（TT）-結果表（貼付）'!$1:$1,0)),"") | G45: =IFERROR(INDEX('[1]公式予選（TT）-結果表（貼付）'!$A:$Z,MATCH($B45,'[1]公式予選（TT）-結果表（貼付）'!$B:$B,0),MATCH(公式予選結果表!G$11,'[1]公式予選（TT）-結果表（貼付）'!$1:$1,0)),"") | H45: =IF(A45="DNS","ｽﾀｰﾄ出来ず",IF(A45="DQ","失 格",IFERROR(INDEX('[1]公式予選（TT）-結果表（貼付）'!$A:$Z,MATCH($B45,'[1]公式予選（TT）-結果表（貼付）'!$B:$B,0),MATCH(公式予選結果表!H$11,'[1]公式予選（TT）-結果表（貼付）'!$1:$1,0)),""))) | I45: =IF(H45<1,"",IF($I$11>H45,"R","")) | J45: =IF(OR('[1]公式予選（TT）-結果表（貼付）'!A34="DNS",'[1]公式予選（TT）-結果表（貼付）'!A34="DQ"),"",IFERROR(INDEX('[1]公式予選（TT）-結果表（貼付）'!$A:$Z,MATCH($B45,'[1]公式予選（TT）-結果表（貼付）'!$B:$B,0),MATCH(公式予選結果表!J$11,'[1]公式予選（TT）-結果表（貼付）'!$1:$1,0)),"")) | K45: =IF(OR('[1]公式予選（TT）-結果表（貼付）'!A34="DNS",'[1]公式予選（TT）-結果表（貼付）'!A34="DQ"),"",IFERROR(INDEX('[1]公式予選（TT）-結果表（貼付）'!$A:$Z,MATCH($B45,'[1]公式予選（TT）-結果表（貼付）'!$B:$B,0),MATCH(公式予選結果表!K$11,'[1]公式予選（TT）-結果表（貼付）'!$1:$1,0)),"")) | L45: =IF(OR('[1]公式予選（TT）-結果表（貼付）'!A34="DNS",'[1]公式予選（TT）-結果表（貼付）'!A34="DQ"),"",IFERROR(INDEX('[1]公式予選（TT）-結果表（貼付）'!$A:$Z,MATCH($B45,'[1]公式予選（TT）-結果表（貼付）'!$B:$B,0),MATCH("In Lap",'[1]公式予選（TT）-結果表（貼付）'!$1:$1,0))&"/"&INDEX('[1]公式予選（TT）-結果表（貼付）'!$A:$Z,MATCH($B45,'[1]公式予選（TT）-結果表（貼付）'!$B:$B,0),MATCH("Laps",'[1]公式予選（TT）-結果表（貼付）'!$1:$1,0)),"")) | P45: =IF(IFERROR(INDEX('[1]公式予選（TT）-結果表（貼付）'!$A:$Z,MATCH($B45,'[1]公式予選（TT）-結果表（貼付）'!$B:$B,0),MATCH(P$11,'[1]公式予選（TT）-結果表（貼付）'!$1:$1,0)),"")=0,"",IFERROR(INDEX('[1]公式予選（TT）-結果表（貼付）'!$A:$Z,MATCH($B45,'[1]公式予選（TT）-結果表（貼付）'!$B:$B,0),MATCH(P$11,'[1]公式予選（TT）-結果表（貼付）'!$1:$1,0)),"")) | Q45: =IF(P45="","",COUNTIF($P$13:P45,"<>"&"")) | R45: =IFERROR(RANK(Q45,$Q$13:$Q$47,1),"") | S45: =IF(IFERROR(INDEX('[1]公式予選（TT）-結果表（貼付）'!$A:$Z,MATCH($A45,'[1]公式予選（TT）-結果表（貼付）'!$A:$A,0),MATCH(S$11,'[1]公式予選（TT）-結果表（貼付）'!$1:$1,0)),"")=0,"",IFERROR(INDEX('[1]公式予選（TT）-結果表（貼付）'!$A:$Z,MATCH($A45,'[1]公式予選（TT）-結果表（貼付）'!$A:$A,0),MATCH(S$11,'[1]公式予選（TT）-結果表（貼付）'!$1:$1,0)),""))
A46: =IF(OR('[1]公式予選（TT）-結果表（貼付）'!A35="DNF",'[1]公式予選（TT）-結果表（貼付）'!A35="DNS",'[1]公式予選（TT）-結果表（貼付）'!A35="DQ"),'[1]公式予選（TT）-結果表（貼付）'!A35,IF(MAX('[1]公式予選（TT）-結果表（貼付）'!$A:$A)>A45,A45+1,"")) | B46: =IFERROR(INDEX('[1]公式予選（TT）-結果表（貼付）'!A35:$V$50,MATCH($A46,'[1]公式予選（TT）-結果表（貼付）'!A35:$A$50,0),MATCH(公式予選結果表!B$11,'[1]公式予選（TT）-結果表（貼付）'!$1:$1,0)),"") | D46: =IFERROR(INDEX('[1]公式予選（TT）-結果表（貼付）'!$A:$Z,MATCH($B46,'[1]公式予選（TT）-結果表（貼付）'!$B:$B,0),MATCH(公式予選結果表!D$11,'[1]公式予選（TT）-結果表（貼付）'!$1:$1,0)),"") | E46: =IFERROR(INDEX('[1]公式予選（TT）-結果表（貼付）'!$A:$Z,MATCH($B46,'[1]公式予選（TT）-結果表（貼付）'!$B:$B,0),MATCH(公式予選結果表!E$11,'[1]公式予選（TT）-結果表（貼付）'!$1:$1,0)),"") | F46: =IFERROR(INDEX('[1]公式予選（TT）-結果表（貼付）'!$A:$Z,MATCH($B46,'[1]公式予選（TT）-結果表（貼付）'!$B:$B,0),MATCH(公式予選結果表!F$11,'[1]公式予選（TT）-結果表（貼付）'!$1:$1,0)),"") | G46: =IFERROR(INDEX('[1]公式予選（TT）-結果表（貼付）'!$A:$Z,MATCH($B46,'[1]公式予選（TT）-結果表（貼付）'!$B:$B,0),MATCH(公式予選結果表!G$11,'[1]公式予選（TT）-結果表（貼付）'!$1:$1,0)),"") | H46: =IF(A46="DNS","ｽﾀｰﾄ出来ず",IF(A46="DQ","失 格",IFERROR(INDEX('[1]公式予選（TT）-結果表（貼付）'!$A:$Z,MATCH($B46,'[1]公式予選（TT）-結果表（貼付）'!$B:$B,0),MATCH(公式予選結果表!H$11,'[1]公式予選（TT）-結果表（貼付）'!$1:$1,0)),""))) | I46: =IF(H46<1,"",IF($I$11>H46,"R","")) | J46: =IF(OR('[1]公式予選（TT）-結果表（貼付）'!A35="DNS",'[1]公式予選（TT）-結果表（貼付）'!A35="DQ"),"",IFERROR(INDEX('[1]公式予選（TT）-結果表（貼付）'!$A:$Z,MATCH($B46,'[1]公式予選（TT）-結果表（貼付）'!$B:$B,0),MATCH(公式予選結果表!J$11,'[1]公式予選（TT）-結果表（貼付）'!$1:$1,0)),"")) | K46: =IF(OR('[1]公式予選（TT）-結果表（貼付）'!A35="DNS",'[1]公式予選（TT）-結果表（貼付）'!A35="DQ"),"",IFERROR(INDEX('[1]公式予選（TT）-結果表（貼付）'!$A:$Z,MATCH($B46,'[1]公式予選（TT）-結果表（貼付）'!$B:$B,0),MATCH(公式予選結果表!K$11,'[1]公式予選（TT）-結果表（貼付）'!$1:$1,0)),"")) | L46: =IF(OR('[1]公式予選（TT）-結果表（貼付）'!A35="DNS",'[1]公式予選（TT）-結果表（貼付）'!A35="DQ"),"",IFERROR(INDEX('[1]公式予選（TT）-結果表（貼付）'!$A:$Z,MATCH($B46,'[1]公式予選（TT）-結果表（貼付）'!$B:$B,0),MATCH("In Lap",'[1]公式予選（TT）-結果表（貼付）'!$1:$1,0))&"/"&INDEX('[1]公式予選（TT）-結果表（貼付）'!$A:$Z,MATCH($B46,'[1]公式予選（TT）-結果表（貼付）'!$B:$B,0),MATCH("Laps",'[1]公式予選（TT）-結果表（貼付）'!$1:$1,0)),""))
A49: =IF(COUNTIF(I:I,"R")>=1,"""R"" マークの車は、コースレコードを更新しました。従来のレコードタイムは"&" "&I11,"")
A52: =IF(A53="","","ﾍﾟﾅﾙﾃｨ")
A53: =IF(MAX(Q13:Q47)<1,"",1) | B53: =IF(A53="","","No."&INDEX($A$11:$U$47,MATCH($A53,$R$11:$R$47,0),MATCH("No.",$11:$11,0))) | C53: =INDEX($A$11:$U$46,MATCH($A53,$R$11:$R$46,0),MATCH("コメント",$11:$11,0))
A54: =IF(A53<COUNTIF($R$12:$R$47,">"&0),A53+1,"") | B54: =IF(A54="","","No."&INDEX($A$11:$U$47,MATCH($A54,$R$11:$R$47,0),MATCH("No.",$11:$11,0))) | C54: =INDEX($A$11:$U$46,MATCH($A54,$R$11:$R$46,0),MATCH("コメント",$11:$11,0))
A55: =IF(A54<COUNTIF($R$12:$R$47,">"&0),A54+1,"") | B55: =IF(A55="","","No."&INDEX($A$11:$U$47,MATCH($A55,$R$11:$R$47,0),MATCH("No.",$11:$11,0))) | C55: =INDEX($A$11:$U$46,MATCH($A55,$R$11:$R$46,0),MATCH("コメント",$11:$11,0))
A56: =IF(A55<COUNTIF($R$12:$R$47,">"&0),A55+1,"") | B56: =IF(A56="","","No."&INDEX($A$11:$U$47,MATCH($A56,$R$11:$R$47,0),MATCH("No.",$11:$11,0))) | C56: =INDEX($A$11:$U$46,MATCH($A56,$R$11:$R$46,0),MATCH("コメント",$11:$11,0))
A57: =IF(A56<COUNTIF($R$12:$R$47,">"&0),A56+1,"") | B57: =IF(A57="","","No."&INDEX($A$11:$U$47,MATCH($A57,$R$11:$R$47,0),MATCH("No.",$11:$11,0))) | C57: =INDEX($A$11:$U$46,MATCH($A57,$R$11:$R$46,0),MATCH("コメント",$11:$11,0))
A58: =IF(A57<COUNTIF($R$12:$R$47,">"&0),A57+1,"") | B58: =IF(A58="","","No."&INDEX($A$11:$U$47,MATCH($A58,$R$11:$R$47,0),MATCH("No.",$11:$11,0))) | C58: =INDEX($A$11:$U$46,MATCH($A58,$R$11:$R$46,0),MATCH("コメント",$11:$11,0))
A59: =IF(A58<COUNTIF($R$12:$R$47,">"&0),A58+1,"") | B59: =IF(A59="","","No."&INDEX($A$11:$U$47,MATCH($A59,$R$11:$R$47,0),MATCH("No.",$11:$11,0))) | C59: =INDEX($A$11:$U$46,MATCH($A59,$R$11:$R$46,0),MATCH("コメント",$11:$11,0))
A60: =IF(A59<COUNTIF($R$12:$R$47,">"&0),A59+1,"") | B60: =IF(A60="","","No."&INDEX($A$11:$U$47,MATCH($A60,$R$11:$R$47,0),MATCH("No.",$11:$11,0))) | C60: =INDEX($A$11:$U$46,MATCH($A60,$R$11:$R$46,0),MATCH("コメント",$11:$11,0))
A61: =IF(A60<COUNTIF($R$12:$R$47,">"&0),A60+1,"") | B61: =IF(A61="","","No."&INDEX($A$11:$U$47,MATCH($A61,$R$11:$R$47,0),MATCH("No.",$11:$11,0))) | C61: =INDEX($A$11:$U$46,MATCH($A61,$R$11:$R$46,0),MATCH("コメント",$11:$11,0))
A62: =IF(A61<COUNTIF($R$12:$R$47,">"&0),A61+1,"") | B62: =IF(A62="","","No."&INDEX($A$11:$U$47,MATCH($A62,$R$11:$R$47,0),MATCH("No.",$11:$11,0))) | C62: =INDEX($A$11:$U$46,MATCH($A62,$R$11:$R$46,0),MATCH("コメント",$11:$11,0))
A63: =IF(A62<COUNTIF($R$12:$R$47,">"&0),A62+1,"") | B63: =IF(A63="","","No."&INDEX($A$11:$U$47,MATCH($A63,$R$11:$R$47,0),MATCH("No.",$11:$11,0))) | C63: =INDEX($A$11:$U$46,MATCH($A63,$R$11:$R$46,0),MATCH("コメント",$11:$11,0))
B64: ="審査委員長 ："&" "&[1]各種設定!$D$20 -> 審査委員長 ： Hideyuki KOMIYAMA
