Workbook

Sheet 予選ヒート2Gr-レース結果表
I6: =+[1]各種設定!D18 -> 44759 | K6: :
A7: =+[1]各種設定!D2 -> 2022 鈴鹿選手権シリーズ第4戦 ｶｰﾄﾚｰｽ IN SUZUKA | J7: WEATHER: | K7: Fine
J8: COURSE : | K8: Dry
A9: =+[1]各種設定!D4 -> YAMAHA SS | L9: 国際南コース 1.264Km
A10: ２ Ｇｒ.予選ヒート結果表
B11: No. | C11: クラス | D11: 名前 | E11: Model/Engine | F11: Team | G11: Tires | H11: Laps | I11: Total Time | J11: 差 | K11: Gap | L11: BestLap | M11: =VLOOKUP(A9,[1]コースレコード!$A:$C,3,FALSE) -> 53.124 | P11: コメント | R11: ペナルティNo. | S11: グリッドコメント | U11: ベスト平均時速
A12: Pos. | B12: No. | D12: Driver | E12: Type | F12: Team | G12: Tire | H12: Laps | I12: Total Time | J12: Delay | K12: Gap | L12: Best
A13: 1 | B13: =IFERROR(INDEX('[1]予選ヒートBGr-レース結果表（貼付）'!A2:$Z$50,MATCH($A13,'[1]予選ヒートBGr-レース結果表（貼付）'!A2:$A$50,0),MATCH('[1]公式予選（TT）AGr-結果表（印刷）'!B$11,'[1]予選ヒートBGr-レース結果表（貼付）'!$1:$1,0)),"") -> 8 | D13: =IFERROR(INDEX('[1]予選ヒートBGr-レース結果表（貼付）'!$A:$Z,MATCH($A13,'[1]予選ヒートBGr-レース結果表（貼付）'!$A:$A,0),MATCH('予選ヒート2Gr-レース結果表'!D$11,'[1]予選ヒートBGr-レース結果表（貼付）'!$1:$1,0)),"") -> 久富 圭 | E13: =IFERROR(INDEX('[1]予選ヒートBGr-レース結果表（貼付）'!$A:$Z,MATCH($A13,'[1]予選ヒートBGr-レース結果表（貼付）'!$A:$A,0),MATCH('予選ヒート2Gr-レース結果表'!E$11,'[1]予選ヒートBGr-レース結果表（貼付）'!$1:$1,0)),"") -> TONYKART/YAMAHA | F13: =IFERROR(INDEX('[1]予選ヒートBGr-レース結果表（貼付）'!$A:$Z,MATCH($A13,'[1]予選ヒートBGr-レース結果表（貼付）'!$A:$A,0),MATCH('予選ヒート2Gr-レース結果表'!F$11,'[1]予選ヒートBGr-レース結果表（貼付）'!$1:$1,0)),"") -> Formula Blue Ash | G13: =IFERROR(INDEX('[1]予選ヒートBGr-レース結果表（貼付）'!$A:$Z,MATCH($A13,'[1]予選ヒートBGr-レース結果表（貼付）'!$A:$A,0),MATCH('予選ヒート2Gr-レース結果表'!G$11,'[1]予選ヒートBGr-レース結果表（貼付）'!$1:$1,0)),"") -> BS | H13: =IFERROR(INDEX('[1]予選ヒートBGr-レース結果表（貼付）'!$A:$Z,MATCH($A13,'[1]予選ヒートBGr-レース結果表（貼付）'!$A:$A,0),MATCH('予選ヒート2Gr-レース結果表'!H$11,'[1]予選ヒートBGr-レース結果表（貼付）'!$1:$1,0)),"") -> 10 | I13: =IFERROR(INDEX('[1]予選ヒートBGr-レース結果表（貼付）'!$A:$Z,MATCH($A13,'[1]予選ヒートBGr-レース結果表（貼付）'!$A:$A,0),MATCH('予選ヒート2Gr-レース結果表'!I$11,'[1]予選ヒートBGr-レース結果表（貼付）'!$1:$1,0)),"") -> 0.0064899769 | J13: =ROUND((1.264*H13)/(I13*24),2)&"km/h" -> 81.15km/h | L13: =IFERROR(IF(A13="DNS","",IF(A13="DQ","",INDEX('[1]予選ヒートBGr-レース結果表（貼付）'!$A:$Z,MATCH($B13,'[1]予選ヒートBGr-レース結果表（貼付）'!$B:$B,0),MATCH('予選ヒート2Gr-レース結果表'!L$11,'[1]予選ヒートBGr-レース結果表（貼付）'!$1:$1,0)))),"") -> 55.883 | M13: =IF(L13<1,"",IF($M$11>L13,"R","")) | P13: =IF(IFERROR(INDEX('[1]予選ヒートBGr-レース結果表（貼付）'!$A:$Z,MATCH($B13,'[1]予選ヒートBGr-レース結果表（貼付）'!$B:$B,0),MATCH(P$11,'[1]予選ヒートBGr-レース結果表（貼付）'!$1:$1,0)),"")=0,"",IFERROR(INDEX('[1]予選ヒートBGr-レース結果表（貼付）'!$A:$Z,MATCH($B13,'[1]予選ヒートBGr-レース結果表（貼付）'!$B:$B,0),MATCH(P$11,'[1]予選ヒートBGr-レース結果表（貼付）'!$1:$1,0)),"")) | Q13: =IF(P13="","",COUNTIF($P$13:P13,"<>"&"")) | R13: =IFERROR(RANK(Q13,$Q$13:$Q$51,1),"") | S13: =IF(IFERROR(INDEX('[1]予選ヒートBGr-レース結果表（貼付）'!$A:$Z,MATCH($A13,'[1]予選ヒートBGr-レース結果表（貼付）'!$A:$A,0),MATCH(S$11,'[1]予選ヒートBGr-レース結果表（貼付）'!$1:$1,0)),"")=0,"",IFERROR(INDEX('[1]予選ヒートBGr-レース結果表（貼付）'!$A:$Z,MATCH($A13,'[1]予選ヒートBGr-レース結果表（貼付）'!$A:$A,0),MATCH(S$11,'[1]予選ヒートBGr-レース結果表（貼付）'!$1:$1,0)),"")) | U13: =IF(IFERROR(INDEX('[1]予選ヒートBGr-レース結果表（貼付）'!$A:$Z,MATCH($B13,'[1]予選ヒートBGr-レース結果表（貼付）'!$B:$B,0),MATCH(U$11,'[1]予選ヒートBGr-レース結果表（貼付）'!$1:$1,0)),"")=0,"",IFERROR(INDEX('[1]予選ヒートBGr-レース結果表（貼付）'!$A:$Z,MATCH($B13,'[1]予選ヒートBGr-レース結果表（貼付）'!$B:$B,0),MATCH(U$11,'[1]予選ヒートBGr-レース結果表（貼付）'!$1:$1,0)),"")) -> 81.427
A14: =IF(OR('[1]予選ヒートBGr-レース結果表（貼付）'!A3="DNF",'[1]予選ヒートBGr-レース結果表（貼付）'!A3="DNS",'[1]予選ヒートBGr-レース結果表（貼付）'!A3="DQ"),'[1]予選ヒートBGr-レース結果表（貼付）'!A3,IF(MAX('[1]予選ヒートBGr-レース結果表（貼付）'!$A:$A)>A13,A13+1,"")) -> 2 | B14: =IFERROR(INDEX('[1]予選ヒートBGr-レース結果表（貼付）'!A3:$Z$50,MATCH($A14,'[1]予選ヒートBGr-レース結果表（貼付）'!A3:$A$50,0),MATCH('[1]公式予選（TT）AGr-結果表（印刷）'!B$11,'[1]予選ヒートBGr-レース結果表（貼付）'!$1:$1,0)),"") -> 88 | D14: =IFERROR(INDEX('[1]予選ヒートBGr-レース結果表（貼付）'!$A:$Z,MATCH($A14,'[1]予選ヒートBGr-レース結果表（貼付）'!$A:$A,0),MATCH('予選ヒート2Gr-レース結果表'!D$11,'[1]予選ヒートBGr-レース結果表（貼付）'!$1:$1,0)),"") -> Quinten Lu | E14: =IFERROR(INDEX('[1]予選ヒートBGr-レース結果表（貼付）'!$A:$Z,MATCH($A14,'[1]予選ヒートBGr-レース結果表（貼付）'!$A:$A,0),MATCH('予選ヒート2Gr-レース結果表'!E$11,'[1]予選ヒートBGr-レース結果表（貼付）'!$1:$1,0)),"") -> EXPRIT/YAMAHA | F14: =IFERROR(INDEX('[1]予選ヒートBGr-レース結果表（貼付）'!$A:$Z,MATCH($A14,'[1]予選ヒートBGr-レース結果表（貼付）'!$A:$A,0),MATCH('予選ヒート2Gr-レース結果表'!F$11,'[1]予選ヒートBGr-レース結果表（貼付）'!$1:$1,0)),"") -> China Future Speed | G14: =IFERROR(INDEX('[1]予選ヒートBGr-レース結果表（貼付）'!$A:$Z,MATCH($A14,'[1]予選ヒートBGr-レース結果表（貼付）'!$A:$A,0),MATCH('予選ヒート2Gr-レース結果表'!G$11,'[1]予選ヒートBGr-レース結果表（貼付）'!$1:$1,0)),"") -> BS | H14: =IFERROR(INDEX('[1]予選ヒートBGr-レース結果表（貼付）'!$A:$Z,MATCH($A14,'[1]予選ヒートBGr-レース結果表（貼付）'!$A:$A,0),MATCH('予選ヒート2Gr-レース結果表'!H$11,'[1]予選ヒートBGr-レース結果表（貼付）'!$1:$1,0)),"") -> 10 | I14: =IFERROR(INDEX('[1]予選ヒートBGr-レース結果表（貼付）'!$A:$Z,MATCH($A14,'[1]予選ヒートBGr-レース結果表（貼付）'!$A:$A,0),MATCH('予選ヒート2Gr-レース結果表'!I$11,'[1]予選ヒートBGr-レース結果表（貼付）'!$1:$1,0)),"") -> 0.0065064468 | J14: =IFERROR(IF(A14="DNS","",IF(A14="DQ","",INDEX('[1]予選ヒートBGr-レース結果表（貼付）'!$A:$Z,MATCH($B14,'[1]予選ヒートBGr-レース結果表（貼付）'!$B:$B,0),MATCH('予選ヒート2Gr-レース結果表'!J$11,'[1]予選ヒートBGr-レース結果表（貼付）'!$1:$1,0)))),"") -> 1.423 | K14: =IFERROR(IF(A14="DNS","",IF(A14="DQ","",INDEX('[1]予選ヒートBGr-レース結果表（貼付）'!$A:$Z,MATCH($B14,'[1]予選ヒートBGr-レース結果表（貼付）'!$B:$B,0),MATCH('予選ヒート2Gr-レース結果表'!K$11,'[1]予選ヒートBGr-レース結果表（貼付）'!$1:$1,0)))),"") -> 1.423 | L14: =IFERROR(IF(A14="DNS","",IF(A14="DQ","",INDEX('[1]予選ヒートBGr-レース結果表（貼付）'!$A:$Z,MATCH($B14,'[1]予選ヒートBGr-レース結果表（貼付）'!$B:$B,0),MATCH('予選ヒート2Gr-レース結果表'!L$11,'[1]予選ヒートBGr-レース結果表（貼付）'!$1:$1,0)))),"") -> 55.917 | M14: =IF(L14<1,"",IF($M$11>L14,"R","")) | P14: =IF(IFERROR(INDEX('[1]予選ヒートBGr-レース結果表（貼付）'!$A:$Z,MATCH($B14,'[1]予選ヒートBGr-レース結果表（貼付）'!$B:$B,0),MATCH(P$11,'[1]予選ヒートBGr-レース結果表（貼付）'!$1:$1,0)),"")=0,"",IFERROR(INDEX('[1]予選ヒートBGr-レース結果表（貼付）'!$A:$Z,MATCH($B14,'[1]予選ヒートBGr-レース結果表（貼付）'!$B:$B,0),MATCH(P$11,'[1]予選ヒートBGr-レース結果表（貼付）'!$1:$1,0)),"")) | Q14: =IF(P14="","",COUNTIF($P$13:P14,"<>"&"")) | R14: =IFERROR(RANK(Q14,$Q$13:$Q$51,1),"") | S14: =IF(IFERROR(INDEX('[1]予選ヒートBGr-レース結果表（貼付）'!$A:$Z,MATCH($A14,'[1]予選ヒートBGr-レース結果表（貼付）'!$A:$A,0),MATCH(S$11,'[1]予選ヒートBGr-レース結果表（貼付）'!$1:$1,0)),"")=0,"",IFERROR(INDEX('[1]予選ヒートBGr-レース結果表（貼付）'!$A:$Z,MATCH($A14,'[1]予選ヒートBGr-レース結果表（貼付）'!$A:$A,0),MATCH(S$11,'[1]予選ヒートBGr-レース結果表（貼付）'!$1:$1,0)),"")) | U14: =IF(IFERROR(INDEX('[1]予選ヒートBGr-レース結果表（貼付）'!$A:$Z,MATCH($B14,'[1]予選ヒートBGr-レース結果表（貼付）'!$B:$B,0),MATCH(U$11,'[1]予選ヒートBGr-レース結果表（貼付）'!$1:$1,0)),"")=0,"",IFERROR(INDEX('[1]予選ヒートBGr-レース結果表（貼付）'!$A:$Z,MATCH($B14,'[1]予選ヒートBGr-レース結果表（貼付）'!$B:$B,0),MATCH(U$11,'[1]予選ヒートBGr-レース結果表（貼付）'!$1:$1,0)),"")) -> 81.378
A15: =IF(OR('[1]予選ヒートBGr-レース結果表（貼付）'!A4="DNF",'[1]予選ヒートBGr-レース結果表（貼付）'!A4="DNS",'[1]予選ヒートBGr-レース結果表（貼付）'!A4="DQ"),'[1]予選ヒートBGr-レース結果表（貼付）'!A4,IF(MAX('[1]予選ヒートBGr-レース結果表（貼付）'!$A:$A)>A14,A14+1,"")) -> 3 | B15: =IFERROR(INDEX('[1]予選ヒートBGr-レース結果表（貼付）'!A4:$Z$50,MATCH($A15,'[1]予選ヒートBGr-レース結果表（貼付）'!A4:$A$50,0),MATCH('[1]公式予選（TT）AGr-結果表（印刷）'!B$11,'[1]予選ヒートBGr-レース結果表（貼付）'!$1:$1,0)),"") -> 66 | D15: =IFERROR(INDEX('[1]予選ヒートBGr-レース結果表（貼付）'!$A:$Z,MATCH($A15,'[1]予選ヒートBGr-レース結果表（貼付）'!$A:$A,0),MATCH('予選ヒート2Gr-レース結果表'!D$11,'[1]予選ヒートBGr-レース結果表（貼付）'!$1:$1,0)),"") -> 松井 沙麗 | E15: =IFERROR(INDEX('[1]予選ヒートBGr-レース結果表（貼付）'!$A:$Z,MATCH($A15,'[1]予選ヒートBGr-レース結果表（貼付）'!$A:$A,0),MATCH('予選ヒート2Gr-レース結果表'!E$11,'[1]予選ヒートBGr-レース結果表（貼付）'!$1:$1,0)),"") -> TONY/YAMAHA | F15: =IFERROR(INDEX('[1]予選ヒートBGr-レース結果表（貼付）'!$A:$Z,MATCH($A15,'[1]予選ヒートBGr-レース結果表（貼付）'!$A:$A,0),MATCH('予選ヒート2Gr-レース結果表'!F$11,'[1]予選ヒートBGr-レース結果表（貼付）'!$1:$1,0)),"") -> BEMAX RACING | G15: =IFERROR(INDEX('[1]予選ヒートBGr-レース結果表（貼付）'!$A:$Z,MATCH($A15,'[1]予選ヒートBGr-レース結果表（貼付）'!$A:$A,0),MATCH('予選ヒート2Gr-レース結果表'!G$11,'[1]予選ヒートBGr-レース結果表（貼付）'!$1:$1,0)),"") -> BS | H15: =IFERROR(INDEX('[1]予選ヒートBGr-レース結果表（貼付）'!$A:$Z,MATCH($A15,'[1]予選ヒートBGr-レース結果表（貼付）'!$A:$A,0),MATCH('予選ヒート2Gr-レース結果表'!H$11,'[1]予選ヒートBGr-レース結果表（貼付）'!$1:$1,0)),"") -> 10 | I15: =IFERROR(INDEX('[1]予選ヒートBGr-レース結果表（貼付）'!$A:$Z,MATCH($A15,'[1]予選ヒートBGr-レース結果表（貼付）'!$A:$A,0),MATCH('予選ヒート2Gr-レース結果表'!I$11,'[1]予選ヒートBGr-レース結果表（貼付）'!$1:$1,0)),"") -> 0.0065110069 | J15: =IFERROR(IF(A15="DNS","",IF(A15="DQ","",INDEX('[1]予選ヒートBGr-レース結果表（貼付）'!$A:$Z,MATCH($B15,'[1]予選ヒートBGr-レース結果表（貼付）'!$B:$B,0),MATCH('予選ヒート2Gr-レース結果表'!J$11,'[1]予選ヒートBGr-レース結果表（貼付）'!$1:$1,0)))),"") -> 1.817 | K15: =IFERROR(IF(A15="DNS","",IF(A15="DQ","",INDEX('[1]予選ヒートBGr-レース結果表（貼付）'!$A:$Z,MATCH($B15,'[1]予選ヒートBGr-レース結果表（貼付）'!$B:$B,0),MATCH('予選ヒート2Gr-レース結果表'!K$11,'[1]予選ヒートBGr-レース結果表（貼付）'!$1:$1,0)))),"") -> 0.394 | L15: =IFERROR(IF(A15="DNS","",IF(A15="DQ","",INDEX('[1]予選ヒートBGr-レース結果表（貼付）'!$A:$Z,MATCH($B15,'[1]予選ヒートBGr-レース結果表（貼付）'!$B:$B,0),MATCH('予選ヒート2Gr-レース結果表'!L$11,'[1]予選ヒートBGr-レース結果表（貼付）'!$1:$1,0)))),"") -> 55.669 | M15: =IF(L15<1,"",IF($M$11>L15,"R","")) | P15: =IF(IFERROR(INDEX('[1]予選ヒートBGr-レース結果表（貼付）'!$A:$Z,MATCH($B15,'[1]予選ヒートBGr-レース結果表（貼付）'!$B:$B,0),MATCH(P$11,'[1]予選ヒートBGr-レース結果表（貼付）'!$1:$1,0)),"")=0,"",IFERROR(INDEX('[1]予選ヒートBGr-レース結果表（貼付）'!$A:$Z,MATCH($B15,'[1]予選ヒートBGr-レース結果表（貼付）'!$B:$B,0),MATCH(P$11,'[1]予選ヒートBGr-レース結果表（貼付）'!$1:$1,0)),"")) | Q15: =IF(P15="","",COUNTIF($P$13:P15,"<>"&"")) | R15: =IFERROR(RANK(Q15,$Q$13:$Q$51,1),"") | S15: =IF(IFERROR(INDEX('[1]予選ヒートBGr-レース結果表（貼付）'!$A:$Z,MATCH($A15,'[1]予選ヒートBGr-レース結果表（貼付）'!$A:$A,0),MATCH(S$11,'[1]予選ヒートBGr-レース結果表（貼付）'!$1:$1,0)),"")=0,"",IFERROR(INDEX('[1]予選ヒートBGr-レース結果表（貼付）'!$A:$Z,MATCH($A15,'[1]予選ヒートBGr-レース結果表（貼付）'!$A:$A,0),MATCH(S$11,'[1]予選ヒートBGr-レース結果表（貼付）'!$1:$1,0)),"")) | U15: =IF(IFERROR(INDEX('[1]予選ヒートBGr-レース結果表（貼付）'!$A:$Z,MATCH($B15,'[1]予選ヒートBGr-レース結果表（貼付）'!$B:$B,0),MATCH(U$11,'[1]予選ヒートBGr-レース結果表（貼付）'!$1:$1,0)),"")=0,"",IFERROR(INDEX('[1]予選ヒートBGr-レース結果表（貼付）'!$A:$Z,MATCH($B15,'[1]予選ヒートBGr-レース結果表（貼付）'!$B:$B,0),MATCH(U$11,'[1]予選ヒートBGr-レース結果表（貼付）'!$1:$1,0)),"")) -> 81.74
A16: =IF(OR('[1]予選ヒートBGr-レース結果表（貼付）'!A5="DNF",'[1]予選ヒートBGr-レース結果表（貼付）'!A5="DNS",'[1]予選ヒートBGr-レース結果表（貼付）'!A5="DQ"),'[1]予選ヒートBGr-レース結果表（貼付）'!A5,IF(MAX('[1]予選ヒートBGr-レース結果表（貼付）'!$A:$A)>A15,A15+1,"")) -> 4 | B16: =IFERROR(INDEX('[1]予選ヒートBGr-レース結果表（貼付）'!A5:$Z$50,MATCH($A16,'[1]予選ヒートBGr-レース結果表（貼付）'!A5:$A$50,0),MATCH('[1]公式予選（TT）AGr-結果表（印刷）'!B$11,'[1]予選ヒートBGr-レース結果表（貼付）'!$1:$1,0)),"") -> 86 | D16: =IFERROR(INDEX('[1]予選ヒートBGr-レース結果表（貼付）'!$A:$Z,MATCH($A16,'[1]予選ヒートBGr-レース結果表（貼付）'!$A:$A,0),MATCH('予選ヒート2Gr-レース結果表'!D$11,'[1]予選ヒートBGr-レース結果表（貼付）'!$1:$1,0)),"") -> 片岡 陽 | E16: =IFERROR(INDEX('[1]予選ヒートBGr-レース結果表（貼付）'!$A:$Z,MATCH($A16,'[1]予選ヒートBGr-レース結果表（貼付）'!$A:$A,0),MATCH('予選ヒート2Gr-レース結果表'!E$11,'[1]予選ヒートBGr-レース結果表（貼付）'!$1:$1,0)),"") -> ﾌﾟﾗｶﾞ/YAMAHA | F16: =IFERROR(INDEX('[1]予選ヒートBGr-レース結果表（貼付）'!$A:$Z,MATCH($A16,'[1]予選ヒートBGr-レース結果表（貼付）'!$A:$A,0),MATCH('予選ヒート2Gr-レース結果表'!F$11,'[1]予選ヒートBGr-レース結果表（貼付）'!$1:$1,0)),"") -> WRT | G16: =IFERROR(INDEX('[1]予選ヒートBGr-レース結果表（貼付）'!$A:$Z,MATCH($A16,'[1]予選ヒートBGr-レース結果表（貼付）'!$A:$A,0),MATCH('予選ヒート2Gr-レース結果表'!G$11,'[1]予選ヒートBGr-レース結果表（貼付）'!$1:$1,0)),"") -> BS | H16: =IFERROR(INDEX('[1]予選ヒートBGr-レース結果表（貼付）'!$A:$Z,MATCH($A16,'[1]予選ヒートBGr-レース結果表（貼付）'!$A:$A,0),MATCH('予選ヒート2Gr-レース結果表'!H$11,'[1]予選ヒートBGr-レース結果表（貼付）'!$1:$1,0)),"") -> 10 | I16: =IFERROR(INDEX('[1]予選ヒートBGr-レース結果表（貼付）'!$A:$Z,MATCH($A16,'[1]予選ヒートBGr-レース結果表（貼付）'!$A:$A,0),MATCH('予選ヒート2Gr-レース結果表'!I$11,'[1]予選ヒートBGr-レース結果表（貼付）'!$1:$1,0)),"") -> 0.0065242014 | J16: =IFERROR(IF(A16="DNS","",IF(A16="DQ","",INDEX('[1]予選ヒートBGr-レース結果表（貼付）'!$A:$Z,MATCH($B16,'[1]予選ヒートBGr-レース結果表（貼付）'!$B:$B,0),MATCH('予選ヒート2Gr-レース結果表'!J$11,'[1]予選ヒートBGr-レース結果表（貼付）'!$1:$1,0)))),"") -> 2.957 | K16: =IFERROR(IF(A16="DNS","",IF(A16="DQ","",INDEX('[1]予選ヒートBGr-レース結果表（貼付）'!$A:$Z,MATCH($B16,'[1]予選ヒートBGr-レース結果表（貼付）'!$B:$B,0),MATCH('予選ヒート2Gr-レース結果表'!K$11,'[1]予選ヒートBGr-レース結果表（貼付）'!$1:$1,0)))),"") -> 1.14 | L16: =IFERROR(IF(A16="DNS","",IF(A16="DQ","",INDEX('[1]予選ヒートBGr-レース結果表（貼付）'!$A:$Z,MATCH($B16,'[1]予選ヒートBGr-レース結果表（貼付）'!$B:$B,0),MATCH('予選ヒート2Gr-レース結果表'!L$11,'[1]予選ヒートBGr-レース結果表（貼付）'!$1:$1,0)))),"") -> 55.969 | M16: =IF(L16<1,"",IF($M$11>L16,"R","")) | P16: =IF(IFERROR(INDEX('[1]予選ヒートBGr-レース結果表（貼付）'!$A:$Z,MATCH($B16,'[1]予選ヒートBGr-レース結果表（貼付）'!$B:$B,0),MATCH(P$11,'[1]予選ヒートBGr-レース結果表（貼付）'!$1:$1,0)),"")=0,"",IFERROR(INDEX('[1]予選ヒートBGr-レース結果表（貼付）'!$A:$Z,MATCH($B16,'[1]予選ヒートBGr-レース結果表（貼付）'!$B:$B,0),MATCH(P$11,'[1]予選ヒートBGr-レース結果表（貼付）'!$1:$1,0)),"")) | Q16: =IF(P16="","",COUNTIF($P$13:P16,"<>"&"")) | R16: =IFERROR(RANK(Q16,$Q$13:$Q$51,1),"") | S16: =IF(IFERROR(INDEX('[1]予選ヒートBGr-レース結果表（貼付）'!$A:$Z,MATCH($A16,'[1]予選ヒートBGr-レース結果表（貼付）'!$A:$A,0),MATCH(S$11,'[1]予選ヒートBGr-レース結果表（貼付）'!$1:$1,0)),"")=0,"",IFERROR(INDEX('[1]予選ヒートBGr-レース結果表（貼付）'!$A:$Z,MATCH($A16,'[1]予選ヒートBGr-レース結果表（貼付）'!$A:$A,0),MATCH(S$11,'[1]予選ヒートBGr-レース結果表（貼付）'!$1:$1,0)),"")) | U16: =IF(IFERROR(INDEX('[1]予選ヒートBGr-レース結果表（貼付）'!$A:$Z,MATCH($B16,'[1]予選ヒートBGr-レース結果表（貼付）'!$B:$B,0),MATCH(U$11,'[1]予選ヒートBGr-レース結果表（貼付）'!$1:$1,0)),"")=0,"",IFERROR(INDEX('[1]予選ヒートBGr-レース結果表（貼付）'!$A:$Z,MATCH($B16,'[1]予選ヒートBGr-レース結果表（貼付）'!$B:$B,0),MATCH(U$11,'[1]予選ヒートBGr-レース結果表（貼付）'!$1:$1,0)),"")) -> 81.302
A17: =IF(OR('[1]予選ヒートBGr-レース結果表（貼付）'!A6="DNF",'[1]予選ヒートBGr-レース結果表（貼付）'!A6="DNS",'[1]予選ヒートBGr-レース結果表（貼付）'!A6="DQ"),'[1]予選ヒートBGr-レース結果表（貼付）'!A6,IF(MAX('[1]予選ヒートBGr-レース結果表（貼付）'!$A:$A)>A16,A16+1,"")) -> 5 | B17: =IFERROR(INDEX('[1]予選ヒートBGr-レース結果表（貼付）'!A6:$Z$50,MATCH($A17,'[1]予選ヒートBGr-レース結果表（貼付）'!A6:$A$50,0),MATCH('[1]公式予選（TT）AGr-結果表（印刷）'!B$11,'[1]予選ヒートBGr-レース結果表（貼付）'!$1:$1,0)),"") -> 44 | D17: =IFERROR(INDEX('[1]予選ヒートBGr-レース結果表（貼付）'!$A:$Z,MATCH($A17,'[1]予選ヒートBGr-レース結果表（貼付）'!$A:$A,0),MATCH('予選ヒート2Gr-レース結果表'!D$11,'[1]予選ヒートBGr-レース結果表（貼付）'!$1:$1,0)),"") -> 酒井 龍太郎 | E17: =IFERROR(INDEX('[1]予選ヒートBGr-レース結果表（貼付）'!$A:$Z,MATCH($A17,'[1]予選ヒートBGr-レース結果表（貼付）'!$A:$A,0),MATCH('予選ヒート2Gr-レース結果表'!E$11,'[1]予選ヒートBGr-レース結果表（貼付）'!$1:$1,0)),"") -> EXPRIT/YAMAHA | F17: =IFERROR(INDEX('[1]予選ヒートBGr-レース結果表（貼付）'!$A:$Z,MATCH($A17,'[1]予選ヒートBGr-レース結果表（貼付）'!$A:$A,0),MATCH('予選ヒート2Gr-レース結果表'!F$11,'[1]予選ヒートBGr-レース結果表（貼付）'!$1:$1,0)),"") -> ﾐﾂｻﾀﾞ PWG RACING | G17: =IFERROR(INDEX('[1]予選ヒートBGr-レース結果表（貼付）'!$A:$Z,MATCH($A17,'[1]予選ヒートBGr-レース結果表（貼付）'!$A:$A,0),MATCH('予選ヒート2Gr-レース結果表'!G$11,'[1]予選ヒートBGr-レース結果表（貼付）'!$1:$1,0)),"") -> BS | H17: =IFERROR(INDEX('[1]予選ヒートBGr-レース結果表（貼付）'!$A:$Z,MATCH($A17,'[1]予選ヒートBGr-レース結果表（貼付）'!$A:$A,0),MATCH('予選ヒート2Gr-レース結果表'!H$11,'[1]予選ヒートBGr-レース結果表（貼付）'!$1:$1,0)),"") -> 10 | I17: =IFERROR(INDEX('[1]予選ヒートBGr-レース結果表（貼付）'!$A:$Z,MATCH($A17,'[1]予選ヒートBGr-レース結果表（貼付）'!$A:$A,0),MATCH('予選ヒート2Gr-レース結果表'!I$11,'[1]予選ヒートBGr-レース結果表（貼付）'!$1:$1,0)),"") -> 0.0065324421 | J17: =IFERROR(IF(A17="DNS","",IF(A17="DQ","",INDEX('[1]予選ヒートBGr-レース結果表（貼付）'!$A:$Z,MATCH($B17,'[1]予選ヒートBGr-レース結果表（貼付）'!$B:$B,0),MATCH('予選ヒート2Gr-レース結果表'!J$11,'[1]予選ヒートBGr-レース結果表（貼付）'!$1:$1,0)))),"") -> 3.669 | K17: =IFERROR(IF(A17="DNS","",IF(A17="DQ","",INDEX('[1]予選ヒートBGr-レース結果表（貼付）'!$A:$Z,MATCH($B17,'[1]予選ヒートBGr-レース結果表（貼付）'!$B:$B,0),MATCH('予選ヒート2Gr-レース結果表'!K$11,'[1]予選ヒートBGr-レース結果表（貼付）'!$1:$1,0)))),"") -> 0.712 | L17: =IFERROR(IF(A17="DNS","",IF(A17="DQ","",INDEX('[1]予選ヒートBGr-レース結果表（貼付）'!$A:$Z,MATCH($B17,'[1]予選ヒートBGr-レース結果表（貼付）'!$B:$B,0),MATCH('予選ヒート2Gr-レース結果表'!L$11,'[1]予選ヒートBGr-レース結果表（貼付）'!$1:$1,0)))),"") -> 55.796 | M17: =IF(L17<1,"",IF($M$11>L17,"R","")) | P17: =IF(IFERROR(INDEX('[1]予選ヒートBGr-レース結果表（貼付）'!$A:$Z,MATCH($B17,'[1]予選ヒートBGr-レース結果表（貼付）'!$B:$B,0),MATCH(P$11,'[1]予選ヒートBGr-レース結果表（貼付）'!$1:$1,0)),"")=0,"",IFERROR(INDEX('[1]予選ヒートBGr-レース結果表（貼付）'!$A:$Z,MATCH($B17,'[1]予選ヒートBGr-レース結果表（貼付）'!$B:$B,0),MATCH(P$11,'[1]予選ヒートBGr-レース結果表（貼付）'!$1:$1,0)),"")) | Q17: =IF(P17="","",COUNTIF($P$13:P17,"<>"&"")) | R17: =IFERROR(RANK(Q17,$Q$13:$Q$51,1),"") | S17: =IF(IFERROR(INDEX('[1]予選ヒートBGr-レース結果表（貼付）'!$A:$Z,MATCH($A17,'[1]予選ヒートBGr-レース結果表（貼付）'!$A:$A,0),MATCH(S$11,'[1]予選ヒートBGr-レース結果表（貼付）'!$1:$1,0)),"")=0,"",IFERROR(INDEX('[1]予選ヒートBGr-レース結果表（貼付）'!$A:$Z,MATCH($A17,'[1]予選ヒートBGr-レース結果表（貼付）'!$A:$A,0),MATCH(S$11,'[1]予選ヒートBGr-レース結果表（貼付）'!$1:$1,0)),"")) | U17: =IF(IFERROR(INDEX('[1]予選ヒートBGr-レース結果表（貼付）'!$A:$Z,MATCH($B17,'[1]予選ヒートBGr-レース結果表（貼付）'!$B:$B,0),MATCH(U$11,'[1]予選ヒートBGr-レース結果表（貼付）'!$1:$1,0)),"")=0,"",IFERROR(INDEX('[1]予選ヒートBGr-レース結果表（貼付）'!$A:$Z,MATCH($B17,'[1]予選ヒートBGr-レース結果表（貼付）'!$B:$B,0),MATCH(U$11,'[1]予選ヒートBGr-レース結果表（貼付）'!$1:$1,0)),"")) -> 81.554
A18: =IF(OR('[1]予選ヒートBGr-レース結果表（貼付）'!A7="DNF",'[1]予選ヒートBGr-レース結果表（貼付）'!A7="DNS",'[1]予選ヒートBGr-レース結果表（貼付）'!A7="DQ"),'[1]予選ヒートBGr-レース結果表（貼付）'!A7,IF(MAX('[1]予選ヒートBGr-レース結果表（貼付）'!$A:$A)>A17,A17+1,"")) -> 6 | B18: =IFERROR(INDEX('[1]予選ヒートBGr-レース結果表（貼付）'!A7:$Z$50,MATCH($A18,'[1]予選ヒートBGr-レース結果表（貼付）'!A7:$A$50,0),MATCH('[1]公式予選（TT）AGr-結果表（印刷）'!B$11,'[1]予選ヒートBGr-レース結果表（貼付）'!$1:$1,0)),"") -> 46 | D18: =IFERROR(INDEX('[1]予選ヒートBGr-レース結果表（貼付）'!$A:$Z,MATCH($A18,'[1]予選ヒートBGr-レース結果表（貼付）'!$A:$A,0),MATCH('予選ヒート2Gr-レース結果表'!D$11,'[1]予選ヒートBGr-レース結果表（貼付）'!$1:$1,0)),"") -> 山代 諭和 | E18: =IFERROR(INDEX('[1]予選ヒートBGr-レース結果表（貼付）'!$A:$Z,MATCH($A18,'[1]予選ヒートBGr-レース結果表（貼付）'!$A:$A,0),MATCH('予選ヒート2Gr-レース結果表'!E$11,'[1]予選ヒートBGr-レース結果表（貼付）'!$1:$1,0)),"") -> EXPRIT/YAMAHA | F18: =IFERROR(INDEX('[1]予選ヒートBGr-レース結果表（貼付）'!$A:$Z,MATCH($A18,'[1]予選ヒートBGr-レース結果表（貼付）'!$A:$A,0),MATCH('予選ヒート2Gr-レース結果表'!F$11,'[1]予選ヒートBGr-レース結果表（貼付）'!$1:$1,0)),"") -> quaranta sei YRTwithGEMINI | G18: =IFERROR(INDEX('[1]予選ヒートBGr-レース結果表（貼付）'!$A:$Z,MATCH($A18,'[1]予選ヒートBGr-レース結果表（貼付）'!$A:$A,0),MATCH('予選ヒート2Gr-レース結果表'!G$11,'[1]予選ヒートBGr-レース結果表（貼付）'!$1:$1,0)),"") -> BS | H18: =IFERROR(INDEX('[1]予選ヒートBGr-レース結果表（貼付）'!$A:$Z,MATCH($A18,'[1]予選ヒートBGr-レース結果表（貼付）'!$A:$A,0),MATCH('予選ヒート2Gr-レース結果表'!H$11,'[1]予選ヒートBGr-レース結果表（貼付）'!$1:$1,0)),"") -> 10 | I18: =IFERROR(INDEX('[1]予選ヒートBGr-レース結果表（貼付）'!$A:$Z,MATCH($A18,'[1]予選ヒートBGr-レース結果表（貼付）'!$A:$A,0),MATCH('予選ヒート2Gr-レース結果表'!I$11,'[1]予選ヒートBGr-レース結果表（貼付）'!$1:$1,0)),"") -> 0.0065356019 | J18: =IFERROR(IF(A18="DNS","",IF(A18="DQ","",INDEX('[1]予選ヒートBGr-レース結果表（貼付）'!$A:$Z,MATCH($B18,'[1]予選ヒートBGr-レース結果表（貼付）'!$B:$B,0),MATCH('予選ヒート2Gr-レース結果表'!J$11,'[1]予選ヒートBGr-レース結果表（貼付）'!$1:$1,0)))),"") -> 3.942 | K18: =IFERROR(IF(A18="DNS","",IF(A18="DQ","",INDEX('[1]予選ヒートBGr-レース結果表（貼付）'!$A:$Z,MATCH($B18,'[1]予選ヒートBGr-レース結果表（貼付）'!$B:$B,0),MATCH('予選ヒート2Gr-レース結果表'!K$11,'[1]予選ヒートBGr-レース結果表（貼付）'!$1:$1,0)))),"") -> 0.273 | L18: =IFERROR(IF(A18="DNS","",IF(A18="DQ","",INDEX('[1]予選ヒートBGr-レース結果表（貼付）'!$A:$Z,MATCH($B18,'[1]予選ヒートBGr-レース結果表（貼付）'!$B:$B,0),MATCH('予選ヒート2Gr-レース結果表'!L$11,'[1]予選ヒートBGr-レース結果表（貼付）'!$1:$1,0)))),"") -> 55.968 | M18: =IF(L18<1,"",IF($M$11>L18,"R","")) | P18: =IF(IFERROR(INDEX('[1]予選ヒートBGr-レース結果表（貼付）'!$A:$Z,MATCH($B18,'[1]予選ヒートBGr-レース結果表（貼付）'!$B:$B,0),MATCH(P$11,'[1]予選ヒートBGr-レース結果表（貼付）'!$1:$1,0)),"")=0,"",IFERROR(INDEX('[1]予選ヒートBGr-レース結果表（貼付）'!$A:$Z,MATCH($B18,'[1]予選ヒートBGr-レース結果表（貼付）'!$B:$B,0),MATCH(P$11,'[1]予選ヒートBGr-レース結果表（貼付）'!$1:$1,0)),"")) | Q18: =IF(P18="","",COUNTIF($P$13:P18,"<>"&"")) | R18: =IFERROR(RANK(Q18,$Q$13:$Q$51,1),"") | S18: =IF(IFERROR(INDEX('[1]予選ヒートBGr-レース結果表（貼付）'!$A:$Z,MATCH($A18,'[1]予選ヒートBGr-レース結果表（貼付）'!$A:$A,0),MATCH(S$11,'[1]予選ヒートBGr-レース結果表（貼付）'!$1:$1,0)),"")=0,"",IFERROR(INDEX('[1]予選ヒートBGr-レース結果表（貼付）'!$A:$Z,MATCH($A18,'[1]予選ヒートBGr-レース結果表（貼付）'!$A:$A,0),MATCH(S$11,'[1]予選ヒートBGr-レース結果表（貼付）'!$1:$1,0)),"")) | U18: =IF(IFERROR(INDEX('[1]予選ヒートBGr-レース結果表（貼付）'!$A:$Z,MATCH($B18,'[1]予選ヒートBGr-レース結果表（貼付）'!$B:$B,0),MATCH(U$11,'[1]予選ヒートBGr-レース結果表（貼付）'!$1:$1,0)),"")=0,"",IFERROR(INDEX('[1]予選ヒートBGr-レース結果表（貼付）'!$A:$Z,MATCH($B18,'[1]予選ヒートBGr-レース結果表（貼付）'!$B:$B,0),MATCH(U$11,'[1]予選ヒートBGr-レース結果表（貼付）'!$1:$1,0)),"")) -> 81.304
A19: =IF(OR('[1]予選ヒートBGr-レース結果表（貼付）'!A8="DNF",'[1]予選ヒートBGr-レース結果表（貼付）'!A8="DNS",'[1]予選ヒートBGr-レース結果表（貼付）'!A8="DQ"),'[1]予選ヒートBGr-レース結果表（貼付）'!A8,IF(MAX('[1]予選ヒートBGr-レース結果表（貼付）'!$A:$A)>A18,A18+1,"")) -> 7 | B19: =IFERROR(INDEX('[1]予選ヒートBGr-レース結果表（貼付）'!A8:$Z$50,MATCH($A19,'[1]予選ヒートBGr-レース結果表（貼付）'!A8:$A$50,0),MATCH('[1]公式予選（TT）AGr-結果表（印刷）'!B$11,'[1]予選ヒートBGr-レース結果表（貼付）'!$1:$1,0)),"") -> 21 | D19: =IFERROR(INDEX('[1]予選ヒートBGr-レース結果表（貼付）'!$A:$Z,MATCH($A19,'[1]予選ヒートBGr-レース結果表（貼付）'!$A:$A,0),MATCH('予選ヒート2Gr-レース結果表'!D$11,'[1]予選ヒートBGr-レース結果表（貼付）'!$1:$1,0)),"") -> 栗原 瑞唯 | E19: =IFERROR(INDEX('[1]予選ヒートBGr-レース結果表（貼付）'!$A:$Z,MATCH($A19,'[1]予選ヒートBGr-レース結果表（貼付）'!$A:$A,0),MATCH('予選ヒート2Gr-レース結果表'!E$11,'[1]予選ヒートBGr-レース結果表（貼付）'!$1:$1,0)),"") -> MINATO/YAMAHA | F19: =IFERROR(INDEX('[1]予選ヒートBGr-レース結果表（貼付）'!$A:$Z,MATCH($A19,'[1]予選ヒートBGr-レース結果表（貼付）'!$A:$A,0),MATCH('予選ヒート2Gr-レース結果表'!F$11,'[1]予選ヒートBGr-レース結果表（貼付）'!$1:$1,0)),"") -> SUPER CREW'S | G19: =IFERROR(INDEX('[1]予選ヒートBGr-レース結果表（貼付）'!$A:$Z,MATCH($A19,'[1]予選ヒートBGr-レース結果表（貼付）'!$A:$A,0),MATCH('予選ヒート2Gr-レース結果表'!G$11,'[1]予選ヒートBGr-レース結果表（貼付）'!$1:$1,0)),"") -> BS | H19: =IFERROR(INDEX('[1]予選ヒートBGr-レース結果表（貼付）'!$A:$Z,MATCH($A19,'[1]予選ヒートBGr-レース結果表（貼付）'!$A:$A,0),MATCH('予選ヒート2Gr-レース結果表'!H$11,'[1]予選ヒートBGr-レース結果表（貼付）'!$1:$1,0)),"") -> 10 | I19: =IFERROR(INDEX('[1]予選ヒートBGr-レース結果表（貼付）'!$A:$Z,MATCH($A19,'[1]予選ヒートBGr-レース結果表（貼付）'!$A:$A,0),MATCH('予選ヒート2Gr-レース結果表'!I$11,'[1]予選ヒートBGr-レース結果表（貼付）'!$1:$1,0)),"") -> 0.0065388426 | J19: =IFERROR(IF(A19="DNS","",IF(A19="DQ","",INDEX('[1]予選ヒートBGr-レース結果表（貼付）'!$A:$Z,MATCH($B19,'[1]予選ヒートBGr-レース結果表（貼付）'!$B:$B,0),MATCH('予選ヒート2Gr-レース結果表'!J$11,'[1]予選ヒートBGr-レース結果表（貼付）'!$1:$1,0)))),"") -> 4.222 | K19: =IFERROR(IF(A19="DNS","",IF(A19="DQ","",INDEX('[1]予選ヒートBGr-レース結果表（貼付）'!$A:$Z,MATCH($B19,'[1]予選ヒートBGr-レース結果表（貼付）'!$B:$B,0),MATCH('予選ヒート2Gr-レース結果表'!K$11,'[1]予選ヒートBGr-レース結果表（貼付）'!$1:$1,0)))),"") -> 0.28 | L19: =IFERROR(IF(A19="DNS","",IF(A19="DQ","",INDEX('[1]予選ヒートBGr-レース結果表（貼付）'!$A:$Z,MATCH($B19,'[1]予選ヒートBGr-レース結果表（貼付）'!$B:$B,0),MATCH('予選ヒート2Gr-レース結果表'!L$11,'[1]予選ヒートBGr-レース結果表（貼付）'!$1:$1,0)))),"") -> 55.89 | M19: =IF(L19<1,"",IF($M$11>L19,"R","")) | P19: =IF(IFERROR(INDEX('[1]予選ヒートBGr-レース結果表（貼付）'!$A:$Z,MATCH($B19,'[1]予選ヒートBGr-レース結果表（貼付）'!$B:$B,0),MATCH(P$11,'[1]予選ヒートBGr-レース結果表（貼付）'!$1:$1,0)),"")=0,"",IFERROR(INDEX('[1]予選ヒートBGr-レース結果表（貼付）'!$A:$Z,MATCH($B19,'[1]予選ヒートBGr-レース結果表（貼付）'!$B:$B,0),MATCH(P$11,'[1]予選ヒートBGr-レース結果表（貼付）'!$1:$1,0)),"")) | Q19: =IF(P19="","",COUNTIF($P$13:P19,"<>"&"")) | R19: =IFERROR(RANK(Q19,$Q$13:$Q$51,1),"") | S19: =IF(IFERROR(INDEX('[1]予選ヒートBGr-レース結果表（貼付）'!$A:$Z,MATCH($A19,'[1]予選ヒートBGr-レース結果表（貼付）'!$A:$A,0),MATCH(S$11,'[1]予選ヒートBGr-レース結果表（貼付）'!$1:$1,0)),"")=0,"",IFERROR(INDEX('[1]予選ヒートBGr-レース結果表（貼付）'!$A:$Z,MATCH($A19,'[1]予選ヒートBGr-レース結果表（貼付）'!$A:$A,0),MATCH(S$11,'[1]予選ヒートBGr-レース結果表（貼付）'!$1:$1,0)),"")) | U19: =IF(IFERROR(INDEX('[1]予選ヒートBGr-レース結果表（貼付）'!$A:$Z,MATCH($B19,'[1]予選ヒートBGr-レース結果表（貼付）'!$B:$B,0),MATCH(U$11,'[1]予選ヒートBGr-レース結果表（貼付）'!$1:$1,0)),"")=0,"",IFERROR(INDEX('[1]予選ヒートBGr-レース結果表（貼付）'!$A:$Z,MATCH($B19,'[1]予選ヒートBGr-レース結果表（貼付）'!$B:$B,0),MATCH(U$11,'[1]予選ヒートBGr-レース結果表（貼付）'!$1:$1,0)),"")) -> 81.417
A20: =IF(OR('[1]予選ヒートBGr-レース結果表（貼付）'!A9="DNF",'[1]予選ヒートBGr-レース結果表（貼付）'!A9="DNS",'[1]予選ヒートBGr-レース結果表（貼付）'!A9="DQ"),'[1]予選ヒートBGr-レース結果表（貼付）'!A9,IF(MAX('[1]予選ヒートBGr-レース結果表（貼付）'!$A:$A)>A19,A19+1,"")) -> 8 | B20: =IFERROR(INDEX('[1]予選ヒートBGr-レース結果表（貼付）'!A9:$Z$50,MATCH($A20,'[1]予選ヒートBGr-レース結果表（貼付）'!A9:$A$50,0),MATCH('[1]公式予選（TT）AGr-結果表（印刷）'!B$11,'[1]予選ヒートBGr-レース結果表（貼付）'!$1:$1,0)),"") -> 20 | D20: =IFERROR(INDEX('[1]予選ヒートBGr-レース結果表（貼付）'!$A:$Z,MATCH($A20,'[1]予選ヒートBGr-レース結果表（貼付）'!$A:$A,0),MATCH('予選ヒート2Gr-レース結果表'!D$11,'[1]予選ヒートBGr-レース結果表（貼付）'!$1:$1,0)),"") -> 中西 凜音 | E20: =IFERROR(INDEX('[1]予選ヒートBGr-レース結果表（貼付）'!$A:$Z,MATCH($A20,'[1]予選ヒートBGr-レース結果表（貼付）'!$A:$A,0),MATCH('予選ヒート2Gr-レース結果表'!E$11,'[1]予選ヒートBGr-レース結果表（貼付）'!$1:$1,0)),"") -> Energy/YAMAHA | F20: =IFERROR(INDEX('[1]予選ヒートBGr-レース結果表（貼付）'!$A:$Z,MATCH($A20,'[1]予選ヒートBGr-レース結果表（貼付）'!$A:$A,0),MATCH('予選ヒート2Gr-レース結果表'!F$11,'[1]予選ヒートBGr-レース結果表（貼付）'!$1:$1,0)),"") -> ﾁｰﾑﾅｶﾞｵ | G20: =IFERROR(INDEX('[1]予選ヒートBGr-レース結果表（貼付）'!$A:$Z,MATCH($A20,'[1]予選ヒートBGr-レース結果表（貼付）'!$A:$A,0),MATCH('予選ヒート2Gr-レース結果表'!G$11,'[1]予選ヒートBGr-レース結果表（貼付）'!$1:$1,0)),"") -> BS | H20: =IFERROR(INDEX('[1]予選ヒートBGr-レース結果表（貼付）'!$A:$Z,MATCH($A20,'[1]予選ヒートBGr-レース結果表（貼付）'!$A:$A,0),MATCH('予選ヒート2Gr-レース結果表'!H$11,'[1]予選ヒートBGr-レース結果表（貼付）'!$1:$1,0)),"") -> 10 | I20: =IFERROR(INDEX('[1]予選ヒートBGr-レース結果表（貼付）'!$A:$Z,MATCH($A20,'[1]予選ヒートBGr-レース結果表（貼付）'!$A:$A,0),MATCH('予選ヒート2Gr-レース結果表'!I$11,'[1]予選ヒートBGr-レース結果表（貼付）'!$1:$1,0)),"") -> 0.0065644907 | J20: =IFERROR(IF(A20="DNS","",IF(A20="DQ","",INDEX('[1]予選ヒートBGr-レース結果表（貼付）'!$A:$Z,MATCH($B20,'[1]予選ヒートBGr-レース結果表（貼付）'!$B:$B,0),MATCH('予選ヒート2Gr-レース結果表'!J$11,'[1]予選ヒートBGr-レース結果表（貼付）'!$1:$1,0)))),"") -> 6.438 | K20: =IFERROR(IF(A20="DNS","",IF(A20="DQ","",INDEX('[1]予選ヒートBGr-レース結果表（貼付）'!$A:$Z,MATCH($B20,'[1]予選ヒートBGr-レース結果表（貼付）'!$B:$B,0),MATCH('予選ヒート2Gr-レース結果表'!K$11,'[1]予選ヒートBGr-レース結果表（貼付）'!$1:$1,0)))),"") -> 2.216 | L20: =IFERROR(IF(A20="DNS","",IF(A20="DQ","",INDEX('[1]予選ヒートBGr-レース結果表（貼付）'!$A:$Z,MATCH($B20,'[1]予選ヒートBGr-レース結果表（貼付）'!$B:$B,0),MATCH('予選ヒート2Gr-レース結果表'!L$11,'[1]予選ヒートBGr-レース結果表（貼付）'!$1:$1,0)))),"") -> 56.01 | M20: =IF(L20<1,"",IF($M$11>L20,"R","")) | P20: =IF(IFERROR(INDEX('[1]予選ヒートBGr-レース結果表（貼付）'!$A:$Z,MATCH($B20,'[1]予選ヒートBGr-レース結果表（貼付）'!$B:$B,0),MATCH(P$11,'[1]予選ヒートBGr-レース結果表（貼付）'!$1:$1,0)),"")=0,"",IFERROR(INDEX('[1]予選ヒートBGr-レース結果表（貼付）'!$A:$Z,MATCH($B20,'[1]予選ヒートBGr-レース結果表（貼付）'!$B:$B,0),MATCH(P$11,'[1]予選ヒートBGr-レース結果表（貼付）'!$1:$1,0)),"")) | Q20: =IF(P20="","",COUNTIF($P$13:P20,"<>"&"")) | R20: =IFERROR(RANK(Q20,$Q$13:$Q$51,1),"") | S20: =IF(IFERROR(INDEX('[1]予選ヒートBGr-レース結果表（貼付）'!$A:$Z,MATCH($A20,'[1]予選ヒートBGr-レース結果表（貼付）'!$A:$A,0),MATCH(S$11,'[1]予選ヒートBGr-レース結果表（貼付）'!$1:$1,0)),"")=0,"",IFERROR(INDEX('[1]予選ヒートBGr-レース結果表（貼付）'!$A:$Z,MATCH($A20,'[1]予選ヒートBGr-レース結果表（貼付）'!$A:$A,0),MATCH(S$11,'[1]予選ヒートBGr-レース結果表（貼付）'!$1:$1,0)),"")) | U20: =IF(IFERROR(INDEX('[1]予選ヒートBGr-レース結果表（貼付）'!$A:$Z,MATCH($B20,'[1]予選ヒートBGr-レース結果表（貼付）'!$B:$B,0),MATCH(U$11,'[1]予選ヒートBGr-レース結果表（貼付）'!$1:$1,0)),"")=0,"",IFERROR(INDEX('[1]予選ヒートBGr-レース結果表（貼付）'!$A:$Z,MATCH($B20,'[1]予選ヒートBGr-レース結果表（貼付）'!$B:$B,0),MATCH(U$11,'[1]予選ヒートBGr-レース結果表（貼付）'!$1:$1,0)),"")) -> 81.243
A21: =IF(OR('[1]予選ヒートBGr-レース結果表（貼付）'!A10="DNF",'[1]予選ヒートBGr-レース結果表（貼付）'!A10="DNS",'[1]予選ヒートBGr-レース結果表（貼付）'!A10="DQ"),'[1]予選ヒートBGr-レース結果表（貼付）'!A10,IF(MAX('[1]予選ヒートBGr-レース結果表（貼付）'!$A:$A)>A20,A20+1,"")) -> 9 | B21: =IFERROR(INDEX('[1]予選ヒートBGr-レース結果表（貼付）'!A10:$Z$50,MATCH($A21,'[1]予選ヒートBGr-レース結果表（貼付）'!A10:$A$50,0),MATCH('[1]公式予選（TT）AGr-結果表（印刷）'!B$11,'[1]予選ヒートBGr-レース結果表（貼付）'!$1:$1,0)),"") -> 51 | D21: =IFERROR(INDEX('[1]予選ヒートBGr-レース結果表（貼付）'!$A:$Z,MATCH($A21,'[1]予選ヒートBGr-レース結果表（貼付）'!$A:$A,0),MATCH('予選ヒート2Gr-レース結果表'!D$11,'[1]予選ヒートBGr-レース結果表（貼付）'!$1:$1,0)),"") -> 伊藤 楓馬 | E21: =IFERROR(INDEX('[1]予選ヒートBGr-レース結果表（貼付）'!$A:$Z,MATCH($A21,'[1]予選ヒートBGr-レース結果表（貼付）'!$A:$A,0),MATCH('予選ヒート2Gr-レース結果表'!E$11,'[1]予選ヒートBGr-レース結果表（貼付）'!$1:$1,0)),"") -> ｺｽﾐｯｸ/YAMAHA | F21: =IFERROR(INDEX('[1]予選ヒートBGr-レース結果表（貼付）'!$A:$Z,MATCH($A21,'[1]予選ヒートBGr-レース結果表（貼付）'!$A:$A,0),MATCH('予選ヒート2Gr-レース結果表'!F$11,'[1]予選ヒートBGr-レース結果表（貼付）'!$1:$1,0)),"") -> FormationLapRacing | G21: =IFERROR(INDEX('[1]予選ヒートBGr-レース結果表（貼付）'!$A:$Z,MATCH($A21,'[1]予選ヒートBGr-レース結果表（貼付）'!$A:$A,0),MATCH('予選ヒート2Gr-レース結果表'!G$11,'[1]予選ヒートBGr-レース結果表（貼付）'!$1:$1,0)),"") -> BS | H21: =IFERROR(INDEX('[1]予選ヒートBGr-レース結果表（貼付）'!$A:$Z,MATCH($A21,'[1]予選ヒートBGr-レース結果表（貼付）'!$A:$A,0),MATCH('予選ヒート2Gr-レース結果表'!H$11,'[1]予選ヒートBGr-レース結果表（貼付）'!$1:$1,0)),"") -> 10 | I21: =IFERROR(INDEX('[1]予選ヒートBGr-レース結果表（貼付）'!$A:$Z,MATCH($A21,'[1]予選ヒートBGr-レース結果表（貼付）'!$A:$A,0),MATCH('予選ヒート2Gr-レース結果表'!I$11,'[1]予選ヒートBGr-レース結果表（貼付）'!$1:$1,0)),"") -> 0.0065921875 | J21: =IFERROR(IF(A21="DNS","",IF(A21="DQ","",INDEX('[1]予選ヒートBGr-レース結果表（貼付）'!$A:$Z,MATCH($B21,'[1]予選ヒートBGr-レース結果表（貼付）'!$B:$B,0),MATCH('予選ヒート2Gr-レース結果表'!J$11,'[1]予選ヒートBGr-レース結果表（貼付）'!$1:$1,0)))),"") -> 8.831 | K21: =IFERROR(IF(A21="DNS","",IF(A21="DQ","",INDEX('[1]予選ヒートBGr-レース結果表（貼付）'!$A:$Z,MATCH($B21,'[1]予選ヒートBGr-レース結果表（貼付）'!$B:$B,0),MATCH('予選ヒート2Gr-レース結果表'!K$11,'[1]予選ヒートBGr-レース結果表（貼付）'!$1:$1,0)))),"") -> 2.393 | L21: =IFERROR(IF(A21="DNS","",IF(A21="DQ","",INDEX('[1]予選ヒートBGr-レース結果表（貼付）'!$A:$Z,MATCH($B21,'[1]予選ヒートBGr-レース結果表（貼付）'!$B:$B,0),MATCH('予選ヒート2Gr-レース結果表'!L$11,'[1]予選ヒートBGr-レース結果表（貼付）'!$1:$1,0)))),"") -> 56.386 | M21: =IF(L21<1,"",IF($M$11>L21,"R","")) | P21: =IF(IFERROR(INDEX('[1]予選ヒートBGr-レース結果表（貼付）'!$A:$Z,MATCH($B21,'[1]予選ヒートBGr-レース結果表（貼付）'!$B:$B,0),MATCH(P$11,'[1]予選ヒートBGr-レース結果表（貼付）'!$1:$1,0)),"")=0,"",IFERROR(INDEX('[1]予選ヒートBGr-レース結果表（貼付）'!$A:$Z,MATCH($B21,'[1]予選ヒートBGr-レース結果表（貼付）'!$B:$B,0),MATCH(P$11,'[1]予選ヒートBGr-レース結果表（貼付）'!$1:$1,0)),"")) | Q21: =IF(P21="","",COUNTIF($P$13:P21,"<>"&"")) | R21: =IFERROR(RANK(Q21,$Q$13:$Q$51,1),"") | S21: =IF(IFERROR(INDEX('[1]予選ヒートBGr-レース結果表（貼付）'!$A:$Z,MATCH($A21,'[1]予選ヒートBGr-レース結果表（貼付）'!$A:$A,0),MATCH(S$11,'[1]予選ヒートBGr-レース結果表（貼付）'!$1:$1,0)),"")=0,"",IFERROR(INDEX('[1]予選ヒートBGr-レース結果表（貼付）'!$A:$Z,MATCH($A21,'[1]予選ヒートBGr-レース結果表（貼付）'!$A:$A,0),MATCH(S$11,'[1]予選ヒートBGr-レース結果表（貼付）'!$1:$1,0)),"")) | U21: =IF(IFERROR(INDEX('[1]予選ヒートBGr-レース結果表（貼付）'!$A:$Z,MATCH($B21,'[1]予選ヒートBGr-レース結果表（貼付）'!$B:$B,0),MATCH(U$11,'[1]予選ヒートBGr-レース結果表（貼付）'!$1:$1,0)),"")=0,"",IFERROR(INDEX('[1]予選ヒートBGr-レース結果表（貼付）'!$A:$Z,MATCH($B21,'[1]予選ヒートBGr-レース結果表（貼付）'!$B:$B,0),MATCH(U$11,'[1]予選ヒートBGr-レース結果表（貼付）'!$1:$1,0)),"")) -> 80.701
A22: =IF(OR('[1]予選ヒートBGr-レース結果表（貼付）'!A11="DNF",'[1]予選ヒートBGr-レース結果表（貼付）'!A11="DNS",'[1]予選ヒートBGr-レース結果表（貼付）'!A11="DQ"),'[1]予選ヒートBGr-レース結果表（貼付）'!A11,IF(MAX('[1]予選ヒートBGr-レース結果表（貼付）'!$A:$A)>A21,A21+1,"")) -> 10 | B22: =IFERROR(INDEX('[1]予選ヒートBGr-レース結果表（貼付）'!A11:$Z$50,MATCH($A22,'[1]予選ヒートBGr-レース結果表（貼付）'!A11:$A$50,0),MATCH('[1]公式予選（TT）AGr-結果表（印刷）'!B$11,'[1]予選ヒートBGr-レース結果表（貼付）'!$1:$1,0)),"") -> 17 | D22: =IFERROR(INDEX('[1]予選ヒートBGr-レース結果表（貼付）'!$A:$Z,MATCH($A22,'[1]予選ヒートBGr-レース結果表（貼付）'!$A:$A,0),MATCH('予選ヒート2Gr-レース結果表'!D$11,'[1]予選ヒートBGr-レース結果表（貼付）'!$1:$1,0)),"") -> 可児 永久 | E22: =IFERROR(INDEX('[1]予選ヒートBGr-レース結果表（貼付）'!$A:$Z,MATCH($A22,'[1]予選ヒートBGr-レース結果表（貼付）'!$A:$A,0),MATCH('予選ヒート2Gr-レース結果表'!E$11,'[1]予選ヒートBGr-レース結果表（貼付）'!$1:$1,0)),"") -> KOSMIC/YAMAHA | F22: =IFERROR(INDEX('[1]予選ヒートBGr-レース結果表（貼付）'!$A:$Z,MATCH($A22,'[1]予選ヒートBGr-レース結果表（貼付）'!$A:$A,0),MATCH('予選ヒート2Gr-レース結果表'!F$11,'[1]予選ヒートBGr-レース結果表（貼付）'!$1:$1,0)),"") -> Ash KART RACING | G22: =IFERROR(INDEX('[1]予選ヒートBGr-レース結果表（貼付）'!$A:$Z,MATCH($A22,'[1]予選ヒートBGr-レース結果表（貼付）'!$A:$A,0),MATCH('予選ヒート2Gr-レース結果表'!G$11,'[1]予選ヒートBGr-レース結果表（貼付）'!$1:$1,0)),"") -> BS | H22: =IFERROR(INDEX('[1]予選ヒートBGr-レース結果表（貼付）'!$A:$Z,MATCH($A22,'[1]予選ヒートBGr-レース結果表（貼付）'!$A:$A,0),MATCH('予選ヒート2Gr-レース結果表'!H$11,'[1]予選ヒートBGr-レース結果表（貼付）'!$1:$1,0)),"") -> 10 | I22: =IFERROR(INDEX('[1]予選ヒートBGr-レース結果表（貼付）'!$A:$Z,MATCH($A22,'[1]予選ヒートBGr-レース結果表（貼付）'!$A:$A,0),MATCH('予選ヒート2Gr-レース結果表'!I$11,'[1]予選ヒートBGr-レース結果表（貼付）'!$1:$1,0)),"") -> 0.0065959259 | J22: =IFERROR(IF(A22="DNS","",IF(A22="DQ","",INDEX('[1]予選ヒートBGr-レース結果表（貼付）'!$A:$Z,MATCH($B22,'[1]予選ヒートBGr-レース結果表（貼付）'!$B:$B,0),MATCH('予選ヒート2Gr-レース結果表'!J$11,'[1]予選ヒートBGr-レース結果表（貼付）'!$1:$1,0)))),"") -> 9.154 | K22: =IFERROR(IF(A22="DNS","",IF(A22="DQ","",INDEX('[1]予選ヒートBGr-レース結果表（貼付）'!$A:$Z,MATCH($B22,'[1]予選ヒートBGr-レース結果表（貼付）'!$B:$B,0),MATCH('予選ヒート2Gr-レース結果表'!K$11,'[1]予選ヒートBGr-レース結果表（貼付）'!$1:$1,0)))),"") -> 0.323 | L22: =IFERROR(IF(A22="DNS","",IF(A22="DQ","",INDEX('[1]予選ヒートBGr-レース結果表（貼付）'!$A:$Z,MATCH($B22,'[1]予選ヒートBGr-レース結果表（貼付）'!$B:$B,0),MATCH('予選ヒート2Gr-レース結果表'!L$11,'[1]予選ヒートBGr-レース結果表（貼付）'!$1:$1,0)))),"") -> 56.431 | M22: =IF(L22<1,"",IF($M$11>L22,"R","")) | P22: =IF(IFERROR(INDEX('[1]予選ヒートBGr-レース結果表（貼付）'!$A:$Z,MATCH($B22,'[1]予選ヒートBGr-レース結果表（貼付）'!$B:$B,0),MATCH(P$11,'[1]予選ヒートBGr-レース結果表（貼付）'!$1:$1,0)),"")=0,"",IFERROR(INDEX('[1]予選ヒートBGr-レース結果表（貼付）'!$A:$Z,MATCH($B22,'[1]予選ヒートBGr-レース結果表（貼付）'!$B:$B,0),MATCH(P$11,'[1]予選ヒートBGr-レース結果表（貼付）'!$1:$1,0)),"")) | Q22: =IF(P22="","",COUNTIF($P$13:P22,"<>"&"")) | R22: =IFERROR(RANK(Q22,$Q$13:$Q$51,1),"") | S22: =IF(IFERROR(INDEX('[1]予選ヒートBGr-レース結果表（貼付）'!$A:$Z,MATCH($A22,'[1]予選ヒートBGr-レース結果表（貼付）'!$A:$A,0),MATCH(S$11,'[1]予選ヒートBGr-レース結果表（貼付）'!$1:$1,0)),"")=0,"",IFERROR(INDEX('[1]予選ヒートBGr-レース結果表（貼付）'!$A:$Z,MATCH($A22,'[1]予選ヒートBGr-レース結果表（貼付）'!$A:$A,0),MATCH(S$11,'[1]予選ヒートBGr-レース結果表（貼付）'!$1:$1,0)),"")) | U22: =IF(IFERROR(INDEX('[1]予選ヒートBGr-レース結果表（貼付）'!$A:$Z,MATCH($B22,'[1]予選ヒートBGr-レース結果表（貼付）'!$B:$B,0),MATCH(U$11,'[1]予選ヒートBGr-レース結果表（貼付）'!$1:$1,0)),"")=0,"",IFERROR(INDEX('[1]予選ヒートBGr-レース結果表（貼付）'!$A:$Z,MATCH($B22,'[1]予選ヒートBGr-レース結果表（貼付）'!$B:$B,0),MATCH(U$11,'[1]予選ヒートBGr-レース結果表（貼付）'!$1:$1,0)),"")) -> 80.637
A23: =IF(OR('[1]予選ヒートBGr-レース結果表（貼付）'!A12="DNF",'[1]予選ヒートBGr-レース結果表（貼付）'!A12="DNS",'[1]予選ヒートBGr-レース結果表（貼付）'!A12="DQ"),'[1]予選ヒートBGr-レース結果表（貼付）'!A12,IF(MAX('[1]予選ヒートBGr-レース結果表（貼付）'!$A:$A)>A22,A22+1,"")) -> 11 | B23: =IFERROR(INDEX('[1]予選ヒートBGr-レース結果表（貼付）'!A12:$Z$50,MATCH($A23,'[1]予選ヒートBGr-レース結果表（貼付）'!A12:$A$50,0),MATCH('[1]公式予選（TT）AGr-結果表（印刷）'!B$11,'[1]予選ヒートBGr-レース結果表（貼付）'!$1:$1,0)),"") -> 37 | D23: =IFERROR(INDEX('[1]予選ヒートBGr-レース結果表（貼付）'!$A:$Z,MATCH($A23,'[1]予選ヒートBGr-レース結果表（貼付）'!$A:$A,0),MATCH('予選ヒート2Gr-レース結果表'!D$11,'[1]予選ヒートBGr-レース結果表（貼付）'!$1:$1,0)),"") -> 佐藤 琉葵 | E23: =IFERROR(INDEX('[1]予選ヒートBGr-レース結果表（貼付）'!$A:$Z,MATCH($A23,'[1]予選ヒートBGr-レース結果表（貼付）'!$A:$A,0),MATCH('予選ヒート2Gr-レース結果表'!E$11,'[1]予選ヒートBGr-レース結果表（貼付）'!$1:$1,0)),"") -> LN KART/YAMAHA | F23: =IFERROR(INDEX('[1]予選ヒートBGr-レース結果表（貼付）'!$A:$Z,MATCH($A23,'[1]予選ヒートBGr-レース結果表（貼付）'!$A:$A,0),MATCH('予選ヒート2Gr-レース結果表'!F$11,'[1]予選ヒートBGr-レース結果表（貼付）'!$1:$1,0)),"") -> DSM | G23: =IFERROR(INDEX('[1]予選ヒートBGr-レース結果表（貼付）'!$A:$Z,MATCH($A23,'[1]予選ヒートBGr-レース結果表（貼付）'!$A:$A,0),MATCH('予選ヒート2Gr-レース結果表'!G$11,'[1]予選ヒートBGr-レース結果表（貼付）'!$1:$1,0)),"") -> BS | H23: =IFERROR(INDEX('[1]予選ヒートBGr-レース結果表（貼付）'!$A:$Z,MATCH($A23,'[1]予選ヒートBGr-レース結果表（貼付）'!$A:$A,0),MATCH('予選ヒート2Gr-レース結果表'!H$11,'[1]予選ヒートBGr-レース結果表（貼付）'!$1:$1,0)),"") -> 10 | I23: =IFERROR(INDEX('[1]予選ヒートBGr-レース結果表（貼付）'!$A:$Z,MATCH($A23,'[1]予選ヒートBGr-レース結果表（貼付）'!$A:$A,0),MATCH('予選ヒート2Gr-レース結果表'!I$11,'[1]予選ヒートBGr-レース結果表（貼付）'!$1:$1,0)),"") -> 0.0066242245 | J23: =IFERROR(IF(A23="DNS","",IF(A23="DQ","",INDEX('[1]予選ヒートBGr-レース結果表（貼付）'!$A:$Z,MATCH($B23,'[1]予選ヒートBGr-レース結果表（貼付）'!$B:$B,0),MATCH('予選ヒート2Gr-レース結果表'!J$11,'[1]予選ヒートBGr-レース結果表（貼付）'!$1:$1,0)))),"") -> 11.599 | K23: =IFERROR(IF(A23="DNS","",IF(A23="DQ","",INDEX('[1]予選ヒートBGr-レース結果表（貼付）'!$A:$Z,MATCH($B23,'[1]予選ヒートBGr-レース結果表（貼付）'!$B:$B,0),MATCH('予選ヒート2Gr-レース結果表'!K$11,'[1]予選ヒートBGr-レース結果表（貼付）'!$1:$1,0)))),"") -> 2.445 | L23: =IFERROR(IF(A23="DNS","",IF(A23="DQ","",INDEX('[1]予選ヒートBGr-レース結果表（貼付）'!$A:$Z,MATCH($B23,'[1]予選ヒートBGr-レース結果表（貼付）'!$B:$B,0),MATCH('予選ヒート2Gr-レース結果表'!L$11,'[1]予選ヒートBGr-レース結果表（貼付）'!$1:$1,0)))),"") -> 56.012 | M23: =IF(L23<1,"",IF($M$11>L23,"R","")) | P23: =IF(IFERROR(INDEX('[1]予選ヒートBGr-レース結果表（貼付）'!$A:$Z,MATCH($B23,'[1]予選ヒートBGr-レース結果表（貼付）'!$B:$B,0),MATCH(P$11,'[1]予選ヒートBGr-レース結果表（貼付）'!$1:$1,0)),"")=0,"",IFERROR(INDEX('[1]予選ヒートBGr-レース結果表（貼付）'!$A:$Z,MATCH($B23,'[1]予選ヒートBGr-レース結果表（貼付）'!$B:$B,0),MATCH(P$11,'[1]予選ヒートBGr-レース結果表（貼付）'!$1:$1,0)),"")) -> 鈴鹿選手権ｼﾘｰｽﾞ特別規則 競技車両規則第60条～2)(ﾌﾛﾝﾄﾌｪｱﾘﾝｸﾞ)違反により、5秒加算とした。 | Q23: =IF(P23="","",COUNTIF($P$13:P23,"<>"&"")) -> 11 | R23: =IFERROR(RANK(Q23,$Q$13:$Q$51,1),"") -> 1 | S23: =IF(IFERROR(INDEX('[1]予選ヒートBGr-レース結果表（貼付）'!$A:$Z,MATCH($A23,'[1]予選ヒートBGr-レース結果表（貼付）'!$A:$A,0),MATCH(S$11,'[1]予選ヒートBGr-レース結果表（貼付）'!$1:$1,0)),"")=0,"",IFERROR(INDEX('[1]予選ヒートBGr-レース結果表（貼付）'!$A:$Z,MATCH($A23,'[1]予選ヒートBGr-レース結果表（貼付）'!$A:$A,0),MATCH(S$11,'[1]予選ヒートBGr-レース結果表（貼付）'!$1:$1,0)),"")) | U23: =IF(IFERROR(INDEX('[1]予選ヒートBGr-レース結果表（貼付）'!$A:$Z,MATCH($B23,'[1]予選ヒートBGr-レース結果表（貼付）'!$B:$B,0),MATCH(U$11,'[1]予選ヒートBGr-レース結果表（貼付）'!$1:$1,0)),"")=0,"",IFERROR(INDEX('[1]予選ヒートBGr-レース結果表（貼付）'!$A:$Z,MATCH($B23,'[1]予選ヒートBGr-レース結果表（貼付）'!$B:$B,0),MATCH(U$11,'[1]予選ヒートBGr-レース結果表（貼付）'!$1:$1,0)),"")) -> 81.24
A24: =IF(OR('[1]予選ヒートBGr-レース結果表（貼付）'!A13="DNF",'[1]予選ヒートBGr-レース結果表（貼付）'!A13="DNS",'[1]予選ヒートBGr-レース結果表（貼付）'!A13="DQ"),'[1]予選ヒートBGr-レース結果表（貼付）'!A13,IF(MAX('[1]予選ヒートBGr-レース結果表（貼付）'!$A:$A)>A23,A23+1,"")) -> 12 | B24: =IFERROR(INDEX('[1]予選ヒートBGr-レース結果表（貼付）'!A13:$Z$50,MATCH($A24,'[1]予選ヒートBGr-レース結果表（貼付）'!A13:$A$50,0),MATCH('[1]公式予選（TT）AGr-結果表（印刷）'!B$11,'[1]予選ヒートBGr-レース結果表（貼付）'!$1:$1,0)),"") -> 45 | D24: =IFERROR(INDEX('[1]予選ヒートBGr-レース結果表（貼付）'!$A:$Z,MATCH($A24,'[1]予選ヒートBGr-レース結果表（貼付）'!$A:$A,0),MATCH('予選ヒート2Gr-レース結果表'!D$11,'[1]予選ヒートBGr-レース結果表（貼付）'!$1:$1,0)),"") -> 堀永 陵平 | E24: =IFERROR(INDEX('[1]予選ヒートBGr-レース結果表（貼付）'!$A:$Z,MATCH($A24,'[1]予選ヒートBGr-レース結果表（貼付）'!$A:$A,0),MATCH('予選ヒート2Gr-レース結果表'!E$11,'[1]予選ヒートBGr-レース結果表（貼付）'!$1:$1,0)),"") -> TONYKART/YAMAHA | F24: =IFERROR(INDEX('[1]予選ヒートBGr-レース結果表（貼付）'!$A:$Z,MATCH($A24,'[1]予選ヒートBGr-レース結果表（貼付）'!$A:$A,0),MATCH('予選ヒート2Gr-レース結果表'!F$11,'[1]予選ヒートBGr-レース結果表（貼付）'!$1:$1,0)),"") -> BRAVO-RACING | G24: =IFERROR(INDEX('[1]予選ヒートBGr-レース結果表（貼付）'!$A:$Z,MATCH($A24,'[1]予選ヒートBGr-レース結果表（貼付）'!$A:$A,0),MATCH('予選ヒート2Gr-レース結果表'!G$11,'[1]予選ヒートBGr-レース結果表（貼付）'!$1:$1,0)),"") -> BS | H24: =IFERROR(INDEX('[1]予選ヒートBGr-レース結果表（貼付）'!$A:$Z,MATCH($A24,'[1]予選ヒートBGr-レース結果表（貼付）'!$A:$A,0),MATCH('予選ヒート2Gr-レース結果表'!H$11,'[1]予選ヒートBGr-レース結果表（貼付）'!$1:$1,0)),"") -> 10 | I24: =IFERROR(INDEX('[1]予選ヒートBGr-レース結果表（貼付）'!$A:$Z,MATCH($A24,'[1]予選ヒートBGr-レース結果表（貼付）'!$A:$A,0),MATCH('予選ヒート2Gr-レース結果表'!I$11,'[1]予選ヒートBGr-レース結果表（貼付）'!$1:$1,0)),"") -> 0.0066258796 | J24: =IFERROR(IF(A24="DNS","",IF(A24="DQ","",INDEX('[1]予選ヒートBGr-レース結果表（貼付）'!$A:$Z,MATCH($B24,'[1]予選ヒートBGr-レース結果表（貼付）'!$B:$B,0),MATCH('予選ヒート2Gr-レース結果表'!J$11,'[1]予選ヒートBGr-レース結果表（貼付）'!$1:$1,0)))),"") -> 11.742 | K24: =IFERROR(IF(A24="DNS","",IF(A24="DQ","",INDEX('[1]予選ヒートBGr-レース結果表（貼付）'!$A:$Z,MATCH($B24,'[1]予選ヒートBGr-レース結果表（貼付）'!$B:$B,0),MATCH('予選ヒート2Gr-レース結果表'!K$11,'[1]予選ヒートBGr-レース結果表（貼付）'!$1:$1,0)))),"") -> 0.143 | L24: =IFERROR(IF(A24="DNS","",IF(A24="DQ","",INDEX('[1]予選ヒートBGr-レース結果表（貼付）'!$A:$Z,MATCH($B24,'[1]予選ヒートBGr-レース結果表（貼付）'!$B:$B,0),MATCH('予選ヒート2Gr-レース結果表'!L$11,'[1]予選ヒートBGr-レース結果表（貼付）'!$1:$1,0)))),"") -> 56.339 | M24: =IF(L24<1,"",IF($M$11>L24,"R","")) | P24: =IF(IFERROR(INDEX('[1]予選ヒートBGr-レース結果表（貼付）'!$A:$Z,MATCH($B24,'[1]予選ヒートBGr-レース結果表（貼付）'!$B:$B,0),MATCH(P$11,'[1]予選ヒートBGr-レース結果表（貼付）'!$1:$1,0)),"")=0,"",IFERROR(INDEX('[1]予選ヒートBGr-レース結果表（貼付）'!$A:$Z,MATCH($B24,'[1]予選ヒートBGr-レース結果表（貼付）'!$B:$B,0),MATCH(P$11,'[1]予選ヒートBGr-レース結果表（貼付）'!$1:$1,0)),"")) | Q24: =IF(P24="","",COUNTIF($P$13:P24,"<>"&"")) | R24: =IFERROR(RANK(Q24,$Q$13:$Q$51,1),"") | S24: =IF(IFERROR(INDEX('[1]予選ヒートBGr-レース結果表（貼付）'!$A:$Z,MATCH($A24,'[1]予選ヒートBGr-レース結果表（貼付）'!$A:$A,0),MATCH(S$11,'[1]予選ヒートBGr-レース結果表（貼付）'!$1:$1,0)),"")=0,"",IFERROR(INDEX('[1]予選ヒートBGr-レース結果表（貼付）'!$A:$Z,MATCH($A24,'[1]予選ヒートBGr-レース結果表（貼付）'!$A:$A,0),MATCH(S$11,'[1]予選ヒートBGr-レース結果表（貼付）'!$1:$1,0)),"")) | U24: =IF(IFERROR(INDEX('[1]予選ヒートBGr-レース結果表（貼付）'!$A:$Z,MATCH($B24,'[1]予選ヒートBGr-レース結果表（貼付）'!$B:$B,0),MATCH(U$11,'[1]予選ヒートBGr-レース結果表（貼付）'!$1:$1,0)),"")=0,"",IFERROR(INDEX('[1]予選ヒートBGr-レース結果表（貼付）'!$A:$Z,MATCH($B24,'[1]予選ヒートBGr-レース結果表（貼付）'!$B:$B,0),MATCH(U$11,'[1]予選ヒートBGr-レース結果表（貼付）'!$1:$1,0)),"")) -> 80.768
A25: =IF(OR('[1]予選ヒートBGr-レース結果表（貼付）'!A14="DNF",'[1]予選ヒートBGr-レース結果表（貼付）'!A14="DNS",'[1]予選ヒートBGr-レース結果表（貼付）'!A14="DQ"),'[1]予選ヒートBGr-レース結果表（貼付）'!A14,IF(MAX('[1]予選ヒートBGr-レース結果表（貼付）'!$A:$A)>A24,A24+1,"")) -> 13 | B25: =IFERROR(INDEX('[1]予選ヒートBGr-レース結果表（貼付）'!A14:$Z$50,MATCH($A25,'[1]予選ヒートBGr-レース結果表（貼付）'!A14:$A$50,0),MATCH('[1]公式予選（TT）AGr-結果表（印刷）'!B$11,'[1]予選ヒートBGr-レース結果表（貼付）'!$1:$1,0)),"") -> 57 | D25: =IFERROR(INDEX('[1]予選ヒートBGr-レース結果表（貼付）'!$A:$Z,MATCH($A25,'[1]予選ヒートBGr-レース結果表（貼付）'!$A:$A,0),MATCH('予選ヒート2Gr-レース結果表'!D$11,'[1]予選ヒートBGr-レース結果表（貼付）'!$1:$1,0)),"") -> 木戸 琢磨 | E25: =IFERROR(INDEX('[1]予選ヒートBGr-レース結果表（貼付）'!$A:$Z,MATCH($A25,'[1]予選ヒートBGr-レース結果表（貼付）'!$A:$A,0),MATCH('予選ヒート2Gr-レース結果表'!E$11,'[1]予選ヒートBGr-レース結果表（貼付）'!$1:$1,0)),"") -> EXPRIT/YAMAHA | F25: =IFERROR(INDEX('[1]予選ヒートBGr-レース結果表（貼付）'!$A:$Z,MATCH($A25,'[1]予選ヒートBGr-レース結果表（貼付）'!$A:$A,0),MATCH('予選ヒート2Gr-レース結果表'!F$11,'[1]予選ヒートBGr-レース結果表（貼付）'!$1:$1,0)),"") -> ATEAM Buzz Motorsport | G25: =IFERROR(INDEX('[1]予選ヒートBGr-レース結果表（貼付）'!$A:$Z,MATCH($A25,'[1]予選ヒートBGr-レース結果表（貼付）'!$A:$A,0),MATCH('予選ヒート2Gr-レース結果表'!G$11,'[1]予選ヒートBGr-レース結果表（貼付）'!$1:$1,0)),"") -> BS | H25: =IFERROR(INDEX('[1]予選ヒートBGr-レース結果表（貼付）'!$A:$Z,MATCH($A25,'[1]予選ヒートBGr-レース結果表（貼付）'!$A:$A,0),MATCH('予選ヒート2Gr-レース結果表'!H$11,'[1]予選ヒートBGr-レース結果表（貼付）'!$1:$1,0)),"") -> 10 | I25: =IFERROR(INDEX('[1]予選ヒートBGr-レース結果表（貼付）'!$A:$Z,MATCH($A25,'[1]予選ヒートBGr-レース結果表（貼付）'!$A:$A,0),MATCH('予選ヒート2Gr-レース結果表'!I$11,'[1]予選ヒートBGr-レース結果表（貼付）'!$1:$1,0)),"") -> 0.0066407755 | J25: =IFERROR(IF(A25="DNS","",IF(A25="DQ","",INDEX('[1]予選ヒートBGr-レース結果表（貼付）'!$A:$Z,MATCH($B25,'[1]予選ヒートBGr-レース結果表（貼付）'!$B:$B,0),MATCH('予選ヒート2Gr-レース結果表'!J$11,'[1]予選ヒートBGr-レース結果表（貼付）'!$1:$1,0)))),"") -> 13.029 | K25: =IFERROR(IF(A25="DNS","",IF(A25="DQ","",INDEX('[1]予選ヒートBGr-レース結果表（貼付）'!$A:$Z,MATCH($B25,'[1]予選ヒートBGr-レース結果表（貼付）'!$B:$B,0),MATCH('予選ヒート2Gr-レース結果表'!K$11,'[1]予選ヒートBGr-レース結果表（貼付）'!$1:$1,0)))),"") -> 1.287 | L25: =IFERROR(IF(A25="DNS","",IF(A25="DQ","",INDEX('[1]予選ヒートBGr-レース結果表（貼付）'!$A:$Z,MATCH($B25,'[1]予選ヒートBGr-レース結果表（貼付）'!$B:$B,0),MATCH('予選ヒート2Gr-レース結果表'!L$11,'[1]予選ヒートBGr-レース結果表（貼付）'!$1:$1,0)))),"") -> 56.653 | M25: =IF(L25<1,"",IF($M$11>L25,"R","")) | P25: =IF(IFERROR(INDEX('[1]予選ヒートBGr-レース結果表（貼付）'!$A:$Z,MATCH($B25,'[1]予選ヒートBGr-レース結果表（貼付）'!$B:$B,0),MATCH(P$11,'[1]予選ヒートBGr-レース結果表（貼付）'!$1:$1,0)),"")=0,"",IFERROR(INDEX('[1]予選ヒートBGr-レース結果表（貼付）'!$A:$Z,MATCH($B25,'[1]予選ヒートBGr-レース結果表（貼付）'!$B:$B,0),MATCH(P$11,'[1]予選ヒートBGr-レース結果表（貼付）'!$1:$1,0)),"")) | Q25: =IF(P25="","",COUNTIF($P$13:P25,"<>"&"")) | R25: =IFERROR(RANK(Q25,$Q$13:$Q$51,1),"") | S25: =IF(IFERROR(INDEX('[1]予選ヒートBGr-レース結果表（貼付）'!$A:$Z,MATCH($A25,'[1]予選ヒートBGr-レース結果表（貼付）'!$A:$A,0),MATCH(S$11,'[1]予選ヒートBGr-レース結果表（貼付）'!$1:$1,0)),"")=0,"",IFERROR(INDEX('[1]予選ヒートBGr-レース結果表（貼付）'!$A:$Z,MATCH($A25,'[1]予選ヒートBGr-レース結果表（貼付）'!$A:$A,0),MATCH(S$11,'[1]予選ヒートBGr-レース結果表（貼付）'!$1:$1,0)),"")) | U25: =IF(IFERROR(INDEX('[1]予選ヒートBGr-レース結果表（貼付）'!$A:$Z,MATCH($B25,'[1]予選ヒートBGr-レース結果表（貼付）'!$B:$B,0),MATCH(U$11,'[1]予選ヒートBGr-レース結果表（貼付）'!$1:$1,0)),"")=0,"",IFERROR(INDEX('[1]予選ヒートBGr-レース結果表（貼付）'!$A:$Z,MATCH($B25,'[1]予選ヒートBGr-レース結果表（貼付）'!$B:$B,0),MATCH(U$11,'[1]予選ヒートBGr-レース結果表（貼付）'!$1:$1,0)),"")) -> 80.321
A26: =IF(OR('[1]予選ヒートBGr-レース結果表（貼付）'!A15="DNF",'[1]予選ヒートBGr-レース結果表（貼付）'!A15="DNS",'[1]予選ヒートBGr-レース結果表（貼付）'!A15="DQ"),'[1]予選ヒートBGr-レース結果表（貼付）'!A15,IF(MAX('[1]予選ヒートBGr-レース結果表（貼付）'!$A:$A)>A25,A25+1,"")) -> 14 | B26: =IFERROR(INDEX('[1]予選ヒートBGr-レース結果表（貼付）'!A15:$Z$50,MATCH($A26,'[1]予選ヒートBGr-レース結果表（貼付）'!A15:$A$50,0),MATCH('[1]公式予選（TT）AGr-結果表（印刷）'!B$11,'[1]予選ヒートBGr-レース結果表（貼付）'!$1:$1,0)),"") -> 84 | D26: =IFERROR(INDEX('[1]予選ヒートBGr-レース結果表（貼付）'!$A:$Z,MATCH($A26,'[1]予選ヒートBGr-レース結果表（貼付）'!$A:$A,0),MATCH('予選ヒート2Gr-レース結果表'!D$11,'[1]予選ヒートBGr-レース結果表（貼付）'!$1:$1,0)),"") -> 林 零仁 | E26: =IFERROR(INDEX('[1]予選ヒートBGr-レース結果表（貼付）'!$A:$Z,MATCH($A26,'[1]予選ヒートBGr-レース結果表（貼付）'!$A:$A,0),MATCH('予選ヒート2Gr-レース結果表'!E$11,'[1]予選ヒートBGr-レース結果表（貼付）'!$1:$1,0)),"") -> EXPRIT/YAMAHA | F26: =IFERROR(INDEX('[1]予選ヒートBGr-レース結果表（貼付）'!$A:$Z,MATCH($A26,'[1]予選ヒートBGr-レース結果表（貼付）'!$A:$A,0),MATCH('予選ヒート2Gr-レース結果表'!F$11,'[1]予選ヒートBGr-レース結果表（貼付）'!$1:$1,0)),"") -> ONE POINT | G26: =IFERROR(INDEX('[1]予選ヒートBGr-レース結果表（貼付）'!$A:$Z,MATCH($A26,'[1]予選ヒートBGr-レース結果表（貼付）'!$A:$A,0),MATCH('予選ヒート2Gr-レース結果表'!G$11,'[1]予選ヒートBGr-レース結果表（貼付）'!$1:$1,0)),"") -> BS | H26: =IFERROR(INDEX('[1]予選ヒートBGr-レース結果表（貼付）'!$A:$Z,MATCH($A26,'[1]予選ヒートBGr-レース結果表（貼付）'!$A:$A,0),MATCH('予選ヒート2Gr-レース結果表'!H$11,'[1]予選ヒートBGr-レース結果表（貼付）'!$1:$1,0)),"") -> 10 | I26: =IFERROR(INDEX('[1]予選ヒートBGr-レース結果表（貼付）'!$A:$Z,MATCH($A26,'[1]予選ヒートBGr-レース結果表（貼付）'!$A:$A,0),MATCH('予選ヒート2Gr-レース結果表'!I$11,'[1]予選ヒートBGr-レース結果表（貼付）'!$1:$1,0)),"") -> 0.0066458681 | J26: =IFERROR(IF(A26="DNS","",IF(A26="DQ","",INDEX('[1]予選ヒートBGr-レース結果表（貼付）'!$A:$Z,MATCH($B26,'[1]予選ヒートBGr-レース結果表（貼付）'!$B:$B,0),MATCH('予選ヒート2Gr-レース結果表'!J$11,'[1]予選ヒートBGr-レース結果表（貼付）'!$1:$1,0)))),"") -> 13.469 | K26: =IFERROR(IF(A26="DNS","",IF(A26="DQ","",INDEX('[1]予選ヒートBGr-レース結果表（貼付）'!$A:$Z,MATCH($B26,'[1]予選ヒートBGr-レース結果表（貼付）'!$B:$B,0),MATCH('予選ヒート2Gr-レース結果表'!K$11,'[1]予選ヒートBGr-レース結果表（貼付）'!$1:$1,0)))),"") -> 0.44 | L26: =IFERROR(IF(A26="DNS","",IF(A26="DQ","",INDEX('[1]予選ヒートBGr-レース結果表（貼付）'!$A:$Z,MATCH($B26,'[1]予選ヒートBGr-レース結果表（貼付）'!$B:$B,0),MATCH('予選ヒート2Gr-レース結果表'!L$11,'[1]予選ヒートBGr-レース結果表（貼付）'!$1:$1,0)))),"") -> 56.165 | M26: =IF(L26<1,"",IF($M$11>L26,"R","")) | P26: =IF(IFERROR(INDEX('[1]予選ヒートBGr-レース結果表（貼付）'!$A:$Z,MATCH($B26,'[1]予選ヒートBGr-レース結果表（貼付）'!$B:$B,0),MATCH(P$11,'[1]予選ヒートBGr-レース結果表（貼付）'!$1:$1,0)),"")=0,"",IFERROR(INDEX('[1]予選ヒートBGr-レース結果表（貼付）'!$A:$Z,MATCH($B26,'[1]予選ヒートBGr-レース結果表（貼付）'!$B:$B,0),MATCH(P$11,'[1]予選ヒートBGr-レース結果表（貼付）'!$1:$1,0)),"")) | Q26: =IF(P26="","",COUNTIF($P$13:P26,"<>"&"")) | R26: =IFERROR(RANK(Q26,$Q$13:$Q$51,1),"") | S26: =IF(IFERROR(INDEX('[1]予選ヒートBGr-レース結果表（貼付）'!$A:$Z,MATCH($A26,'[1]予選ヒートBGr-レース結果表（貼付）'!$A:$A,0),MATCH(S$11,'[1]予選ヒートBGr-レース結果表（貼付）'!$1:$1,0)),"")=0,"",IFERROR(INDEX('[1]予選ヒートBGr-レース結果表（貼付）'!$A:$Z,MATCH($A26,'[1]予選ヒートBGr-レース結果表（貼付）'!$A:$A,0),MATCH(S$11,'[1]予選ヒートBGr-レース結果表（貼付）'!$1:$1,0)),"")) | U26: =IF(IFERROR(INDEX('[1]予選ヒートBGr-レース結果表（貼付）'!$A:$Z,MATCH($B26,'[1]予選ヒートBGr-レース結果表（貼付）'!$B:$B,0),MATCH(U$11,'[1]予選ヒートBGr-レース結果表（貼付）'!$1:$1,0)),"")=0,"",IFERROR(INDEX('[1]予選ヒートBGr-レース結果表（貼付）'!$A:$Z,MATCH($B26,'[1]予選ヒートBGr-レース結果表（貼付）'!$B:$B,0),MATCH(U$11,'[1]予選ヒートBGr-レース結果表（貼付）'!$1:$1,0)),"")) -> 81.018
U27: =IF(IFERROR(INDEX('[1]予選ヒートBGr-レース結果表（貼付）'!$A:$Z,MATCH($B27,'[1]予選ヒートBGr-レース結果表（貼付）'!$B:$B,0),MATCH(U$11,'[1]予選ヒートBGr-レース結果表（貼付）'!$1:$1,0)),"")=0,"",IFERROR(INDEX('[1]予選ヒートBGr-レース結果表（貼付）'!$A:$Z,MATCH($B27,'[1]予選ヒートBGr-レース結果表（貼付）'!$B:$B,0),MATCH(U$11,'[1]予選ヒートBGr-レース結果表（貼付）'!$1:$1,0)),""))
A28: 以上：決勝ﾋｰﾄ進出 | U28: =IF(IFERROR(INDEX('[1]予選ヒートBGr-レース結果表（貼付）'!$A:$Z,MATCH($B28,'[1]予選ヒートBGr-レース結果表（貼付）'!$B:$B,0),MATCH(U$11,'[1]予選ヒートBGr-レース結果表（貼付）'!$1:$1,0)),"")=0,"",IFERROR(INDEX('[1]予選ヒートBGr-レース結果表（貼付）'!$A:$Z,MATCH($B28,'[1]予選ヒートBGr-レース結果表（貼付）'!$B:$B,0),MATCH(U$11,'[1]予選ヒートBGr-レース結果表（貼付）'!$1:$1,0)),""))
U29: =IF(IFERROR(INDEX('[1]予選ヒートBGr-レース結果表（貼付）'!$A:$Z,MATCH($B29,'[1]予選ヒートBGr-レース結果表（貼付）'!$B:$B,0),MATCH(U$11,'[1]予選ヒートBGr-レース結果表（貼付）'!$1:$1,0)),"")=0,"",IFERROR(INDEX('[1]予選ヒートBGr-レース結果表（貼付）'!$A:$Z,MATCH($B29,'[1]予選ヒートBGr-レース結果表（貼付）'!$B:$B,0),MATCH(U$11,'[1]予選ヒートBGr-レース結果表（貼付）'!$1:$1,0)),""))
A30: 以下：ｾｶﾝﾄﾞﾁｬﾝｽﾋｰﾄ出場 | U30: =IF(IFERROR(INDEX('[1]予選ヒートBGr-レース結果表（貼付）'!$A:$Z,MATCH($B30,'[1]予選ヒートBGr-レース結果表（貼付）'!$B:$B,0),MATCH(U$11,'[1]予選ヒートBGr-レース結果表（貼付）'!$1:$1,0)),"")=0,"",IFERROR(INDEX('[1]予選ヒートBGr-レース結果表（貼付）'!$A:$Z,MATCH($B30,'[1]予選ヒートBGr-レース結果表（貼付）'!$B:$B,0),MATCH(U$11,'[1]予選ヒートBGr-レース結果表（貼付）'!$1:$1,0)),""))
U31: =IF(IFERROR(INDEX('[1]予選ヒートBGr-レース結果表（貼付）'!$A:$Z,MATCH($B31,'[1]予選ヒートBGr-レース結果表（貼付）'!$B:$B,0),MATCH(U$11,'[1]予選ヒートBGr-レース結果表（貼付）'!$1:$1,0)),"")=0,"",IFERROR(INDEX('[1]予選ヒートBGr-レース結果表（貼付）'!$A:$Z,MATCH($B31,'[1]予選ヒートBGr-レース結果表（貼付）'!$B:$B,0),MATCH(U$11,'[1]予選ヒートBGr-レース結果表（貼付）'!$1:$1,0)),""))
A32: =IF(OR('[1]予選ヒートBGr-レース結果表（貼付）'!A16="DNF",'[1]予選ヒートBGr-レース結果表（貼付）'!A16="DNS",'[1]予選ヒートBGr-レース結果表（貼付）'!A16="DQ"),'[1]予選ヒートBGr-レース結果表（貼付）'!A16,IF(MAX('[1]予選ヒートBGr-レース結果表（貼付）'!$A:$A)>A26,A26+1,"")) -> 15 | B32: =IFERROR(INDEX('[1]予選ヒートBGr-レース結果表（貼付）'!A16:$Z$50,MATCH($A32,'[1]予選ヒートBGr-レース結果表（貼付）'!A16:$A$50,0),MATCH('[1]公式予選（TT）AGr-結果表（印刷）'!B$11,'[1]予選ヒートBGr-レース結果表（貼付）'!$1:$1,0)),"") -> 27 | D32: =IFERROR(INDEX('[1]予選ヒートBGr-レース結果表（貼付）'!$A:$Z,MATCH($A32,'[1]予選ヒートBGr-レース結果表（貼付）'!$A:$A,0),MATCH('予選ヒート2Gr-レース結果表'!D$11,'[1]予選ヒートBGr-レース結果表（貼付）'!$1:$1,0)),"") -> 小松 武史 | E32: =IFERROR(INDEX('[1]予選ヒートBGr-レース結果表（貼付）'!$A:$Z,MATCH($A32,'[1]予選ヒートBGr-レース結果表（貼付）'!$A:$A,0),MATCH('予選ヒート2Gr-レース結果表'!E$11,'[1]予選ヒートBGr-レース結果表（貼付）'!$1:$1,0)),"") -> TONYKART/YAMAHA | F32: =IFERROR(INDEX('[1]予選ヒートBGr-レース結果表（貼付）'!$A:$Z,MATCH($A32,'[1]予選ヒートBGr-レース結果表（貼付）'!$A:$A,0),MATCH('予選ヒート2Gr-レース結果表'!F$11,'[1]予選ヒートBGr-レース結果表（貼付）'!$1:$1,0)),"") -> TEAM HIRANO | G32: =IFERROR(INDEX('[1]予選ヒートBGr-レース結果表（貼付）'!$A:$Z,MATCH($A32,'[1]予選ヒートBGr-レース結果表（貼付）'!$A:$A,0),MATCH('予選ヒート2Gr-レース結果表'!G$11,'[1]予選ヒートBGr-レース結果表（貼付）'!$1:$1,0)),"") -> BS | H32: =IFERROR(INDEX('[1]予選ヒートBGr-レース結果表（貼付）'!$A:$Z,MATCH($A32,'[1]予選ヒートBGr-レース結果表（貼付）'!$A:$A,0),MATCH('予選ヒート2Gr-レース結果表'!H$11,'[1]予選ヒートBGr-レース結果表（貼付）'!$1:$1,0)),"") -> 10 | I32: =IFERROR(INDEX('[1]予選ヒートBGr-レース結果表（貼付）'!$A:$Z,MATCH($A32,'[1]予選ヒートBGr-レース結果表（貼付）'!$A:$A,0),MATCH('予選ヒート2Gr-レース結果表'!I$11,'[1]予選ヒートBGr-レース結果表（貼付）'!$1:$1,0)),"") -> 0.0066514699 | J32: =IFERROR(IF(A32="DNS","",IF(A32="DQ","",INDEX('[1]予選ヒートBGr-レース結果表（貼付）'!$A:$Z,MATCH($B32,'[1]予選ヒートBGr-レース結果表（貼付）'!$B:$B,0),MATCH('予選ヒート2Gr-レース結果表'!J$11,'[1]予選ヒートBGr-レース結果表（貼付）'!$1:$1,0)))),"") -> 13.953 | K32: =IFERROR(IF(A32="DNS","",IF(A32="DQ","",INDEX('[1]予選ヒートBGr-レース結果表（貼付）'!$A:$Z,MATCH($B32,'[1]予選ヒートBGr-レース結果表（貼付）'!$B:$B,0),MATCH('予選ヒート2Gr-レース結果表'!K$11,'[1]予選ヒートBGr-レース結果表（貼付）'!$1:$1,0)))),"") -> 0.484 | L32: =IFERROR(IF(A32="DNS","",IF(A32="DQ","",INDEX('[1]予選ヒートBGr-レース結果表（貼付）'!$A:$Z,MATCH($B32,'[1]予選ヒートBGr-レース結果表（貼付）'!$B:$B,0),MATCH('予選ヒート2Gr-レース結果表'!L$11,'[1]予選ヒートBGr-レース結果表（貼付）'!$1:$1,0)))),"") -> 56.573 | M32: =IF(L32<1,"",IF($M$11>L32,"R","")) | P32: =IF(IFERROR(INDEX('[1]予選ヒートBGr-レース結果表（貼付）'!$A:$Z,MATCH($B32,'[1]予選ヒートBGr-レース結果表（貼付）'!$B:$B,0),MATCH(P$11,'[1]予選ヒートBGr-レース結果表（貼付）'!$1:$1,0)),"")=0,"",IFERROR(INDEX('[1]予選ヒートBGr-レース結果表（貼付）'!$A:$Z,MATCH($B32,'[1]予選ヒートBGr-レース結果表（貼付）'!$B:$B,0),MATCH(P$11,'[1]予選ヒートBGr-レース結果表（貼付）'!$1:$1,0)),"")) | Q32: =IF(P32="","",COUNTIF($P$13:P32,"<>"&"")) | R32: =IFERROR(RANK(Q32,$Q$13:$Q$51,1),"") | S32: =IF(IFERROR(INDEX('[1]予選ヒートBGr-レース結果表（貼付）'!$A:$Z,MATCH($A32,'[1]予選ヒートBGr-レース結果表（貼付）'!$A:$A,0),MATCH(S$11,'[1]予選ヒートBGr-レース結果表（貼付）'!$1:$1,0)),"")=0,"",IFERROR(INDEX('[1]予選ヒートBGr-レース結果表（貼付）'!$A:$Z,MATCH($A32,'[1]予選ヒートBGr-レース結果表（貼付）'!$A:$A,0),MATCH(S$11,'[1]予選ヒートBGr-レース結果表（貼付）'!$1:$1,0)),"")) | U32: =IF(IFERROR(INDEX('[1]予選ヒートBGr-レース結果表（貼付）'!$A:$Z,MATCH($B32,'[1]予選ヒートBGr-レース結果表（貼付）'!$B:$B,0),MATCH(U$11,'[1]予選ヒートBGr-レース結果表（貼付）'!$1:$1,0)),"")=0,"",IFERROR(INDEX('[1]予選ヒートBGr-レース結果表（貼付）'!$A:$Z,MATCH($B32,'[1]予選ヒートBGr-レース結果表（貼付）'!$B:$B,0),MATCH(U$11,'[1]予選ヒートBGr-レース結果表（貼付）'!$1:$1,0)),"")) -> 80.434
A33: =IF(OR('[1]予選ヒートBGr-レース結果表（貼付）'!A17="DNF",'[1]予選ヒートBGr-レース結果表（貼付）'!A17="DNS",'[1]予選ヒートBGr-レース結果表（貼付）'!A17="DQ"),'[1]予選ヒートBGr-レース結果表（貼付）'!A17,IF(MAX('[1]予選ヒートBGr-レース結果表（貼付）'!$A:$A)>A32,A32+1,"")) -> 16 | B33: =IFERROR(INDEX('[1]予選ヒートBGr-レース結果表（貼付）'!A17:$Z$50,MATCH($A33,'[1]予選ヒートBGr-レース結果表（貼付）'!A17:$A$50,0),MATCH('[1]公式予選（TT）AGr-結果表（印刷）'!B$11,'[1]予選ヒートBGr-レース結果表（貼付）'!$1:$1,0)),"") -> 42 | D33: =IFERROR(INDEX('[1]予選ヒートBGr-レース結果表（貼付）'!$A:$Z,MATCH($A33,'[1]予選ヒートBGr-レース結果表（貼付）'!$A:$A,0),MATCH('予選ヒート2Gr-レース結果表'!D$11,'[1]予選ヒートBGr-レース結果表（貼付）'!$1:$1,0)),"") -> 横山 優之介 | E33: =IFERROR(INDEX('[1]予選ヒートBGr-レース結果表（貼付）'!$A:$Z,MATCH($A33,'[1]予選ヒートBGr-レース結果表（貼付）'!$A:$A,0),MATCH('予選ヒート2Gr-レース結果表'!E$11,'[1]予選ヒートBGr-レース結果表（貼付）'!$1:$1,0)),"") -> Xenon Kart/YAMAHA | F33: =IFERROR(INDEX('[1]予選ヒートBGr-レース結果表（貼付）'!$A:$Z,MATCH($A33,'[1]予選ヒートBGr-レース結果表（貼付）'!$A:$A,0),MATCH('予選ヒート2Gr-レース結果表'!F$11,'[1]予選ヒートBGr-レース結果表（貼付）'!$1:$1,0)),"") -> SPS川口 | G33: =IFERROR(INDEX('[1]予選ヒートBGr-レース結果表（貼付）'!$A:$Z,MATCH($A33,'[1]予選ヒートBGr-レース結果表（貼付）'!$A:$A,0),MATCH('予選ヒート2Gr-レース結果表'!G$11,'[1]予選ヒートBGr-レース結果表（貼付）'!$1:$1,0)),"") -> BS | H33: =IFERROR(INDEX('[1]予選ヒートBGr-レース結果表（貼付）'!$A:$Z,MATCH($A33,'[1]予選ヒートBGr-レース結果表（貼付）'!$A:$A,0),MATCH('予選ヒート2Gr-レース結果表'!H$11,'[1]予選ヒートBGr-レース結果表（貼付）'!$1:$1,0)),"") -> 10 | I33: =IFERROR(INDEX('[1]予選ヒートBGr-レース結果表（貼付）'!$A:$Z,MATCH($A33,'[1]予選ヒートBGr-レース結果表（貼付）'!$A:$A,0),MATCH('予選ヒート2Gr-レース結果表'!I$11,'[1]予選ヒートBGr-レース結果表（貼付）'!$1:$1,0)),"") -> 0.0066526505 | J33: =IFERROR(IF(A33="DNS","",IF(A33="DQ","",INDEX('[1]予選ヒートBGr-レース結果表（貼付）'!$A:$Z,MATCH($B33,'[1]予選ヒートBGr-レース結果表（貼付）'!$B:$B,0),MATCH('予選ヒート2Gr-レース結果表'!J$11,'[1]予選ヒートBGr-レース結果表（貼付）'!$1:$1,0)))),"") -> 14.055 | K33: =IFERROR(IF(A33="DNS","",IF(A33="DQ","",INDEX('[1]予選ヒートBGr-レース結果表（貼付）'!$A:$Z,MATCH($B33,'[1]予選ヒートBGr-レース結果表（貼付）'!$B:$B,0),MATCH('予選ヒート2Gr-レース結果表'!K$11,'[1]予選ヒートBGr-レース結果表（貼付）'!$1:$1,0)))),"") -> 0.102 | L33: =IFERROR(IF(A33="DNS","",IF(A33="DQ","",INDEX('[1]予選ヒートBGr-レース結果表（貼付）'!$A:$Z,MATCH($B33,'[1]予選ヒートBGr-レース結果表（貼付）'!$B:$B,0),MATCH('予選ヒート2Gr-レース結果表'!L$11,'[1]予選ヒートBGr-レース結果表（貼付）'!$1:$1,0)))),"") -> 56.32 | M33: =IF(L33<1,"",IF($M$11>L33,"R","")) | P33: =IF(IFERROR(INDEX('[1]予選ヒートBGr-レース結果表（貼付）'!$A:$Z,MATCH($B33,'[1]予選ヒートBGr-レース結果表（貼付）'!$B:$B,0),MATCH(P$11,'[1]予選ヒートBGr-レース結果表（貼付）'!$1:$1,0)),"")=0,"",IFERROR(INDEX('[1]予選ヒートBGr-レース結果表（貼付）'!$A:$Z,MATCH($B33,'[1]予選ヒートBGr-レース結果表（貼付）'!$B:$B,0),MATCH(P$11,'[1]予選ヒートBGr-レース結果表（貼付）'!$1:$1,0)),"")) -> 鈴鹿選手権ｼﾘｰｽﾞ特別規則 競技車両規則第60条～2)(ﾌﾛﾝﾄﾌｪｱﾘﾝｸﾞ)違反により、5秒加算とした。 | Q33: =IF(P33="","",COUNTIF($P$13:P33,"<>"&"")) -> 16 | R33: =IFERROR(RANK(Q33,$Q$13:$Q$51,1),"") -> 2 | S33: =IF(IFERROR(INDEX('[1]予選ヒートBGr-レース結果表（貼付）'!$A:$Z,MATCH($A33,'[1]予選ヒートBGr-レース結果表（貼付）'!$A:$A,0),MATCH(S$11,'[1]予選ヒートBGr-レース結果表（貼付）'!$1:$1,0)),"")=0,"",IFERROR(INDEX('[1]予選ヒートBGr-レース結果表（貼付）'!$A:$Z,MATCH($A33,'[1]予選ヒートBGr-レース結果表（貼付）'!$A:$A,0),MATCH(S$11,'[1]予選ヒートBGr-レース結果表（貼付）'!$1:$1,0)),"")) | U33: =IF(IFERROR(INDEX('[1]予選ヒートBGr-レース結果表（貼付）'!$A:$Z,MATCH($B33,'[1]予選ヒートBGr-レース結果表（貼付）'!$B:$B,0),MATCH(U$11,'[1]予選ヒートBGr-レース結果表（貼付）'!$1:$1,0)),"")=0,"",IFERROR(INDEX('[1]予選ヒートBGr-レース結果表（貼付）'!$A:$Z,MATCH($B33,'[1]予選ヒートBGr-レース結果表（貼付）'!$B:$B,0),MATCH(U$11,'[1]予選ヒートBGr-レース結果表（貼付）'!$1:$1,0)),"")) -> 80.795
A34: =IF(OR('[1]予選ヒートBGr-レース結果表（貼付）'!A18="DNF",'[1]予選ヒートBGr-レース結果表（貼付）'!A18="DNS",'[1]予選ヒートBGr-レース結果表（貼付）'!A18="DQ"),'[1]予選ヒートBGr-レース結果表（貼付）'!A18,IF(MAX('[1]予選ヒートBGr-レース結果表（貼付）'!$A:$A)>A33,A33+1,"")) -> 17 | B34: =IFERROR(INDEX('[1]予選ヒートBGr-レース結果表（貼付）'!A18:$Z$50,MATCH($A34,'[1]予選ヒートBGr-レース結果表（貼付）'!A18:$A$50,0),MATCH('[1]公式予選（TT）AGr-結果表（印刷）'!B$11,'[1]予選ヒートBGr-レース結果表（貼付）'!$1:$1,0)),"") -> 12 | D34: =IFERROR(INDEX('[1]予選ヒートBGr-レース結果表（貼付）'!$A:$Z,MATCH($A34,'[1]予選ヒートBGr-レース結果表（貼付）'!$A:$A,0),MATCH('予選ヒート2Gr-レース結果表'!D$11,'[1]予選ヒートBGr-レース結果表（貼付）'!$1:$1,0)),"") -> 福永 航平 | E34: =IFERROR(INDEX('[1]予選ヒートBGr-レース結果表（貼付）'!$A:$Z,MATCH($A34,'[1]予選ヒートBGr-レース結果表（貼付）'!$A:$A,0),MATCH('予選ヒート2Gr-レース結果表'!E$11,'[1]予選ヒートBGr-レース結果表（貼付）'!$1:$1,0)),"") -> birel ART/YAMAHA | F34: =IFERROR(INDEX('[1]予選ヒートBGr-レース結果表（貼付）'!$A:$Z,MATCH($A34,'[1]予選ヒートBGr-レース結果表（貼付）'!$A:$A,0),MATCH('予選ヒート2Gr-レース結果表'!F$11,'[1]予選ヒートBGr-レース結果表（貼付）'!$1:$1,0)),"") -> Team Ms Energy | G34: =IFERROR(INDEX('[1]予選ヒートBGr-レース結果表（貼付）'!$A:$Z,MATCH($A34,'[1]予選ヒートBGr-レース結果表（貼付）'!$A:$A,0),MATCH('予選ヒート2Gr-レース結果表'!G$11,'[1]予選ヒートBGr-レース結果表（貼付）'!$1:$1,0)),"") -> BS | H34: =IFERROR(INDEX('[1]予選ヒートBGr-レース結果表（貼付）'!$A:$Z,MATCH($A34,'[1]予選ヒートBGr-レース結果表（貼付）'!$A:$A,0),MATCH('予選ヒート2Gr-レース結果表'!H$11,'[1]予選ヒートBGr-レース結果表（貼付）'!$1:$1,0)),"") -> 10 | I34: =IFERROR(INDEX('[1]予選ヒートBGr-レース結果表（貼付）'!$A:$Z,MATCH($A34,'[1]予選ヒートBGr-レース結果表（貼付）'!$A:$A,0),MATCH('予選ヒート2Gr-レース結果表'!I$11,'[1]予選ヒートBGr-レース結果表（貼付）'!$1:$1,0)),"") -> 0.0066624653 | J34: =IFERROR(IF(A34="DNS","",IF(A34="DQ","",INDEX('[1]予選ヒートBGr-レース結果表（貼付）'!$A:$Z,MATCH($B34,'[1]予選ヒートBGr-レース結果表（貼付）'!$B:$B,0),MATCH('予選ヒート2Gr-レース結果表'!J$11,'[1]予選ヒートBGr-レース結果表（貼付）'!$1:$1,0)))),"") -> 14.903 | K34: =IFERROR(IF(A34="DNS","",IF(A34="DQ","",INDEX('[1]予選ヒートBGr-レース結果表（貼付）'!$A:$Z,MATCH($B34,'[1]予選ヒートBGr-レース結果表（貼付）'!$B:$B,0),MATCH('予選ヒート2Gr-レース結果表'!K$11,'[1]予選ヒートBGr-レース結果表（貼付）'!$1:$1,0)))),"") -> 0.848 | L34: =IFERROR(IF(A34="DNS","",IF(A34="DQ","",INDEX('[1]予選ヒートBGr-レース結果表（貼付）'!$A:$Z,MATCH($B34,'[1]予選ヒートBGr-レース結果表（貼付）'!$B:$B,0),MATCH('予選ヒート2Gr-レース結果表'!L$11,'[1]予選ヒートBGr-レース結果表（貼付）'!$1:$1,0)))),"") -> 56.32 | M34: =IF(L34<1,"",IF($M$11>L34,"R","")) | P34: =IF(IFERROR(INDEX('[1]予選ヒートBGr-レース結果表（貼付）'!$A:$Z,MATCH($B34,'[1]予選ヒートBGr-レース結果表（貼付）'!$B:$B,0),MATCH(P$11,'[1]予選ヒートBGr-レース結果表（貼付）'!$1:$1,0)),"")=0,"",IFERROR(INDEX('[1]予選ヒートBGr-レース結果表（貼付）'!$A:$Z,MATCH($B34,'[1]予選ヒートBGr-レース結果表（貼付）'!$B:$B,0),MATCH(P$11,'[1]予選ヒートBGr-レース結果表（貼付）'!$1:$1,0)),"")) | Q34: =IF(P34="","",COUNTIF($P$13:P34,"<>"&"")) | R34: =IFERROR(RANK(Q34,$Q$13:$Q$51,1),"") | S34: =IF(IFERROR(INDEX('[1]予選ヒートBGr-レース結果表（貼付）'!$A:$Z,MATCH($A34,'[1]予選ヒートBGr-レース結果表（貼付）'!$A:$A,0),MATCH(S$11,'[1]予選ヒートBGr-レース結果表（貼付）'!$1:$1,0)),"")=0,"",IFERROR(INDEX('[1]予選ヒートBGr-レース結果表（貼付）'!$A:$Z,MATCH($A34,'[1]予選ヒートBGr-レース結果表（貼付）'!$A:$A,0),MATCH(S$11,'[1]予選ヒートBGr-レース結果表（貼付）'!$1:$1,0)),"")) | U34: =IF(IFERROR(INDEX('[1]予選ヒートBGr-レース結果表（貼付）'!$A:$Z,MATCH($B34,'[1]予選ヒートBGr-レース結果表（貼付）'!$B:$B,0),MATCH(U$11,'[1]予選ヒートBGr-レース結果表（貼付）'!$1:$1,0)),"")=0,"",IFERROR(INDEX('[1]予選ヒートBGr-レース結果表（貼付）'!$A:$Z,MATCH($B34,'[1]予選ヒートBGr-レース結果表（貼付）'!$B:$B,0),MATCH(U$11,'[1]予選ヒートBGr-レース結果表（貼付）'!$1:$1,0)),"")) -> 80.795
A35: =IF(OR('[1]予選ヒートBGr-レース結果表（貼付）'!A19="DNF",'[1]予選ヒートBGr-レース結果表（貼付）'!A19="DNS",'[1]予選ヒートBGr-レース結果表（貼付）'!A19="DQ"),'[1]予選ヒートBGr-レース結果表（貼付）'!A19,IF(MAX('[1]予選ヒートBGr-レース結果表（貼付）'!$A:$A)>A34,A34+1,"")) -> 18 | B35: =IFERROR(INDEX('[1]予選ヒートBGr-レース結果表（貼付）'!A19:$Z$50,MATCH($A35,'[1]予選ヒートBGr-レース結果表（貼付）'!A19:$A$50,0),MATCH('[1]公式予選（TT）AGr-結果表（印刷）'!B$11,'[1]予選ヒートBGr-レース結果表（貼付）'!$1:$1,0)),"") -> 38 | D35: =IFERROR(INDEX('[1]予選ヒートBGr-レース結果表（貼付）'!$A:$Z,MATCH($A35,'[1]予選ヒートBGr-レース結果表（貼付）'!$A:$A,0),MATCH('予選ヒート2Gr-レース結果表'!D$11,'[1]予選ヒートBGr-レース結果表（貼付）'!$1:$1,0)),"") -> 森 赴人 | E35: =IFERROR(INDEX('[1]予選ヒートBGr-レース結果表（貼付）'!$A:$Z,MATCH($A35,'[1]予選ヒートBGr-レース結果表（貼付）'!$A:$A,0),MATCH('予選ヒート2Gr-レース結果表'!E$11,'[1]予選ヒートBGr-レース結果表（貼付）'!$1:$1,0)),"") -> PRAGA/YAMAHA | F35: =IFERROR(INDEX('[1]予選ヒートBGr-レース結果表（貼付）'!$A:$Z,MATCH($A35,'[1]予選ヒートBGr-レース結果表（貼付）'!$A:$A,0),MATCH('予選ヒート2Gr-レース結果表'!F$11,'[1]予選ヒートBGr-レース結果表（貼付）'!$1:$1,0)),"") -> ﾁｰﾑぶるｰと | G35: =IFERROR(INDEX('[1]予選ヒートBGr-レース結果表（貼付）'!$A:$Z,MATCH($A35,'[1]予選ヒートBGr-レース結果表（貼付）'!$A:$A,0),MATCH('予選ヒート2Gr-レース結果表'!G$11,'[1]予選ヒートBGr-レース結果表（貼付）'!$1:$1,0)),"") -> BS | H35: =IFERROR(INDEX('[1]予選ヒートBGr-レース結果表（貼付）'!$A:$Z,MATCH($A35,'[1]予選ヒートBGr-レース結果表（貼付）'!$A:$A,0),MATCH('予選ヒート2Gr-レース結果表'!H$11,'[1]予選ヒートBGr-レース結果表（貼付）'!$1:$1,0)),"") -> 10 | I35: =IFERROR(INDEX('[1]予選ヒートBGr-レース結果表（貼付）'!$A:$Z,MATCH($A35,'[1]予選ヒートBGr-レース結果表（貼付）'!$A:$A,0),MATCH('予選ヒート2Gr-レース結果表'!I$11,'[1]予選ヒートBGr-レース結果表（貼付）'!$1:$1,0)),"") -> 0.0066647685 | J35: =IFERROR(IF(A35="DNS","",IF(A35="DQ","",INDEX('[1]予選ヒートBGr-レース結果表（貼付）'!$A:$Z,MATCH($B35,'[1]予選ヒートBGr-レース結果表（貼付）'!$B:$B,0),MATCH('予選ヒート2Gr-レース結果表'!J$11,'[1]予選ヒートBGr-レース結果表（貼付）'!$1:$1,0)))),"") -> 15.102 | K35: =IFERROR(IF(A35="DNS","",IF(A35="DQ","",INDEX('[1]予選ヒートBGr-レース結果表（貼付）'!$A:$Z,MATCH($B35,'[1]予選ヒートBGr-レース結果表（貼付）'!$B:$B,0),MATCH('予選ヒート2Gr-レース結果表'!K$11,'[1]予選ヒートBGr-レース結果表（貼付）'!$1:$1,0)))),"") -> 0.199 | L35: =IFERROR(IF(A35="DNS","",IF(A35="DQ","",INDEX('[1]予選ヒートBGr-レース結果表（貼付）'!$A:$Z,MATCH($B35,'[1]予選ヒートBGr-レース結果表（貼付）'!$B:$B,0),MATCH('予選ヒート2Gr-レース結果表'!L$11,'[1]予選ヒートBGr-レース結果表（貼付）'!$1:$1,0)))),"") -> 56.439 | M35: =IF(L35<1,"",IF($M$11>L35,"R","")) | P35: =IF(IFERROR(INDEX('[1]予選ヒートBGr-レース結果表（貼付）'!$A:$Z,MATCH($B35,'[1]予選ヒートBGr-レース結果表（貼付）'!$B:$B,0),MATCH(P$11,'[1]予選ヒートBGr-レース結果表（貼付）'!$1:$1,0)),"")=0,"",IFERROR(INDEX('[1]予選ヒートBGr-レース結果表（貼付）'!$A:$Z,MATCH($B35,'[1]予選ヒートBGr-レース結果表（貼付）'!$B:$B,0),MATCH(P$11,'[1]予選ヒートBGr-レース結果表（貼付）'!$1:$1,0)),"")) | Q35: =IF(P35="","",COUNTIF($P$13:P35,"<>"&"")) | R35: =IFERROR(RANK(Q35,$Q$13:$Q$51,1),"") | S35: =IF(IFERROR(INDEX('[1]予選ヒートBGr-レース結果表（貼付）'!$A:$Z,MATCH($A35,'[1]予選ヒートBGr-レース結果表（貼付）'!$A:$A,0),MATCH(S$11,'[1]予選ヒートBGr-レース結果表（貼付）'!$1:$1,0)),"")=0,"",IFERROR(INDEX('[1]予選ヒートBGr-レース結果表（貼付）'!$A:$Z,MATCH($A35,'[1]予選ヒートBGr-レース結果表（貼付）'!$A:$A,0),MATCH(S$11,'[1]予選ヒートBGr-レース結果表（貼付）'!$1:$1,0)),"")) | U35: =IF(IFERROR(INDEX('[1]予選ヒートBGr-レース結果表（貼付）'!$A:$Z,MATCH($B35,'[1]予選ヒートBGr-レース結果表（貼付）'!$B:$B,0),MATCH(U$11,'[1]予選ヒートBGr-レース結果表（貼付）'!$1:$1,0)),"")=0,"",IFERROR(INDEX('[1]予選ヒートBGr-レース結果表（貼付）'!$A:$Z,MATCH($B35,'[1]予選ヒートBGr-レース結果表（貼付）'!$B:$B,0),MATCH(U$11,'[1]予選ヒートBGr-レース結果表（貼付）'!$1:$1,0)),"")) -> 80.625
A36: =IF(OR('[1]予選ヒートBGr-レース結果表（貼付）'!A20="DNF",'[1]予選ヒートBGr-レース結果表（貼付）'!A20="DNS",'[1]予選ヒートBGr-レース結果表（貼付）'!A20="DQ"),'[1]予選ヒートBGr-レース結果表（貼付）'!A20,IF(MAX('[1]予選ヒートBGr-レース結果表（貼付）'!$A:$A)>A35,A35+1,"")) -> 19 | B36: =IFERROR(INDEX('[1]予選ヒートBGr-レース結果表（貼付）'!A20:$Z$50,MATCH($A36,'[1]予選ヒートBGr-レース結果表（貼付）'!A20:$A$50,0),MATCH('[1]公式予選（TT）AGr-結果表（印刷）'!B$11,'[1]予選ヒートBGr-レース結果表（貼付）'!$1:$1,0)),"") -> 63 | D36: =IFERROR(INDEX('[1]予選ヒートBGr-レース結果表（貼付）'!$A:$Z,MATCH($A36,'[1]予選ヒートBGr-レース結果表（貼付）'!$A:$A,0),MATCH('予選ヒート2Gr-レース結果表'!D$11,'[1]予選ヒートBGr-レース結果表（貼付）'!$1:$1,0)),"") -> 田中 響貴 | E36: =IFERROR(INDEX('[1]予選ヒートBGr-レース結果表（貼付）'!$A:$Z,MATCH($A36,'[1]予選ヒートBGr-レース結果表（貼付）'!$A:$A,0),MATCH('予選ヒート2Gr-レース結果表'!E$11,'[1]予選ヒートBGr-レース結果表（貼付）'!$1:$1,0)),"") -> ﾌﾟﾗｶﾞ/YAMAHA | F36: =IFERROR(INDEX('[1]予選ヒートBGr-レース結果表（貼付）'!$A:$Z,MATCH($A36,'[1]予選ヒートBGr-レース結果表（貼付）'!$A:$A,0),MATCH('予選ヒート2Gr-レース結果表'!F$11,'[1]予選ヒートBGr-レース結果表（貼付）'!$1:$1,0)),"") -> ﾁｰﾑぶるｰと | G36: =IFERROR(INDEX('[1]予選ヒートBGr-レース結果表（貼付）'!$A:$Z,MATCH($A36,'[1]予選ヒートBGr-レース結果表（貼付）'!$A:$A,0),MATCH('予選ヒート2Gr-レース結果表'!G$11,'[1]予選ヒートBGr-レース結果表（貼付）'!$1:$1,0)),"") -> BS | H36: =IFERROR(INDEX('[1]予選ヒートBGr-レース結果表（貼付）'!$A:$Z,MATCH($A36,'[1]予選ヒートBGr-レース結果表（貼付）'!$A:$A,0),MATCH('予選ヒート2Gr-レース結果表'!H$11,'[1]予選ヒートBGr-レース結果表（貼付）'!$1:$1,0)),"") -> 10 | I36: =IFERROR(INDEX('[1]予選ヒートBGr-レース結果表（貼付）'!$A:$Z,MATCH($A36,'[1]予選ヒートBGr-レース結果表（貼付）'!$A:$A,0),MATCH('予選ヒート2Gr-レース結果表'!I$11,'[1]予選ヒートBGr-レース結果表（貼付）'!$1:$1,0)),"") -> 0.006682419 | J36: =IFERROR(IF(A36="DNS","",IF(A36="DQ","",INDEX('[1]予選ヒートBGr-レース結果表（貼付）'!$A:$Z,MATCH($B36,'[1]予選ヒートBGr-レース結果表（貼付）'!$B:$B,0),MATCH('予選ヒート2Gr-レース結果表'!J$11,'[1]予選ヒートBGr-レース結果表（貼付）'!$1:$1,0)))),"") -> 16.627 | K36: =IFERROR(IF(A36="DNS","",IF(A36="DQ","",INDEX('[1]予選ヒートBGr-レース結果表（貼付）'!$A:$Z,MATCH($B36,'[1]予選ヒートBGr-レース結果表（貼付）'!$B:$B,0),MATCH('予選ヒート2Gr-レース結果表'!K$11,'[1]予選ヒートBGr-レース結果表（貼付）'!$1:$1,0)))),"") -> 1.525 | L36: =IFERROR(IF(A36="DNS","",IF(A36="DQ","",INDEX('[1]予選ヒートBGr-レース結果表（貼付）'!$A:$Z,MATCH($B36,'[1]予選ヒートBGr-レース結果表（貼付）'!$B:$B,0),MATCH('予選ヒート2Gr-レース結果表'!L$11,'[1]予選ヒートBGr-レース結果表（貼付）'!$1:$1,0)))),"") -> 56.788 | M36: =IF(L36<1,"",IF($M$11>L36,"R","")) | P36: =IF(IFERROR(INDEX('[1]予選ヒートBGr-レース結果表（貼付）'!$A:$Z,MATCH($B36,'[1]予選ヒートBGr-レース結果表（貼付）'!$B:$B,0),MATCH(P$11,'[1]予選ヒートBGr-レース結果表（貼付）'!$1:$1,0)),"")=0,"",IFERROR(INDEX('[1]予選ヒートBGr-レース結果表（貼付）'!$A:$Z,MATCH($B36,'[1]予選ヒートBGr-レース結果表（貼付）'!$B:$B,0),MATCH(P$11,'[1]予選ヒートBGr-レース結果表（貼付）'!$1:$1,0)),"")) | Q36: =IF(P36="","",COUNTIF($P$13:P36,"<>"&"")) | R36: =IFERROR(RANK(Q36,$Q$13:$Q$51,1),"") | S36: =IF(IFERROR(INDEX('[1]予選ヒートBGr-レース結果表（貼付）'!$A:$Z,MATCH($A36,'[1]予選ヒートBGr-レース結果表（貼付）'!$A:$A,0),MATCH(S$11,'[1]予選ヒートBGr-レース結果表（貼付）'!$1:$1,0)),"")=0,"",IFERROR(INDEX('[1]予選ヒートBGr-レース結果表（貼付）'!$A:$Z,MATCH($A36,'[1]予選ヒートBGr-レース結果表（貼付）'!$A:$A,0),MATCH(S$11,'[1]予選ヒートBGr-レース結果表（貼付）'!$1:$1,0)),"")) | U36: =IF(IFERROR(INDEX('[1]予選ヒートBGr-レース結果表（貼付）'!$A:$Z,MATCH($B36,'[1]予選ヒートBGr-レース結果表（貼付）'!$B:$B,0),MATCH(U$11,'[1]予選ヒートBGr-レース結果表（貼付）'!$1:$1,0)),"")=0,"",IFERROR(INDEX('[1]予選ヒートBGr-レース結果表（貼付）'!$A:$Z,MATCH($B36,'[1]予選ヒートBGr-レース結果表（貼付）'!$B:$B,0),MATCH(U$11,'[1]予選ヒートBGr-レース結果表（貼付）'!$1:$1,0)),"")) -> 80.13
A37: =IF(OR('[1]予選ヒートBGr-レース結果表（貼付）'!A21="DNF",'[1]予選ヒートBGr-レース結果表（貼付）'!A21="DNS",'[1]予選ヒートBGr-レース結果表（貼付）'!A21="DQ"),'[1]予選ヒートBGr-レース結果表（貼付）'!A21,IF(MAX('[1]予選ヒートBGr-レース結果表（貼付）'!$A:$A)>A36,A36+1,"")) -> 20 | B37: =IFERROR(INDEX('[1]予選ヒートBGr-レース結果表（貼付）'!A21:$Z$50,MATCH($A37,'[1]予選ヒートBGr-レース結果表（貼付）'!A21:$A$50,0),MATCH('[1]公式予選（TT）AGr-結果表（印刷）'!B$11,'[1]予選ヒートBGr-レース結果表（貼付）'!$1:$1,0)),"") -> 73 | D37: =IFERROR(INDEX('[1]予選ヒートBGr-レース結果表（貼付）'!$A:$Z,MATCH($A37,'[1]予選ヒートBGr-レース結果表（貼付）'!$A:$A,0),MATCH('予選ヒート2Gr-レース結果表'!D$11,'[1]予選ヒートBGr-レース結果表（貼付）'!$1:$1,0)),"") -> 花村 結貴 | E37: =IFERROR(INDEX('[1]予選ヒートBGr-レース結果表（貼付）'!$A:$Z,MATCH($A37,'[1]予選ヒートBGr-レース結果表（貼付）'!$A:$A,0),MATCH('予選ヒート2Gr-レース結果表'!E$11,'[1]予選ヒートBGr-レース結果表（貼付）'!$1:$1,0)),"") -> EXPRIT/YAMAHA | F37: =IFERROR(INDEX('[1]予選ヒートBGr-レース結果表（貼付）'!$A:$Z,MATCH($A37,'[1]予選ヒートBGr-レース結果表（貼付）'!$A:$A,0),MATCH('予選ヒート2Gr-レース結果表'!F$11,'[1]予選ヒートBGr-レース結果表（貼付）'!$1:$1,0)),"") -> MatsumotoRacing | G37: =IFERROR(INDEX('[1]予選ヒートBGr-レース結果表（貼付）'!$A:$Z,MATCH($A37,'[1]予選ヒートBGr-レース結果表（貼付）'!$A:$A,0),MATCH('予選ヒート2Gr-レース結果表'!G$11,'[1]予選ヒートBGr-レース結果表（貼付）'!$1:$1,0)),"") -> BS | H37: =IFERROR(INDEX('[1]予選ヒートBGr-レース結果表（貼付）'!$A:$Z,MATCH($A37,'[1]予選ヒートBGr-レース結果表（貼付）'!$A:$A,0),MATCH('予選ヒート2Gr-レース結果表'!H$11,'[1]予選ヒートBGr-レース結果表（貼付）'!$1:$1,0)),"") -> 10 | I37: =IFERROR(INDEX('[1]予選ヒートBGr-レース結果表（貼付）'!$A:$Z,MATCH($A37,'[1]予選ヒートBGr-レース結果表（貼付）'!$A:$A,0),MATCH('予選ヒート2Gr-レース結果表'!I$11,'[1]予選ヒートBGr-レース結果表（貼付）'!$1:$1,0)),"") -> 0.0067168056 | J37: =IFERROR(IF(A37="DNS","",IF(A37="DQ","",INDEX('[1]予選ヒートBGr-レース結果表（貼付）'!$A:$Z,MATCH($B37,'[1]予選ヒートBGr-レース結果表（貼付）'!$B:$B,0),MATCH('予選ヒート2Gr-レース結果表'!J$11,'[1]予選ヒートBGr-レース結果表（貼付）'!$1:$1,0)))),"") -> 19.598 | K37: =IFERROR(IF(A37="DNS","",IF(A37="DQ","",INDEX('[1]予選ヒートBGr-レース結果表（貼付）'!$A:$Z,MATCH($B37,'[1]予選ヒートBGr-レース結果表（貼付）'!$B:$B,0),MATCH('予選ヒート2Gr-レース結果表'!K$11,'[1]予選ヒートBGr-レース結果表（貼付）'!$1:$1,0)))),"") -> 2.971 | L37: =IFERROR(IF(A37="DNS","",IF(A37="DQ","",INDEX('[1]予選ヒートBGr-レース結果表（貼付）'!$A:$Z,MATCH($B37,'[1]予選ヒートBGr-レース結果表（貼付）'!$B:$B,0),MATCH('予選ヒート2Gr-レース結果表'!L$11,'[1]予選ヒートBGr-レース結果表（貼付）'!$1:$1,0)))),"") -> 56.746 | M37: =IF(L37<1,"",IF($M$11>L37,"R","")) | P37: =IF(IFERROR(INDEX('[1]予選ヒートBGr-レース結果表（貼付）'!$A:$Z,MATCH($B37,'[1]予選ヒートBGr-レース結果表（貼付）'!$B:$B,0),MATCH(P$11,'[1]予選ヒートBGr-レース結果表（貼付）'!$1:$1,0)),"")=0,"",IFERROR(INDEX('[1]予選ヒートBGr-レース結果表（貼付）'!$A:$Z,MATCH($B37,'[1]予選ヒートBGr-レース結果表（貼付）'!$B:$B,0),MATCH(P$11,'[1]予選ヒートBGr-レース結果表（貼付）'!$1:$1,0)),"")) -> 鈴鹿選手権ｼﾘｰｽﾞ特別規則 競技車両規則第60条～2)(ﾌﾛﾝﾄﾌｪｱﾘﾝｸﾞ)違反により、5秒加算とした。 | Q37: =IF(P37="","",COUNTIF($P$13:P37,"<>"&"")) -> 20 | R37: =IFERROR(RANK(Q37,$Q$13:$Q$51,1),"") -> 3 | S37: =IF(IFERROR(INDEX('[1]予選ヒートBGr-レース結果表（貼付）'!$A:$Z,MATCH($A37,'[1]予選ヒートBGr-レース結果表（貼付）'!$A:$A,0),MATCH(S$11,'[1]予選ヒートBGr-レース結果表（貼付）'!$1:$1,0)),"")=0,"",IFERROR(INDEX('[1]予選ヒートBGr-レース結果表（貼付）'!$A:$Z,MATCH($A37,'[1]予選ヒートBGr-レース結果表（貼付）'!$A:$A,0),MATCH(S$11,'[1]予選ヒートBGr-レース結果表（貼付）'!$1:$1,0)),"")) | U37: =IF(IFERROR(INDEX('[1]予選ヒートBGr-レース結果表（貼付）'!$A:$Z,MATCH($B37,'[1]予選ヒートBGr-レース結果表（貼付）'!$B:$B,0),MATCH(U$11,'[1]予選ヒートBGr-レース結果表（貼付）'!$1:$1,0)),"")=0,"",IFERROR(INDEX('[1]予選ヒートBGr-レース結果表（貼付）'!$A:$Z,MATCH($B37,'[1]予選ヒートBGr-レース結果表（貼付）'!$B:$B,0),MATCH(U$11,'[1]予選ヒートBGr-レース結果表（貼付）'!$1:$1,0)),"")) -> 80.189
A38: =IF(OR('[1]予選ヒートBGr-レース結果表（貼付）'!A22="DNF",'[1]予選ヒートBGr-レース結果表（貼付）'!A22="DNS",'[1]予選ヒートBGr-レース結果表（貼付）'!A22="DQ"),'[1]予選ヒートBGr-レース結果表（貼付）'!A22,IF(MAX('[1]予選ヒートBGr-レース結果表（貼付）'!$A:$A)>A37,A37+1,"")) -> 21 | B38: =IFERROR(INDEX('[1]予選ヒートBGr-レース結果表（貼付）'!A22:$Z$50,MATCH($A38,'[1]予選ヒートBGr-レース結果表（貼付）'!A22:$A$50,0),MATCH('[1]公式予選（TT）AGr-結果表（印刷）'!B$11,'[1]予選ヒートBGr-レース結果表（貼付）'!$1:$1,0)),"") -> 35 | D38: =IFERROR(INDEX('[1]予選ヒートBGr-レース結果表（貼付）'!$A:$Z,MATCH($A38,'[1]予選ヒートBGr-レース結果表（貼付）'!$A:$A,0),MATCH('予選ヒート2Gr-レース結果表'!D$11,'[1]予選ヒートBGr-レース結果表（貼付）'!$1:$1,0)),"") -> 西崎 航平 | E38: =IFERROR(INDEX('[1]予選ヒートBGr-レース結果表（貼付）'!$A:$Z,MATCH($A38,'[1]予選ヒートBGr-レース結果表（貼付）'!$A:$A,0),MATCH('予選ヒート2Gr-レース結果表'!E$11,'[1]予選ヒートBGr-レース結果表（貼付）'!$1:$1,0)),"") -> birelART/YAMAHA | F38: =IFERROR(INDEX('[1]予選ヒートBGr-レース結果表（貼付）'!$A:$Z,MATCH($A38,'[1]予選ヒートBGr-レース結果表（貼付）'!$A:$A,0),MATCH('予選ヒート2Gr-レース結果表'!F$11,'[1]予選ヒートBGr-レース結果表（貼付）'!$1:$1,0)),"") -> ﾍﾞﾛｰﾁｪﾓｰﾀｰｽﾎﾟｰﾂ | G38: =IFERROR(INDEX('[1]予選ヒートBGr-レース結果表（貼付）'!$A:$Z,MATCH($A38,'[1]予選ヒートBGr-レース結果表（貼付）'!$A:$A,0),MATCH('予選ヒート2Gr-レース結果表'!G$11,'[1]予選ヒートBGr-レース結果表（貼付）'!$1:$1,0)),"") -> BS | H38: =IFERROR(INDEX('[1]予選ヒートBGr-レース結果表（貼付）'!$A:$Z,MATCH($A38,'[1]予選ヒートBGr-レース結果表（貼付）'!$A:$A,0),MATCH('予選ヒート2Gr-レース結果表'!H$11,'[1]予選ヒートBGr-レース結果表（貼付）'!$1:$1,0)),"") -> 9 | I38: =IFERROR(INDEX('[1]予選ヒートBGr-レース結果表（貼付）'!$A:$Z,MATCH($A38,'[1]予選ヒートBGr-レース結果表（貼付）'!$A:$A,0),MATCH('予選ヒート2Gr-レース結果表'!I$11,'[1]予選ヒートBGr-レース結果表（貼付）'!$1:$1,0)),"") -> 0.0063324769 | J38: =IFERROR(IF(A38="DNS","",IF(A38="DQ","",INDEX('[1]予選ヒートBGr-レース結果表（貼付）'!$A:$Z,MATCH($B38,'[1]予選ヒートBGr-レース結果表（貼付）'!$B:$B,0),MATCH('予選ヒート2Gr-レース結果表'!J$11,'[1]予選ヒートBGr-レース結果表（貼付）'!$1:$1,0)))),"") -> 1 Lap | K38: =IFERROR(IF(A38="DNS","",IF(A38="DQ","",INDEX('[1]予選ヒートBGr-レース結果表（貼付）'!$A:$Z,MATCH($B38,'[1]予選ヒートBGr-レース結果表（貼付）'!$B:$B,0),MATCH('予選ヒート2Gr-レース結果表'!K$11,'[1]予選ヒートBGr-レース結果表（貼付）'!$1:$1,0)))),"") -> 1 Lap | L38: =IFERROR(IF(A38="DNS","",IF(A38="DQ","",INDEX('[1]予選ヒートBGr-レース結果表（貼付）'!$A:$Z,MATCH($B38,'[1]予選ヒートBGr-レース結果表（貼付）'!$B:$B,0),MATCH('予選ヒート2Gr-レース結果表'!L$11,'[1]予選ヒートBGr-レース結果表（貼付）'!$1:$1,0)))),"") -> 57.243 | M38: =IF(L38<1,"",IF($M$11>L38,"R","")) | P38: =IF(IFERROR(INDEX('[1]予選ヒートBGr-レース結果表（貼付）'!$A:$Z,MATCH($B38,'[1]予選ヒートBGr-レース結果表（貼付）'!$B:$B,0),MATCH(P$11,'[1]予選ヒートBGr-レース結果表（貼付）'!$1:$1,0)),"")=0,"",IFERROR(INDEX('[1]予選ヒートBGr-レース結果表（貼付）'!$A:$Z,MATCH($B38,'[1]予選ヒートBGr-レース結果表（貼付）'!$B:$B,0),MATCH(P$11,'[1]予選ヒートBGr-レース結果表（貼付）'!$1:$1,0)),"")) | Q38: =IF(P38="","",COUNTIF($P$13:P38,"<>"&"")) | R38: =IFERROR(RANK(Q38,$Q$13:$Q$51,1),"") | S38: =IF(IFERROR(INDEX('[1]予選ヒートBGr-レース結果表（貼付）'!$A:$Z,MATCH($A38,'[1]予選ヒートBGr-レース結果表（貼付）'!$A:$A,0),MATCH(S$11,'[1]予選ヒートBGr-レース結果表（貼付）'!$1:$1,0)),"")=0,"",IFERROR(INDEX('[1]予選ヒートBGr-レース結果表（貼付）'!$A:$Z,MATCH($A38,'[1]予選ヒートBGr-レース結果表（貼付）'!$A:$A,0),MATCH(S$11,'[1]予選ヒートBGr-レース結果表（貼付）'!$1:$1,0)),"")) | U38: =IF(IFERROR(INDEX('[1]予選ヒートBGr-レース結果表（貼付）'!$A:$Z,MATCH($B38,'[1]予選ヒートBGr-レース結果表（貼付）'!$B:$B,0),MATCH(U$11,'[1]予選ヒートBGr-レース結果表（貼付）'!$1:$1,0)),"")=0,"",IFERROR(INDEX('[1]予選ヒートBGr-レース結果表（貼付）'!$A:$Z,MATCH($B38,'[1]予選ヒートBGr-レース結果表（貼付）'!$B:$B,0),MATCH(U$11,'[1]予選ヒートBGr-レース結果表（貼付）'!$1:$1,0)),"")) -> 79.493
A39: =IF(OR('[1]予選ヒートBGr-レース結果表（貼付）'!A23="DNF",'[1]予選ヒートBGr-レース結果表（貼付）'!A23="DNS",'[1]予選ヒートBGr-レース結果表（貼付）'!A23="DQ"),'[1]予選ヒートBGr-レース結果表（貼付）'!A23,IF(MAX('[1]予選ヒートBGr-レース結果表（貼付）'!$A:$A)>A38,A38+1,"")) -> 22 | B39: =IFERROR(INDEX('[1]予選ヒートBGr-レース結果表（貼付）'!A23:$Z$50,MATCH($A39,'[1]予選ヒートBGr-レース結果表（貼付）'!A23:$A$50,0),MATCH('[1]公式予選（TT）AGr-結果表（印刷）'!B$11,'[1]予選ヒートBGr-レース結果表（貼付）'!$1:$1,0)),"") -> 75 | D39: =IFERROR(INDEX('[1]予選ヒートBGr-レース結果表（貼付）'!$A:$Z,MATCH($A39,'[1]予選ヒートBGr-レース結果表（貼付）'!$A:$A,0),MATCH('予選ヒート2Gr-レース結果表'!D$11,'[1]予選ヒートBGr-レース結果表（貼付）'!$1:$1,0)),"") -> MATSUSHITA MASAKI | E39: =IFERROR(INDEX('[1]予選ヒートBGr-レース結果表（貼付）'!$A:$Z,MATCH($A39,'[1]予選ヒートBGr-レース結果表（貼付）'!$A:$A,0),MATCH('予選ヒート2Gr-レース結果表'!E$11,'[1]予選ヒートBGr-レース結果表（貼付）'!$1:$1,0)),"") -> MINATO80/YAMAHA | F39: =IFERROR(INDEX('[1]予選ヒートBGr-レース結果表（貼付）'!$A:$Z,MATCH($A39,'[1]予選ヒートBGr-レース結果表（貼付）'!$A:$A,0),MATCH('予選ヒート2Gr-レース結果表'!F$11,'[1]予選ヒートBGr-レース結果表（貼付）'!$1:$1,0)),"") -> T.ｵｷﾂﾏﾂﾀﾞ Powerd by LUCE | G39: =IFERROR(INDEX('[1]予選ヒートBGr-レース結果表（貼付）'!$A:$Z,MATCH($A39,'[1]予選ヒートBGr-レース結果表（貼付）'!$A:$A,0),MATCH('予選ヒート2Gr-レース結果表'!G$11,'[1]予選ヒートBGr-レース結果表（貼付）'!$1:$1,0)),"") -> BS | H39: =IFERROR(INDEX('[1]予選ヒートBGr-レース結果表（貼付）'!$A:$Z,MATCH($A39,'[1]予選ヒートBGr-レース結果表（貼付）'!$A:$A,0),MATCH('予選ヒート2Gr-レース結果表'!H$11,'[1]予選ヒートBGr-レース結果表（貼付）'!$1:$1,0)),"") -> 1 | I39: =IFERROR(INDEX('[1]予選ヒートBGr-レース結果表（貼付）'!$A:$Z,MATCH($A39,'[1]予選ヒートBGr-レース結果表（貼付）'!$A:$A,0),MATCH('予選ヒート2Gr-レース結果表'!I$11,'[1]予選ヒートBGr-レース結果表（貼付）'!$1:$1,0)),"") -> 59.576 | J39: =IFERROR(IF(A39="DNS","",IF(A39="DQ","",INDEX('[1]予選ヒートBGr-レース結果表（貼付）'!$A:$Z,MATCH($B39,'[1]予選ヒートBGr-レース結果表（貼付）'!$B:$B,0),MATCH('予選ヒート2Gr-レース結果表'!J$11,'[1]予選ヒートBGr-レース結果表（貼付）'!$1:$1,0)))),"") -> 9 Laps | K39: =IFERROR(IF(A39="DNS","",IF(A39="DQ","",INDEX('[1]予選ヒートBGr-レース結果表（貼付）'!$A:$Z,MATCH($B39,'[1]予選ヒートBGr-レース結果表（貼付）'!$B:$B,0),MATCH('予選ヒート2Gr-レース結果表'!K$11,'[1]予選ヒートBGr-レース結果表（貼付）'!$1:$1,0)))),"") -> 8 Laps | L39: =IFERROR(IF(A39="DNS","",IF(A39="DQ","",INDEX('[1]予選ヒートBGr-レース結果表（貼付）'!$A:$Z,MATCH($B39,'[1]予選ヒートBGr-レース結果表（貼付）'!$B:$B,0),MATCH('予選ヒート2Gr-レース結果表'!L$11,'[1]予選ヒートBGr-レース結果表（貼付）'!$1:$1,0)))),"") -> 0 | M39: =IF(L39<1,"",IF($M$11>L39,"R","")) | P39: =IF(IFERROR(INDEX('[1]予選ヒートBGr-レース結果表（貼付）'!$A:$Z,MATCH($B39,'[1]予選ヒートBGr-レース結果表（貼付）'!$B:$B,0),MATCH(P$11,'[1]予選ヒートBGr-レース結果表（貼付）'!$1:$1,0)),"")=0,"",IFERROR(INDEX('[1]予選ヒートBGr-レース結果表（貼付）'!$A:$Z,MATCH($B39,'[1]予選ヒートBGr-レース結果表（貼付）'!$B:$B,0),MATCH(P$11,'[1]予選ヒートBGr-レース結果表（貼付）'!$1:$1,0)),"")) | Q39: =IF(P39="","",COUNTIF($P$13:P39,"<>"&"")) | R39: =IFERROR(RANK(Q39,$Q$13:$Q$51,1),"") | S39: =IF(IFERROR(INDEX('[1]予選ヒートBGr-レース結果表（貼付）'!$A:$Z,MATCH($A39,'[1]予選ヒートBGr-レース結果表（貼付）'!$A:$A,0),MATCH(S$11,'[1]予選ヒートBGr-レース結果表（貼付）'!$1:$1,0)),"")=0,"",IFERROR(INDEX('[1]予選ヒートBGr-レース結果表（貼付）'!$A:$Z,MATCH($A39,'[1]予選ヒートBGr-レース結果表（貼付）'!$A:$A,0),MATCH(S$11,'[1]予選ヒートBGr-レース結果表（貼付）'!$1:$1,0)),"")) | U39: =IF(IFERROR(INDEX('[1]予選ヒートBGr-レース結果表（貼付）'!$A:$Z,MATCH($B39,'[1]予選ヒートBGr-レース結果表（貼付）'!$B:$B,0),MATCH(U$11,'[1]予選ヒートBGr-レース結果表（貼付）'!$1:$1,0)),"")=0,"",IFERROR(INDEX('[1]予選ヒートBGr-レース結果表（貼付）'!$A:$Z,MATCH($B39,'[1]予選ヒートBGr-レース結果表（貼付）'!$B:$B,0),MATCH(U$11,'[1]予選ヒートBGr-レース結果表（貼付）'!$1:$1,0)),"")) -> -
A40: =IF(OR('[1]予選ヒートBGr-レース結果表（貼付）'!A24="DNF",'[1]予選ヒートBGr-レース結果表（貼付）'!A24="DNS",'[1]予選ヒートBGr-レース結果表（貼付）'!A24="DQ"),'[1]予選ヒートBGr-レース結果表（貼付）'!A24,IF(MAX('[1]予選ヒートBGr-レース結果表（貼付）'!$A:$A)>A39,A39+1,"")) | B40: =IFERROR(INDEX('[1]予選ヒートBGr-レース結果表（貼付）'!A24:$Z$50,MATCH($A40,'[1]予選ヒートBGr-レース結果表（貼付）'!A24:$A$50,0),MATCH('[1]公式予選（TT）AGr-結果表（印刷）'!B$11,'[1]予選ヒートBGr-レース結果表（貼付）'!$1:$1,0)),"") | D40: =IFERROR(INDEX('[1]予選ヒートBGr-レース結果表（貼付）'!$A:$Z,MATCH($A40,'[1]予選ヒートBGr-レース結果表（貼付）'!$A:$A,0),MATCH('予選ヒート2Gr-レース結果表'!D$11,'[1]予選ヒートBGr-レース結果表（貼付）'!$1:$1,0)),"") | E40: =IFERROR(INDEX('[1]予選ヒートBGr-レース結果表（貼付）'!$A:$Z,MATCH($A40,'[1]予選ヒートBGr-レース結果表（貼付）'!$A:$A,0),MATCH('予選ヒート2Gr-レース結果表'!E$11,'[1]予選ヒートBGr-レース結果表（貼付）'!$1:$1,0)),"") | F40: =IFERROR(INDEX('[1]予選ヒートBGr-レース結果表（貼付）'!$A:$Z,MATCH($A40,'[1]予選ヒートBGr-レース結果表（貼付）'!$A:$A,0),MATCH('予選ヒート2Gr-レース結果表'!F$11,'[1]予選ヒートBGr-レース結果表（貼付）'!$1:$1,0)),"") | G40: =IFERROR(INDEX('[1]予選ヒートBGr-レース結果表（貼付）'!$A:$Z,MATCH($A40,'[1]予選ヒートBGr-レース結果表（貼付）'!$A:$A,0),MATCH('予選ヒート2Gr-レース結果表'!G$11,'[1]予選ヒートBGr-レース結果表（貼付）'!$1:$1,0)),"") | H40: =IFERROR(INDEX('[1]予選ヒートBGr-レース結果表（貼付）'!$A:$Z,MATCH($A40,'[1]予選ヒートBGr-レース結果表（貼付）'!$A:$A,0),MATCH('予選ヒート2Gr-レース結果表'!H$11,'[1]予選ヒートBGr-レース結果表（貼付）'!$1:$1,0)),"") | I40: =IFERROR(INDEX('[1]予選ヒートBGr-レース結果表（貼付）'!$A:$Z,MATCH($A40,'[1]予選ヒートBGr-レース結果表（貼付）'!$A:$A,0),MATCH('予選ヒート2Gr-レース結果表'!I$11,'[1]予選ヒートBGr-レース結果表（貼付）'!$1:$1,0)),"") | J40: =IFERROR(IF(A40="DNS","",IF(A40="DQ","",INDEX('[1]予選ヒートBGr-レース結果表（貼付）'!$A:$Z,MATCH($B40,'[1]予選ヒートBGr-レース結果表（貼付）'!$B:$B,0),MATCH('予選ヒート2Gr-レース結果表'!J$11,'[1]予選ヒートBGr-レース結果表（貼付）'!$1:$1,0)))),"") | K40: =IFERROR(IF(A40="DNS","",IF(A40="DQ","",INDEX('[1]予選ヒートBGr-レース結果表（貼付）'!$A:$Z,MATCH($B40,'[1]予選ヒートBGr-レース結果表（貼付）'!$B:$B,0),MATCH('予選ヒート2Gr-レース結果表'!K$11,'[1]予選ヒートBGr-レース結果表（貼付）'!$1:$1,0)))),"") | L40: =IFERROR(IF(A40="DNS","",IF(A40="DQ","",INDEX('[1]予選ヒートBGr-レース結果表（貼付）'!$A:$Z,MATCH($B40,'[1]予選ヒートBGr-レース結果表（貼付）'!$B:$B,0),MATCH('予選ヒート2Gr-レース結果表'!L$11,'[1]予選ヒートBGr-レース結果表（貼付）'!$1:$1,0)))),"") | M40: =IF(L40<1,"",IF($M$11>L40,"R","")) | P40: =IF(IFERROR(INDEX('[1]予選ヒートBGr-レース結果表（貼付）'!$A:$Z,MATCH($B40,'[1]予選ヒートBGr-レース結果表（貼付）'!$B:$B,0),MATCH(P$11,'[1]予選ヒートBGr-レース結果表（貼付）'!$1:$1,0)),"")=0,"",IFERROR(INDEX('[1]予選ヒートBGr-レース結果表（貼付）'!$A:$Z,MATCH($B40,'[1]予選ヒートBGr-レース結果表（貼付）'!$B:$B,0),MATCH(P$11,'[1]予選ヒートBGr-レース結果表（貼付）'!$1:$1,0)),"")) | Q40: =IF(P40="","",COUNTIF($P$13:P40,"<>"&"")) | R40: =IFERROR(RANK(Q40,$Q$13:$Q$51,1),"") | S40: =IF(IFERROR(INDEX('[1]予選ヒートBGr-レース結果表（貼付）'!$A:$Z,MATCH($A40,'[1]予選ヒートBGr-レース結果表（貼付）'!$A:$A,0),MATCH(S$11,'[1]予選ヒートBGr-レース結果表（貼付）'!$1:$1,0)),"")=0,"",IFERROR(INDEX('[1]予選ヒートBGr-レース結果表（貼付）'!$A:$Z,MATCH($A40,'[1]予選ヒートBGr-レース結果表（貼付）'!$A:$A,0),MATCH(S$11,'[1]予選ヒートBGr-レース結果表（貼付）'!$1:$1,0)),"")) | U40: =IF(IFERROR(INDEX('[1]予選ヒートBGr-レース結果表（貼付）'!$A:$Z,MATCH($B40,'[1]予選ヒートBGr-レース結果表（貼付）'!$B:$B,0),MATCH(U$11,'[1]予選ヒートBGr-レース結果表（貼付）'!$1:$1,0)),"")=0,"",IFERROR(INDEX('[1]予選ヒートBGr-レース結果表（貼付）'!$A:$Z,MATCH($B40,'[1]予選ヒートBGr-レース結果表（貼付）'!$B:$B,0),MATCH(U$11,'[1]予選ヒートBGr-レース結果表（貼付）'!$1:$1,0)),""))
A41: =IF(OR('[1]予選ヒートBGr-レース結果表（貼付）'!A25="DNF",'[1]予選ヒートBGr-レース結果表（貼付）'!A25="DNS",'[1]予選ヒートBGr-レース結果表（貼付）'!A25="DQ"),'[1]予選ヒートBGr-レース結果表（貼付）'!A25,IF(MAX('[1]予選ヒートBGr-レース結果表（貼付）'!$A:$A)>A40,A40+1,"")) | B41: =IFERROR(INDEX('[1]予選ヒートBGr-レース結果表（貼付）'!A25:$Z$50,MATCH($A41,'[1]予選ヒートBGr-レース結果表（貼付）'!A25:$A$50,0),MATCH('[1]公式予選（TT）AGr-結果表（印刷）'!B$11,'[1]予選ヒートBGr-レース結果表（貼付）'!$1:$1,0)),"") | D41: =IFERROR(INDEX('[1]予選ヒートBGr-レース結果表（貼付）'!$A:$Z,MATCH($A41,'[1]予選ヒートBGr-レース結果表（貼付）'!$A:$A,0),MATCH('予選ヒート2Gr-レース結果表'!D$11,'[1]予選ヒートBGr-レース結果表（貼付）'!$1:$1,0)),"") | E41: =IFERROR(INDEX('[1]予選ヒートBGr-レース結果表（貼付）'!$A:$Z,MATCH($A41,'[1]予選ヒートBGr-レース結果表（貼付）'!$A:$A,0),MATCH('予選ヒート2Gr-レース結果表'!E$11,'[1]予選ヒートBGr-レース結果表（貼付）'!$1:$1,0)),"") | F41: =IFERROR(INDEX('[1]予選ヒートBGr-レース結果表（貼付）'!$A:$Z,MATCH($A41,'[1]予選ヒートBGr-レース結果表（貼付）'!$A:$A,0),MATCH('予選ヒート2Gr-レース結果表'!F$11,'[1]予選ヒートBGr-レース結果表（貼付）'!$1:$1,0)),"") | G41: =IFERROR(INDEX('[1]予選ヒートBGr-レース結果表（貼付）'!$A:$Z,MATCH($A41,'[1]予選ヒートBGr-レース結果表（貼付）'!$A:$A,0),MATCH('予選ヒート2Gr-レース結果表'!G$11,'[1]予選ヒートBGr-レース結果表（貼付）'!$1:$1,0)),"") | H41: =IFERROR(INDEX('[1]予選ヒートBGr-レース結果表（貼付）'!$A:$Z,MATCH($A41,'[1]予選ヒートBGr-レース結果表（貼付）'!$A:$A,0),MATCH('予選ヒート2Gr-レース結果表'!H$11,'[1]予選ヒートBGr-レース結果表（貼付）'!$1:$1,0)),"") | I41: =IFERROR(INDEX('[1]予選ヒートBGr-レース結果表（貼付）'!$A:$Z,MATCH($A41,'[1]予選ヒートBGr-レース結果表（貼付）'!$A:$A,0),MATCH('予選ヒート2Gr-レース結果表'!I$11,'[1]予選ヒートBGr-レース結果表（貼付）'!$1:$1,0)),"") | J41: =IFERROR(IF(A41="DNS","",IF(A41="DQ","",INDEX('[1]予選ヒートBGr-レース結果表（貼付）'!$A:$Z,MATCH($B41,'[1]予選ヒートBGr-レース結果表（貼付）'!$B:$B,0),MATCH('予選ヒート2Gr-レース結果表'!J$11,'[1]予選ヒートBGr-レース結果表（貼付）'!$1:$1,0)))),"") | K41: =IFERROR(IF(A41="DNS","",IF(A41="DQ","",INDEX('[1]予選ヒートBGr-レース結果表（貼付）'!$A:$Z,MATCH($B41,'[1]予選ヒートBGr-レース結果表（貼付）'!$B:$B,0),MATCH('予選ヒート2Gr-レース結果表'!K$11,'[1]予選ヒートBGr-レース結果表（貼付）'!$1:$1,0)))),"") | L41: =IFERROR(IF(A41="DNS","",IF(A41="DQ","",INDEX('[1]予選ヒートBGr-レース結果表（貼付）'!$A:$Z,MATCH($B41,'[1]予選ヒートBGr-レース結果表（貼付）'!$B:$B,0),MATCH('予選ヒート2Gr-レース結果表'!L$11,'[1]予選ヒートBGr-レース結果表（貼付）'!$1:$1,0)))),"") | M41: =IF(L41<1,"",IF($M$11>L41,"R","")) | P41: =IF(IFERROR(INDEX('[1]予選ヒートBGr-レース結果表（貼付）'!$A:$Z,MATCH($B41,'[1]予選ヒートBGr-レース結果表（貼付）'!$B:$B,0),MATCH(P$11,'[1]予選ヒートBGr-レース結果表（貼付）'!$1:$1,0)),"")=0,"",IFERROR(INDEX('[1]予選ヒートBGr-レース結果表（貼付）'!$A:$Z,MATCH($B41,'[1]予選ヒートBGr-レース結果表（貼付）'!$B:$B,0),MATCH(P$11,'[1]予選ヒートBGr-レース結果表（貼付）'!$1:$1,0)),"")) | Q41: =IF(P41="","",COUNTIF($P$13:P41,"<>"&"")) | R41: =IFERROR(RANK(Q41,$Q$13:$Q$51,1),"") | S41: =IF(IFERROR(INDEX('[1]予選ヒートBGr-レース結果表（貼付）'!$A:$Z,MATCH($A41,'[1]予選ヒートBGr-レース結果表（貼付）'!$A:$A,0),MATCH(S$11,'[1]予選ヒートBGr-レース結果表（貼付）'!$1:$1,0)),"")=0,"",IFERROR(INDEX('[1]予選ヒートBGr-レース結果表（貼付）'!$A:$Z,MATCH($A41,'[1]予選ヒートBGr-レース結果表（貼付）'!$A:$A,0),MATCH(S$11,'[1]予選ヒートBGr-レース結果表（貼付）'!$1:$1,0)),"")) | U41: =IF(IFERROR(INDEX('[1]予選ヒートBGr-レース結果表（貼付）'!$A:$Z,MATCH($B41,'[1]予選ヒートBGr-レース結果表（貼付）'!$B:$B,0),MATCH(U$11,'[1]予選ヒートBGr-レース結果表（貼付）'!$1:$1,0)),"")=0,"",IFERROR(INDEX('[1]予選ヒートBGr-レース結果表（貼付）'!$A:$Z,MATCH($B41,'[1]予選ヒートBGr-レース結果表（貼付）'!$B:$B,0),MATCH(U$11,'[1]予選ヒートBGr-レース結果表（貼付）'!$1:$1,0)),""))
A42: =IF(OR('[1]予選ヒートBGr-レース結果表（貼付）'!A26="DNF",'[1]予選ヒートBGr-レース結果表（貼付）'!A26="DNS",'[1]予選ヒートBGr-レース結果表（貼付）'!A26="DQ"),'[1]予選ヒートBGr-レース結果表（貼付）'!A26,IF(MAX('[1]予選ヒートBGr-レース結果表（貼付）'!$A:$A)>A41,A41+1,"")) | B42: =IFERROR(INDEX('[1]予選ヒートBGr-レース結果表（貼付）'!A26:$Z$50,MATCH($A42,'[1]予選ヒートBGr-レース結果表（貼付）'!A26:$A$50,0),MATCH('[1]公式予選（TT）AGr-結果表（印刷）'!B$11,'[1]予選ヒートBGr-レース結果表（貼付）'!$1:$1,0)),"") | D42: =IFERROR(INDEX('[1]予選ヒートBGr-レース結果表（貼付）'!$A:$Z,MATCH($A42,'[1]予選ヒートBGr-レース結果表（貼付）'!$A:$A,0),MATCH('予選ヒート2Gr-レース結果表'!D$11,'[1]予選ヒートBGr-レース結果表（貼付）'!$1:$1,0)),"") | E42: =IFERROR(INDEX('[1]予選ヒートBGr-レース結果表（貼付）'!$A:$Z,MATCH($A42,'[1]予選ヒートBGr-レース結果表（貼付）'!$A:$A,0),MATCH('予選ヒート2Gr-レース結果表'!E$11,'[1]予選ヒートBGr-レース結果表（貼付）'!$1:$1,0)),"") | F42: =IFERROR(INDEX('[1]予選ヒートBGr-レース結果表（貼付）'!$A:$Z,MATCH($A42,'[1]予選ヒートBGr-レース結果表（貼付）'!$A:$A,0),MATCH('予選ヒート2Gr-レース結果表'!F$11,'[1]予選ヒートBGr-レース結果表（貼付）'!$1:$1,0)),"") | G42: =IFERROR(INDEX('[1]予選ヒートBGr-レース結果表（貼付）'!$A:$Z,MATCH($A42,'[1]予選ヒートBGr-レース結果表（貼付）'!$A:$A,0),MATCH('予選ヒート2Gr-レース結果表'!G$11,'[1]予選ヒートBGr-レース結果表（貼付）'!$1:$1,0)),"") | H42: =IFERROR(INDEX('[1]予選ヒートBGr-レース結果表（貼付）'!$A:$Z,MATCH($A42,'[1]予選ヒートBGr-レース結果表（貼付）'!$A:$A,0),MATCH('予選ヒート2Gr-レース結果表'!H$11,'[1]予選ヒートBGr-レース結果表（貼付）'!$1:$1,0)),"") | I42: =IFERROR(INDEX('[1]予選ヒートBGr-レース結果表（貼付）'!$A:$Z,MATCH($A42,'[1]予選ヒートBGr-レース結果表（貼付）'!$A:$A,0),MATCH('予選ヒート2Gr-レース結果表'!I$11,'[1]予選ヒートBGr-レース結果表（貼付）'!$1:$1,0)),"") | J42: =IFERROR(IF(A42="DNS","",IF(A42="DQ","",INDEX('[1]予選ヒートBGr-レース結果表（貼付）'!$A:$Z,MATCH($B42,'[1]予選ヒートBGr-レース結果表（貼付）'!$B:$B,0),MATCH('予選ヒート2Gr-レース結果表'!J$11,'[1]予選ヒートBGr-レース結果表（貼付）'!$1:$1,0)))),"") | K42: =IFERROR(IF(A42="DNS","",IF(A42="DQ","",INDEX('[1]予選ヒートBGr-レース結果表（貼付）'!$A:$Z,MATCH($B42,'[1]予選ヒートBGr-レース結果表（貼付）'!$B:$B,0),MATCH('予選ヒート2Gr-レース結果表'!K$11,'[1]予選ヒートBGr-レース結果表（貼付）'!$1:$1,0)))),"") | L42: =IFERROR(IF(A42="DNS","",IF(A42="DQ","",INDEX('[1]予選ヒートBGr-レース結果表（貼付）'!$A:$Z,MATCH($B42,'[1]予選ヒートBGr-レース結果表（貼付）'!$B:$B,0),MATCH('予選ヒート2Gr-レース結果表'!L$11,'[1]予選ヒートBGr-レース結果表（貼付）'!$1:$1,0)))),"") | M42: =IF(L42<1,"",IF($M$11>L42,"R","")) | P42: =IF(IFERROR(INDEX('[1]予選ヒートBGr-レース結果表（貼付）'!$A:$Z,MATCH($B42,'[1]予選ヒートBGr-レース結果表（貼付）'!$B:$B,0),MATCH(P$11,'[1]予選ヒートBGr-レース結果表（貼付）'!$1:$1,0)),"")=0,"",IFERROR(INDEX('[1]予選ヒートBGr-レース結果表（貼付）'!$A:$Z,MATCH($B42,'[1]予選ヒートBGr-レース結果表（貼付）'!$B:$B,0),MATCH(P$11,'[1]予選ヒートBGr-レース結果表（貼付）'!$1:$1,0)),"")) | Q42: =IF(P42="","",COUNTIF($P$13:P42,"<>"&"")) | R42: =IFERROR(RANK(Q42,$Q$13:$Q$51,1),"") | S42: =IF(IFERROR(INDEX('[1]予選ヒートBGr-レース結果表（貼付）'!$A:$Z,MATCH($A42,'[1]予選ヒートBGr-レース結果表（貼付）'!$A:$A,0),MATCH(S$11,'[1]予選ヒートBGr-レース結果表（貼付）'!$1:$1,0)),"")=0,"",IFERROR(INDEX('[1]予選ヒートBGr-レース結果表（貼付）'!$A:$Z,MATCH($A42,'[1]予選ヒートBGr-レース結果表（貼付）'!$A:$A,0),MATCH(S$11,'[1]予選ヒートBGr-レース結果表（貼付）'!$1:$1,0)),"")) | U42: =IF(IFERROR(INDEX('[1]予選ヒートBGr-レース結果表（貼付）'!$A:$Z,MATCH($B42,'[1]予選ヒートBGr-レース結果表（貼付）'!$B:$B,0),MATCH(U$11,'[1]予選ヒートBGr-レース結果表（貼付）'!$1:$1,0)),"")=0,"",IFERROR(INDEX('[1]予選ヒートBGr-レース結果表（貼付）'!$A:$Z,MATCH($B42,'[1]予選ヒートBGr-レース結果表（貼付）'!$B:$B,0),MATCH(U$11,'[1]予選ヒートBGr-レース結果表（貼付）'!$1:$1,0)),""))
A43: =IF(OR('[1]予選ヒートBGr-レース結果表（貼付）'!A27="DNF",'[1]予選ヒートBGr-レース結果表（貼付）'!A27="DNS",'[1]予選ヒートBGr-レース結果表（貼付）'!A27="DQ"),'[1]予選ヒートBGr-レース結果表（貼付）'!A27,IF(MAX('[1]予選ヒートBGr-レース結果表（貼付）'!$A:$A)>A42,A42+1,"")) | B43: =IFERROR(INDEX('[1]予選ヒートBGr-レース結果表（貼付）'!A27:$Z$50,MATCH($A43,'[1]予選ヒートBGr-レース結果表（貼付）'!A27:$A$50,0),MATCH('[1]公式予選（TT）AGr-結果表（印刷）'!B$11,'[1]予選ヒートBGr-レース結果表（貼付）'!$1:$1,0)),"") | D43: =IFERROR(INDEX('[1]予選ヒートBGr-レース結果表（貼付）'!$A:$Z,MATCH($A43,'[1]予選ヒートBGr-レース結果表（貼付）'!$A:$A,0),MATCH('予選ヒート2Gr-レース結果表'!D$11,'[1]予選ヒートBGr-レース結果表（貼付）'!$1:$1,0)),"") | E43: =IFERROR(INDEX('[1]予選ヒートBGr-レース結果表（貼付）'!$A:$Z,MATCH($A43,'[1]予選ヒートBGr-レース結果表（貼付）'!$A:$A,0),MATCH('予選ヒート2Gr-レース結果表'!E$11,'[1]予選ヒートBGr-レース結果表（貼付）'!$1:$1,0)),"") | F43: =IFERROR(INDEX('[1]予選ヒートBGr-レース結果表（貼付）'!$A:$Z,MATCH($A43,'[1]予選ヒートBGr-レース結果表（貼付）'!$A:$A,0),MATCH('予選ヒート2Gr-レース結果表'!F$11,'[1]予選ヒートBGr-レース結果表（貼付）'!$1:$1,0)),"") | G43: =IFERROR(INDEX('[1]予選ヒートBGr-レース結果表（貼付）'!$A:$Z,MATCH($A43,'[1]予選ヒートBGr-レース結果表（貼付）'!$A:$A,0),MATCH('予選ヒート2Gr-レース結果表'!G$11,'[1]予選ヒートBGr-レース結果表（貼付）'!$1:$1,0)),"") | H43: =IFERROR(INDEX('[1]予選ヒートBGr-レース結果表（貼付）'!$A:$Z,MATCH($A43,'[1]予選ヒートBGr-レース結果表（貼付）'!$A:$A,0),MATCH('予選ヒート2Gr-レース結果表'!H$11,'[1]予選ヒートBGr-レース結果表（貼付）'!$1:$1,0)),"") | I43: =IFERROR(INDEX('[1]予選ヒートBGr-レース結果表（貼付）'!$A:$Z,MATCH($A43,'[1]予選ヒートBGr-レース結果表（貼付）'!$A:$A,0),MATCH('予選ヒート2Gr-レース結果表'!I$11,'[1]予選ヒートBGr-レース結果表（貼付）'!$1:$1,0)),"") | J43: =IFERROR(IF(A43="DNS","",IF(A43="DQ","",INDEX('[1]予選ヒートBGr-レース結果表（貼付）'!$A:$Z,MATCH($B43,'[1]予選ヒートBGr-レース結果表（貼付）'!$B:$B,0),MATCH('予選ヒート2Gr-レース結果表'!J$11,'[1]予選ヒートBGr-レース結果表（貼付）'!$1:$1,0)))),"") | K43: =IFERROR(IF(A43="DNS","",IF(A43="DQ","",INDEX('[1]予選ヒートBGr-レース結果表（貼付）'!$A:$Z,MATCH($B43,'[1]予選ヒートBGr-レース結果表（貼付）'!$B:$B,0),MATCH('予選ヒート2Gr-レース結果表'!K$11,'[1]予選ヒートBGr-レース結果表（貼付）'!$1:$1,0)))),"") | L43: =IFERROR(IF(A43="DNS","",IF(A43="DQ","",INDEX('[1]予選ヒートBGr-レース結果表（貼付）'!$A:$Z,MATCH($B43,'[1]予選ヒートBGr-レース結果表（貼付）'!$B:$B,0),MATCH('予選ヒート2Gr-レース結果表'!L$11,'[1]予選ヒートBGr-レース結果表（貼付）'!$1:$1,0)))),"") | M43: =IF(L43<1,"",IF($M$11>L43,"R","")) | P43: =IF(IFERROR(INDEX('[1]予選ヒートBGr-レース結果表（貼付）'!$A:$Z,MATCH($B43,'[1]予選ヒートBGr-レース結果表（貼付）'!$B:$B,0),MATCH(P$11,'[1]予選ヒートBGr-レース結果表（貼付）'!$1:$1,0)),"")=0,"",IFERROR(INDEX('[1]予選ヒートBGr-レース結果表（貼付）'!$A:$Z,MATCH($B43,'[1]予選ヒートBGr-レース結果表（貼付）'!$B:$B,0),MATCH(P$11,'[1]予選ヒートBGr-レース結果表（貼付）'!$1:$1,0)),"")) | Q43: =IF(P43="","",COUNTIF($P$13:P43,"<>"&"")) | R43: =IFERROR(RANK(Q43,$Q$13:$Q$51,1),"") | S43: =IF(IFERROR(INDEX('[1]予選ヒートBGr-レース結果表（貼付）'!$A:$Z,MATCH($A43,'[1]予選ヒートBGr-レース結果表（貼付）'!$A:$A,0),MATCH(S$11,'[1]予選ヒートBGr-レース結果表（貼付）'!$1:$1,0)),"")=0,"",IFERROR(INDEX('[1]予選ヒートBGr-レース結果表（貼付）'!$A:$Z,MATCH($A43,'[1]予選ヒートBGr-レース結果表（貼付）'!$A:$A,0),MATCH(S$11,'[1]予選ヒートBGr-レース結果表（貼付）'!$1:$1,0)),"")) | U43: =IF(IFERROR(INDEX('[1]予選ヒートBGr-レース結果表（貼付）'!$A:$Z,MATCH($B43,'[1]予選ヒートBGr-レース結果表（貼付）'!$B:$B,0),MATCH(U$11,'[1]予選ヒートBGr-レース結果表（貼付）'!$1:$1,0)),"")=0,"",IFERROR(INDEX('[1]予選ヒートBGr-レース結果表（貼付）'!$A:$Z,MATCH($B43,'[1]予選ヒートBGr-レース結果表（貼付）'!$B:$B,0),MATCH(U$11,'[1]予選ヒートBGr-レース結果表（貼付）'!$1:$1,0)),""))
A44: =IF(OR('[1]予選ヒートBGr-レース結果表（貼付）'!A28="DNF",'[1]予選ヒートBGr-レース結果表（貼付）'!A28="DNS",'[1]予選ヒートBGr-レース結果表（貼付）'!A28="DQ"),'[1]予選ヒートBGr-レース結果表（貼付）'!A28,IF(MAX('[1]予選ヒートBGr-レース結果表（貼付）'!$A:$A)>A43,A43+1,"")) | B44: =IFERROR(INDEX('[1]予選ヒートBGr-レース結果表（貼付）'!A28:$Z$50,MATCH($A44,'[1]予選ヒートBGr-レース結果表（貼付）'!A28:$A$50,0),MATCH('[1]公式予選（TT）AGr-結果表（印刷）'!B$11,'[1]予選ヒートBGr-レース結果表（貼付）'!$1:$1,0)),"") | D44: =IFERROR(INDEX('[1]予選ヒートBGr-レース結果表（貼付）'!$A:$Z,MATCH($A44,'[1]予選ヒートBGr-レース結果表（貼付）'!$A:$A,0),MATCH('予選ヒート2Gr-レース結果表'!D$11,'[1]予選ヒートBGr-レース結果表（貼付）'!$1:$1,0)),"") | E44: =IFERROR(INDEX('[1]予選ヒートBGr-レース結果表（貼付）'!$A:$Z,MATCH($A44,'[1]予選ヒートBGr-レース結果表（貼付）'!$A:$A,0),MATCH('予選ヒート2Gr-レース結果表'!E$11,'[1]予選ヒートBGr-レース結果表（貼付）'!$1:$1,0)),"") | F44: =IFERROR(INDEX('[1]予選ヒートBGr-レース結果表（貼付）'!$A:$Z,MATCH($A44,'[1]予選ヒートBGr-レース結果表（貼付）'!$A:$A,0),MATCH('予選ヒート2Gr-レース結果表'!F$11,'[1]予選ヒートBGr-レース結果表（貼付）'!$1:$1,0)),"") | G44: =IFERROR(INDEX('[1]予選ヒートBGr-レース結果表（貼付）'!$A:$Z,MATCH($A44,'[1]予選ヒートBGr-レース結果表（貼付）'!$A:$A,0),MATCH('予選ヒート2Gr-レース結果表'!G$11,'[1]予選ヒートBGr-レース結果表（貼付）'!$1:$1,0)),"") | H44: =IFERROR(INDEX('[1]予選ヒートBGr-レース結果表（貼付）'!$A:$Z,MATCH($A44,'[1]予選ヒートBGr-レース結果表（貼付）'!$A:$A,0),MATCH('予選ヒート2Gr-レース結果表'!H$11,'[1]予選ヒートBGr-レース結果表（貼付）'!$1:$1,0)),"") | I44: =IFERROR(INDEX('[1]予選ヒートBGr-レース結果表（貼付）'!$A:$Z,MATCH($A44,'[1]予選ヒートBGr-レース結果表（貼付）'!$A:$A,0),MATCH('予選ヒート2Gr-レース結果表'!I$11,'[1]予選ヒートBGr-レース結果表（貼付）'!$1:$1,0)),"") | J44: =IFERROR(IF(A44="DNS","",IF(A44="DQ","",INDEX('[1]予選ヒートBGr-レース結果表（貼付）'!$A:$Z,MATCH($B44,'[1]予選ヒートBGr-レース結果表（貼付）'!$B:$B,0),MATCH('予選ヒート2Gr-レース結果表'!J$11,'[1]予選ヒートBGr-レース結果表（貼付）'!$1:$1,0)))),"") | K44: =IFERROR(IF(A44="DNS","",IF(A44="DQ","",INDEX('[1]予選ヒートBGr-レース結果表（貼付）'!$A:$Z,MATCH($B44,'[1]予選ヒートBGr-レース結果表（貼付）'!$B:$B,0),MATCH('予選ヒート2Gr-レース結果表'!K$11,'[1]予選ヒートBGr-レース結果表（貼付）'!$1:$1,0)))),"") | L44: =IFERROR(IF(A44="DNS","",IF(A44="DQ","",INDEX('[1]予選ヒートBGr-レース結果表（貼付）'!$A:$Z,MATCH($B44,'[1]予選ヒートBGr-レース結果表（貼付）'!$B:$B,0),MATCH('予選ヒート2Gr-レース結果表'!L$11,'[1]予選ヒートBGr-レース結果表（貼付）'!$1:$1,0)))),"") | M44: =IF(L44<1,"",IF($M$11>L44,"R","")) | P44: =IF(IFERROR(INDEX('[1]予選ヒートBGr-レース結果表（貼付）'!$A:$Z,MATCH($B44,'[1]予選ヒートBGr-レース結果表（貼付）'!$B:$B,0),MATCH(P$11,'[1]予選ヒートBGr-レース結果表（貼付）'!$1:$1,0)),"")=0,"",IFERROR(INDEX('[1]予選ヒートBGr-レース結果表（貼付）'!$A:$Z,MATCH($B44,'[1]予選ヒートBGr-レース結果表（貼付）'!$B:$B,0),MATCH(P$11,'[1]予選ヒートBGr-レース結果表（貼付）'!$1:$1,0)),"")) | Q44: =IF(P44="","",COUNTIF($P$13:P44,"<>"&"")) | R44: =IFERROR(RANK(Q44,$Q$13:$Q$51,1),"") | S44: =IF(IFERROR(INDEX('[1]予選ヒートBGr-レース結果表（貼付）'!$A:$Z,MATCH($A44,'[1]予選ヒートBGr-レース結果表（貼付）'!$A:$A,0),MATCH(S$11,'[1]予選ヒートBGr-レース結果表（貼付）'!$1:$1,0)),"")=0,"",IFERROR(INDEX('[1]予選ヒートBGr-レース結果表（貼付）'!$A:$Z,MATCH($A44,'[1]予選ヒートBGr-レース結果表（貼付）'!$A:$A,0),MATCH(S$11,'[1]予選ヒートBGr-レース結果表（貼付）'!$1:$1,0)),"")) | U44: =IF(IFERROR(INDEX('[1]予選ヒートBGr-レース結果表（貼付）'!$A:$Z,MATCH($B44,'[1]予選ヒートBGr-レース結果表（貼付）'!$B:$B,0),MATCH(U$11,'[1]予選ヒートBGr-レース結果表（貼付）'!$1:$1,0)),"")=0,"",IFERROR(INDEX('[1]予選ヒートBGr-レース結果表（貼付）'!$A:$Z,MATCH($B44,'[1]予選ヒートBGr-レース結果表（貼付）'!$B:$B,0),MATCH(U$11,'[1]予選ヒートBGr-レース結果表（貼付）'!$1:$1,0)),""))
... A51: =IF(OR('[1]予選ヒートBGr-レース結果表（貼付）'!A35="DNF",'[1]予選ヒートBGr-レース結果表（貼付）'!A35="DNS",'[1]予選ヒートBGr-レース結果表（貼付）'!A35="DQ"),'[1]予選ヒートBGr-レース結果表（貼付）'!A35,IF(MAX('[1]予選ヒートBGr-レース結果表（貼付）'!$A:$A)>A50,A50+1,"")) | B51: =IFERROR(INDEX('[1]予選ヒートBGr-レース結果表（貼付）'!A35:$Z$50,MATCH($A51,'[1]予選ヒートBGr-レース結果表（貼付）'!A35:$A$50,0),MATCH('[1]公式予選（TT）AGr-結果表（印刷）'!B$11,'[1]予選ヒートBGr-レース結果表（貼付）'!$1:$1,0)),"") | D51: =IFERROR(INDEX('[1]予選ヒートBGr-レース結果表（貼付）'!$A:$Z,MATCH($A51,'[1]予選ヒートBGr-レース結果表（貼付）'!$A:$A,0),MATCH('予選ヒート2Gr-レース結果表'!D$11,'[1]予選ヒートBGr-レース結果表（貼付）'!$1:$1,0)),"") | E51: =IFERROR(INDEX('[1]予選ヒートBGr-レース結果表（貼付）'!$A:$Z,MATCH($A51,'[1]予選ヒートBGr-レース結果表（貼付）'!$A:$A,0),MATCH('予選ヒート2Gr-レース結果表'!E$11,'[1]予選ヒートBGr-レース結果表（貼付）'!$1:$1,0)),"") | F51: =IFERROR(INDEX('[1]予選ヒートBGr-レース結果表（貼付）'!$A:$Z,MATCH($A51,'[1]予選ヒートBGr-レース結果表（貼付）'!$A:$A,0),MATCH('予選ヒート2Gr-レース結果表'!F$11,'[1]予選ヒートBGr-レース結果表（貼付）'!$1:$1,0)),"") | G51: =IFERROR(INDEX('[1]予選ヒートBGr-レース結果表（貼付）'!$A:$Z,MATCH($A51,'[1]予選ヒートBGr-レース結果表（貼付）'!$A:$A,0),MATCH('予選ヒート2Gr-レース結果表'!G$11,'[1]予選ヒートBGr-レース結果表（貼付）'!$1:$1,0)),"") | H51: =IFERROR(INDEX('[1]予選ヒートBGr-レース結果表（貼付）'!$A:$Z,MATCH($A51,'[1]予選ヒートBGr-レース結果表（貼付）'!$A:$A,0),MATCH('予選ヒート2Gr-レース結果表'!H$11,'[1]予選ヒートBGr-レース結果表（貼付）'!$1:$1,0)),"") | I51: =IFERROR(INDEX('[1]予選ヒートBGr-レース結果表（貼付）'!$A:$Z,MATCH($A51,'[1]予選ヒートBGr-レース結果表（貼付）'!$A:$A,0),MATCH('予選ヒート2Gr-レース結果表'!I$11,'[1]予選ヒートBGr-レース結果表（貼付）'!$1:$1,0)),"") | J51: =IFERROR(IF(A51="DNS","",IF(A51="DQ","",INDEX('[1]予選ヒートBGr-レース結果表（貼付）'!$A:$Z,MATCH($B51,'[1]予選ヒートBGr-レース結果表（貼付）'!$B:$B,0),MATCH('予選ヒート2Gr-レース結果表'!J$11,'[1]予選ヒートBGr-レース結果表（貼付）'!$1:$1,0)))),"") | K51: =IFERROR(IF(A51="DNS","",IF(A51="DQ","",INDEX('[1]予選ヒートBGr-レース結果表（貼付）'!$A:$Z,MATCH($B51,'[1]予選ヒートBGr-レース結果表（貼付）'!$B:$B,0),MATCH('予選ヒート2Gr-レース結果表'!K$11,'[1]予選ヒートBGr-レース結果表（貼付）'!$1:$1,0)))),"") | L51: =IFERROR(IF(A51="DNS","",IF(A51="DQ","",INDEX('[1]予選ヒートBGr-レース結果表（貼付）'!$A:$Z,MATCH($B51,'[1]予選ヒートBGr-レース結果表（貼付）'!$B:$B,0),MATCH('予選ヒート2Gr-レース結果表'!L$11,'[1]予選ヒートBGr-レース結果表（貼付）'!$1:$1,0)))),"") | M51: =IF(L51<1,"",IF($M$11>L51,"R","")) | P51: =IF(IFERROR(INDEX('[1]予選ヒートBGr-レース結果表（貼付）'!$A:$Z,MATCH($B51,'[1]予選ヒートBGr-レース結果表（貼付）'!$B:$B,0),MATCH(P$11,'[1]予選ヒートBGr-レース結果表（貼付）'!$1:$1,0)),"")=0,"",IFERROR(INDEX('[1]予選ヒートBGr-レース結果表（貼付）'!$A:$Z,MATCH($B51,'[1]予選ヒートBGr-レース結果表（貼付）'!$B:$B,0),MATCH(P$11,'[1]予選ヒートBGr-レース結果表（貼付）'!$1:$1,0)),"")) | Q51: =IF(P51="","",COUNTIF($P$13:P51,"<>"&"")) | R51: =IFERROR(RANK(Q51,$Q$13:$Q$51,1),"") | S51: =IF(IFERROR(INDEX('[1]予選ヒートBGr-レース結果表（貼付）'!$A:$Z,MATCH($A51,'[1]予選ヒートBGr-レース結果表（貼付）'!$A:$A,0),MATCH(S$11,'[1]予選ヒートBGr-レース結果表（貼付）'!$1:$1,0)),"")=0,"",IFERROR(INDEX('[1]予選ヒートBGr-レース結果表（貼付）'!$A:$Z,MATCH($A51,'[1]予選ヒートBGr-レース結果表（貼付）'!$A:$A,0),MATCH(S$11,'[1]予選ヒートBGr-レース結果表（貼付）'!$1:$1,0)),"")) | U51: =IF(IFERROR(INDEX('[1]予選ヒートBGr-レース結果表（貼付）'!$A:$Z,MATCH($B51,'[1]予選ヒートBGr-レース結果表（貼付）'!$B:$B,0),MATCH(U$11,'[1]予選ヒートBGr-レース結果表（貼付）'!$1:$1,0)),"")=0,"",IFERROR(INDEX('[1]予選ヒートBGr-レース結果表（貼付）'!$A:$Z,MATCH($B51,'[1]予選ヒートBGr-レース結果表（貼付）'!$B:$B,0),MATCH(U$11,'[1]予選ヒートBGr-レース結果表（貼付）'!$1:$1,0)),""))
A52: =IF(OR('[1]予選ヒートBGr-レース結果表（貼付）'!A36="DNF",'[1]予選ヒートBGr-レース結果表（貼付）'!A36="DNS",'[1]予選ヒートBGr-レース結果表（貼付）'!A36="DQ"),'[1]予選ヒートBGr-レース結果表（貼付）'!A36,IF(MAX('[1]予選ヒートBGr-レース結果表（貼付）'!$A:$A)>A51,A51+1,"")) | B52: =IFERROR(INDEX('[1]予選ヒートBGr-レース結果表（貼付）'!A36:$Z$50,MATCH($A52,'[1]予選ヒートBGr-レース結果表（貼付）'!A36:$A$50,0),MATCH('[1]公式予選（TT）AGr-結果表（印刷）'!B$11,'[1]予選ヒートBGr-レース結果表（貼付）'!$1:$1,0)),"") | D52: =IFERROR(INDEX('[1]予選ヒートBGr-レース結果表（貼付）'!$A:$Z,MATCH($A52,'[1]予選ヒートBGr-レース結果表（貼付）'!$A:$A,0),MATCH('予選ヒート2Gr-レース結果表'!D$11,'[1]予選ヒートBGr-レース結果表（貼付）'!$1:$1,0)),"") | E52: =IFERROR(INDEX('[1]予選ヒートBGr-レース結果表（貼付）'!$A:$Z,MATCH($A52,'[1]予選ヒートBGr-レース結果表（貼付）'!$A:$A,0),MATCH('予選ヒート2Gr-レース結果表'!E$11,'[1]予選ヒートBGr-レース結果表（貼付）'!$1:$1,0)),"") | F52: =IFERROR(INDEX('[1]予選ヒートBGr-レース結果表（貼付）'!$A:$Z,MATCH($A52,'[1]予選ヒートBGr-レース結果表（貼付）'!$A:$A,0),MATCH('予選ヒート2Gr-レース結果表'!F$11,'[1]予選ヒートBGr-レース結果表（貼付）'!$1:$1,0)),"") | G52: =IFERROR(INDEX('[1]予選ヒートBGr-レース結果表（貼付）'!$A:$Z,MATCH($A52,'[1]予選ヒートBGr-レース結果表（貼付）'!$A:$A,0),MATCH('予選ヒート2Gr-レース結果表'!G$11,'[1]予選ヒートBGr-レース結果表（貼付）'!$1:$1,0)),"") | H52: =IFERROR(INDEX('[1]予選ヒートBGr-レース結果表（貼付）'!$A:$Z,MATCH($A52,'[1]予選ヒートBGr-レース結果表（貼付）'!$A:$A,0),MATCH('予選ヒート2Gr-レース結果表'!H$11,'[1]予選ヒートBGr-レース結果表（貼付）'!$1:$1,0)),"") | I52: =IFERROR(INDEX('[1]予選ヒートBGr-レース結果表（貼付）'!$A:$Z,MATCH($A52,'[1]予選ヒートBGr-レース結果表（貼付）'!$A:$A,0),MATCH('予選ヒート2Gr-レース結果表'!I$11,'[1]予選ヒートBGr-レース結果表（貼付）'!$1:$1,0)),"") | J52: =IFERROR(IF(A52="DNS","",IF(A52="DQ","",INDEX('[1]予選ヒートBGr-レース結果表（貼付）'!$A:$Z,MATCH($B52,'[1]予選ヒートBGr-レース結果表（貼付）'!$B:$B,0),MATCH('予選ヒート2Gr-レース結果表'!J$11,'[1]予選ヒートBGr-レース結果表（貼付）'!$1:$1,0)))),"") | K52: =IFERROR(IF(A52="DNS","",IF(A52="DQ","",INDEX('[1]予選ヒートBGr-レース結果表（貼付）'!$A:$Z,MATCH($B52,'[1]予選ヒートBGr-レース結果表（貼付）'!$B:$B,0),MATCH('予選ヒート2Gr-レース結果表'!K$11,'[1]予選ヒートBGr-レース結果表（貼付）'!$1:$1,0)))),"") | L52: =IFERROR(IF(A52="DNS","",IF(A52="DQ","",INDEX('[1]予選ヒートBGr-レース結果表（貼付）'!$A:$Z,MATCH($B52,'[1]予選ヒートBGr-レース結果表（貼付）'!$B:$B,0),MATCH('予選ヒート2Gr-レース結果表'!L$11,'[1]予選ヒートBGr-レース結果表（貼付）'!$1:$1,0)))),"") | M52: =IF(L52<1,"",IF($M$11>L52,"R","")) | U52: =IF(IFERROR(INDEX('[1]予選ヒートBGr-レース結果表（貼付）'!$A:$Z,MATCH($B52,'[1]予選ヒートBGr-レース結果表（貼付）'!$B:$B,0),MATCH(U$11,'[1]予選ヒートBGr-レース結果表（貼付）'!$1:$1,0)),"")=0,"",IFERROR(INDEX('[1]予選ヒートBGr-レース結果表（貼付）'!$A:$Z,MATCH($B52,'[1]予選ヒートBGr-レース結果表（貼付）'!$B:$B,0),MATCH(U$11,'[1]予選ヒートBGr-レース結果表（貼付）'!$1:$1,0)),""))
A53: Fastest Lap | D53: ="No."&IFERROR(INDEX($A12:$Z50,MATCH($I$53,$U$12:$U$50,0),MATCH("No.",$11:$11,0)),"")&" "&IFERROR(INDEX($A12:$Z50,MATCH($I$53,$U$12:$U$50,0),MATCH("名前",$11:$11,0)),"") -> No.66 松井 沙麗 | E53: =IFERROR(INDEX($A12:$Z52,MATCH($I$53,$U$12:$U$52,0),MATCH("team",$11:$11,0)),"") -> BEMAX RACING | F53: =1.264/MAX(U:U)*3600 -> 55.669195 | H53: =INDEX('[1]予選ヒートBGr-レース結果表（貼付）'!$A:$Z,MATCH(INDEX($A12:$Z50,MATCH($I$53,$U$12:$U$50,0),MATCH("No.",$11:$11,0)),'[1]予選ヒートBGr-レース結果表（貼付）'!$B:$B,0),MATCH("In Lap",'[1]予選ヒートBGr-レース結果表（貼付）'!$1:$1,0))&"/"&IFERROR(INDEX($A12:$Z50,MATCH($I$53,$U$12:$U$50,0),MATCH("laps",$11:$11,0)),"") -> 5/10 | I53: =MAX(U:U) -> 81.74 | J53: km/h
A55: =IF(COUNTIF(M:M,"R")>=1,"R マークの車は、コースレコードを更新しました。従来のレコードタイムは"&" "&TEXT(ROUND($M$11,3),"[<1]m'ss.000;##0.000"),"")
A57: =IF(A58="","","ﾍﾟﾅﾙﾃｨ") -> ﾍﾟﾅﾙﾃｨ
A58: =IF(MAX(Q13:Q51)<1,"",1) -> 1 | B58: =IF(A58="","","No."&INDEX($A$11:$Y$51,MATCH($A58,$R$11:$R$51,0),MATCH("No.",$11:$11,0))) -> No.37 | C58: =INDEX($A$11:$Y$51,MATCH($A58,$R$11:$R$51,0),MATCH("コメント",$11:$11,0)) -> 鈴鹿選手権ｼﾘｰｽﾞ特別規則 競技車両規則第60条～2)(ﾌﾛﾝﾄﾌｪｱﾘﾝｸﾞ)違反により、5秒加算とした。
A59: =IF(A58<COUNTIF($R$12:$R$51,">"&0),A58+1,"") -> 2 | B59: =IF(A59="","","No."&INDEX($A$11:$Y$51,MATCH($A59,$R$11:$R$51,0),MATCH("No.",$11:$11,0))) -> No.42 | C59: =INDEX($A$11:$Y$51,MATCH($A59,$R$11:$R$51,0),MATCH("コメント",$11:$11,0)) -> 鈴鹿選手権ｼﾘｰｽﾞ特別規則 競技車両規則第60条～2)(ﾌﾛﾝﾄﾌｪｱﾘﾝｸﾞ)違反により、5秒加算とした。
A60: =IF(A59<COUNTIF($R$12:$R$51,">"&0),A59+1,"") -> 3 | B60: =IF(A60="","","No."&INDEX($A$11:$Y$51,MATCH($A60,$R$11:$R$51,0),MATCH("No.",$11:$11,0))) -> No.73 | C60: =INDEX($A$11:$Y$51,MATCH($A60,$R$11:$R$51,0),MATCH("コメント",$11:$11,0)) -> 鈴鹿選手権ｼﾘｰｽﾞ特別規則 競技車両規則第60条～2)(ﾌﾛﾝﾄﾌｪｱﾘﾝｸﾞ)違反により、5秒加算とした。
A61: =IF(A60<COUNTIF($R$12:$R$51,">"&0),A60+1,"") | B61: =IF(A61="","","No."&INDEX($A$11:$Y$51,MATCH($A61,$R$11:$R$51,0),MATCH("No.",$11:$11,0))) | C61: =INDEX($A$11:$Y$51,MATCH($A61,$R$11:$R$51,0),MATCH("コメント",$11:$11,0))
A62: =IF(A61<COUNTIF($R$12:$R$51,">"&0),A61+1,"") | B62: =IF(A62="","","No."&INDEX($A$11:$Y$51,MATCH($A62,$R$11:$R$51,0),MATCH("No.",$11:$11,0))) | C62: =INDEX($A$11:$Y$51,MATCH($A62,$R$11:$R$51,0),MATCH("コメント",$11:$11,0))
A63: =IF(A62<COUNTIF($R$12:$R$51,">"&0),A62+1,"") | B63: =IF(A63="","","No."&INDEX($A$11:$Y$51,MATCH($A63,$R$11:$R$51,0),MATCH("No.",$11:$11,0))) | C63: =INDEX($A$11:$Y$51,MATCH($A63,$R$11:$R$51,0),MATCH("コメント",$11:$11,0))
A64: =IF(A63<COUNTIF($R$12:$R$51,">"&0),A63+1,"") | B64: =IF(A64="","","No."&INDEX($A$11:$Y$51,MATCH($A64,$R$11:$R$51,0),MATCH("No.",$11:$11,0))) | C64: =INDEX($A$11:$Y$51,MATCH($A64,$R$11:$R$51,0),MATCH("コメント",$11:$11,0))
A65: =IF(A64<COUNTIF($R$12:$R$51,">"&0),A64+1,"") | B65: =IF(A65="","","No."&INDEX($A$11:$Y$51,MATCH($A65,$R$11:$R$51,0),MATCH("No.",$11:$11,0))) | C65: =INDEX($A$11:$Y$51,MATCH($A65,$R$11:$R$51,0),MATCH("コメント",$11:$11,0))
A66: =IF(A65<COUNTIF($R$12:$R$51,">"&0),A65+1,"") | B66: =IF(A66="","","No."&INDEX($A$11:$Y$51,MATCH($A66,$R$11:$R$51,0),MATCH("No.",$11:$11,0))) | C66: =INDEX($A$11:$Y$51,MATCH($A66,$R$11:$R$51,0),MATCH("コメント",$11:$11,0))
A67: =IF(A66<COUNTIF($R$12:$R$51,">"&0),A66+1,"") | B67: =IF(A67="","","No."&INDEX($A$11:$Y$51,MATCH($A67,$R$11:$R$51,0),MATCH("No.",$11:$11,0))) | C67: =INDEX($A$11:$Y$51,MATCH($A67,$R$11:$R$51,0),MATCH("コメント",$11:$11,0))
A68: =IF(A67<COUNTIF($R$12:$R$51,">"&0),A67+1,"") | B68: =IF(A68="","","No."&INDEX($A$11:$Y$51,MATCH($A68,$R$11:$R$51,0),MATCH("No.",$11:$11,0))) | C68: =INDEX($A$11:$Y$51,MATCH($A68,$R$11:$R$51,0),MATCH("コメント",$11:$11,0))
C70: ="審査委員長 ："&" "&[1]各種設定!$D$20 -> 審査委員長 ： Hideyuki KOMIYAMA
