Workbook

Sheet 予選ヒートAGr-レース結果表
I6: =+[1]各種設定!D18 -> 44759 | K6: :
A7: =+[1]各種設定!D2 -> 2022 鈴鹿選手権シリーズ第4戦 ｶｰﾄﾚｰｽ IN SUZUKA | J7: WEATHER: | K7: Fine
J8: COURSE : | K8: Dry
A9: =+[1]各種設定!D4 -> SUPER SS | L9: 国際南コース 1.264Km
A10: １ Ｇｒ.予選ヒート結果表
B11: No. | C11: クラス | D11: 名前 | E11: Model/Engine | F11: Team | G11: Tires | H11: Laps | I11: Total Time | J11: 差 | K11: Gap | L11: BestLap | M11: =VLOOKUP(A9,[1]コースレコード!$A:$C,3,FALSE) -> 54.706 | P11: コメント | R11: ペナルティNo. | S11: グリッドコメント | U11: ベスト平均時速
A12: Pos. | B12: No. | D12: Driver | E12: Type | F12: Team | G12: Tire | H12: Laps | I12: Total Time | J12: Delay | K12: Gap | L12: Best
A13: 1 | B13: =IFERROR(INDEX('[1]予選ヒートAGr-レース結果表（貼付）'!A2:$Z$50,MATCH($A13,'[1]予選ヒートAGr-レース結果表（貼付）'!A2:$A$50,0),MATCH('[1]公式予選（TT）AGr-結果表（印刷）'!B$11,'[1]予選ヒートAGr-レース結果表（貼付）'!$1:$1,0)),"") -> 51 | D13: =IFERROR(INDEX('[1]予選ヒートAGr-レース結果表（貼付）'!$A:$Z,MATCH($A13,'[1]予選ヒートAGr-レース結果表（貼付）'!$A:$A,0),MATCH('予選ヒートAGr-レース結果表'!D$11,'[1]予選ヒートAGr-レース結果表（貼付）'!$1:$1,0)),"") -> 佐々木 克行 | E13: =IFERROR(INDEX('[1]予選ヒートAGr-レース結果表（貼付）'!$A:$Z,MATCH($A13,'[1]予選ヒートAGr-レース結果表（貼付）'!$A:$A,0),MATCH('予選ヒートAGr-レース結果表'!E$11,'[1]予選ヒートAGr-レース結果表（貼付）'!$1:$1,0)),"") -> carp/YAMAHA | F13: =IFERROR(INDEX('[1]予選ヒートAGr-レース結果表（貼付）'!$A:$Z,MATCH($A13,'[1]予選ヒートAGr-レース結果表（貼付）'!$A:$A,0),MATCH('予選ヒートAGr-レース結果表'!F$11,'[1]予選ヒートAGr-レース結果表（貼付）'!$1:$1,0)),"") -> ｶﾞﾂｶﾞﾂGUTS! ﾋｽﾄﾘｰ | G13: =IFERROR(INDEX('[1]予選ヒートAGr-レース結果表（貼付）'!$A:$Z,MATCH($A13,'[1]予選ヒートAGr-レース結果表（貼付）'!$A:$A,0),MATCH('予選ヒートAGr-レース結果表'!G$11,'[1]予選ヒートAGr-レース結果表（貼付）'!$1:$1,0)),"") -> BS | H13: =IFERROR(INDEX('[1]予選ヒートAGr-レース結果表（貼付）'!$A:$Z,MATCH($A13,'[1]予選ヒートAGr-レース結果表（貼付）'!$A:$A,0),MATCH('予選ヒートAGr-レース結果表'!H$11,'[1]予選ヒートAGr-レース結果表（貼付）'!$1:$1,0)),"") -> 10 | I13: =INDEX('[1]予選ヒートAGr-レース結果表（貼付）'!$A:$Z,MATCH($A13,'[1]予選ヒートAGr-レース結果表（貼付）'!$A:$A,0),MATCH('予選ヒートAGr-レース結果表'!I$11,'[1]予選ヒートAGr-レース結果表（貼付）'!$1:$1,0)) -> 0.0065687037 | J13: =ROUND((1.264*H13)/(I13*24),2)&"km/h" -> 80.18km/h | L13: =IF(A13="DNS","",IF(A13="DQ","",INDEX('[1]予選ヒートAGr-レース結果表（貼付）'!$A:$Z,MATCH($B13,'[1]予選ヒートAGr-レース結果表（貼付）'!$B:$B,0),MATCH('予選ヒートAGr-レース結果表'!L$11,'[1]予選ヒートAGr-レース結果表（貼付）'!$1:$1,0)))) -> 56.475 | M13: =IF(L13<1,"",IF($M$11>L13,"R","")) | P13: =IF(IFERROR(INDEX('[1]予選ヒートAGr-レース結果表（貼付）'!$A:$Z,MATCH($B13,'[1]予選ヒートAGr-レース結果表（貼付）'!$B:$B,0),MATCH(P$11,'[1]予選ヒートAGr-レース結果表（貼付）'!$1:$1,0)),"")=0,"",IFERROR(INDEX('[1]予選ヒートAGr-レース結果表（貼付）'!$A:$Z,MATCH($B13,'[1]予選ヒートAGr-レース結果表（貼付）'!$B:$B,0),MATCH(P$11,'[1]予選ヒートAGr-レース結果表（貼付）'!$1:$1,0)),"")) | Q13: =IF(P13="","",COUNTIF($P$13:P13,"<>"&"")) | R13: =IFERROR(RANK(Q13,$Q$13:$Q$48,1),"") | S13: =IF(IFERROR(INDEX('[1]予選ヒートAGr-レース結果表（貼付）'!$A:$Z,MATCH($A13,'[1]予選ヒートAGr-レース結果表（貼付）'!$A:$A,0),MATCH(S$11,'[1]予選ヒートAGr-レース結果表（貼付）'!$1:$1,0)),"")=0,"",IFERROR(INDEX('[1]予選ヒートAGr-レース結果表（貼付）'!$A:$Z,MATCH($A13,'[1]予選ヒートAGr-レース結果表（貼付）'!$A:$A,0),MATCH(S$11,'[1]予選ヒートAGr-レース結果表（貼付）'!$1:$1,0)),"")) | U13: =IF(IFERROR(INDEX('[1]予選ヒートAGr-レース結果表（貼付）'!$A:$Z,MATCH($B13,'[1]予選ヒートAGr-レース結果表（貼付）'!$B:$B,0),MATCH(U$11,'[1]予選ヒートAGr-レース結果表（貼付）'!$1:$1,0)),"")=0,"",IFERROR(INDEX('[1]予選ヒートAGr-レース結果表（貼付）'!$A:$Z,MATCH($B13,'[1]予選ヒートAGr-レース結果表（貼付）'!$B:$B,0),MATCH(U$11,'[1]予選ヒートAGr-レース結果表（貼付）'!$1:$1,0)),"")) -> 80.574
A14: =IF(OR('[1]予選ヒートAGr-レース結果表（貼付）'!A3="DNF",'[1]予選ヒートAGr-レース結果表（貼付）'!A3="DNS",'[1]予選ヒートAGr-レース結果表（貼付）'!A3="DQ"),'[1]予選ヒートAGr-レース結果表（貼付）'!A3,IF(MAX('[1]予選ヒートAGr-レース結果表（貼付）'!$A:$A)>A13,A13+1,"")) -> 2 | B14: =IFERROR(INDEX('[1]予選ヒートAGr-レース結果表（貼付）'!A3:$Z$50,MATCH($A14,'[1]予選ヒートAGr-レース結果表（貼付）'!A3:$A$50,0),MATCH('[1]公式予選（TT）AGr-結果表（印刷）'!B$11,'[1]予選ヒートAGr-レース結果表（貼付）'!$1:$1,0)),"") -> 1 | D14: =IFERROR(INDEX('[1]予選ヒートAGr-レース結果表（貼付）'!$A:$Z,MATCH($A14,'[1]予選ヒートAGr-レース結果表（貼付）'!$A:$A,0),MATCH('予選ヒートAGr-レース結果表'!D$11,'[1]予選ヒートAGr-レース結果表（貼付）'!$1:$1,0)),"") -> 野嵜 弘樹 | E14: =IFERROR(INDEX('[1]予選ヒートAGr-レース結果表（貼付）'!$A:$Z,MATCH($A14,'[1]予選ヒートAGr-レース結果表（貼付）'!$A:$A,0),MATCH('予選ヒートAGr-レース結果表'!E$11,'[1]予選ヒートAGr-レース結果表（貼付）'!$1:$1,0)),"") -> crocpromotion/YAMAHA | F14: =IFERROR(INDEX('[1]予選ヒートAGr-レース結果表（貼付）'!$A:$Z,MATCH($A14,'[1]予選ヒートAGr-レース結果表（貼付）'!$A:$A,0),MATCH('予選ヒートAGr-レース結果表'!F$11,'[1]予選ヒートAGr-レース結果表（貼付）'!$1:$1,0)),"") -> ﾓｱｺﾗｰｼﾞｭ TQS | G14: =IFERROR(INDEX('[1]予選ヒートAGr-レース結果表（貼付）'!$A:$Z,MATCH($A14,'[1]予選ヒートAGr-レース結果表（貼付）'!$A:$A,0),MATCH('予選ヒートAGr-レース結果表'!G$11,'[1]予選ヒートAGr-レース結果表（貼付）'!$1:$1,0)),"") -> BS | H14: =IF(A14="DNS","",IF(A14="DQ","",INDEX('[1]予選ヒートAGr-レース結果表（貼付）'!$A:$Z,MATCH($B14,'[1]予選ヒートAGr-レース結果表（貼付）'!$B:$B,0),MATCH('予選ヒートAGr-レース結果表'!H$11,'[1]予選ヒートAGr-レース結果表（貼付）'!$1:$1,0)))) -> 10 | I14: =IFERROR(IF(A14="DNS","ｽﾀｰﾄ出来ず",IF(A14="DQ","失 格",INDEX('[1]予選ヒートAGr-レース結果表（貼付）'!$A:$Z,MATCH($B14,'[1]予選ヒートAGr-レース結果表（貼付）'!$B:$B,0),MATCH('予選ヒートAGr-レース結果表'!I$11,'[1]予選ヒートAGr-レース結果表（貼付）'!$1:$1,0)))),"") -> 0.0065700694 | J14: =IFERROR(IF(A14="DNS","",IF(A14="DQ","",INDEX('[1]予選ヒートAGr-レース結果表（貼付）'!$A:$Z,MATCH($B14,'[1]予選ヒートAGr-レース結果表（貼付）'!$B:$B,0),MATCH('予選ヒートAGr-レース結果表'!J$11,'[1]予選ヒートAGr-レース結果表（貼付）'!$1:$1,0)))),"") -> 0.118 | K14: =IFERROR(IF(A14="DNS","",IF(A14="DQ","",INDEX('[1]予選ヒートAGr-レース結果表（貼付）'!$A:$Z,MATCH($B14,'[1]予選ヒートAGr-レース結果表（貼付）'!$B:$B,0),MATCH('予選ヒートAGr-レース結果表'!K$11,'[1]予選ヒートAGr-レース結果表（貼付）'!$1:$1,0)))),"") -> 0.118 | L14: =IFERROR(IF(A14="DNS","",IF(A14="DQ","",INDEX('[1]予選ヒートAGr-レース結果表（貼付）'!$A:$Z,MATCH($B14,'[1]予選ヒートAGr-レース結果表（貼付）'!$B:$B,0),MATCH('予選ヒートAGr-レース結果表'!L$11,'[1]予選ヒートAGr-レース結果表（貼付）'!$1:$1,0)))),"") -> 56.305 | M14: =IF(L14<1,"",IF($M$11>L14,"R","")) | P14: =IF(IFERROR(INDEX('[1]予選ヒートAGr-レース結果表（貼付）'!$A:$Z,MATCH($B14,'[1]予選ヒートAGr-レース結果表（貼付）'!$B:$B,0),MATCH(P$11,'[1]予選ヒートAGr-レース結果表（貼付）'!$1:$1,0)),"")=0,"",IFERROR(INDEX('[1]予選ヒートAGr-レース結果表（貼付）'!$A:$Z,MATCH($B14,'[1]予選ヒートAGr-レース結果表（貼付）'!$B:$B,0),MATCH(P$11,'[1]予選ヒートAGr-レース結果表（貼付）'!$1:$1,0)),"")) | Q14: =IF(P14="","",COUNTIF($P$13:P14,"<>"&"")) | R14: =IFERROR(RANK(Q14,$Q$13:$Q$48,1),"") | S14: =IF(IFERROR(INDEX('[1]予選ヒートAGr-レース結果表（貼付）'!$A:$Z,MATCH($A14,'[1]予選ヒートAGr-レース結果表（貼付）'!$A:$A,0),MATCH(S$11,'[1]予選ヒートAGr-レース結果表（貼付）'!$1:$1,0)),"")=0,"",IFERROR(INDEX('[1]予選ヒートAGr-レース結果表（貼付）'!$A:$Z,MATCH($A14,'[1]予選ヒートAGr-レース結果表（貼付）'!$A:$A,0),MATCH(S$11,'[1]予選ヒートAGr-レース結果表（貼付）'!$1:$1,0)),"")) | U14: =IF(IFERROR(INDEX('[1]予選ヒートAGr-レース結果表（貼付）'!$A:$Z,MATCH($B14,'[1]予選ヒートAGr-レース結果表（貼付）'!$B:$B,0),MATCH(U$11,'[1]予選ヒートAGr-レース結果表（貼付）'!$1:$1,0)),"")=0,"",IFERROR(INDEX('[1]予選ヒートAGr-レース結果表（貼付）'!$A:$Z,MATCH($B14,'[1]予選ヒートAGr-レース結果表（貼付）'!$B:$B,0),MATCH(U$11,'[1]予選ヒートAGr-レース結果表（貼付）'!$1:$1,0)),"")) -> 80.817
A15: =IF(OR('[1]予選ヒートAGr-レース結果表（貼付）'!A4="DNF",'[1]予選ヒートAGr-レース結果表（貼付）'!A4="DNS",'[1]予選ヒートAGr-レース結果表（貼付）'!A4="DQ"),'[1]予選ヒートAGr-レース結果表（貼付）'!A4,IF(MAX('[1]予選ヒートAGr-レース結果表（貼付）'!$A:$A)>A14,A14+1,"")) -> 3 | B15: =IFERROR(INDEX('[1]予選ヒートAGr-レース結果表（貼付）'!A4:$Z$50,MATCH($A15,'[1]予選ヒートAGr-レース結果表（貼付）'!A4:$A$50,0),MATCH('[1]公式予選（TT）AGr-結果表（印刷）'!B$11,'[1]予選ヒートAGr-レース結果表（貼付）'!$1:$1,0)),"") -> 96 | D15: =IFERROR(INDEX('[1]予選ヒートAGr-レース結果表（貼付）'!$A:$Z,MATCH($A15,'[1]予選ヒートAGr-レース結果表（貼付）'!$A:$A,0),MATCH('予選ヒートAGr-レース結果表'!D$11,'[1]予選ヒートAGr-レース結果表（貼付）'!$1:$1,0)),"") -> 大野 弘志 | E15: =IFERROR(INDEX('[1]予選ヒートAGr-レース結果表（貼付）'!$A:$Z,MATCH($A15,'[1]予選ヒートAGr-レース結果表（貼付）'!$A:$A,0),MATCH('予選ヒートAGr-レース結果表'!E$11,'[1]予選ヒートAGr-レース結果表（貼付）'!$1:$1,0)),"") -> EXPRIT/YAMAHA | F15: =IFERROR(INDEX('[1]予選ヒートAGr-レース結果表（貼付）'!$A:$Z,MATCH($A15,'[1]予選ヒートAGr-レース結果表（貼付）'!$A:$A,0),MATCH('予選ヒートAGr-レース結果表'!F$11,'[1]予選ヒートAGr-レース結果表（貼付）'!$1:$1,0)),"") -> SLT.RT/Team BONJIN | G15: =IFERROR(INDEX('[1]予選ヒートAGr-レース結果表（貼付）'!$A:$Z,MATCH($A15,'[1]予選ヒートAGr-レース結果表（貼付）'!$A:$A,0),MATCH('予選ヒートAGr-レース結果表'!G$11,'[1]予選ヒートAGr-レース結果表（貼付）'!$1:$1,0)),"") -> BS | H15: =IF(A15="DNS","",IF(A15="DQ","",INDEX('[1]予選ヒートAGr-レース結果表（貼付）'!$A:$Z,MATCH($B15,'[1]予選ヒートAGr-レース結果表（貼付）'!$B:$B,0),MATCH('予選ヒートAGr-レース結果表'!H$11,'[1]予選ヒートAGr-レース結果表（貼付）'!$1:$1,0)))) -> 10 | I15: =IFERROR(IF(A15="DNS","ｽﾀｰﾄ出来ず",IF(A15="DQ","失 格",INDEX('[1]予選ヒートAGr-レース結果表（貼付）'!$A:$Z,MATCH($B15,'[1]予選ヒートAGr-レース結果表（貼付）'!$B:$B,0),MATCH('予選ヒートAGr-レース結果表'!I$11,'[1]予選ヒートAGr-レース結果表（貼付）'!$1:$1,0)))),"") -> 0.0065804051 | J15: =IFERROR(IF(A15="DNS","",IF(A15="DQ","",INDEX('[1]予選ヒートAGr-レース結果表（貼付）'!$A:$Z,MATCH($B15,'[1]予選ヒートAGr-レース結果表（貼付）'!$B:$B,0),MATCH('予選ヒートAGr-レース結果表'!J$11,'[1]予選ヒートAGr-レース結果表（貼付）'!$1:$1,0)))),"") -> 1.011 | K15: =IFERROR(IF(A15="DNS","",IF(A15="DQ","",INDEX('[1]予選ヒートAGr-レース結果表（貼付）'!$A:$Z,MATCH($B15,'[1]予選ヒートAGr-レース結果表（貼付）'!$B:$B,0),MATCH('予選ヒートAGr-レース結果表'!K$11,'[1]予選ヒートAGr-レース結果表（貼付）'!$1:$1,0)))),"") -> 0.893 | L15: =IFERROR(IF(A15="DNS","",IF(A15="DQ","",INDEX('[1]予選ヒートAGr-レース結果表（貼付）'!$A:$Z,MATCH($B15,'[1]予選ヒートAGr-レース結果表（貼付）'!$B:$B,0),MATCH('予選ヒートAGr-レース結果表'!L$11,'[1]予選ヒートAGr-レース結果表（貼付）'!$1:$1,0)))),"") -> 56.303 | M15: =IF(L15<1,"",IF($M$11>L15,"R","")) | P15: =IF(IFERROR(INDEX('[1]予選ヒートAGr-レース結果表（貼付）'!$A:$Z,MATCH($B15,'[1]予選ヒートAGr-レース結果表（貼付）'!$B:$B,0),MATCH(P$11,'[1]予選ヒートAGr-レース結果表（貼付）'!$1:$1,0)),"")=0,"",IFERROR(INDEX('[1]予選ヒートAGr-レース結果表（貼付）'!$A:$Z,MATCH($B15,'[1]予選ヒートAGr-レース結果表（貼付）'!$B:$B,0),MATCH(P$11,'[1]予選ヒートAGr-レース結果表（貼付）'!$1:$1,0)),"")) | Q15: =IF(P15="","",COUNTIF($P$13:P15,"<>"&"")) | R15: =IFERROR(RANK(Q15,$Q$13:$Q$48,1),"") | S15: =IF(IFERROR(INDEX('[1]予選ヒートAGr-レース結果表（貼付）'!$A:$Z,MATCH($A15,'[1]予選ヒートAGr-レース結果表（貼付）'!$A:$A,0),MATCH(S$11,'[1]予選ヒートAGr-レース結果表（貼付）'!$1:$1,0)),"")=0,"",IFERROR(INDEX('[1]予選ヒートAGr-レース結果表（貼付）'!$A:$Z,MATCH($A15,'[1]予選ヒートAGr-レース結果表（貼付）'!$A:$A,0),MATCH(S$11,'[1]予選ヒートAGr-レース結果表（貼付）'!$1:$1,0)),"")) | U15: =IF(IFERROR(INDEX('[1]予選ヒートAGr-レース結果表（貼付）'!$A:$Z,MATCH($B15,'[1]予選ヒートAGr-レース結果表（貼付）'!$B:$B,0),MATCH(U$11,'[1]予選ヒートAGr-レース結果表（貼付）'!$1:$1,0)),"")=0,"",IFERROR(INDEX('[1]予選ヒートAGr-レース結果表（貼付）'!$A:$Z,MATCH($B15,'[1]予選ヒートAGr-レース結果表（貼付）'!$B:$B,0),MATCH(U$11,'[1]予選ヒートAGr-レース結果表（貼付）'!$1:$1,0)),"")) -> 80.82
A16: =IF(OR('[1]予選ヒートAGr-レース結果表（貼付）'!A5="DNF",'[1]予選ヒートAGr-レース結果表（貼付）'!A5="DNS",'[1]予選ヒートAGr-レース結果表（貼付）'!A5="DQ"),'[1]予選ヒートAGr-レース結果表（貼付）'!A5,IF(MAX('[1]予選ヒートAGr-レース結果表（貼付）'!$A:$A)>A15,A15+1,"")) -> 4 | B16: =IFERROR(INDEX('[1]予選ヒートAGr-レース結果表（貼付）'!A5:$Z$50,MATCH($A16,'[1]予選ヒートAGr-レース結果表（貼付）'!A5:$A$50,0),MATCH('[1]公式予選（TT）AGr-結果表（印刷）'!B$11,'[1]予選ヒートAGr-レース結果表（貼付）'!$1:$1,0)),"") -> 43 | D16: =IFERROR(INDEX('[1]予選ヒートAGr-レース結果表（貼付）'!$A:$Z,MATCH($A16,'[1]予選ヒートAGr-レース結果表（貼付）'!$A:$A,0),MATCH('予選ヒートAGr-レース結果表'!D$11,'[1]予選ヒートAGr-レース結果表（貼付）'!$1:$1,0)),"") -> 大見 幸正 | E16: =IFERROR(INDEX('[1]予選ヒートAGr-レース結果表（貼付）'!$A:$Z,MATCH($A16,'[1]予選ヒートAGr-レース結果表（貼付）'!$A:$A,0),MATCH('予選ヒートAGr-レース結果表'!E$11,'[1]予選ヒートAGr-レース結果表（貼付）'!$1:$1,0)),"") -> TONY/YAMAHA | F16: =IFERROR(INDEX('[1]予選ヒートAGr-レース結果表（貼付）'!$A:$Z,MATCH($A16,'[1]予選ヒートAGr-レース結果表（貼付）'!$A:$A,0),MATCH('予選ヒートAGr-レース結果表'!F$11,'[1]予選ヒートAGr-レース結果表（貼付）'!$1:$1,0)),"") -> T WEST RS | G16: =IFERROR(INDEX('[1]予選ヒートAGr-レース結果表（貼付）'!$A:$Z,MATCH($A16,'[1]予選ヒートAGr-レース結果表（貼付）'!$A:$A,0),MATCH('予選ヒートAGr-レース結果表'!G$11,'[1]予選ヒートAGr-レース結果表（貼付）'!$1:$1,0)),"") -> BS | H16: =IF(A16="DNS","",IF(A16="DQ","",INDEX('[1]予選ヒートAGr-レース結果表（貼付）'!$A:$Z,MATCH($B16,'[1]予選ヒートAGr-レース結果表（貼付）'!$B:$B,0),MATCH('予選ヒートAGr-レース結果表'!H$11,'[1]予選ヒートAGr-レース結果表（貼付）'!$1:$1,0)))) -> 10 | I16: =IFERROR(IF(A16="DNS","ｽﾀｰﾄ出来ず",IF(A16="DQ","失 格",INDEX('[1]予選ヒートAGr-レース結果表（貼付）'!$A:$Z,MATCH($B16,'[1]予選ヒートAGr-レース結果表（貼付）'!$B:$B,0),MATCH('予選ヒートAGr-レース結果表'!I$11,'[1]予選ヒートAGr-レース結果表（貼付）'!$1:$1,0)))),"") -> 0.0066412269 | J16: =IFERROR(IF(A16="DNS","",IF(A16="DQ","",INDEX('[1]予選ヒートAGr-レース結果表（貼付）'!$A:$Z,MATCH($B16,'[1]予選ヒートAGr-レース結果表（貼付）'!$B:$B,0),MATCH('予選ヒートAGr-レース結果表'!J$11,'[1]予選ヒートAGr-レース結果表（貼付）'!$1:$1,0)))),"") -> 6.266 | K16: =IFERROR(IF(A16="DNS","",IF(A16="DQ","",INDEX('[1]予選ヒートAGr-レース結果表（貼付）'!$A:$Z,MATCH($B16,'[1]予選ヒートAGr-レース結果表（貼付）'!$B:$B,0),MATCH('予選ヒートAGr-レース結果表'!K$11,'[1]予選ヒートAGr-レース結果表（貼付）'!$1:$1,0)))),"") -> 5.255 | L16: =IFERROR(IF(A16="DNS","",IF(A16="DQ","",INDEX('[1]予選ヒートAGr-レース結果表（貼付）'!$A:$Z,MATCH($B16,'[1]予選ヒートAGr-レース結果表（貼付）'!$B:$B,0),MATCH('予選ヒートAGr-レース結果表'!L$11,'[1]予選ヒートAGr-レース結果表（貼付）'!$1:$1,0)))),"") -> 56.358 | M16: =IF(L16<1,"",IF($M$11>L16,"R","")) | P16: =IF(IFERROR(INDEX('[1]予選ヒートAGr-レース結果表（貼付）'!$A:$Z,MATCH($B16,'[1]予選ヒートAGr-レース結果表（貼付）'!$B:$B,0),MATCH(P$11,'[1]予選ヒートAGr-レース結果表（貼付）'!$1:$1,0)),"")=0,"",IFERROR(INDEX('[1]予選ヒートAGr-レース結果表（貼付）'!$A:$Z,MATCH($B16,'[1]予選ヒートAGr-レース結果表（貼付）'!$B:$B,0),MATCH(P$11,'[1]予選ヒートAGr-レース結果表（貼付）'!$1:$1,0)),"")) -> 鈴鹿選手権ｼﾘｰｽﾞ特別規則 競技車両規則第60条～2)(ﾌﾛﾝﾄﾌｪｱﾘﾝｸﾞ)違反により、5秒加算とした。 | Q16: =IF(P16="","",COUNTIF($P$13:P16,"<>"&"")) -> 4 | R16: =IFERROR(RANK(Q16,$Q$13:$Q$48,1),"") -> 1 | S16: =IF(IFERROR(INDEX('[1]予選ヒートAGr-レース結果表（貼付）'!$A:$Z,MATCH($A16,'[1]予選ヒートAGr-レース結果表（貼付）'!$A:$A,0),MATCH(S$11,'[1]予選ヒートAGr-レース結果表（貼付）'!$1:$1,0)),"")=0,"",IFERROR(INDEX('[1]予選ヒートAGr-レース結果表（貼付）'!$A:$Z,MATCH($A16,'[1]予選ヒートAGr-レース結果表（貼付）'!$A:$A,0),MATCH(S$11,'[1]予選ヒートAGr-レース結果表（貼付）'!$1:$1,0)),"")) | U16: =IF(IFERROR(INDEX('[1]予選ヒートAGr-レース結果表（貼付）'!$A:$Z,MATCH($B16,'[1]予選ヒートAGr-レース結果表（貼付）'!$B:$B,0),MATCH(U$11,'[1]予選ヒートAGr-レース結果表（貼付）'!$1:$1,0)),"")=0,"",IFERROR(INDEX('[1]予選ヒートAGr-レース結果表（貼付）'!$A:$Z,MATCH($B16,'[1]予選ヒートAGr-レース結果表（貼付）'!$B:$B,0),MATCH(U$11,'[1]予選ヒートAGr-レース結果表（貼付）'!$1:$1,0)),"")) -> 80.741
A17: =IF(OR('[1]予選ヒートAGr-レース結果表（貼付）'!A6="DNF",'[1]予選ヒートAGr-レース結果表（貼付）'!A6="DNS",'[1]予選ヒートAGr-レース結果表（貼付）'!A6="DQ"),'[1]予選ヒートAGr-レース結果表（貼付）'!A6,IF(MAX('[1]予選ヒートAGr-レース結果表（貼付）'!$A:$A)>A16,A16+1,"")) -> 5 | B17: =IFERROR(INDEX('[1]予選ヒートAGr-レース結果表（貼付）'!A6:$Z$50,MATCH($A17,'[1]予選ヒートAGr-レース結果表（貼付）'!A6:$A$50,0),MATCH('[1]公式予選（TT）AGr-結果表（印刷）'!B$11,'[1]予選ヒートAGr-レース結果表（貼付）'!$1:$1,0)),"") -> 3 | D17: =IFERROR(INDEX('[1]予選ヒートAGr-レース結果表（貼付）'!$A:$Z,MATCH($A17,'[1]予選ヒートAGr-レース結果表（貼付）'!$A:$A,0),MATCH('予選ヒートAGr-レース結果表'!D$11,'[1]予選ヒートAGr-レース結果表（貼付）'!$1:$1,0)),"") -> 奥野 安眞 | E17: =IFERROR(INDEX('[1]予選ヒートAGr-レース結果表（貼付）'!$A:$Z,MATCH($A17,'[1]予選ヒートAGr-レース結果表（貼付）'!$A:$A,0),MATCH('予選ヒートAGr-レース結果表'!E$11,'[1]予選ヒートAGr-レース結果表（貼付）'!$1:$1,0)),"") -> MACH1/YAMAHA | F17: =IFERROR(INDEX('[1]予選ヒートAGr-レース結果表（貼付）'!$A:$Z,MATCH($A17,'[1]予選ヒートAGr-レース結果表（貼付）'!$A:$A,0),MATCH('予選ヒートAGr-レース結果表'!F$11,'[1]予選ヒートAGr-レース結果表（貼付）'!$1:$1,0)),"") -> F's CLUB | G17: =IFERROR(INDEX('[1]予選ヒートAGr-レース結果表（貼付）'!$A:$Z,MATCH($A17,'[1]予選ヒートAGr-レース結果表（貼付）'!$A:$A,0),MATCH('予選ヒートAGr-レース結果表'!G$11,'[1]予選ヒートAGr-レース結果表（貼付）'!$1:$1,0)),"") -> BS | H17: =IF(A17="DNS","",IF(A17="DQ","",INDEX('[1]予選ヒートAGr-レース結果表（貼付）'!$A:$Z,MATCH($B17,'[1]予選ヒートAGr-レース結果表（貼付）'!$B:$B,0),MATCH('予選ヒートAGr-レース結果表'!H$11,'[1]予選ヒートAGr-レース結果表（貼付）'!$1:$1,0)))) -> 10 | I17: =IFERROR(IF(A17="DNS","ｽﾀｰﾄ出来ず",IF(A17="DQ","失 格",INDEX('[1]予選ヒートAGr-レース結果表（貼付）'!$A:$Z,MATCH($B17,'[1]予選ヒートAGr-レース結果表（貼付）'!$B:$B,0),MATCH('予選ヒートAGr-レース結果表'!I$11,'[1]予選ヒートAGr-レース結果表（貼付）'!$1:$1,0)))),"") -> 0.006641412 | J17: =IFERROR(IF(A17="DNS","",IF(A17="DQ","",INDEX('[1]予選ヒートAGr-レース結果表（貼付）'!$A:$Z,MATCH($B17,'[1]予選ヒートAGr-レース結果表（貼付）'!$B:$B,0),MATCH('予選ヒートAGr-レース結果表'!J$11,'[1]予選ヒートAGr-レース結果表（貼付）'!$1:$1,0)))),"") -> 6.282 | K17: =IFERROR(IF(A17="DNS","",IF(A17="DQ","",INDEX('[1]予選ヒートAGr-レース結果表（貼付）'!$A:$Z,MATCH($B17,'[1]予選ヒートAGr-レース結果表（貼付）'!$B:$B,0),MATCH('予選ヒートAGr-レース結果表'!K$11,'[1]予選ヒートAGr-レース結果表（貼付）'!$1:$1,0)))),"") -> 0.016 | L17: =IFERROR(IF(A17="DNS","",IF(A17="DQ","",INDEX('[1]予選ヒートAGr-レース結果表（貼付）'!$A:$Z,MATCH($B17,'[1]予選ヒートAGr-レース結果表（貼付）'!$B:$B,0),MATCH('予選ヒートAGr-レース結果表'!L$11,'[1]予選ヒートAGr-レース結果表（貼付）'!$1:$1,0)))),"") -> 56.586 | M17: =IF(L17<1,"",IF($M$11>L17,"R","")) | P17: =IF(IFERROR(INDEX('[1]予選ヒートAGr-レース結果表（貼付）'!$A:$Z,MATCH($B17,'[1]予選ヒートAGr-レース結果表（貼付）'!$B:$B,0),MATCH(P$11,'[1]予選ヒートAGr-レース結果表（貼付）'!$1:$1,0)),"")=0,"",IFERROR(INDEX('[1]予選ヒートAGr-レース結果表（貼付）'!$A:$Z,MATCH($B17,'[1]予選ヒートAGr-レース結果表（貼付）'!$B:$B,0),MATCH(P$11,'[1]予選ヒートAGr-レース結果表（貼付）'!$1:$1,0)),"")) | Q17: =IF(P17="","",COUNTIF($P$13:P17,"<>"&"")) | R17: =IFERROR(RANK(Q17,$Q$13:$Q$48,1),"") | S17: =IF(IFERROR(INDEX('[1]予選ヒートAGr-レース結果表（貼付）'!$A:$Z,MATCH($A17,'[1]予選ヒートAGr-レース結果表（貼付）'!$A:$A,0),MATCH(S$11,'[1]予選ヒートAGr-レース結果表（貼付）'!$1:$1,0)),"")=0,"",IFERROR(INDEX('[1]予選ヒートAGr-レース結果表（貼付）'!$A:$Z,MATCH($A17,'[1]予選ヒートAGr-レース結果表（貼付）'!$A:$A,0),MATCH(S$11,'[1]予選ヒートAGr-レース結果表（貼付）'!$1:$1,0)),"")) | U17: =IF(IFERROR(INDEX('[1]予選ヒートAGr-レース結果表（貼付）'!$A:$Z,MATCH($B17,'[1]予選ヒートAGr-レース結果表（貼付）'!$B:$B,0),MATCH(U$11,'[1]予選ヒートAGr-レース結果表（貼付）'!$1:$1,0)),"")=0,"",IFERROR(INDEX('[1]予選ヒートAGr-レース結果表（貼付）'!$A:$Z,MATCH($B17,'[1]予選ヒートAGr-レース結果表（貼付）'!$B:$B,0),MATCH(U$11,'[1]予選ヒートAGr-レース結果表（貼付）'!$1:$1,0)),"")) -> 80.416
A18: =IF(OR('[1]予選ヒートAGr-レース結果表（貼付）'!A7="DNF",'[1]予選ヒートAGr-レース結果表（貼付）'!A7="DNS",'[1]予選ヒートAGr-レース結果表（貼付）'!A7="DQ"),'[1]予選ヒートAGr-レース結果表（貼付）'!A7,IF(MAX('[1]予選ヒートAGr-レース結果表（貼付）'!$A:$A)>A17,A17+1,"")) -> 6 | B18: =IFERROR(INDEX('[1]予選ヒートAGr-レース結果表（貼付）'!A7:$Z$50,MATCH($A18,'[1]予選ヒートAGr-レース結果表（貼付）'!A7:$A$50,0),MATCH('[1]公式予選（TT）AGr-結果表（印刷）'!B$11,'[1]予選ヒートAGr-レース結果表（貼付）'!$1:$1,0)),"") -> 15 | D18: =IFERROR(INDEX('[1]予選ヒートAGr-レース結果表（貼付）'!$A:$Z,MATCH($A18,'[1]予選ヒートAGr-レース結果表（貼付）'!$A:$A,0),MATCH('予選ヒートAGr-レース結果表'!D$11,'[1]予選ヒートAGr-レース結果表（貼付）'!$1:$1,0)),"") -> 田中 哲 | E18: =IFERROR(INDEX('[1]予選ヒートAGr-レース結果表（貼付）'!$A:$Z,MATCH($A18,'[1]予選ヒートAGr-レース結果表（貼付）'!$A:$A,0),MATCH('予選ヒートAGr-レース結果表'!E$11,'[1]予選ヒートAGr-レース結果表（貼付）'!$1:$1,0)),"") -> birelART/YAMAHA | F18: =IFERROR(INDEX('[1]予選ヒートAGr-レース結果表（貼付）'!$A:$Z,MATCH($A18,'[1]予選ヒートAGr-レース結果表（貼付）'!$A:$A,0),MATCH('予選ヒートAGr-レース結果表'!F$11,'[1]予選ヒートAGr-レース結果表（貼付）'!$1:$1,0)),"") -> Astech | G18: =IFERROR(INDEX('[1]予選ヒートAGr-レース結果表（貼付）'!$A:$Z,MATCH($A18,'[1]予選ヒートAGr-レース結果表（貼付）'!$A:$A,0),MATCH('予選ヒートAGr-レース結果表'!G$11,'[1]予選ヒートAGr-レース結果表（貼付）'!$1:$1,0)),"") -> BS | H18: =IF(A18="DNS","",IF(A18="DQ","",INDEX('[1]予選ヒートAGr-レース結果表（貼付）'!$A:$Z,MATCH($B18,'[1]予選ヒートAGr-レース結果表（貼付）'!$B:$B,0),MATCH('予選ヒートAGr-レース結果表'!H$11,'[1]予選ヒートAGr-レース結果表（貼付）'!$1:$1,0)))) -> 10 | I18: =IFERROR(IF(A18="DNS","ｽﾀｰﾄ出来ず",IF(A18="DQ","失 格",INDEX('[1]予選ヒートAGr-レース結果表（貼付）'!$A:$Z,MATCH($B18,'[1]予選ヒートAGr-レース結果表（貼付）'!$B:$B,0),MATCH('予選ヒートAGr-レース結果表'!I$11,'[1]予選ヒートAGr-レース結果表（貼付）'!$1:$1,0)))),"") -> 0.0066439005 | J18: =IFERROR(IF(A18="DNS","",IF(A18="DQ","",INDEX('[1]予選ヒートAGr-レース結果表（貼付）'!$A:$Z,MATCH($B18,'[1]予選ヒートAGr-レース結果表（貼付）'!$B:$B,0),MATCH('予選ヒートAGr-レース結果表'!J$11,'[1]予選ヒートAGr-レース結果表（貼付）'!$1:$1,0)))),"") -> 6.497 | K18: =IFERROR(IF(A18="DNS","",IF(A18="DQ","",INDEX('[1]予選ヒートAGr-レース結果表（貼付）'!$A:$Z,MATCH($B18,'[1]予選ヒートAGr-レース結果表（貼付）'!$B:$B,0),MATCH('予選ヒートAGr-レース結果表'!K$11,'[1]予選ヒートAGr-レース結果表（貼付）'!$1:$1,0)))),"") -> 0.215 | L18: =IFERROR(IF(A18="DNS","",IF(A18="DQ","",INDEX('[1]予選ヒートAGr-レース結果表（貼付）'!$A:$Z,MATCH($B18,'[1]予選ヒートAGr-レース結果表（貼付）'!$B:$B,0),MATCH('予選ヒートAGr-レース結果表'!L$11,'[1]予選ヒートAGr-レース結果表（貼付）'!$1:$1,0)))),"") -> 56.716 | M18: =IF(L18<1,"",IF($M$11>L18,"R","")) | P18: =IF(IFERROR(INDEX('[1]予選ヒートAGr-レース結果表（貼付）'!$A:$Z,MATCH($B18,'[1]予選ヒートAGr-レース結果表（貼付）'!$B:$B,0),MATCH(P$11,'[1]予選ヒートAGr-レース結果表（貼付）'!$1:$1,0)),"")=0,"",IFERROR(INDEX('[1]予選ヒートAGr-レース結果表（貼付）'!$A:$Z,MATCH($B18,'[1]予選ヒートAGr-レース結果表（貼付）'!$B:$B,0),MATCH(P$11,'[1]予選ヒートAGr-レース結果表（貼付）'!$1:$1,0)),"")) | Q18: =IF(P18="","",COUNTIF($P$13:P18,"<>"&"")) | R18: =IFERROR(RANK(Q18,$Q$13:$Q$48,1),"") | S18: =IF(IFERROR(INDEX('[1]予選ヒートAGr-レース結果表（貼付）'!$A:$Z,MATCH($A18,'[1]予選ヒートAGr-レース結果表（貼付）'!$A:$A,0),MATCH(S$11,'[1]予選ヒートAGr-レース結果表（貼付）'!$1:$1,0)),"")=0,"",IFERROR(INDEX('[1]予選ヒートAGr-レース結果表（貼付）'!$A:$Z,MATCH($A18,'[1]予選ヒートAGr-レース結果表（貼付）'!$A:$A,0),MATCH(S$11,'[1]予選ヒートAGr-レース結果表（貼付）'!$1:$1,0)),"")) | U18: =IF(IFERROR(INDEX('[1]予選ヒートAGr-レース結果表（貼付）'!$A:$Z,MATCH($B18,'[1]予選ヒートAGr-レース結果表（貼付）'!$B:$B,0),MATCH(U$11,'[1]予選ヒートAGr-レース結果表（貼付）'!$1:$1,0)),"")=0,"",IFERROR(INDEX('[1]予選ヒートAGr-レース結果表（貼付）'!$A:$Z,MATCH($B18,'[1]予選ヒートAGr-レース結果表（貼付）'!$B:$B,0),MATCH(U$11,'[1]予選ヒートAGr-レース結果表（貼付）'!$1:$1,0)),"")) -> 80.231
A19: =IF(OR('[1]予選ヒートAGr-レース結果表（貼付）'!A8="DNF",'[1]予選ヒートAGr-レース結果表（貼付）'!A8="DNS",'[1]予選ヒートAGr-レース結果表（貼付）'!A8="DQ"),'[1]予選ヒートAGr-レース結果表（貼付）'!A8,IF(MAX('[1]予選ヒートAGr-レース結果表（貼付）'!$A:$A)>A18,A18+1,"")) -> 7 | B19: =IFERROR(INDEX('[1]予選ヒートAGr-レース結果表（貼付）'!A8:$Z$50,MATCH($A19,'[1]予選ヒートAGr-レース結果表（貼付）'!A8:$A$50,0),MATCH('[1]公式予選（TT）AGr-結果表（印刷）'!B$11,'[1]予選ヒートAGr-レース結果表（貼付）'!$1:$1,0)),"") -> 31 | D19: =IFERROR(INDEX('[1]予選ヒートAGr-レース結果表（貼付）'!$A:$Z,MATCH($A19,'[1]予選ヒートAGr-レース結果表（貼付）'!$A:$A,0),MATCH('予選ヒートAGr-レース結果表'!D$11,'[1]予選ヒートAGr-レース結果表（貼付）'!$1:$1,0)),"") -> 長内 正人 | E19: =IFERROR(INDEX('[1]予選ヒートAGr-レース結果表（貼付）'!$A:$Z,MATCH($A19,'[1]予選ヒートAGr-レース結果表（貼付）'!$A:$A,0),MATCH('予選ヒートAGr-レース結果表'!E$11,'[1]予選ヒートAGr-レース結果表（貼付）'!$1:$1,0)),"") -> ビレル/YAMAHA | F19: =IFERROR(INDEX('[1]予選ヒートAGr-レース結果表（貼付）'!$A:$Z,MATCH($A19,'[1]予選ヒートAGr-レース結果表（貼付）'!$A:$A,0),MATCH('予選ヒートAGr-レース結果表'!F$11,'[1]予選ヒートAGr-レース結果表（貼付）'!$1:$1,0)),"") -> wellstoneKC with 茂原TC | G19: =IFERROR(INDEX('[1]予選ヒートAGr-レース結果表（貼付）'!$A:$Z,MATCH($A19,'[1]予選ヒートAGr-レース結果表（貼付）'!$A:$A,0),MATCH('予選ヒートAGr-レース結果表'!G$11,'[1]予選ヒートAGr-レース結果表（貼付）'!$1:$1,0)),"") -> BS | H19: =IF(A19="DNS","",IF(A19="DQ","",INDEX('[1]予選ヒートAGr-レース結果表（貼付）'!$A:$Z,MATCH($B19,'[1]予選ヒートAGr-レース結果表（貼付）'!$B:$B,0),MATCH('予選ヒートAGr-レース結果表'!H$11,'[1]予選ヒートAGr-レース結果表（貼付）'!$1:$1,0)))) -> 10 | I19: =IFERROR(IF(A19="DNS","ｽﾀｰﾄ出来ず",IF(A19="DQ","失 格",INDEX('[1]予選ヒートAGr-レース結果表（貼付）'!$A:$Z,MATCH($B19,'[1]予選ヒートAGr-レース結果表（貼付）'!$B:$B,0),MATCH('予選ヒートAGr-レース結果表'!I$11,'[1]予選ヒートAGr-レース結果表（貼付）'!$1:$1,0)))),"") -> 0.0066521644 | J19: =IFERROR(IF(A19="DNS","",IF(A19="DQ","",INDEX('[1]予選ヒートAGr-レース結果表（貼付）'!$A:$Z,MATCH($B19,'[1]予選ヒートAGr-レース結果表（貼付）'!$B:$B,0),MATCH('予選ヒートAGr-レース結果表'!J$11,'[1]予選ヒートAGr-レース結果表（貼付）'!$1:$1,0)))),"") -> 7.211 | K19: =IFERROR(IF(A19="DNS","",IF(A19="DQ","",INDEX('[1]予選ヒートAGr-レース結果表（貼付）'!$A:$Z,MATCH($B19,'[1]予選ヒートAGr-レース結果表（貼付）'!$B:$B,0),MATCH('予選ヒートAGr-レース結果表'!K$11,'[1]予選ヒートAGr-レース結果表（貼付）'!$1:$1,0)))),"") -> 0.714 | L19: =IFERROR(IF(A19="DNS","",IF(A19="DQ","",INDEX('[1]予選ヒートAGr-レース結果表（貼付）'!$A:$Z,MATCH($B19,'[1]予選ヒートAGr-レース結果表（貼付）'!$B:$B,0),MATCH('予選ヒートAGr-レース結果表'!L$11,'[1]予選ヒートAGr-レース結果表（貼付）'!$1:$1,0)))),"") -> 56.916 | M19: =IF(L19<1,"",IF($M$11>L19,"R","")) | P19: =IF(IFERROR(INDEX('[1]予選ヒートAGr-レース結果表（貼付）'!$A:$Z,MATCH($B19,'[1]予選ヒートAGr-レース結果表（貼付）'!$B:$B,0),MATCH(P$11,'[1]予選ヒートAGr-レース結果表（貼付）'!$1:$1,0)),"")=0,"",IFERROR(INDEX('[1]予選ヒートAGr-レース結果表（貼付）'!$A:$Z,MATCH($B19,'[1]予選ヒートAGr-レース結果表（貼付）'!$B:$B,0),MATCH(P$11,'[1]予選ヒートAGr-レース結果表（貼付）'!$1:$1,0)),"")) | Q19: =IF(P19="","",COUNTIF($P$13:P19,"<>"&"")) | R19: =IFERROR(RANK(Q19,$Q$13:$Q$48,1),"") | S19: =IF(IFERROR(INDEX('[1]予選ヒートAGr-レース結果表（貼付）'!$A:$Z,MATCH($A19,'[1]予選ヒートAGr-レース結果表（貼付）'!$A:$A,0),MATCH(S$11,'[1]予選ヒートAGr-レース結果表（貼付）'!$1:$1,0)),"")=0,"",IFERROR(INDEX('[1]予選ヒートAGr-レース結果表（貼付）'!$A:$Z,MATCH($A19,'[1]予選ヒートAGr-レース結果表（貼付）'!$A:$A,0),MATCH(S$11,'[1]予選ヒートAGr-レース結果表（貼付）'!$1:$1,0)),"")) | U19: =IF(IFERROR(INDEX('[1]予選ヒートAGr-レース結果表（貼付）'!$A:$Z,MATCH($B19,'[1]予選ヒートAGr-レース結果表（貼付）'!$B:$B,0),MATCH(U$11,'[1]予選ヒートAGr-レース結果表（貼付）'!$1:$1,0)),"")=0,"",IFERROR(INDEX('[1]予選ヒートAGr-レース結果表（貼付）'!$A:$Z,MATCH($B19,'[1]予選ヒートAGr-レース結果表（貼付）'!$B:$B,0),MATCH(U$11,'[1]予選ヒートAGr-レース結果表（貼付）'!$1:$1,0)),"")) -> 79.949
A20: =IF(OR('[1]予選ヒートAGr-レース結果表（貼付）'!A9="DNF",'[1]予選ヒートAGr-レース結果表（貼付）'!A9="DNS",'[1]予選ヒートAGr-レース結果表（貼付）'!A9="DQ"),'[1]予選ヒートAGr-レース結果表（貼付）'!A9,IF(MAX('[1]予選ヒートAGr-レース結果表（貼付）'!$A:$A)>A19,A19+1,"")) -> 8 | B20: =IFERROR(INDEX('[1]予選ヒートAGr-レース結果表（貼付）'!A9:$Z$50,MATCH($A20,'[1]予選ヒートAGr-レース結果表（貼付）'!A9:$A$50,0),MATCH('[1]公式予選（TT）AGr-結果表（印刷）'!B$11,'[1]予選ヒートAGr-レース結果表（貼付）'!$1:$1,0)),"") -> 12 | D20: =IFERROR(INDEX('[1]予選ヒートAGr-レース結果表（貼付）'!$A:$Z,MATCH($A20,'[1]予選ヒートAGr-レース結果表（貼付）'!$A:$A,0),MATCH('予選ヒートAGr-レース結果表'!D$11,'[1]予選ヒートAGr-レース結果表（貼付）'!$1:$1,0)),"") -> 辻井 啓貴 | E20: =IFERROR(INDEX('[1]予選ヒートAGr-レース結果表（貼付）'!$A:$Z,MATCH($A20,'[1]予選ヒートAGr-レース結果表（貼付）'!$A:$A,0),MATCH('予選ヒートAGr-レース結果表'!E$11,'[1]予選ヒートAGr-レース結果表（貼付）'!$1:$1,0)),"") -> KOSMIC/YAMAHA | F20: =IFERROR(INDEX('[1]予選ヒートAGr-レース結果表（貼付）'!$A:$Z,MATCH($A20,'[1]予選ヒートAGr-レース結果表（貼付）'!$A:$A,0),MATCH('予選ヒートAGr-レース結果表'!F$11,'[1]予選ヒートAGr-レース結果表（貼付）'!$1:$1,0)),"") -> EHRE motorsport | G20: =IFERROR(INDEX('[1]予選ヒートAGr-レース結果表（貼付）'!$A:$Z,MATCH($A20,'[1]予選ヒートAGr-レース結果表（貼付）'!$A:$A,0),MATCH('予選ヒートAGr-レース結果表'!G$11,'[1]予選ヒートAGr-レース結果表（貼付）'!$1:$1,0)),"") -> BS | H20: =IF(A20="DNS","",IF(A20="DQ","",INDEX('[1]予選ヒートAGr-レース結果表（貼付）'!$A:$Z,MATCH($B20,'[1]予選ヒートAGr-レース結果表（貼付）'!$B:$B,0),MATCH('予選ヒートAGr-レース結果表'!H$11,'[1]予選ヒートAGr-レース結果表（貼付）'!$1:$1,0)))) -> 10 | I20: =IFERROR(IF(A20="DNS","ｽﾀｰﾄ出来ず",IF(A20="DQ","失 格",INDEX('[1]予選ヒートAGr-レース結果表（貼付）'!$A:$Z,MATCH($B20,'[1]予選ヒートAGr-レース結果表（貼付）'!$B:$B,0),MATCH('予選ヒートAGr-レース結果表'!I$11,'[1]予選ヒートAGr-レース結果表（貼付）'!$1:$1,0)))),"") -> 0.0066541898 | J20: =IFERROR(IF(A20="DNS","",IF(A20="DQ","",INDEX('[1]予選ヒートAGr-レース結果表（貼付）'!$A:$Z,MATCH($B20,'[1]予選ヒートAGr-レース結果表（貼付）'!$B:$B,0),MATCH('予選ヒートAGr-レース結果表'!J$11,'[1]予選ヒートAGr-レース結果表（貼付）'!$1:$1,0)))),"") -> 7.386 | K20: =IFERROR(IF(A20="DNS","",IF(A20="DQ","",INDEX('[1]予選ヒートAGr-レース結果表（貼付）'!$A:$Z,MATCH($B20,'[1]予選ヒートAGr-レース結果表（貼付）'!$B:$B,0),MATCH('予選ヒートAGr-レース結果表'!K$11,'[1]予選ヒートAGr-レース結果表（貼付）'!$1:$1,0)))),"") -> 0.175 | L20: =IFERROR(IF(A20="DNS","",IF(A20="DQ","",INDEX('[1]予選ヒートAGr-レース結果表（貼付）'!$A:$Z,MATCH($B20,'[1]予選ヒートAGr-レース結果表（貼付）'!$B:$B,0),MATCH('予選ヒートAGr-レース結果表'!L$11,'[1]予選ヒートAGr-レース結果表（貼付）'!$1:$1,0)))),"") -> 56.618 | M20: =IF(L20<1,"",IF($M$11>L20,"R","")) | P20: =IF(IFERROR(INDEX('[1]予選ヒートAGr-レース結果表（貼付）'!$A:$Z,MATCH($B20,'[1]予選ヒートAGr-レース結果表（貼付）'!$B:$B,0),MATCH(P$11,'[1]予選ヒートAGr-レース結果表（貼付）'!$1:$1,0)),"")=0,"",IFERROR(INDEX('[1]予選ヒートAGr-レース結果表（貼付）'!$A:$Z,MATCH($B20,'[1]予選ヒートAGr-レース結果表（貼付）'!$B:$B,0),MATCH(P$11,'[1]予選ヒートAGr-レース結果表（貼付）'!$1:$1,0)),"")) | Q20: =IF(P20="","",COUNTIF($P$13:P20,"<>"&"")) | R20: =IFERROR(RANK(Q20,$Q$13:$Q$48,1),"") | S20: =IF(IFERROR(INDEX('[1]予選ヒートAGr-レース結果表（貼付）'!$A:$Z,MATCH($A20,'[1]予選ヒートAGr-レース結果表（貼付）'!$A:$A,0),MATCH(S$11,'[1]予選ヒートAGr-レース結果表（貼付）'!$1:$1,0)),"")=0,"",IFERROR(INDEX('[1]予選ヒートAGr-レース結果表（貼付）'!$A:$Z,MATCH($A20,'[1]予選ヒートAGr-レース結果表（貼付）'!$A:$A,0),MATCH(S$11,'[1]予選ヒートAGr-レース結果表（貼付）'!$1:$1,0)),"")) | U20: =IF(IFERROR(INDEX('[1]予選ヒートAGr-レース結果表（貼付）'!$A:$Z,MATCH($B20,'[1]予選ヒートAGr-レース結果表（貼付）'!$B:$B,0),MATCH(U$11,'[1]予選ヒートAGr-レース結果表（貼付）'!$1:$1,0)),"")=0,"",IFERROR(INDEX('[1]予選ヒートAGr-レース結果表（貼付）'!$A:$Z,MATCH($B20,'[1]予選ヒートAGr-レース結果表（貼付）'!$B:$B,0),MATCH(U$11,'[1]予選ヒートAGr-レース結果表（貼付）'!$1:$1,0)),"")) -> 80.37
A21: =IF(OR('[1]予選ヒートAGr-レース結果表（貼付）'!A10="DNF",'[1]予選ヒートAGr-レース結果表（貼付）'!A10="DNS",'[1]予選ヒートAGr-レース結果表（貼付）'!A10="DQ"),'[1]予選ヒートAGr-レース結果表（貼付）'!A10,IF(MAX('[1]予選ヒートAGr-レース結果表（貼付）'!$A:$A)>A20,A20+1,"")) -> 9 | B21: =IFERROR(INDEX('[1]予選ヒートAGr-レース結果表（貼付）'!A10:$Z$50,MATCH($A21,'[1]予選ヒートAGr-レース結果表（貼付）'!A10:$A$50,0),MATCH('[1]公式予選（TT）AGr-結果表（印刷）'!B$11,'[1]予選ヒートAGr-レース結果表（貼付）'!$1:$1,0)),"") -> 9 | D21: =IFERROR(INDEX('[1]予選ヒートAGr-レース結果表（貼付）'!$A:$Z,MATCH($A21,'[1]予選ヒートAGr-レース結果表（貼付）'!$A:$A,0),MATCH('予選ヒートAGr-レース結果表'!D$11,'[1]予選ヒートAGr-レース結果表（貼付）'!$1:$1,0)),"") -> 澤口 宙征 | E21: =IFERROR(INDEX('[1]予選ヒートAGr-レース結果表（貼付）'!$A:$Z,MATCH($A21,'[1]予選ヒートAGr-レース結果表（貼付）'!$A:$A,0),MATCH('予選ヒートAGr-レース結果表'!E$11,'[1]予選ヒートAGr-レース結果表（貼付）'!$1:$1,0)),"") -> REDSPEED/YAMAHA | F21: =IFERROR(INDEX('[1]予選ヒートAGr-レース結果表（貼付）'!$A:$Z,MATCH($A21,'[1]予選ヒートAGr-レース結果表（貼付）'!$A:$A,0),MATCH('予選ヒートAGr-レース結果表'!F$11,'[1]予選ヒートAGr-レース結果表（貼付）'!$1:$1,0)),"") -> ﾊﾗﾀﾞｶｰﾄｸﾗﾌﾞ | G21: =IFERROR(INDEX('[1]予選ヒートAGr-レース結果表（貼付）'!$A:$Z,MATCH($A21,'[1]予選ヒートAGr-レース結果表（貼付）'!$A:$A,0),MATCH('予選ヒートAGr-レース結果表'!G$11,'[1]予選ヒートAGr-レース結果表（貼付）'!$1:$1,0)),"") -> BS | H21: =IF(A21="DNS","",IF(A21="DQ","",INDEX('[1]予選ヒートAGr-レース結果表（貼付）'!$A:$Z,MATCH($B21,'[1]予選ヒートAGr-レース結果表（貼付）'!$B:$B,0),MATCH('予選ヒートAGr-レース結果表'!H$11,'[1]予選ヒートAGr-レース結果表（貼付）'!$1:$1,0)))) -> 10 | I21: =IFERROR(IF(A21="DNS","ｽﾀｰﾄ出来ず",IF(A21="DQ","失 格",INDEX('[1]予選ヒートAGr-レース結果表（貼付）'!$A:$Z,MATCH($B21,'[1]予選ヒートAGr-レース結果表（貼付）'!$B:$B,0),MATCH('予選ヒートAGr-レース結果表'!I$11,'[1]予選ヒートAGr-レース結果表（貼付）'!$1:$1,0)))),"") -> 0.0066584491 | J21: =IFERROR(IF(A21="DNS","",IF(A21="DQ","",INDEX('[1]予選ヒートAGr-レース結果表（貼付）'!$A:$Z,MATCH($B21,'[1]予選ヒートAGr-レース結果表（貼付）'!$B:$B,0),MATCH('予選ヒートAGr-レース結果表'!J$11,'[1]予選ヒートAGr-レース結果表（貼付）'!$1:$1,0)))),"") -> 7.754 | K21: =IFERROR(IF(A21="DNS","",IF(A21="DQ","",INDEX('[1]予選ヒートAGr-レース結果表（貼付）'!$A:$Z,MATCH($B21,'[1]予選ヒートAGr-レース結果表（貼付）'!$B:$B,0),MATCH('予選ヒートAGr-レース結果表'!K$11,'[1]予選ヒートAGr-レース結果表（貼付）'!$1:$1,0)))),"") -> 0.368 | L21: =IFERROR(IF(A21="DNS","",IF(A21="DQ","",INDEX('[1]予選ヒートAGr-レース結果表（貼付）'!$A:$Z,MATCH($B21,'[1]予選ヒートAGr-レース結果表（貼付）'!$B:$B,0),MATCH('予選ヒートAGr-レース結果表'!L$11,'[1]予選ヒートAGr-レース結果表（貼付）'!$1:$1,0)))),"") -> 56.936 | M21: =IF(L21<1,"",IF($M$11>L21,"R","")) | P21: =IF(IFERROR(INDEX('[1]予選ヒートAGr-レース結果表（貼付）'!$A:$Z,MATCH($B21,'[1]予選ヒートAGr-レース結果表（貼付）'!$B:$B,0),MATCH(P$11,'[1]予選ヒートAGr-レース結果表（貼付）'!$1:$1,0)),"")=0,"",IFERROR(INDEX('[1]予選ヒートAGr-レース結果表（貼付）'!$A:$Z,MATCH($B21,'[1]予選ヒートAGr-レース結果表（貼付）'!$B:$B,0),MATCH(P$11,'[1]予選ヒートAGr-レース結果表（貼付）'!$1:$1,0)),"")) | Q21: =IF(P21="","",COUNTIF($P$13:P21,"<>"&"")) | R21: =IFERROR(RANK(Q21,$Q$13:$Q$48,1),"") | S21: =IF(IFERROR(INDEX('[1]予選ヒートAGr-レース結果表（貼付）'!$A:$Z,MATCH($A21,'[1]予選ヒートAGr-レース結果表（貼付）'!$A:$A,0),MATCH(S$11,'[1]予選ヒートAGr-レース結果表（貼付）'!$1:$1,0)),"")=0,"",IFERROR(INDEX('[1]予選ヒートAGr-レース結果表（貼付）'!$A:$Z,MATCH($A21,'[1]予選ヒートAGr-レース結果表（貼付）'!$A:$A,0),MATCH(S$11,'[1]予選ヒートAGr-レース結果表（貼付）'!$1:$1,0)),"")) | U21: =IF(IFERROR(INDEX('[1]予選ヒートAGr-レース結果表（貼付）'!$A:$Z,MATCH($B21,'[1]予選ヒートAGr-レース結果表（貼付）'!$B:$B,0),MATCH(U$11,'[1]予選ヒートAGr-レース結果表（貼付）'!$1:$1,0)),"")=0,"",IFERROR(INDEX('[1]予選ヒートAGr-レース結果表（貼付）'!$A:$Z,MATCH($B21,'[1]予選ヒートAGr-レース結果表（貼付）'!$B:$B,0),MATCH(U$11,'[1]予選ヒートAGr-レース結果表（貼付）'!$1:$1,0)),"")) -> 79.921
A22: =IF(OR('[1]予選ヒートAGr-レース結果表（貼付）'!A11="DNF",'[1]予選ヒートAGr-レース結果表（貼付）'!A11="DNS",'[1]予選ヒートAGr-レース結果表（貼付）'!A11="DQ"),'[1]予選ヒートAGr-レース結果表（貼付）'!A11,IF(MAX('[1]予選ヒートAGr-レース結果表（貼付）'!$A:$A)>A21,A21+1,"")) -> 10 | B22: =IFERROR(INDEX('[1]予選ヒートAGr-レース結果表（貼付）'!A11:$Z$50,MATCH($A22,'[1]予選ヒートAGr-レース結果表（貼付）'!A11:$A$50,0),MATCH('[1]公式予選（TT）AGr-結果表（印刷）'!B$11,'[1]予選ヒートAGr-レース結果表（貼付）'!$1:$1,0)),"") -> 97 | D22: =IFERROR(INDEX('[1]予選ヒートAGr-レース結果表（貼付）'!$A:$Z,MATCH($A22,'[1]予選ヒートAGr-レース結果表（貼付）'!$A:$A,0),MATCH('予選ヒートAGr-レース結果表'!D$11,'[1]予選ヒートAGr-レース結果表（貼付）'!$1:$1,0)),"") -> 喜多 佑気 | E22: =IFERROR(INDEX('[1]予選ヒートAGr-レース結果表（貼付）'!$A:$Z,MATCH($A22,'[1]予選ヒートAGr-レース結果表（貼付）'!$A:$A,0),MATCH('予選ヒートAGr-レース結果表'!E$11,'[1]予選ヒートAGr-レース結果表（貼付）'!$1:$1,0)),"") -> mach1/YAMAHA | F22: =IFERROR(INDEX('[1]予選ヒートAGr-レース結果表（貼付）'!$A:$Z,MATCH($A22,'[1]予選ヒートAGr-レース結果表（貼付）'!$A:$A,0),MATCH('予選ヒートAGr-レース結果表'!F$11,'[1]予選ヒートAGr-レース結果表（貼付）'!$1:$1,0)),"") -> ｻｰﾃｨｰｽﾞﾚｰｼﾝｸﾞ | G22: =IFERROR(INDEX('[1]予選ヒートAGr-レース結果表（貼付）'!$A:$Z,MATCH($A22,'[1]予選ヒートAGr-レース結果表（貼付）'!$A:$A,0),MATCH('予選ヒートAGr-レース結果表'!G$11,'[1]予選ヒートAGr-レース結果表（貼付）'!$1:$1,0)),"") -> BS | H22: =IF(A22="DNS","",IF(A22="DQ","",INDEX('[1]予選ヒートAGr-レース結果表（貼付）'!$A:$Z,MATCH($B22,'[1]予選ヒートAGr-レース結果表（貼付）'!$B:$B,0),MATCH('予選ヒートAGr-レース結果表'!H$11,'[1]予選ヒートAGr-レース結果表（貼付）'!$1:$1,0)))) -> 10 | I22: =IFERROR(IF(A22="DNS","ｽﾀｰﾄ出来ず",IF(A22="DQ","失 格",INDEX('[1]予選ヒートAGr-レース結果表（貼付）'!$A:$Z,MATCH($B22,'[1]予選ヒートAGr-レース結果表（貼付）'!$B:$B,0),MATCH('予選ヒートAGr-レース結果表'!I$11,'[1]予選ヒートAGr-レース結果表（貼付）'!$1:$1,0)))),"") -> 0.0066604745 | J22: =IFERROR(IF(A22="DNS","",IF(A22="DQ","",INDEX('[1]予選ヒートAGr-レース結果表（貼付）'!$A:$Z,MATCH($B22,'[1]予選ヒートAGr-レース結果表（貼付）'!$B:$B,0),MATCH('予選ヒートAGr-レース結果表'!J$11,'[1]予選ヒートAGr-レース結果表（貼付）'!$1:$1,0)))),"") -> 7.929 | K22: =IFERROR(IF(A22="DNS","",IF(A22="DQ","",INDEX('[1]予選ヒートAGr-レース結果表（貼付）'!$A:$Z,MATCH($B22,'[1]予選ヒートAGr-レース結果表（貼付）'!$B:$B,0),MATCH('予選ヒートAGr-レース結果表'!K$11,'[1]予選ヒートAGr-レース結果表（貼付）'!$1:$1,0)))),"") -> 0.175 | L22: =IFERROR(IF(A22="DNS","",IF(A22="DQ","",INDEX('[1]予選ヒートAGr-レース結果表（貼付）'!$A:$Z,MATCH($B22,'[1]予選ヒートAGr-レース結果表（貼付）'!$B:$B,0),MATCH('予選ヒートAGr-レース結果表'!L$11,'[1]予選ヒートAGr-レース結果表（貼付）'!$1:$1,0)))),"") -> 56.838 | M22: =IF(L22<1,"",IF($M$11>L22,"R","")) | P22: =IF(IFERROR(INDEX('[1]予選ヒートAGr-レース結果表（貼付）'!$A:$Z,MATCH($B22,'[1]予選ヒートAGr-レース結果表（貼付）'!$B:$B,0),MATCH(P$11,'[1]予選ヒートAGr-レース結果表（貼付）'!$1:$1,0)),"")=0,"",IFERROR(INDEX('[1]予選ヒートAGr-レース結果表（貼付）'!$A:$Z,MATCH($B22,'[1]予選ヒートAGr-レース結果表（貼付）'!$B:$B,0),MATCH(P$11,'[1]予選ヒートAGr-レース結果表（貼付）'!$1:$1,0)),"")) | Q22: =IF(P22="","",COUNTIF($P$13:P22,"<>"&"")) | R22: =IFERROR(RANK(Q22,$Q$13:$Q$48,1),"") | S22: =IF(IFERROR(INDEX('[1]予選ヒートAGr-レース結果表（貼付）'!$A:$Z,MATCH($A22,'[1]予選ヒートAGr-レース結果表（貼付）'!$A:$A,0),MATCH(S$11,'[1]予選ヒートAGr-レース結果表（貼付）'!$1:$1,0)),"")=0,"",IFERROR(INDEX('[1]予選ヒートAGr-レース結果表（貼付）'!$A:$Z,MATCH($A22,'[1]予選ヒートAGr-レース結果表（貼付）'!$A:$A,0),MATCH(S$11,'[1]予選ヒートAGr-レース結果表（貼付）'!$1:$1,0)),"")) | U22: =IF(IFERROR(INDEX('[1]予選ヒートAGr-レース結果表（貼付）'!$A:$Z,MATCH($B22,'[1]予選ヒートAGr-レース結果表（貼付）'!$B:$B,0),MATCH(U$11,'[1]予選ヒートAGr-レース結果表（貼付）'!$1:$1,0)),"")=0,"",IFERROR(INDEX('[1]予選ヒートAGr-レース結果表（貼付）'!$A:$Z,MATCH($B22,'[1]予選ヒートAGr-レース結果表（貼付）'!$B:$B,0),MATCH(U$11,'[1]予選ヒートAGr-レース結果表（貼付）'!$1:$1,0)),"")) -> 80.059
A23: =IF(OR('[1]予選ヒートAGr-レース結果表（貼付）'!A12="DNF",'[1]予選ヒートAGr-レース結果表（貼付）'!A12="DNS",'[1]予選ヒートAGr-レース結果表（貼付）'!A12="DQ"),'[1]予選ヒートAGr-レース結果表（貼付）'!A12,IF(MAX('[1]予選ヒートAGr-レース結果表（貼付）'!$A:$A)>A22,A22+1,"")) -> 11 | B23: =IFERROR(INDEX('[1]予選ヒートAGr-レース結果表（貼付）'!A12:$Z$50,MATCH($A23,'[1]予選ヒートAGr-レース結果表（貼付）'!A12:$A$50,0),MATCH('[1]公式予選（TT）AGr-結果表（印刷）'!B$11,'[1]予選ヒートAGr-レース結果表（貼付）'!$1:$1,0)),"") -> 53 | D23: =IFERROR(INDEX('[1]予選ヒートAGr-レース結果表（貼付）'!$A:$Z,MATCH($A23,'[1]予選ヒートAGr-レース結果表（貼付）'!$A:$A,0),MATCH('予選ヒートAGr-レース結果表'!D$11,'[1]予選ヒートAGr-レース結果表（貼付）'!$1:$1,0)),"") -> 宮崎 知巳 | E23: =IFERROR(INDEX('[1]予選ヒートAGr-レース結果表（貼付）'!$A:$Z,MATCH($A23,'[1]予選ヒートAGr-レース結果表（貼付）'!$A:$A,0),MATCH('予選ヒートAGr-レース結果表'!E$11,'[1]予選ヒートAGr-レース結果表（貼付）'!$1:$1,0)),"") -> トニーカート/YAMAHA | F23: =IFERROR(INDEX('[1]予選ヒートAGr-レース結果表（貼付）'!$A:$Z,MATCH($A23,'[1]予選ヒートAGr-レース結果表（貼付）'!$A:$A,0),MATCH('予選ヒートAGr-レース結果表'!F$11,'[1]予選ヒートAGr-レース結果表（貼付）'!$1:$1,0)),"") -> JACKAL HKC | G23: =IFERROR(INDEX('[1]予選ヒートAGr-レース結果表（貼付）'!$A:$Z,MATCH($A23,'[1]予選ヒートAGr-レース結果表（貼付）'!$A:$A,0),MATCH('予選ヒートAGr-レース結果表'!G$11,'[1]予選ヒートAGr-レース結果表（貼付）'!$1:$1,0)),"") -> BS | H23: =IF(A23="DNS","",IF(A23="DQ","",INDEX('[1]予選ヒートAGr-レース結果表（貼付）'!$A:$Z,MATCH($B23,'[1]予選ヒートAGr-レース結果表（貼付）'!$B:$B,0),MATCH('予選ヒートAGr-レース結果表'!H$11,'[1]予選ヒートAGr-レース結果表（貼付）'!$1:$1,0)))) -> 10 | I23: =IFERROR(IF(A23="DNS","ｽﾀｰﾄ出来ず",IF(A23="DQ","失 格",INDEX('[1]予選ヒートAGr-レース結果表（貼付）'!$A:$Z,MATCH($B23,'[1]予選ヒートAGr-レース結果表（貼付）'!$B:$B,0),MATCH('予選ヒートAGr-レース結果表'!I$11,'[1]予選ヒートAGr-レース結果表（貼付）'!$1:$1,0)))),"") -> 0.0066650463 | J23: =IFERROR(IF(A23="DNS","",IF(A23="DQ","",INDEX('[1]予選ヒートAGr-レース結果表（貼付）'!$A:$Z,MATCH($B23,'[1]予選ヒートAGr-レース結果表（貼付）'!$B:$B,0),MATCH('予選ヒートAGr-レース結果表'!J$11,'[1]予選ヒートAGr-レース結果表（貼付）'!$1:$1,0)))),"") -> 8.324 | K23: =IFERROR(IF(A23="DNS","",IF(A23="DQ","",INDEX('[1]予選ヒートAGr-レース結果表（貼付）'!$A:$Z,MATCH($B23,'[1]予選ヒートAGr-レース結果表（貼付）'!$B:$B,0),MATCH('予選ヒートAGr-レース結果表'!K$11,'[1]予選ヒートAGr-レース結果表（貼付）'!$1:$1,0)))),"") -> 0.395 | L23: =IFERROR(IF(A23="DNS","",IF(A23="DQ","",INDEX('[1]予選ヒートAGr-レース結果表（貼付）'!$A:$Z,MATCH($B23,'[1]予選ヒートAGr-レース結果表（貼付）'!$B:$B,0),MATCH('予選ヒートAGr-レース結果表'!L$11,'[1]予選ヒートAGr-レース結果表（貼付）'!$1:$1,0)))),"") -> 56.926 | M23: =IF(L23<1,"",IF($M$11>L23,"R","")) | P23: =IF(IFERROR(INDEX('[1]予選ヒートAGr-レース結果表（貼付）'!$A:$Z,MATCH($B23,'[1]予選ヒートAGr-レース結果表（貼付）'!$B:$B,0),MATCH(P$11,'[1]予選ヒートAGr-レース結果表（貼付）'!$1:$1,0)),"")=0,"",IFERROR(INDEX('[1]予選ヒートAGr-レース結果表（貼付）'!$A:$Z,MATCH($B23,'[1]予選ヒートAGr-レース結果表（貼付）'!$B:$B,0),MATCH(P$11,'[1]予選ヒートAGr-レース結果表（貼付）'!$1:$1,0)),"")) | Q23: =IF(P23="","",COUNTIF($P$13:P23,"<>"&"")) | R23: =IFERROR(RANK(Q23,$Q$13:$Q$48,1),"") | S23: =IF(IFERROR(INDEX('[1]予選ヒートAGr-レース結果表（貼付）'!$A:$Z,MATCH($A23,'[1]予選ヒートAGr-レース結果表（貼付）'!$A:$A,0),MATCH(S$11,'[1]予選ヒートAGr-レース結果表（貼付）'!$1:$1,0)),"")=0,"",IFERROR(INDEX('[1]予選ヒートAGr-レース結果表（貼付）'!$A:$Z,MATCH($A23,'[1]予選ヒートAGr-レース結果表（貼付）'!$A:$A,0),MATCH(S$11,'[1]予選ヒートAGr-レース結果表（貼付）'!$1:$1,0)),"")) | U23: =IF(IFERROR(INDEX('[1]予選ヒートAGr-レース結果表（貼付）'!$A:$Z,MATCH($B23,'[1]予選ヒートAGr-レース結果表（貼付）'!$B:$B,0),MATCH(U$11,'[1]予選ヒートAGr-レース結果表（貼付）'!$1:$1,0)),"")=0,"",IFERROR(INDEX('[1]予選ヒートAGr-レース結果表（貼付）'!$A:$Z,MATCH($B23,'[1]予選ヒートAGr-レース結果表（貼付）'!$B:$B,0),MATCH(U$11,'[1]予選ヒートAGr-レース結果表（貼付）'!$1:$1,0)),"")) -> 79.935
A24: =IF(OR('[1]予選ヒートAGr-レース結果表（貼付）'!A13="DNF",'[1]予選ヒートAGr-レース結果表（貼付）'!A13="DNS",'[1]予選ヒートAGr-レース結果表（貼付）'!A13="DQ"),'[1]予選ヒートAGr-レース結果表（貼付）'!A13,IF(MAX('[1]予選ヒートAGr-レース結果表（貼付）'!$A:$A)>A23,A23+1,"")) -> 12 | B24: =IFERROR(INDEX('[1]予選ヒートAGr-レース結果表（貼付）'!A13:$Z$50,MATCH($A24,'[1]予選ヒートAGr-レース結果表（貼付）'!A13:$A$50,0),MATCH('[1]公式予選（TT）AGr-結果表（印刷）'!B$11,'[1]予選ヒートAGr-レース結果表（貼付）'!$1:$1,0)),"") -> 25 | D24: =IFERROR(INDEX('[1]予選ヒートAGr-レース結果表（貼付）'!$A:$Z,MATCH($A24,'[1]予選ヒートAGr-レース結果表（貼付）'!$A:$A,0),MATCH('予選ヒートAGr-レース結果表'!D$11,'[1]予選ヒートAGr-レース結果表（貼付）'!$1:$1,0)),"") -> 髙橋 昌也 | E24: =IFERROR(INDEX('[1]予選ヒートAGr-レース結果表（貼付）'!$A:$Z,MATCH($A24,'[1]予選ヒートAGr-レース結果表（貼付）'!$A:$A,0),MATCH('予選ヒートAGr-レース結果表'!E$11,'[1]予選ヒートAGr-レース結果表（貼付）'!$1:$1,0)),"") -> トニーカート/YAMAHA | F24: =IFERROR(INDEX('[1]予選ヒートAGr-レース結果表（貼付）'!$A:$Z,MATCH($A24,'[1]予選ヒートAGr-レース結果表（貼付）'!$A:$A,0),MATCH('予選ヒートAGr-レース結果表'!F$11,'[1]予選ヒートAGr-レース結果表（貼付）'!$1:$1,0)),"") -> RSnakatsuchi | G24: =IFERROR(INDEX('[1]予選ヒートAGr-レース結果表（貼付）'!$A:$Z,MATCH($A24,'[1]予選ヒートAGr-レース結果表（貼付）'!$A:$A,0),MATCH('予選ヒートAGr-レース結果表'!G$11,'[1]予選ヒートAGr-レース結果表（貼付）'!$1:$1,0)),"") -> BS | H24: =IF(A24="DNS","",IF(A24="DQ","",INDEX('[1]予選ヒートAGr-レース結果表（貼付）'!$A:$Z,MATCH($B24,'[1]予選ヒートAGr-レース結果表（貼付）'!$B:$B,0),MATCH('予選ヒートAGr-レース結果表'!H$11,'[1]予選ヒートAGr-レース結果表（貼付）'!$1:$1,0)))) -> 10 | I24: =IFERROR(IF(A24="DNS","ｽﾀｰﾄ出来ず",IF(A24="DQ","失 格",INDEX('[1]予選ヒートAGr-レース結果表（貼付）'!$A:$Z,MATCH($B24,'[1]予選ヒートAGr-レース結果表（貼付）'!$B:$B,0),MATCH('予選ヒートAGr-レース結果表'!I$11,'[1]予選ヒートAGr-レース結果表（貼付）'!$1:$1,0)))),"") -> 0.0066760532 | J24: =IFERROR(IF(A24="DNS","",IF(A24="DQ","",INDEX('[1]予選ヒートAGr-レース結果表（貼付）'!$A:$Z,MATCH($B24,'[1]予選ヒートAGr-レース結果表（貼付）'!$B:$B,0),MATCH('予選ヒートAGr-レース結果表'!J$11,'[1]予選ヒートAGr-レース結果表（貼付）'!$1:$1,0)))),"") -> 9.275 | K24: =IFERROR(IF(A24="DNS","",IF(A24="DQ","",INDEX('[1]予選ヒートAGr-レース結果表（貼付）'!$A:$Z,MATCH($B24,'[1]予選ヒートAGr-レース結果表（貼付）'!$B:$B,0),MATCH('予選ヒートAGr-レース結果表'!K$11,'[1]予選ヒートAGr-レース結果表（貼付）'!$1:$1,0)))),"") -> 0.951 | L24: =IFERROR(IF(A24="DNS","",IF(A24="DQ","",INDEX('[1]予選ヒートAGr-レース結果表（貼付）'!$A:$Z,MATCH($B24,'[1]予選ヒートAGr-レース結果表（貼付）'!$B:$B,0),MATCH('予選ヒートAGr-レース結果表'!L$11,'[1]予選ヒートAGr-レース結果表（貼付）'!$1:$1,0)))),"") -> 57.137 | M24: =IF(L24<1,"",IF($M$11>L24,"R","")) | P24: =IF(IFERROR(INDEX('[1]予選ヒートAGr-レース結果表（貼付）'!$A:$Z,MATCH($B24,'[1]予選ヒートAGr-レース結果表（貼付）'!$B:$B,0),MATCH(P$11,'[1]予選ヒートAGr-レース結果表（貼付）'!$1:$1,0)),"")=0,"",IFERROR(INDEX('[1]予選ヒートAGr-レース結果表（貼付）'!$A:$Z,MATCH($B24,'[1]予選ヒートAGr-レース結果表（貼付）'!$B:$B,0),MATCH(P$11,'[1]予選ヒートAGr-レース結果表（貼付）'!$1:$1,0)),"")) | Q24: =IF(P24="","",COUNTIF($P$13:P24,"<>"&"")) | R24: =IFERROR(RANK(Q24,$Q$13:$Q$48,1),"") | S24: =IF(IFERROR(INDEX('[1]予選ヒートAGr-レース結果表（貼付）'!$A:$Z,MATCH($A24,'[1]予選ヒートAGr-レース結果表（貼付）'!$A:$A,0),MATCH(S$11,'[1]予選ヒートAGr-レース結果表（貼付）'!$1:$1,0)),"")=0,"",IFERROR(INDEX('[1]予選ヒートAGr-レース結果表（貼付）'!$A:$Z,MATCH($A24,'[1]予選ヒートAGr-レース結果表（貼付）'!$A:$A,0),MATCH(S$11,'[1]予選ヒートAGr-レース結果表（貼付）'!$1:$1,0)),"")) | U24: =IF(IFERROR(INDEX('[1]予選ヒートAGr-レース結果表（貼付）'!$A:$Z,MATCH($B24,'[1]予選ヒートAGr-レース結果表（貼付）'!$B:$B,0),MATCH(U$11,'[1]予選ヒートAGr-レース結果表（貼付）'!$1:$1,0)),"")=0,"",IFERROR(INDEX('[1]予選ヒートAGr-レース結果表（貼付）'!$A:$Z,MATCH($B24,'[1]予選ヒートAGr-レース結果表（貼付）'!$B:$B,0),MATCH(U$11,'[1]予選ヒートAGr-レース結果表（貼付）'!$1:$1,0)),"")) -> 79.64
A25: =IF(OR('[1]予選ヒートAGr-レース結果表（貼付）'!A14="DNF",'[1]予選ヒートAGr-レース結果表（貼付）'!A14="DNS",'[1]予選ヒートAGr-レース結果表（貼付）'!A14="DQ"),'[1]予選ヒートAGr-レース結果表（貼付）'!A14,IF(MAX('[1]予選ヒートAGr-レース結果表（貼付）'!$A:$A)>A24,A24+1,"")) -> 13 | B25: =IFERROR(INDEX('[1]予選ヒートAGr-レース結果表（貼付）'!A14:$Z$50,MATCH($A25,'[1]予選ヒートAGr-レース結果表（貼付）'!A14:$A$50,0),MATCH('[1]公式予選（TT）AGr-結果表（印刷）'!B$11,'[1]予選ヒートAGr-レース結果表（貼付）'!$1:$1,0)),"") -> 69 | D25: =IFERROR(INDEX('[1]予選ヒートAGr-レース結果表（貼付）'!$A:$Z,MATCH($A25,'[1]予選ヒートAGr-レース結果表（貼付）'!$A:$A,0),MATCH('予選ヒートAGr-レース結果表'!D$11,'[1]予選ヒートAGr-レース結果表（貼付）'!$1:$1,0)),"") -> 野口 善久 | E25: =IFERROR(INDEX('[1]予選ヒートAGr-レース結果表（貼付）'!$A:$Z,MATCH($A25,'[1]予選ヒートAGr-レース結果表（貼付）'!$A:$A,0),MATCH('予選ヒートAGr-レース結果表'!E$11,'[1]予選ヒートAGr-レース結果表（貼付）'!$1:$1,0)),"") -> TIA/YAMAHA | F25: =IFERROR(INDEX('[1]予選ヒートAGr-レース結果表（貼付）'!$A:$Z,MATCH($A25,'[1]予選ヒートAGr-レース結果表（貼付）'!$A:$A,0),MATCH('予選ヒートAGr-レース結果表'!F$11,'[1]予選ヒートAGr-レース結果表（貼付）'!$1:$1,0)),"") -> TIA友の会 powered by Sfida | G25: =IFERROR(INDEX('[1]予選ヒートAGr-レース結果表（貼付）'!$A:$Z,MATCH($A25,'[1]予選ヒートAGr-レース結果表（貼付）'!$A:$A,0),MATCH('予選ヒートAGr-レース結果表'!G$11,'[1]予選ヒートAGr-レース結果表（貼付）'!$1:$1,0)),"") -> BS | H25: =IF(A25="DNS","",IF(A25="DQ","",INDEX('[1]予選ヒートAGr-レース結果表（貼付）'!$A:$Z,MATCH($B25,'[1]予選ヒートAGr-レース結果表（貼付）'!$B:$B,0),MATCH('予選ヒートAGr-レース結果表'!H$11,'[1]予選ヒートAGr-レース結果表（貼付）'!$1:$1,0)))) -> 10 | I25: =IFERROR(IF(A25="DNS","ｽﾀｰﾄ出来ず",IF(A25="DQ","失 格",INDEX('[1]予選ヒートAGr-レース結果表（貼付）'!$A:$Z,MATCH($B25,'[1]予選ヒートAGr-レース結果表（貼付）'!$B:$B,0),MATCH('予選ヒートAGr-レース結果表'!I$11,'[1]予選ヒートAGr-レース結果表（貼付）'!$1:$1,0)))),"") -> 0.0067045718 | J25: =IFERROR(IF(A25="DNS","",IF(A25="DQ","",INDEX('[1]予選ヒートAGr-レース結果表（貼付）'!$A:$Z,MATCH($B25,'[1]予選ヒートAGr-レース結果表（貼付）'!$B:$B,0),MATCH('予選ヒートAGr-レース結果表'!J$11,'[1]予選ヒートAGr-レース結果表（貼付）'!$1:$1,0)))),"") -> 11.739 | K25: =IFERROR(IF(A25="DNS","",IF(A25="DQ","",INDEX('[1]予選ヒートAGr-レース結果表（貼付）'!$A:$Z,MATCH($B25,'[1]予選ヒートAGr-レース結果表（貼付）'!$B:$B,0),MATCH('予選ヒートAGr-レース結果表'!K$11,'[1]予選ヒートAGr-レース結果表（貼付）'!$1:$1,0)))),"") -> 2.464 | L25: =IFERROR(IF(A25="DNS","",IF(A25="DQ","",INDEX('[1]予選ヒートAGr-レース結果表（貼付）'!$A:$Z,MATCH($B25,'[1]予選ヒートAGr-レース結果表（貼付）'!$B:$B,0),MATCH('予選ヒートAGr-レース結果表'!L$11,'[1]予選ヒートAGr-レース結果表（貼付）'!$1:$1,0)))),"") -> 57.241 | M25: =IF(L25<1,"",IF($M$11>L25,"R","")) | P25: =IF(IFERROR(INDEX('[1]予選ヒートAGr-レース結果表（貼付）'!$A:$Z,MATCH($B25,'[1]予選ヒートAGr-レース結果表（貼付）'!$B:$B,0),MATCH(P$11,'[1]予選ヒートAGr-レース結果表（貼付）'!$1:$1,0)),"")=0,"",IFERROR(INDEX('[1]予選ヒートAGr-レース結果表（貼付）'!$A:$Z,MATCH($B25,'[1]予選ヒートAGr-レース結果表（貼付）'!$B:$B,0),MATCH(P$11,'[1]予選ヒートAGr-レース結果表（貼付）'!$1:$1,0)),"")) | Q25: =IF(P25="","",COUNTIF($P$13:P25,"<>"&"")) | R25: =IFERROR(RANK(Q25,$Q$13:$Q$48,1),"") | S25: =IF(IFERROR(INDEX('[1]予選ヒートAGr-レース結果表（貼付）'!$A:$Z,MATCH($A25,'[1]予選ヒートAGr-レース結果表（貼付）'!$A:$A,0),MATCH(S$11,'[1]予選ヒートAGr-レース結果表（貼付）'!$1:$1,0)),"")=0,"",IFERROR(INDEX('[1]予選ヒートAGr-レース結果表（貼付）'!$A:$Z,MATCH($A25,'[1]予選ヒートAGr-レース結果表（貼付）'!$A:$A,0),MATCH(S$11,'[1]予選ヒートAGr-レース結果表（貼付）'!$1:$1,0)),"")) | U25: =IF(IFERROR(INDEX('[1]予選ヒートAGr-レース結果表（貼付）'!$A:$Z,MATCH($B25,'[1]予選ヒートAGr-レース結果表（貼付）'!$B:$B,0),MATCH(U$11,'[1]予選ヒートAGr-レース結果表（貼付）'!$1:$1,0)),"")=0,"",IFERROR(INDEX('[1]予選ヒートAGr-レース結果表（貼付）'!$A:$Z,MATCH($B25,'[1]予選ヒートAGr-レース結果表（貼付）'!$B:$B,0),MATCH(U$11,'[1]予選ヒートAGr-レース結果表（貼付）'!$1:$1,0)),"")) -> 79.495
A26: =IF(OR('[1]予選ヒートAGr-レース結果表（貼付）'!A15="DNF",'[1]予選ヒートAGr-レース結果表（貼付）'!A15="DNS",'[1]予選ヒートAGr-レース結果表（貼付）'!A15="DQ"),'[1]予選ヒートAGr-レース結果表（貼付）'!A15,IF(MAX('[1]予選ヒートAGr-レース結果表（貼付）'!$A:$A)>A25,A25+1,"")) -> 14 | B26: =IFERROR(INDEX('[1]予選ヒートAGr-レース結果表（貼付）'!A15:$Z$50,MATCH($A26,'[1]予選ヒートAGr-レース結果表（貼付）'!A15:$A$50,0),MATCH('[1]公式予選（TT）AGr-結果表（印刷）'!B$11,'[1]予選ヒートAGr-レース結果表（貼付）'!$1:$1,0)),"") -> 41 | D26: =IFERROR(INDEX('[1]予選ヒートAGr-レース結果表（貼付）'!$A:$Z,MATCH($A26,'[1]予選ヒートAGr-レース結果表（貼付）'!$A:$A,0),MATCH('予選ヒートAGr-レース結果表'!D$11,'[1]予選ヒートAGr-レース結果表（貼付）'!$1:$1,0)),"") -> 西口 裕昭 | E26: =IFERROR(INDEX('[1]予選ヒートAGr-レース結果表（貼付）'!$A:$Z,MATCH($A26,'[1]予選ヒートAGr-レース結果表（貼付）'!$A:$A,0),MATCH('予選ヒートAGr-レース結果表'!E$11,'[1]予選ヒートAGr-レース結果表（貼付）'!$1:$1,0)),"") -> トニーカート/YAMAHA | F26: =IFERROR(INDEX('[1]予選ヒートAGr-レース結果表（貼付）'!$A:$Z,MATCH($A26,'[1]予選ヒートAGr-レース結果表（貼付）'!$A:$A,0),MATCH('予選ヒートAGr-レース結果表'!F$11,'[1]予選ヒートAGr-レース結果表（貼付）'!$1:$1,0)),"") -> Msistem | G26: =IFERROR(INDEX('[1]予選ヒートAGr-レース結果表（貼付）'!$A:$Z,MATCH($A26,'[1]予選ヒートAGr-レース結果表（貼付）'!$A:$A,0),MATCH('予選ヒートAGr-レース結果表'!G$11,'[1]予選ヒートAGr-レース結果表（貼付）'!$1:$1,0)),"") -> BS | H26: =IF(A26="DNS","",IF(A26="DQ","",INDEX('[1]予選ヒートAGr-レース結果表（貼付）'!$A:$Z,MATCH($B26,'[1]予選ヒートAGr-レース結果表（貼付）'!$B:$B,0),MATCH('予選ヒートAGr-レース結果表'!H$11,'[1]予選ヒートAGr-レース結果表（貼付）'!$1:$1,0)))) -> 10 | I26: =IFERROR(IF(A26="DNS","ｽﾀｰﾄ出来ず",IF(A26="DQ","失 格",INDEX('[1]予選ヒートAGr-レース結果表（貼付）'!$A:$Z,MATCH($B26,'[1]予選ヒートAGr-レース結果表（貼付）'!$B:$B,0),MATCH('予選ヒートAGr-レース結果表'!I$11,'[1]予選ヒートAGr-レース結果表（貼付）'!$1:$1,0)))),"") -> 0.0067072222 | J26: =IFERROR(IF(A26="DNS","",IF(A26="DQ","",INDEX('[1]予選ヒートAGr-レース結果表（貼付）'!$A:$Z,MATCH($B26,'[1]予選ヒートAGr-レース結果表（貼付）'!$B:$B,0),MATCH('予選ヒートAGr-レース結果表'!J$11,'[1]予選ヒートAGr-レース結果表（貼付）'!$1:$1,0)))),"") -> 11.968 | K26: =IFERROR(IF(A26="DNS","",IF(A26="DQ","",INDEX('[1]予選ヒートAGr-レース結果表（貼付）'!$A:$Z,MATCH($B26,'[1]予選ヒートAGr-レース結果表（貼付）'!$B:$B,0),MATCH('予選ヒートAGr-レース結果表'!K$11,'[1]予選ヒートAGr-レース結果表（貼付）'!$1:$1,0)))),"") -> 0.229 | L26: =IFERROR(IF(A26="DNS","",IF(A26="DQ","",INDEX('[1]予選ヒートAGr-レース結果表（貼付）'!$A:$Z,MATCH($B26,'[1]予選ヒートAGr-レース結果表（貼付）'!$B:$B,0),MATCH('予選ヒートAGr-レース結果表'!L$11,'[1]予選ヒートAGr-レース結果表（貼付）'!$1:$1,0)))),"") -> 57.055 | M26: =IF(L26<1,"",IF($M$11>L26,"R","")) | P26: =IF(IFERROR(INDEX('[1]予選ヒートAGr-レース結果表（貼付）'!$A:$Z,MATCH($B26,'[1]予選ヒートAGr-レース結果表（貼付）'!$B:$B,0),MATCH(P$11,'[1]予選ヒートAGr-レース結果表（貼付）'!$1:$1,0)),"")=0,"",IFERROR(INDEX('[1]予選ヒートAGr-レース結果表（貼付）'!$A:$Z,MATCH($B26,'[1]予選ヒートAGr-レース結果表（貼付）'!$B:$B,0),MATCH(P$11,'[1]予選ヒートAGr-レース結果表（貼付）'!$1:$1,0)),"")) | Q26: =IF(P26="","",COUNTIF($P$13:P26,"<>"&"")) | R26: =IFERROR(RANK(Q26,$Q$13:$Q$48,1),"") | S26: =IF(IFERROR(INDEX('[1]予選ヒートAGr-レース結果表（貼付）'!$A:$Z,MATCH($A26,'[1]予選ヒートAGr-レース結果表（貼付）'!$A:$A,0),MATCH(S$11,'[1]予選ヒートAGr-レース結果表（貼付）'!$1:$1,0)),"")=0,"",IFERROR(INDEX('[1]予選ヒートAGr-レース結果表（貼付）'!$A:$Z,MATCH($A26,'[1]予選ヒートAGr-レース結果表（貼付）'!$A:$A,0),MATCH(S$11,'[1]予選ヒートAGr-レース結果表（貼付）'!$1:$1,0)),"")) | U26: =IF(IFERROR(INDEX('[1]予選ヒートAGr-レース結果表（貼付）'!$A:$Z,MATCH($B26,'[1]予選ヒートAGr-レース結果表（貼付）'!$B:$B,0),MATCH(U$11,'[1]予選ヒートAGr-レース結果表（貼付）'!$1:$1,0)),"")=0,"",IFERROR(INDEX('[1]予選ヒートAGr-レース結果表（貼付）'!$A:$Z,MATCH($B26,'[1]予選ヒートAGr-レース結果表（貼付）'!$B:$B,0),MATCH(U$11,'[1]予選ヒートAGr-レース結果表（貼付）'!$1:$1,0)),"")) -> 79.755
U27: =IF(IFERROR(INDEX('[1]予選ヒートAGr-レース結果表（貼付）'!$A:$Z,MATCH($B27,'[1]予選ヒートAGr-レース結果表（貼付）'!$B:$B,0),MATCH(U$11,'[1]予選ヒートAGr-レース結果表（貼付）'!$1:$1,0)),"")=0,"",IFERROR(INDEX('[1]予選ヒートAGr-レース結果表（貼付）'!$A:$Z,MATCH($B27,'[1]予選ヒートAGr-レース結果表（貼付）'!$B:$B,0),MATCH(U$11,'[1]予選ヒートAGr-レース結果表（貼付）'!$1:$1,0)),""))
A28: 以上：決勝ﾋｰﾄ進出 | U28: =IF(IFERROR(INDEX('[1]予選ヒートAGr-レース結果表（貼付）'!$A:$Z,MATCH($B28,'[1]予選ヒートAGr-レース結果表（貼付）'!$B:$B,0),MATCH(U$11,'[1]予選ヒートAGr-レース結果表（貼付）'!$1:$1,0)),"")=0,"",IFERROR(INDEX('[1]予選ヒートAGr-レース結果表（貼付）'!$A:$Z,MATCH($B28,'[1]予選ヒートAGr-レース結果表（貼付）'!$B:$B,0),MATCH(U$11,'[1]予選ヒートAGr-レース結果表（貼付）'!$1:$1,0)),""))
U29: =IF(IFERROR(INDEX('[1]予選ヒートAGr-レース結果表（貼付）'!$A:$Z,MATCH($B29,'[1]予選ヒートAGr-レース結果表（貼付）'!$B:$B,0),MATCH(U$11,'[1]予選ヒートAGr-レース結果表（貼付）'!$1:$1,0)),"")=0,"",IFERROR(INDEX('[1]予選ヒートAGr-レース結果表（貼付）'!$A:$Z,MATCH($B29,'[1]予選ヒートAGr-レース結果表（貼付）'!$B:$B,0),MATCH(U$11,'[1]予選ヒートAGr-レース結果表（貼付）'!$1:$1,0)),""))
A30: 以下：ｾｶﾝﾄﾞﾁｬﾝｽﾋｰﾄ出場 | U30: =IF(IFERROR(INDEX('[1]予選ヒートAGr-レース結果表（貼付）'!$A:$Z,MATCH($B30,'[1]予選ヒートAGr-レース結果表（貼付）'!$B:$B,0),MATCH(U$11,'[1]予選ヒートAGr-レース結果表（貼付）'!$1:$1,0)),"")=0,"",IFERROR(INDEX('[1]予選ヒートAGr-レース結果表（貼付）'!$A:$Z,MATCH($B30,'[1]予選ヒートAGr-レース結果表（貼付）'!$B:$B,0),MATCH(U$11,'[1]予選ヒートAGr-レース結果表（貼付）'!$1:$1,0)),""))
U31: =IF(IFERROR(INDEX('[1]予選ヒートAGr-レース結果表（貼付）'!$A:$Z,MATCH($B31,'[1]予選ヒートAGr-レース結果表（貼付）'!$B:$B,0),MATCH(U$11,'[1]予選ヒートAGr-レース結果表（貼付）'!$1:$1,0)),"")=0,"",IFERROR(INDEX('[1]予選ヒートAGr-レース結果表（貼付）'!$A:$Z,MATCH($B31,'[1]予選ヒートAGr-レース結果表（貼付）'!$B:$B,0),MATCH(U$11,'[1]予選ヒートAGr-レース結果表（貼付）'!$1:$1,0)),""))
A32: =IF(OR('[1]予選ヒートAGr-レース結果表（貼付）'!A16="DNF",'[1]予選ヒートAGr-レース結果表（貼付）'!A16="DNS",'[1]予選ヒートAGr-レース結果表（貼付）'!A16="DQ"),'[1]予選ヒートAGr-レース結果表（貼付）'!A16,IF(MAX('[1]予選ヒートAGr-レース結果表（貼付）'!$A:$A)>A26,A26+1,"")) -> 15 | B32: =IFERROR(INDEX('[1]予選ヒートAGr-レース結果表（貼付）'!A16:$Z$50,MATCH($A32,'[1]予選ヒートAGr-レース結果表（貼付）'!A16:$A$50,0),MATCH('[1]公式予選（TT）AGr-結果表（印刷）'!B$11,'[1]予選ヒートAGr-レース結果表（貼付）'!$1:$1,0)),"") -> 29 | D32: =IFERROR(INDEX('[1]予選ヒートAGr-レース結果表（貼付）'!$A:$Z,MATCH($A32,'[1]予選ヒートAGr-レース結果表（貼付）'!$A:$A,0),MATCH('予選ヒートAGr-レース結果表'!D$11,'[1]予選ヒートAGr-レース結果表（貼付）'!$1:$1,0)),"") -> 平田 研二 | E32: =IFERROR(INDEX('[1]予選ヒートAGr-レース結果表（貼付）'!$A:$Z,MATCH($A32,'[1]予選ヒートAGr-レース結果表（貼付）'!$A:$A,0),MATCH('予選ヒートAGr-レース結果表'!E$11,'[1]予選ヒートAGr-レース結果表（貼付）'!$1:$1,0)),"") -> CRG/YAMAHA | F32: =IFERROR(INDEX('[1]予選ヒートAGr-レース結果表（貼付）'!$A:$Z,MATCH($A32,'[1]予選ヒートAGr-レース結果表（貼付）'!$A:$A,0),MATCH('予選ヒートAGr-レース結果表'!F$11,'[1]予選ヒートAGr-レース結果表（貼付）'!$1:$1,0)),"") -> RS nakatsuchi | G32: =IFERROR(INDEX('[1]予選ヒートAGr-レース結果表（貼付）'!$A:$Z,MATCH($A32,'[1]予選ヒートAGr-レース結果表（貼付）'!$A:$A,0),MATCH('予選ヒートAGr-レース結果表'!G$11,'[1]予選ヒートAGr-レース結果表（貼付）'!$1:$1,0)),"") -> BS | H32: =IF(A32="DNS","",IF(A32="DQ","",INDEX('[1]予選ヒートAGr-レース結果表（貼付）'!$A:$Z,MATCH($B32,'[1]予選ヒートAGr-レース結果表（貼付）'!$B:$B,0),MATCH('予選ヒートAGr-レース結果表'!H$11,'[1]予選ヒートAGr-レース結果表（貼付）'!$1:$1,0)))) -> 10 | I32: =IFERROR(IF(A32="DNS","ｽﾀｰﾄ出来ず",IF(A32="DQ","失 格",INDEX('[1]予選ヒートAGr-レース結果表（貼付）'!$A:$Z,MATCH($B32,'[1]予選ヒートAGr-レース結果表（貼付）'!$B:$B,0),MATCH('予選ヒートAGr-レース結果表'!I$11,'[1]予選ヒートAGr-レース結果表（貼付）'!$1:$1,0)))),"") -> 0.0067121759 | J32: =IFERROR(IF(A32="DNS","",IF(A32="DQ","",INDEX('[1]予選ヒートAGr-レース結果表（貼付）'!$A:$Z,MATCH($B32,'[1]予選ヒートAGr-レース結果表（貼付）'!$B:$B,0),MATCH('予選ヒートAGr-レース結果表'!J$11,'[1]予選ヒートAGr-レース結果表（貼付）'!$1:$1,0)))),"") -> 12.396 | K32: =IFERROR(IF(A32="DNS","",IF(A32="DQ","",INDEX('[1]予選ヒートAGr-レース結果表（貼付）'!$A:$Z,MATCH($B32,'[1]予選ヒートAGr-レース結果表（貼付）'!$B:$B,0),MATCH('予選ヒートAGr-レース結果表'!K$11,'[1]予選ヒートAGr-レース結果表（貼付）'!$1:$1,0)))),"") -> 0.428 | L32: =IFERROR(IF(A32="DNS","",IF(A32="DQ","",INDEX('[1]予選ヒートAGr-レース結果表（貼付）'!$A:$Z,MATCH($B32,'[1]予選ヒートAGr-レース結果表（貼付）'!$B:$B,0),MATCH('予選ヒートAGr-レース結果表'!L$11,'[1]予選ヒートAGr-レース結果表（貼付）'!$1:$1,0)))),"") -> 56.973 | M32: =IF(L32<1,"",IF($M$11>L32,"R","")) | P32: =IF(IFERROR(INDEX('[1]予選ヒートAGr-レース結果表（貼付）'!$A:$Z,MATCH($B32,'[1]予選ヒートAGr-レース結果表（貼付）'!$B:$B,0),MATCH(P$11,'[1]予選ヒートAGr-レース結果表（貼付）'!$1:$1,0)),"")=0,"",IFERROR(INDEX('[1]予選ヒートAGr-レース結果表（貼付）'!$A:$Z,MATCH($B32,'[1]予選ヒートAGr-レース結果表（貼付）'!$B:$B,0),MATCH(P$11,'[1]予選ヒートAGr-レース結果表（貼付）'!$1:$1,0)),"")) | Q32: =IF(P32="","",COUNTIF($P$13:P32,"<>"&"")) | R32: =IFERROR(RANK(Q32,$Q$13:$Q$48,1),"") | S32: =IF(IFERROR(INDEX('[1]予選ヒートAGr-レース結果表（貼付）'!$A:$Z,MATCH($A32,'[1]予選ヒートAGr-レース結果表（貼付）'!$A:$A,0),MATCH(S$11,'[1]予選ヒートAGr-レース結果表（貼付）'!$1:$1,0)),"")=0,"",IFERROR(INDEX('[1]予選ヒートAGr-レース結果表（貼付）'!$A:$Z,MATCH($A32,'[1]予選ヒートAGr-レース結果表（貼付）'!$A:$A,0),MATCH(S$11,'[1]予選ヒートAGr-レース結果表（貼付）'!$1:$1,0)),"")) | U32: =IF(IFERROR(INDEX('[1]予選ヒートAGr-レース結果表（貼付）'!$A:$Z,MATCH($B32,'[1]予選ヒートAGr-レース結果表（貼付）'!$B:$B,0),MATCH(U$11,'[1]予選ヒートAGr-レース結果表（貼付）'!$1:$1,0)),"")=0,"",IFERROR(INDEX('[1]予選ヒートAGr-レース結果表（貼付）'!$A:$Z,MATCH($B32,'[1]予選ヒートAGr-レース結果表（貼付）'!$B:$B,0),MATCH(U$11,'[1]予選ヒートAGr-レース結果表（貼付）'!$1:$1,0)),"")) -> 79.869
A33: =IF(OR('[1]予選ヒートAGr-レース結果表（貼付）'!A17="DNF",'[1]予選ヒートAGr-レース結果表（貼付）'!A17="DNS",'[1]予選ヒートAGr-レース結果表（貼付）'!A17="DQ"),'[1]予選ヒートAGr-レース結果表（貼付）'!A17,IF(MAX('[1]予選ヒートAGr-レース結果表（貼付）'!$A:$A)>A32,A32+1,"")) -> 16 | B33: =IFERROR(INDEX('[1]予選ヒートAGr-レース結果表（貼付）'!A17:$Z$50,MATCH($A33,'[1]予選ヒートAGr-レース結果表（貼付）'!A17:$A$50,0),MATCH('[1]公式予選（TT）AGr-結果表（印刷）'!B$11,'[1]予選ヒートAGr-レース結果表（貼付）'!$1:$1,0)),"") -> 95 | D33: =IFERROR(INDEX('[1]予選ヒートAGr-レース結果表（貼付）'!$A:$Z,MATCH($A33,'[1]予選ヒートAGr-レース結果表（貼付）'!$A:$A,0),MATCH('予選ヒートAGr-レース結果表'!D$11,'[1]予選ヒートAGr-レース結果表（貼付）'!$1:$1,0)),"") -> 横田 隆二郎 | E33: =IFERROR(INDEX('[1]予選ヒートAGr-レース結果表（貼付）'!$A:$Z,MATCH($A33,'[1]予選ヒートAGr-レース結果表（貼付）'!$A:$A,0),MATCH('予選ヒートAGr-レース結果表'!E$11,'[1]予選ヒートAGr-レース結果表（貼付）'!$1:$1,0)),"") -> MACH1/YAMAHA | F33: =IFERROR(INDEX('[1]予選ヒートAGr-レース結果表（貼付）'!$A:$Z,MATCH($A33,'[1]予選ヒートAGr-レース結果表（貼付）'!$A:$A,0),MATCH('予選ヒートAGr-レース結果表'!F$11,'[1]予選ヒートAGr-レース結果表（貼付）'!$1:$1,0)),"") -> F's CLUB | G33: =IFERROR(INDEX('[1]予選ヒートAGr-レース結果表（貼付）'!$A:$Z,MATCH($A33,'[1]予選ヒートAGr-レース結果表（貼付）'!$A:$A,0),MATCH('予選ヒートAGr-レース結果表'!G$11,'[1]予選ヒートAGr-レース結果表（貼付）'!$1:$1,0)),"") -> BS | H33: =IF(A33="DNS","",IF(A33="DQ","",INDEX('[1]予選ヒートAGr-レース結果表（貼付）'!$A:$Z,MATCH($B33,'[1]予選ヒートAGr-レース結果表（貼付）'!$B:$B,0),MATCH('予選ヒートAGr-レース結果表'!H$11,'[1]予選ヒートAGr-レース結果表（貼付）'!$1:$1,0)))) -> 10 | I33: =IFERROR(IF(A33="DNS","ｽﾀｰﾄ出来ず",IF(A33="DQ","失 格",INDEX('[1]予選ヒートAGr-レース結果表（貼付）'!$A:$Z,MATCH($B33,'[1]予選ヒートAGr-レース結果表（貼付）'!$B:$B,0),MATCH('予選ヒートAGr-レース結果表'!I$11,'[1]予選ヒートAGr-レース結果表（貼付）'!$1:$1,0)))),"") -> 0.0067165741 | J33: =IFERROR(IF(A33="DNS","",IF(A33="DQ","",INDEX('[1]予選ヒートAGr-レース結果表（貼付）'!$A:$Z,MATCH($B33,'[1]予選ヒートAGr-レース結果表（貼付）'!$B:$B,0),MATCH('予選ヒートAGr-レース結果表'!J$11,'[1]予選ヒートAGr-レース結果表（貼付）'!$1:$1,0)))),"") -> 12.776 | K33: =IFERROR(IF(A33="DNS","",IF(A33="DQ","",INDEX('[1]予選ヒートAGr-レース結果表（貼付）'!$A:$Z,MATCH($B33,'[1]予選ヒートAGr-レース結果表（貼付）'!$B:$B,0),MATCH('予選ヒートAGr-レース結果表'!K$11,'[1]予選ヒートAGr-レース結果表（貼付）'!$1:$1,0)))),"") -> 0.38 | L33: =IFERROR(IF(A33="DNS","",IF(A33="DQ","",INDEX('[1]予選ヒートAGr-レース結果表（貼付）'!$A:$Z,MATCH($B33,'[1]予選ヒートAGr-レース結果表（貼付）'!$B:$B,0),MATCH('予選ヒートAGr-レース結果表'!L$11,'[1]予選ヒートAGr-レース結果表（貼付）'!$1:$1,0)))),"") -> 57.097 | M33: =IF(L33<1,"",IF($M$11>L33,"R","")) | P33: =IF(IFERROR(INDEX('[1]予選ヒートAGr-レース結果表（貼付）'!$A:$Z,MATCH($B33,'[1]予選ヒートAGr-レース結果表（貼付）'!$B:$B,0),MATCH(P$11,'[1]予選ヒートAGr-レース結果表（貼付）'!$1:$1,0)),"")=0,"",IFERROR(INDEX('[1]予選ヒートAGr-レース結果表（貼付）'!$A:$Z,MATCH($B33,'[1]予選ヒートAGr-レース結果表（貼付）'!$B:$B,0),MATCH(P$11,'[1]予選ヒートAGr-レース結果表（貼付）'!$1:$1,0)),"")) | Q33: =IF(P33="","",COUNTIF($P$13:P33,"<>"&"")) | R33: =IFERROR(RANK(Q33,$Q$13:$Q$48,1),"") | S33: =IF(IFERROR(INDEX('[1]予選ヒートAGr-レース結果表（貼付）'!$A:$Z,MATCH($A33,'[1]予選ヒートAGr-レース結果表（貼付）'!$A:$A,0),MATCH(S$11,'[1]予選ヒートAGr-レース結果表（貼付）'!$1:$1,0)),"")=0,"",IFERROR(INDEX('[1]予選ヒートAGr-レース結果表（貼付）'!$A:$Z,MATCH($A33,'[1]予選ヒートAGr-レース結果表（貼付）'!$A:$A,0),MATCH(S$11,'[1]予選ヒートAGr-レース結果表（貼付）'!$1:$1,0)),"")) | U33: =IF(IFERROR(INDEX('[1]予選ヒートAGr-レース結果表（貼付）'!$A:$Z,MATCH($B33,'[1]予選ヒートAGr-レース結果表（貼付）'!$B:$B,0),MATCH(U$11,'[1]予選ヒートAGr-レース結果表（貼付）'!$1:$1,0)),"")=0,"",IFERROR(INDEX('[1]予選ヒートAGr-レース結果表（貼付）'!$A:$Z,MATCH($B33,'[1]予選ヒートAGr-レース結果表（貼付）'!$B:$B,0),MATCH(U$11,'[1]予選ヒートAGr-レース結果表（貼付）'!$1:$1,0)),"")) -> 79.696
A34: =IF(OR('[1]予選ヒートAGr-レース結果表（貼付）'!A18="DNF",'[1]予選ヒートAGr-レース結果表（貼付）'!A18="DNS",'[1]予選ヒートAGr-レース結果表（貼付）'!A18="DQ"),'[1]予選ヒートAGr-レース結果表（貼付）'!A18,IF(MAX('[1]予選ヒートAGr-レース結果表（貼付）'!$A:$A)>A33,A33+1,"")) -> 17 | B34: =IFERROR(INDEX('[1]予選ヒートAGr-レース結果表（貼付）'!A18:$Z$50,MATCH($A34,'[1]予選ヒートAGr-レース結果表（貼付）'!A18:$A$50,0),MATCH('[1]公式予選（TT）AGr-結果表（印刷）'!B$11,'[1]予選ヒートAGr-レース結果表（貼付）'!$1:$1,0)),"") -> 23 | D34: =IFERROR(INDEX('[1]予選ヒートAGr-レース結果表（貼付）'!$A:$Z,MATCH($A34,'[1]予選ヒートAGr-レース結果表（貼付）'!$A:$A,0),MATCH('予選ヒートAGr-レース結果表'!D$11,'[1]予選ヒートAGr-レース結果表（貼付）'!$1:$1,0)),"") -> 藤岡 伸英 | E34: =IFERROR(INDEX('[1]予選ヒートAGr-レース結果表（貼付）'!$A:$Z,MATCH($A34,'[1]予選ヒートAGr-レース結果表（貼付）'!$A:$A,0),MATCH('予選ヒートAGr-レース結果表'!E$11,'[1]予選ヒートAGr-レース結果表（貼付）'!$1:$1,0)),"") -> MACHI 1/YAMAHA | F34: =IFERROR(INDEX('[1]予選ヒートAGr-レース結果表（貼付）'!$A:$Z,MATCH($A34,'[1]予選ヒートAGr-レース結果表（貼付）'!$A:$A,0),MATCH('予選ヒートAGr-レース結果表'!F$11,'[1]予選ヒートAGr-レース結果表（貼付）'!$1:$1,0)),"") -> EHRE MOTOR SPORTS | G34: =IFERROR(INDEX('[1]予選ヒートAGr-レース結果表（貼付）'!$A:$Z,MATCH($A34,'[1]予選ヒートAGr-レース結果表（貼付）'!$A:$A,0),MATCH('予選ヒートAGr-レース結果表'!G$11,'[1]予選ヒートAGr-レース結果表（貼付）'!$1:$1,0)),"") -> BS | H34: =IF(A34="DNS","",IF(A34="DQ","",INDEX('[1]予選ヒートAGr-レース結果表（貼付）'!$A:$Z,MATCH($B34,'[1]予選ヒートAGr-レース結果表（貼付）'!$B:$B,0),MATCH('予選ヒートAGr-レース結果表'!H$11,'[1]予選ヒートAGr-レース結果表（貼付）'!$1:$1,0)))) -> 10 | I34: =IFERROR(IF(A34="DNS","ｽﾀｰﾄ出来ず",IF(A34="DQ","失 格",INDEX('[1]予選ヒートAGr-レース結果表（貼付）'!$A:$Z,MATCH($B34,'[1]予選ヒートAGr-レース結果表（貼付）'!$B:$B,0),MATCH('予選ヒートAGr-レース結果表'!I$11,'[1]予選ヒートAGr-レース結果表（貼付）'!$1:$1,0)))),"") -> 0.0067342245 | J34: =IFERROR(IF(A34="DNS","",IF(A34="DQ","",INDEX('[1]予選ヒートAGr-レース結果表（貼付）'!$A:$Z,MATCH($B34,'[1]予選ヒートAGr-レース結果表（貼付）'!$B:$B,0),MATCH('予選ヒートAGr-レース結果表'!J$11,'[1]予選ヒートAGr-レース結果表（貼付）'!$1:$1,0)))),"") -> 14.301 | K34: =IFERROR(IF(A34="DNS","",IF(A34="DQ","",INDEX('[1]予選ヒートAGr-レース結果表（貼付）'!$A:$Z,MATCH($B34,'[1]予選ヒートAGr-レース結果表（貼付）'!$B:$B,0),MATCH('予選ヒートAGr-レース結果表'!K$11,'[1]予選ヒートAGr-レース結果表（貼付）'!$1:$1,0)))),"") -> 1.525 | L34: =IFERROR(IF(A34="DNS","",IF(A34="DQ","",INDEX('[1]予選ヒートAGr-レース結果表（貼付）'!$A:$Z,MATCH($B34,'[1]予選ヒートAGr-レース結果表（貼付）'!$B:$B,0),MATCH('予選ヒートAGr-レース結果表'!L$11,'[1]予選ヒートAGr-レース結果表（貼付）'!$1:$1,0)))),"") -> 57.103 | M34: =IF(L34<1,"",IF($M$11>L34,"R","")) | P34: =IF(IFERROR(INDEX('[1]予選ヒートAGr-レース結果表（貼付）'!$A:$Z,MATCH($B34,'[1]予選ヒートAGr-レース結果表（貼付）'!$B:$B,0),MATCH(P$11,'[1]予選ヒートAGr-レース結果表（貼付）'!$1:$1,0)),"")=0,"",IFERROR(INDEX('[1]予選ヒートAGr-レース結果表（貼付）'!$A:$Z,MATCH($B34,'[1]予選ヒートAGr-レース結果表（貼付）'!$B:$B,0),MATCH(P$11,'[1]予選ヒートAGr-レース結果表（貼付）'!$1:$1,0)),"")) | Q34: =IF(P34="","",COUNTIF($P$13:P34,"<>"&"")) | R34: =IFERROR(RANK(Q34,$Q$13:$Q$48,1),"") | S34: =IF(IFERROR(INDEX('[1]予選ヒートAGr-レース結果表（貼付）'!$A:$Z,MATCH($A34,'[1]予選ヒートAGr-レース結果表（貼付）'!$A:$A,0),MATCH(S$11,'[1]予選ヒートAGr-レース結果表（貼付）'!$1:$1,0)),"")=0,"",IFERROR(INDEX('[1]予選ヒートAGr-レース結果表（貼付）'!$A:$Z,MATCH($A34,'[1]予選ヒートAGr-レース結果表（貼付）'!$A:$A,0),MATCH(S$11,'[1]予選ヒートAGr-レース結果表（貼付）'!$1:$1,0)),"")) | U34: =IF(IFERROR(INDEX('[1]予選ヒートAGr-レース結果表（貼付）'!$A:$Z,MATCH($B34,'[1]予選ヒートAGr-レース結果表（貼付）'!$B:$B,0),MATCH(U$11,'[1]予選ヒートAGr-レース結果表（貼付）'!$1:$1,0)),"")=0,"",IFERROR(INDEX('[1]予選ヒートAGr-レース結果表（貼付）'!$A:$Z,MATCH($B34,'[1]予選ヒートAGr-レース結果表（貼付）'!$B:$B,0),MATCH(U$11,'[1]予選ヒートAGr-レース結果表（貼付）'!$1:$1,0)),"")) -> 79.688
A35: =IF(OR('[1]予選ヒートAGr-レース結果表（貼付）'!A19="DNF",'[1]予選ヒートAGr-レース結果表（貼付）'!A19="DNS",'[1]予選ヒートAGr-レース結果表（貼付）'!A19="DQ"),'[1]予選ヒートAGr-レース結果表（貼付）'!A19,IF(MAX('[1]予選ヒートAGr-レース結果表（貼付）'!$A:$A)>A34,A34+1,"")) -> 18 | B35: =IFERROR(INDEX('[1]予選ヒートAGr-レース結果表（貼付）'!A19:$Z$50,MATCH($A35,'[1]予選ヒートAGr-レース結果表（貼付）'!A19:$A$50,0),MATCH('[1]公式予選（TT）AGr-結果表（印刷）'!B$11,'[1]予選ヒートAGr-レース結果表（貼付）'!$1:$1,0)),"") -> 16 | D35: =IFERROR(INDEX('[1]予選ヒートAGr-レース結果表（貼付）'!$A:$Z,MATCH($A35,'[1]予選ヒートAGr-レース結果表（貼付）'!$A:$A,0),MATCH('予選ヒートAGr-レース結果表'!D$11,'[1]予選ヒートAGr-レース結果表（貼付）'!$1:$1,0)),"") -> 小辻 隼人 | E35: =IFERROR(INDEX('[1]予選ヒートAGr-レース結果表（貼付）'!$A:$Z,MATCH($A35,'[1]予選ヒートAGr-レース結果表（貼付）'!$A:$A,0),MATCH('予選ヒートAGr-レース結果表'!E$11,'[1]予選ヒートAGr-レース結果表（貼付）'!$1:$1,0)),"") -> CL/YAMAHA | F35: =IFERROR(INDEX('[1]予選ヒートAGr-レース結果表（貼付）'!$A:$Z,MATCH($A35,'[1]予選ヒートAGr-レース結果表（貼付）'!$A:$A,0),MATCH('予選ヒートAGr-レース結果表'!F$11,'[1]予選ヒートAGr-レース結果表（貼付）'!$1:$1,0)),"") -> TIGRE | G35: =IFERROR(INDEX('[1]予選ヒートAGr-レース結果表（貼付）'!$A:$Z,MATCH($A35,'[1]予選ヒートAGr-レース結果表（貼付）'!$A:$A,0),MATCH('予選ヒートAGr-レース結果表'!G$11,'[1]予選ヒートAGr-レース結果表（貼付）'!$1:$1,0)),"") -> BS | H35: =IF(A35="DNS","",IF(A35="DQ","",INDEX('[1]予選ヒートAGr-レース結果表（貼付）'!$A:$Z,MATCH($B35,'[1]予選ヒートAGr-レース結果表（貼付）'!$B:$B,0),MATCH('予選ヒートAGr-レース結果表'!H$11,'[1]予選ヒートAGr-レース結果表（貼付）'!$1:$1,0)))) -> 10 | I35: =IFERROR(IF(A35="DNS","ｽﾀｰﾄ出来ず",IF(A35="DQ","失 格",INDEX('[1]予選ヒートAGr-レース結果表（貼付）'!$A:$Z,MATCH($B35,'[1]予選ヒートAGr-レース結果表（貼付）'!$B:$B,0),MATCH('予選ヒートAGr-レース結果表'!I$11,'[1]予選ヒートAGr-レース結果表（貼付）'!$1:$1,0)))),"") -> 0.0067513542 | J35: =IFERROR(IF(A35="DNS","",IF(A35="DQ","",INDEX('[1]予選ヒートAGr-レース結果表（貼付）'!$A:$Z,MATCH($B35,'[1]予選ヒートAGr-レース結果表（貼付）'!$B:$B,0),MATCH('予選ヒートAGr-レース結果表'!J$11,'[1]予選ヒートAGr-レース結果表（貼付）'!$1:$1,0)))),"") -> 15.781 | K35: =IFERROR(IF(A35="DNS","",IF(A35="DQ","",INDEX('[1]予選ヒートAGr-レース結果表（貼付）'!$A:$Z,MATCH($B35,'[1]予選ヒートAGr-レース結果表（貼付）'!$B:$B,0),MATCH('予選ヒートAGr-レース結果表'!K$11,'[1]予選ヒートAGr-レース結果表（貼付）'!$1:$1,0)))),"") -> 1.48 | L35: =IFERROR(IF(A35="DNS","",IF(A35="DQ","",INDEX('[1]予選ヒートAGr-レース結果表（貼付）'!$A:$Z,MATCH($B35,'[1]予選ヒートAGr-レース結果表（貼付）'!$B:$B,0),MATCH('予選ヒートAGr-レース結果表'!L$11,'[1]予選ヒートAGr-レース結果表（貼付）'!$1:$1,0)))),"") -> 57.09 | M35: =IF(L35<1,"",IF($M$11>L35,"R","")) | P35: =IF(IFERROR(INDEX('[1]予選ヒートAGr-レース結果表（貼付）'!$A:$Z,MATCH($B35,'[1]予選ヒートAGr-レース結果表（貼付）'!$B:$B,0),MATCH(P$11,'[1]予選ヒートAGr-レース結果表（貼付）'!$1:$1,0)),"")=0,"",IFERROR(INDEX('[1]予選ヒートAGr-レース結果表（貼付）'!$A:$Z,MATCH($B35,'[1]予選ヒートAGr-レース結果表（貼付）'!$B:$B,0),MATCH(P$11,'[1]予選ヒートAGr-レース結果表（貼付）'!$1:$1,0)),"")) -> 鈴鹿選手権ｼﾘｰｽﾞ特別規則 競技車両規則第60条～2)(ﾌﾛﾝﾄﾌｪｱﾘﾝｸﾞ)違反により、5秒加算とした。 | Q35: =IF(P35="","",COUNTIF($P$13:P35,"<>"&"")) -> 18 | R35: =IFERROR(RANK(Q35,$Q$13:$Q$48,1),"") -> 2 | S35: =IF(IFERROR(INDEX('[1]予選ヒートAGr-レース結果表（貼付）'!$A:$Z,MATCH($A35,'[1]予選ヒートAGr-レース結果表（貼付）'!$A:$A,0),MATCH(S$11,'[1]予選ヒートAGr-レース結果表（貼付）'!$1:$1,0)),"")=0,"",IFERROR(INDEX('[1]予選ヒートAGr-レース結果表（貼付）'!$A:$Z,MATCH($A35,'[1]予選ヒートAGr-レース結果表（貼付）'!$A:$A,0),MATCH(S$11,'[1]予選ヒートAGr-レース結果表（貼付）'!$1:$1,0)),"")) | U35: =IF(IFERROR(INDEX('[1]予選ヒートAGr-レース結果表（貼付）'!$A:$Z,MATCH($B35,'[1]予選ヒートAGr-レース結果表（貼付）'!$B:$B,0),MATCH(U$11,'[1]予選ヒートAGr-レース結果表（貼付）'!$1:$1,0)),"")=0,"",IFERROR(INDEX('[1]予選ヒートAGr-レース結果表（貼付）'!$A:$Z,MATCH($B35,'[1]予選ヒートAGr-レース結果表（貼付）'!$B:$B,0),MATCH(U$11,'[1]予選ヒートAGr-レース結果表（貼付）'!$1:$1,0)),"")) -> 79.706
