Workbook

Sheet 予選ヒート-レース結果表
J6: =+[1]各種設定!D18 -> 44759 | L6: :
A7: =+[1]各種設定!D2 -> 2022 鈴鹿選手権シリーズ第4戦 ｶｰﾄﾚｰｽ IN SUZUKA | K7: WEATHER: | L7: Fine
K8: COURSE : | L8: Dry
A9: =+[1]各種設定!D4 -> ROK-SHIFTER | M9: 国際南コース 1.264Km
A10: 予選ヒート結果表
B11: No. | C11: Make | E11: 名前 | F11: Model/Engine | G11: Team | H11: Tires | I11: Laps | J11: Total Time | K11: 差 | L11: Gap | M11: BestLap | N11: =VLOOKUP(A9,[1]コースレコード!$A:$G,3,FALSE) -> 46.949 | Q11: コメント | S11: ペナルティNo. | T11: グリッドコメント | U11: ベスト平均時速
A12: Pos. | B12: No. | C12: Cls. | D12: CP | E12: Driver | F12: Type | G12: Team | H12: Tire | I12: Laps | J12: Total Time | K12: Delay | L12: Gap | M12: Best
A13: 1 | B13: =IFERROR(INDEX('[1]予選ヒート-レース結果表（貼付）'!A2:$Z$50,MATCH($A13,'[1]予選ヒート-レース結果表（貼付）'!A2:$A$50,0),MATCH('[1]公式予選（TT）-結果表（印刷）'!B$11,'[1]予選ヒート-レース結果表（貼付）'!$1:$1,0)),"") -> 1 | C13: =IF(IFERROR(INDEX('[1]予選ヒート-レース結果表（貼付）'!$A:$Z,MATCH($B13,'[1]予選ヒート-レース結果表（貼付）'!$B:$B,0),MATCH(C$11,'[1]予選ヒート-レース結果表（貼付）'!$1:$1,0)),"")=0,"",IFERROR(INDEX('[1]予選ヒート-レース結果表（貼付）'!$A:$Z,MATCH($B13,'[1]予選ヒート-レース結果表（貼付）'!$B:$B,0),MATCH(C$11,'[1]予選ヒート-レース結果表（貼付）'!$1:$1,0)),"")) | D13: =IF(C13="","",IF(A13="","",COUNTIF($C$13:C13,C13))) | E13: =IFERROR(INDEX('[1]予選ヒート-レース結果表（貼付）'!$A:$Z,MATCH($B13,'[1]予選ヒート-レース結果表（貼付）'!$B:$B,0),MATCH('予選ヒート-レース結果表'!E$11,'[1]予選ヒート-レース結果表（貼付）'!$1:$1,0)),"") -> 岩﨑 有矢斗 | F13: =IFERROR(INDEX('[1]予選ヒート-レース結果表（貼付）'!$A:$Z,MATCH($B13,'[1]予選ヒート-レース結果表（貼付）'!$B:$B,0),MATCH('予選ヒート-レース結果表'!F$11,'[1]予選ヒート-レース結果表（貼付）'!$1:$1,0)),"") -> Rosa Drago CORSE/VORTEX | G13: =IFERROR(INDEX('[1]予選ヒート-レース結果表（貼付）'!$A:$Z,MATCH($B13,'[1]予選ヒート-レース結果表（貼付）'!$B:$B,0),MATCH('予選ヒート-レース結果表'!G$11,'[1]予選ヒート-レース結果表（貼付）'!$1:$1,0)),"") -> Apspeed with SOVLA | H13: =IFERROR(INDEX('[1]予選ヒート-レース結果表（貼付）'!$A:$Z,MATCH($B13,'[1]予選ヒート-レース結果表（貼付）'!$B:$B,0),MATCH('予選ヒート-レース結果表'!H$11,'[1]予選ヒート-レース結果表（貼付）'!$1:$1,0)),"") -> BS | I13: =IFERROR(INDEX('[1]予選ヒート-レース結果表（貼付）'!$A:$Z,MATCH($B13,'[1]予選ヒート-レース結果表（貼付）'!$B:$B,0),MATCH('予選ヒート-レース結果表'!I$11,'[1]予選ヒート-レース結果表（貼付）'!$1:$1,0)),"") -> 10 | J13: =INDEX('[1]予選ヒート-レース結果表（貼付）'!$A:$Z,MATCH($B13,'[1]予選ヒート-レース結果表（貼付）'!$B:$B,0),MATCH('予選ヒート-レース結果表'!J$11,'[1]予選ヒート-レース結果表（貼付）'!$1:$1,0)) -> 0.0057334838 | K13: =ROUND((1.264*I13)/(J13*24),2)&"km/h" -> 91.86km/h | M13: =INDEX('[1]予選ヒート-レース結果表（貼付）'!$A:$Z,MATCH($B13,'[1]予選ヒート-レース結果表（貼付）'!$B:$B,0),MATCH('予選ヒート-レース結果表'!M$11,'[1]予選ヒート-レース結果表（貼付）'!$1:$1,0)) -> 49.147 | N13: =IF(M13<1,"",IF($N$11>M13,"R","")) | Q13: =IF(IFERROR(INDEX('[1]予選ヒート-レース結果表（貼付）'!$A:$Z,MATCH($B13,'[1]予選ヒート-レース結果表（貼付）'!$B:$B,0),MATCH(Q$11,'[1]予選ヒート-レース結果表（貼付）'!$1:$1,0)),"")=0,"",IFERROR(INDEX('[1]予選ヒート-レース結果表（貼付）'!$A:$Z,MATCH($B13,'[1]予選ヒート-レース結果表（貼付）'!$B:$B,0),MATCH(Q$11,'[1]予選ヒート-レース結果表（貼付）'!$1:$1,0)),"")) | R13: =IF(Q13="","",COUNTIF($Q$13:Q13,"<>"&"")) | S13: =IFERROR(RANK(R13,$R$13:$R$46,1),"") | T13: =IF(IFERROR(INDEX('[1]予選ヒート-レース結果表（貼付）'!$A:$Z,MATCH($A13,'[1]予選ヒート-レース結果表（貼付）'!$A:$A,0),MATCH(T$11,'[1]予選ヒート-レース結果表（貼付）'!$1:$1,0)),"")=0,"",IFERROR(INDEX('[1]予選ヒート-レース結果表（貼付）'!$A:$Z,MATCH($A13,'[1]予選ヒート-レース結果表（貼付）'!$A:$A,0),MATCH(T$11,'[1]予選ヒート-レース結果表（貼付）'!$1:$1,0)),"")) | U13: =IF(IFERROR(INDEX('[1]予選ヒート-レース結果表（貼付）'!$A:$Z,MATCH($B13,'[1]予選ヒート-レース結果表（貼付）'!$B:$B,0),MATCH(U$11,'[1]予選ヒート-レース結果表（貼付）'!$1:$1,0)),"")=0,"",IFERROR(INDEX('[1]予選ヒート-レース結果表（貼付）'!$A:$Z,MATCH($B13,'[1]予選ヒート-レース結果表（貼付）'!$B:$B,0),MATCH(U$11,'[1]予選ヒート-レース結果表（貼付）'!$1:$1,0)),"")) -> 92.588
A14: =IF(OR('[1]予選ヒート-レース結果表（貼付）'!A3="DNF",'[1]予選ヒート-レース結果表（貼付）'!A3="DNS",'[1]予選ヒート-レース結果表（貼付）'!A3="DQ"),'[1]予選ヒート-レース結果表（貼付）'!A3,IF(MAX('[1]予選ヒート-レース結果表（貼付）'!A:A)>A13,A13+1,"")) -> 2 | B14: =IFERROR(INDEX('[1]予選ヒート-レース結果表（貼付）'!A3:$Z$50,MATCH($A14,'[1]予選ヒート-レース結果表（貼付）'!A3:$A$50,0),MATCH('[1]公式予選（TT）-結果表（印刷）'!B$11,'[1]予選ヒート-レース結果表（貼付）'!$1:$1,0)),"") -> 26 | C14: =IF(IFERROR(INDEX('[1]予選ヒート-レース結果表（貼付）'!$A:$Z,MATCH($B14,'[1]予選ヒート-レース結果表（貼付）'!$B:$B,0),MATCH(C$11,'[1]予選ヒート-レース結果表（貼付）'!$1:$1,0)),"")=0,"",IFERROR(INDEX('[1]予選ヒート-レース結果表（貼付）'!$A:$Z,MATCH($B14,'[1]予選ヒート-レース結果表（貼付）'!$B:$B,0),MATCH(C$11,'[1]予選ヒート-レース結果表（貼付）'!$1:$1,0)),"")) | D14: =IF(C14="","",IF(A14="","",COUNTIF($C$13:C14,C14))) | E14: =IFERROR(INDEX('[1]予選ヒート-レース結果表（貼付）'!$A:$Z,MATCH($B14,'[1]予選ヒート-レース結果表（貼付）'!$B:$B,0),MATCH('予選ヒート-レース結果表'!E$11,'[1]予選ヒート-レース結果表（貼付）'!$1:$1,0)),"") -> 丸山 陽平 | F14: =IFERROR(INDEX('[1]予選ヒート-レース結果表（貼付）'!$A:$Z,MATCH($B14,'[1]予選ヒート-レース結果表（貼付）'!$B:$B,0),MATCH('予選ヒート-レース結果表'!F$11,'[1]予選ヒート-レース結果表（貼付）'!$1:$1,0)),"") -> KOSMIC/VORTEX | G14: =IFERROR(INDEX('[1]予選ヒート-レース結果表（貼付）'!$A:$Z,MATCH($B14,'[1]予選ヒート-レース結果表（貼付）'!$B:$B,0),MATCH('予選ヒート-レース結果表'!G$11,'[1]予選ヒート-レース結果表（貼付）'!$1:$1,0)),"") -> HRT | H14: =IFERROR(INDEX('[1]予選ヒート-レース結果表（貼付）'!$A:$Z,MATCH($B14,'[1]予選ヒート-レース結果表（貼付）'!$B:$B,0),MATCH('予選ヒート-レース結果表'!H$11,'[1]予選ヒート-レース結果表（貼付）'!$1:$1,0)),"") -> BS | I14: =IFERROR(INDEX('[1]予選ヒート-レース結果表（貼付）'!$A:$Z,MATCH($B14,'[1]予選ヒート-レース結果表（貼付）'!$B:$B,0),MATCH('予選ヒート-レース結果表'!I$11,'[1]予選ヒート-レース結果表（貼付）'!$1:$1,0)),"") -> 10 | J14: =IFERROR(IF(A14="DNS","ｽﾀｰﾄ出来ず",IF(A14="DQ","失 格",INDEX('[1]予選ヒート-レース結果表（貼付）'!$A:$Z,MATCH($B14,'[1]予選ヒート-レース結果表（貼付）'!$B:$B,0),MATCH('予選ヒート-レース結果表'!J$11,'[1]予選ヒート-レース結果表（貼付）'!$1:$1,0)))),"") -> 0.0057349537 | K14: =IFERROR(IF(A14="DNS","",IF(A14="DQ","",INDEX('[1]予選ヒート-レース結果表（貼付）'!$A:$Z,MATCH($B14,'[1]予選ヒート-レース結果表（貼付）'!$B:$B,0),MATCH('予選ヒート-レース結果表'!K$11,'[1]予選ヒート-レース結果表（貼付）'!$1:$1,0)))),"") -> 0.127 | L14: =IFERROR(IF(A14="DNS","",IF(A14="DQ","",INDEX('[1]予選ヒート-レース結果表（貼付）'!$A:$Z,MATCH($B14,'[1]予選ヒート-レース結果表（貼付）'!$B:$B,0),MATCH('予選ヒート-レース結果表'!L$11,'[1]予選ヒート-レース結果表（貼付）'!$1:$1,0)))),"") -> 0.127 | M14: =IFERROR(IF(A14="DNS","",IF(A14="DQ","",INDEX('[1]予選ヒート-レース結果表（貼付）'!$A:$Z,MATCH($B14,'[1]予選ヒート-レース結果表（貼付）'!$B:$B,0),MATCH('予選ヒート-レース結果表'!M$11,'[1]予選ヒート-レース結果表（貼付）'!$1:$1,0)))),"") -> 49.002 | N14: =IF(M14<1,"",IF($N$11>M14,"R","")) | Q14: =IF(IFERROR(INDEX('[1]予選ヒート-レース結果表（貼付）'!$A:$Z,MATCH($B14,'[1]予選ヒート-レース結果表（貼付）'!$B:$B,0),MATCH(Q$11,'[1]予選ヒート-レース結果表（貼付）'!$1:$1,0)),"")=0,"",IFERROR(INDEX('[1]予選ヒート-レース結果表（貼付）'!$A:$Z,MATCH($B14,'[1]予選ヒート-レース結果表（貼付）'!$B:$B,0),MATCH(Q$11,'[1]予選ヒート-レース結果表（貼付）'!$1:$1,0)),"")) | R14: =IF(Q14="","",COUNTIF($Q$13:Q14,"<>"&"")) | S14: =IFERROR(RANK(R14,$R$13:$R$46,1),"") | T14: =IF(IFERROR(INDEX('[1]予選ヒート-レース結果表（貼付）'!$A:$Z,MATCH($A14,'[1]予選ヒート-レース結果表（貼付）'!$A:$A,0),MATCH(T$11,'[1]予選ヒート-レース結果表（貼付）'!$1:$1,0)),"")=0,"",IFERROR(INDEX('[1]予選ヒート-レース結果表（貼付）'!$A:$Z,MATCH($A14,'[1]予選ヒート-レース結果表（貼付）'!$A:$A,0),MATCH(T$11,'[1]予選ヒート-レース結果表（貼付）'!$1:$1,0)),"")) | U14: =IF(IFERROR(INDEX('[1]予選ヒート-レース結果表（貼付）'!$A:$Z,MATCH($B14,'[1]予選ヒート-レース結果表（貼付）'!$B:$B,0),MATCH(U$11,'[1]予選ヒート-レース結果表（貼付）'!$1:$1,0)),"")=0,"",IFERROR(INDEX('[1]予選ヒート-レース結果表（貼付）'!$A:$Z,MATCH($B14,'[1]予選ヒート-レース結果表（貼付）'!$B:$B,0),MATCH(U$11,'[1]予選ヒート-レース結果表（貼付）'!$1:$1,0)),"")) -> 92.862
A15: =IF(OR('[1]予選ヒート-レース結果表（貼付）'!A4="DNF",'[1]予選ヒート-レース結果表（貼付）'!A4="DNS",'[1]予選ヒート-レース結果表（貼付）'!A4="DQ"),'[1]予選ヒート-レース結果表（貼付）'!A4,IF(MAX('[1]予選ヒート-レース結果表（貼付）'!A:A)>A14,A14+1,"")) -> 3 | B15: =IFERROR(INDEX('[1]予選ヒート-レース結果表（貼付）'!A4:$Z$50,MATCH($A15,'[1]予選ヒート-レース結果表（貼付）'!A4:$A$50,0),MATCH('[1]公式予選（TT）-結果表（印刷）'!B$11,'[1]予選ヒート-レース結果表（貼付）'!$1:$1,0)),"") -> 88 | C15: =IF(IFERROR(INDEX('[1]予選ヒート-レース結果表（貼付）'!$A:$Z,MATCH($B15,'[1]予選ヒート-レース結果表（貼付）'!$B:$B,0),MATCH(C$11,'[1]予選ヒート-レース結果表（貼付）'!$1:$1,0)),"")=0,"",IFERROR(INDEX('[1]予選ヒート-レース結果表（貼付）'!$A:$Z,MATCH($B15,'[1]予選ヒート-レース結果表（貼付）'!$B:$B,0),MATCH(C$11,'[1]予選ヒート-レース結果表（貼付）'!$1:$1,0)),"")) -> Master | D15: =IF(C15="","",IF(A15="","",COUNTIF($C$13:C15,C15))) -> 1 | E15: =IFERROR(INDEX('[1]予選ヒート-レース結果表（貼付）'!$A:$Z,MATCH($B15,'[1]予選ヒート-レース結果表（貼付）'!$B:$B,0),MATCH('予選ヒート-レース結果表'!E$11,'[1]予選ヒート-レース結果表（貼付）'!$1:$1,0)),"") -> 小林 弘直 | F15: =IFERROR(INDEX('[1]予選ヒート-レース結果表（貼付）'!$A:$Z,MATCH($B15,'[1]予選ヒート-レース結果表（貼付）'!$B:$B,0),MATCH('予選ヒート-レース結果表'!F$11,'[1]予選ヒート-レース結果表（貼付）'!$1:$1,0)),"") -> KOSMIC/VORTEX | G15: =IFERROR(INDEX('[1]予選ヒート-レース結果表（貼付）'!$A:$Z,MATCH($B15,'[1]予選ヒート-レース結果表（貼付）'!$B:$B,0),MATCH('予選ヒート-レース結果表'!G$11,'[1]予選ヒート-レース結果表（貼付）'!$1:$1,0)),"") -> HRT | H15: =IFERROR(INDEX('[1]予選ヒート-レース結果表（貼付）'!$A:$Z,MATCH($B15,'[1]予選ヒート-レース結果表（貼付）'!$B:$B,0),MATCH('予選ヒート-レース結果表'!H$11,'[1]予選ヒート-レース結果表（貼付）'!$1:$1,0)),"") -> BS | I15: =IFERROR(INDEX('[1]予選ヒート-レース結果表（貼付）'!$A:$Z,MATCH($B15,'[1]予選ヒート-レース結果表（貼付）'!$B:$B,0),MATCH('予選ヒート-レース結果表'!I$11,'[1]予選ヒート-レース結果表（貼付）'!$1:$1,0)),"") -> 10 | J15: =IFERROR(IF(A15="DNS","ｽﾀｰﾄ出来ず",IF(A15="DQ","失 格",INDEX('[1]予選ヒート-レース結果表（貼付）'!$A:$Z,MATCH($B15,'[1]予選ヒート-レース結果表（貼付）'!$B:$B,0),MATCH('予選ヒート-レース結果表'!J$11,'[1]予選ヒート-レース結果表（貼付）'!$1:$1,0)))),"") -> 0.0057398032 | K15: =IFERROR(IF(A15="DNS","",IF(A15="DQ","",INDEX('[1]予選ヒート-レース結果表（貼付）'!$A:$Z,MATCH($B15,'[1]予選ヒート-レース結果表（貼付）'!$B:$B,0),MATCH('予選ヒート-レース結果表'!K$11,'[1]予選ヒート-レース結果表（貼付）'!$1:$1,0)))),"") -> 0.546 | L15: =IFERROR(IF(A15="DNS","",IF(A15="DQ","",INDEX('[1]予選ヒート-レース結果表（貼付）'!$A:$Z,MATCH($B15,'[1]予選ヒート-レース結果表（貼付）'!$B:$B,0),MATCH('予選ヒート-レース結果表'!L$11,'[1]予選ヒート-レース結果表（貼付）'!$1:$1,0)))),"") -> 0.419 | M15: =IFERROR(IF(A15="DNS","",IF(A15="DQ","",INDEX('[1]予選ヒート-レース結果表（貼付）'!$A:$Z,MATCH($B15,'[1]予選ヒート-レース結果表（貼付）'!$B:$B,0),MATCH('予選ヒート-レース結果表'!M$11,'[1]予選ヒート-レース結果表（貼付）'!$1:$1,0)))),"") -> 49.049 | N15: =IF(M15<1,"",IF($N$11>M15,"R","")) | Q15: =IF(IFERROR(INDEX('[1]予選ヒート-レース結果表（貼付）'!$A:$Z,MATCH($B15,'[1]予選ヒート-レース結果表（貼付）'!$B:$B,0),MATCH(Q$11,'[1]予選ヒート-レース結果表（貼付）'!$1:$1,0)),"")=0,"",IFERROR(INDEX('[1]予選ヒート-レース結果表（貼付）'!$A:$Z,MATCH($B15,'[1]予選ヒート-レース結果表（貼付）'!$B:$B,0),MATCH(Q$11,'[1]予選ヒート-レース結果表（貼付）'!$1:$1,0)),"")) | R15: =IF(Q15="","",COUNTIF($Q$13:Q15,"<>"&"")) | S15: =IFERROR(RANK(R15,$R$13:$R$46,1),"") | T15: =IF(IFERROR(INDEX('[1]予選ヒート-レース結果表（貼付）'!$A:$Z,MATCH($A15,'[1]予選ヒート-レース結果表（貼付）'!$A:$A,0),MATCH(T$11,'[1]予選ヒート-レース結果表（貼付）'!$1:$1,0)),"")=0,"",IFERROR(INDEX('[1]予選ヒート-レース結果表（貼付）'!$A:$Z,MATCH($A15,'[1]予選ヒート-レース結果表（貼付）'!$A:$A,0),MATCH(T$11,'[1]予選ヒート-レース結果表（貼付）'!$1:$1,0)),"")) | U15: =IF(IFERROR(INDEX('[1]予選ヒート-レース結果表（貼付）'!$A:$Z,MATCH($B15,'[1]予選ヒート-レース結果表（貼付）'!$B:$B,0),MATCH(U$11,'[1]予選ヒート-レース結果表（貼付）'!$1:$1,0)),"")=0,"",IFERROR(INDEX('[1]予選ヒート-レース結果表（貼付）'!$A:$Z,MATCH($B15,'[1]予選ヒート-レース結果表（貼付）'!$B:$B,0),MATCH(U$11,'[1]予選ヒート-レース結果表（貼付）'!$1:$1,0)),"")) -> 92.773
A16: =IF(OR('[1]予選ヒート-レース結果表（貼付）'!A5="DNF",'[1]予選ヒート-レース結果表（貼付）'!A5="DNS",'[1]予選ヒート-レース結果表（貼付）'!A5="DQ"),'[1]予選ヒート-レース結果表（貼付）'!A5,IF(MAX('[1]予選ヒート-レース結果表（貼付）'!A:A)>A15,A15+1,"")) -> 4 | B16: =IFERROR(INDEX('[1]予選ヒート-レース結果表（貼付）'!A5:$Z$50,MATCH($A16,'[1]予選ヒート-レース結果表（貼付）'!A5:$A$50,0),MATCH('[1]公式予選（TT）-結果表（印刷）'!B$11,'[1]予選ヒート-レース結果表（貼付）'!$1:$1,0)),"") -> 10 | C16: =IF(IFERROR(INDEX('[1]予選ヒート-レース結果表（貼付）'!$A:$Z,MATCH($B16,'[1]予選ヒート-レース結果表（貼付）'!$B:$B,0),MATCH(C$11,'[1]予選ヒート-レース結果表（貼付）'!$1:$1,0)),"")=0,"",IFERROR(INDEX('[1]予選ヒート-レース結果表（貼付）'!$A:$Z,MATCH($B16,'[1]予選ヒート-レース結果表（貼付）'!$B:$B,0),MATCH(C$11,'[1]予選ヒート-レース結果表（貼付）'!$1:$1,0)),"")) | D16: =IF(C16="","",IF(A16="","",COUNTIF($C$13:C16,C16))) | E16: =IFERROR(INDEX('[1]予選ヒート-レース結果表（貼付）'!$A:$Z,MATCH($B16,'[1]予選ヒート-レース結果表（貼付）'!$B:$B,0),MATCH('予選ヒート-レース結果表'!E$11,'[1]予選ヒート-レース結果表（貼付）'!$1:$1,0)),"") -> 水越 健太 | F16: =IFERROR(INDEX('[1]予選ヒート-レース結果表（貼付）'!$A:$Z,MATCH($B16,'[1]予選ヒート-レース結果表（貼付）'!$B:$B,0),MATCH('予選ヒート-レース結果表'!F$11,'[1]予選ヒート-レース結果表（貼付）'!$1:$1,0)),"") -> KR/VORTEX | G16: =IFERROR(INDEX('[1]予選ヒート-レース結果表（貼付）'!$A:$Z,MATCH($B16,'[1]予選ヒート-レース結果表（貼付）'!$B:$B,0),MATCH('予選ヒート-レース結果表'!G$11,'[1]予選ヒート-レース結果表（貼付）'!$1:$1,0)),"") -> MOMOX KART RACING | H16: =IFERROR(INDEX('[1]予選ヒート-レース結果表（貼付）'!$A:$Z,MATCH($B16,'[1]予選ヒート-レース結果表（貼付）'!$B:$B,0),MATCH('予選ヒート-レース結果表'!H$11,'[1]予選ヒート-レース結果表（貼付）'!$1:$1,0)),"") -> BS | I16: =IFERROR(INDEX('[1]予選ヒート-レース結果表（貼付）'!$A:$Z,MATCH($B16,'[1]予選ヒート-レース結果表（貼付）'!$B:$B,0),MATCH('予選ヒート-レース結果表'!I$11,'[1]予選ヒート-レース結果表（貼付）'!$1:$1,0)),"") -> 10 | J16: =IFERROR(IF(A16="DNS","ｽﾀｰﾄ出来ず",IF(A16="DQ","失 格",INDEX('[1]予選ヒート-レース結果表（貼付）'!$A:$Z,MATCH($B16,'[1]予選ヒート-レース結果表（貼付）'!$B:$B,0),MATCH('予選ヒート-レース結果表'!J$11,'[1]予選ヒート-レース結果表（貼付）'!$1:$1,0)))),"") -> 0.0057437731 | K16: =IFERROR(IF(A16="DNS","",IF(A16="DQ","",INDEX('[1]予選ヒート-レース結果表（貼付）'!$A:$Z,MATCH($B16,'[1]予選ヒート-レース結果表（貼付）'!$B:$B,0),MATCH('予選ヒート-レース結果表'!K$11,'[1]予選ヒート-レース結果表（貼付）'!$1:$1,0)))),"") -> 0.889 | L16: =IFERROR(IF(A16="DNS","",IF(A16="DQ","",INDEX('[1]予選ヒート-レース結果表（貼付）'!$A:$Z,MATCH($B16,'[1]予選ヒート-レース結果表（貼付）'!$B:$B,0),MATCH('予選ヒート-レース結果表'!L$11,'[1]予選ヒート-レース結果表（貼付）'!$1:$1,0)))),"") -> 0.343 | M16: =IFERROR(IF(A16="DNS","",IF(A16="DQ","",INDEX('[1]予選ヒート-レース結果表（貼付）'!$A:$Z,MATCH($B16,'[1]予選ヒート-レース結果表（貼付）'!$B:$B,0),MATCH('予選ヒート-レース結果表'!M$11,'[1]予選ヒート-レース結果表（貼付）'!$1:$1,0)))),"") -> 48.998 | N16: =IF(M16<1,"",IF($N$11>M16,"R","")) | Q16: =IF(IFERROR(INDEX('[1]予選ヒート-レース結果表（貼付）'!$A:$Z,MATCH($B16,'[1]予選ヒート-レース結果表（貼付）'!$B:$B,0),MATCH(Q$11,'[1]予選ヒート-レース結果表（貼付）'!$1:$1,0)),"")=0,"",IFERROR(INDEX('[1]予選ヒート-レース結果表（貼付）'!$A:$Z,MATCH($B16,'[1]予選ヒート-レース結果表（貼付）'!$B:$B,0),MATCH(Q$11,'[1]予選ヒート-レース結果表（貼付）'!$1:$1,0)),"")) | R16: =IF(Q16="","",COUNTIF($Q$13:Q16,"<>"&"")) | S16: =IFERROR(RANK(R16,$R$13:$R$46,1),"") | T16: =IF(IFERROR(INDEX('[1]予選ヒート-レース結果表（貼付）'!$A:$Z,MATCH($A16,'[1]予選ヒート-レース結果表（貼付）'!$A:$A,0),MATCH(T$11,'[1]予選ヒート-レース結果表（貼付）'!$1:$1,0)),"")=0,"",IFERROR(INDEX('[1]予選ヒート-レース結果表（貼付）'!$A:$Z,MATCH($A16,'[1]予選ヒート-レース結果表（貼付）'!$A:$A,0),MATCH(T$11,'[1]予選ヒート-レース結果表（貼付）'!$1:$1,0)),"")) | U16: =IF(IFERROR(INDEX('[1]予選ヒート-レース結果表（貼付）'!$A:$Z,MATCH($B16,'[1]予選ヒート-レース結果表（貼付）'!$B:$B,0),MATCH(U$11,'[1]予選ヒート-レース結果表（貼付）'!$1:$1,0)),"")=0,"",IFERROR(INDEX('[1]予選ヒート-レース結果表（貼付）'!$A:$Z,MATCH($B16,'[1]予選ヒート-レース結果表（貼付）'!$B:$B,0),MATCH(U$11,'[1]予選ヒート-レース結果表（貼付）'!$1:$1,0)),"")) -> 92.869
A17: =IF(OR('[1]予選ヒート-レース結果表（貼付）'!A6="DNF",'[1]予選ヒート-レース結果表（貼付）'!A6="DNS",'[1]予選ヒート-レース結果表（貼付）'!A6="DQ"),'[1]予選ヒート-レース結果表（貼付）'!A6,IF(MAX('[1]予選ヒート-レース結果表（貼付）'!A:A)>A16,A16+1,"")) -> 5 | B17: =IFERROR(INDEX('[1]予選ヒート-レース結果表（貼付）'!A6:$Z$50,MATCH($A17,'[1]予選ヒート-レース結果表（貼付）'!A6:$A$50,0),MATCH('[1]公式予選（TT）-結果表（印刷）'!B$11,'[1]予選ヒート-レース結果表（貼付）'!$1:$1,0)),"") -> 35 | C17: =IF(IFERROR(INDEX('[1]予選ヒート-レース結果表（貼付）'!$A:$Z,MATCH($B17,'[1]予選ヒート-レース結果表（貼付）'!$B:$B,0),MATCH(C$11,'[1]予選ヒート-レース結果表（貼付）'!$1:$1,0)),"")=0,"",IFERROR(INDEX('[1]予選ヒート-レース結果表（貼付）'!$A:$Z,MATCH($B17,'[1]予選ヒート-レース結果表（貼付）'!$B:$B,0),MATCH(C$11,'[1]予選ヒート-レース結果表（貼付）'!$1:$1,0)),"")) | D17: =IF(C17="","",IF(A17="","",COUNTIF($C$13:C17,C17))) | E17: =IFERROR(INDEX('[1]予選ヒート-レース結果表（貼付）'!$A:$Z,MATCH($B17,'[1]予選ヒート-レース結果表（貼付）'!$B:$B,0),MATCH('予選ヒート-レース結果表'!E$11,'[1]予選ヒート-レース結果表（貼付）'!$1:$1,0)),"") -> 井出 七星翔 | F17: =IFERROR(INDEX('[1]予選ヒート-レース結果表（貼付）'!$A:$Z,MATCH($B17,'[1]予選ヒート-レース結果表（貼付）'!$B:$B,0),MATCH('予選ヒート-レース結果表'!F$11,'[1]予選ヒート-レース結果表（貼付）'!$1:$1,0)),"") -> ｸﾛｯｸﾞ/VORTEX | G17: =IFERROR(INDEX('[1]予選ヒート-レース結果表（貼付）'!$A:$Z,MATCH($B17,'[1]予選ヒート-レース結果表（貼付）'!$B:$B,0),MATCH('予選ヒート-レース結果表'!G$11,'[1]予選ヒート-レース結果表（貼付）'!$1:$1,0)),"") -> RSｲﾃﾞｨｱぴぃたぁぱん | H17: =IFERROR(INDEX('[1]予選ヒート-レース結果表（貼付）'!$A:$Z,MATCH($B17,'[1]予選ヒート-レース結果表（貼付）'!$B:$B,0),MATCH('予選ヒート-レース結果表'!H$11,'[1]予選ヒート-レース結果表（貼付）'!$1:$1,0)),"") -> BS | I17: =IFERROR(INDEX('[1]予選ヒート-レース結果表（貼付）'!$A:$Z,MATCH($B17,'[1]予選ヒート-レース結果表（貼付）'!$B:$B,0),MATCH('予選ヒート-レース結果表'!I$11,'[1]予選ヒート-レース結果表（貼付）'!$1:$1,0)),"") -> 10 | J17: =IFERROR(IF(A17="DNS","ｽﾀｰﾄ出来ず",IF(A17="DQ","失 格",INDEX('[1]予選ヒート-レース結果表（貼付）'!$A:$Z,MATCH($B17,'[1]予選ヒート-レース結果表（貼付）'!$B:$B,0),MATCH('予選ヒート-レース結果表'!J$11,'[1]予選ヒート-レース結果表（貼付）'!$1:$1,0)))),"") -> 0.0057455208 | K17: =IFERROR(IF(A17="DNS","",IF(A17="DQ","",INDEX('[1]予選ヒート-レース結果表（貼付）'!$A:$Z,MATCH($B17,'[1]予選ヒート-レース結果表（貼付）'!$B:$B,0),MATCH('予選ヒート-レース結果表'!K$11,'[1]予選ヒート-レース結果表（貼付）'!$1:$1,0)))),"") -> 1.04 | L17: =IFERROR(IF(A17="DNS","",IF(A17="DQ","",INDEX('[1]予選ヒート-レース結果表（貼付）'!$A:$Z,MATCH($B17,'[1]予選ヒート-レース結果表（貼付）'!$B:$B,0),MATCH('予選ヒート-レース結果表'!L$11,'[1]予選ヒート-レース結果表（貼付）'!$1:$1,0)))),"") -> 0.151 | M17: =IFERROR(IF(A17="DNS","",IF(A17="DQ","",INDEX('[1]予選ヒート-レース結果表（貼付）'!$A:$Z,MATCH($B17,'[1]予選ヒート-レース結果表（貼付）'!$B:$B,0),MATCH('予選ヒート-レース結果表'!M$11,'[1]予選ヒート-レース結果表（貼付）'!$1:$1,0)))),"") -> 49.119 | N17: =IF(M17<1,"",IF($N$11>M17,"R","")) | Q17: =IF(IFERROR(INDEX('[1]予選ヒート-レース結果表（貼付）'!$A:$Z,MATCH($B17,'[1]予選ヒート-レース結果表（貼付）'!$B:$B,0),MATCH(Q$11,'[1]予選ヒート-レース結果表（貼付）'!$1:$1,0)),"")=0,"",IFERROR(INDEX('[1]予選ヒート-レース結果表（貼付）'!$A:$Z,MATCH($B17,'[1]予選ヒート-レース結果表（貼付）'!$B:$B,0),MATCH(Q$11,'[1]予選ヒート-レース結果表（貼付）'!$1:$1,0)),"")) | R17: =IF(Q17="","",COUNTIF($Q$13:Q17,"<>"&"")) | S17: =IFERROR(RANK(R17,$R$13:$R$46,1),"") | T17: =IF(IFERROR(INDEX('[1]予選ヒート-レース結果表（貼付）'!$A:$Z,MATCH($A17,'[1]予選ヒート-レース結果表（貼付）'!$A:$A,0),MATCH(T$11,'[1]予選ヒート-レース結果表（貼付）'!$1:$1,0)),"")=0,"",IFERROR(INDEX('[1]予選ヒート-レース結果表（貼付）'!$A:$Z,MATCH($A17,'[1]予選ヒート-レース結果表（貼付）'!$A:$A,0),MATCH(T$11,'[1]予選ヒート-レース結果表（貼付）'!$1:$1,0)),"")) | U17: =IF(IFERROR(INDEX('[1]予選ヒート-レース結果表（貼付）'!$A:$Z,MATCH($B17,'[1]予選ヒート-レース結果表（貼付）'!$B:$B,0),MATCH(U$11,'[1]予選ヒート-レース結果表（貼付）'!$1:$1,0)),"")=0,"",IFERROR(INDEX('[1]予選ヒート-レース結果表（貼付）'!$A:$Z,MATCH($B17,'[1]予選ヒート-レース結果表（貼付）'!$B:$B,0),MATCH(U$11,'[1]予選ヒート-レース結果表（貼付）'!$1:$1,0)),"")) -> 92.64
A18: =IF(OR('[1]予選ヒート-レース結果表（貼付）'!A7="DNF",'[1]予選ヒート-レース結果表（貼付）'!A7="DNS",'[1]予選ヒート-レース結果表（貼付）'!A7="DQ"),'[1]予選ヒート-レース結果表（貼付）'!A7,IF(MAX('[1]予選ヒート-レース結果表（貼付）'!A:A)>A17,A17+1,"")) -> 6 | B18: =IFERROR(INDEX('[1]予選ヒート-レース結果表（貼付）'!A7:$Z$50,MATCH($A18,'[1]予選ヒート-レース結果表（貼付）'!A7:$A$50,0),MATCH('[1]公式予選（TT）-結果表（印刷）'!B$11,'[1]予選ヒート-レース結果表（貼付）'!$1:$1,0)),"") -> 73 | C18: =IF(IFERROR(INDEX('[1]予選ヒート-レース結果表（貼付）'!$A:$Z,MATCH($B18,'[1]予選ヒート-レース結果表（貼付）'!$B:$B,0),MATCH(C$11,'[1]予選ヒート-レース結果表（貼付）'!$1:$1,0)),"")=0,"",IFERROR(INDEX('[1]予選ヒート-レース結果表（貼付）'!$A:$Z,MATCH($B18,'[1]予選ヒート-レース結果表（貼付）'!$B:$B,0),MATCH(C$11,'[1]予選ヒート-レース結果表（貼付）'!$1:$1,0)),"")) | D18: =IF(C18="","",IF(A18="","",COUNTIF($C$13:C18,C18))) | E18: =IFERROR(INDEX('[1]予選ヒート-レース結果表（貼付）'!$A:$Z,MATCH($B18,'[1]予選ヒート-レース結果表（貼付）'!$B:$B,0),MATCH('予選ヒート-レース結果表'!E$11,'[1]予選ヒート-レース結果表（貼付）'!$1:$1,0)),"") -> 豊島 里空斗 | F18: =IFERROR(INDEX('[1]予選ヒート-レース結果表（貼付）'!$A:$Z,MATCH($B18,'[1]予選ヒート-レース結果表（貼付）'!$B:$B,0),MATCH('予選ヒート-レース結果表'!F$11,'[1]予選ヒート-レース結果表（貼付）'!$1:$1,0)),"") -> TONYKART/VORTEX | G18: =IFERROR(INDEX('[1]予選ヒート-レース結果表（貼付）'!$A:$Z,MATCH($B18,'[1]予選ヒート-レース結果表（貼付）'!$B:$B,0),MATCH('予選ヒート-レース結果表'!G$11,'[1]予選ヒート-レース結果表（貼付）'!$1:$1,0)),"") -> HRTwithｶﾛｰﾗ新茨城CSI Racing | H18: =IFERROR(INDEX('[1]予選ヒート-レース結果表（貼付）'!$A:$Z,MATCH($B18,'[1]予選ヒート-レース結果表（貼付）'!$B:$B,0),MATCH('予選ヒート-レース結果表'!H$11,'[1]予選ヒート-レース結果表（貼付）'!$1:$1,0)),"") -> BS | I18: =IFERROR(INDEX('[1]予選ヒート-レース結果表（貼付）'!$A:$Z,MATCH($B18,'[1]予選ヒート-レース結果表（貼付）'!$B:$B,0),MATCH('予選ヒート-レース結果表'!I$11,'[1]予選ヒート-レース結果表（貼付）'!$1:$1,0)),"") -> 10 | J18: =IFERROR(IF(A18="DNS","ｽﾀｰﾄ出来ず",IF(A18="DQ","失 格",INDEX('[1]予選ヒート-レース結果表（貼付）'!$A:$Z,MATCH($B18,'[1]予選ヒート-レース結果表（貼付）'!$B:$B,0),MATCH('予選ヒート-レース結果表'!J$11,'[1]予選ヒート-レース結果表（貼付）'!$1:$1,0)))),"") -> 0.0057578241 | K18: =IFERROR(IF(A18="DNS","",IF(A18="DQ","",INDEX('[1]予選ヒート-レース結果表（貼付）'!$A:$Z,MATCH($B18,'[1]予選ヒート-レース結果表（貼付）'!$B:$B,0),MATCH('予選ヒート-レース結果表'!K$11,'[1]予選ヒート-レース結果表（貼付）'!$1:$1,0)))),"") -> 2.103 | L18: =IFERROR(IF(A18="DNS","",IF(A18="DQ","",INDEX('[1]予選ヒート-レース結果表（貼付）'!$A:$Z,MATCH($B18,'[1]予選ヒート-レース結果表（貼付）'!$B:$B,0),MATCH('予選ヒート-レース結果表'!L$11,'[1]予選ヒート-レース結果表（貼付）'!$1:$1,0)))),"") -> 1.063 | M18: =IFERROR(IF(A18="DNS","",IF(A18="DQ","",INDEX('[1]予選ヒート-レース結果表（貼付）'!$A:$Z,MATCH($B18,'[1]予選ヒート-レース結果表（貼付）'!$B:$B,0),MATCH('予選ヒート-レース結果表'!M$11,'[1]予選ヒート-レース結果表（貼付）'!$1:$1,0)))),"") -> 48.98 | N18: =IF(M18<1,"",IF($N$11>M18,"R","")) | Q18: =IF(IFERROR(INDEX('[1]予選ヒート-レース結果表（貼付）'!$A:$Z,MATCH($B18,'[1]予選ヒート-レース結果表（貼付）'!$B:$B,0),MATCH(Q$11,'[1]予選ヒート-レース結果表（貼付）'!$1:$1,0)),"")=0,"",IFERROR(INDEX('[1]予選ヒート-レース結果表（貼付）'!$A:$Z,MATCH($B18,'[1]予選ヒート-レース結果表（貼付）'!$B:$B,0),MATCH(Q$11,'[1]予選ヒート-レース結果表（貼付）'!$1:$1,0)),"")) | R18: =IF(Q18="","",COUNTIF($Q$13:Q18,"<>"&"")) | S18: =IFERROR(RANK(R18,$R$13:$R$46,1),"") | T18: =IF(IFERROR(INDEX('[1]予選ヒート-レース結果表（貼付）'!$A:$Z,MATCH($A18,'[1]予選ヒート-レース結果表（貼付）'!$A:$A,0),MATCH(T$11,'[1]予選ヒート-レース結果表（貼付）'!$1:$1,0)),"")=0,"",IFERROR(INDEX('[1]予選ヒート-レース結果表（貼付）'!$A:$Z,MATCH($A18,'[1]予選ヒート-レース結果表（貼付）'!$A:$A,0),MATCH(T$11,'[1]予選ヒート-レース結果表（貼付）'!$1:$1,0)),"")) | U18: =IF(IFERROR(INDEX('[1]予選ヒート-レース結果表（貼付）'!$A:$Z,MATCH($B18,'[1]予選ヒート-レース結果表（貼付）'!$B:$B,0),MATCH(U$11,'[1]予選ヒート-レース結果表（貼付）'!$1:$1,0)),"")=0,"",IFERROR(INDEX('[1]予選ヒート-レース結果表（貼付）'!$A:$Z,MATCH($B18,'[1]予選ヒート-レース結果表（貼付）'!$B:$B,0),MATCH(U$11,'[1]予選ヒート-レース結果表（貼付）'!$1:$1,0)),"")) -> 92.903
A19: =IF(OR('[1]予選ヒート-レース結果表（貼付）'!A8="DNF",'[1]予選ヒート-レース結果表（貼付）'!A8="DNS",'[1]予選ヒート-レース結果表（貼付）'!A8="DQ"),'[1]予選ヒート-レース結果表（貼付）'!A8,IF(MAX('[1]予選ヒート-レース結果表（貼付）'!A:A)>A18,A18+1,"")) -> 7 | B19: =IFERROR(INDEX('[1]予選ヒート-レース結果表（貼付）'!A8:$Z$50,MATCH($A19,'[1]予選ヒート-レース結果表（貼付）'!A8:$A$50,0),MATCH('[1]公式予選（TT）-結果表（印刷）'!B$11,'[1]予選ヒート-レース結果表（貼付）'!$1:$1,0)),"") -> 3 | C19: =IF(IFERROR(INDEX('[1]予選ヒート-レース結果表（貼付）'!$A:$Z,MATCH($B19,'[1]予選ヒート-レース結果表（貼付）'!$B:$B,0),MATCH(C$11,'[1]予選ヒート-レース結果表（貼付）'!$1:$1,0)),"")=0,"",IFERROR(INDEX('[1]予選ヒート-レース結果表（貼付）'!$A:$Z,MATCH($B19,'[1]予選ヒート-レース結果表（貼付）'!$B:$B,0),MATCH(C$11,'[1]予選ヒート-レース結果表（貼付）'!$1:$1,0)),"")) -> Master | D19: =IF(C19="","",IF(A19="","",COUNTIF($C$13:C19,C19))) -> 2 | E19: =IFERROR(INDEX('[1]予選ヒート-レース結果表（貼付）'!$A:$Z,MATCH($B19,'[1]予選ヒート-レース結果表（貼付）'!$B:$B,0),MATCH('予選ヒート-レース結果表'!E$11,'[1]予選ヒート-レース結果表（貼付）'!$1:$1,0)),"") -> 岡本 孝之 | F19: =IFERROR(INDEX('[1]予選ヒート-レース結果表（貼付）'!$A:$Z,MATCH($B19,'[1]予選ヒート-レース結果表（貼付）'!$B:$B,0),MATCH('予選ヒート-レース結果表'!F$11,'[1]予選ヒート-レース結果表（貼付）'!$1:$1,0)),"") -> TONY KART/VORTEX | G19: =IFERROR(INDEX('[1]予選ヒート-レース結果表（貼付）'!$A:$Z,MATCH($B19,'[1]予選ヒート-レース結果表（貼付）'!$B:$B,0),MATCH('予選ヒート-レース結果表'!G$11,'[1]予選ヒート-レース結果表（貼付）'!$1:$1,0)),"") -> ﾊﾗﾀﾞｶｰﾄｸﾗﾌﾞ | H19: =IFERROR(INDEX('[1]予選ヒート-レース結果表（貼付）'!$A:$Z,MATCH($B19,'[1]予選ヒート-レース結果表（貼付）'!$B:$B,0),MATCH('予選ヒート-レース結果表'!H$11,'[1]予選ヒート-レース結果表（貼付）'!$1:$1,0)),"") -> BS | I19: =IFERROR(INDEX('[1]予選ヒート-レース結果表（貼付）'!$A:$Z,MATCH($B19,'[1]予選ヒート-レース結果表（貼付）'!$B:$B,0),MATCH('予選ヒート-レース結果表'!I$11,'[1]予選ヒート-レース結果表（貼付）'!$1:$1,0)),"") -> 10 | J19: =IFERROR(IF(A19="DNS","ｽﾀｰﾄ出来ず",IF(A19="DQ","失 格",INDEX('[1]予選ヒート-レース結果表（貼付）'!$A:$Z,MATCH($B19,'[1]予選ヒート-レース結果表（貼付）'!$B:$B,0),MATCH('予選ヒート-レース結果表'!J$11,'[1]予選ヒート-レース結果表（貼付）'!$1:$1,0)))),"") -> 0.0057770949 | K19: =IFERROR(IF(A19="DNS","",IF(A19="DQ","",INDEX('[1]予選ヒート-レース結果表（貼付）'!$A:$Z,MATCH($B19,'[1]予選ヒート-レース結果表（貼付）'!$B:$B,0),MATCH('予選ヒート-レース結果表'!K$11,'[1]予選ヒート-レース結果表（貼付）'!$1:$1,0)))),"") -> 3.768 | L19: =IFERROR(IF(A19="DNS","",IF(A19="DQ","",INDEX('[1]予選ヒート-レース結果表（貼付）'!$A:$Z,MATCH($B19,'[1]予選ヒート-レース結果表（貼付）'!$B:$B,0),MATCH('予選ヒート-レース結果表'!L$11,'[1]予選ヒート-レース結果表（貼付）'!$1:$1,0)))),"") -> 1.665 | M19: =IFERROR(IF(A19="DNS","",IF(A19="DQ","",INDEX('[1]予選ヒート-レース結果表（貼付）'!$A:$Z,MATCH($B19,'[1]予選ヒート-レース結果表（貼付）'!$B:$B,0),MATCH('予選ヒート-レース結果表'!M$11,'[1]予選ヒート-レース結果表（貼付）'!$1:$1,0)))),"") -> 49.296 | N19: =IF(M19<1,"",IF($N$11>M19,"R","")) | Q19: =IF(IFERROR(INDEX('[1]予選ヒート-レース結果表（貼付）'!$A:$Z,MATCH($B19,'[1]予選ヒート-レース結果表（貼付）'!$B:$B,0),MATCH(Q$11,'[1]予選ヒート-レース結果表（貼付）'!$1:$1,0)),"")=0,"",IFERROR(INDEX('[1]予選ヒート-レース結果表（貼付）'!$A:$Z,MATCH($B19,'[1]予選ヒート-レース結果表（貼付）'!$B:$B,0),MATCH(Q$11,'[1]予選ヒート-レース結果表（貼付）'!$1:$1,0)),"")) | R19: =IF(Q19="","",COUNTIF($Q$13:Q19,"<>"&"")) | S19: =IFERROR(RANK(R19,$R$13:$R$46,1),"") | T19: =IF(IFERROR(INDEX('[1]予選ヒート-レース結果表（貼付）'!$A:$Z,MATCH($A19,'[1]予選ヒート-レース結果表（貼付）'!$A:$A,0),MATCH(T$11,'[1]予選ヒート-レース結果表（貼付）'!$1:$1,0)),"")=0,"",IFERROR(INDEX('[1]予選ヒート-レース結果表（貼付）'!$A:$Z,MATCH($A19,'[1]予選ヒート-レース結果表（貼付）'!$A:$A,0),MATCH(T$11,'[1]予選ヒート-レース結果表（貼付）'!$1:$1,0)),"")) | U19: =IF(IFERROR(INDEX('[1]予選ヒート-レース結果表（貼付）'!$A:$Z,MATCH($B19,'[1]予選ヒート-レース結果表（貼付）'!$B:$B,0),MATCH(U$11,'[1]予選ヒート-レース結果表（貼付）'!$1:$1,0)),"")=0,"",IFERROR(INDEX('[1]予選ヒート-レース結果表（貼付）'!$A:$Z,MATCH($B19,'[1]予選ヒート-レース結果表（貼付）'!$B:$B,0),MATCH(U$11,'[1]予選ヒート-レース結果表（貼付）'!$1:$1,0)),"")) -> 92.308
A20: =IF(OR('[1]予選ヒート-レース結果表（貼付）'!A9="DNF",'[1]予選ヒート-レース結果表（貼付）'!A9="DNS",'[1]予選ヒート-レース結果表（貼付）'!A9="DQ"),'[1]予選ヒート-レース結果表（貼付）'!A9,IF(MAX('[1]予選ヒート-レース結果表（貼付）'!A:A)>A19,A19+1,"")) -> 8 | B20: =IFERROR(INDEX('[1]予選ヒート-レース結果表（貼付）'!A9:$Z$50,MATCH($A20,'[1]予選ヒート-レース結果表（貼付）'!A9:$A$50,0),MATCH('[1]公式予選（TT）-結果表（印刷）'!B$11,'[1]予選ヒート-レース結果表（貼付）'!$1:$1,0)),"") -> 15 | C20: =IF(IFERROR(INDEX('[1]予選ヒート-レース結果表（貼付）'!$A:$Z,MATCH($B20,'[1]予選ヒート-レース結果表（貼付）'!$B:$B,0),MATCH(C$11,'[1]予選ヒート-レース結果表（貼付）'!$1:$1,0)),"")=0,"",IFERROR(INDEX('[1]予選ヒート-レース結果表（貼付）'!$A:$Z,MATCH($B20,'[1]予選ヒート-レース結果表（貼付）'!$B:$B,0),MATCH(C$11,'[1]予選ヒート-レース結果表（貼付）'!$1:$1,0)),"")) | D20: =IF(C20="","",IF(A20="","",COUNTIF($C$13:C20,C20))) | E20: =IFERROR(INDEX('[1]予選ヒート-レース結果表（貼付）'!$A:$Z,MATCH($B20,'[1]予選ヒート-レース結果表（貼付）'!$B:$B,0),MATCH('予選ヒート-レース結果表'!E$11,'[1]予選ヒート-レース結果表（貼付）'!$1:$1,0)),"") -> 酒井 畝那 | F20: =IFERROR(INDEX('[1]予選ヒート-レース結果表（貼付）'!$A:$Z,MATCH($B20,'[1]予選ヒート-レース結果表（貼付）'!$B:$B,0),MATCH('予選ヒート-レース結果表'!F$11,'[1]予選ヒート-レース結果表（貼付）'!$1:$1,0)),"") -> TONY KART/VORTEX | G20: =IFERROR(INDEX('[1]予選ヒート-レース結果表（貼付）'!$A:$Z,MATCH($B20,'[1]予選ヒート-レース結果表（貼付）'!$B:$B,0),MATCH('予選ヒート-レース結果表'!G$11,'[1]予選ヒート-レース結果表（貼付）'!$1:$1,0)),"") -> ABout Factory | H20: =IFERROR(INDEX('[1]予選ヒート-レース結果表（貼付）'!$A:$Z,MATCH($B20,'[1]予選ヒート-レース結果表（貼付）'!$B:$B,0),MATCH('予選ヒート-レース結果表'!H$11,'[1]予選ヒート-レース結果表（貼付）'!$1:$1,0)),"") -> BS | I20: =IFERROR(INDEX('[1]予選ヒート-レース結果表（貼付）'!$A:$Z,MATCH($B20,'[1]予選ヒート-レース結果表（貼付）'!$B:$B,0),MATCH('予選ヒート-レース結果表'!I$11,'[1]予選ヒート-レース結果表（貼付）'!$1:$1,0)),"") -> 10 | J20: =IFERROR(IF(A20="DNS","ｽﾀｰﾄ出来ず",IF(A20="DQ","失 格",INDEX('[1]予選ヒート-レース結果表（貼付）'!$A:$Z,MATCH($B20,'[1]予選ヒート-レース結果表（貼付）'!$B:$B,0),MATCH('予選ヒート-レース結果表'!J$11,'[1]予選ヒート-レース結果表（貼付）'!$1:$1,0)))),"") -> 0.0057878472 | K20: =IFERROR(IF(A20="DNS","",IF(A20="DQ","",INDEX('[1]予選ヒート-レース結果表（貼付）'!$A:$Z,MATCH($B20,'[1]予選ヒート-レース結果表（貼付）'!$B:$B,0),MATCH('予選ヒート-レース結果表'!K$11,'[1]予選ヒート-レース結果表（貼付）'!$1:$1,0)))),"") -> 4.697 | L20: =IFERROR(IF(A20="DNS","",IF(A20="DQ","",INDEX('[1]予選ヒート-レース結果表（貼付）'!$A:$Z,MATCH($B20,'[1]予選ヒート-レース結果表（貼付）'!$B:$B,0),MATCH('予選ヒート-レース結果表'!L$11,'[1]予選ヒート-レース結果表（貼付）'!$1:$1,0)))),"") -> 0.929 | M20: =IFERROR(IF(A20="DNS","",IF(A20="DQ","",INDEX('[1]予選ヒート-レース結果表（貼付）'!$A:$Z,MATCH($B20,'[1]予選ヒート-レース結果表（貼付）'!$B:$B,0),MATCH('予選ヒート-レース結果表'!M$11,'[1]予選ヒート-レース結果表（貼付）'!$1:$1,0)))),"") -> 49.517 | N20: =IF(M20<1,"",IF($N$11>M20,"R","")) | Q20: =IF(IFERROR(INDEX('[1]予選ヒート-レース結果表（貼付）'!$A:$Z,MATCH($B20,'[1]予選ヒート-レース結果表（貼付）'!$B:$B,0),MATCH(Q$11,'[1]予選ヒート-レース結果表（貼付）'!$1:$1,0)),"")=0,"",IFERROR(INDEX('[1]予選ヒート-レース結果表（貼付）'!$A:$Z,MATCH($B20,'[1]予選ヒート-レース結果表（貼付）'!$B:$B,0),MATCH(Q$11,'[1]予選ヒート-レース結果表（貼付）'!$1:$1,0)),"")) | R20: =IF(Q20="","",COUNTIF($Q$13:Q20,"<>"&"")) | S20: =IFERROR(RANK(R20,$R$13:$R$46,1),"") | T20: =IF(IFERROR(INDEX('[1]予選ヒート-レース結果表（貼付）'!$A:$Z,MATCH($A20,'[1]予選ヒート-レース結果表（貼付）'!$A:$A,0),MATCH(T$11,'[1]予選ヒート-レース結果表（貼付）'!$1:$1,0)),"")=0,"",IFERROR(INDEX('[1]予選ヒート-レース結果表（貼付）'!$A:$Z,MATCH($A20,'[1]予選ヒート-レース結果表（貼付）'!$A:$A,0),MATCH(T$11,'[1]予選ヒート-レース結果表（貼付）'!$1:$1,0)),"")) | U20: =IF(IFERROR(INDEX('[1]予選ヒート-レース結果表（貼付）'!$A:$Z,MATCH($B20,'[1]予選ヒート-レース結果表（貼付）'!$B:$B,0),MATCH(U$11,'[1]予選ヒート-レース結果表（貼付）'!$1:$1,0)),"")=0,"",IFERROR(INDEX('[1]予選ヒート-レース結果表（貼付）'!$A:$Z,MATCH($B20,'[1]予選ヒート-レース結果表（貼付）'!$B:$B,0),MATCH(U$11,'[1]予選ヒート-レース結果表（貼付）'!$1:$1,0)),"")) -> 91.896
A21: =IF(OR('[1]予選ヒート-レース結果表（貼付）'!A10="DNF",'[1]予選ヒート-レース結果表（貼付）'!A10="DNS",'[1]予選ヒート-レース結果表（貼付）'!A10="DQ"),'[1]予選ヒート-レース結果表（貼付）'!A10,IF(MAX('[1]予選ヒート-レース結果表（貼付）'!A:A)>A20,A20+1,"")) -> 9 | B21: =IFERROR(INDEX('[1]予選ヒート-レース結果表（貼付）'!A10:$Z$50,MATCH($A21,'[1]予選ヒート-レース結果表（貼付）'!A10:$A$50,0),MATCH('[1]公式予選（TT）-結果表（印刷）'!B$11,'[1]予選ヒート-レース結果表（貼付）'!$1:$1,0)),"") -> 13 | C21: =IF(IFERROR(INDEX('[1]予選ヒート-レース結果表（貼付）'!$A:$Z,MATCH($B21,'[1]予選ヒート-レース結果表（貼付）'!$B:$B,0),MATCH(C$11,'[1]予選ヒート-レース結果表（貼付）'!$1:$1,0)),"")=0,"",IFERROR(INDEX('[1]予選ヒート-レース結果表（貼付）'!$A:$Z,MATCH($B21,'[1]予選ヒート-レース結果表（貼付）'!$B:$B,0),MATCH(C$11,'[1]予選ヒート-レース結果表（貼付）'!$1:$1,0)),"")) -> Master | D21: =IF(C21="","",IF(A21="","",COUNTIF($C$13:C21,C21))) -> 3 | E21: =IFERROR(INDEX('[1]予選ヒート-レース結果表（貼付）'!$A:$Z,MATCH($B21,'[1]予選ヒート-レース結果表（貼付）'!$B:$B,0),MATCH('予選ヒート-レース結果表'!E$11,'[1]予選ヒート-レース結果表（貼付）'!$1:$1,0)),"") -> 中土 和徳 | F21: =IFERROR(INDEX('[1]予選ヒート-レース結果表（貼付）'!$A:$Z,MATCH($B21,'[1]予選ヒート-レース結果表（貼付）'!$B:$B,0),MATCH('予選ヒート-レース結果表'!F$11,'[1]予選ヒート-レース結果表（貼付）'!$1:$1,0)),"") -> ｺｽﾐｯｸ/VORTEX | G21: =IFERROR(INDEX('[1]予選ヒート-レース結果表（貼付）'!$A:$Z,MATCH($B21,'[1]予選ヒート-レース結果表（貼付）'!$B:$B,0),MATCH('予選ヒート-レース結果表'!G$11,'[1]予選ヒート-レース結果表（貼付）'!$1:$1,0)),"") -> RS nakatsuchi | H21: =IFERROR(INDEX('[1]予選ヒート-レース結果表（貼付）'!$A:$Z,MATCH($B21,'[1]予選ヒート-レース結果表（貼付）'!$B:$B,0),MATCH('予選ヒート-レース結果表'!H$11,'[1]予選ヒート-レース結果表（貼付）'!$1:$1,0)),"") -> BS | I21: =IFERROR(INDEX('[1]予選ヒート-レース結果表（貼付）'!$A:$Z,MATCH($B21,'[1]予選ヒート-レース結果表（貼付）'!$B:$B,0),MATCH('予選ヒート-レース結果表'!I$11,'[1]予選ヒート-レース結果表（貼付）'!$1:$1,0)),"") -> 10 | J21: =IFERROR(IF(A21="DNS","ｽﾀｰﾄ出来ず",IF(A21="DQ","失 格",INDEX('[1]予選ヒート-レース結果表（貼付）'!$A:$Z,MATCH($B21,'[1]予選ヒート-レース結果表（貼付）'!$B:$B,0),MATCH('予選ヒート-レース結果表'!J$11,'[1]予選ヒート-レース結果表（貼付）'!$1:$1,0)))),"") -> 0.0058035764 | K21: =IFERROR(IF(A21="DNS","",IF(A21="DQ","",INDEX('[1]予選ヒート-レース結果表（貼付）'!$A:$Z,MATCH($B21,'[1]予選ヒート-レース結果表（貼付）'!$B:$B,0),MATCH('予選ヒート-レース結果表'!K$11,'[1]予選ヒート-レース結果表（貼付）'!$1:$1,0)))),"") -> 6.056 | L21: =IFERROR(IF(A21="DNS","",IF(A21="DQ","",INDEX('[1]予選ヒート-レース結果表（貼付）'!$A:$Z,MATCH($B21,'[1]予選ヒート-レース結果表（貼付）'!$B:$B,0),MATCH('予選ヒート-レース結果表'!L$11,'[1]予選ヒート-レース結果表（貼付）'!$1:$1,0)))),"") -> 1.359 | M21: =IFERROR(IF(A21="DNS","",IF(A21="DQ","",INDEX('[1]予選ヒート-レース結果表（貼付）'!$A:$Z,MATCH($B21,'[1]予選ヒート-レース結果表（貼付）'!$B:$B,0),MATCH('予選ヒート-レース結果表'!M$11,'[1]予選ヒート-レース結果表（貼付）'!$1:$1,0)))),"") -> 49.483 | N21: =IF(M21<1,"",IF($N$11>M21,"R","")) | Q21: =IF(IFERROR(INDEX('[1]予選ヒート-レース結果表（貼付）'!$A:$Z,MATCH($B21,'[1]予選ヒート-レース結果表（貼付）'!$B:$B,0),MATCH(Q$11,'[1]予選ヒート-レース結果表（貼付）'!$1:$1,0)),"")=0,"",IFERROR(INDEX('[1]予選ヒート-レース結果表（貼付）'!$A:$Z,MATCH($B21,'[1]予選ヒート-レース結果表（貼付）'!$B:$B,0),MATCH(Q$11,'[1]予選ヒート-レース結果表（貼付）'!$1:$1,0)),"")) | R21: =IF(Q21="","",COUNTIF($Q$13:Q21,"<>"&"")) | S21: =IFERROR(RANK(R21,$R$13:$R$46,1),"") | T21: =IF(IFERROR(INDEX('[1]予選ヒート-レース結果表（貼付）'!$A:$Z,MATCH($A21,'[1]予選ヒート-レース結果表（貼付）'!$A:$A,0),MATCH(T$11,'[1]予選ヒート-レース結果表（貼付）'!$1:$1,0)),"")=0,"",IFERROR(INDEX('[1]予選ヒート-レース結果表（貼付）'!$A:$Z,MATCH($A21,'[1]予選ヒート-レース結果表（貼付）'!$A:$A,0),MATCH(T$11,'[1]予選ヒート-レース結果表（貼付）'!$1:$1,0)),"")) | U21: =IF(IFERROR(INDEX('[1]予選ヒート-レース結果表（貼付）'!$A:$Z,MATCH($B21,'[1]予選ヒート-レース結果表（貼付）'!$B:$B,0),MATCH(U$11,'[1]予選ヒート-レース結果表（貼付）'!$1:$1,0)),"")=0,"",IFERROR(INDEX('[1]予選ヒート-レース結果表（貼付）'!$A:$Z,MATCH($B21,'[1]予選ヒート-レース結果表（貼付）'!$B:$B,0),MATCH(U$11,'[1]予選ヒート-レース結果表（貼付）'!$1:$1,0)),"")) -> 91.959
A22: =IF(OR('[1]予選ヒート-レース結果表（貼付）'!A11="DNF",'[1]予選ヒート-レース結果表（貼付）'!A11="DNS",'[1]予選ヒート-レース結果表（貼付）'!A11="DQ"),'[1]予選ヒート-レース結果表（貼付）'!A11,IF(MAX('[1]予選ヒート-レース結果表（貼付）'!A:A)>A21,A21+1,"")) -> 10 | B22: =IFERROR(INDEX('[1]予選ヒート-レース結果表（貼付）'!A11:$Z$50,MATCH($A22,'[1]予選ヒート-レース結果表（貼付）'!A11:$A$50,0),MATCH('[1]公式予選（TT）-結果表（印刷）'!B$11,'[1]予選ヒート-レース結果表（貼付）'!$1:$1,0)),"") -> 54 | C22: =IF(IFERROR(INDEX('[1]予選ヒート-レース結果表（貼付）'!$A:$Z,MATCH($B22,'[1]予選ヒート-レース結果表（貼付）'!$B:$B,0),MATCH(C$11,'[1]予選ヒート-レース結果表（貼付）'!$1:$1,0)),"")=0,"",IFERROR(INDEX('[1]予選ヒート-レース結果表（貼付）'!$A:$Z,MATCH($B22,'[1]予選ヒート-レース結果表（貼付）'!$B:$B,0),MATCH(C$11,'[1]予選ヒート-レース結果表（貼付）'!$1:$1,0)),"")) | D22: =IF(C22="","",IF(A22="","",COUNTIF($C$13:C22,C22))) | E22: =IFERROR(INDEX('[1]予選ヒート-レース結果表（貼付）'!$A:$Z,MATCH($B22,'[1]予選ヒート-レース結果表（貼付）'!$B:$B,0),MATCH('予選ヒート-レース結果表'!E$11,'[1]予選ヒート-レース結果表（貼付）'!$1:$1,0)),"") -> 小川 涼介 | F22: =IFERROR(INDEX('[1]予選ヒート-レース結果表（貼付）'!$A:$Z,MATCH($B22,'[1]予選ヒート-レース結果表（貼付）'!$B:$B,0),MATCH('予選ヒート-レース結果表'!F$11,'[1]予選ヒート-レース結果表（貼付）'!$1:$1,0)),"") -> KR/VORTEX | G22: =IFERROR(INDEX('[1]予選ヒート-レース結果表（貼付）'!$A:$Z,MATCH($B22,'[1]予選ヒート-レース結果表（貼付）'!$B:$B,0),MATCH('予選ヒート-レース結果表'!G$11,'[1]予選ヒート-レース結果表（貼付）'!$1:$1,0)),"") -> MOMOX KART RACING | H22: =IFERROR(INDEX('[1]予選ヒート-レース結果表（貼付）'!$A:$Z,MATCH($B22,'[1]予選ヒート-レース結果表（貼付）'!$B:$B,0),MATCH('予選ヒート-レース結果表'!H$11,'[1]予選ヒート-レース結果表（貼付）'!$1:$1,0)),"") -> BS | I22: =IFERROR(INDEX('[1]予選ヒート-レース結果表（貼付）'!$A:$Z,MATCH($B22,'[1]予選ヒート-レース結果表（貼付）'!$B:$B,0),MATCH('予選ヒート-レース結果表'!I$11,'[1]予選ヒート-レース結果表（貼付）'!$1:$1,0)),"") -> 10 | J22: =IFERROR(IF(A22="DNS","ｽﾀｰﾄ出来ず",IF(A22="DQ","失 格",INDEX('[1]予選ヒート-レース結果表（貼付）'!$A:$Z,MATCH($B22,'[1]予選ヒート-レース結果表（貼付）'!$B:$B,0),MATCH('予選ヒート-レース結果表'!J$11,'[1]予選ヒート-レース結果表（貼付）'!$1:$1,0)))),"") -> 0.0058090394 | K22: =IFERROR(IF(A22="DNS","",IF(A22="DQ","",INDEX('[1]予選ヒート-レース結果表（貼付）'!$A:$Z,MATCH($B22,'[1]予選ヒート-レース結果表（貼付）'!$B:$B,0),MATCH('予選ヒート-レース結果表'!K$11,'[1]予選ヒート-レース結果表（貼付）'!$1:$1,0)))),"") -> 6.528 | L22: =IFERROR(IF(A22="DNS","",IF(A22="DQ","",INDEX('[1]予選ヒート-レース結果表（貼付）'!$A:$Z,MATCH($B22,'[1]予選ヒート-レース結果表（貼付）'!$B:$B,0),MATCH('予選ヒート-レース結果表'!L$11,'[1]予選ヒート-レース結果表（貼付）'!$1:$1,0)))),"") -> 0.472 | M22: =IFERROR(IF(A22="DNS","",IF(A22="DQ","",INDEX('[1]予選ヒート-レース結果表（貼付）'!$A:$Z,MATCH($B22,'[1]予選ヒート-レース結果表（貼付）'!$B:$B,0),MATCH('予選ヒート-レース結果表'!M$11,'[1]予選ヒート-レース結果表（貼付）'!$1:$1,0)))),"") -> 49.191 | N22: =IF(M22<1,"",IF($N$11>M22,"R","")) | Q22: =IF(IFERROR(INDEX('[1]予選ヒート-レース結果表（貼付）'!$A:$Z,MATCH($B22,'[1]予選ヒート-レース結果表（貼付）'!$B:$B,0),MATCH(Q$11,'[1]予選ヒート-レース結果表（貼付）'!$1:$1,0)),"")=0,"",IFERROR(INDEX('[1]予選ヒート-レース結果表（貼付）'!$A:$Z,MATCH($B22,'[1]予選ヒート-レース結果表（貼付）'!$B:$B,0),MATCH(Q$11,'[1]予選ヒート-レース結果表（貼付）'!$1:$1,0)),"")) | R22: =IF(Q22="","",COUNTIF($Q$13:Q22,"<>"&"")) | S22: =IFERROR(RANK(R22,$R$13:$R$46,1),"") | T22: =IF(IFERROR(INDEX('[1]予選ヒート-レース結果表（貼付）'!$A:$Z,MATCH($A22,'[1]予選ヒート-レース結果表（貼付）'!$A:$A,0),MATCH(T$11,'[1]予選ヒート-レース結果表（貼付）'!$1:$1,0)),"")=0,"",IFERROR(INDEX('[1]予選ヒート-レース結果表（貼付）'!$A:$Z,MATCH($A22,'[1]予選ヒート-レース結果表（貼付）'!$A:$A,0),MATCH(T$11,'[1]予選ヒート-レース結果表（貼付）'!$1:$1,0)),"")) | U22: =IF(IFERROR(INDEX('[1]予選ヒート-レース結果表（貼付）'!$A:$Z,MATCH($B22,'[1]予選ヒート-レース結果表（貼付）'!$B:$B,0),MATCH(U$11,'[1]予選ヒート-レース結果表（貼付）'!$1:$1,0)),"")=0,"",IFERROR(INDEX('[1]予選ヒート-レース結果表（貼付）'!$A:$Z,MATCH($B22,'[1]予選ヒート-レース結果表（貼付）'!$B:$B,0),MATCH(U$11,'[1]予選ヒート-レース結果表（貼付）'!$1:$1,0)),"")) -> 92.505
A23: =IF(OR('[1]予選ヒート-レース結果表（貼付）'!A12="DNF",'[1]予選ヒート-レース結果表（貼付）'!A12="DNS",'[1]予選ヒート-レース結果表（貼付）'!A12="DQ"),'[1]予選ヒート-レース結果表（貼付）'!A12,IF(MAX('[1]予選ヒート-レース結果表（貼付）'!A:A)>A22,A22+1,"")) -> 11 | B23: =IFERROR(INDEX('[1]予選ヒート-レース結果表（貼付）'!A12:$Z$50,MATCH($A23,'[1]予選ヒート-レース結果表（貼付）'!A12:$A$50,0),MATCH('[1]公式予選（TT）-結果表（印刷）'!B$11,'[1]予選ヒート-レース結果表（貼付）'!$1:$1,0)),"") -> 2 | C23: =IF(IFERROR(INDEX('[1]予選ヒート-レース結果表（貼付）'!$A:$Z,MATCH($B23,'[1]予選ヒート-レース結果表（貼付）'!$B:$B,0),MATCH(C$11,'[1]予選ヒート-レース結果表（貼付）'!$1:$1,0)),"")=0,"",IFERROR(INDEX('[1]予選ヒート-レース結果表（貼付）'!$A:$Z,MATCH($B23,'[1]予選ヒート-レース結果表（貼付）'!$B:$B,0),MATCH(C$11,'[1]予選ヒート-レース結果表（貼付）'!$1:$1,0)),"")) | D23: =IF(C23="","",IF(A23="","",COUNTIF($C$13:C23,C23))) | E23: =IFERROR(INDEX('[1]予選ヒート-レース結果表（貼付）'!$A:$Z,MATCH($B23,'[1]予選ヒート-レース結果表（貼付）'!$B:$B,0),MATCH('予選ヒート-レース結果表'!E$11,'[1]予選ヒート-レース結果表（貼付）'!$1:$1,0)),"") -> 東 拓志 | F23: =IFERROR(INDEX('[1]予選ヒート-レース結果表（貼付）'!$A:$Z,MATCH($B23,'[1]予選ヒート-レース結果表（貼付）'!$B:$B,0),MATCH('予選ヒート-レース結果表'!F$11,'[1]予選ヒート-レース結果表（貼付）'!$1:$1,0)),"") -> KOSMIC/VORTEX | G23: =IFERROR(INDEX('[1]予選ヒート-レース結果表（貼付）'!$A:$Z,MATCH($B23,'[1]予選ヒート-レース結果表（貼付）'!$B:$B,0),MATCH('予選ヒート-レース結果表'!G$11,'[1]予選ヒート-レース結果表（貼付）'!$1:$1,0)),"") -> NEXT-ONE Racing | H23: =IFERROR(INDEX('[1]予選ヒート-レース結果表（貼付）'!$A:$Z,MATCH($B23,'[1]予選ヒート-レース結果表（貼付）'!$B:$B,0),MATCH('予選ヒート-レース結果表'!H$11,'[1]予選ヒート-レース結果表（貼付）'!$1:$1,0)),"") -> BS | I23: =IFERROR(INDEX('[1]予選ヒート-レース結果表（貼付）'!$A:$Z,MATCH($B23,'[1]予選ヒート-レース結果表（貼付）'!$B:$B,0),MATCH('予選ヒート-レース結果表'!I$11,'[1]予選ヒート-レース結果表（貼付）'!$1:$1,0)),"") -> 10 | J23: =IFERROR(IF(A23="DNS","ｽﾀｰﾄ出来ず",IF(A23="DQ","失 格",INDEX('[1]予選ヒート-レース結果表（貼付）'!$A:$Z,MATCH($B23,'[1]予選ヒート-レース結果表（貼付）'!$B:$B,0),MATCH('予選ヒート-レース結果表'!J$11,'[1]予選ヒート-レース結果表（貼付）'!$1:$1,0)))),"") -> 0.0058240741 | K23: =IFERROR(IF(A23="DNS","",IF(A23="DQ","",INDEX('[1]予選ヒート-レース結果表（貼付）'!$A:$Z,MATCH($B23,'[1]予選ヒート-レース結果表（貼付）'!$B:$B,0),MATCH('予選ヒート-レース結果表'!K$11,'[1]予選ヒート-レース結果表（貼付）'!$1:$1,0)))),"") -> 7.827 | L23: =IFERROR(IF(A23="DNS","",IF(A23="DQ","",INDEX('[1]予選ヒート-レース結果表（貼付）'!$A:$Z,MATCH($B23,'[1]予選ヒート-レース結果表（貼付）'!$B:$B,0),MATCH('予選ヒート-レース結果表'!L$11,'[1]予選ヒート-レース結果表（貼付）'!$1:$1,0)))),"") -> 1.299 | M23: =IFERROR(IF(A23="DNS","",IF(A23="DQ","",INDEX('[1]予選ヒート-レース結果表（貼付）'!$A:$Z,MATCH($B23,'[1]予選ヒート-レース結果表（貼付）'!$B:$B,0),MATCH('予選ヒート-レース結果表'!M$11,'[1]予選ヒート-レース結果表（貼付）'!$1:$1,0)))),"") -> 49.196 | N23: =IF(M23<1,"",IF($N$11>M23,"R","")) | Q23: =IF(IFERROR(INDEX('[1]予選ヒート-レース結果表（貼付）'!$A:$Z,MATCH($B23,'[1]予選ヒート-レース結果表（貼付）'!$B:$B,0),MATCH(Q$11,'[1]予選ヒート-レース結果表（貼付）'!$1:$1,0)),"")=0,"",IFERROR(INDEX('[1]予選ヒート-レース結果表（貼付）'!$A:$Z,MATCH($B23,'[1]予選ヒート-レース結果表（貼付）'!$B:$B,0),MATCH(Q$11,'[1]予選ヒート-レース結果表（貼付）'!$1:$1,0)),"")) -> 鈴鹿選手権ｼﾘｰｽﾞ特別規則 競技車両規則第60条～2)(ﾌﾛﾝﾄﾌｪｱﾘﾝｸﾞ)違反により、5秒加算とした。 | R23: =IF(Q23="","",COUNTIF($Q$13:Q23,"<>"&"")) -> 11 | S23: =IFERROR(RANK(R23,$R$13:$R$46,1),"") -> 1 | T23: =IF(IFERROR(INDEX('[1]予選ヒート-レース結果表（貼付）'!$A:$Z,MATCH($A23,'[1]予選ヒート-レース結果表（貼付）'!$A:$A,0),MATCH(T$11,'[1]予選ヒート-レース結果表（貼付）'!$1:$1,0)),"")=0,"",IFERROR(INDEX('[1]予選ヒート-レース結果表（貼付）'!$A:$Z,MATCH($A23,'[1]予選ヒート-レース結果表（貼付）'!$A:$A,0),MATCH(T$11,'[1]予選ヒート-レース結果表（貼付）'!$1:$1,0)),"")) | U23: =IF(IFERROR(INDEX('[1]予選ヒート-レース結果表（貼付）'!$A:$Z,MATCH($B23,'[1]予選ヒート-レース結果表（貼付）'!$B:$B,0),MATCH(U$11,'[1]予選ヒート-レース結果表（貼付）'!$1:$1,0)),"")=0,"",IFERROR(INDEX('[1]予選ヒート-レース結果表（貼付）'!$A:$Z,MATCH($B23,'[1]予選ヒート-レース結果表（貼付）'!$B:$B,0),MATCH(U$11,'[1]予選ヒート-レース結果表（貼付）'!$1:$1,0)),"")) -> 92.495
A24: =IF(OR('[1]予選ヒート-レース結果表（貼付）'!A13="DNF",'[1]予選ヒート-レース結果表（貼付）'!A13="DNS",'[1]予選ヒート-レース結果表（貼付）'!A13="DQ"),'[1]予選ヒート-レース結果表（貼付）'!A13,IF(MAX('[1]予選ヒート-レース結果表（貼付）'!A:A)>A23,A23+1,"")) -> 12 | B24: =IFERROR(INDEX('[1]予選ヒート-レース結果表（貼付）'!A13:$Z$50,MATCH($A24,'[1]予選ヒート-レース結果表（貼付）'!A13:$A$50,0),MATCH('[1]公式予選（TT）-結果表（印刷）'!B$11,'[1]予選ヒート-レース結果表（貼付）'!$1:$1,0)),"") -> 33 | C24: =IF(IFERROR(INDEX('[1]予選ヒート-レース結果表（貼付）'!$A:$Z,MATCH($B24,'[1]予選ヒート-レース結果表（貼付）'!$B:$B,0),MATCH(C$11,'[1]予選ヒート-レース結果表（貼付）'!$1:$1,0)),"")=0,"",IFERROR(INDEX('[1]予選ヒート-レース結果表（貼付）'!$A:$Z,MATCH($B24,'[1]予選ヒート-レース結果表（貼付）'!$B:$B,0),MATCH(C$11,'[1]予選ヒート-レース結果表（貼付）'!$1:$1,0)),"")) | D24: =IF(C24="","",IF(A24="","",COUNTIF($C$13:C24,C24))) | E24: =IFERROR(INDEX('[1]予選ヒート-レース結果表（貼付）'!$A:$Z,MATCH($B24,'[1]予選ヒート-レース結果表（貼付）'!$B:$B,0),MATCH('予選ヒート-レース結果表'!E$11,'[1]予選ヒート-レース結果表（貼付）'!$1:$1,0)),"") -> 保下 聡一朗 | F24: =IFERROR(INDEX('[1]予選ヒート-レース結果表（貼付）'!$A:$Z,MATCH($B24,'[1]予選ヒート-レース結果表（貼付）'!$B:$B,0),MATCH('予選ヒート-レース結果表'!F$11,'[1]予選ヒート-レース結果表（貼付）'!$1:$1,0)),"") -> KOSMIC/VORTEX | G24: =IFERROR(INDEX('[1]予選ヒート-レース結果表（貼付）'!$A:$Z,MATCH($B24,'[1]予選ヒート-レース結果表（貼付）'!$B:$B,0),MATCH('予選ヒート-レース結果表'!G$11,'[1]予選ヒート-レース結果表（貼付）'!$1:$1,0)),"") -> FLAX MOTOR SPORT | H24: =IFERROR(INDEX('[1]予選ヒート-レース結果表（貼付）'!$A:$Z,MATCH($B24,'[1]予選ヒート-レース結果表（貼付）'!$B:$B,0),MATCH('予選ヒート-レース結果表'!H$11,'[1]予選ヒート-レース結果表（貼付）'!$1:$1,0)),"") -> BS | I24: =IFERROR(INDEX('[1]予選ヒート-レース結果表（貼付）'!$A:$Z,MATCH($B24,'[1]予選ヒート-レース結果表（貼付）'!$B:$B,0),MATCH('予選ヒート-レース結果表'!I$11,'[1]予選ヒート-レース結果表（貼付）'!$1:$1,0)),"") -> 10 | J24: =IFERROR(IF(A24="DNS","ｽﾀｰﾄ出来ず",IF(A24="DQ","失 格",INDEX('[1]予選ヒート-レース結果表（貼付）'!$A:$Z,MATCH($B24,'[1]予選ヒート-レース結果表（貼付）'!$B:$B,0),MATCH('予選ヒート-レース結果表'!J$11,'[1]予選ヒート-レース結果表（貼付）'!$1:$1,0)))),"") -> 0.0058309722 | K24: =IFERROR(IF(A24="DNS","",IF(A24="DQ","",INDEX('[1]予選ヒート-レース結果表（貼付）'!$A:$Z,MATCH($B24,'[1]予選ヒート-レース結果表（貼付）'!$B:$B,0),MATCH('予選ヒート-レース結果表'!K$11,'[1]予選ヒート-レース結果表（貼付）'!$1:$1,0)))),"") -> 8.423 | L24: =IFERROR(IF(A24="DNS","",IF(A24="DQ","",INDEX('[1]予選ヒート-レース結果表（貼付）'!$A:$Z,MATCH($B24,'[1]予選ヒート-レース結果表（貼付）'!$B:$B,0),MATCH('予選ヒート-レース結果表'!L$11,'[1]予選ヒート-レース結果表（貼付）'!$1:$1,0)))),"") -> 0.596 | M24: =IFERROR(IF(A24="DNS","",IF(A24="DQ","",INDEX('[1]予選ヒート-レース結果表（貼付）'!$A:$Z,MATCH($B24,'[1]予選ヒート-レース結果表（貼付）'!$B:$B,0),MATCH('予選ヒート-レース結果表'!M$11,'[1]予選ヒート-レース結果表（貼付）'!$1:$1,0)))),"") -> 49.299 | N24: =IF(M24<1,"",IF($N$11>M24,"R","")) | Q24: =IF(IFERROR(INDEX('[1]予選ヒート-レース結果表（貼付）'!$A:$Z,MATCH($B24,'[1]予選ヒート-レース結果表（貼付）'!$B:$B,0),MATCH(Q$11,'[1]予選ヒート-レース結果表（貼付）'!$1:$1,0)),"")=0,"",IFERROR(INDEX('[1]予選ヒート-レース結果表（貼付）'!$A:$Z,MATCH($B24,'[1]予選ヒート-レース結果表（貼付）'!$B:$B,0),MATCH(Q$11,'[1]予選ヒート-レース結果表（貼付）'!$1:$1,0)),"")) -> 鈴鹿選手権ｼﾘｰｽﾞ特別規則 競技車両規則第60条～2)(ﾌﾛﾝﾄﾌｪｱﾘﾝｸﾞ)違反により、5秒加算とした。 | R24: =IF(Q24="","",COUNTIF($Q$13:Q24,"<>"&"")) -> 12 | S24: =IFERROR(RANK(R24,$R$13:$R$46,1),"") -> 2 | T24: =IF(IFERROR(INDEX('[1]予選ヒート-レース結果表（貼付）'!$A:$Z,MATCH($A24,'[1]予選ヒート-レース結果表（貼付）'!$A:$A,0),MATCH(T$11,'[1]予選ヒート-レース結果表（貼付）'!$1:$1,0)),"")=0,"",IFERROR(INDEX('[1]予選ヒート-レース結果表（貼付）'!$A:$Z,MATCH($A24,'[1]予選ヒート-レース結果表（貼付）'!$A:$A,0),MATCH(T$11,'[1]予選ヒート-レース結果表（貼付）'!$1:$1,0)),"")) | U24: =IF(IFERROR(INDEX('[1]予選ヒート-レース結果表（貼付）'!$A:$Z,MATCH($B24,'[1]予選ヒート-レース結果表（貼付）'!$B:$B,0),MATCH(U$11,'[1]予選ヒート-レース結果表（貼付）'!$1:$1,0)),"")=0,"",IFERROR(INDEX('[1]予選ヒート-レース結果表（貼付）'!$A:$Z,MATCH($B24,'[1]予選ヒート-レース結果表（貼付）'!$B:$B,0),MATCH(U$11,'[1]予選ヒート-レース結果表（貼付）'!$1:$1,0)),"")) -> 92.302
A25: =IF(OR('[1]予選ヒート-レース結果表（貼付）'!A14="DNF",'[1]予選ヒート-レース結果表（貼付）'!A14="DNS",'[1]予選ヒート-レース結果表（貼付）'!A14="DQ"),'[1]予選ヒート-レース結果表（貼付）'!A14,IF(MAX('[1]予選ヒート-レース結果表（貼付）'!A:A)>A24,A24+1,"")) -> 13 | B25: =IFERROR(INDEX('[1]予選ヒート-レース結果表（貼付）'!A14:$Z$50,MATCH($A25,'[1]予選ヒート-レース結果表（貼付）'!A14:$A$50,0),MATCH('[1]公式予選（TT）-結果表（印刷）'!B$11,'[1]予選ヒート-レース結果表（貼付）'!$1:$1,0)),"") -> 8 | C25: =IF(IFERROR(INDEX('[1]予選ヒート-レース結果表（貼付）'!$A:$Z,MATCH($B25,'[1]予選ヒート-レース結果表（貼付）'!$B:$B,0),MATCH(C$11,'[1]予選ヒート-レース結果表（貼付）'!$1:$1,0)),"")=0,"",IFERROR(INDEX('[1]予選ヒート-レース結果表（貼付）'!$A:$Z,MATCH($B25,'[1]予選ヒート-レース結果表（貼付）'!$B:$B,0),MATCH(C$11,'[1]予選ヒート-レース結果表（貼付）'!$1:$1,0)),"")) -> Master | D25: =IF(C25="","",IF(A25="","",COUNTIF($C$13:C25,C25))) -> 4 | E25: =IFERROR(INDEX('[1]予選ヒート-レース結果表（貼付）'!$A:$Z,MATCH($B25,'[1]予選ヒート-レース結果表（貼付）'!$B:$B,0),MATCH('予選ヒート-レース結果表'!E$11,'[1]予選ヒート-レース結果表（貼付）'!$1:$1,0)),"") -> 加藤 丈宜 | F25: =IFERROR(INDEX('[1]予選ヒート-レース結果表（貼付）'!$A:$Z,MATCH($B25,'[1]予選ヒート-レース結果表（貼付）'!$B:$B,0),MATCH('予選ヒート-レース結果表'!F$11,'[1]予選ヒート-レース結果表（貼付）'!$1:$1,0)),"") -> TONY KART/VORTEX | G25: =IFERROR(INDEX('[1]予選ヒート-レース結果表（貼付）'!$A:$Z,MATCH($B25,'[1]予選ヒート-レース結果表（貼付）'!$B:$B,0),MATCH('予選ヒート-レース結果表'!G$11,'[1]予選ヒート-レース結果表（貼付）'!$1:$1,0)),"") -> MOMOX KART RACING | H25: =IFERROR(INDEX('[1]予選ヒート-レース結果表（貼付）'!$A:$Z,MATCH($B25,'[1]予選ヒート-レース結果表（貼付）'!$B:$B,0),MATCH('予選ヒート-レース結果表'!H$11,'[1]予選ヒート-レース結果表（貼付）'!$1:$1,0)),"") -> BS | I25: =IFERROR(INDEX('[1]予選ヒート-レース結果表（貼付）'!$A:$Z,MATCH($B25,'[1]予選ヒート-レース結果表（貼付）'!$B:$B,0),MATCH('予選ヒート-レース結果表'!I$11,'[1]予選ヒート-レース結果表（貼付）'!$1:$1,0)),"") -> 10 | J25: =IFERROR(IF(A25="DNS","ｽﾀｰﾄ出来ず",IF(A25="DQ","失 格",INDEX('[1]予選ヒート-レース結果表（貼付）'!$A:$Z,MATCH($B25,'[1]予選ヒート-レース結果表（貼付）'!$B:$B,0),MATCH('予選ヒート-レース結果表'!J$11,'[1]予選ヒート-レース結果表（貼付）'!$1:$1,0)))),"") -> 0.0058315741 | K25: =IFERROR(IF(A25="DNS","",IF(A25="DQ","",INDEX('[1]予選ヒート-レース結果表（貼付）'!$A:$Z,MATCH($B25,'[1]予選ヒート-レース結果表（貼付）'!$B:$B,0),MATCH('予選ヒート-レース結果表'!K$11,'[1]予選ヒート-レース結果表（貼付）'!$1:$1,0)))),"") -> 8.475 | L25: =IFERROR(IF(A25="DNS","",IF(A25="DQ","",INDEX('[1]予選ヒート-レース結果表（貼付）'!$A:$Z,MATCH($B25,'[1]予選ヒート-レース結果表（貼付）'!$B:$B,0),MATCH('予選ヒート-レース結果表'!L$11,'[1]予選ヒート-レース結果表（貼付）'!$1:$1,0)))),"") -> 0.052 | M25: =IFERROR(IF(A25="DNS","",IF(A25="DQ","",INDEX('[1]予選ヒート-レース結果表（貼付）'!$A:$Z,MATCH($B25,'[1]予選ヒート-レース結果表（貼付）'!$B:$B,0),MATCH('予選ヒート-レース結果表'!M$11,'[1]予選ヒート-レース結果表（貼付）'!$1:$1,0)))),"") -> 49.675 | N25: =IF(M25<1,"",IF($N$11>M25,"R","")) | Q25: =IF(IFERROR(INDEX('[1]予選ヒート-レース結果表（貼付）'!$A:$Z,MATCH($B25,'[1]予選ヒート-レース結果表（貼付）'!$B:$B,0),MATCH(Q$11,'[1]予選ヒート-レース結果表（貼付）'!$1:$1,0)),"")=0,"",IFERROR(INDEX('[1]予選ヒート-レース結果表（貼付）'!$A:$Z,MATCH($B25,'[1]予選ヒート-レース結果表（貼付）'!$B:$B,0),MATCH(Q$11,'[1]予選ヒート-レース結果表（貼付）'!$1:$1,0)),"")) | R25: =IF(Q25="","",COUNTIF($Q$13:Q25,"<>"&"")) | S25: =IFERROR(RANK(R25,$R$13:$R$46,1),"") | T25: =IF(IFERROR(INDEX('[1]予選ヒート-レース結果表（貼付）'!$A:$Z,MATCH($A25,'[1]予選ヒート-レース結果表（貼付）'!$A:$A,0),MATCH(T$11,'[1]予選ヒート-レース結果表（貼付）'!$1:$1,0)),"")=0,"",IFERROR(INDEX('[1]予選ヒート-レース結果表（貼付）'!$A:$Z,MATCH($A25,'[1]予選ヒート-レース結果表（貼付）'!$A:$A,0),MATCH(T$11,'[1]予選ヒート-レース結果表（貼付）'!$1:$1,0)),"")) | U25: =IF(IFERROR(INDEX('[1]予選ヒート-レース結果表（貼付）'!$A:$Z,MATCH($B25,'[1]予選ヒート-レース結果表（貼付）'!$B:$B,0),MATCH(U$11,'[1]予選ヒート-レース結果表（貼付）'!$1:$1,0)),"")=0,"",IFERROR(INDEX('[1]予選ヒート-レース結果表（貼付）'!$A:$Z,MATCH($B25,'[1]予選ヒート-レース結果表（貼付）'!$B:$B,0),MATCH(U$11,'[1]予選ヒート-レース結果表（貼付）'!$1:$1,0)),"")) -> 91.603
... A30: =IF(OR('[1]予選ヒート-レース結果表（貼付）'!A19="DNF",'[1]予選ヒート-レース結果表（貼付）'!A19="DNS",'[1]予選ヒート-レース結果表（貼付）'!A19="DQ"),'[1]予選ヒート-レース結果表（貼付）'!A19,IF(MAX('[1]予選ヒート-レース結果表（貼付）'!A:A)>A29,A29+1,"")) -> 18 | B30: =IFERROR(INDEX('[1]予選ヒート-レース結果表（貼付）'!A19:$Z$50,MATCH($A30,'[1]予選ヒート-レース結果表（貼付）'!A19:$A$50,0),MATCH('[1]公式予選（TT）-結果表（印刷）'!B$11,'[1]予選ヒート-レース結果表（貼付）'!$1:$1,0)),"") -> 99 | C30: =IF(IFERROR(INDEX('[1]予選ヒート-レース結果表（貼付）'!$A:$Z,MATCH($B30,'[1]予選ヒート-レース結果表（貼付）'!$B:$B,0),MATCH(C$11,'[1]予選ヒート-レース結果表（貼付）'!$1:$1,0)),"")=0,"",IFERROR(INDEX('[1]予選ヒート-レース結果表（貼付）'!$A:$Z,MATCH($B30,'[1]予選ヒート-レース結果表（貼付）'!$B:$B,0),MATCH(C$11,'[1]予選ヒート-レース結果表（貼付）'!$1:$1,0)),"")) -> Master | D30: =IF(C30="","",IF(A30="","",COUNTIF($C$13:C30,C30))) -> 9 | E30: =IFERROR(INDEX('[1]予選ヒート-レース結果表（貼付）'!$A:$Z,MATCH($B30,'[1]予選ヒート-レース結果表（貼付）'!$B:$B,0),MATCH('予選ヒート-レース結果表'!E$11,'[1]予選ヒート-レース結果表（貼付）'!$1:$1,0)),"") -> 加藤 良正 | F30: =IFERROR(INDEX('[1]予選ヒート-レース結果表（貼付）'!$A:$Z,MATCH($B30,'[1]予選ヒート-レース結果表（貼付）'!$B:$B,0),MATCH('予選ヒート-レース結果表'!F$11,'[1]予選ヒート-レース結果表（貼付）'!$1:$1,0)),"") -> CRG/VORTEX | G30: =IFERROR(INDEX('[1]予選ヒート-レース結果表（貼付）'!$A:$Z,MATCH($B30,'[1]予選ヒート-レース結果表（貼付）'!$B:$B,0),MATCH('予選ヒート-レース結果表'!G$11,'[1]予選ヒート-レース結果表（貼付）'!$1:$1,0)),"") -> ぴぃたぁぱん | H30: =IFERROR(INDEX('[1]予選ヒート-レース結果表（貼付）'!$A:$Z,MATCH($B30,'[1]予選ヒート-レース結果表（貼付）'!$B:$B,0),MATCH('予選ヒート-レース結果表'!H$11,'[1]予選ヒート-レース結果表（貼付）'!$1:$1,0)),"") -> BS | I30: =IFERROR(INDEX('[1]予選ヒート-レース結果表（貼付）'!$A:$Z,MATCH($B30,'[1]予選ヒート-レース結果表（貼付）'!$B:$B,0),MATCH('予選ヒート-レース結果表'!I$11,'[1]予選ヒート-レース結果表（貼付）'!$1:$1,0)),"") -> 10 | J30: =IFERROR(IF(A30="DNS","ｽﾀｰﾄ出来ず",IF(A30="DQ","失 格",INDEX('[1]予選ヒート-レース結果表（貼付）'!$A:$Z,MATCH($B30,'[1]予選ヒート-レース結果表（貼付）'!$B:$B,0),MATCH('予選ヒート-レース結果表'!J$11,'[1]予選ヒート-レース結果表（貼付）'!$1:$1,0)))),"") -> 0.0060467361 | K30: =IFERROR(IF(A30="DNS","",IF(A30="DQ","",INDEX('[1]予選ヒート-レース結果表（貼付）'!$A:$Z,MATCH($B30,'[1]予選ヒート-レース結果表（貼付）'!$B:$B,0),MATCH('予選ヒート-レース結果表'!K$11,'[1]予選ヒート-レース結果表（貼付）'!$1:$1,0)))),"") -> 27.065 | L30: =IFERROR(IF(A30="DNS","",IF(A30="DQ","",INDEX('[1]予選ヒート-レース結果表（貼付）'!$A:$Z,MATCH($B30,'[1]予選ヒート-レース結果表（貼付）'!$B:$B,0),MATCH('予選ヒート-レース結果表'!L$11,'[1]予選ヒート-レース結果表（貼付）'!$1:$1,0)))),"") -> 6.456 | M30: =IFERROR(IF(A30="DNS","",IF(A30="DQ","",INDEX('[1]予選ヒート-レース結果表（貼付）'!$A:$Z,MATCH($B30,'[1]予選ヒート-レース結果表（貼付）'!$B:$B,0),MATCH('予選ヒート-レース結果表'!M$11,'[1]予選ヒート-レース結果表（貼付）'!$1:$1,0)))),"") -> 50.799 | N30: =IF(M30<1,"",IF($N$11>M30,"R","")) | Q30: =IF(IFERROR(INDEX('[1]予選ヒート-レース結果表（貼付）'!$A:$Z,MATCH($B30,'[1]予選ヒート-レース結果表（貼付）'!$B:$B,0),MATCH(Q$11,'[1]予選ヒート-レース結果表（貼付）'!$1:$1,0)),"")=0,"",IFERROR(INDEX('[1]予選ヒート-レース結果表（貼付）'!$A:$Z,MATCH($B30,'[1]予選ヒート-レース結果表（貼付）'!$B:$B,0),MATCH(Q$11,'[1]予選ヒート-レース結果表（貼付）'!$1:$1,0)),"")) | R30: =IF(Q30="","",COUNTIF($Q$13:Q30,"<>"&"")) | S30: =IFERROR(RANK(R30,$R$13:$R$46,1),"") | T30: =IF(IFERROR(INDEX('[1]予選ヒート-レース結果表（貼付）'!$A:$Z,MATCH($A30,'[1]予選ヒート-レース結果表（貼付）'!$A:$A,0),MATCH(T$11,'[1]予選ヒート-レース結果表（貼付）'!$1:$1,0)),"")=0,"",IFERROR(INDEX('[1]予選ヒート-レース結果表（貼付）'!$A:$Z,MATCH($A30,'[1]予選ヒート-レース結果表（貼付）'!$A:$A,0),MATCH(T$11,'[1]予選ヒート-レース結果表（貼付）'!$1:$1,0)),"")) | U30: =IF(IFERROR(INDEX('[1]予選ヒート-レース結果表（貼付）'!$A:$Z,MATCH($B30,'[1]予選ヒート-レース結果表（貼付）'!$B:$B,0),MATCH(U$11,'[1]予選ヒート-レース結果表（貼付）'!$1:$1,0)),"")=0,"",IFERROR(INDEX('[1]予選ヒート-レース結果表（貼付）'!$A:$Z,MATCH($B30,'[1]予選ヒート-レース結果表（貼付）'!$B:$B,0),MATCH(U$11,'[1]予選ヒート-レース結果表（貼付）'!$1:$1,0)),"")) -> 89.577
A31: =IF(OR('[1]予選ヒート-レース結果表（貼付）'!A20="DNF",'[1]予選ヒート-レース結果表（貼付）'!A20="DNS",'[1]予選ヒート-レース結果表（貼付）'!A20="DQ"),'[1]予選ヒート-レース結果表（貼付）'!A20,IF(MAX('[1]予選ヒート-レース結果表（貼付）'!A:A)>A30,A30+1,"")) -> 19 | B31: =IFERROR(INDEX('[1]予選ヒート-レース結果表（貼付）'!A20:$Z$50,MATCH($A31,'[1]予選ヒート-レース結果表（貼付）'!A20:$A$50,0),MATCH('[1]公式予選（TT）-結果表（印刷）'!B$11,'[1]予選ヒート-レース結果表（貼付）'!$1:$1,0)),"") -> 92 | C31: =IF(IFERROR(INDEX('[1]予選ヒート-レース結果表（貼付）'!$A:$Z,MATCH($B31,'[1]予選ヒート-レース結果表（貼付）'!$B:$B,0),MATCH(C$11,'[1]予選ヒート-レース結果表（貼付）'!$1:$1,0)),"")=0,"",IFERROR(INDEX('[1]予選ヒート-レース結果表（貼付）'!$A:$Z,MATCH($B31,'[1]予選ヒート-レース結果表（貼付）'!$B:$B,0),MATCH(C$11,'[1]予選ヒート-レース結果表（貼付）'!$1:$1,0)),"")) -> Master | D31: =IF(C31="","",IF(A31="","",COUNTIF($C$13:C31,C31))) -> 10 | E31: =IFERROR(INDEX('[1]予選ヒート-レース結果表（貼付）'!$A:$Z,MATCH($B31,'[1]予選ヒート-レース結果表（貼付）'!$B:$B,0),MATCH('予選ヒート-レース結果表'!E$11,'[1]予選ヒート-レース結果表（貼付）'!$1:$1,0)),"") -> 國友 拓哉 | F31: =IFERROR(INDEX('[1]予選ヒート-レース結果表（貼付）'!$A:$Z,MATCH($B31,'[1]予選ヒート-レース結果表（貼付）'!$B:$B,0),MATCH('予選ヒート-レース結果表'!F$11,'[1]予選ヒート-レース結果表（貼付）'!$1:$1,0)),"") -> CRG/VORTEX | G31: =IFERROR(INDEX('[1]予選ヒート-レース結果表（貼付）'!$A:$Z,MATCH($B31,'[1]予選ヒート-レース結果表（貼付）'!$B:$B,0),MATCH('予選ヒート-レース結果表'!G$11,'[1]予選ヒート-レース結果表（貼付）'!$1:$1,0)),"") -> ぴぃたぁぱん | H31: =IFERROR(INDEX('[1]予選ヒート-レース結果表（貼付）'!$A:$Z,MATCH($B31,'[1]予選ヒート-レース結果表（貼付）'!$B:$B,0),MATCH('予選ヒート-レース結果表'!H$11,'[1]予選ヒート-レース結果表（貼付）'!$1:$1,0)),"") -> BS | I31: =IFERROR(INDEX('[1]予選ヒート-レース結果表（貼付）'!$A:$Z,MATCH($B31,'[1]予選ヒート-レース結果表（貼付）'!$B:$B,0),MATCH('予選ヒート-レース結果表'!I$11,'[1]予選ヒート-レース結果表（貼付）'!$1:$1,0)),"") -> 0 | N31: =IF(M31<1,"",IF($N$11>M31,"R","")) | Q31: =IF(IFERROR(INDEX('[1]予選ヒート-レース結果表（貼付）'!$A:$Z,MATCH($B31,'[1]予選ヒート-レース結果表（貼付）'!$B:$B,0),MATCH(Q$11,'[1]予選ヒート-レース結果表（貼付）'!$1:$1,0)),"")=0,"",IFERROR(INDEX('[1]予選ヒート-レース結果表（貼付）'!$A:$Z,MATCH($B31,'[1]予選ヒート-レース結果表（貼付）'!$B:$B,0),MATCH(Q$11,'[1]予選ヒート-レース結果表（貼付）'!$1:$1,0)),"")) | R31: =IF(Q31="","",COUNTIF($Q$13:Q31,"<>"&"")) | S31: =IFERROR(RANK(R31,$R$13:$R$46,1),"") | T31: =IF(IFERROR(INDEX('[1]予選ヒート-レース結果表（貼付）'!$A:$Z,MATCH($A31,'[1]予選ヒート-レース結果表（貼付）'!$A:$A,0),MATCH(T$11,'[1]予選ヒート-レース結果表（貼付）'!$1:$1,0)),"")=0,"",IFERROR(INDEX('[1]予選ヒート-レース結果表（貼付）'!$A:$Z,MATCH($A31,'[1]予選ヒート-レース結果表（貼付）'!$A:$A,0),MATCH(T$11,'[1]予選ヒート-レース結果表（貼付）'!$1:$1,0)),"")) | U31: =IF(IFERROR(INDEX('[1]予選ヒート-レース結果表（貼付）'!$A:$Z,MATCH($B31,'[1]予選ヒート-レース結果表（貼付）'!$B:$B,0),MATCH(U$11,'[1]予選ヒート-レース結果表（貼付）'!$1:$1,0)),"")=0,"",IFERROR(INDEX('[1]予選ヒート-レース結果表（貼付）'!$A:$Z,MATCH($B31,'[1]予選ヒート-レース結果表（貼付）'!$B:$B,0),MATCH(U$11,'[1]予選ヒート-レース結果表（貼付）'!$1:$1,0)),"")) -> -
A32: =IF(OR('[1]予選ヒート-レース結果表（貼付）'!A21="DNF",'[1]予選ヒート-レース結果表（貼付）'!A21="DNS",'[1]予選ヒート-レース結果表（貼付）'!A21="DQ"),'[1]予選ヒート-レース結果表（貼付）'!A21,IF(MAX('[1]予選ヒート-レース結果表（貼付）'!A:A)>A31,A31+1,"")) | B32: =IFERROR(INDEX('[1]予選ヒート-レース結果表（貼付）'!A21:$Z$50,MATCH($A32,'[1]予選ヒート-レース結果表（貼付）'!A21:$A$50,0),MATCH('[1]公式予選（TT）-結果表（印刷）'!B$11,'[1]予選ヒート-レース結果表（貼付）'!$1:$1,0)),"") | C32: =IF(IFERROR(INDEX('[1]予選ヒート-レース結果表（貼付）'!$A:$Z,MATCH($B32,'[1]予選ヒート-レース結果表（貼付）'!$B:$B,0),MATCH(C$11,'[1]予選ヒート-レース結果表（貼付）'!$1:$1,0)),"")=0,"",IFERROR(INDEX('[1]予選ヒート-レース結果表（貼付）'!$A:$Z,MATCH($B32,'[1]予選ヒート-レース結果表（貼付）'!$B:$B,0),MATCH(C$11,'[1]予選ヒート-レース結果表（貼付）'!$1:$1,0)),"")) | D32: =IF(C32="","",IF(A32="","",COUNTIF($C$13:C32,C32))) | E32: =IFERROR(INDEX('[1]予選ヒート-レース結果表（貼付）'!$A:$Z,MATCH($B32,'[1]予選ヒート-レース結果表（貼付）'!$B:$B,0),MATCH('予選ヒート-レース結果表'!E$11,'[1]予選ヒート-レース結果表（貼付）'!$1:$1,0)),"") | F32: =IFERROR(INDEX('[1]予選ヒート-レース結果表（貼付）'!$A:$Z,MATCH($B32,'[1]予選ヒート-レース結果表（貼付）'!$B:$B,0),MATCH('予選ヒート-レース結果表'!F$11,'[1]予選ヒート-レース結果表（貼付）'!$1:$1,0)),"") | G32: =IFERROR(INDEX('[1]予選ヒート-レース結果表（貼付）'!$A:$Z,MATCH($B32,'[1]予選ヒート-レース結果表（貼付）'!$B:$B,0),MATCH('予選ヒート-レース結果表'!G$11,'[1]予選ヒート-レース結果表（貼付）'!$1:$1,0)),"") | H32: =IFERROR(INDEX('[1]予選ヒート-レース結果表（貼付）'!$A:$Z,MATCH($B32,'[1]予選ヒート-レース結果表（貼付）'!$B:$B,0),MATCH('予選ヒート-レース結果表'!H$11,'[1]予選ヒート-レース結果表（貼付）'!$1:$1,0)),"") | I32: =IFERROR(INDEX('[1]予選ヒート-レース結果表（貼付）'!$A:$Z,MATCH($B32,'[1]予選ヒート-レース結果表（貼付）'!$B:$B,0),MATCH('予選ヒート-レース結果表'!I$11,'[1]予選ヒート-レース結果表（貼付）'!$1:$1,0)),"") | J32: =IFERROR(IF(A32="DNS","ｽﾀｰﾄ出来ず",IF(A32="DQ","失 格",INDEX('[1]予選ヒート-レース結果表（貼付）'!$A:$Z,MATCH($B32,'[1]予選ヒート-レース結果表（貼付）'!$B:$B,0),MATCH('予選ヒート-レース結果表'!J$11,'[1]予選ヒート-レース結果表（貼付）'!$1:$1,0)))),"") | K32: =IFERROR(IF(A32="DNS","",IF(A32="DQ","",INDEX('[1]予選ヒート-レース結果表（貼付）'!$A:$Z,MATCH($B32,'[1]予選ヒート-レース結果表（貼付）'!$B:$B,0),MATCH('予選ヒート-レース結果表'!K$11,'[1]予選ヒート-レース結果表（貼付）'!$1:$1,0)))),"") | L32: =IFERROR(IF(A32="DNS","",IF(A32="DQ","",INDEX('[1]予選ヒート-レース結果表（貼付）'!$A:$Z,MATCH($B32,'[1]予選ヒート-レース結果表（貼付）'!$B:$B,0),MATCH('予選ヒート-レース結果表'!L$11,'[1]予選ヒート-レース結果表（貼付）'!$1:$1,0)))),"") | M32: =IFERROR(IF(A32="DNS","",IF(A32="DQ","",INDEX('[1]予選ヒート-レース結果表（貼付）'!$A:$Z,MATCH($B32,'[1]予選ヒート-レース結果表（貼付）'!$B:$B,0),MATCH('予選ヒート-レース結果表'!M$11,'[1]予選ヒート-レース結果表（貼付）'!$1:$1,0)))),"") | N32: =IF(M32<1,"",IF($N$11>M32,"R","")) | Q32: =IF(IFERROR(INDEX('[1]予選ヒート-レース結果表（貼付）'!$A:$Z,MATCH($B32,'[1]予選ヒート-レース結果表（貼付）'!$B:$B,0),MATCH(Q$11,'[1]予選ヒート-レース結果表（貼付）'!$1:$1,0)),"")=0,"",IFERROR(INDEX('[1]予選ヒート-レース結果表（貼付）'!$A:$Z,MATCH($B32,'[1]予選ヒート-レース結果表（貼付）'!$B:$B,0),MATCH(Q$11,'[1]予選ヒート-レース結果表（貼付）'!$1:$1,0)),"")) | R32: =IF(Q32="","",COUNTIF($Q$13:Q32,"<>"&"")) | S32: =IFERROR(RANK(R32,$R$13:$R$46,1),"") | T32: =IF(IFERROR(INDEX('[1]予選ヒート-レース結果表（貼付）'!$A:$Z,MATCH($A32,'[1]予選ヒート-レース結果表（貼付）'!$A:$A,0),MATCH(T$11,'[1]予選ヒート-レース結果表（貼付）'!$1:$1,0)),"")=0,"",IFERROR(INDEX('[1]予選ヒート-レース結果表（貼付）'!$A:$Z,MATCH($A32,'[1]予選ヒート-レース結果表（貼付）'!$A:$A,0),MATCH(T$11,'[1]予選ヒート-レース結果表（貼付）'!$1:$1,0)),"")) | U32: =IF(IFERROR(INDEX('[1]予選ヒート-レース結果表（貼付）'!$A:$Z,MATCH($B32,'[1]予選ヒート-レース結果表（貼付）'!$B:$B,0),MATCH(U$11,'[1]予選ヒート-レース結果表（貼付）'!$1:$1,0)),"")=0,"",IFERROR(INDEX('[1]予選ヒート-レース結果表（貼付）'!$A:$Z,MATCH($B32,'[1]予選ヒート-レース結果表（貼付）'!$B:$B,0),MATCH(U$11,'[1]予選ヒート-レース結果表（貼付）'!$1:$1,0)),""))
A33: =IF(OR('[1]予選ヒート-レース結果表（貼付）'!A22="DNF",'[1]予選ヒート-レース結果表（貼付）'!A22="DNS",'[1]予選ヒート-レース結果表（貼付）'!A22="DQ"),'[1]予選ヒート-レース結果表（貼付）'!A22,IF(MAX('[1]予選ヒート-レース結果表（貼付）'!A:A)>A32,A32+1,"")) | B33: =IFERROR(INDEX('[1]予選ヒート-レース結果表（貼付）'!A22:$Z$50,MATCH($A33,'[1]予選ヒート-レース結果表（貼付）'!A22:$A$50,0),MATCH('[1]公式予選（TT）-結果表（印刷）'!B$11,'[1]予選ヒート-レース結果表（貼付）'!$1:$1,0)),"") | C33: =IF(IFERROR(INDEX('[1]予選ヒート-レース結果表（貼付）'!$A:$Z,MATCH($B33,'[1]予選ヒート-レース結果表（貼付）'!$B:$B,0),MATCH(C$11,'[1]予選ヒート-レース結果表（貼付）'!$1:$1,0)),"")=0,"",IFERROR(INDEX('[1]予選ヒート-レース結果表（貼付）'!$A:$Z,MATCH($B33,'[1]予選ヒート-レース結果表（貼付）'!$B:$B,0),MATCH(C$11,'[1]予選ヒート-レース結果表（貼付）'!$1:$1,0)),"")) | D33: =IF(C33="","",IF(A33="","",COUNTIF($C$13:C33,C33))) | E33: =IFERROR(INDEX('[1]予選ヒート-レース結果表（貼付）'!$A:$Z,MATCH($B33,'[1]予選ヒート-レース結果表（貼付）'!$B:$B,0),MATCH('予選ヒート-レース結果表'!E$11,'[1]予選ヒート-レース結果表（貼付）'!$1:$1,0)),"") | F33: =IFERROR(INDEX('[1]予選ヒート-レース結果表（貼付）'!$A:$Z,MATCH($B33,'[1]予選ヒート-レース結果表（貼付）'!$B:$B,0),MATCH('予選ヒート-レース結果表'!F$11,'[1]予選ヒート-レース結果表（貼付）'!$1:$1,0)),"") | G33: =IFERROR(INDEX('[1]予選ヒート-レース結果表（貼付）'!$A:$Z,MATCH($B33,'[1]予選ヒート-レース結果表（貼付）'!$B:$B,0),MATCH('予選ヒート-レース結果表'!G$11,'[1]予選ヒート-レース結果表（貼付）'!$1:$1,0)),"") | H33: =IFERROR(INDEX('[1]予選ヒート-レース結果表（貼付）'!$A:$Z,MATCH($B33,'[1]予選ヒート-レース結果表（貼付）'!$B:$B,0),MATCH('予選ヒート-レース結果表'!H$11,'[1]予選ヒート-レース結果表（貼付）'!$1:$1,0)),"") | I33: =IFERROR(INDEX('[1]予選ヒート-レース結果表（貼付）'!$A:$Z,MATCH($B33,'[1]予選ヒート-レース結果表（貼付）'!$B:$B,0),MATCH('予選ヒート-レース結果表'!I$11,'[1]予選ヒート-レース結果表（貼付）'!$1:$1,0)),"") | J33: =IFERROR(IF(A33="DNS","ｽﾀｰﾄ出来ず",IF(A33="DQ","失 格",INDEX('[1]予選ヒート-レース結果表（貼付）'!$A:$Z,MATCH($B33,'[1]予選ヒート-レース結果表（貼付）'!$B:$B,0),MATCH('予選ヒート-レース結果表'!J$11,'[1]予選ヒート-レース結果表（貼付）'!$1:$1,0)))),"") | K33: =IFERROR(IF(A33="DNS","",IF(A33="DQ","",INDEX('[1]予選ヒート-レース結果表（貼付）'!$A:$Z,MATCH($B33,'[1]予選ヒート-レース結果表（貼付）'!$B:$B,0),MATCH('予選ヒート-レース結果表'!K$11,'[1]予選ヒート-レース結果表（貼付）'!$1:$1,0)))),"") | L33: =IFERROR(IF(A33="DNS","",IF(A33="DQ","",INDEX('[1]予選ヒート-レース結果表（貼付）'!$A:$Z,MATCH($B33,'[1]予選ヒート-レース結果表（貼付）'!$B:$B,0),MATCH('予選ヒート-レース結果表'!L$11,'[1]予選ヒート-レース結果表（貼付）'!$1:$1,0)))),"") | M33: =IFERROR(IF(A33="DNS","",IF(A33="DQ","",INDEX('[1]予選ヒート-レース結果表（貼付）'!$A:$Z,MATCH($B33,'[1]予選ヒート-レース結果表（貼付）'!$B:$B,0),MATCH('予選ヒート-レース結果表'!M$11,'[1]予選ヒート-レース結果表（貼付）'!$1:$1,0)))),"") | N33: =IF(M33<1,"",IF($N$11>M33,"R","")) | Q33: =IF(IFERROR(INDEX('[1]予選ヒート-レース結果表（貼付）'!$A:$Z,MATCH($B33,'[1]予選ヒート-レース結果表（貼付）'!$B:$B,0),MATCH(Q$11,'[1]予選ヒート-レース結果表（貼付）'!$1:$1,0)),"")=0,"",IFERROR(INDEX('[1]予選ヒート-レース結果表（貼付）'!$A:$Z,MATCH($B33,'[1]予選ヒート-レース結果表（貼付）'!$B:$B,0),MATCH(Q$11,'[1]予選ヒート-レース結果表（貼付）'!$1:$1,0)),"")) | R33: =IF(Q33="","",COUNTIF($Q$13:Q33,"<>"&"")) | S33: =IFERROR(RANK(R33,$R$13:$R$46,1),"") | T33: =IF(IFERROR(INDEX('[1]予選ヒート-レース結果表（貼付）'!$A:$Z,MATCH($A33,'[1]予選ヒート-レース結果表（貼付）'!$A:$A,0),MATCH(T$11,'[1]予選ヒート-レース結果表（貼付）'!$1:$1,0)),"")=0,"",IFERROR(INDEX('[1]予選ヒート-レース結果表（貼付）'!$A:$Z,MATCH($A33,'[1]予選ヒート-レース結果表（貼付）'!$A:$A,0),MATCH(T$11,'[1]予選ヒート-レース結果表（貼付）'!$1:$1,0)),"")) | U33: =IF(IFERROR(INDEX('[1]予選ヒート-レース結果表（貼付）'!$A:$Z,MATCH($B33,'[1]予選ヒート-レース結果表（貼付）'!$B:$B,0),MATCH(U$11,'[1]予選ヒート-レース結果表（貼付）'!$1:$1,0)),"")=0,"",IFERROR(INDEX('[1]予選ヒート-レース結果表（貼付）'!$A:$Z,MATCH($B33,'[1]予選ヒート-レース結果表（貼付）'!$B:$B,0),MATCH(U$11,'[1]予選ヒート-レース結果表（貼付）'!$1:$1,0)),""))
A34: =IF(OR('[1]予選ヒート-レース結果表（貼付）'!A23="DNF",'[1]予選ヒート-レース結果表（貼付）'!A23="DNS",'[1]予選ヒート-レース結果表（貼付）'!A23="DQ"),'[1]予選ヒート-レース結果表（貼付）'!A23,IF(MAX('[1]予選ヒート-レース結果表（貼付）'!A:A)>A33,A33+1,"")) | B34: =IFERROR(INDEX('[1]予選ヒート-レース結果表（貼付）'!A23:$Z$50,MATCH($A34,'[1]予選ヒート-レース結果表（貼付）'!A23:$A$50,0),MATCH('[1]公式予選（TT）-結果表（印刷）'!B$11,'[1]予選ヒート-レース結果表（貼付）'!$1:$1,0)),"") | C34: =IF(IFERROR(INDEX('[1]予選ヒート-レース結果表（貼付）'!$A:$Z,MATCH($B34,'[1]予選ヒート-レース結果表（貼付）'!$B:$B,0),MATCH(C$11,'[1]予選ヒート-レース結果表（貼付）'!$1:$1,0)),"")=0,"",IFERROR(INDEX('[1]予選ヒート-レース結果表（貼付）'!$A:$Z,MATCH($B34,'[1]予選ヒート-レース結果表（貼付）'!$B:$B,0),MATCH(C$11,'[1]予選ヒート-レース結果表（貼付）'!$1:$1,0)),"")) | D34: =IF(C34="","",IF(A34="","",COUNTIF($C$13:C34,C34))) | E34: =IFERROR(INDEX('[1]予選ヒート-レース結果表（貼付）'!$A:$Z,MATCH($B34,'[1]予選ヒート-レース結果表（貼付）'!$B:$B,0),MATCH('予選ヒート-レース結果表'!E$11,'[1]予選ヒート-レース結果表（貼付）'!$1:$1,0)),"") | F34: =IFERROR(INDEX('[1]予選ヒート-レース結果表（貼付）'!$A:$Z,MATCH($B34,'[1]予選ヒート-レース結果表（貼付）'!$B:$B,0),MATCH('予選ヒート-レース結果表'!F$11,'[1]予選ヒート-レース結果表（貼付）'!$1:$1,0)),"") | G34: =IFERROR(INDEX('[1]予選ヒート-レース結果表（貼付）'!$A:$Z,MATCH($B34,'[1]予選ヒート-レース結果表（貼付）'!$B:$B,0),MATCH('予選ヒート-レース結果表'!G$11,'[1]予選ヒート-レース結果表（貼付）'!$1:$1,0)),"") | H34: =IFERROR(INDEX('[1]予選ヒート-レース結果表（貼付）'!$A:$Z,MATCH($B34,'[1]予選ヒート-レース結果表（貼付）'!$B:$B,0),MATCH('予選ヒート-レース結果表'!H$11,'[1]予選ヒート-レース結果表（貼付）'!$1:$1,0)),"") | I34: =IFERROR(INDEX('[1]予選ヒート-レース結果表（貼付）'!$A:$Z,MATCH($B34,'[1]予選ヒート-レース結果表（貼付）'!$B:$B,0),MATCH('予選ヒート-レース結果表'!I$11,'[1]予選ヒート-レース結果表（貼付）'!$1:$1,0)),"") | J34: =IFERROR(IF(A34="DNS","ｽﾀｰﾄ出来ず",IF(A34="DQ","失 格",INDEX('[1]予選ヒート-レース結果表（貼付）'!$A:$Z,MATCH($B34,'[1]予選ヒート-レース結果表（貼付）'!$B:$B,0),MATCH('予選ヒート-レース結果表'!J$11,'[1]予選ヒート-レース結果表（貼付）'!$1:$1,0)))),"") | K34: =IFERROR(IF(A34="DNS","",IF(A34="DQ","",INDEX('[1]予選ヒート-レース結果表（貼付）'!$A:$Z,MATCH($B34,'[1]予選ヒート-レース結果表（貼付）'!$B:$B,0),MATCH('予選ヒート-レース結果表'!K$11,'[1]予選ヒート-レース結果表（貼付）'!$1:$1,0)))),"") | L34: =IFERROR(IF(A34="DNS","",IF(A34="DQ","",INDEX('[1]予選ヒート-レース結果表（貼付）'!$A:$Z,MATCH($B34,'[1]予選ヒート-レース結果表（貼付）'!$B:$B,0),MATCH('予選ヒート-レース結果表'!L$11,'[1]予選ヒート-レース結果表（貼付）'!$1:$1,0)))),"") | M34: =IFERROR(IF(A34="DNS","",IF(A34="DQ","",INDEX('[1]予選ヒート-レース結果表（貼付）'!$A:$Z,MATCH($B34,'[1]予選ヒート-レース結果表（貼付）'!$B:$B,0),MATCH('予選ヒート-レース結果表'!M$11,'[1]予選ヒート-レース結果表（貼付）'!$1:$1,0)))),"") | N34: =IF(M34<1,"",IF($N$11>M34,"R","")) | Q34: =IF(IFERROR(INDEX('[1]予選ヒート-レース結果表（貼付）'!$A:$Z,MATCH($B34,'[1]予選ヒート-レース結果表（貼付）'!$B:$B,0),MATCH(Q$11,'[1]予選ヒート-レース結果表（貼付）'!$1:$1,0)),"")=0,"",IFERROR(INDEX('[1]予選ヒート-レース結果表（貼付）'!$A:$Z,MATCH($B34,'[1]予選ヒート-レース結果表（貼付）'!$B:$B,0),MATCH(Q$11,'[1]予選ヒート-レース結果表（貼付）'!$1:$1,0)),"")) | R34: =IF(Q34="","",COUNTIF($Q$13:Q34,"<>"&"")) | S34: =IFERROR(RANK(R34,$R$13:$R$46,1),"") | T34: =IF(IFERROR(INDEX('[1]予選ヒート-レース結果表（貼付）'!$A:$Z,MATCH($A34,'[1]予選ヒート-レース結果表（貼付）'!$A:$A,0),MATCH(T$11,'[1]予選ヒート-レース結果表（貼付）'!$1:$1,0)),"")=0,"",IFERROR(INDEX('[1]予選ヒート-レース結果表（貼付）'!$A:$Z,MATCH($A34,'[1]予選ヒート-レース結果表（貼付）'!$A:$A,0),MATCH(T$11,'[1]予選ヒート-レース結果表（貼付）'!$1:$1,0)),"")) | U34: =IF(IFERROR(INDEX('[1]予選ヒート-レース結果表（貼付）'!$A:$Z,MATCH($B34,'[1]予選ヒート-レース結果表（貼付）'!$B:$B,0),MATCH(U$11,'[1]予選ヒート-レース結果表（貼付）'!$1:$1,0)),"")=0,"",IFERROR(INDEX('[1]予選ヒート-レース結果表（貼付）'!$A:$Z,MATCH($B34,'[1]予選ヒート-レース結果表（貼付）'!$B:$B,0),MATCH(U$11,'[1]予選ヒート-レース結果表（貼付）'!$1:$1,0)),""))
A35: =IF(OR('[1]予選ヒート-レース結果表（貼付）'!A24="DNF",'[1]予選ヒート-レース結果表（貼付）'!A24="DNS",'[1]予選ヒート-レース結果表（貼付）'!A24="DQ"),'[1]予選ヒート-レース結果表（貼付）'!A24,IF(MAX('[1]予選ヒート-レース結果表（貼付）'!A:A)>A34,A34+1,"")) | B35: =IFERROR(INDEX('[1]予選ヒート-レース結果表（貼付）'!A24:$Z$50,MATCH($A35,'[1]予選ヒート-レース結果表（貼付）'!A24:$A$50,0),MATCH('[1]公式予選（TT）-結果表（印刷）'!B$11,'[1]予選ヒート-レース結果表（貼付）'!$1:$1,0)),"") | C35: =IF(IFERROR(INDEX('[1]予選ヒート-レース結果表（貼付）'!$A:$Z,MATCH($B35,'[1]予選ヒート-レース結果表（貼付）'!$B:$B,0),MATCH(C$11,'[1]予選ヒート-レース結果表（貼付）'!$1:$1,0)),"")=0,"",IFERROR(INDEX('[1]予選ヒート-レース結果表（貼付）'!$A:$Z,MATCH($B35,'[1]予選ヒート-レース結果表（貼付）'!$B:$B,0),MATCH(C$11,'[1]予選ヒート-レース結果表（貼付）'!$1:$1,0)),"")) | D35: =IF(C35="","",IF(A35="","",COUNTIF($C$13:C35,C35))) | E35: =IFERROR(INDEX('[1]予選ヒート-レース結果表（貼付）'!$A:$Z,MATCH($B35,'[1]予選ヒート-レース結果表（貼付）'!$B:$B,0),MATCH('予選ヒート-レース結果表'!E$11,'[1]予選ヒート-レース結果表（貼付）'!$1:$1,0)),"") | F35: =IFERROR(INDEX('[1]予選ヒート-レース結果表（貼付）'!$A:$Z,MATCH($B35,'[1]予選ヒート-レース結果表（貼付）'!$B:$B,0),MATCH('予選ヒート-レース結果表'!F$11,'[1]予選ヒート-レース結果表（貼付）'!$1:$1,0)),"") | G35: =IFERROR(INDEX('[1]予選ヒート-レース結果表（貼付）'!$A:$Z,MATCH($B35,'[1]予選ヒート-レース結果表（貼付）'!$B:$B,0),MATCH('予選ヒート-レース結果表'!G$11,'[1]予選ヒート-レース結果表（貼付）'!$1:$1,0)),"") | H35: =IFERROR(INDEX('[1]予選ヒート-レース結果表（貼付）'!$A:$Z,MATCH($B35,'[1]予選ヒート-レース結果表（貼付）'!$B:$B,0),MATCH('予選ヒート-レース結果表'!H$11,'[1]予選ヒート-レース結果表（貼付）'!$1:$1,0)),"") | I35: =IFERROR(INDEX('[1]予選ヒート-レース結果表（貼付）'!$A:$Z,MATCH($B35,'[1]予選ヒート-レース結果表（貼付）'!$B:$B,0),MATCH('予選ヒート-レース結果表'!I$11,'[1]予選ヒート-レース結果表（貼付）'!$1:$1,0)),"") | J35: =IFERROR(IF(A35="DNS","ｽﾀｰﾄ出来ず",IF(A35="DQ","失 格",INDEX('[1]予選ヒート-レース結果表（貼付）'!$A:$Z,MATCH($B35,'[1]予選ヒート-レース結果表（貼付）'!$B:$B,0),MATCH('予選ヒート-レース結果表'!J$11,'[1]予選ヒート-レース結果表（貼付）'!$1:$1,0)))),"") | K35: =IFERROR(IF(A35="DNS","",IF(A35="DQ","",INDEX('[1]予選ヒート-レース結果表（貼付）'!$A:$Z,MATCH($B35,'[1]予選ヒート-レース結果表（貼付）'!$B:$B,0),MATCH('予選ヒート-レース結果表'!K$11,'[1]予選ヒート-レース結果表（貼付）'!$1:$1,0)))),"") | L35: =IFERROR(IF(A35="DNS","",IF(A35="DQ","",INDEX('[1]予選ヒート-レース結果表（貼付）'!$A:$Z,MATCH($B35,'[1]予選ヒート-レース結果表（貼付）'!$B:$B,0),MATCH('予選ヒート-レース結果表'!L$11,'[1]予選ヒート-レース結果表（貼付）'!$1:$1,0)))),"") | M35: =IFERROR(IF(A35="DNS","",IF(A35="DQ","",INDEX('[1]予選ヒート-レース結果表（貼付）'!$A:$Z,MATCH($B35,'[1]予選ヒート-レース結果表（貼付）'!$B:$B,0),MATCH('予選ヒート-レース結果表'!M$11,'[1]予選ヒート-レース結果表（貼付）'!$1:$1,0)))),"") | N35: =IF(M35<1,"",IF($N$11>M35,"R","")) | Q35: =IF(IFERROR(INDEX('[1]予選ヒート-レース結果表（貼付）'!$A:$Z,MATCH($B35,'[1]予選ヒート-レース結果表（貼付）'!$B:$B,0),MATCH(Q$11,'[1]予選ヒート-レース結果表（貼付）'!$1:$1,0)),"")=0,"",IFERROR(INDEX('[1]予選ヒート-レース結果表（貼付）'!$A:$Z,MATCH($B35,'[1]予選ヒート-レース結果表（貼付）'!$B:$B,0),MATCH(Q$11,'[1]予選ヒート-レース結果表（貼付）'!$1:$1,0)),"")) | R35: =IF(Q35="","",COUNTIF($Q$13:Q35,"<>"&"")) | S35: =IFERROR(RANK(R35,$R$13:$R$46,1),"") | T35: =IF(IFERROR(INDEX('[1]予選ヒート-レース結果表（貼付）'!$A:$Z,MATCH($A35,'[1]予選ヒート-レース結果表（貼付）'!$A:$A,0),MATCH(T$11,'[1]予選ヒート-レース結果表（貼付）'!$1:$1,0)),"")=0,"",IFERROR(INDEX('[1]予選ヒート-レース結果表（貼付）'!$A:$Z,MATCH($A35,'[1]予選ヒート-レース結果表（貼付）'!$A:$A,0),MATCH(T$11,'[1]予選ヒート-レース結果表（貼付）'!$1:$1,0)),"")) | U35: =IF(IFERROR(INDEX('[1]予選ヒート-レース結果表（貼付）'!$A:$Z,MATCH($B35,'[1]予選ヒート-レース結果表（貼付）'!$B:$B,0),MATCH(U$11,'[1]予選ヒート-レース結果表（貼付）'!$1:$1,0)),"")=0,"",IFERROR(INDEX('[1]予選ヒート-レース結果表（貼付）'!$A:$Z,MATCH($B35,'[1]予選ヒート-レース結果表（貼付）'!$B:$B,0),MATCH(U$11,'[1]予選ヒート-レース結果表（貼付）'!$1:$1,0)),""))
A36: =IF(OR('[1]予選ヒート-レース結果表（貼付）'!A25="DNF",'[1]予選ヒート-レース結果表（貼付）'!A25="DNS",'[1]予選ヒート-レース結果表（貼付）'!A25="DQ"),'[1]予選ヒート-レース結果表（貼付）'!A25,IF(MAX('[1]予選ヒート-レース結果表（貼付）'!A:A)>A35,A35+1,"")) | B36: =IFERROR(INDEX('[1]予選ヒート-レース結果表（貼付）'!A25:$Z$50,MATCH($A36,'[1]予選ヒート-レース結果表（貼付）'!A25:$A$50,0),MATCH('[1]公式予選（TT）-結果表（印刷）'!B$11,'[1]予選ヒート-レース結果表（貼付）'!$1:$1,0)),"") | C36: =IF(IFERROR(INDEX('[1]予選ヒート-レース結果表（貼付）'!$A:$Z,MATCH($B36,'[1]予選ヒート-レース結果表（貼付）'!$B:$B,0),MATCH(C$11,'[1]予選ヒート-レース結果表（貼付）'!$1:$1,0)),"")=0,"",IFERROR(INDEX('[1]予選ヒート-レース結果表（貼付）'!$A:$Z,MATCH($B36,'[1]予選ヒート-レース結果表（貼付）'!$B:$B,0),MATCH(C$11,'[1]予選ヒート-レース結果表（貼付）'!$1:$1,0)),"")) | D36: =IF(C36="","",IF(A36="","",COUNTIF($C$13:C36,C36))) | E36: =IFERROR(INDEX('[1]予選ヒート-レース結果表（貼付）'!$A:$Z,MATCH($B36,'[1]予選ヒート-レース結果表（貼付）'!$B:$B,0),MATCH('予選ヒート-レース結果表'!E$11,'[1]予選ヒート-レース結果表（貼付）'!$1:$1,0)),"") | F36: =IFERROR(INDEX('[1]予選ヒート-レース結果表（貼付）'!$A:$Z,MATCH($B36,'[1]予選ヒート-レース結果表（貼付）'!$B:$B,0),MATCH('予選ヒート-レース結果表'!F$11,'[1]予選ヒート-レース結果表（貼付）'!$1:$1,0)),"") | G36: =IFERROR(INDEX('[1]予選ヒート-レース結果表（貼付）'!$A:$Z,MATCH($B36,'[1]予選ヒート-レース結果表（貼付）'!$B:$B,0),MATCH('予選ヒート-レース結果表'!G$11,'[1]予選ヒート-レース結果表（貼付）'!$1:$1,0)),"") | H36: =IFERROR(INDEX('[1]予選ヒート-レース結果表（貼付）'!$A:$Z,MATCH($B36,'[1]予選ヒート-レース結果表（貼付）'!$B:$B,0),MATCH('予選ヒート-レース結果表'!H$11,'[1]予選ヒート-レース結果表（貼付）'!$1:$1,0)),"") | I36: =IFERROR(INDEX('[1]予選ヒート-レース結果表（貼付）'!$A:$Z,MATCH($B36,'[1]予選ヒート-レース結果表（貼付）'!$B:$B,0),MATCH('予選ヒート-レース結果表'!I$11,'[1]予選ヒート-レース結果表（貼付）'!$1:$1,0)),"") | J36: =IFERROR(IF(A36="DNS","ｽﾀｰﾄ出来ず",IF(A36="DQ","失 格",INDEX('[1]予選ヒート-レース結果表（貼付）'!$A:$Z,MATCH($B36,'[1]予選ヒート-レース結果表（貼付）'!$B:$B,0),MATCH('予選ヒート-レース結果表'!J$11,'[1]予選ヒート-レース結果表（貼付）'!$1:$1,0)))),"") | K36: =IFERROR(IF(A36="DNS","",IF(A36="DQ","",INDEX('[1]予選ヒート-レース結果表（貼付）'!$A:$Z,MATCH($B36,'[1]予選ヒート-レース結果表（貼付）'!$B:$B,0),MATCH('予選ヒート-レース結果表'!K$11,'[1]予選ヒート-レース結果表（貼付）'!$1:$1,0)))),"") | L36: =IFERROR(IF(A36="DNS","",IF(A36="DQ","",INDEX('[1]予選ヒート-レース結果表（貼付）'!$A:$Z,MATCH($B36,'[1]予選ヒート-レース結果表（貼付）'!$B:$B,0),MATCH('予選ヒート-レース結果表'!L$11,'[1]予選ヒート-レース結果表（貼付）'!$1:$1,0)))),"") | M36: =IFERROR(IF(A36="DNS","",IF(A36="DQ","",INDEX('[1]予選ヒート-レース結果表（貼付）'!$A:$Z,MATCH($B36,'[1]予選ヒート-レース結果表（貼付）'!$B:$B,0),MATCH('予選ヒート-レース結果表'!M$11,'[1]予選ヒート-レース結果表（貼付）'!$1:$1,0)))),"") | N36: =IF(M36<1,"",IF($N$11>M36,"R","")) | Q36: =IF(IFERROR(INDEX('[1]予選ヒート-レース結果表（貼付）'!$A:$Z,MATCH($B36,'[1]予選ヒート-レース結果表（貼付）'!$B:$B,0),MATCH(Q$11,'[1]予選ヒート-レース結果表（貼付）'!$1:$1,0)),"")=0,"",IFERROR(INDEX('[1]予選ヒート-レース結果表（貼付）'!$A:$Z,MATCH($B36,'[1]予選ヒート-レース結果表（貼付）'!$B:$B,0),MATCH(Q$11,'[1]予選ヒート-レース結果表（貼付）'!$1:$1,0)),"")) | R36: =IF(Q36="","",COUNTIF($Q$13:Q36,"<>"&"")) | S36: =IFERROR(RANK(R36,$R$13:$R$46,1),"") | T36: =IF(IFERROR(INDEX('[1]予選ヒート-レース結果表（貼付）'!$A:$Z,MATCH($A36,'[1]予選ヒート-レース結果表（貼付）'!$A:$A,0),MATCH(T$11,'[1]予選ヒート-レース結果表（貼付）'!$1:$1,0)),"")=0,"",IFERROR(INDEX('[1]予選ヒート-レース結果表（貼付）'!$A:$Z,MATCH($A36,'[1]予選ヒート-レース結果表（貼付）'!$A:$A,0),MATCH(T$11,'[1]予選ヒート-レース結果表（貼付）'!$1:$1,0)),"")) | U36: =IF(IFERROR(INDEX('[1]予選ヒート-レース結果表（貼付）'!$A:$Z,MATCH($B36,'[1]予選ヒート-レース結果表（貼付）'!$B:$B,0),MATCH(U$11,'[1]予選ヒート-レース結果表（貼付）'!$1:$1,0)),"")=0,"",IFERROR(INDEX('[1]予選ヒート-レース結果表（貼付）'!$A:$Z,MATCH($B36,'[1]予選ヒート-レース結果表（貼付）'!$B:$B,0),MATCH(U$11,'[1]予選ヒート-レース結果表（貼付）'!$1:$1,0)),""))
A37: =IF(OR('[1]予選ヒート-レース結果表（貼付）'!A26="DNF",'[1]予選ヒート-レース結果表（貼付）'!A26="DNS",'[1]予選ヒート-レース結果表（貼付）'!A26="DQ"),'[1]予選ヒート-レース結果表（貼付）'!A26,IF(MAX('[1]予選ヒート-レース結果表（貼付）'!A:A)>A36,A36+1,"")) | B37: =IFERROR(INDEX('[1]予選ヒート-レース結果表（貼付）'!A26:$Z$50,MATCH($A37,'[1]予選ヒート-レース結果表（貼付）'!A26:$A$50,0),MATCH('[1]公式予選（TT）-結果表（印刷）'!B$11,'[1]予選ヒート-レース結果表（貼付）'!$1:$1,0)),"") | C37: =IF(IFERROR(INDEX('[1]予選ヒート-レース結果表（貼付）'!$A:$Z,MATCH($B37,'[1]予選ヒート-レース結果表（貼付）'!$B:$B,0),MATCH(C$11,'[1]予選ヒート-レース結果表（貼付）'!$1:$1,0)),"")=0,"",IFERROR(INDEX('[1]予選ヒート-レース結果表（貼付）'!$A:$Z,MATCH($B37,'[1]予選ヒート-レース結果表（貼付）'!$B:$B,0),MATCH(C$11,'[1]予選ヒート-レース結果表（貼付）'!$1:$1,0)),"")) | D37: =IF(C37="","",IF(A37="","",COUNTIF($C$13:C37,C37))) | E37: =IFERROR(INDEX('[1]予選ヒート-レース結果表（貼付）'!$A:$Z,MATCH($B37,'[1]予選ヒート-レース結果表（貼付）'!$B:$B,0),MATCH('予選ヒート-レース結果表'!E$11,'[1]予選ヒート-レース結果表（貼付）'!$1:$1,0)),"") | F37: =IFERROR(INDEX('[1]予選ヒート-レース結果表（貼付）'!$A:$Z,MATCH($B37,'[1]予選ヒート-レース結果表（貼付）'!$B:$B,0),MATCH('予選ヒート-レース結果表'!F$11,'[1]予選ヒート-レース結果表（貼付）'!$1:$1,0)),"") | G37: =IFERROR(INDEX('[1]予選ヒート-レース結果表（貼付）'!$A:$Z,MATCH($B37,'[1]予選ヒート-レース結果表（貼付）'!$B:$B,0),MATCH('予選ヒート-レース結果表'!G$11,'[1]予選ヒート-レース結果表（貼付）'!$1:$1,0)),"") | H37: =IFERROR(INDEX('[1]予選ヒート-レース結果表（貼付）'!$A:$Z,MATCH($B37,'[1]予選ヒート-レース結果表（貼付）'!$B:$B,0),MATCH('予選ヒート-レース結果表'!H$11,'[1]予選ヒート-レース結果表（貼付）'!$1:$1,0)),"") | I37: =IFERROR(INDEX('[1]予選ヒート-レース結果表（貼付）'!$A:$Z,MATCH($B37,'[1]予選ヒート-レース結果表（貼付）'!$B:$B,0),MATCH('予選ヒート-レース結果表'!I$11,'[1]予選ヒート-レース結果表（貼付）'!$1:$1,0)),"") | J37: =IFERROR(IF(A37="DNS","ｽﾀｰﾄ出来ず",IF(A37="DQ","失 格",INDEX('[1]予選ヒート-レース結果表（貼付）'!$A:$Z,MATCH($B37,'[1]予選ヒート-レース結果表（貼付）'!$B:$B,0),MATCH('予選ヒート-レース結果表'!J$11,'[1]予選ヒート-レース結果表（貼付）'!$1:$1,0)))),"") | K37: =IFERROR(IF(A37="DNS","",IF(A37="DQ","",INDEX('[1]予選ヒート-レース結果表（貼付）'!$A:$Z,MATCH($B37,'[1]予選ヒート-レース結果表（貼付）'!$B:$B,0),MATCH('予選ヒート-レース結果表'!K$11,'[1]予選ヒート-レース結果表（貼付）'!$1:$1,0)))),"") | L37: =IFERROR(IF(A37="DNS","",IF(A37="DQ","",INDEX('[1]予選ヒート-レース結果表（貼付）'!$A:$Z,MATCH($B37,'[1]予選ヒート-レース結果表（貼付）'!$B:$B,0),MATCH('予選ヒート-レース結果表'!L$11,'[1]予選ヒート-レース結果表（貼付）'!$1:$1,0)))),"") | M37: =IFERROR(IF(A37="DNS","",IF(A37="DQ","",INDEX('[1]予選ヒート-レース結果表（貼付）'!$A:$Z,MATCH($B37,'[1]予選ヒート-レース結果表（貼付）'!$B:$B,0),MATCH('予選ヒート-レース結果表'!M$11,'[1]予選ヒート-レース結果表（貼付）'!$1:$1,0)))),"") | N37: =IF(M37<1,"",IF($N$11>M37,"R","")) | Q37: =IF(IFERROR(INDEX('[1]予選ヒート-レース結果表（貼付）'!$A:$Z,MATCH($B37,'[1]予選ヒート-レース結果表（貼付）'!$B:$B,0),MATCH(Q$11,'[1]予選ヒート-レース結果表（貼付）'!$1:$1,0)),"")=0,"",IFERROR(INDEX('[1]予選ヒート-レース結果表（貼付）'!$A:$Z,MATCH($B37,'[1]予選ヒート-レース結果表（貼付）'!$B:$B,0),MATCH(Q$11,'[1]予選ヒート-レース結果表（貼付）'!$1:$1,0)),"")) | R37: =IF(Q37="","",COUNTIF($Q$13:Q37,"<>"&"")) | S37: =IFERROR(RANK(R37,$R$13:$R$46,1),"") | T37: =IF(IFERROR(INDEX('[1]予選ヒート-レース結果表（貼付）'!$A:$Z,MATCH($A37,'[1]予選ヒート-レース結果表（貼付）'!$A:$A,0),MATCH(T$11,'[1]予選ヒート-レース結果表（貼付）'!$1:$1,0)),"")=0,"",IFERROR(INDEX('[1]予選ヒート-レース結果表（貼付）'!$A:$Z,MATCH($A37,'[1]予選ヒート-レース結果表（貼付）'!$A:$A,0),MATCH(T$11,'[1]予選ヒート-レース結果表（貼付）'!$1:$1,0)),"")) | U37: =IF(IFERROR(INDEX('[1]予選ヒート-レース結果表（貼付）'!$A:$Z,MATCH($B37,'[1]予選ヒート-レース結果表（貼付）'!$B:$B,0),MATCH(U$11,'[1]予選ヒート-レース結果表（貼付）'!$1:$1,0)),"")=0,"",IFERROR(INDEX('[1]予選ヒート-レース結果表（貼付）'!$A:$Z,MATCH($B37,'[1]予選ヒート-レース結果表（貼付）'!$B:$B,0),MATCH(U$11,'[1]予選ヒート-レース結果表（貼付）'!$1:$1,0)),""))
A38: =IF(OR('[1]予選ヒート-レース結果表（貼付）'!A27="DNF",'[1]予選ヒート-レース結果表（貼付）'!A27="DNS",'[1]予選ヒート-レース結果表（貼付）'!A27="DQ"),'[1]予選ヒート-レース結果表（貼付）'!A27,IF(MAX('[1]予選ヒート-レース結果表（貼付）'!A:A)>A37,A37+1,"")) | B38: =IFERROR(INDEX('[1]予選ヒート-レース結果表（貼付）'!A27:$Z$50,MATCH($A38,'[1]予選ヒート-レース結果表（貼付）'!A27:$A$50,0),MATCH('[1]公式予選（TT）-結果表（印刷）'!B$11,'[1]予選ヒート-レース結果表（貼付）'!$1:$1,0)),"") | C38: =IF(IFERROR(INDEX('[1]予選ヒート-レース結果表（貼付）'!$A:$Z,MATCH($B38,'[1]予選ヒート-レース結果表（貼付）'!$B:$B,0),MATCH(C$11,'[1]予選ヒート-レース結果表（貼付）'!$1:$1,0)),"")=0,"",IFERROR(INDEX('[1]予選ヒート-レース結果表（貼付）'!$A:$Z,MATCH($B38,'[1]予選ヒート-レース結果表（貼付）'!$B:$B,0),MATCH(C$11,'[1]予選ヒート-レース結果表（貼付）'!$1:$1,0)),"")) | D38: =IF(C38="","",IF(A38="","",COUNTIF($C$13:C38,C38))) | E38: =IFERROR(INDEX('[1]予選ヒート-レース結果表（貼付）'!$A:$Z,MATCH($B38,'[1]予選ヒート-レース結果表（貼付）'!$B:$B,0),MATCH('予選ヒート-レース結果表'!E$11,'[1]予選ヒート-レース結果表（貼付）'!$1:$1,0)),"") | F38: =IFERROR(INDEX('[1]予選ヒート-レース結果表（貼付）'!$A:$Z,MATCH($B38,'[1]予選ヒート-レース結果表（貼付）'!$B:$B,0),MATCH('予選ヒート-レース結果表'!F$11,'[1]予選ヒート-レース結果表（貼付）'!$1:$1,0)),"") | G38: =IFERROR(INDEX('[1]予選ヒート-レース結果表（貼付）'!$A:$Z,MATCH($B38,'[1]予選ヒート-レース結果表（貼付）'!$B:$B,0),MATCH('予選ヒート-レース結果表'!G$11,'[1]予選ヒート-レース結果表（貼付）'!$1:$1,0)),"") | H38: =IFERROR(INDEX('[1]予選ヒート-レース結果表（貼付）'!$A:$Z,MATCH($B38,'[1]予選ヒート-レース結果表（貼付）'!$B:$B,0),MATCH('予選ヒート-レース結果表'!H$11,'[1]予選ヒート-レース結果表（貼付）'!$1:$1,0)),"") | I38: =IFERROR(INDEX('[1]予選ヒート-レース結果表（貼付）'!$A:$Z,MATCH($B38,'[1]予選ヒート-レース結果表（貼付）'!$B:$B,0),MATCH('予選ヒート-レース結果表'!I$11,'[1]予選ヒート-レース結果表（貼付）'!$1:$1,0)),"") | J38: =IFERROR(IF(A38="DNS","ｽﾀｰﾄ出来ず",IF(A38="DQ","失 格",INDEX('[1]予選ヒート-レース結果表（貼付）'!$A:$Z,MATCH($B38,'[1]予選ヒート-レース結果表（貼付）'!$B:$B,0),MATCH('予選ヒート-レース結果表'!J$11,'[1]予選ヒート-レース結果表（貼付）'!$1:$1,0)))),"") | K38: =IFERROR(IF(A38="DNS","",IF(A38="DQ","",INDEX('[1]予選ヒート-レース結果表（貼付）'!$A:$Z,MATCH($B38,'[1]予選ヒート-レース結果表（貼付）'!$B:$B,0),MATCH('予選ヒート-レース結果表'!K$11,'[1]予選ヒート-レース結果表（貼付）'!$1:$1,0)))),"") | L38: =IFERROR(IF(A38="DNS","",IF(A38="DQ","",INDEX('[1]予選ヒート-レース結果表（貼付）'!$A:$Z,MATCH($B38,'[1]予選ヒート-レース結果表（貼付）'!$B:$B,0),MATCH('予選ヒート-レース結果表'!L$11,'[1]予選ヒート-レース結果表（貼付）'!$1:$1,0)))),"") | M38: =IFERROR(IF(A38="DNS","",IF(A38="DQ","",INDEX('[1]予選ヒート-レース結果表（貼付）'!$A:$Z,MATCH($B38,'[1]予選ヒート-レース結果表（貼付）'!$B:$B,0),MATCH('予選ヒート-レース結果表'!M$11,'[1]予選ヒート-レース結果表（貼付）'!$1:$1,0)))),"") | N38: =IF(M38<1,"",IF($N$11>M38,"R","")) | Q38: =IF(IFERROR(INDEX('[1]予選ヒート-レース結果表（貼付）'!$A:$Z,MATCH($B38,'[1]予選ヒート-レース結果表（貼付）'!$B:$B,0),MATCH(Q$11,'[1]予選ヒート-レース結果表（貼付）'!$1:$1,0)),"")=0,"",IFERROR(INDEX('[1]予選ヒート-レース結果表（貼付）'!$A:$Z,MATCH($B38,'[1]予選ヒート-レース結果表（貼付）'!$B:$B,0),MATCH(Q$11,'[1]予選ヒート-レース結果表（貼付）'!$1:$1,0)),"")) | R38: =IF(Q38="","",COUNTIF($Q$13:Q38,"<>"&"")) | S38: =IFERROR(RANK(R38,$R$13:$R$46,1),"") | T38: =IF(IFERROR(INDEX('[1]予選ヒート-レース結果表（貼付）'!$A:$Z,MATCH($A38,'[1]予選ヒート-レース結果表（貼付）'!$A:$A,0),MATCH(T$11,'[1]予選ヒート-レース結果表（貼付）'!$1:$1,0)),"")=0,"",IFERROR(INDEX('[1]予選ヒート-レース結果表（貼付）'!$A:$Z,MATCH($A38,'[1]予選ヒート-レース結果表（貼付）'!$A:$A,0),MATCH(T$11,'[1]予選ヒート-レース結果表（貼付）'!$1:$1,0)),"")) | U38: =IF(IFERROR(INDEX('[1]予選ヒート-レース結果表（貼付）'!$A:$Z,MATCH($B38,'[1]予選ヒート-レース結果表（貼付）'!$B:$B,0),MATCH(U$11,'[1]予選ヒート-レース結果表（貼付）'!$1:$1,0)),"")=0,"",IFERROR(INDEX('[1]予選ヒート-レース結果表（貼付）'!$A:$Z,MATCH($B38,'[1]予選ヒート-レース結果表（貼付）'!$B:$B,0),MATCH(U$11,'[1]予選ヒート-レース結果表（貼付）'!$1:$1,0)),""))
A39: =IF(OR('[1]予選ヒート-レース結果表（貼付）'!A28="DNF",'[1]予選ヒート-レース結果表（貼付）'!A28="DNS",'[1]予選ヒート-レース結果表（貼付）'!A28="DQ"),'[1]予選ヒート-レース結果表（貼付）'!A28,IF(MAX('[1]予選ヒート-レース結果表（貼付）'!A:A)>A38,A38+1,"")) | B39: =IFERROR(INDEX('[1]予選ヒート-レース結果表（貼付）'!A28:$Z$50,MATCH($A39,'[1]予選ヒート-レース結果表（貼付）'!A28:$A$50,0),MATCH('[1]公式予選（TT）-結果表（印刷）'!B$11,'[1]予選ヒート-レース結果表（貼付）'!$1:$1,0)),"") | C39: =IF(IFERROR(INDEX('[1]予選ヒート-レース結果表（貼付）'!$A:$Z,MATCH($B39,'[1]予選ヒート-レース結果表（貼付）'!$B:$B,0),MATCH(C$11,'[1]予選ヒート-レース結果表（貼付）'!$1:$1,0)),"")=0,"",IFERROR(INDEX('[1]予選ヒート-レース結果表（貼付）'!$A:$Z,MATCH($B39,'[1]予選ヒート-レース結果表（貼付）'!$B:$B,0),MATCH(C$11,'[1]予選ヒート-レース結果表（貼付）'!$1:$1,0)),"")) | D39: =IF(C39="","",IF(A39="","",COUNTIF($C$13:C39,C39))) | E39: =IFERROR(INDEX('[1]予選ヒート-レース結果表（貼付）'!$A:$Z,MATCH($B39,'[1]予選ヒート-レース結果表（貼付）'!$B:$B,0),MATCH('予選ヒート-レース結果表'!E$11,'[1]予選ヒート-レース結果表（貼付）'!$1:$1,0)),"") | F39: =IFERROR(INDEX('[1]予選ヒート-レース結果表（貼付）'!$A:$Z,MATCH($B39,'[1]予選ヒート-レース結果表（貼付）'!$B:$B,0),MATCH('予選ヒート-レース結果表'!F$11,'[1]予選ヒート-レース結果表（貼付）'!$1:$1,0)),"") | G39: =IFERROR(INDEX('[1]予選ヒート-レース結果表（貼付）'!$A:$Z,MATCH($B39,'[1]予選ヒート-レース結果表（貼付）'!$B:$B,0),MATCH('予選ヒート-レース結果表'!G$11,'[1]予選ヒート-レース結果表（貼付）'!$1:$1,0)),"") | H39: =IFERROR(INDEX('[1]予選ヒート-レース結果表（貼付）'!$A:$Z,MATCH($B39,'[1]予選ヒート-レース結果表（貼付）'!$B:$B,0),MATCH('予選ヒート-レース結果表'!H$11,'[1]予選ヒート-レース結果表（貼付）'!$1:$1,0)),"") | I39: =IFERROR(INDEX('[1]予選ヒート-レース結果表（貼付）'!$A:$Z,MATCH($B39,'[1]予選ヒート-レース結果表（貼付）'!$B:$B,0),MATCH('予選ヒート-レース結果表'!I$11,'[1]予選ヒート-レース結果表（貼付）'!$1:$1,0)),"") | J39: =IFERROR(IF(A39="DNS","ｽﾀｰﾄ出来ず",IF(A39="DQ","失 格",INDEX('[1]予選ヒート-レース結果表（貼付）'!$A:$Z,MATCH($B39,'[1]予選ヒート-レース結果表（貼付）'!$B:$B,0),MATCH('予選ヒート-レース結果表'!J$11,'[1]予選ヒート-レース結果表（貼付）'!$1:$1,0)))),"") | K39: =IFERROR(IF(A39="DNS","",IF(A39="DQ","",INDEX('[1]予選ヒート-レース結果表（貼付）'!$A:$Z,MATCH($B39,'[1]予選ヒート-レース結果表（貼付）'!$B:$B,0),MATCH('予選ヒート-レース結果表'!K$11,'[1]予選ヒート-レース結果表（貼付）'!$1:$1,0)))),"") | L39: =IFERROR(IF(A39="DNS","",IF(A39="DQ","",INDEX('[1]予選ヒート-レース結果表（貼付）'!$A:$Z,MATCH($B39,'[1]予選ヒート-レース結果表（貼付）'!$B:$B,0),MATCH('予選ヒート-レース結果表'!L$11,'[1]予選ヒート-レース結果表（貼付）'!$1:$1,0)))),"") | M39: =IFERROR(IF(A39="DNS","",IF(A39="DQ","",INDEX('[1]予選ヒート-レース結果表（貼付）'!$A:$Z,MATCH($B39,'[1]予選ヒート-レース結果表（貼付）'!$B:$B,0),MATCH('予選ヒート-レース結果表'!M$11,'[1]予選ヒート-レース結果表（貼付）'!$1:$1,0)))),"") | N39: =IF(M39<1,"",IF($N$11>M39,"R","")) | Q39: =IF(IFERROR(INDEX('[1]予選ヒート-レース結果表（貼付）'!$A:$Z,MATCH($B39,'[1]予選ヒート-レース結果表（貼付）'!$B:$B,0),MATCH(Q$11,'[1]予選ヒート-レース結果表（貼付）'!$1:$1,0)),"")=0,"",IFERROR(INDEX('[1]予選ヒート-レース結果表（貼付）'!$A:$Z,MATCH($B39,'[1]予選ヒート-レース結果表（貼付）'!$B:$B,0),MATCH(Q$11,'[1]予選ヒート-レース結果表（貼付）'!$1:$1,0)),"")) | R39: =IF(Q39="","",COUNTIF($Q$13:Q39,"<>"&"")) | S39: =IFERROR(RANK(R39,$R$13:$R$46,1),"") | T39: =IF(IFERROR(INDEX('[1]予選ヒート-レース結果表（貼付）'!$A:$Z,MATCH($A39,'[1]予選ヒート-レース結果表（貼付）'!$A:$A,0),MATCH(T$11,'[1]予選ヒート-レース結果表（貼付）'!$1:$1,0)),"")=0,"",IFERROR(INDEX('[1]予選ヒート-レース結果表（貼付）'!$A:$Z,MATCH($A39,'[1]予選ヒート-レース結果表（貼付）'!$A:$A,0),MATCH(T$11,'[1]予選ヒート-レース結果表（貼付）'!$1:$1,0)),"")) | U39: =IF(IFERROR(INDEX('[1]予選ヒート-レース結果表（貼付）'!$A:$Z,MATCH($B39,'[1]予選ヒート-レース結果表（貼付）'!$B:$B,0),MATCH(U$11,'[1]予選ヒート-レース結果表（貼付）'!$1:$1,0)),"")=0,"",IFERROR(INDEX('[1]予選ヒート-レース結果表（貼付）'!$A:$Z,MATCH($B39,'[1]予選ヒート-レース結果表（貼付）'!$B:$B,0),MATCH(U$11,'[1]予選ヒート-レース結果表（貼付）'!$1:$1,0)),""))
A40: =IF(OR('[1]予選ヒート-レース結果表（貼付）'!A29="DNF",'[1]予選ヒート-レース結果表（貼付）'!A29="DNS",'[1]予選ヒート-レース結果表（貼付）'!A29="DQ"),'[1]予選ヒート-レース結果表（貼付）'!A29,IF(MAX('[1]予選ヒート-レース結果表（貼付）'!A:A)>A39,A39+1,"")) | B40: =IFERROR(INDEX('[1]予選ヒート-レース結果表（貼付）'!A29:$Z$50,MATCH($A40,'[1]予選ヒート-レース結果表（貼付）'!A29:$A$50,0),MATCH('[1]公式予選（TT）-結果表（印刷）'!B$11,'[1]予選ヒート-レース結果表（貼付）'!$1:$1,0)),"") | C40: =IF(IFERROR(INDEX('[1]予選ヒート-レース結果表（貼付）'!$A:$Z,MATCH($B40,'[1]予選ヒート-レース結果表（貼付）'!$B:$B,0),MATCH(C$11,'[1]予選ヒート-レース結果表（貼付）'!$1:$1,0)),"")=0,"",IFERROR(INDEX('[1]予選ヒート-レース結果表（貼付）'!$A:$Z,MATCH($B40,'[1]予選ヒート-レース結果表（貼付）'!$B:$B,0),MATCH(C$11,'[1]予選ヒート-レース結果表（貼付）'!$1:$1,0)),"")) | D40: =IF(C40="","",IF(A40="","",COUNTIF($C$13:C40,C40))) | E40: =IFERROR(INDEX('[1]予選ヒート-レース結果表（貼付）'!$A:$Z,MATCH($B40,'[1]予選ヒート-レース結果表（貼付）'!$B:$B,0),MATCH('予選ヒート-レース結果表'!E$11,'[1]予選ヒート-レース結果表（貼付）'!$1:$1,0)),"") | F40: =IFERROR(INDEX('[1]予選ヒート-レース結果表（貼付）'!$A:$Z,MATCH($B40,'[1]予選ヒート-レース結果表（貼付）'!$B:$B,0),MATCH('予選ヒート-レース結果表'!F$11,'[1]予選ヒート-レース結果表（貼付）'!$1:$1,0)),"") | G40: =IFERROR(INDEX('[1]予選ヒート-レース結果表（貼付）'!$A:$Z,MATCH($B40,'[1]予選ヒート-レース結果表（貼付）'!$B:$B,0),MATCH('予選ヒート-レース結果表'!G$11,'[1]予選ヒート-レース結果表（貼付）'!$1:$1,0)),"") | H40: =IFERROR(INDEX('[1]予選ヒート-レース結果表（貼付）'!$A:$Z,MATCH($B40,'[1]予選ヒート-レース結果表（貼付）'!$B:$B,0),MATCH('予選ヒート-レース結果表'!H$11,'[1]予選ヒート-レース結果表（貼付）'!$1:$1,0)),"") | I40: =IFERROR(INDEX('[1]予選ヒート-レース結果表（貼付）'!$A:$Z,MATCH($B40,'[1]予選ヒート-レース結果表（貼付）'!$B:$B,0),MATCH('予選ヒート-レース結果表'!I$11,'[1]予選ヒート-レース結果表（貼付）'!$1:$1,0)),"") | J40: =IFERROR(IF(A40="DNS","ｽﾀｰﾄ出来ず",IF(A40="DQ","失 格",INDEX('[1]予選ヒート-レース結果表（貼付）'!$A:$Z,MATCH($B40,'[1]予選ヒート-レース結果表（貼付）'!$B:$B,0),MATCH('予選ヒート-レース結果表'!J$11,'[1]予選ヒート-レース結果表（貼付）'!$1:$1,0)))),"") | K40: =IFERROR(IF(A40="DNS","",IF(A40="DQ","",INDEX('[1]予選ヒート-レース結果表（貼付）'!$A:$Z,MATCH($B40,'[1]予選ヒート-レース結果表（貼付）'!$B:$B,0),MATCH('予選ヒート-レース結果表'!K$11,'[1]予選ヒート-レース結果表（貼付）'!$1:$1,0)))),"") | L40: =IFERROR(IF(A40="DNS","",IF(A40="DQ","",INDEX('[1]予選ヒート-レース結果表（貼付）'!$A:$Z,MATCH($B40,'[1]予選ヒート-レース結果表（貼付）'!$B:$B,0),MATCH('予選ヒート-レース結果表'!L$11,'[1]予選ヒート-レース結果表（貼付）'!$1:$1,0)))),"") | M40: =IFERROR(IF(A40="DNS","",IF(A40="DQ","",INDEX('[1]予選ヒート-レース結果表（貼付）'!$A:$Z,MATCH($B40,'[1]予選ヒート-レース結果表（貼付）'!$B:$B,0),MATCH('予選ヒート-レース結果表'!M$11,'[1]予選ヒート-レース結果表（貼付）'!$1:$1,0)))),"") | N40: =IF(M40<1,"",IF($N$11>M40,"R","")) | Q40: =IF(IFERROR(INDEX('[1]予選ヒート-レース結果表（貼付）'!$A:$Z,MATCH($B40,'[1]予選ヒート-レース結果表（貼付）'!$B:$B,0),MATCH(Q$11,'[1]予選ヒート-レース結果表（貼付）'!$1:$1,0)),"")=0,"",IFERROR(INDEX('[1]予選ヒート-レース結果表（貼付）'!$A:$Z,MATCH($B40,'[1]予選ヒート-レース結果表（貼付）'!$B:$B,0),MATCH(Q$11,'[1]予選ヒート-レース結果表（貼付）'!$1:$1,0)),"")) | R40: =IF(Q40="","",COUNTIF($Q$13:Q40,"<>"&"")) | S40: =IFERROR(RANK(R40,$R$13:$R$46,1),"") | T40: =IF(IFERROR(INDEX('[1]予選ヒート-レース結果表（貼付）'!$A:$Z,MATCH($A40,'[1]予選ヒート-レース結果表（貼付）'!$A:$A,0),MATCH(T$11,'[1]予選ヒート-レース結果表（貼付）'!$1:$1,0)),"")=0,"",IFERROR(INDEX('[1]予選ヒート-レース結果表（貼付）'!$A:$Z,MATCH($A40,'[1]予選ヒート-レース結果表（貼付）'!$A:$A,0),MATCH(T$11,'[1]予選ヒート-レース結果表（貼付）'!$1:$1,0)),"")) | U40: =IF(IFERROR(INDEX('[1]予選ヒート-レース結果表（貼付）'!$A:$Z,MATCH($B40,'[1]予選ヒート-レース結果表（貼付）'!$B:$B,0),MATCH(U$11,'[1]予選ヒート-レース結果表（貼付）'!$1:$1,0)),"")=0,"",IFERROR(INDEX('[1]予選ヒート-レース結果表（貼付）'!$A:$Z,MATCH($B40,'[1]予選ヒート-レース結果表（貼付）'!$B:$B,0),MATCH(U$11,'[1]予選ヒート-レース結果表（貼付）'!$1:$1,0)),""))
A41: =IF(OR('[1]予選ヒート-レース結果表（貼付）'!A30="DNF",'[1]予選ヒート-レース結果表（貼付）'!A30="DNS",'[1]予選ヒート-レース結果表（貼付）'!A30="DQ"),'[1]予選ヒート-レース結果表（貼付）'!A30,IF(MAX('[1]予選ヒート-レース結果表（貼付）'!A:A)>A40,A40+1,"")) | B41: =IFERROR(INDEX('[1]予選ヒート-レース結果表（貼付）'!A30:$Z$50,MATCH($A41,'[1]予選ヒート-レース結果表（貼付）'!A30:$A$50,0),MATCH('[1]公式予選（TT）-結果表（印刷）'!B$11,'[1]予選ヒート-レース結果表（貼付）'!$1:$1,0)),"") | C41: =IF(IFERROR(INDEX('[1]予選ヒート-レース結果表（貼付）'!$A:$Z,MATCH($B41,'[1]予選ヒート-レース結果表（貼付）'!$B:$B,0),MATCH(C$11,'[1]予選ヒート-レース結果表（貼付）'!$1:$1,0)),"")=0,"",IFERROR(INDEX('[1]予選ヒート-レース結果表（貼付）'!$A:$Z,MATCH($B41,'[1]予選ヒート-レース結果表（貼付）'!$B:$B,0),MATCH(C$11,'[1]予選ヒート-レース結果表（貼付）'!$1:$1,0)),"")) | D41: =IF(C41="","",IF(A41="","",COUNTIF($C$13:C41,C41))) | E41: =IFERROR(INDEX('[1]予選ヒート-レース結果表（貼付）'!$A:$Z,MATCH($B41,'[1]予選ヒート-レース結果表（貼付）'!$B:$B,0),MATCH('予選ヒート-レース結果表'!E$11,'[1]予選ヒート-レース結果表（貼付）'!$1:$1,0)),"") | F41: =IFERROR(INDEX('[1]予選ヒート-レース結果表（貼付）'!$A:$Z,MATCH($B41,'[1]予選ヒート-レース結果表（貼付）'!$B:$B,0),MATCH('予選ヒート-レース結果表'!F$11,'[1]予選ヒート-レース結果表（貼付）'!$1:$1,0)),"") | G41: =IFERROR(INDEX('[1]予選ヒート-レース結果表（貼付）'!$A:$Z,MATCH($B41,'[1]予選ヒート-レース結果表（貼付）'!$B:$B,0),MATCH('予選ヒート-レース結果表'!G$11,'[1]予選ヒート-レース結果表（貼付）'!$1:$1,0)),"") | H41: =IFERROR(INDEX('[1]予選ヒート-レース結果表（貼付）'!$A:$Z,MATCH($B41,'[1]予選ヒート-レース結果表（貼付）'!$B:$B,0),MATCH('予選ヒート-レース結果表'!H$11,'[1]予選ヒート-レース結果表（貼付）'!$1:$1,0)),"") | I41: =IFERROR(INDEX('[1]予選ヒート-レース結果表（貼付）'!$A:$Z,MATCH($B41,'[1]予選ヒート-レース結果表（貼付）'!$B:$B,0),MATCH('予選ヒート-レース結果表'!I$11,'[1]予選ヒート-レース結果表（貼付）'!$1:$1,0)),"") | J41: =IFERROR(IF(A41="DNS","ｽﾀｰﾄ出来ず",IF(A41="DQ","失 格",INDEX('[1]予選ヒート-レース結果表（貼付）'!$A:$Z,MATCH($B41,'[1]予選ヒート-レース結果表（貼付）'!$B:$B,0),MATCH('予選ヒート-レース結果表'!J$11,'[1]予選ヒート-レース結果表（貼付）'!$1:$1,0)))),"") | K41: =IFERROR(IF(A41="DNS","",IF(A41="DQ","",INDEX('[1]予選ヒート-レース結果表（貼付）'!$A:$Z,MATCH($B41,'[1]予選ヒート-レース結果表（貼付）'!$B:$B,0),MATCH('予選ヒート-レース結果表'!K$11,'[1]予選ヒート-レース結果表（貼付）'!$1:$1,0)))),"") | L41: =IFERROR(IF(A41="DNS","",IF(A41="DQ","",INDEX('[1]予選ヒート-レース結果表（貼付）'!$A:$Z,MATCH($B41,'[1]予選ヒート-レース結果表（貼付）'!$B:$B,0),MATCH('予選ヒート-レース結果表'!L$11,'[1]予選ヒート-レース結果表（貼付）'!$1:$1,0)))),"") | M41: =IFERROR(IF(A41="DNS","",IF(A41="DQ","",INDEX('[1]予選ヒート-レース結果表（貼付）'!$A:$Z,MATCH($B41,'[1]予選ヒート-レース結果表（貼付）'!$B:$B,0),MATCH('予選ヒート-レース結果表'!M$11,'[1]予選ヒート-レース結果表（貼付）'!$1:$1,0)))),"") | N41: =IF(M41<1,"",IF($N$11>M41,"R","")) | Q41: =IF(IFERROR(INDEX('[1]予選ヒート-レース結果表（貼付）'!$A:$Z,MATCH($B41,'[1]予選ヒート-レース結果表（貼付）'!$B:$B,0),MATCH(Q$11,'[1]予選ヒート-レース結果表（貼付）'!$1:$1,0)),"")=0,"",IFERROR(INDEX('[1]予選ヒート-レース結果表（貼付）'!$A:$Z,MATCH($B41,'[1]予選ヒート-レース結果表（貼付）'!$B:$B,0),MATCH(Q$11,'[1]予選ヒート-レース結果表（貼付）'!$1:$1,0)),"")) | R41: =IF(Q41="","",COUNTIF($Q$13:Q41,"<>"&"")) | S41: =IFERROR(RANK(R41,$R$13:$R$46,1),"") | T41: =IF(IFERROR(INDEX('[1]予選ヒート-レース結果表（貼付）'!$A:$Z,MATCH($A41,'[1]予選ヒート-レース結果表（貼付）'!$A:$A,0),MATCH(T$11,'[1]予選ヒート-レース結果表（貼付）'!$1:$1,0)),"")=0,"",IFERROR(INDEX('[1]予選ヒート-レース結果表（貼付）'!$A:$Z,MATCH($A41,'[1]予選ヒート-レース結果表（貼付）'!$A:$A,0),MATCH(T$11,'[1]予選ヒート-レース結果表（貼付）'!$1:$1,0)),"")) | U41: =IF(IFERROR(INDEX('[1]予選ヒート-レース結果表（貼付）'!$A:$Z,MATCH($B41,'[1]予選ヒート-レース結果表（貼付）'!$B:$B,0),MATCH(U$11,'[1]予選ヒート-レース結果表（貼付）'!$1:$1,0)),"")=0,"",IFERROR(INDEX('[1]予選ヒート-レース結果表（貼付）'!$A:$Z,MATCH($B41,'[1]予選ヒート-レース結果表（貼付）'!$B:$B,0),MATCH(U$11,'[1]予選ヒート-レース結果表（貼付）'!$1:$1,0)),""))
A42: =IF(OR('[1]予選ヒート-レース結果表（貼付）'!A31="DNF",'[1]予選ヒート-レース結果表（貼付）'!A31="DNS",'[1]予選ヒート-レース結果表（貼付）'!A31="DQ"),'[1]予選ヒート-レース結果表（貼付）'!A31,IF(MAX('[1]予選ヒート-レース結果表（貼付）'!A:A)>A41,A41+1,"")) | B42: =IFERROR(INDEX('[1]予選ヒート-レース結果表（貼付）'!A31:$Z$50,MATCH($A42,'[1]予選ヒート-レース結果表（貼付）'!A31:$A$50,0),MATCH('[1]公式予選（TT）-結果表（印刷）'!B$11,'[1]予選ヒート-レース結果表（貼付）'!$1:$1,0)),"") | C42: =IF(IFERROR(INDEX('[1]予選ヒート-レース結果表（貼付）'!$A:$Z,MATCH($B42,'[1]予選ヒート-レース結果表（貼付）'!$B:$B,0),MATCH(C$11,'[1]予選ヒート-レース結果表（貼付）'!$1:$1,0)),"")=0,"",IFERROR(INDEX('[1]予選ヒート-レース結果表（貼付）'!$A:$Z,MATCH($B42,'[1]予選ヒート-レース結果表（貼付）'!$B:$B,0),MATCH(C$11,'[1]予選ヒート-レース結果表（貼付）'!$1:$1,0)),"")) | D42: =IF(C42="","",IF(A42="","",COUNTIF($C$13:C42,C42))) | E42: =IFERROR(INDEX('[1]予選ヒート-レース結果表（貼付）'!$A:$Z,MATCH($B42,'[1]予選ヒート-レース結果表（貼付）'!$B:$B,0),MATCH('予選ヒート-レース結果表'!E$11,'[1]予選ヒート-レース結果表（貼付）'!$1:$1,0)),"") | F42: =IFERROR(INDEX('[1]予選ヒート-レース結果表（貼付）'!$A:$Z,MATCH($B42,'[1]予選ヒート-レース結果表（貼付）'!$B:$B,0),MATCH('予選ヒート-レース結果表'!F$11,'[1]予選ヒート-レース結果表（貼付）'!$1:$1,0)),"") | G42: =IFERROR(INDEX('[1]予選ヒート-レース結果表（貼付）'!$A:$Z,MATCH($B42,'[1]予選ヒート-レース結果表（貼付）'!$B:$B,0),MATCH('予選ヒート-レース結果表'!G$11,'[1]予選ヒート-レース結果表（貼付）'!$1:$1,0)),"") | H42: =IFERROR(INDEX('[1]予選ヒート-レース結果表（貼付）'!$A:$Z,MATCH($B42,'[1]予選ヒート-レース結果表（貼付）'!$B:$B,0),MATCH('予選ヒート-レース結果表'!H$11,'[1]予選ヒート-レース結果表（貼付）'!$1:$1,0)),"") | I42: =IFERROR(INDEX('[1]予選ヒート-レース結果表（貼付）'!$A:$Z,MATCH($B42,'[1]予選ヒート-レース結果表（貼付）'!$B:$B,0),MATCH('予選ヒート-レース結果表'!I$11,'[1]予選ヒート-レース結果表（貼付）'!$1:$1,0)),"") | J42: =IFERROR(IF(A42="DNS","ｽﾀｰﾄ出来ず",IF(A42="DQ","失 格",INDEX('[1]予選ヒート-レース結果表（貼付）'!$A:$Z,MATCH($B42,'[1]予選ヒート-レース結果表（貼付）'!$B:$B,0),MATCH('予選ヒート-レース結果表'!J$11,'[1]予選ヒート-レース結果表（貼付）'!$1:$1,0)))),"") | K42: =IFERROR(IF(A42="DNS","",IF(A42="DQ","",INDEX('[1]予選ヒート-レース結果表（貼付）'!$A:$Z,MATCH($B42,'[1]予選ヒート-レース結果表（貼付）'!$B:$B,0),MATCH('予選ヒート-レース結果表'!K$11,'[1]予選ヒート-レース結果表（貼付）'!$1:$1,0)))),"") | L42: =IFERROR(IF(A42="DNS","",IF(A42="DQ","",INDEX('[1]予選ヒート-レース結果表（貼付）'!$A:$Z,MATCH($B42,'[1]予選ヒート-レース結果表（貼付）'!$B:$B,0),MATCH('予選ヒート-レース結果表'!L$11,'[1]予選ヒート-レース結果表（貼付）'!$1:$1,0)))),"") | M42: =IFERROR(IF(A42="DNS","",IF(A42="DQ","",INDEX('[1]予選ヒート-レース結果表（貼付）'!$A:$Z,MATCH($B42,'[1]予選ヒート-レース結果表（貼付）'!$B:$B,0),MATCH('予選ヒート-レース結果表'!M$11,'[1]予選ヒート-レース結果表（貼付）'!$1:$1,0)))),"") | N42: =IF(M42<1,"",IF($N$11>M42,"R","")) | Q42: =IF(IFERROR(INDEX('[1]予選ヒート-レース結果表（貼付）'!$A:$Z,MATCH($B42,'[1]予選ヒート-レース結果表（貼付）'!$B:$B,0),MATCH(Q$11,'[1]予選ヒート-レース結果表（貼付）'!$1:$1,0)),"")=0,"",IFERROR(INDEX('[1]予選ヒート-レース結果表（貼付）'!$A:$Z,MATCH($B42,'[1]予選ヒート-レース結果表（貼付）'!$B:$B,0),MATCH(Q$11,'[1]予選ヒート-レース結果表（貼付）'!$1:$1,0)),"")) | R42: =IF(Q42="","",COUNTIF($Q$13:Q42,"<>"&"")) | S42: =IFERROR(RANK(R42,$R$13:$R$46,1),"") | T42: =IF(IFERROR(INDEX('[1]予選ヒート-レース結果表（貼付）'!$A:$Z,MATCH($A42,'[1]予選ヒート-レース結果表（貼付）'!$A:$A,0),MATCH(T$11,'[1]予選ヒート-レース結果表（貼付）'!$1:$1,0)),"")=0,"",IFERROR(INDEX('[1]予選ヒート-レース結果表（貼付）'!$A:$Z,MATCH($A42,'[1]予選ヒート-レース結果表（貼付）'!$A:$A,0),MATCH(T$11,'[1]予選ヒート-レース結果表（貼付）'!$1:$1,0)),"")) | U42: =IF(IFERROR(INDEX('[1]予選ヒート-レース結果表（貼付）'!$A:$Z,MATCH($B42,'[1]予選ヒート-レース結果表（貼付）'!$B:$B,0),MATCH(U$11,'[1]予選ヒート-レース結果表（貼付）'!$1:$1,0)),"")=0,"",IFERROR(INDEX('[1]予選ヒート-レース結果表（貼付）'!$A:$Z,MATCH($B42,'[1]予選ヒート-レース結果表（貼付）'!$B:$B,0),MATCH(U$11,'[1]予選ヒート-レース結果表（貼付）'!$1:$1,0)),""))
A43: =IF(OR('[1]予選ヒート-レース結果表（貼付）'!A32="DNF",'[1]予選ヒート-レース結果表（貼付）'!A32="DNS",'[1]予選ヒート-レース結果表（貼付）'!A32="DQ"),'[1]予選ヒート-レース結果表（貼付）'!A32,IF(MAX('[1]予選ヒート-レース結果表（貼付）'!A:A)>A42,A42+1,"")) | B43: =IFERROR(INDEX('[1]予選ヒート-レース結果表（貼付）'!A32:$Z$50,MATCH($A43,'[1]予選ヒート-レース結果表（貼付）'!A32:$A$50,0),MATCH('[1]公式予選（TT）-結果表（印刷）'!B$11,'[1]予選ヒート-レース結果表（貼付）'!$1:$1,0)),"") | C43: =IF(IFERROR(INDEX('[1]予選ヒート-レース結果表（貼付）'!$A:$Z,MATCH($B43,'[1]予選ヒート-レース結果表（貼付）'!$B:$B,0),MATCH(C$11,'[1]予選ヒート-レース結果表（貼付）'!$1:$1,0)),"")=0,"",IFERROR(INDEX('[1]予選ヒート-レース結果表（貼付）'!$A:$Z,MATCH($B43,'[1]予選ヒート-レース結果表（貼付）'!$B:$B,0),MATCH(C$11,'[1]予選ヒート-レース結果表（貼付）'!$1:$1,0)),"")) | D43: =IF(C43="","",IF(A43="","",COUNTIF($C$13:C43,C43))) | E43: =IFERROR(INDEX('[1]予選ヒート-レース結果表（貼付）'!$A:$Z,MATCH($B43,'[1]予選ヒート-レース結果表（貼付）'!$B:$B,0),MATCH('予選ヒート-レース結果表'!E$11,'[1]予選ヒート-レース結果表（貼付）'!$1:$1,0)),"") | F43: =IFERROR(INDEX('[1]予選ヒート-レース結果表（貼付）'!$A:$Z,MATCH($B43,'[1]予選ヒート-レース結果表（貼付）'!$B:$B,0),MATCH('予選ヒート-レース結果表'!F$11,'[1]予選ヒート-レース結果表（貼付）'!$1:$1,0)),"") | G43: =IFERROR(INDEX('[1]予選ヒート-レース結果表（貼付）'!$A:$Z,MATCH($B43,'[1]予選ヒート-レース結果表（貼付）'!$B:$B,0),MATCH('予選ヒート-レース結果表'!G$11,'[1]予選ヒート-レース結果表（貼付）'!$1:$1,0)),"") | H43: =IFERROR(INDEX('[1]予選ヒート-レース結果表（貼付）'!$A:$Z,MATCH($B43,'[1]予選ヒート-レース結果表（貼付）'!$B:$B,0),MATCH('予選ヒート-レース結果表'!H$11,'[1]予選ヒート-レース結果表（貼付）'!$1:$1,0)),"") | I43: =IFERROR(INDEX('[1]予選ヒート-レース結果表（貼付）'!$A:$Z,MATCH($B43,'[1]予選ヒート-レース結果表（貼付）'!$B:$B,0),MATCH('予選ヒート-レース結果表'!I$11,'[1]予選ヒート-レース結果表（貼付）'!$1:$1,0)),"") | J43: =IFERROR(IF(A43="DNS","ｽﾀｰﾄ出来ず",IF(A43="DQ","失 格",INDEX('[1]予選ヒート-レース結果表（貼付）'!$A:$Z,MATCH($B43,'[1]予選ヒート-レース結果表（貼付）'!$B:$B,0),MATCH('予選ヒート-レース結果表'!J$11,'[1]予選ヒート-レース結果表（貼付）'!$1:$1,0)))),"") | K43: =IFERROR(IF(A43="DNS","",IF(A43="DQ","",INDEX('[1]予選ヒート-レース結果表（貼付）'!$A:$Z,MATCH($B43,'[1]予選ヒート-レース結果表（貼付）'!$B:$B,0),MATCH('予選ヒート-レース結果表'!K$11,'[1]予選ヒート-レース結果表（貼付）'!$1:$1,0)))),"") | L43: =IFERROR(IF(A43="DNS","",IF(A43="DQ","",INDEX('[1]予選ヒート-レース結果表（貼付）'!$A:$Z,MATCH($B43,'[1]予選ヒート-レース結果表（貼付）'!$B:$B,0),MATCH('予選ヒート-レース結果表'!L$11,'[1]予選ヒート-レース結果表（貼付）'!$1:$1,0)))),"") | M43: =IFERROR(IF(A43="DNS","",IF(A43="DQ","",INDEX('[1]予選ヒート-レース結果表（貼付）'!$A:$Z,MATCH($B43,'[1]予選ヒート-レース結果表（貼付）'!$B:$B,0),MATCH('予選ヒート-レース結果表'!M$11,'[1]予選ヒート-レース結果表（貼付）'!$1:$1,0)))),"") | N43: =IF(M43<1,"",IF($N$11>M43,"R","")) | Q43: =IF(IFERROR(INDEX('[1]予選ヒート-レース結果表（貼付）'!$A:$Z,MATCH($B43,'[1]予選ヒート-レース結果表（貼付）'!$B:$B,0),MATCH(Q$11,'[1]予選ヒート-レース結果表（貼付）'!$1:$1,0)),"")=0,"",IFERROR(INDEX('[1]予選ヒート-レース結果表（貼付）'!$A:$Z,MATCH($B43,'[1]予選ヒート-レース結果表（貼付）'!$B:$B,0),MATCH(Q$11,'[1]予選ヒート-レース結果表（貼付）'!$1:$1,0)),"")) | R43: =IF(Q43="","",COUNTIF($Q$13:Q43,"<>"&"")) | S43: =IFERROR(RANK(R43,$R$13:$R$46,1),"") | T43: =IF(IFERROR(INDEX('[1]予選ヒート-レース結果表（貼付）'!$A:$Z,MATCH($A43,'[1]予選ヒート-レース結果表（貼付）'!$A:$A,0),MATCH(T$11,'[1]予選ヒート-レース結果表（貼付）'!$1:$1,0)),"")=0,"",IFERROR(INDEX('[1]予選ヒート-レース結果表（貼付）'!$A:$Z,MATCH($A43,'[1]予選ヒート-レース結果表（貼付）'!$A:$A,0),MATCH(T$11,'[1]予選ヒート-レース結果表（貼付）'!$1:$1,0)),"")) | U43: =IF(IFERROR(INDEX('[1]予選ヒート-レース結果表（貼付）'!$A:$Z,MATCH($B43,'[1]予選ヒート-レース結果表（貼付）'!$B:$B,0),MATCH(U$11,'[1]予選ヒート-レース結果表（貼付）'!$1:$1,0)),"")=0,"",IFERROR(INDEX('[1]予選ヒート-レース結果表（貼付）'!$A:$Z,MATCH($B43,'[1]予選ヒート-レース結果表（貼付）'!$B:$B,0),MATCH(U$11,'[1]予選ヒート-レース結果表（貼付）'!$1:$1,0)),""))
... A46: =IF(OR('[1]予選ヒート-レース結果表（貼付）'!A35="DNF",'[1]予選ヒート-レース結果表（貼付）'!A35="DNS",'[1]予選ヒート-レース結果表（貼付）'!A35="DQ"),'[1]予選ヒート-レース結果表（貼付）'!A35,IF(MAX('[1]予選ヒート-レース結果表（貼付）'!A:A)>A45,A45+1,"")) | B46: =IFERROR(INDEX('[1]予選ヒート-レース結果表（貼付）'!A35:$Z$50,MATCH($A46,'[1]予選ヒート-レース結果表（貼付）'!A35:$A$50,0),MATCH('[1]公式予選（TT）-結果表（印刷）'!B$11,'[1]予選ヒート-レース結果表（貼付）'!$1:$1,0)),"") | C46: =IF(IFERROR(INDEX('[1]予選ヒート-レース結果表（貼付）'!$A:$Z,MATCH($B46,'[1]予選ヒート-レース結果表（貼付）'!$B:$B,0),MATCH(C$11,'[1]予選ヒート-レース結果表（貼付）'!$1:$1,0)),"")=0,"",IFERROR(INDEX('[1]予選ヒート-レース結果表（貼付）'!$A:$Z,MATCH($B46,'[1]予選ヒート-レース結果表（貼付）'!$B:$B,0),MATCH(C$11,'[1]予選ヒート-レース結果表（貼付）'!$1:$1,0)),"")) | D46: =IF(C46="","",IF(A46="","",COUNTIF($C$13:C46,C46))) | E46: =IFERROR(INDEX('[1]予選ヒート-レース結果表（貼付）'!$A:$Z,MATCH($B46,'[1]予選ヒート-レース結果表（貼付）'!$B:$B,0),MATCH('予選ヒート-レース結果表'!E$11,'[1]予選ヒート-レース結果表（貼付）'!$1:$1,0)),"") | F46: =IFERROR(INDEX('[1]予選ヒート-レース結果表（貼付）'!$A:$Z,MATCH($B46,'[1]予選ヒート-レース結果表（貼付）'!$B:$B,0),MATCH('予選ヒート-レース結果表'!F$11,'[1]予選ヒート-レース結果表（貼付）'!$1:$1,0)),"") | G46: =IFERROR(INDEX('[1]予選ヒート-レース結果表（貼付）'!$A:$Z,MATCH($B46,'[1]予選ヒート-レース結果表（貼付）'!$B:$B,0),MATCH('予選ヒート-レース結果表'!G$11,'[1]予選ヒート-レース結果表（貼付）'!$1:$1,0)),"") | H46: =IFERROR(INDEX('[1]予選ヒート-レース結果表（貼付）'!$A:$Z,MATCH($B46,'[1]予選ヒート-レース結果表（貼付）'!$B:$B,0),MATCH('予選ヒート-レース結果表'!H$11,'[1]予選ヒート-レース結果表（貼付）'!$1:$1,0)),"") | I46: =IFERROR(INDEX('[1]予選ヒート-レース結果表（貼付）'!$A:$Z,MATCH($B46,'[1]予選ヒート-レース結果表（貼付）'!$B:$B,0),MATCH('予選ヒート-レース結果表'!I$11,'[1]予選ヒート-レース結果表（貼付）'!$1:$1,0)),"") | J46: =IFERROR(IF(A46="DNS","ｽﾀｰﾄ出来ず",IF(A46="DQ","失 格",INDEX('[1]予選ヒート-レース結果表（貼付）'!$A:$Z,MATCH($B46,'[1]予選ヒート-レース結果表（貼付）'!$B:$B,0),MATCH('予選ヒート-レース結果表'!J$11,'[1]予選ヒート-レース結果表（貼付）'!$1:$1,0)))),"") | K46: =IFERROR(IF(A46="DNS","",IF(A46="DQ","",INDEX('[1]予選ヒート-レース結果表（貼付）'!$A:$Z,MATCH($B46,'[1]予選ヒート-レース結果表（貼付）'!$B:$B,0),MATCH('予選ヒート-レース結果表'!K$11,'[1]予選ヒート-レース結果表（貼付）'!$1:$1,0)))),"") | L46: =IFERROR(IF(A46="DNS","",IF(A46="DQ","",INDEX('[1]予選ヒート-レース結果表（貼付）'!$A:$Z,MATCH($B46,'[1]予選ヒート-レース結果表（貼付）'!$B:$B,0),MATCH('予選ヒート-レース結果表'!L$11,'[1]予選ヒート-レース結果表（貼付）'!$1:$1,0)))),"") | M46: =IFERROR(IF(A46="DNS","",IF(A46="DQ","",INDEX('[1]予選ヒート-レース結果表（貼付）'!$A:$Z,MATCH($B46,'[1]予選ヒート-レース結果表（貼付）'!$B:$B,0),MATCH('予選ヒート-レース結果表'!M$11,'[1]予選ヒート-レース結果表（貼付）'!$1:$1,0)))),"") | N46: =IF(M46<1,"",IF($N$11>M46,"R","")) | Q46: =IF(IFERROR(INDEX('[1]予選ヒート-レース結果表（貼付）'!$A:$Z,MATCH($B46,'[1]予選ヒート-レース結果表（貼付）'!$B:$B,0),MATCH(Q$11,'[1]予選ヒート-レース結果表（貼付）'!$1:$1,0)),"")=0,"",IFERROR(INDEX('[1]予選ヒート-レース結果表（貼付）'!$A:$Z,MATCH($B46,'[1]予選ヒート-レース結果表（貼付）'!$B:$B,0),MATCH(Q$11,'[1]予選ヒート-レース結果表（貼付）'!$1:$1,0)),"")) | R46: =IF(Q46="","",COUNTIF($Q$13:Q46,"<>"&"")) | S46: =IFERROR(RANK(R46,$R$13:$R$46,1),"") | T46: =IF(IFERROR(INDEX('[1]予選ヒート-レース結果表（貼付）'!$A:$Z,MATCH($A46,'[1]予選ヒート-レース結果表（貼付）'!$A:$A,0),MATCH(T$11,'[1]予選ヒート-レース結果表（貼付）'!$1:$1,0)),"")=0,"",IFERROR(INDEX('[1]予選ヒート-レース結果表（貼付）'!$A:$Z,MATCH($A46,'[1]予選ヒート-レース結果表（貼付）'!$A:$A,0),MATCH(T$11,'[1]予選ヒート-レース結果表（貼付）'!$1:$1,0)),"")) | U46: =IF(IFERROR(INDEX('[1]予選ヒート-レース結果表（貼付）'!$A:$Z,MATCH($B46,'[1]予選ヒート-レース結果表（貼付）'!$B:$B,0),MATCH(U$11,'[1]予選ヒート-レース結果表（貼付）'!$1:$1,0)),"")=0,"",IFERROR(INDEX('[1]予選ヒート-レース結果表（貼付）'!$A:$Z,MATCH($B46,'[1]予選ヒート-レース結果表（貼付）'!$B:$B,0),MATCH(U$11,'[1]予選ヒート-レース結果表（貼付）'!$1:$1,0)),""))
A48: Fastest Lap | E48: ="No."&IFERROR(INDEX($A11:$Z46,MATCH($J$48,$U$11:$U$46,0),MATCH("No.",$11:$11,0)),"")&" "&IFERROR(INDEX($A11:$Z46,MATCH($J$48,$U$11:$U$46,0),MATCH("名前",$11:$11,0)),"") -> No.73 豊島 里空斗 | F48: =IFERROR(INDEX($A11:$Z46,MATCH($J$48,$U$11:$U$46,0),MATCH("team",$11:$11,0)),"") -> HRTwithｶﾛｰﾗ新茨城CSI Racing | G48: =1.264/MAX($U:$U)*3600 -> 48.980119 | I48: =INDEX('[1]予選ヒート-レース結果表（貼付）'!$A:$Z,MATCH(INDEX($A11:$Z44,MATCH($J$48,$U$12:$U$44,0),MATCH("No.",$11:$11,0)),'[1]予選ヒート-レース結果表（貼付）'!$B:$B,0),MATCH("In Lap",'[1]予選ヒート-レース結果表（貼付）'!$1:$1,0))&"/"&IFERROR(INDEX($A11:$Z44,MATCH($J$48,$U$12:$U$44,0),MATCH("laps",$11:$11,0)),"") -> 8/10 | J48: =MAX($U:$U) -> 92.903 | K48: km/h
A50: =IF(COUNTIF(N:N,"R")>=1,"""R"" マークの車は、コースレコードを更新しました。従来のレコードタイムは"&" "&N11,"")
A52: =IF(A53="","","ﾍﾟﾅﾙﾃｨ") -> ﾍﾟﾅﾙﾃｨ
A53: =IF(MAX(R13:R46)<1,"",1) -> 1 | B53: =IF(A53="","","No."&INDEX($A$11:$V$46,MATCH($A53,$S$11:$S$46,0),MATCH("No.",$11:$11,0))) -> No.2 | C53: =INDEX($A$11:$V$46,MATCH($A53,$S$11:$S$46,0),MATCH("コメント",$11:$11,0)) -> 鈴鹿選手権ｼﾘｰｽﾞ特別規則 競技車両規則第60条～2)(ﾌﾛﾝﾄﾌｪｱﾘﾝｸﾞ)違反により、5秒加算とした。
A54: =IF(A53<COUNTIF($S$12:$S$46,">"&0),A53+1,"") -> 2 | B54: =IF(A54="","","No."&INDEX($A$11:$V$46,MATCH($A54,$S$11:$S$46,0),MATCH("No.",$11:$11,0))) -> No.33 | C54: =INDEX($A$11:$V$46,MATCH($A54,$S$11:$S$46,0),MATCH("コメント",$11:$11,0)) -> 鈴鹿選手権ｼﾘｰｽﾞ特別規則 競技車両規則第60条～2)(ﾌﾛﾝﾄﾌｪｱﾘﾝｸﾞ)違反により、5秒加算とした。
A55: =IF(A54<COUNTIF($S$12:$S$46,">"&0),A54+1,"") | B55: =IF(A55="","","No."&INDEX($A$11:$V$46,MATCH($A55,$S$11:$S$46,0),MATCH("No.",$11:$11,0))) | C55: =INDEX($A$11:$V$46,MATCH($A55,$S$11:$S$46,0),MATCH("コメント",$11:$11,0))
A56: =IF(A55<COUNTIF($S$12:$S$46,">"&0),A55+1,"") | B56: =IF(A56="","","No."&INDEX($A$11:$V$46,MATCH($A56,$S$11:$S$46,0),MATCH("No.",$11:$11,0))) | C56: =INDEX($A$11:$V$46,MATCH($A56,$S$11:$S$46,0),MATCH("コメント",$11:$11,0))
A57: =IF(A56<COUNTIF($S$12:$S$46,">"&0),A56+1,"") | B57: =IF(A57="","","No."&INDEX($A$11:$V$46,MATCH($A57,$S$11:$S$46,0),MATCH("No.",$11:$11,0))) | C57: =INDEX($A$11:$V$46,MATCH($A57,$S$11:$S$46,0),MATCH("コメント",$11:$11,0)) | D57: {=IFERROR(INDEX(#REF!,SMALL(IF(#REF!<>"",ROW(#REF!)),ROW())),"")}
A58: =IF(A57<COUNTIF($S$12:$S$46,">"&0),A57+1,"") | B58: =IF(A58="","","No."&INDEX($A$11:$V$46,MATCH($A58,$S$11:$S$46,0),MATCH("No.",$11:$11,0))) | C58: =INDEX($A$11:$V$46,MATCH($A58,$S$11:$S$46,0),MATCH("コメント",$11:$11,0)) | D58: {=IFERROR(INDEX(#REF!,SMALL(IF(#REF!<>"",ROW(#REF!)),ROW())),"")}
A59: =IF(A58<COUNTIF($S$12:$S$46,">"&0),A58+1,"") | B59: =IF(A59="","","No."&INDEX($A$11:$V$46,MATCH($A59,$S$11:$S$46,0),MATCH("No.",$11:$11,0))) | C59: =INDEX($A$11:$V$46,MATCH($A59,$S$11:$S$46,0),MATCH("コメント",$11:$11,0)) | D59: {=IFERROR(INDEX(#REF!,SMALL(IF(#REF!<>"",ROW(#REF!)),ROW())),"")}
A60: =IF(A59<COUNTIF($S$12:$S$46,">"&0),A59+1,"") | B60: =IF(A60="","","No."&INDEX($A$11:$V$46,MATCH($A60,$S$11:$S$46,0),MATCH("No.",$11:$11,0))) | C60: =INDEX($A$11:$V$46,MATCH($A60,$S$11:$S$46,0),MATCH("コメント",$11:$11,0)) | D60: {=IFERROR(INDEX(#REF!,SMALL(IF(#REF!<>"",ROW(#REF!)),ROW())),"")}
A61: =IF(A60<COUNTIF($S$12:$S$46,">"&0),A60+1,"") | B61: =IF(A61="","","No."&INDEX($A$11:$V$46,MATCH($A61,$S$11:$S$46,0),MATCH("No.",$11:$11,0))) | C61: =INDEX($A$11:$V$46,MATCH($A61,$S$11:$S$46,0),MATCH("コメント",$11:$11,0))
A62: =IF(A61<COUNTIF($S$12:$S$46,">"&0),A61+1,"") | B62: =IF(A62="","","No."&INDEX($A$11:$V$46,MATCH($A62,$S$11:$S$46,0),MATCH("No.",$11:$11,0))) | C62: =INDEX($A$11:$V$46,MATCH($A62,$S$11:$S$46,0),MATCH("コメント",$11:$11,0))
A63: =IF(A62<COUNTIF($S$12:$S$46,">"&0),A62+1,"") | B63: =IF(A63="","","No."&INDEX($A$11:$V$46,MATCH($A63,$S$11:$S$46,0),MATCH("No.",$11:$11,0))) | C63: =INDEX($A$11:$V$46,MATCH($A63,$S$11:$S$46,0),MATCH("コメント",$11:$11,0))
C65: ="審査委員長 ："&" "&[1]各種設定!$D$20 -> 審査委員長 ： Hideyuki KOMIYAMA
Q80: Rマークの車は、コースレコードを更新しました。従来のレコードタイムは 53.936
