Workbook

Sheet 2ndヒート - レース暫定結果表
I6: =+[1]各種設定!D18 -> 44759 | K6: :
A7: =+[1]各種設定!D2 -> 2022 鈴鹿選手権シリーズ第4戦 ｶｰﾄﾚｰｽ IN SUZUKA | J7: WEATHER: | K7: Fine
J8: COURSE : | K8: Dry
A9: =+[1]各種設定!D4 -> SUPER SS | L9: 国際南コース 1.264Km
A10: セカンドチャンスヒート結果表
B11: No. | C11: クラス | D11: 名前 | E11: Model/Engine | F11: Team | G11: Tires | H11: Laps | I11: Total Time | J11: 差 | K11: GAP | L11: BestLap | M11: =VLOOKUP(A9,[1]コースレコード!$A:$G,3,FALSE) -> 54.706 | P11: コメント | R11: ペナルティNo. | S11: グリッドコメント | U11: ベスト平均時速
A12: Pos. | B12: No. | D12: Driver | E12: Type | F12: Team | G12: Tire | H12: Laps | I12: Total Time | J12: Delay | K12: Gap | L12: Best
A13: 1 | B13: =IFERROR(INDEX('[1]2ndヒート - レース結果（貼付）'!A2:$Z$50,MATCH($A13,'[1]2ndヒート - レース結果（貼付）'!A2:$A$50,0),MATCH('2ndヒート - レース暫定結果表'!B$11,'[1]2ndヒート - レース結果（貼付）'!$1:$1,0)),"") -> 16 | D13: =IFERROR(INDEX('[1]2ndヒート - レース結果（貼付）'!$A:$Z,MATCH($B13,'[1]2ndヒート - レース結果（貼付）'!$B:$B,0),MATCH('2ndヒート - レース暫定結果表'!D$11,'[1]2ndヒート - レース結果（貼付）'!$1:$1,0)),"") -> 小辻 隼人 | E13: =IFERROR(INDEX('[1]2ndヒート - レース結果（貼付）'!$A:$Z,MATCH($B13,'[1]2ndヒート - レース結果（貼付）'!$B:$B,0),MATCH('2ndヒート - レース暫定結果表'!E$11,'[1]2ndヒート - レース結果（貼付）'!$1:$1,0)),"") -> CL/YAMAHA | F13: =IFERROR(INDEX('[1]2ndヒート - レース結果（貼付）'!$A:$Z,MATCH($B13,'[1]2ndヒート - レース結果（貼付）'!$B:$B,0),MATCH('2ndヒート - レース暫定結果表'!F$11,'[1]2ndヒート - レース結果（貼付）'!$1:$1,0)),"") -> TIGRE | G13: =IFERROR(INDEX('[1]2ndヒート - レース結果（貼付）'!$A:$Z,MATCH($B13,'[1]2ndヒート - レース結果（貼付）'!$B:$B,0),MATCH('2ndヒート - レース暫定結果表'!G$11,'[1]2ndヒート - レース結果（貼付）'!$1:$1,0)),"") -> BS | H13: =IFERROR(INDEX('[1]2ndヒート - レース結果（貼付）'!$A:$Z,MATCH($B13,'[1]2ndヒート - レース結果（貼付）'!$B:$B,0),MATCH('2ndヒート - レース暫定結果表'!H$11,'[1]2ndヒート - レース結果（貼付）'!$1:$1,0)),"") -> 6 | I13: =IFERROR(INDEX('[1]2ndヒート - レース結果（貼付）'!$A:$Z,MATCH($B13,'[1]2ndヒート - レース結果（貼付）'!$B:$B,0),MATCH('2ndヒート - レース暫定結果表'!I$11,'[1]2ndヒート - レース結果（貼付）'!$1:$1,0)),"") -> 0.0040153472 | J13: =ROUND((1.264*H13)/(I13*24),2)&"km/h" -> 78.7km/h | L13: =IFERROR(INDEX('[1]2ndヒート - レース結果（貼付）'!$A:$Z,MATCH($B13,'[1]2ndヒート - レース結果（貼付）'!$B:$B,0),MATCH('2ndヒート - レース暫定結果表'!L$11,'[1]2ndヒート - レース結果（貼付）'!$1:$1,0)),"") -> 57.296 | M13: =IF(L13<1,"",IF($M$11>L13,"R","")) | P13: =IF(IFERROR(INDEX('[1]2ndヒート - レース結果（貼付）'!$A:$Z,MATCH($B13,'[1]2ndヒート - レース結果（貼付）'!$B:$B,0),MATCH('2ndヒート - レース暫定結果表'!P$11,'[1]2ndヒート - レース結果（貼付）'!$1:$1,0)),"")=0,"",IFERROR(INDEX('[1]2ndヒート - レース結果（貼付）'!$A:$Z,MATCH($B13,'[1]2ndヒート - レース結果（貼付）'!$B:$B,0),MATCH('2ndヒート - レース暫定結果表'!P$11,'[1]2ndヒート - レース結果（貼付）'!$1:$1,0)),"")) | Q13: =IF(P13="","",COUNTIF($P$13:P13,"<>"&"")) | R13: =IFERROR(RANK(Q13,$Q$13:$Q$49,1),"") | S13: =IF(IFERROR(INDEX('[1]2ndヒート - レース結果（貼付）'!$A:$Z,MATCH($A13,'[1]2ndヒート - レース結果（貼付）'!$A:$A,0),MATCH('2ndヒート - レース暫定結果表'!S$11,'[1]2ndヒート - レース結果（貼付）'!$1:$1,0)),"")=0,"",IFERROR(INDEX('[1]2ndヒート - レース結果（貼付）'!$A:$Z,MATCH($A13,'[1]2ndヒート - レース結果（貼付）'!$A:$A,0),MATCH('2ndヒート - レース暫定結果表'!S$11,'[1]2ndヒート - レース結果（貼付）'!$1:$1,0)),"")) | U13: =IF(IFERROR(INDEX('[1]2ndヒート - レース結果（貼付）'!$A:$Z,MATCH($B13,'[1]2ndヒート - レース結果（貼付）'!$B:$B,0),MATCH('2ndヒート - レース暫定結果表'!U$11,'[1]2ndヒート - レース結果（貼付）'!$1:$1,0)),"")=0,"",IFERROR(INDEX('[1]2ndヒート - レース結果（貼付）'!$A:$Z,MATCH($B13,'[1]2ndヒート - レース結果（貼付）'!$B:$B,0),MATCH('2ndヒート - レース暫定結果表'!U$11,'[1]2ndヒート - レース結果（貼付）'!$1:$1,0)),"")) -> 79.419
A14: =IF(OR('[1]2ndヒート - レース結果（貼付）'!A3="DNF",'[1]2ndヒート - レース結果（貼付）'!A3="DNS",'[1]2ndヒート - レース結果（貼付）'!A3="DQ"),'[1]2ndヒート - レース結果（貼付）'!A3,IF(MAX('[1]2ndヒート - レース結果（貼付）'!A:A)>A13,A13+1,"")) -> 2 | B14: =IFERROR(INDEX('[1]2ndヒート - レース結果（貼付）'!A3:$Z$50,MATCH($A14,'[1]2ndヒート - レース結果（貼付）'!A3:$A$50,0),MATCH('2ndヒート - レース暫定結果表'!B$11,'[1]2ndヒート - レース結果（貼付）'!$1:$1,0)),"") -> 95 | D14: =IFERROR(INDEX('[1]2ndヒート - レース結果（貼付）'!$A:$Z,MATCH($B14,'[1]2ndヒート - レース結果（貼付）'!$B:$B,0),MATCH('2ndヒート - レース暫定結果表'!D$11,'[1]2ndヒート - レース結果（貼付）'!$1:$1,0)),"") -> 横田 隆二郎 | E14: =IFERROR(INDEX('[1]2ndヒート - レース結果（貼付）'!$A:$Z,MATCH($B14,'[1]2ndヒート - レース結果（貼付）'!$B:$B,0),MATCH('2ndヒート - レース暫定結果表'!E$11,'[1]2ndヒート - レース結果（貼付）'!$1:$1,0)),"") -> MACH1/YAMAHA | F14: =IFERROR(INDEX('[1]2ndヒート - レース結果（貼付）'!$A:$Z,MATCH($B14,'[1]2ndヒート - レース結果（貼付）'!$B:$B,0),MATCH('2ndヒート - レース暫定結果表'!F$11,'[1]2ndヒート - レース結果（貼付）'!$1:$1,0)),"") -> F's CLUB | G14: =IFERROR(INDEX('[1]2ndヒート - レース結果（貼付）'!$A:$Z,MATCH($B14,'[1]2ndヒート - レース結果（貼付）'!$B:$B,0),MATCH('2ndヒート - レース暫定結果表'!G$11,'[1]2ndヒート - レース結果（貼付）'!$1:$1,0)),"") -> BS | H14: =IF(A14="DNS","",IF(A14="DQ","",IFERROR(INDEX('[1]2ndヒート - レース結果（貼付）'!$A:$Z,MATCH($B14,'[1]2ndヒート - レース結果（貼付）'!$B:$B,0),MATCH('2ndヒート - レース暫定結果表'!H$11,'[1]2ndヒート - レース結果（貼付）'!$1:$1,0)),""))) -> 6 | I14: =IF(A14="DNS","ｽﾀｰﾄ出来ず",IF(A14="DQ","失 格",IFERROR(INDEX('[1]2ndヒート - レース結果（貼付）'!$A:$Z,MATCH($B14,'[1]2ndヒート - レース結果（貼付）'!$B:$B,0),MATCH('2ndヒート - レース暫定結果表'!I$11,'[1]2ndヒート - レース結果（貼付）'!$1:$1,0)),""))) -> 0.0040238773 | J14: =IF(A14="DNS","",IF(A14="DQ","",IFERROR(INDEX('[1]2ndヒート - レース結果（貼付）'!$A:$Z,MATCH($B14,'[1]2ndヒート - レース結果（貼付）'!$B:$B,0),MATCH('2ndヒート - レース暫定結果表'!J$11,'[1]2ndヒート - レース結果（貼付）'!$1:$1,0)),""))) -> 0.737 | K14: =IF(A14="DNS","",IF(A14="DQ","",IFERROR(INDEX('[1]2ndヒート - レース結果（貼付）'!$A:$Z,MATCH($B14,'[1]2ndヒート - レース結果（貼付）'!$B:$B,0),MATCH('2ndヒート - レース暫定結果表'!K$11,'[1]2ndヒート - レース結果（貼付）'!$1:$1,0)),""))) -> 0.737 | L14: =IF(A14="DNS","",IF(A14="DQ","",IFERROR(INDEX('[1]2ndヒート - レース結果（貼付）'!$A:$Z,MATCH($B14,'[1]2ndヒート - レース結果（貼付）'!$B:$B,0),MATCH('2ndヒート - レース暫定結果表'!L$11,'[1]2ndヒート - レース結果（貼付）'!$1:$1,0)),""))) -> 57.341 | M14: =IF(L14<1,"",IF($M$11>L14,"R","")) | P14: =IF(IFERROR(INDEX('[1]2ndヒート - レース結果（貼付）'!$A:$Z,MATCH($A14,'[1]2ndヒート - レース結果（貼付）'!$A:$A,0),MATCH('2ndヒート - レース暫定結果表'!P$11,'[1]2ndヒート - レース結果（貼付）'!$1:$1,0)),"")=0,"",IFERROR(INDEX('[1]2ndヒート - レース結果（貼付）'!$A:$Z,MATCH($A14,'[1]2ndヒート - レース結果（貼付）'!$A:$A,0),MATCH('2ndヒート - レース暫定結果表'!P$11,'[1]2ndヒート - レース結果（貼付）'!$1:$1,0)),"")) | Q14: =IF(P14="","",COUNTIF($P$13:P14,"<>"&"")) | R14: =IFERROR(RANK(Q14,$Q$13:$Q$49,1),"") | S14: =IF(IFERROR(INDEX('[1]2ndヒート - レース結果（貼付）'!$A:$Z,MATCH($A14,'[1]2ndヒート - レース結果（貼付）'!$A:$A,0),MATCH('2ndヒート - レース暫定結果表'!S$11,'[1]2ndヒート - レース結果（貼付）'!$1:$1,0)),"")=0,"",IFERROR(INDEX('[1]2ndヒート - レース結果（貼付）'!$A:$Z,MATCH($A14,'[1]2ndヒート - レース結果（貼付）'!$A:$A,0),MATCH('2ndヒート - レース暫定結果表'!S$11,'[1]2ndヒート - レース結果（貼付）'!$1:$1,0)),"")) | U14: =IF(IFERROR(INDEX('[1]2ndヒート - レース結果（貼付）'!$A:$Z,MATCH($B14,'[1]2ndヒート - レース結果（貼付）'!$B:$B,0),MATCH('2ndヒート - レース暫定結果表'!U$11,'[1]2ndヒート - レース結果（貼付）'!$1:$1,0)),"")=0,"",IFERROR(INDEX('[1]2ndヒート - レース結果（貼付）'!$A:$Z,MATCH($B14,'[1]2ndヒート - レース結果（貼付）'!$B:$B,0),MATCH('2ndヒート - レース暫定結果表'!U$11,'[1]2ndヒート - レース結果（貼付）'!$1:$1,0)),"")) -> 79.357
A15: =IF(OR('[1]2ndヒート - レース結果（貼付）'!A4="DNF",'[1]2ndヒート - レース結果（貼付）'!A4="DNS",'[1]2ndヒート - レース結果（貼付）'!A4="DQ"),'[1]2ndヒート - レース結果（貼付）'!A4,IF(MAX('[1]2ndヒート - レース結果（貼付）'!A:A)>A14,A14+1,"")) -> 3 | B15: =IFERROR(INDEX('[1]2ndヒート - レース結果（貼付）'!A4:$Z$50,MATCH($A15,'[1]2ndヒート - レース結果（貼付）'!A4:$A$50,0),MATCH('2ndヒート - レース暫定結果表'!B$11,'[1]2ndヒート - レース結果（貼付）'!$1:$1,0)),"") -> 57 | D15: =IFERROR(INDEX('[1]2ndヒート - レース結果（貼付）'!$A:$Z,MATCH($B15,'[1]2ndヒート - レース結果（貼付）'!$B:$B,0),MATCH('2ndヒート - レース暫定結果表'!D$11,'[1]2ndヒート - レース結果（貼付）'!$1:$1,0)),"") -> 江崎 昭彦 | E15: =IFERROR(INDEX('[1]2ndヒート - レース結果（貼付）'!$A:$Z,MATCH($B15,'[1]2ndヒート - レース結果（貼付）'!$B:$B,0),MATCH('2ndヒート - レース暫定結果表'!E$11,'[1]2ndヒート - レース結果（貼付）'!$1:$1,0)),"") -> KOSMIC/YAMAHA | F15: =IFERROR(INDEX('[1]2ndヒート - レース結果（貼付）'!$A:$Z,MATCH($B15,'[1]2ndヒート - レース結果（貼付）'!$B:$B,0),MATCH('2ndヒート - レース暫定結果表'!F$11,'[1]2ndヒート - レース結果（貼付）'!$1:$1,0)),"") -> Ash | G15: =IFERROR(INDEX('[1]2ndヒート - レース結果（貼付）'!$A:$Z,MATCH($B15,'[1]2ndヒート - レース結果（貼付）'!$B:$B,0),MATCH('2ndヒート - レース暫定結果表'!G$11,'[1]2ndヒート - レース結果（貼付）'!$1:$1,0)),"") -> BS | H15: =IF(A15="DNS","",IF(A15="DQ","",IFERROR(INDEX('[1]2ndヒート - レース結果（貼付）'!$A:$Z,MATCH($B15,'[1]2ndヒート - レース結果（貼付）'!$B:$B,0),MATCH('2ndヒート - レース暫定結果表'!H$11,'[1]2ndヒート - レース結果（貼付）'!$1:$1,0)),""))) -> 6 | I15: =IF(A15="DNS","ｽﾀｰﾄ出来ず",IF(A15="DQ","失 格",IFERROR(INDEX('[1]2ndヒート - レース結果（貼付）'!$A:$Z,MATCH($B15,'[1]2ndヒート - レース結果（貼付）'!$B:$B,0),MATCH('2ndヒート - レース暫定結果表'!I$11,'[1]2ndヒート - レース結果（貼付）'!$1:$1,0)),""))) -> 0.0040270023 | J15: =IF(A15="DNS","",IF(A15="DQ","",IFERROR(INDEX('[1]2ndヒート - レース結果（貼付）'!$A:$Z,MATCH($B15,'[1]2ndヒート - レース結果（貼付）'!$B:$B,0),MATCH('2ndヒート - レース暫定結果表'!J$11,'[1]2ndヒート - レース結果（貼付）'!$1:$1,0)),""))) -> 1.007 | K15: =IF(A15="DNS","",IF(A15="DQ","",IFERROR(INDEX('[1]2ndヒート - レース結果（貼付）'!$A:$Z,MATCH($B15,'[1]2ndヒート - レース結果（貼付）'!$B:$B,0),MATCH('2ndヒート - レース暫定結果表'!K$11,'[1]2ndヒート - レース結果（貼付）'!$1:$1,0)),""))) -> 0.27 | L15: =IF(A15="DNS","",IF(A15="DQ","",IFERROR(INDEX('[1]2ndヒート - レース結果（貼付）'!$A:$Z,MATCH($B15,'[1]2ndヒート - レース結果（貼付）'!$B:$B,0),MATCH('2ndヒート - レース暫定結果表'!L$11,'[1]2ndヒート - レース結果（貼付）'!$1:$1,0)),""))) -> 57.163 | M15: =IF(L15<1,"",IF($M$11>L15,"R","")) | P15: =IF(IFERROR(INDEX('[1]2ndヒート - レース結果（貼付）'!$A:$Z,MATCH($A15,'[1]2ndヒート - レース結果（貼付）'!$A:$A,0),MATCH('2ndヒート - レース暫定結果表'!P$11,'[1]2ndヒート - レース結果（貼付）'!$1:$1,0)),"")=0,"",IFERROR(INDEX('[1]2ndヒート - レース結果（貼付）'!$A:$Z,MATCH($A15,'[1]2ndヒート - レース結果（貼付）'!$A:$A,0),MATCH('2ndヒート - レース暫定結果表'!P$11,'[1]2ndヒート - レース結果（貼付）'!$1:$1,0)),"")) | Q15: =IF(P15="","",COUNTIF($P$13:P15,"<>"&"")) | R15: =IFERROR(RANK(Q15,$Q$13:$Q$49,1),"") | S15: =IF(IFERROR(INDEX('[1]2ndヒート - レース結果（貼付）'!$A:$Z,MATCH($A15,'[1]2ndヒート - レース結果（貼付）'!$A:$A,0),MATCH('2ndヒート - レース暫定結果表'!S$11,'[1]2ndヒート - レース結果（貼付）'!$1:$1,0)),"")=0,"",IFERROR(INDEX('[1]2ndヒート - レース結果（貼付）'!$A:$Z,MATCH($A15,'[1]2ndヒート - レース結果（貼付）'!$A:$A,0),MATCH('2ndヒート - レース暫定結果表'!S$11,'[1]2ndヒート - レース結果（貼付）'!$1:$1,0)),"")) | U15: =IF(IFERROR(INDEX('[1]2ndヒート - レース結果（貼付）'!$A:$Z,MATCH($B15,'[1]2ndヒート - レース結果（貼付）'!$B:$B,0),MATCH('2ndヒート - レース暫定結果表'!U$11,'[1]2ndヒート - レース結果（貼付）'!$1:$1,0)),"")=0,"",IFERROR(INDEX('[1]2ndヒート - レース結果（貼付）'!$A:$Z,MATCH($B15,'[1]2ndヒート - レース結果（貼付）'!$B:$B,0),MATCH('2ndヒート - レース暫定結果表'!U$11,'[1]2ndヒート - レース結果（貼付）'!$1:$1,0)),"")) -> 79.604
A16: =IF(OR('[1]2ndヒート - レース結果（貼付）'!A5="DNF",'[1]2ndヒート - レース結果（貼付）'!A5="DNS",'[1]2ndヒート - レース結果（貼付）'!A5="DQ"),'[1]2ndヒート - レース結果（貼付）'!A5,IF(MAX('[1]2ndヒート - レース結果（貼付）'!A:A)>A15,A15+1,"")) -> 4 | B16: =IFERROR(INDEX('[1]2ndヒート - レース結果（貼付）'!A5:$Z$50,MATCH($A16,'[1]2ndヒート - レース結果（貼付）'!A5:$A$50,0),MATCH('2ndヒート - レース暫定結果表'!B$11,'[1]2ndヒート - レース結果（貼付）'!$1:$1,0)),"") -> 14 | D16: =IFERROR(INDEX('[1]2ndヒート - レース結果（貼付）'!$A:$Z,MATCH($B16,'[1]2ndヒート - レース結果（貼付）'!$B:$B,0),MATCH('2ndヒート - レース暫定結果表'!D$11,'[1]2ndヒート - レース結果（貼付）'!$1:$1,0)),"") -> 辻本 稔 | E16: =IFERROR(INDEX('[1]2ndヒート - レース結果（貼付）'!$A:$Z,MATCH($B16,'[1]2ndヒート - レース結果（貼付）'!$B:$B,0),MATCH('2ndヒート - レース暫定結果表'!E$11,'[1]2ndヒート - レース結果（貼付）'!$1:$1,0)),"") -> MACH1/YAMAHA | F16: =IFERROR(INDEX('[1]2ndヒート - レース結果（貼付）'!$A:$Z,MATCH($B16,'[1]2ndヒート - レース結果（貼付）'!$B:$B,0),MATCH('2ndヒート - レース暫定結果表'!F$11,'[1]2ndヒート - レース結果（貼付）'!$1:$1,0)),"") -> ｻｰﾃｨｰｽﾞﾚｰｼﾝｸﾞ | G16: =IFERROR(INDEX('[1]2ndヒート - レース結果（貼付）'!$A:$Z,MATCH($B16,'[1]2ndヒート - レース結果（貼付）'!$B:$B,0),MATCH('2ndヒート - レース暫定結果表'!G$11,'[1]2ndヒート - レース結果（貼付）'!$1:$1,0)),"") -> BS | H16: =IF(A16="DNS","",IF(A16="DQ","",IFERROR(INDEX('[1]2ndヒート - レース結果（貼付）'!$A:$Z,MATCH($B16,'[1]2ndヒート - レース結果（貼付）'!$B:$B,0),MATCH('2ndヒート - レース暫定結果表'!H$11,'[1]2ndヒート - レース結果（貼付）'!$1:$1,0)),""))) -> 6 | I16: =IF(A16="DNS","ｽﾀｰﾄ出来ず",IF(A16="DQ","失 格",IFERROR(INDEX('[1]2ndヒート - レース結果（貼付）'!$A:$Z,MATCH($B16,'[1]2ndヒート - レース結果（貼付）'!$B:$B,0),MATCH('2ndヒート - レース暫定結果表'!I$11,'[1]2ndヒート - レース結果（貼付）'!$1:$1,0)),""))) -> 0.0040298032 | J16: =IF(A16="DNS","",IF(A16="DQ","",IFERROR(INDEX('[1]2ndヒート - レース結果（貼付）'!$A:$Z,MATCH($B16,'[1]2ndヒート - レース結果（貼付）'!$B:$B,0),MATCH('2ndヒート - レース暫定結果表'!J$11,'[1]2ndヒート - レース結果（貼付）'!$1:$1,0)),""))) -> 1.249 | K16: =IF(A16="DNS","",IF(A16="DQ","",IFERROR(INDEX('[1]2ndヒート - レース結果（貼付）'!$A:$Z,MATCH($B16,'[1]2ndヒート - レース結果（貼付）'!$B:$B,0),MATCH('2ndヒート - レース暫定結果表'!K$11,'[1]2ndヒート - レース結果（貼付）'!$1:$1,0)),""))) -> 0.242 | L16: =IF(A16="DNS","",IF(A16="DQ","",IFERROR(INDEX('[1]2ndヒート - レース結果（貼付）'!$A:$Z,MATCH($B16,'[1]2ndヒート - レース結果（貼付）'!$B:$B,0),MATCH('2ndヒート - レース暫定結果表'!L$11,'[1]2ndヒート - レース結果（貼付）'!$1:$1,0)),""))) -> 57.385 | M16: =IF(L16<1,"",IF($M$11>L16,"R","")) | P16: =IF(IFERROR(INDEX('[1]2ndヒート - レース結果（貼付）'!$A:$Z,MATCH($A16,'[1]2ndヒート - レース結果（貼付）'!$A:$A,0),MATCH('2ndヒート - レース暫定結果表'!P$11,'[1]2ndヒート - レース結果（貼付）'!$1:$1,0)),"")=0,"",IFERROR(INDEX('[1]2ndヒート - レース結果（貼付）'!$A:$Z,MATCH($A16,'[1]2ndヒート - レース結果（貼付）'!$A:$A,0),MATCH('2ndヒート - レース暫定結果表'!P$11,'[1]2ndヒート - レース結果（貼付）'!$1:$1,0)),"")) | Q16: =IF(P16="","",COUNTIF($P$13:P16,"<>"&"")) | R16: =IFERROR(RANK(Q16,$Q$13:$Q$49,1),"") | S16: =IF(IFERROR(INDEX('[1]2ndヒート - レース結果（貼付）'!$A:$Z,MATCH($A16,'[1]2ndヒート - レース結果（貼付）'!$A:$A,0),MATCH('2ndヒート - レース暫定結果表'!S$11,'[1]2ndヒート - レース結果（貼付）'!$1:$1,0)),"")=0,"",IFERROR(INDEX('[1]2ndヒート - レース結果（貼付）'!$A:$Z,MATCH($A16,'[1]2ndヒート - レース結果（貼付）'!$A:$A,0),MATCH('2ndヒート - レース暫定結果表'!S$11,'[1]2ndヒート - レース結果（貼付）'!$1:$1,0)),"")) | U16: =IF(IFERROR(INDEX('[1]2ndヒート - レース結果（貼付）'!$A:$Z,MATCH($B16,'[1]2ndヒート - レース結果（貼付）'!$B:$B,0),MATCH('2ndヒート - レース暫定結果表'!U$11,'[1]2ndヒート - レース結果（貼付）'!$1:$1,0)),"")=0,"",IFERROR(INDEX('[1]2ndヒート - レース結果（貼付）'!$A:$Z,MATCH($B16,'[1]2ndヒート - レース結果（貼付）'!$B:$B,0),MATCH('2ndヒート - レース暫定結果表'!U$11,'[1]2ndヒート - レース結果（貼付）'!$1:$1,0)),"")) -> 79.296
A17: =IF(OR('[1]2ndヒート - レース結果（貼付）'!A6="DNF",'[1]2ndヒート - レース結果（貼付）'!A6="DNS",'[1]2ndヒート - レース結果（貼付）'!A6="DQ"),'[1]2ndヒート - レース結果（貼付）'!A6,IF(MAX('[1]2ndヒート - レース結果（貼付）'!A:A)>A16,A16+1,"")) -> 5 | B17: =IFERROR(INDEX('[1]2ndヒート - レース結果（貼付）'!A6:$Z$50,MATCH($A17,'[1]2ndヒート - レース結果（貼付）'!A6:$A$50,0),MATCH('2ndヒート - レース暫定結果表'!B$11,'[1]2ndヒート - レース結果（貼付）'!$1:$1,0)),"") -> 26 | D17: =IFERROR(INDEX('[1]2ndヒート - レース結果（貼付）'!$A:$Z,MATCH($B17,'[1]2ndヒート - レース結果（貼付）'!$B:$B,0),MATCH('2ndヒート - レース暫定結果表'!D$11,'[1]2ndヒート - レース結果（貼付）'!$1:$1,0)),"") -> 橋本 協一 | E17: =IFERROR(INDEX('[1]2ndヒート - レース結果（貼付）'!$A:$Z,MATCH($B17,'[1]2ndヒート - レース結果（貼付）'!$B:$B,0),MATCH('2ndヒート - レース暫定結果表'!E$11,'[1]2ndヒート - レース結果（貼付）'!$1:$1,0)),"") -> TECNO/YAMAHA | F17: =IFERROR(INDEX('[1]2ndヒート - レース結果（貼付）'!$A:$Z,MATCH($B17,'[1]2ndヒート - レース結果（貼付）'!$B:$B,0),MATCH('2ndヒート - レース暫定結果表'!F$11,'[1]2ndヒート - レース結果（貼付）'!$1:$1,0)),"") -> ｻｰﾃｨｰｽﾞﾚｰｼﾝｸﾞ | G17: =IFERROR(INDEX('[1]2ndヒート - レース結果（貼付）'!$A:$Z,MATCH($B17,'[1]2ndヒート - レース結果（貼付）'!$B:$B,0),MATCH('2ndヒート - レース暫定結果表'!G$11,'[1]2ndヒート - レース結果（貼付）'!$1:$1,0)),"") -> BS | H17: =IF(A17="DNS","",IF(A17="DQ","",IFERROR(INDEX('[1]2ndヒート - レース結果（貼付）'!$A:$Z,MATCH($B17,'[1]2ndヒート - レース結果（貼付）'!$B:$B,0),MATCH('2ndヒート - レース暫定結果表'!H$11,'[1]2ndヒート - レース結果（貼付）'!$1:$1,0)),""))) -> 6 | I17: =IF(A17="DNS","ｽﾀｰﾄ出来ず",IF(A17="DQ","失 格",IFERROR(INDEX('[1]2ndヒート - レース結果（貼付）'!$A:$Z,MATCH($B17,'[1]2ndヒート - レース結果（貼付）'!$B:$B,0),MATCH('2ndヒート - レース暫定結果表'!I$11,'[1]2ndヒート - レース結果（貼付）'!$1:$1,0)),""))) -> 0.004050625 | J17: =IF(A17="DNS","",IF(A17="DQ","",IFERROR(INDEX('[1]2ndヒート - レース結果（貼付）'!$A:$Z,MATCH($B17,'[1]2ndヒート - レース結果（貼付）'!$B:$B,0),MATCH('2ndヒート - レース暫定結果表'!J$11,'[1]2ndヒート - レース結果（貼付）'!$1:$1,0)),""))) -> 3.048 | K17: =IF(A17="DNS","",IF(A17="DQ","",IFERROR(INDEX('[1]2ndヒート - レース結果（貼付）'!$A:$Z,MATCH($B17,'[1]2ndヒート - レース結果（貼付）'!$B:$B,0),MATCH('2ndヒート - レース暫定結果表'!K$11,'[1]2ndヒート - レース結果（貼付）'!$1:$1,0)),""))) -> 1.799 | L17: =IF(A17="DNS","",IF(A17="DQ","",IFERROR(INDEX('[1]2ndヒート - レース結果（貼付）'!$A:$Z,MATCH($B17,'[1]2ndヒート - レース結果（貼付）'!$B:$B,0),MATCH('2ndヒート - レース暫定結果表'!L$11,'[1]2ndヒート - レース結果（貼付）'!$1:$1,0)),""))) -> 57.14 | M17: =IF(L17<1,"",IF($M$11>L17,"R","")) | P17: =IF(IFERROR(INDEX('[1]2ndヒート - レース結果（貼付）'!$A:$Z,MATCH($A17,'[1]2ndヒート - レース結果（貼付）'!$A:$A,0),MATCH('2ndヒート - レース暫定結果表'!P$11,'[1]2ndヒート - レース結果（貼付）'!$1:$1,0)),"")=0,"",IFERROR(INDEX('[1]2ndヒート - レース結果（貼付）'!$A:$Z,MATCH($A17,'[1]2ndヒート - レース結果（貼付）'!$A:$A,0),MATCH('2ndヒート - レース暫定結果表'!P$11,'[1]2ndヒート - レース結果（貼付）'!$1:$1,0)),"")) | Q17: =IF(P17="","",COUNTIF($P$13:P17,"<>"&"")) | R17: =IFERROR(RANK(Q17,$Q$13:$Q$49,1),"") | S17: =IF(IFERROR(INDEX('[1]2ndヒート - レース結果（貼付）'!$A:$Z,MATCH($A17,'[1]2ndヒート - レース結果（貼付）'!$A:$A,0),MATCH('2ndヒート - レース暫定結果表'!S$11,'[1]2ndヒート - レース結果（貼付）'!$1:$1,0)),"")=0,"",IFERROR(INDEX('[1]2ndヒート - レース結果（貼付）'!$A:$Z,MATCH($A17,'[1]2ndヒート - レース結果（貼付）'!$A:$A,0),MATCH('2ndヒート - レース暫定結果表'!S$11,'[1]2ndヒート - レース結果（貼付）'!$1:$1,0)),"")) | U17: =IF(IFERROR(INDEX('[1]2ndヒート - レース結果（貼付）'!$A:$Z,MATCH($B17,'[1]2ndヒート - レース結果（貼付）'!$B:$B,0),MATCH('2ndヒート - レース暫定結果表'!U$11,'[1]2ndヒート - レース結果（貼付）'!$1:$1,0)),"")=0,"",IFERROR(INDEX('[1]2ndヒート - レース結果（貼付）'!$A:$Z,MATCH($B17,'[1]2ndヒート - レース結果（貼付）'!$B:$B,0),MATCH('2ndヒート - レース暫定結果表'!U$11,'[1]2ndヒート - レース結果（貼付）'!$1:$1,0)),"")) -> 79.636
A18: =IF(OR('[1]2ndヒート - レース結果（貼付）'!A7="DNF",'[1]2ndヒート - レース結果（貼付）'!A7="DNS",'[1]2ndヒート - レース結果（貼付）'!A7="DQ"),'[1]2ndヒート - レース結果（貼付）'!A7,IF(MAX('[1]2ndヒート - レース結果（貼付）'!A:A)>A17,A17+1,"")) -> 6 | B18: =IFERROR(INDEX('[1]2ndヒート - レース結果（貼付）'!A7:$Z$50,MATCH($A18,'[1]2ndヒート - レース結果（貼付）'!A7:$A$50,0),MATCH('2ndヒート - レース暫定結果表'!B$11,'[1]2ndヒート - レース結果（貼付）'!$1:$1,0)),"") -> 90 | D18: =IFERROR(INDEX('[1]2ndヒート - レース結果（貼付）'!$A:$Z,MATCH($B18,'[1]2ndヒート - レース結果（貼付）'!$B:$B,0),MATCH('2ndヒート - レース暫定結果表'!D$11,'[1]2ndヒート - レース結果（貼付）'!$1:$1,0)),"") -> 竹中 敬之 | E18: =IFERROR(INDEX('[1]2ndヒート - レース結果（貼付）'!$A:$Z,MATCH($B18,'[1]2ndヒート - レース結果（貼付）'!$B:$B,0),MATCH('2ndヒート - レース暫定結果表'!E$11,'[1]2ndヒート - レース結果（貼付）'!$1:$1,0)),"") -> マッハワン/YAMAHA | F18: =IFERROR(INDEX('[1]2ndヒート - レース結果（貼付）'!$A:$Z,MATCH($B18,'[1]2ndヒート - レース結果（貼付）'!$B:$B,0),MATCH('2ndヒート - レース暫定結果表'!F$11,'[1]2ndヒート - レース結果（貼付）'!$1:$1,0)),"") -> ｻｰﾃｨｰｽﾞﾚｰｼﾝｸﾞ | G18: =IFERROR(INDEX('[1]2ndヒート - レース結果（貼付）'!$A:$Z,MATCH($B18,'[1]2ndヒート - レース結果（貼付）'!$B:$B,0),MATCH('2ndヒート - レース暫定結果表'!G$11,'[1]2ndヒート - レース結果（貼付）'!$1:$1,0)),"") -> BS | H18: =IF(A18="DNS","",IF(A18="DQ","",IFERROR(INDEX('[1]2ndヒート - レース結果（貼付）'!$A:$Z,MATCH($B18,'[1]2ndヒート - レース結果（貼付）'!$B:$B,0),MATCH('2ndヒート - レース暫定結果表'!H$11,'[1]2ndヒート - レース結果（貼付）'!$1:$1,0)),""))) -> 6 | I18: =IF(A18="DNS","ｽﾀｰﾄ出来ず",IF(A18="DQ","失 格",IFERROR(INDEX('[1]2ndヒート - レース結果（貼付）'!$A:$Z,MATCH($B18,'[1]2ndヒート - レース結果（貼付）'!$B:$B,0),MATCH('2ndヒート - レース暫定結果表'!I$11,'[1]2ndヒート - レース結果（貼付）'!$1:$1,0)),""))) -> 0.0040526157 | J18: =IF(A18="DNS","",IF(A18="DQ","",IFERROR(INDEX('[1]2ndヒート - レース結果（貼付）'!$A:$Z,MATCH($B18,'[1]2ndヒート - レース結果（貼付）'!$B:$B,0),MATCH('2ndヒート - レース暫定結果表'!J$11,'[1]2ndヒート - レース結果（貼付）'!$1:$1,0)),""))) -> 3.22 | K18: =IF(A18="DNS","",IF(A18="DQ","",IFERROR(INDEX('[1]2ndヒート - レース結果（貼付）'!$A:$Z,MATCH($B18,'[1]2ndヒート - レース結果（貼付）'!$B:$B,0),MATCH('2ndヒート - レース暫定結果表'!K$11,'[1]2ndヒート - レース結果（貼付）'!$1:$1,0)),""))) -> 0.172 | L18: =IF(A18="DNS","",IF(A18="DQ","",IFERROR(INDEX('[1]2ndヒート - レース結果（貼付）'!$A:$Z,MATCH($B18,'[1]2ndヒート - レース結果（貼付）'!$B:$B,0),MATCH('2ndヒート - レース暫定結果表'!L$11,'[1]2ndヒート - レース結果（貼付）'!$1:$1,0)),""))) -> 57.136 | M18: =IF(L18<1,"",IF($M$11>L18,"R","")) | P18: =IF(IFERROR(INDEX('[1]2ndヒート - レース結果（貼付）'!$A:$Z,MATCH($A18,'[1]2ndヒート - レース結果（貼付）'!$A:$A,0),MATCH('2ndヒート - レース暫定結果表'!P$11,'[1]2ndヒート - レース結果（貼付）'!$1:$1,0)),"")=0,"",IFERROR(INDEX('[1]2ndヒート - レース結果（貼付）'!$A:$Z,MATCH($A18,'[1]2ndヒート - レース結果（貼付）'!$A:$A,0),MATCH('2ndヒート - レース暫定結果表'!P$11,'[1]2ndヒート - レース結果（貼付）'!$1:$1,0)),"")) | Q18: =IF(P18="","",COUNTIF($P$13:P18,"<>"&"")) | R18: =IFERROR(RANK(Q18,$Q$13:$Q$49,1),"") | S18: =IF(IFERROR(INDEX('[1]2ndヒート - レース結果（貼付）'!$A:$Z,MATCH($A18,'[1]2ndヒート - レース結果（貼付）'!$A:$A,0),MATCH('2ndヒート - レース暫定結果表'!S$11,'[1]2ndヒート - レース結果（貼付）'!$1:$1,0)),"")=0,"",IFERROR(INDEX('[1]2ndヒート - レース結果（貼付）'!$A:$Z,MATCH($A18,'[1]2ndヒート - レース結果（貼付）'!$A:$A,0),MATCH('2ndヒート - レース暫定結果表'!S$11,'[1]2ndヒート - レース結果（貼付）'!$1:$1,0)),"")) | U18: =IF(IFERROR(INDEX('[1]2ndヒート - レース結果（貼付）'!$A:$Z,MATCH($B18,'[1]2ndヒート - レース結果（貼付）'!$B:$B,0),MATCH('2ndヒート - レース暫定結果表'!U$11,'[1]2ndヒート - レース結果（貼付）'!$1:$1,0)),"")=0,"",IFERROR(INDEX('[1]2ndヒート - レース結果（貼付）'!$A:$Z,MATCH($B18,'[1]2ndヒート - レース結果（貼付）'!$B:$B,0),MATCH('2ndヒート - レース暫定結果表'!U$11,'[1]2ndヒート - レース結果（貼付）'!$1:$1,0)),"")) -> 79.642
U19: =IF(IFERROR(INDEX('[1]2ndヒート - レース結果（貼付）'!$A:$Z,MATCH($B19,'[1]2ndヒート - レース結果（貼付）'!$B:$B,0),MATCH('2ndヒート - レース暫定結果表'!U$11,'[1]2ndヒート - レース結果（貼付）'!$1:$1,0)),"")=0,"",IFERROR(INDEX('[1]2ndヒート - レース結果（貼付）'!$A:$Z,MATCH($B19,'[1]2ndヒート - レース結果（貼付）'!$B:$B,0),MATCH('2ndヒート - レース暫定結果表'!U$11,'[1]2ndヒート - レース結果（貼付）'!$1:$1,0)),""))
A20: 以上：決勝ﾋｰﾄ進出 | U20: =IF(IFERROR(INDEX('[1]2ndヒート - レース結果（貼付）'!$A:$Z,MATCH($B20,'[1]2ndヒート - レース結果（貼付）'!$B:$B,0),MATCH('2ndヒート - レース暫定結果表'!U$11,'[1]2ndヒート - レース結果（貼付）'!$1:$1,0)),"")=0,"",IFERROR(INDEX('[1]2ndヒート - レース結果（貼付）'!$A:$Z,MATCH($B20,'[1]2ndヒート - レース結果（貼付）'!$B:$B,0),MATCH('2ndヒート - レース暫定結果表'!U$11,'[1]2ndヒート - レース結果（貼付）'!$1:$1,0)),""))
U21: =IF(IFERROR(INDEX('[1]2ndヒート - レース結果（貼付）'!$A:$Z,MATCH($B21,'[1]2ndヒート - レース結果（貼付）'!$B:$B,0),MATCH('2ndヒート - レース暫定結果表'!U$11,'[1]2ndヒート - レース結果（貼付）'!$1:$1,0)),"")=0,"",IFERROR(INDEX('[1]2ndヒート - レース結果（貼付）'!$A:$Z,MATCH($B21,'[1]2ndヒート - レース結果（貼付）'!$B:$B,0),MATCH('2ndヒート - レース暫定結果表'!U$11,'[1]2ndヒート - レース結果（貼付）'!$1:$1,0)),""))
A22: =IF(OR('[1]2ndヒート - レース結果（貼付）'!A8="DNF",'[1]2ndヒート - レース結果（貼付）'!A8="DNS",'[1]2ndヒート - レース結果（貼付）'!A8="DQ"),'[1]2ndヒート - レース結果（貼付）'!A8,IF(MAX('[1]2ndヒート - レース結果（貼付）'!A:A)>A18,A18+1,"")) -> 7 | B22: =IFERROR(INDEX('[1]2ndヒート - レース結果（貼付）'!A8:$Z$50,MATCH($A22,'[1]2ndヒート - レース結果（貼付）'!A8:$A$50,0),MATCH('2ndヒート - レース暫定結果表'!B$11,'[1]2ndヒート - レース結果（貼付）'!$1:$1,0)),"") -> 77 | D22: =IFERROR(INDEX('[1]2ndヒート - レース結果（貼付）'!$A:$Z,MATCH($B22,'[1]2ndヒート - レース結果（貼付）'!$B:$B,0),MATCH('2ndヒート - レース暫定結果表'!D$11,'[1]2ndヒート - レース結果（貼付）'!$1:$1,0)),"") -> 三船 祐一 | E22: =IFERROR(INDEX('[1]2ndヒート - レース結果（貼付）'!$A:$Z,MATCH($B22,'[1]2ndヒート - レース結果（貼付）'!$B:$B,0),MATCH('2ndヒート - レース暫定結果表'!E$11,'[1]2ndヒート - レース結果（貼付）'!$1:$1,0)),"") -> crocpromotion/YAMAHA | F22: =IFERROR(INDEX('[1]2ndヒート - レース結果（貼付）'!$A:$Z,MATCH($B22,'[1]2ndヒート - レース結果（貼付）'!$B:$B,0),MATCH('2ndヒート - レース暫定結果表'!F$11,'[1]2ndヒート - レース結果（貼付）'!$1:$1,0)),"") -> Gren Blue RT | G22: =IFERROR(INDEX('[1]2ndヒート - レース結果（貼付）'!$A:$Z,MATCH($B22,'[1]2ndヒート - レース結果（貼付）'!$B:$B,0),MATCH('2ndヒート - レース暫定結果表'!G$11,'[1]2ndヒート - レース結果（貼付）'!$1:$1,0)),"") -> BS | H22: =IF(A22="DNS","",IF(A22="DQ","",IFERROR(INDEX('[1]2ndヒート - レース結果（貼付）'!$A:$Z,MATCH($B22,'[1]2ndヒート - レース結果（貼付）'!$B:$B,0),MATCH('2ndヒート - レース暫定結果表'!H$11,'[1]2ndヒート - レース結果（貼付）'!$1:$1,0)),""))) -> 6 | I22: =IF(A22="DNS","ｽﾀｰﾄ出来ず",IF(A22="DQ","失 格",IFERROR(INDEX('[1]2ndヒート - レース結果（貼付）'!$A:$Z,MATCH($B22,'[1]2ndヒート - レース結果（貼付）'!$B:$B,0),MATCH('2ndヒート - レース暫定結果表'!I$11,'[1]2ndヒート - レース結果（貼付）'!$1:$1,0)),""))) -> 0.0040546759 | J22: =IF(A22="DNS","",IF(A22="DQ","",IFERROR(INDEX('[1]2ndヒート - レース結果（貼付）'!$A:$Z,MATCH($B22,'[1]2ndヒート - レース結果（貼付）'!$B:$B,0),MATCH('2ndヒート - レース暫定結果表'!J$11,'[1]2ndヒート - レース結果（貼付）'!$1:$1,0)),""))) -> 3.398 | K22: =IF(A22="DNS","",IF(A22="DQ","",IFERROR(INDEX('[1]2ndヒート - レース結果（貼付）'!$A:$Z,MATCH($B22,'[1]2ndヒート - レース結果（貼付）'!$B:$B,0),MATCH('2ndヒート - レース暫定結果表'!K$11,'[1]2ndヒート - レース結果（貼付）'!$1:$1,0)),""))) -> 0.178 | L22: =IF(A22="DNS","",IF(A22="DQ","",IFERROR(INDEX('[1]2ndヒート - レース結果（貼付）'!$A:$Z,MATCH($B22,'[1]2ndヒート - レース結果（貼付）'!$B:$B,0),MATCH('2ndヒート - レース暫定結果表'!L$11,'[1]2ndヒート - レース結果（貼付）'!$1:$1,0)),""))) -> 57.009 | M22: =IF(L22<1,"",IF($M$11>L22,"R","")) | P22: =IF(IFERROR(INDEX('[1]2ndヒート - レース結果（貼付）'!$A:$Z,MATCH($A22,'[1]2ndヒート - レース結果（貼付）'!$A:$A,0),MATCH('2ndヒート - レース暫定結果表'!P$11,'[1]2ndヒート - レース結果（貼付）'!$1:$1,0)),"")=0,"",IFERROR(INDEX('[1]2ndヒート - レース結果（貼付）'!$A:$Z,MATCH($A22,'[1]2ndヒート - レース結果（貼付）'!$A:$A,0),MATCH('2ndヒート - レース暫定結果表'!P$11,'[1]2ndヒート - レース結果（貼付）'!$1:$1,0)),"")) | Q22: =IF(P22="","",COUNTIF($P$13:P22,"<>"&"")) | R22: =IFERROR(RANK(Q22,$Q$13:$Q$49,1),"") | S22: =IF(IFERROR(INDEX('[1]2ndヒート - レース結果（貼付）'!$A:$Z,MATCH($A22,'[1]2ndヒート - レース結果（貼付）'!$A:$A,0),MATCH('2ndヒート - レース暫定結果表'!S$11,'[1]2ndヒート - レース結果（貼付）'!$1:$1,0)),"")=0,"",IFERROR(INDEX('[1]2ndヒート - レース結果（貼付）'!$A:$Z,MATCH($A22,'[1]2ndヒート - レース結果（貼付）'!$A:$A,0),MATCH('2ndヒート - レース暫定結果表'!S$11,'[1]2ndヒート - レース結果（貼付）'!$1:$1,0)),"")) | U22: =IF(IFERROR(INDEX('[1]2ndヒート - レース結果（貼付）'!$A:$Z,MATCH($B22,'[1]2ndヒート - レース結果（貼付）'!$B:$B,0),MATCH('2ndヒート - レース暫定結果表'!U$11,'[1]2ndヒート - レース結果（貼付）'!$1:$1,0)),"")=0,"",IFERROR(INDEX('[1]2ndヒート - レース結果（貼付）'!$A:$Z,MATCH($B22,'[1]2ndヒート - レース結果（貼付）'!$B:$B,0),MATCH('2ndヒート - レース暫定結果表'!U$11,'[1]2ndヒート - レース結果（貼付）'!$1:$1,0)),"")) -> 79.819
A23: =IF(OR('[1]2ndヒート - レース結果（貼付）'!A9="DNF",'[1]2ndヒート - レース結果（貼付）'!A9="DNS",'[1]2ndヒート - レース結果（貼付）'!A9="DQ"),'[1]2ndヒート - レース結果（貼付）'!A9,IF(MAX('[1]2ndヒート - レース結果（貼付）'!A:A)>A22,A22+1,"")) -> 8 | B23: =IFERROR(INDEX('[1]2ndヒート - レース結果（貼付）'!A9:$Z$50,MATCH($A23,'[1]2ndヒート - レース結果（貼付）'!A9:$A$50,0),MATCH('2ndヒート - レース暫定結果表'!B$11,'[1]2ndヒート - レース結果（貼付）'!$1:$1,0)),"") -> 23 | D23: =IFERROR(INDEX('[1]2ndヒート - レース結果（貼付）'!$A:$Z,MATCH($B23,'[1]2ndヒート - レース結果（貼付）'!$B:$B,0),MATCH('2ndヒート - レース暫定結果表'!D$11,'[1]2ndヒート - レース結果（貼付）'!$1:$1,0)),"") -> 藤岡 伸英 | E23: =IFERROR(INDEX('[1]2ndヒート - レース結果（貼付）'!$A:$Z,MATCH($B23,'[1]2ndヒート - レース結果（貼付）'!$B:$B,0),MATCH('2ndヒート - レース暫定結果表'!E$11,'[1]2ndヒート - レース結果（貼付）'!$1:$1,0)),"") -> MACHI 1/YAMAHA | F23: =IFERROR(INDEX('[1]2ndヒート - レース結果（貼付）'!$A:$Z,MATCH($B23,'[1]2ndヒート - レース結果（貼付）'!$B:$B,0),MATCH('2ndヒート - レース暫定結果表'!F$11,'[1]2ndヒート - レース結果（貼付）'!$1:$1,0)),"") -> EHRE MOTOR SPORTS | G23: =IFERROR(INDEX('[1]2ndヒート - レース結果（貼付）'!$A:$Z,MATCH($B23,'[1]2ndヒート - レース結果（貼付）'!$B:$B,0),MATCH('2ndヒート - レース暫定結果表'!G$11,'[1]2ndヒート - レース結果（貼付）'!$1:$1,0)),"") -> BS | H23: =IF(A23="DNS","",IF(A23="DQ","",IFERROR(INDEX('[1]2ndヒート - レース結果（貼付）'!$A:$Z,MATCH($B23,'[1]2ndヒート - レース結果（貼付）'!$B:$B,0),MATCH('2ndヒート - レース暫定結果表'!H$11,'[1]2ndヒート - レース結果（貼付）'!$1:$1,0)),""))) -> 6 | I23: =IF(A23="DNS","ｽﾀｰﾄ出来ず",IF(A23="DQ","失 格",IFERROR(INDEX('[1]2ndヒート - レース結果（貼付）'!$A:$Z,MATCH($B23,'[1]2ndヒート - レース結果（貼付）'!$B:$B,0),MATCH('2ndヒート - レース暫定結果表'!I$11,'[1]2ndヒート - レース結果（貼付）'!$1:$1,0)),""))) -> 0.0040675 | J23: =IF(A23="DNS","",IF(A23="DQ","",IFERROR(INDEX('[1]2ndヒート - レース結果（貼付）'!$A:$Z,MATCH($B23,'[1]2ndヒート - レース結果（貼付）'!$B:$B,0),MATCH('2ndヒート - レース暫定結果表'!J$11,'[1]2ndヒート - レース結果（貼付）'!$1:$1,0)),""))) -> 4.506 | K23: =IF(A23="DNS","",IF(A23="DQ","",IFERROR(INDEX('[1]2ndヒート - レース結果（貼付）'!$A:$Z,MATCH($B23,'[1]2ndヒート - レース結果（貼付）'!$B:$B,0),MATCH('2ndヒート - レース暫定結果表'!K$11,'[1]2ndヒート - レース結果（貼付）'!$1:$1,0)),""))) -> 1.108 | L23: =IF(A23="DNS","",IF(A23="DQ","",IFERROR(INDEX('[1]2ndヒート - レース結果（貼付）'!$A:$Z,MATCH($B23,'[1]2ndヒート - レース結果（貼付）'!$B:$B,0),MATCH('2ndヒート - レース暫定結果表'!L$11,'[1]2ndヒート - レース結果（貼付）'!$1:$1,0)),""))) -> 57.236 | M23: =IF(L23<1,"",IF($M$11>L23,"R","")) | P23: =IF(IFERROR(INDEX('[1]2ndヒート - レース結果（貼付）'!$A:$Z,MATCH($A23,'[1]2ndヒート - レース結果（貼付）'!$A:$A,0),MATCH('2ndヒート - レース暫定結果表'!P$11,'[1]2ndヒート - レース結果（貼付）'!$1:$1,0)),"")=0,"",IFERROR(INDEX('[1]2ndヒート - レース結果（貼付）'!$A:$Z,MATCH($A23,'[1]2ndヒート - レース結果（貼付）'!$A:$A,0),MATCH('2ndヒート - レース暫定結果表'!P$11,'[1]2ndヒート - レース結果（貼付）'!$1:$1,0)),"")) | Q23: =IF(P23="","",COUNTIF($P$13:P23,"<>"&"")) | R23: =IFERROR(RANK(Q23,$Q$13:$Q$49,1),"") | S23: =IF(IFERROR(INDEX('[1]2ndヒート - レース結果（貼付）'!$A:$Z,MATCH($A23,'[1]2ndヒート - レース結果（貼付）'!$A:$A,0),MATCH('2ndヒート - レース暫定結果表'!S$11,'[1]2ndヒート - レース結果（貼付）'!$1:$1,0)),"")=0,"",IFERROR(INDEX('[1]2ndヒート - レース結果（貼付）'!$A:$Z,MATCH($A23,'[1]2ndヒート - レース結果（貼付）'!$A:$A,0),MATCH('2ndヒート - レース暫定結果表'!S$11,'[1]2ndヒート - レース結果（貼付）'!$1:$1,0)),"")) | U23: =IF(IFERROR(INDEX('[1]2ndヒート - レース結果（貼付）'!$A:$Z,MATCH($B23,'[1]2ndヒート - レース結果（貼付）'!$B:$B,0),MATCH('2ndヒート - レース暫定結果表'!U$11,'[1]2ndヒート - レース結果（貼付）'!$1:$1,0)),"")=0,"",IFERROR(INDEX('[1]2ndヒート - レース結果（貼付）'!$A:$Z,MATCH($B23,'[1]2ndヒート - レース結果（貼付）'!$B:$B,0),MATCH('2ndヒート - レース暫定結果表'!U$11,'[1]2ndヒート - レース結果（貼付）'!$1:$1,0)),"")) -> 79.502
A24: =IF(OR('[1]2ndヒート - レース結果（貼付）'!A10="DNF",'[1]2ndヒート - レース結果（貼付）'!A10="DNS",'[1]2ndヒート - レース結果（貼付）'!A10="DQ"),'[1]2ndヒート - レース結果（貼付）'!A10,IF(MAX('[1]2ndヒート - レース結果（貼付）'!A:A)>A23,A23+1,"")) -> 9 | B24: =IFERROR(INDEX('[1]2ndヒート - レース結果（貼付）'!A10:$Z$50,MATCH($A24,'[1]2ndヒート - レース結果（貼付）'!A10:$A$50,0),MATCH('2ndヒート - レース暫定結果表'!B$11,'[1]2ndヒート - レース結果（貼付）'!$1:$1,0)),"") -> 99 | D24: =IFERROR(INDEX('[1]2ndヒート - レース結果（貼付）'!$A:$Z,MATCH($B24,'[1]2ndヒート - レース結果（貼付）'!$B:$B,0),MATCH('2ndヒート - レース暫定結果表'!D$11,'[1]2ndヒート - レース結果（貼付）'!$1:$1,0)),"") -> 近藤 雄一朗 | E24: =IFERROR(INDEX('[1]2ndヒート - レース結果（貼付）'!$A:$Z,MATCH($B24,'[1]2ndヒート - レース結果（貼付）'!$B:$B,0),MATCH('2ndヒート - レース暫定結果表'!E$11,'[1]2ndヒート - レース結果（貼付）'!$1:$1,0)),"") -> ドラゴコルセ/YAMAHA | F24: =IFERROR(INDEX('[1]2ndヒート - レース結果（貼付）'!$A:$Z,MATCH($B24,'[1]2ndヒート - レース結果（貼付）'!$B:$B,0),MATCH('2ndヒート - レース暫定結果表'!F$11,'[1]2ndヒート - レース結果（貼付）'!$1:$1,0)),"") -> ﾓｱｺﾗｰｼﾞｭTQS | G24: =IFERROR(INDEX('[1]2ndヒート - レース結果（貼付）'!$A:$Z,MATCH($B24,'[1]2ndヒート - レース結果（貼付）'!$B:$B,0),MATCH('2ndヒート - レース暫定結果表'!G$11,'[1]2ndヒート - レース結果（貼付）'!$1:$1,0)),"") -> BS | H24: =IF(A24="DNS","",IF(A24="DQ","",IFERROR(INDEX('[1]2ndヒート - レース結果（貼付）'!$A:$Z,MATCH($B24,'[1]2ndヒート - レース結果（貼付）'!$B:$B,0),MATCH('2ndヒート - レース暫定結果表'!H$11,'[1]2ndヒート - レース結果（貼付）'!$1:$1,0)),""))) -> 6 | I24: =IF(A24="DNS","ｽﾀｰﾄ出来ず",IF(A24="DQ","失 格",IFERROR(INDEX('[1]2ndヒート - レース結果（貼付）'!$A:$Z,MATCH($B24,'[1]2ndヒート - レース結果（貼付）'!$B:$B,0),MATCH('2ndヒート - レース暫定結果表'!I$11,'[1]2ndヒート - レース結果（貼付）'!$1:$1,0)),""))) -> 0.0040802662 | J24: =IF(A24="DNS","",IF(A24="DQ","",IFERROR(INDEX('[1]2ndヒート - レース結果（貼付）'!$A:$Z,MATCH($B24,'[1]2ndヒート - レース結果（貼付）'!$B:$B,0),MATCH('2ndヒート - レース暫定結果表'!J$11,'[1]2ndヒート - レース結果（貼付）'!$1:$1,0)),""))) -> 5.609 | K24: =IF(A24="DNS","",IF(A24="DQ","",IFERROR(INDEX('[1]2ndヒート - レース結果（貼付）'!$A:$Z,MATCH($B24,'[1]2ndヒート - レース結果（貼付）'!$B:$B,0),MATCH('2ndヒート - レース暫定結果表'!K$11,'[1]2ndヒート - レース結果（貼付）'!$1:$1,0)),""))) -> 1.103 | L24: =IF(A24="DNS","",IF(A24="DQ","",IFERROR(INDEX('[1]2ndヒート - レース結果（貼付）'!$A:$Z,MATCH($B24,'[1]2ndヒート - レース結果（貼付）'!$B:$B,0),MATCH('2ndヒート - レース暫定結果表'!L$11,'[1]2ndヒート - レース結果（貼付）'!$1:$1,0)),""))) -> 57.411 | M24: =IF(L24<1,"",IF($M$11>L24,"R","")) | P24: =IF(IFERROR(INDEX('[1]2ndヒート - レース結果（貼付）'!$A:$Z,MATCH($A24,'[1]2ndヒート - レース結果（貼付）'!$A:$A,0),MATCH('2ndヒート - レース暫定結果表'!P$11,'[1]2ndヒート - レース結果（貼付）'!$1:$1,0)),"")=0,"",IFERROR(INDEX('[1]2ndヒート - レース結果（貼付）'!$A:$Z,MATCH($A24,'[1]2ndヒート - レース結果（貼付）'!$A:$A,0),MATCH('2ndヒート - レース暫定結果表'!P$11,'[1]2ndヒート - レース結果（貼付）'!$1:$1,0)),"")) | Q24: =IF(P24="","",COUNTIF($P$13:P24,"<>"&"")) | R24: =IFERROR(RANK(Q24,$Q$13:$Q$49,1),"") | S24: =IF(IFERROR(INDEX('[1]2ndヒート - レース結果（貼付）'!$A:$Z,MATCH($A24,'[1]2ndヒート - レース結果（貼付）'!$A:$A,0),MATCH('2ndヒート - レース暫定結果表'!S$11,'[1]2ndヒート - レース結果（貼付）'!$1:$1,0)),"")=0,"",IFERROR(INDEX('[1]2ndヒート - レース結果（貼付）'!$A:$Z,MATCH($A24,'[1]2ndヒート - レース結果（貼付）'!$A:$A,0),MATCH('2ndヒート - レース暫定結果表'!S$11,'[1]2ndヒート - レース結果（貼付）'!$1:$1,0)),"")) | U24: =IF(IFERROR(INDEX('[1]2ndヒート - レース結果（貼付）'!$A:$Z,MATCH($B24,'[1]2ndヒート - レース結果（貼付）'!$B:$B,0),MATCH('2ndヒート - レース暫定結果表'!U$11,'[1]2ndヒート - レース結果（貼付）'!$1:$1,0)),"")=0,"",IFERROR(INDEX('[1]2ndヒート - レース結果（貼付）'!$A:$Z,MATCH($B24,'[1]2ndヒート - レース結果（貼付）'!$B:$B,0),MATCH('2ndヒート - レース暫定結果表'!U$11,'[1]2ndヒート - レース結果（貼付）'!$1:$1,0)),"")) -> 79.26
A25: =IF(OR('[1]2ndヒート - レース結果（貼付）'!A11="DNF",'[1]2ndヒート - レース結果（貼付）'!A11="DNS",'[1]2ndヒート - レース結果（貼付）'!A11="DQ"),'[1]2ndヒート - レース結果（貼付）'!A11,IF(MAX('[1]2ndヒート - レース結果（貼付）'!A:A)>A24,A24+1,"")) -> 10 | B25: =IFERROR(INDEX('[1]2ndヒート - レース結果（貼付）'!A11:$Z$50,MATCH($A25,'[1]2ndヒート - レース結果（貼付）'!A11:$A$50,0),MATCH('2ndヒート - レース暫定結果表'!B$11,'[1]2ndヒート - レース結果（貼付）'!$1:$1,0)),"") -> 56 | D25: =IFERROR(INDEX('[1]2ndヒート - レース結果（貼付）'!$A:$Z,MATCH($B25,'[1]2ndヒート - レース結果（貼付）'!$B:$B,0),MATCH('2ndヒート - レース暫定結果表'!D$11,'[1]2ndヒート - レース結果（貼付）'!$1:$1,0)),"") -> 米倉 隆幸 | E25: =IFERROR(INDEX('[1]2ndヒート - レース結果（貼付）'!$A:$Z,MATCH($B25,'[1]2ndヒート - レース結果（貼付）'!$B:$B,0),MATCH('2ndヒート - レース暫定結果表'!E$11,'[1]2ndヒート - レース結果（貼付）'!$1:$1,0)),"") -> TONY KART/YAMAHA | F25: =IFERROR(INDEX('[1]2ndヒート - レース結果（貼付）'!$A:$Z,MATCH($B25,'[1]2ndヒート - レース結果（貼付）'!$B:$B,0),MATCH('2ndヒート - レース暫定結果表'!F$11,'[1]2ndヒート - レース結果（貼付）'!$1:$1,0)),"") -> T WEST RS | G25: =IFERROR(INDEX('[1]2ndヒート - レース結果（貼付）'!$A:$Z,MATCH($B25,'[1]2ndヒート - レース結果（貼付）'!$B:$B,0),MATCH('2ndヒート - レース暫定結果表'!G$11,'[1]2ndヒート - レース結果（貼付）'!$1:$1,0)),"") -> BS | H25: =IF(A25="DNS","",IF(A25="DQ","",IFERROR(INDEX('[1]2ndヒート - レース結果（貼付）'!$A:$Z,MATCH($B25,'[1]2ndヒート - レース結果（貼付）'!$B:$B,0),MATCH('2ndヒート - レース暫定結果表'!H$11,'[1]2ndヒート - レース結果（貼付）'!$1:$1,0)),""))) -> 6 | I25: =IF(A25="DNS","ｽﾀｰﾄ出来ず",IF(A25="DQ","失 格",IFERROR(INDEX('[1]2ndヒート - レース結果（貼付）'!$A:$Z,MATCH($B25,'[1]2ndヒート - レース結果（貼付）'!$B:$B,0),MATCH('2ndヒート - レース暫定結果表'!I$11,'[1]2ndヒート - レース結果（貼付）'!$1:$1,0)),""))) -> 0.0040969907 | J25: =IF(A25="DNS","",IF(A25="DQ","",IFERROR(INDEX('[1]2ndヒート - レース結果（貼付）'!$A:$Z,MATCH($B25,'[1]2ndヒート - レース結果（貼付）'!$B:$B,0),MATCH('2ndヒート - レース暫定結果表'!J$11,'[1]2ndヒート - レース結果（貼付）'!$1:$1,0)),""))) -> 7.054 | K25: =IF(A25="DNS","",IF(A25="DQ","",IFERROR(INDEX('[1]2ndヒート - レース結果（貼付）'!$A:$Z,MATCH($B25,'[1]2ndヒート - レース結果（貼付）'!$B:$B,0),MATCH('2ndヒート - レース暫定結果表'!K$11,'[1]2ndヒート - レース結果（貼付）'!$1:$1,0)),""))) -> 1.445 | L25: =IF(A25="DNS","",IF(A25="DQ","",IFERROR(INDEX('[1]2ndヒート - レース結果（貼付）'!$A:$Z,MATCH($B25,'[1]2ndヒート - レース結果（貼付）'!$B:$B,0),MATCH('2ndヒート - レース暫定結果表'!L$11,'[1]2ndヒート - レース結果（貼付）'!$1:$1,0)),""))) -> 57.939 | M25: =IF(L25<1,"",IF($M$11>L25,"R","")) | P25: =IF(IFERROR(INDEX('[1]2ndヒート - レース結果（貼付）'!$A:$Z,MATCH($A25,'[1]2ndヒート - レース結果（貼付）'!$A:$A,0),MATCH('2ndヒート - レース暫定結果表'!P$11,'[1]2ndヒート - レース結果（貼付）'!$1:$1,0)),"")=0,"",IFERROR(INDEX('[1]2ndヒート - レース結果（貼付）'!$A:$Z,MATCH($A25,'[1]2ndヒート - レース結果（貼付）'!$A:$A,0),MATCH('2ndヒート - レース暫定結果表'!P$11,'[1]2ndヒート - レース結果（貼付）'!$1:$1,0)),"")) | Q25: =IF(P25="","",COUNTIF($P$13:P25,"<>"&"")) | R25: =IFERROR(RANK(Q25,$Q$13:$Q$49,1),"") | S25: =IF(IFERROR(INDEX('[1]2ndヒート - レース結果（貼付）'!$A:$Z,MATCH($A25,'[1]2ndヒート - レース結果（貼付）'!$A:$A,0),MATCH('2ndヒート - レース暫定結果表'!S$11,'[1]2ndヒート - レース結果（貼付）'!$1:$1,0)),"")=0,"",IFERROR(INDEX('[1]2ndヒート - レース結果（貼付）'!$A:$Z,MATCH($A25,'[1]2ndヒート - レース結果（貼付）'!$A:$A,0),MATCH('2ndヒート - レース暫定結果表'!S$11,'[1]2ndヒート - レース結果（貼付）'!$1:$1,0)),"")) | U25: =IF(IFERROR(INDEX('[1]2ndヒート - レース結果（貼付）'!$A:$Z,MATCH($B25,'[1]2ndヒート - レース結果（貼付）'!$B:$B,0),MATCH('2ndヒート - レース暫定結果表'!U$11,'[1]2ndヒート - レース結果（貼付）'!$1:$1,0)),"")=0,"",IFERROR(INDEX('[1]2ndヒート - レース結果（貼付）'!$A:$Z,MATCH($B25,'[1]2ndヒート - レース結果（貼付）'!$B:$B,0),MATCH('2ndヒート - レース暫定結果表'!U$11,'[1]2ndヒート - レース結果（貼付）'!$1:$1,0)),"")) -> 78.538
A26: =IF(OR('[1]2ndヒート - レース結果（貼付）'!A12="DNF",'[1]2ndヒート - レース結果（貼付）'!A12="DNS",'[1]2ndヒート - レース結果（貼付）'!A12="DQ"),'[1]2ndヒート - レース結果（貼付）'!A12,IF(MAX('[1]2ndヒート - レース結果（貼付）'!A:A)>A25,A25+1,"")) -> 11 | B26: =IFERROR(INDEX('[1]2ndヒート - レース結果（貼付）'!A12:$Z$50,MATCH($A26,'[1]2ndヒート - レース結果（貼付）'!A12:$A$50,0),MATCH('2ndヒート - レース暫定結果表'!B$11,'[1]2ndヒート - レース結果（貼付）'!$1:$1,0)),"") -> 37 | D26: =IFERROR(INDEX('[1]2ndヒート - レース結果（貼付）'!$A:$Z,MATCH($B26,'[1]2ndヒート - レース結果（貼付）'!$B:$B,0),MATCH('2ndヒート - レース暫定結果表'!D$11,'[1]2ndヒート - レース結果（貼付）'!$1:$1,0)),"") -> 小田 宗孝 | E26: =IFERROR(INDEX('[1]2ndヒート - レース結果（貼付）'!$A:$Z,MATCH($B26,'[1]2ndヒート - レース結果（貼付）'!$B:$B,0),MATCH('2ndヒート - レース暫定結果表'!E$11,'[1]2ndヒート - レース結果（貼付）'!$1:$1,0)),"") -> TONYKART/YAMAHA | F26: =IFERROR(INDEX('[1]2ndヒート - レース結果（貼付）'!$A:$Z,MATCH($B26,'[1]2ndヒート - レース結果（貼付）'!$B:$B,0),MATCH('2ndヒート - レース暫定結果表'!F$11,'[1]2ndヒート - レース結果（貼付）'!$1:$1,0)),"") -> HKC年金ﾚｰｻｰｽﾞ | G26: =IFERROR(INDEX('[1]2ndヒート - レース結果（貼付）'!$A:$Z,MATCH($B26,'[1]2ndヒート - レース結果（貼付）'!$B:$B,0),MATCH('2ndヒート - レース暫定結果表'!G$11,'[1]2ndヒート - レース結果（貼付）'!$1:$1,0)),"") -> BS | H26: =IF(A26="DNS","",IF(A26="DQ","",IFERROR(INDEX('[1]2ndヒート - レース結果（貼付）'!$A:$Z,MATCH($B26,'[1]2ndヒート - レース結果（貼付）'!$B:$B,0),MATCH('2ndヒート - レース暫定結果表'!H$11,'[1]2ndヒート - レース結果（貼付）'!$1:$1,0)),""))) -> 6 | I26: =IF(A26="DNS","ｽﾀｰﾄ出来ず",IF(A26="DQ","失 格",IFERROR(INDEX('[1]2ndヒート - レース結果（貼付）'!$A:$Z,MATCH($B26,'[1]2ndヒート - レース結果（貼付）'!$B:$B,0),MATCH('2ndヒート - レース暫定結果表'!I$11,'[1]2ndヒート - レース結果（貼付）'!$1:$1,0)),""))) -> 0.0041043287 | J26: =IF(A26="DNS","",IF(A26="DQ","",IFERROR(INDEX('[1]2ndヒート - レース結果（貼付）'!$A:$Z,MATCH($B26,'[1]2ndヒート - レース結果（貼付）'!$B:$B,0),MATCH('2ndヒート - レース暫定結果表'!J$11,'[1]2ndヒート - レース結果（貼付）'!$1:$1,0)),""))) -> 7.688 | K26: =IF(A26="DNS","",IF(A26="DQ","",IFERROR(INDEX('[1]2ndヒート - レース結果（貼付）'!$A:$Z,MATCH($B26,'[1]2ndヒート - レース結果（貼付）'!$B:$B,0),MATCH('2ndヒート - レース暫定結果表'!K$11,'[1]2ndヒート - レース結果（貼付）'!$1:$1,0)),""))) -> 0.634 | L26: =IF(A26="DNS","",IF(A26="DQ","",IFERROR(INDEX('[1]2ndヒート - レース結果（貼付）'!$A:$Z,MATCH($B26,'[1]2ndヒート - レース結果（貼付）'!$B:$B,0),MATCH('2ndヒート - レース暫定結果表'!L$11,'[1]2ndヒート - レース結果（貼付）'!$1:$1,0)),""))) -> 57.454 | M26: =IF(L26<1,"",IF($M$11>L26,"R","")) | P26: =IF(IFERROR(INDEX('[1]2ndヒート - レース結果（貼付）'!$A:$Z,MATCH($A26,'[1]2ndヒート - レース結果（貼付）'!$A:$A,0),MATCH('2ndヒート - レース暫定結果表'!P$11,'[1]2ndヒート - レース結果（貼付）'!$1:$1,0)),"")=0,"",IFERROR(INDEX('[1]2ndヒート - レース結果（貼付）'!$A:$Z,MATCH($A26,'[1]2ndヒート - レース結果（貼付）'!$A:$A,0),MATCH('2ndヒート - レース暫定結果表'!P$11,'[1]2ndヒート - レース結果（貼付）'!$1:$1,0)),"")) | Q26: =IF(P26="","",COUNTIF($P$13:P26,"<>"&"")) | R26: =IFERROR(RANK(Q26,$Q$13:$Q$49,1),"") | S26: =IF(IFERROR(INDEX('[1]2ndヒート - レース結果（貼付）'!$A:$Z,MATCH($A26,'[1]2ndヒート - レース結果（貼付）'!$A:$A,0),MATCH('2ndヒート - レース暫定結果表'!S$11,'[1]2ndヒート - レース結果（貼付）'!$1:$1,0)),"")=0,"",IFERROR(INDEX('[1]2ndヒート - レース結果（貼付）'!$A:$Z,MATCH($A26,'[1]2ndヒート - レース結果（貼付）'!$A:$A,0),MATCH('2ndヒート - レース暫定結果表'!S$11,'[1]2ndヒート - レース結果（貼付）'!$1:$1,0)),"")) | U26: =IF(IFERROR(INDEX('[1]2ndヒート - レース結果（貼付）'!$A:$Z,MATCH($B26,'[1]2ndヒート - レース結果（貼付）'!$B:$B,0),MATCH('2ndヒート - レース暫定結果表'!U$11,'[1]2ndヒート - レース結果（貼付）'!$1:$1,0)),"")=0,"",IFERROR(INDEX('[1]2ndヒート - レース結果（貼付）'!$A:$Z,MATCH($B26,'[1]2ndヒート - レース結果（貼付）'!$B:$B,0),MATCH('2ndヒート - レース暫定結果表'!U$11,'[1]2ndヒート - レース結果（貼付）'!$1:$1,0)),"")) -> 79.201
A27: =IF(OR('[1]2ndヒート - レース結果（貼付）'!A13="DNF",'[1]2ndヒート - レース結果（貼付）'!A13="DNS",'[1]2ndヒート - レース結果（貼付）'!A13="DQ"),'[1]2ndヒート - レース結果（貼付）'!A13,IF(MAX('[1]2ndヒート - レース結果（貼付）'!A:A)>A26,A26+1,"")) -> 12 | B27: =IFERROR(INDEX('[1]2ndヒート - レース結果（貼付）'!A13:$Z$50,MATCH($A27,'[1]2ndヒート - レース結果（貼付）'!A13:$A$50,0),MATCH('2ndヒート - レース暫定結果表'!B$11,'[1]2ndヒート - レース結果（貼付）'!$1:$1,0)),"") -> 70 | D27: =IFERROR(INDEX('[1]2ndヒート - レース結果（貼付）'!$A:$Z,MATCH($B27,'[1]2ndヒート - レース結果（貼付）'!$B:$B,0),MATCH('2ndヒート - レース暫定結果表'!D$11,'[1]2ndヒート - レース結果（貼付）'!$1:$1,0)),"") -> 大澤 重弘 | E27: =IFERROR(INDEX('[1]2ndヒート - レース結果（貼付）'!$A:$Z,MATCH($B27,'[1]2ndヒート - レース結果（貼付）'!$B:$B,0),MATCH('2ndヒート - レース暫定結果表'!E$11,'[1]2ndヒート - レース結果（貼付）'!$1:$1,0)),"") -> エクスプリット/YAMAHA | F27: =IFERROR(INDEX('[1]2ndヒート - レース結果（貼付）'!$A:$Z,MATCH($B27,'[1]2ndヒート - レース結果（貼付）'!$B:$B,0),MATCH('2ndヒート - レース暫定結果表'!F$11,'[1]2ndヒート - レース結果（貼付）'!$1:$1,0)),"") -> ﾄﾚﾝﾀｸﾜﾄﾛ鈴鹿 | G27: =IFERROR(INDEX('[1]2ndヒート - レース結果（貼付）'!$A:$Z,MATCH($B27,'[1]2ndヒート - レース結果（貼付）'!$B:$B,0),MATCH('2ndヒート - レース暫定結果表'!G$11,'[1]2ndヒート - レース結果（貼付）'!$1:$1,0)),"") -> BS | H27: =IF(A27="DNS","",IF(A27="DQ","",IFERROR(INDEX('[1]2ndヒート - レース結果（貼付）'!$A:$Z,MATCH($B27,'[1]2ndヒート - レース結果（貼付）'!$B:$B,0),MATCH('2ndヒート - レース暫定結果表'!H$11,'[1]2ndヒート - レース結果（貼付）'!$1:$1,0)),""))) -> 6 | I27: =IF(A27="DNS","ｽﾀｰﾄ出来ず",IF(A27="DQ","失 格",IFERROR(INDEX('[1]2ndヒート - レース結果（貼付）'!$A:$Z,MATCH($B27,'[1]2ndヒート - レース結果（貼付）'!$B:$B,0),MATCH('2ndヒート - レース暫定結果表'!I$11,'[1]2ndヒート - レース結果（貼付）'!$1:$1,0)),""))) -> 0.004107037 | J27: =IF(A27="DNS","",IF(A27="DQ","",IFERROR(INDEX('[1]2ndヒート - レース結果（貼付）'!$A:$Z,MATCH($B27,'[1]2ndヒート - レース結果（貼付）'!$B:$B,0),MATCH('2ndヒート - レース暫定結果表'!J$11,'[1]2ndヒート - レース結果（貼付）'!$1:$1,0)),""))) -> 7.922 | K27: =IF(A27="DNS","",IF(A27="DQ","",IFERROR(INDEX('[1]2ndヒート - レース結果（貼付）'!$A:$Z,MATCH($B27,'[1]2ndヒート - レース結果（貼付）'!$B:$B,0),MATCH('2ndヒート - レース暫定結果表'!K$11,'[1]2ndヒート - レース結果（貼付）'!$1:$1,0)),""))) -> 0.234 | L27: =IF(A27="DNS","",IF(A27="DQ","",IFERROR(INDEX('[1]2ndヒート - レース結果（貼付）'!$A:$Z,MATCH($B27,'[1]2ndヒート - レース結果（貼付）'!$B:$B,0),MATCH('2ndヒート - レース暫定結果表'!L$11,'[1]2ndヒート - レース結果（貼付）'!$1:$1,0)),""))) -> 57.405 | M27: =IF(L27<1,"",IF($M$11>L27,"R","")) | P27: =IF(IFERROR(INDEX('[1]2ndヒート - レース結果（貼付）'!$A:$Z,MATCH($A27,'[1]2ndヒート - レース結果（貼付）'!$A:$A,0),MATCH('2ndヒート - レース暫定結果表'!P$11,'[1]2ndヒート - レース結果（貼付）'!$1:$1,0)),"")=0,"",IFERROR(INDEX('[1]2ndヒート - レース結果（貼付）'!$A:$Z,MATCH($A27,'[1]2ndヒート - レース結果（貼付）'!$A:$A,0),MATCH('2ndヒート - レース暫定結果表'!P$11,'[1]2ndヒート - レース結果（貼付）'!$1:$1,0)),"")) | Q27: =IF(P27="","",COUNTIF($P$13:P27,"<>"&"")) | R27: =IFERROR(RANK(Q27,$Q$13:$Q$49,1),"") | S27: =IF(IFERROR(INDEX('[1]2ndヒート - レース結果（貼付）'!$A:$Z,MATCH($A27,'[1]2ndヒート - レース結果（貼付）'!$A:$A,0),MATCH('2ndヒート - レース暫定結果表'!S$11,'[1]2ndヒート - レース結果（貼付）'!$1:$1,0)),"")=0,"",IFERROR(INDEX('[1]2ndヒート - レース結果（貼付）'!$A:$Z,MATCH($A27,'[1]2ndヒート - レース結果（貼付）'!$A:$A,0),MATCH('2ndヒート - レース暫定結果表'!S$11,'[1]2ndヒート - レース結果（貼付）'!$1:$1,0)),"")) | U27: =IF(IFERROR(INDEX('[1]2ndヒート - レース結果（貼付）'!$A:$Z,MATCH($B27,'[1]2ndヒート - レース結果（貼付）'!$B:$B,0),MATCH('2ndヒート - レース暫定結果表'!U$11,'[1]2ndヒート - レース結果（貼付）'!$1:$1,0)),"")=0,"",IFERROR(INDEX('[1]2ndヒート - レース結果（貼付）'!$A:$Z,MATCH($B27,'[1]2ndヒート - レース結果（貼付）'!$B:$B,0),MATCH('2ndヒート - レース暫定結果表'!U$11,'[1]2ndヒート - レース結果（貼付）'!$1:$1,0)),"")) -> 79.268
A28: =IF(OR('[1]2ndヒート - レース結果（貼付）'!A14="DNF",'[1]2ndヒート - レース結果（貼付）'!A14="DNS",'[1]2ndヒート - レース結果（貼付）'!A14="DQ"),'[1]2ndヒート - レース結果（貼付）'!A14,IF(MAX('[1]2ndヒート - レース結果（貼付）'!A:A)>A27,A27+1,"")) -> 13 | B28: =IFERROR(INDEX('[1]2ndヒート - レース結果（貼付）'!A14:$Z$50,MATCH($A28,'[1]2ndヒート - レース結果（貼付）'!A14:$A$50,0),MATCH('2ndヒート - レース暫定結果表'!B$11,'[1]2ndヒート - レース結果（貼付）'!$1:$1,0)),"") -> 30 | D28: =IFERROR(INDEX('[1]2ndヒート - レース結果（貼付）'!$A:$Z,MATCH($B28,'[1]2ndヒート - レース結果（貼付）'!$B:$B,0),MATCH('2ndヒート - レース暫定結果表'!D$11,'[1]2ndヒート - レース結果（貼付）'!$1:$1,0)),"") -> 平野 伸一 | E28: =IFERROR(INDEX('[1]2ndヒート - レース結果（貼付）'!$A:$Z,MATCH($B28,'[1]2ndヒート - レース結果（貼付）'!$B:$B,0),MATCH('2ndヒート - レース暫定結果表'!E$11,'[1]2ndヒート - レース結果（貼付）'!$1:$1,0)),"") -> Mach1/YAMAHA | F28: =IFERROR(INDEX('[1]2ndヒート - レース結果（貼付）'!$A:$Z,MATCH($B28,'[1]2ndヒート - レース結果（貼付）'!$B:$B,0),MATCH('2ndヒート - レース暫定結果表'!F$11,'[1]2ndヒート - レース結果（貼付）'!$1:$1,0)),"") -> ｻｰﾃｨｰｽﾞﾚｰｼﾝｸﾞ | G28: =IFERROR(INDEX('[1]2ndヒート - レース結果（貼付）'!$A:$Z,MATCH($B28,'[1]2ndヒート - レース結果（貼付）'!$B:$B,0),MATCH('2ndヒート - レース暫定結果表'!G$11,'[1]2ndヒート - レース結果（貼付）'!$1:$1,0)),"") -> BS | H28: =IF(A28="DNS","",IF(A28="DQ","",IFERROR(INDEX('[1]2ndヒート - レース結果（貼付）'!$A:$Z,MATCH($B28,'[1]2ndヒート - レース結果（貼付）'!$B:$B,0),MATCH('2ndヒート - レース暫定結果表'!H$11,'[1]2ndヒート - レース結果（貼付）'!$1:$1,0)),""))) -> 6 | I28: =IF(A28="DNS","ｽﾀｰﾄ出来ず",IF(A28="DQ","失 格",IFERROR(INDEX('[1]2ndヒート - レース結果（貼付）'!$A:$Z,MATCH($B28,'[1]2ndヒート - レース結果（貼付）'!$B:$B,0),MATCH('2ndヒート - レース暫定結果表'!I$11,'[1]2ndヒート - レース結果（貼付）'!$1:$1,0)),""))) -> 0.0041604745 | J28: =IF(A28="DNS","",IF(A28="DQ","",IFERROR(INDEX('[1]2ndヒート - レース結果（貼付）'!$A:$Z,MATCH($B28,'[1]2ndヒート - レース結果（貼付）'!$B:$B,0),MATCH('2ndヒート - レース暫定結果表'!J$11,'[1]2ndヒート - レース結果（貼付）'!$1:$1,0)),""))) -> 12.539 | K28: =IF(A28="DNS","",IF(A28="DQ","",IFERROR(INDEX('[1]2ndヒート - レース結果（貼付）'!$A:$Z,MATCH($B28,'[1]2ndヒート - レース結果（貼付）'!$B:$B,0),MATCH('2ndヒート - レース暫定結果表'!K$11,'[1]2ndヒート - レース結果（貼付）'!$1:$1,0)),""))) -> 4.617 | L28: =IF(A28="DNS","",IF(A28="DQ","",IFERROR(INDEX('[1]2ndヒート - レース結果（貼付）'!$A:$Z,MATCH($B28,'[1]2ndヒート - レース結果（貼付）'!$B:$B,0),MATCH('2ndヒート - レース暫定結果表'!L$11,'[1]2ndヒート - レース結果（貼付）'!$1:$1,0)),""))) -> 57.142 | M28: =IF(L28<1,"",IF($M$11>L28,"R","")) | P28: =IF(IFERROR(INDEX('[1]2ndヒート - レース結果（貼付）'!$A:$Z,MATCH($A28,'[1]2ndヒート - レース結果（貼付）'!$A:$A,0),MATCH('2ndヒート - レース暫定結果表'!P$11,'[1]2ndヒート - レース結果（貼付）'!$1:$1,0)),"")=0,"",IFERROR(INDEX('[1]2ndヒート - レース結果（貼付）'!$A:$Z,MATCH($A28,'[1]2ndヒート - レース結果（貼付）'!$A:$A,0),MATCH('2ndヒート - レース暫定結果表'!P$11,'[1]2ndヒート - レース結果（貼付）'!$1:$1,0)),"")) | Q28: =IF(P28="","",COUNTIF($P$13:P28,"<>"&"")) | R28: =IFERROR(RANK(Q28,$Q$13:$Q$49,1),"") | S28: =IF(IFERROR(INDEX('[1]2ndヒート - レース結果（貼付）'!$A:$Z,MATCH($A28,'[1]2ndヒート - レース結果（貼付）'!$A:$A,0),MATCH('2ndヒート - レース暫定結果表'!S$11,'[1]2ndヒート - レース結果（貼付）'!$1:$1,0)),"")=0,"",IFERROR(INDEX('[1]2ndヒート - レース結果（貼付）'!$A:$Z,MATCH($A28,'[1]2ndヒート - レース結果（貼付）'!$A:$A,0),MATCH('2ndヒート - レース暫定結果表'!S$11,'[1]2ndヒート - レース結果（貼付）'!$1:$1,0)),"")) | U28: =IF(IFERROR(INDEX('[1]2ndヒート - レース結果（貼付）'!$A:$Z,MATCH($B28,'[1]2ndヒート - レース結果（貼付）'!$B:$B,0),MATCH('2ndヒート - レース暫定結果表'!U$11,'[1]2ndヒート - レース結果（貼付）'!$1:$1,0)),"")=0,"",IFERROR(INDEX('[1]2ndヒート - レース結果（貼付）'!$A:$Z,MATCH($B28,'[1]2ndヒート - レース結果（貼付）'!$B:$B,0),MATCH('2ndヒート - レース暫定結果表'!U$11,'[1]2ndヒート - レース結果（貼付）'!$1:$1,0)),"")) -> 79.633
A29: =IF(OR('[1]2ndヒート - レース結果（貼付）'!A15="DNF",'[1]2ndヒート - レース結果（貼付）'!A15="DNS",'[1]2ndヒート - レース結果（貼付）'!A15="DQ"),'[1]2ndヒート - レース結果（貼付）'!A15,IF(MAX('[1]2ndヒート - レース結果（貼付）'!A:A)>A28,A28+1,"")) -> 14 | B29: =IFERROR(INDEX('[1]2ndヒート - レース結果（貼付）'!A15:$Z$50,MATCH($A29,'[1]2ndヒート - レース結果（貼付）'!A15:$A$50,0),MATCH('2ndヒート - レース暫定結果表'!B$11,'[1]2ndヒート - レース結果（貼付）'!$1:$1,0)),"") -> 29 | D29: =IFERROR(INDEX('[1]2ndヒート - レース結果（貼付）'!$A:$Z,MATCH($B29,'[1]2ndヒート - レース結果（貼付）'!$B:$B,0),MATCH('2ndヒート - レース暫定結果表'!D$11,'[1]2ndヒート - レース結果（貼付）'!$1:$1,0)),"") -> 平田 研二 | E29: =IFERROR(INDEX('[1]2ndヒート - レース結果（貼付）'!$A:$Z,MATCH($B29,'[1]2ndヒート - レース結果（貼付）'!$B:$B,0),MATCH('2ndヒート - レース暫定結果表'!E$11,'[1]2ndヒート - レース結果（貼付）'!$1:$1,0)),"") -> CRG/YAMAHA | F29: =IFERROR(INDEX('[1]2ndヒート - レース結果（貼付）'!$A:$Z,MATCH($B29,'[1]2ndヒート - レース結果（貼付）'!$B:$B,0),MATCH('2ndヒート - レース暫定結果表'!F$11,'[1]2ndヒート - レース結果（貼付）'!$1:$1,0)),"") -> RS nakatsuchi | G29: =IFERROR(INDEX('[1]2ndヒート - レース結果（貼付）'!$A:$Z,MATCH($B29,'[1]2ndヒート - レース結果（貼付）'!$B:$B,0),MATCH('2ndヒート - レース暫定結果表'!G$11,'[1]2ndヒート - レース結果（貼付）'!$1:$1,0)),"") -> BS | H29: =IF(A29="DNS","",IF(A29="DQ","",IFERROR(INDEX('[1]2ndヒート - レース結果（貼付）'!$A:$Z,MATCH($B29,'[1]2ndヒート - レース結果（貼付）'!$B:$B,0),MATCH('2ndヒート - レース暫定結果表'!H$11,'[1]2ndヒート - レース結果（貼付）'!$1:$1,0)),""))) -> 0 | M29: =IF(L29<1,"",IF($M$11>L29,"R","")) | P29: =IF(IFERROR(INDEX('[1]2ndヒート - レース結果（貼付）'!$A:$Z,MATCH($A29,'[1]2ndヒート - レース結果（貼付）'!$A:$A,0),MATCH('2ndヒート - レース暫定結果表'!P$11,'[1]2ndヒート - レース結果（貼付）'!$1:$1,0)),"")=0,"",IFERROR(INDEX('[1]2ndヒート - レース結果（貼付）'!$A:$Z,MATCH($A29,'[1]2ndヒート - レース結果（貼付）'!$A:$A,0),MATCH('2ndヒート - レース暫定結果表'!P$11,'[1]2ndヒート - レース結果（貼付）'!$1:$1,0)),"")) | Q29: =IF(P29="","",COUNTIF($P$13:P29,"<>"&"")) | R29: =IFERROR(RANK(Q29,$Q$13:$Q$49,1),"") | S29: =IF(IFERROR(INDEX('[1]2ndヒート - レース結果（貼付）'!$A:$Z,MATCH($A29,'[1]2ndヒート - レース結果（貼付）'!$A:$A,0),MATCH('2ndヒート - レース暫定結果表'!S$11,'[1]2ndヒート - レース結果（貼付）'!$1:$1,0)),"")=0,"",IFERROR(INDEX('[1]2ndヒート - レース結果（貼付）'!$A:$Z,MATCH($A29,'[1]2ndヒート - レース結果（貼付）'!$A:$A,0),MATCH('2ndヒート - レース暫定結果表'!S$11,'[1]2ndヒート - レース結果（貼付）'!$1:$1,0)),"")) | U29: =IF(IFERROR(INDEX('[1]2ndヒート - レース結果（貼付）'!$A:$Z,MATCH($B29,'[1]2ndヒート - レース結果（貼付）'!$B:$B,0),MATCH('2ndヒート - レース暫定結果表'!U$11,'[1]2ndヒート - レース結果（貼付）'!$1:$1,0)),"")=0,"",IFERROR(INDEX('[1]2ndヒート - レース結果（貼付）'!$A:$Z,MATCH($B29,'[1]2ndヒート - レース結果（貼付）'!$B:$B,0),MATCH('2ndヒート - レース暫定結果表'!U$11,'[1]2ndヒート - レース結果（貼付）'!$1:$1,0)),"")) -> -
A30: =IF(OR('[1]2ndヒート - レース結果（貼付）'!A16="DNF",'[1]2ndヒート - レース結果（貼付）'!A16="DNS",'[1]2ndヒート - レース結果（貼付）'!A16="DQ"),'[1]2ndヒート - レース結果（貼付）'!A16,IF(MAX('[1]2ndヒート - レース結果（貼付）'!A:A)>A29,A29+1,"")) -> 15 | B30: =IFERROR(INDEX('[1]2ndヒート - レース結果（貼付）'!A16:$Z$50,MATCH($A30,'[1]2ndヒート - レース結果（貼付）'!A16:$A$50,0),MATCH('2ndヒート - レース暫定結果表'!B$11,'[1]2ndヒート - レース結果（貼付）'!$1:$1,0)),"") -> 36 | D30: =IFERROR(INDEX('[1]2ndヒート - レース結果（貼付）'!$A:$Z,MATCH($B30,'[1]2ndヒート - レース結果（貼付）'!$B:$B,0),MATCH('2ndヒート - レース暫定結果表'!D$11,'[1]2ndヒート - レース結果（貼付）'!$1:$1,0)),"") -> 野嵜 茂 | E30: =IFERROR(INDEX('[1]2ndヒート - レース結果（貼付）'!$A:$Z,MATCH($B30,'[1]2ndヒート - レース結果（貼付）'!$B:$B,0),MATCH('2ndヒート - レース暫定結果表'!E$11,'[1]2ndヒート - レース結果（貼付）'!$1:$1,0)),"") -> crocpromotion/YAMAHA | F30: =IFERROR(INDEX('[1]2ndヒート - レース結果（貼付）'!$A:$Z,MATCH($B30,'[1]2ndヒート - レース結果（貼付）'!$B:$B,0),MATCH('2ndヒート - レース暫定結果表'!F$11,'[1]2ndヒート - レース結果（貼付）'!$1:$1,0)),"") -> ﾄﾚﾝﾀｸﾜﾄﾛ鈴鹿 | G30: =IFERROR(INDEX('[1]2ndヒート - レース結果（貼付）'!$A:$Z,MATCH($B30,'[1]2ndヒート - レース結果（貼付）'!$B:$B,0),MATCH('2ndヒート - レース暫定結果表'!G$11,'[1]2ndヒート - レース結果（貼付）'!$1:$1,0)),"") -> BS | H30: =IF(A30="DNS","",IF(A30="DQ","",IFERROR(INDEX('[1]2ndヒート - レース結果（貼付）'!$A:$Z,MATCH($B30,'[1]2ndヒート - レース結果（貼付）'!$B:$B,0),MATCH('2ndヒート - レース暫定結果表'!H$11,'[1]2ndヒート - レース結果（貼付）'!$1:$1,0)),""))) -> 0 | M30: =IF(L30<1,"",IF($M$11>L30,"R","")) | P30: =IF(IFERROR(INDEX('[1]2ndヒート - レース結果（貼付）'!$A:$Z,MATCH($A30,'[1]2ndヒート - レース結果（貼付）'!$A:$A,0),MATCH('2ndヒート - レース暫定結果表'!P$11,'[1]2ndヒート - レース結果（貼付）'!$1:$1,0)),"")=0,"",IFERROR(INDEX('[1]2ndヒート - レース結果（貼付）'!$A:$Z,MATCH($A30,'[1]2ndヒート - レース結果（貼付）'!$A:$A,0),MATCH('2ndヒート - レース暫定結果表'!P$11,'[1]2ndヒート - レース結果（貼付）'!$1:$1,0)),"")) | Q30: =IF(P30="","",COUNTIF($P$13:P30,"<>"&"")) | R30: =IFERROR(RANK(Q30,$Q$13:$Q$49,1),"") | S30: =IF(IFERROR(INDEX('[1]2ndヒート - レース結果（貼付）'!$A:$Z,MATCH($A30,'[1]2ndヒート - レース結果（貼付）'!$A:$A,0),MATCH('2ndヒート - レース暫定結果表'!S$11,'[1]2ndヒート - レース結果（貼付）'!$1:$1,0)),"")=0,"",IFERROR(INDEX('[1]2ndヒート - レース結果（貼付）'!$A:$Z,MATCH($A30,'[1]2ndヒート - レース結果（貼付）'!$A:$A,0),MATCH('2ndヒート - レース暫定結果表'!S$11,'[1]2ndヒート - レース結果（貼付）'!$1:$1,0)),"")) | U30: =IF(IFERROR(INDEX('[1]2ndヒート - レース結果（貼付）'!$A:$Z,MATCH($B30,'[1]2ndヒート - レース結果（貼付）'!$B:$B,0),MATCH('2ndヒート - レース暫定結果表'!U$11,'[1]2ndヒート - レース結果（貼付）'!$1:$1,0)),"")=0,"",IFERROR(INDEX('[1]2ndヒート - レース結果（貼付）'!$A:$Z,MATCH($B30,'[1]2ndヒート - レース結果（貼付）'!$B:$B,0),MATCH('2ndヒート - レース暫定結果表'!U$11,'[1]2ndヒート - レース結果（貼付）'!$1:$1,0)),"")) -> -
A31: =IF(OR('[1]2ndヒート - レース結果（貼付）'!A17="DNF",'[1]2ndヒート - レース結果（貼付）'!A17="DNS",'[1]2ndヒート - レース結果（貼付）'!A17="DQ"),'[1]2ndヒート - レース結果（貼付）'!A17,IF(MAX('[1]2ndヒート - レース結果（貼付）'!A:A)>A30,A30+1,"")) -> 16 | B31: =IFERROR(INDEX('[1]2ndヒート - レース結果（貼付）'!A17:$Z$50,MATCH($A31,'[1]2ndヒート - レース結果（貼付）'!A17:$A$50,0),MATCH('2ndヒート - レース暫定結果表'!B$11,'[1]2ndヒート - レース結果（貼付）'!$1:$1,0)),"") -> 66 | D31: =IFERROR(INDEX('[1]2ndヒート - レース結果（貼付）'!$A:$Z,MATCH($B31,'[1]2ndヒート - レース結果（貼付）'!$B:$B,0),MATCH('2ndヒート - レース暫定結果表'!D$11,'[1]2ndヒート - レース結果（貼付）'!$1:$1,0)),"") -> 山本 勝之 | E31: =IFERROR(INDEX('[1]2ndヒート - レース結果（貼付）'!$A:$Z,MATCH($B31,'[1]2ndヒート - レース結果（貼付）'!$B:$B,0),MATCH('2ndヒート - レース暫定結果表'!E$11,'[1]2ndヒート - レース結果（貼付）'!$1:$1,0)),"") -> rozaドラゴコルセ/YAMAHA | F31: =IFERROR(INDEX('[1]2ndヒート - レース結果（貼付）'!$A:$Z,MATCH($B31,'[1]2ndヒート - レース結果（貼付）'!$B:$B,0),MATCH('2ndヒート - レース暫定結果表'!F$11,'[1]2ndヒート - レース結果（貼付）'!$1:$1,0)),"") -> ﾗﾑﾚｰｼﾝｸﾞWITHﾓﾝｷｰﾚﾝﾁ | G31: =IFERROR(INDEX('[1]2ndヒート - レース結果（貼付）'!$A:$Z,MATCH($B31,'[1]2ndヒート - レース結果（貼付）'!$B:$B,0),MATCH('2ndヒート - レース暫定結果表'!G$11,'[1]2ndヒート - レース結果（貼付）'!$1:$1,0)),"") -> BS | H31: =IF(A31="DNS","",IF(A31="DQ","",IFERROR(INDEX('[1]2ndヒート - レース結果（貼付）'!$A:$Z,MATCH($B31,'[1]2ndヒート - レース結果（貼付）'!$B:$B,0),MATCH('2ndヒート - レース暫定結果表'!H$11,'[1]2ndヒート - レース結果（貼付）'!$1:$1,0)),""))) -> 0 | M31: =IF(L31<1,"",IF($M$11>L31,"R","")) | P31: =IF(IFERROR(INDEX('[1]2ndヒート - レース結果（貼付）'!$A:$Z,MATCH($A31,'[1]2ndヒート - レース結果（貼付）'!$A:$A,0),MATCH('2ndヒート - レース暫定結果表'!P$11,'[1]2ndヒート - レース結果（貼付）'!$1:$1,0)),"")=0,"",IFERROR(INDEX('[1]2ndヒート - レース結果（貼付）'!$A:$Z,MATCH($A31,'[1]2ndヒート - レース結果（貼付）'!$A:$A,0),MATCH('2ndヒート - レース暫定結果表'!P$11,'[1]2ndヒート - レース結果（貼付）'!$1:$1,0)),"")) | Q31: =IF(P31="","",COUNTIF($P$13:P31,"<>"&"")) | R31: =IFERROR(RANK(Q31,$Q$13:$Q$49,1),"") | S31: =IF(IFERROR(INDEX('[1]2ndヒート - レース結果（貼付）'!$A:$Z,MATCH($A31,'[1]2ndヒート - レース結果（貼付）'!$A:$A,0),MATCH('2ndヒート - レース暫定結果表'!S$11,'[1]2ndヒート - レース結果（貼付）'!$1:$1,0)),"")=0,"",IFERROR(INDEX('[1]2ndヒート - レース結果（貼付）'!$A:$Z,MATCH($A31,'[1]2ndヒート - レース結果（貼付）'!$A:$A,0),MATCH('2ndヒート - レース暫定結果表'!S$11,'[1]2ndヒート - レース結果（貼付）'!$1:$1,0)),"")) | U31: =IF(IFERROR(INDEX('[1]2ndヒート - レース結果（貼付）'!$A:$Z,MATCH($B31,'[1]2ndヒート - レース結果（貼付）'!$B:$B,0),MATCH('2ndヒート - レース暫定結果表'!U$11,'[1]2ndヒート - レース結果（貼付）'!$1:$1,0)),"")=0,"",IFERROR(INDEX('[1]2ndヒート - レース結果（貼付）'!$A:$Z,MATCH($B31,'[1]2ndヒート - レース結果（貼付）'!$B:$B,0),MATCH('2ndヒート - レース暫定結果表'!U$11,'[1]2ndヒート - レース結果（貼付）'!$1:$1,0)),"")) -> -
A32: =IF(OR('[1]2ndヒート - レース結果（貼付）'!A18="DNF",'[1]2ndヒート - レース結果（貼付）'!A18="DNS",'[1]2ndヒート - レース結果（貼付）'!A18="DQ"),'[1]2ndヒート - レース結果（貼付）'!A18,IF(MAX('[1]2ndヒート - レース結果（貼付）'!A:A)>A31,A31+1,"")) | B32: =IFERROR(INDEX('[1]2ndヒート - レース結果（貼付）'!A18:$Z$50,MATCH($A32,'[1]2ndヒート - レース結果（貼付）'!A18:$A$50,0),MATCH('2ndヒート - レース暫定結果表'!B$11,'[1]2ndヒート - レース結果（貼付）'!$1:$1,0)),"") | D32: =IFERROR(INDEX('[1]2ndヒート - レース結果（貼付）'!$A:$Z,MATCH($B32,'[1]2ndヒート - レース結果（貼付）'!$B:$B,0),MATCH('2ndヒート - レース暫定結果表'!D$11,'[1]2ndヒート - レース結果（貼付）'!$1:$1,0)),"") | E32: =IFERROR(INDEX('[1]2ndヒート - レース結果（貼付）'!$A:$Z,MATCH($B32,'[1]2ndヒート - レース結果（貼付）'!$B:$B,0),MATCH('2ndヒート - レース暫定結果表'!E$11,'[1]2ndヒート - レース結果（貼付）'!$1:$1,0)),"") | F32: =IFERROR(INDEX('[1]2ndヒート - レース結果（貼付）'!$A:$Z,MATCH($B32,'[1]2ndヒート - レース結果（貼付）'!$B:$B,0),MATCH('2ndヒート - レース暫定結果表'!F$11,'[1]2ndヒート - レース結果（貼付）'!$1:$1,0)),"") | G32: =IFERROR(INDEX('[1]2ndヒート - レース結果（貼付）'!$A:$Z,MATCH($B32,'[1]2ndヒート - レース結果（貼付）'!$B:$B,0),MATCH('2ndヒート - レース暫定結果表'!G$11,'[1]2ndヒート - レース結果（貼付）'!$1:$1,0)),"") | H32: =IF(A32="DNS","",IF(A32="DQ","",IFERROR(INDEX('[1]2ndヒート - レース結果（貼付）'!$A:$Z,MATCH($B32,'[1]2ndヒート - レース結果（貼付）'!$B:$B,0),MATCH('2ndヒート - レース暫定結果表'!H$11,'[1]2ndヒート - レース結果（貼付）'!$1:$1,0)),""))) | I32: =IF(A32="DNS","ｽﾀｰﾄ出来ず",IF(A32="DQ","失 格",IFERROR(INDEX('[1]2ndヒート - レース結果（貼付）'!$A:$Z,MATCH($B32,'[1]2ndヒート - レース結果（貼付）'!$B:$B,0),MATCH('2ndヒート - レース暫定結果表'!I$11,'[1]2ndヒート - レース結果（貼付）'!$1:$1,0)),""))) | J32: =IF(A32="DNS","",IF(A32="DQ","",IFERROR(INDEX('[1]2ndヒート - レース結果（貼付）'!$A:$Z,MATCH($B32,'[1]2ndヒート - レース結果（貼付）'!$B:$B,0),MATCH('2ndヒート - レース暫定結果表'!J$11,'[1]2ndヒート - レース結果（貼付）'!$1:$1,0)),""))) | K32: =IF(A32="DNS","",IF(A32="DQ","",IFERROR(INDEX('[1]2ndヒート - レース結果（貼付）'!$A:$Z,MATCH($B32,'[1]2ndヒート - レース結果（貼付）'!$B:$B,0),MATCH('2ndヒート - レース暫定結果表'!K$11,'[1]2ndヒート - レース結果（貼付）'!$1:$1,0)),""))) | L32: =IF(A32="DNS","",IF(A32="DQ","",IFERROR(INDEX('[1]2ndヒート - レース結果（貼付）'!$A:$Z,MATCH($B32,'[1]2ndヒート - レース結果（貼付）'!$B:$B,0),MATCH('2ndヒート - レース暫定結果表'!L$11,'[1]2ndヒート - レース結果（貼付）'!$1:$1,0)),""))) | M32: =IF(L32<1,"",IF($M$11>L32,"R","")) | P32: =IF(IFERROR(INDEX('[1]2ndヒート - レース結果（貼付）'!$A:$Z,MATCH($A32,'[1]2ndヒート - レース結果（貼付）'!$A:$A,0),MATCH('2ndヒート - レース暫定結果表'!P$11,'[1]2ndヒート - レース結果（貼付）'!$1:$1,0)),"")=0,"",IFERROR(INDEX('[1]2ndヒート - レース結果（貼付）'!$A:$Z,MATCH($A32,'[1]2ndヒート - レース結果（貼付）'!$A:$A,0),MATCH('2ndヒート - レース暫定結果表'!P$11,'[1]2ndヒート - レース結果（貼付）'!$1:$1,0)),"")) | Q32: =IF(P32="","",COUNTIF($P$13:P32,"<>"&"")) | R32: =IFERROR(RANK(Q32,$Q$13:$Q$49,1),"") | S32: =IF(IFERROR(INDEX('[1]2ndヒート - レース結果（貼付）'!$A:$Z,MATCH($A32,'[1]2ndヒート - レース結果（貼付）'!$A:$A,0),MATCH('2ndヒート - レース暫定結果表'!S$11,'[1]2ndヒート - レース結果（貼付）'!$1:$1,0)),"")=0,"",IFERROR(INDEX('[1]2ndヒート - レース結果（貼付）'!$A:$Z,MATCH($A32,'[1]2ndヒート - レース結果（貼付）'!$A:$A,0),MATCH('2ndヒート - レース暫定結果表'!S$11,'[1]2ndヒート - レース結果（貼付）'!$1:$1,0)),"")) | U32: =IF(IFERROR(INDEX('[1]2ndヒート - レース結果（貼付）'!$A:$Z,MATCH($B32,'[1]2ndヒート - レース結果（貼付）'!$B:$B,0),MATCH('2ndヒート - レース暫定結果表'!U$11,'[1]2ndヒート - レース結果（貼付）'!$1:$1,0)),"")=0,"",IFERROR(INDEX('[1]2ndヒート - レース結果（貼付）'!$A:$Z,MATCH($B32,'[1]2ndヒート - レース結果（貼付）'!$B:$B,0),MATCH('2ndヒート - レース暫定結果表'!U$11,'[1]2ndヒート - レース結果（貼付）'!$1:$1,0)),""))
A33: =IF(OR('[1]2ndヒート - レース結果（貼付）'!A19="DNF",'[1]2ndヒート - レース結果（貼付）'!A19="DNS",'[1]2ndヒート - レース結果（貼付）'!A19="DQ"),'[1]2ndヒート - レース結果（貼付）'!A19,IF(MAX('[1]2ndヒート - レース結果（貼付）'!A:A)>A32,A32+1,"")) | B33: =IFERROR(INDEX('[1]2ndヒート - レース結果（貼付）'!A19:$Z$50,MATCH($A33,'[1]2ndヒート - レース結果（貼付）'!A19:$A$50,0),MATCH('2ndヒート - レース暫定結果表'!B$11,'[1]2ndヒート - レース結果（貼付）'!$1:$1,0)),"") | D33: =IFERROR(INDEX('[1]2ndヒート - レース結果（貼付）'!$A:$Z,MATCH($B33,'[1]2ndヒート - レース結果（貼付）'!$B:$B,0),MATCH('2ndヒート - レース暫定結果表'!D$11,'[1]2ndヒート - レース結果（貼付）'!$1:$1,0)),"") | E33: =IFERROR(INDEX('[1]2ndヒート - レース結果（貼付）'!$A:$Z,MATCH($B33,'[1]2ndヒート - レース結果（貼付）'!$B:$B,0),MATCH('2ndヒート - レース暫定結果表'!E$11,'[1]2ndヒート - レース結果（貼付）'!$1:$1,0)),"") | F33: =IFERROR(INDEX('[1]2ndヒート - レース結果（貼付）'!$A:$Z,MATCH($B33,'[1]2ndヒート - レース結果（貼付）'!$B:$B,0),MATCH('2ndヒート - レース暫定結果表'!F$11,'[1]2ndヒート - レース結果（貼付）'!$1:$1,0)),"") | G33: =IFERROR(INDEX('[1]2ndヒート - レース結果（貼付）'!$A:$Z,MATCH($B33,'[1]2ndヒート - レース結果（貼付）'!$B:$B,0),MATCH('2ndヒート - レース暫定結果表'!G$11,'[1]2ndヒート - レース結果（貼付）'!$1:$1,0)),"") | H33: =IF(A33="DNS","",IF(A33="DQ","",IFERROR(INDEX('[1]2ndヒート - レース結果（貼付）'!$A:$Z,MATCH($B33,'[1]2ndヒート - レース結果（貼付）'!$B:$B,0),MATCH('2ndヒート - レース暫定結果表'!H$11,'[1]2ndヒート - レース結果（貼付）'!$1:$1,0)),""))) | I33: =IF(A33="DNS","ｽﾀｰﾄ出来ず",IF(A33="DQ","失 格",IFERROR(INDEX('[1]2ndヒート - レース結果（貼付）'!$A:$Z,MATCH($B33,'[1]2ndヒート - レース結果（貼付）'!$B:$B,0),MATCH('2ndヒート - レース暫定結果表'!I$11,'[1]2ndヒート - レース結果（貼付）'!$1:$1,0)),""))) | J33: =IF(A33="DNS","",IF(A33="DQ","",IFERROR(INDEX('[1]2ndヒート - レース結果（貼付）'!$A:$Z,MATCH($B33,'[1]2ndヒート - レース結果（貼付）'!$B:$B,0),MATCH('2ndヒート - レース暫定結果表'!J$11,'[1]2ndヒート - レース結果（貼付）'!$1:$1,0)),""))) | K33: =IF(A33="DNS","",IF(A33="DQ","",IFERROR(INDEX('[1]2ndヒート - レース結果（貼付）'!$A:$Z,MATCH($B33,'[1]2ndヒート - レース結果（貼付）'!$B:$B,0),MATCH('2ndヒート - レース暫定結果表'!K$11,'[1]2ndヒート - レース結果（貼付）'!$1:$1,0)),""))) | L33: =IF(A33="DNS","",IF(A33="DQ","",IFERROR(INDEX('[1]2ndヒート - レース結果（貼付）'!$A:$Z,MATCH($B33,'[1]2ndヒート - レース結果（貼付）'!$B:$B,0),MATCH('2ndヒート - レース暫定結果表'!L$11,'[1]2ndヒート - レース結果（貼付）'!$1:$1,0)),""))) | M33: =IF(L33<1,"",IF($M$11>L33,"R","")) | P33: =IF(IFERROR(INDEX('[1]2ndヒート - レース結果（貼付）'!$A:$Z,MATCH($A33,'[1]2ndヒート - レース結果（貼付）'!$A:$A,0),MATCH('2ndヒート - レース暫定結果表'!P$11,'[1]2ndヒート - レース結果（貼付）'!$1:$1,0)),"")=0,"",IFERROR(INDEX('[1]2ndヒート - レース結果（貼付）'!$A:$Z,MATCH($A33,'[1]2ndヒート - レース結果（貼付）'!$A:$A,0),MATCH('2ndヒート - レース暫定結果表'!P$11,'[1]2ndヒート - レース結果（貼付）'!$1:$1,0)),"")) | Q33: =IF(P33="","",COUNTIF($P$13:P33,"<>"&"")) | R33: =IFERROR(RANK(Q33,$Q$13:$Q$49,1),"") | S33: =IF(IFERROR(INDEX('[1]2ndヒート - レース結果（貼付）'!$A:$Z,MATCH($A33,'[1]2ndヒート - レース結果（貼付）'!$A:$A,0),MATCH('2ndヒート - レース暫定結果表'!S$11,'[1]2ndヒート - レース結果（貼付）'!$1:$1,0)),"")=0,"",IFERROR(INDEX('[1]2ndヒート - レース結果（貼付）'!$A:$Z,MATCH($A33,'[1]2ndヒート - レース結果（貼付）'!$A:$A,0),MATCH('2ndヒート - レース暫定結果表'!S$11,'[1]2ndヒート - レース結果（貼付）'!$1:$1,0)),"")) | U33: =IF(IFERROR(INDEX('[1]2ndヒート - レース結果（貼付）'!$A:$Z,MATCH($B33,'[1]2ndヒート - レース結果（貼付）'!$B:$B,0),MATCH('2ndヒート - レース暫定結果表'!U$11,'[1]2ndヒート - レース結果（貼付）'!$1:$1,0)),"")=0,"",IFERROR(INDEX('[1]2ndヒート - レース結果（貼付）'!$A:$Z,MATCH($B33,'[1]2ndヒート - レース結果（貼付）'!$B:$B,0),MATCH('2ndヒート - レース暫定結果表'!U$11,'[1]2ndヒート - レース結果（貼付）'!$1:$1,0)),""))
