Workbook

Sheet 決勝ヒート - レース暫定結果表
I6: =+[1]各種設定!D18 -> 44759 | K6: :
A7: =+[1]各種設定!D2 -> 2022 鈴鹿選手権シリーズ第4戦 ｶｰﾄﾚｰｽ IN SUZUKA | J7: WEATHER: | K7: Fine
J8: COURSE : | K8: Dry
A9: =+[1]各種設定!D4 -> カデット オープン | L9: 国際南コース 1.264Km
A10: 決勝ヒート暫定結果表
B11: No. | D11: 名前 | E11: Model/Engine | F11: Team | G11: Tires | H11: Laps | I11: Total Time | J11: 差 | K11: GAP | L11: BestLap | M11: =VLOOKUP(A9,[1]コースレコード!$A:$G,3,FALSE) -> 55.806 | P11: コメント | R11: ペナルティNo. | S11: グリッドコメント | U11: ベスト平均時速
A12: Pos. | B12: No. | D12: Driver | E12: Type | F12: Team | G12: Tire | H12: Laps | I12: Total Time | J12: Delay | K12: Gap | L12: Best
A13: 1 | B13: =IFERROR(INDEX('[1]決勝ヒート - レース結果（貼付）'!A2:$Z$50,MATCH($A13,'[1]決勝ヒート - レース結果（貼付）'!A2:$A$50,0),MATCH('決勝ヒート - レース暫定結果表'!B$11,'[1]決勝ヒート - レース結果（貼付）'!$1:$1,0)),"") -> 37 | D13: =IFERROR(INDEX('[1]決勝ヒート - レース結果（貼付）'!$A:$Z,MATCH($B13,'[1]決勝ヒート - レース結果（貼付）'!$B:$B,0),MATCH('決勝ヒート - レース暫定結果表'!D$11,'[1]決勝ヒート - レース結果（貼付）'!$1:$1,0)),"") -> 前田 蒼介 | E13: =IFERROR(INDEX('[1]決勝ヒート - レース結果（貼付）'!$A:$Z,MATCH($B13,'[1]決勝ヒート - レース結果（貼付）'!$B:$B,0),MATCH('決勝ヒート - レース暫定結果表'!E$11,'[1]決勝ヒート - レース結果（貼付）'!$1:$1,0)),"") -> KARTREPUBLIC/YAMAHA | F13: =IFERROR(INDEX('[1]決勝ヒート - レース結果（貼付）'!$A:$Z,MATCH($B13,'[1]決勝ヒート - レース結果（貼付）'!$B:$B,0),MATCH('決勝ヒート - レース暫定結果表'!F$11,'[1]決勝ヒート - レース結果（貼付）'!$1:$1,0)),"") -> Team REGOLITH | G13: =IFERROR(INDEX('[1]決勝ヒート - レース結果（貼付）'!$A:$Z,MATCH($B13,'[1]決勝ヒート - レース結果（貼付）'!$B:$B,0),MATCH('決勝ヒート - レース暫定結果表'!G$11,'[1]決勝ヒート - レース結果（貼付）'!$1:$1,0)),"") -> YH | H13: =IFERROR(INDEX('[1]決勝ヒート - レース結果（貼付）'!$A:$Z,MATCH($B13,'[1]決勝ヒート - レース結果（貼付）'!$B:$B,0),MATCH('決勝ヒート - レース暫定結果表'!H$11,'[1]決勝ヒート - レース結果（貼付）'!$1:$1,0)),"") -> 12 | I13: =IF(A13="DNS","ｽﾀｰﾄ出来ず",IF(A13="DQ","失 格",IFERROR(INDEX('[1]決勝ヒート - レース結果（貼付）'!$A:$Z,MATCH($B13,'[1]決勝ヒート - レース結果（貼付）'!$B:$B,0),MATCH('決勝ヒート - レース暫定結果表'!I$11,'[1]決勝ヒート - レース結果（貼付）'!$1:$1,0)),""))) -> 0.0081493634 | J13: =ROUND((1.264*H13)/(I13*24),2)&"km/h" -> 77.55km/h | L13: =IFERROR(INDEX('[1]決勝ヒート - レース結果（貼付）'!$A:$Z,MATCH($B13,'[1]決勝ヒート - レース結果（貼付）'!$B:$B,0),MATCH('決勝ヒート - レース暫定結果表'!L$11,'[1]決勝ヒート - レース結果（貼付）'!$1:$1,0)),"") -> 58.057 | M13: =IF(L13<1,"",IF($M$11>L13,"R","")) | P13: =IF(IFERROR(INDEX('[1]決勝ヒート - レース結果（貼付）'!$A:$Z,MATCH($B13,'[1]決勝ヒート - レース結果（貼付）'!$B:$B,0),MATCH('決勝ヒート - レース暫定結果表'!P$11,'[1]決勝ヒート - レース結果（貼付）'!$1:$1,0)),"")=0,"",IFERROR(INDEX('[1]決勝ヒート - レース結果（貼付）'!$A:$Z,MATCH($B13,'[1]決勝ヒート - レース結果（貼付）'!$B:$B,0),MATCH('決勝ヒート - レース暫定結果表'!P$11,'[1]決勝ヒート - レース結果（貼付）'!$1:$1,0)),"")) | Q13: =IF(P13="","",COUNTIF($P$13:P13,"<>"&"")) | R13: =IFERROR(RANK(Q13,$Q$13:$Q$47,1),"") | S13: =IF(IFERROR(INDEX('[1]決勝ヒート - レース結果（貼付）'!$A:$Z,MATCH($A13,'[1]決勝ヒート - レース結果（貼付）'!$A:$A,0),MATCH('決勝ヒート - レース暫定結果表'!S$11,'[1]決勝ヒート - レース結果（貼付）'!$1:$1,0)),"")=0,"",IFERROR(INDEX('[1]決勝ヒート - レース結果（貼付）'!$A:$Z,MATCH($A13,'[1]決勝ヒート - レース結果（貼付）'!$A:$A,0),MATCH('決勝ヒート - レース暫定結果表'!S$11,'[1]決勝ヒート - レース結果（貼付）'!$1:$1,0)),"")) | U13: =IF(IFERROR(INDEX('[1]決勝ヒート - レース結果（貼付）'!$A:$Z,MATCH($B13,'[1]決勝ヒート - レース結果（貼付）'!$B:$B,0),MATCH('決勝ヒート - レース暫定結果表'!U$11,'[1]決勝ヒート - レース結果（貼付）'!$1:$1,0)),"")=0,"",IFERROR(INDEX('[1]決勝ヒート - レース結果（貼付）'!$A:$Z,MATCH($B13,'[1]決勝ヒート - レース結果（貼付）'!$B:$B,0),MATCH('決勝ヒート - レース暫定結果表'!U$11,'[1]決勝ヒート - レース結果（貼付）'!$1:$1,0)),"")) -> 78.378
A14: =IF(OR('[1]決勝ヒート - レース結果（貼付）'!A3="DNF",'[1]決勝ヒート - レース結果（貼付）'!A3="DNS",'[1]決勝ヒート - レース結果（貼付）'!A3="DQ"),'[1]決勝ヒート - レース結果（貼付）'!A3,IF(MAX('[1]決勝ヒート - レース結果（貼付）'!A:A)>A13,A13+1,"")) -> 2 | B14: =IFERROR(INDEX('[1]決勝ヒート - レース結果（貼付）'!A3:$Z$50,MATCH($A14,'[1]決勝ヒート - レース結果（貼付）'!A3:$A$50,0),MATCH('決勝ヒート - レース暫定結果表'!B$11,'[1]決勝ヒート - レース結果（貼付）'!$1:$1,0)),"") -> 23 | D14: =IFERROR(INDEX('[1]決勝ヒート - レース結果（貼付）'!$A:$Z,MATCH($B14,'[1]決勝ヒート - レース結果（貼付）'!$B:$B,0),MATCH('決勝ヒート - レース暫定結果表'!D$11,'[1]決勝ヒート - レース結果（貼付）'!$1:$1,0)),"") -> 柴崎 尊 | E14: =IFERROR(INDEX('[1]決勝ヒート - レース結果（貼付）'!$A:$Z,MATCH($B14,'[1]決勝ヒート - レース結果（貼付）'!$B:$B,0),MATCH('決勝ヒート - レース暫定結果表'!E$11,'[1]決勝ヒート - レース結果（貼付）'!$1:$1,0)),"") -> ﾊﾟﾛﾘﾝ/YAMAHA | F14: =IFERROR(INDEX('[1]決勝ヒート - レース結果（貼付）'!$A:$Z,MATCH($B14,'[1]決勝ヒート - レース結果（貼付）'!$B:$B,0),MATCH('決勝ヒート - レース暫定結果表'!F$11,'[1]決勝ヒート - レース結果（貼付）'!$1:$1,0)),"") -> HRS JAPAN | G14: =IFERROR(INDEX('[1]決勝ヒート - レース結果（貼付）'!$A:$Z,MATCH($B14,'[1]決勝ヒート - レース結果（貼付）'!$B:$B,0),MATCH('決勝ヒート - レース暫定結果表'!G$11,'[1]決勝ヒート - レース結果（貼付）'!$1:$1,0)),"") -> YH | H14: =IF(A14="DNS","",IF(A14="DQ","",IFERROR(INDEX('[1]決勝ヒート - レース結果（貼付）'!$A:$Z,MATCH($A14,'[1]決勝ヒート - レース結果（貼付）'!$A:$A,0),MATCH('決勝ヒート - レース暫定結果表'!H$11,'[1]決勝ヒート - レース結果（貼付）'!$1:$1,0)),""))) -> 12 | I14: =IF(A14="DNS","ｽﾀｰﾄ出来ず",IF(A14="DQ","失 格",IFERROR(INDEX('[1]決勝ヒート - レース結果（貼付）'!$A:$Z,MATCH($B14,'[1]決勝ヒート - レース結果（貼付）'!$B:$B,0),MATCH('決勝ヒート - レース暫定結果表'!I$11,'[1]決勝ヒート - レース結果（貼付）'!$1:$1,0)),""))) -> 0.0081526273 | J14: =IF(A14="DNS","",IF(A14="DQ","",IFERROR(INDEX('[1]決勝ヒート - レース結果（貼付）'!$A:$Z,MATCH($A14,'[1]決勝ヒート - レース結果（貼付）'!$A:$A,0),MATCH('決勝ヒート - レース暫定結果表'!J$11,'[1]決勝ヒート - レース結果（貼付）'!$1:$1,0)),""))) -> 0.282 | K14: =IF(A14="DNS","",IF(A14="DQ","",IFERROR(INDEX('[1]決勝ヒート - レース結果（貼付）'!$A:$Z,MATCH($A14,'[1]決勝ヒート - レース結果（貼付）'!$A:$A,0),MATCH('決勝ヒート - レース暫定結果表'!K$11,'[1]決勝ヒート - レース結果（貼付）'!$1:$1,0)),""))) -> 0.282 | L14: =IF(A14="DNS","",IF(A14="DQ","",IFERROR(INDEX('[1]決勝ヒート - レース結果（貼付）'!$A:$Z,MATCH($B14,'[1]決勝ヒート - レース結果（貼付）'!$B:$B,0),MATCH('決勝ヒート - レース暫定結果表'!L$11,'[1]決勝ヒート - レース結果（貼付）'!$1:$1,0)),""))) -> 58.001 | M14: =IF(L14<1,"",IF($M$11>L14,"R","")) | P14: =IF(IFERROR(INDEX('[1]決勝ヒート - レース結果（貼付）'!$A:$Z,MATCH($B14,'[1]決勝ヒート - レース結果（貼付）'!$B:$B,0),MATCH('決勝ヒート - レース暫定結果表'!P$11,'[1]決勝ヒート - レース結果（貼付）'!$1:$1,0)),"")=0,"",IFERROR(INDEX('[1]決勝ヒート - レース結果（貼付）'!$A:$Z,MATCH($B14,'[1]決勝ヒート - レース結果（貼付）'!$B:$B,0),MATCH('決勝ヒート - レース暫定結果表'!P$11,'[1]決勝ヒート - レース結果（貼付）'!$1:$1,0)),"")) | Q14: =IF(P14="","",COUNTIF($P$13:P14,"<>"&"")) | R14: =IFERROR(RANK(Q14,$Q$13:$Q$47,1),"") | S14: =IF(IFERROR(INDEX('[1]決勝ヒート - レース結果（貼付）'!$A:$Z,MATCH($A14,'[1]決勝ヒート - レース結果（貼付）'!$A:$A,0),MATCH('決勝ヒート - レース暫定結果表'!S$11,'[1]決勝ヒート - レース結果（貼付）'!$1:$1,0)),"")=0,"",IFERROR(INDEX('[1]決勝ヒート - レース結果（貼付）'!$A:$Z,MATCH($A14,'[1]決勝ヒート - レース結果（貼付）'!$A:$A,0),MATCH('決勝ヒート - レース暫定結果表'!S$11,'[1]決勝ヒート - レース結果（貼付）'!$1:$1,0)),"")) | U14: =IF(IFERROR(INDEX('[1]決勝ヒート - レース結果（貼付）'!$A:$Z,MATCH($B14,'[1]決勝ヒート - レース結果（貼付）'!$B:$B,0),MATCH('決勝ヒート - レース暫定結果表'!U$11,'[1]決勝ヒート - レース結果（貼付）'!$1:$1,0)),"")=0,"",IFERROR(INDEX('[1]決勝ヒート - レース結果（貼付）'!$A:$Z,MATCH($B14,'[1]決勝ヒート - レース結果（貼付）'!$B:$B,0),MATCH('決勝ヒート - レース暫定結果表'!U$11,'[1]決勝ヒート - レース結果（貼付）'!$1:$1,0)),"")) -> 78.454
A15: =IF(OR('[1]決勝ヒート - レース結果（貼付）'!A4="DNF",'[1]決勝ヒート - レース結果（貼付）'!A4="DNS",'[1]決勝ヒート - レース結果（貼付）'!A4="DQ"),'[1]決勝ヒート - レース結果（貼付）'!A4,IF(MAX('[1]決勝ヒート - レース結果（貼付）'!A:A)>A14,A14+1,"")) -> 3 | B15: =IFERROR(INDEX('[1]決勝ヒート - レース結果（貼付）'!A4:$Z$50,MATCH($A15,'[1]決勝ヒート - レース結果（貼付）'!A4:$A$50,0),MATCH('決勝ヒート - レース暫定結果表'!B$11,'[1]決勝ヒート - レース結果（貼付）'!$1:$1,0)),"") -> 16 | D15: =IFERROR(INDEX('[1]決勝ヒート - レース結果（貼付）'!$A:$Z,MATCH($B15,'[1]決勝ヒート - レース結果（貼付）'!$B:$B,0),MATCH('決勝ヒート - レース暫定結果表'!D$11,'[1]決勝ヒート - レース結果（貼付）'!$1:$1,0)),"") -> 横山 輝翔 | E15: =IFERROR(INDEX('[1]決勝ヒート - レース結果（貼付）'!$A:$Z,MATCH($B15,'[1]決勝ヒート - レース結果（貼付）'!$B:$B,0),MATCH('決勝ヒート - レース暫定結果表'!E$11,'[1]決勝ヒート - レース結果（貼付）'!$1:$1,0)),"") -> energy/YAMAHA | F15: =IFERROR(INDEX('[1]決勝ヒート - レース結果（貼付）'!$A:$Z,MATCH($B15,'[1]決勝ヒート - レース結果（貼付）'!$B:$B,0),MATCH('決勝ヒート - レース暫定結果表'!F$11,'[1]決勝ヒート - レース結果（貼付）'!$1:$1,0)),"") -> ﾁｰﾑﾅｶﾞｵ | G15: =IFERROR(INDEX('[1]決勝ヒート - レース結果（貼付）'!$A:$Z,MATCH($B15,'[1]決勝ヒート - レース結果（貼付）'!$B:$B,0),MATCH('決勝ヒート - レース暫定結果表'!G$11,'[1]決勝ヒート - レース結果（貼付）'!$1:$1,0)),"") -> YH | H15: =IF(A15="DNS","",IF(A15="DQ","",IFERROR(INDEX('[1]決勝ヒート - レース結果（貼付）'!$A:$Z,MATCH($A15,'[1]決勝ヒート - レース結果（貼付）'!$A:$A,0),MATCH('決勝ヒート - レース暫定結果表'!H$11,'[1]決勝ヒート - レース結果（貼付）'!$1:$1,0)),""))) -> 12 | I15: =IF(A15="DNS","ｽﾀｰﾄ出来ず",IF(A15="DQ","失 格",IFERROR(INDEX('[1]決勝ヒート - レース結果（貼付）'!$A:$Z,MATCH($B15,'[1]決勝ヒート - レース結果（貼付）'!$B:$B,0),MATCH('決勝ヒート - レース暫定結果表'!I$11,'[1]決勝ヒート - レース結果（貼付）'!$1:$1,0)),""))) -> 0.008155463 | J15: =IF(A15="DNS","",IF(A15="DQ","",IFERROR(INDEX('[1]決勝ヒート - レース結果（貼付）'!$A:$Z,MATCH($A15,'[1]決勝ヒート - レース結果（貼付）'!$A:$A,0),MATCH('決勝ヒート - レース暫定結果表'!J$11,'[1]決勝ヒート - レース結果（貼付）'!$1:$1,0)),""))) -> 0.527 | K15: =IF(A15="DNS","",IF(A15="DQ","",IFERROR(INDEX('[1]決勝ヒート - レース結果（貼付）'!$A:$Z,MATCH($A15,'[1]決勝ヒート - レース結果（貼付）'!$A:$A,0),MATCH('決勝ヒート - レース暫定結果表'!K$11,'[1]決勝ヒート - レース結果（貼付）'!$1:$1,0)),""))) -> 0.245 | L15: =IF(A15="DNS","",IF(A15="DQ","",IFERROR(INDEX('[1]決勝ヒート - レース結果（貼付）'!$A:$Z,MATCH($B15,'[1]決勝ヒート - レース結果（貼付）'!$B:$B,0),MATCH('決勝ヒート - レース暫定結果表'!L$11,'[1]決勝ヒート - レース結果（貼付）'!$1:$1,0)),""))) -> 57.953 | M15: =IF(L15<1,"",IF($M$11>L15,"R","")) | P15: =IF(IFERROR(INDEX('[1]決勝ヒート - レース結果（貼付）'!$A:$Z,MATCH($B15,'[1]決勝ヒート - レース結果（貼付）'!$B:$B,0),MATCH('決勝ヒート - レース暫定結果表'!P$11,'[1]決勝ヒート - レース結果（貼付）'!$1:$1,0)),"")=0,"",IFERROR(INDEX('[1]決勝ヒート - レース結果（貼付）'!$A:$Z,MATCH($B15,'[1]決勝ヒート - レース結果（貼付）'!$B:$B,0),MATCH('決勝ヒート - レース暫定結果表'!P$11,'[1]決勝ヒート - レース結果（貼付）'!$1:$1,0)),"")) | Q15: =IF(P15="","",COUNTIF($P$13:P15,"<>"&"")) | R15: =IFERROR(RANK(Q15,$Q$13:$Q$47,1),"") | S15: =IF(IFERROR(INDEX('[1]決勝ヒート - レース結果（貼付）'!$A:$Z,MATCH($A15,'[1]決勝ヒート - レース結果（貼付）'!$A:$A,0),MATCH('決勝ヒート - レース暫定結果表'!S$11,'[1]決勝ヒート - レース結果（貼付）'!$1:$1,0)),"")=0,"",IFERROR(INDEX('[1]決勝ヒート - レース結果（貼付）'!$A:$Z,MATCH($A15,'[1]決勝ヒート - レース結果（貼付）'!$A:$A,0),MATCH('決勝ヒート - レース暫定結果表'!S$11,'[1]決勝ヒート - レース結果（貼付）'!$1:$1,0)),"")) | U15: =IF(IFERROR(INDEX('[1]決勝ヒート - レース結果（貼付）'!$A:$Z,MATCH($B15,'[1]決勝ヒート - レース結果（貼付）'!$B:$B,0),MATCH('決勝ヒート - レース暫定結果表'!U$11,'[1]決勝ヒート - レース結果（貼付）'!$1:$1,0)),"")=0,"",IFERROR(INDEX('[1]決勝ヒート - レース結果（貼付）'!$A:$Z,MATCH($B15,'[1]決勝ヒート - レース結果（貼付）'!$B:$B,0),MATCH('決勝ヒート - レース暫定結果表'!U$11,'[1]決勝ヒート - レース結果（貼付）'!$1:$1,0)),"")) -> 78.519
A16: =IF(OR('[1]決勝ヒート - レース結果（貼付）'!A5="DNF",'[1]決勝ヒート - レース結果（貼付）'!A5="DNS",'[1]決勝ヒート - レース結果（貼付）'!A5="DQ"),'[1]決勝ヒート - レース結果（貼付）'!A5,IF(MAX('[1]決勝ヒート - レース結果（貼付）'!A:A)>A15,A15+1,"")) -> 4 | B16: =IFERROR(INDEX('[1]決勝ヒート - レース結果（貼付）'!A5:$Z$50,MATCH($A16,'[1]決勝ヒート - レース結果（貼付）'!A5:$A$50,0),MATCH('決勝ヒート - レース暫定結果表'!B$11,'[1]決勝ヒート - レース結果（貼付）'!$1:$1,0)),"") -> 56 | D16: =IFERROR(INDEX('[1]決勝ヒート - レース結果（貼付）'!$A:$Z,MATCH($B16,'[1]決勝ヒート - レース結果（貼付）'!$B:$B,0),MATCH('決勝ヒート - レース暫定結果表'!D$11,'[1]決勝ヒート - レース結果（貼付）'!$1:$1,0)),"") -> 南崎 高志 | E16: =IFERROR(INDEX('[1]決勝ヒート - レース結果（貼付）'!$A:$Z,MATCH($B16,'[1]決勝ヒート - レース結果（貼付）'!$B:$B,0),MATCH('決勝ヒート - レース暫定結果表'!E$11,'[1]決勝ヒート - レース結果（貼付）'!$1:$1,0)),"") -> Energy corse/YAMAHA | F16: =IFERROR(INDEX('[1]決勝ヒート - レース結果（貼付）'!$A:$Z,MATCH($B16,'[1]決勝ヒート - レース結果（貼付）'!$B:$B,0),MATCH('決勝ヒート - レース暫定結果表'!F$11,'[1]決勝ヒート - レース結果（貼付）'!$1:$1,0)),"") -> ｼﾅｼﾞｰﾘﾝｸｽ | G16: =IFERROR(INDEX('[1]決勝ヒート - レース結果（貼付）'!$A:$Z,MATCH($B16,'[1]決勝ヒート - レース結果（貼付）'!$B:$B,0),MATCH('決勝ヒート - レース暫定結果表'!G$11,'[1]決勝ヒート - レース結果（貼付）'!$1:$1,0)),"") -> YH | H16: =IF(A16="DNS","",IF(A16="DQ","",IFERROR(INDEX('[1]決勝ヒート - レース結果（貼付）'!$A:$Z,MATCH($A16,'[1]決勝ヒート - レース結果（貼付）'!$A:$A,0),MATCH('決勝ヒート - レース暫定結果表'!H$11,'[1]決勝ヒート - レース結果（貼付）'!$1:$1,0)),""))) -> 12 | I16: =IF(A16="DNS","ｽﾀｰﾄ出来ず",IF(A16="DQ","失 格",IFERROR(INDEX('[1]決勝ヒート - レース結果（貼付）'!$A:$Z,MATCH($B16,'[1]決勝ヒート - レース結果（貼付）'!$B:$B,0),MATCH('決勝ヒート - レース暫定結果表'!I$11,'[1]決勝ヒート - レース結果（貼付）'!$1:$1,0)),""))) -> 0.008157662 | J16: =IF(A16="DNS","",IF(A16="DQ","",IFERROR(INDEX('[1]決勝ヒート - レース結果（貼付）'!$A:$Z,MATCH($A16,'[1]決勝ヒート - レース結果（貼付）'!$A:$A,0),MATCH('決勝ヒート - レース暫定結果表'!J$11,'[1]決勝ヒート - レース結果（貼付）'!$1:$1,0)),""))) -> 0.717 | K16: =IF(A16="DNS","",IF(A16="DQ","",IFERROR(INDEX('[1]決勝ヒート - レース結果（貼付）'!$A:$Z,MATCH($A16,'[1]決勝ヒート - レース結果（貼付）'!$A:$A,0),MATCH('決勝ヒート - レース暫定結果表'!K$11,'[1]決勝ヒート - レース結果（貼付）'!$1:$1,0)),""))) -> 0.19 | L16: =IF(A16="DNS","",IF(A16="DQ","",IFERROR(INDEX('[1]決勝ヒート - レース結果（貼付）'!$A:$Z,MATCH($B16,'[1]決勝ヒート - レース結果（貼付）'!$B:$B,0),MATCH('決勝ヒート - レース暫定結果表'!L$11,'[1]決勝ヒート - レース結果（貼付）'!$1:$1,0)),""))) -> 57.901 | M16: =IF(L16<1,"",IF($M$11>L16,"R","")) | P16: =IF(IFERROR(INDEX('[1]決勝ヒート - レース結果（貼付）'!$A:$Z,MATCH($B16,'[1]決勝ヒート - レース結果（貼付）'!$B:$B,0),MATCH('決勝ヒート - レース暫定結果表'!P$11,'[1]決勝ヒート - レース結果（貼付）'!$1:$1,0)),"")=0,"",IFERROR(INDEX('[1]決勝ヒート - レース結果（貼付）'!$A:$Z,MATCH($B16,'[1]決勝ヒート - レース結果（貼付）'!$B:$B,0),MATCH('決勝ヒート - レース暫定結果表'!P$11,'[1]決勝ヒート - レース結果（貼付）'!$1:$1,0)),"")) | Q16: =IF(P16="","",COUNTIF($P$13:P16,"<>"&"")) | R16: =IFERROR(RANK(Q16,$Q$13:$Q$47,1),"") | S16: =IF(IFERROR(INDEX('[1]決勝ヒート - レース結果（貼付）'!$A:$Z,MATCH($A16,'[1]決勝ヒート - レース結果（貼付）'!$A:$A,0),MATCH('決勝ヒート - レース暫定結果表'!S$11,'[1]決勝ヒート - レース結果（貼付）'!$1:$1,0)),"")=0,"",IFERROR(INDEX('[1]決勝ヒート - レース結果（貼付）'!$A:$Z,MATCH($A16,'[1]決勝ヒート - レース結果（貼付）'!$A:$A,0),MATCH('決勝ヒート - レース暫定結果表'!S$11,'[1]決勝ヒート - レース結果（貼付）'!$1:$1,0)),"")) | U16: =IF(IFERROR(INDEX('[1]決勝ヒート - レース結果（貼付）'!$A:$Z,MATCH($B16,'[1]決勝ヒート - レース結果（貼付）'!$B:$B,0),MATCH('決勝ヒート - レース暫定結果表'!U$11,'[1]決勝ヒート - レース結果（貼付）'!$1:$1,0)),"")=0,"",IFERROR(INDEX('[1]決勝ヒート - レース結果（貼付）'!$A:$Z,MATCH($B16,'[1]決勝ヒート - レース結果（貼付）'!$B:$B,0),MATCH('決勝ヒート - レース暫定結果表'!U$11,'[1]決勝ヒート - レース結果（貼付）'!$1:$1,0)),"")) -> 78.589
A17: =IF(OR('[1]決勝ヒート - レース結果（貼付）'!A6="DNF",'[1]決勝ヒート - レース結果（貼付）'!A6="DNS",'[1]決勝ヒート - レース結果（貼付）'!A6="DQ"),'[1]決勝ヒート - レース結果（貼付）'!A6,IF(MAX('[1]決勝ヒート - レース結果（貼付）'!A:A)>A16,A16+1,"")) -> 5 | B17: =IFERROR(INDEX('[1]決勝ヒート - レース結果（貼付）'!A6:$Z$50,MATCH($A17,'[1]決勝ヒート - レース結果（貼付）'!A6:$A$50,0),MATCH('決勝ヒート - レース暫定結果表'!B$11,'[1]決勝ヒート - レース結果（貼付）'!$1:$1,0)),"") -> 18 | D17: =IFERROR(INDEX('[1]決勝ヒート - レース結果（貼付）'!$A:$Z,MATCH($B17,'[1]決勝ヒート - レース結果（貼付）'!$B:$B,0),MATCH('決勝ヒート - レース暫定結果表'!D$11,'[1]決勝ヒート - レース結果（貼付）'!$1:$1,0)),"") -> 関谷 拓真 | E17: =IFERROR(INDEX('[1]決勝ヒート - レース結果（貼付）'!$A:$Z,MATCH($B17,'[1]決勝ヒート - レース結果（貼付）'!$B:$B,0),MATCH('決勝ヒート - レース暫定結果表'!E$11,'[1]決勝ヒート - レース結果（貼付）'!$1:$1,0)),"") -> PAROLIN/YAMAHA | F17: =IFERROR(INDEX('[1]決勝ヒート - レース結果（貼付）'!$A:$Z,MATCH($B17,'[1]決勝ヒート - レース結果（貼付）'!$B:$B,0),MATCH('決勝ヒート - レース暫定結果表'!F$11,'[1]決勝ヒート - レース結果（貼付）'!$1:$1,0)),"") -> RT WORLD | G17: =IFERROR(INDEX('[1]決勝ヒート - レース結果（貼付）'!$A:$Z,MATCH($B17,'[1]決勝ヒート - レース結果（貼付）'!$B:$B,0),MATCH('決勝ヒート - レース暫定結果表'!G$11,'[1]決勝ヒート - レース結果（貼付）'!$1:$1,0)),"") -> YH | H17: =IF(A17="DNS","",IF(A17="DQ","",IFERROR(INDEX('[1]決勝ヒート - レース結果（貼付）'!$A:$Z,MATCH($A17,'[1]決勝ヒート - レース結果（貼付）'!$A:$A,0),MATCH('決勝ヒート - レース暫定結果表'!H$11,'[1]決勝ヒート - レース結果（貼付）'!$1:$1,0)),""))) -> 12 | I17: =IF(A17="DNS","ｽﾀｰﾄ出来ず",IF(A17="DQ","失 格",IFERROR(INDEX('[1]決勝ヒート - レース結果（貼付）'!$A:$Z,MATCH($B17,'[1]決勝ヒート - レース結果（貼付）'!$B:$B,0),MATCH('決勝ヒート - レース暫定結果表'!I$11,'[1]決勝ヒート - レース結果（貼付）'!$1:$1,0)),""))) -> 0.008161412 | J17: =IF(A17="DNS","",IF(A17="DQ","",IFERROR(INDEX('[1]決勝ヒート - レース結果（貼付）'!$A:$Z,MATCH($A17,'[1]決勝ヒート - レース結果（貼付）'!$A:$A,0),MATCH('決勝ヒート - レース暫定結果表'!J$11,'[1]決勝ヒート - レース結果（貼付）'!$1:$1,0)),""))) -> 1.041 | K17: =IF(A17="DNS","",IF(A17="DQ","",IFERROR(INDEX('[1]決勝ヒート - レース結果（貼付）'!$A:$Z,MATCH($A17,'[1]決勝ヒート - レース結果（貼付）'!$A:$A,0),MATCH('決勝ヒート - レース暫定結果表'!K$11,'[1]決勝ヒート - レース結果（貼付）'!$1:$1,0)),""))) -> 0.324 | L17: =IF(A17="DNS","",IF(A17="DQ","",IFERROR(INDEX('[1]決勝ヒート - レース結果（貼付）'!$A:$Z,MATCH($B17,'[1]決勝ヒート - レース結果（貼付）'!$B:$B,0),MATCH('決勝ヒート - レース暫定結果表'!L$11,'[1]決勝ヒート - レース結果（貼付）'!$1:$1,0)),""))) -> 58.185 | M17: =IF(L17<1,"",IF($M$11>L17,"R","")) | P17: =IF(IFERROR(INDEX('[1]決勝ヒート - レース結果（貼付）'!$A:$Z,MATCH($B17,'[1]決勝ヒート - レース結果（貼付）'!$B:$B,0),MATCH('決勝ヒート - レース暫定結果表'!P$11,'[1]決勝ヒート - レース結果（貼付）'!$1:$1,0)),"")=0,"",IFERROR(INDEX('[1]決勝ヒート - レース結果（貼付）'!$A:$Z,MATCH($B17,'[1]決勝ヒート - レース結果（貼付）'!$B:$B,0),MATCH('決勝ヒート - レース暫定結果表'!P$11,'[1]決勝ヒート - レース結果（貼付）'!$1:$1,0)),"")) | Q17: =IF(P17="","",COUNTIF($P$13:P17,"<>"&"")) | R17: =IFERROR(RANK(Q17,$Q$13:$Q$47,1),"") | S17: =IF(IFERROR(INDEX('[1]決勝ヒート - レース結果（貼付）'!$A:$Z,MATCH($A17,'[1]決勝ヒート - レース結果（貼付）'!$A:$A,0),MATCH('決勝ヒート - レース暫定結果表'!S$11,'[1]決勝ヒート - レース結果（貼付）'!$1:$1,0)),"")=0,"",IFERROR(INDEX('[1]決勝ヒート - レース結果（貼付）'!$A:$Z,MATCH($A17,'[1]決勝ヒート - レース結果（貼付）'!$A:$A,0),MATCH('決勝ヒート - レース暫定結果表'!S$11,'[1]決勝ヒート - レース結果（貼付）'!$1:$1,0)),"")) | U17: =IF(IFERROR(INDEX('[1]決勝ヒート - レース結果（貼付）'!$A:$Z,MATCH($B17,'[1]決勝ヒート - レース結果（貼付）'!$B:$B,0),MATCH('決勝ヒート - レース暫定結果表'!U$11,'[1]決勝ヒート - レース結果（貼付）'!$1:$1,0)),"")=0,"",IFERROR(INDEX('[1]決勝ヒート - レース結果（貼付）'!$A:$Z,MATCH($B17,'[1]決勝ヒート - レース結果（貼付）'!$B:$B,0),MATCH('決勝ヒート - レース暫定結果表'!U$11,'[1]決勝ヒート - レース結果（貼付）'!$1:$1,0)),"")) -> 78.206
A18: =IF(OR('[1]決勝ヒート - レース結果（貼付）'!A7="DNF",'[1]決勝ヒート - レース結果（貼付）'!A7="DNS",'[1]決勝ヒート - レース結果（貼付）'!A7="DQ"),'[1]決勝ヒート - レース結果（貼付）'!A7,IF(MAX('[1]決勝ヒート - レース結果（貼付）'!A:A)>A17,A17+1,"")) -> 6 | B18: =IFERROR(INDEX('[1]決勝ヒート - レース結果（貼付）'!A7:$Z$50,MATCH($A18,'[1]決勝ヒート - レース結果（貼付）'!A7:$A$50,0),MATCH('決勝ヒート - レース暫定結果表'!B$11,'[1]決勝ヒート - レース結果（貼付）'!$1:$1,0)),"") -> 21 | D18: =IFERROR(INDEX('[1]決勝ヒート - レース結果（貼付）'!$A:$Z,MATCH($B18,'[1]決勝ヒート - レース結果（貼付）'!$B:$B,0),MATCH('決勝ヒート - レース暫定結果表'!D$11,'[1]決勝ヒート - レース結果（貼付）'!$1:$1,0)),"") -> 林 樹生 | E18: =IFERROR(INDEX('[1]決勝ヒート - レース結果（貼付）'!$A:$Z,MATCH($B18,'[1]決勝ヒート - レース結果（貼付）'!$B:$B,0),MATCH('決勝ヒート - レース暫定結果表'!E$11,'[1]決勝ヒート - レース結果（貼付）'!$1:$1,0)),"") -> parolin/YAMAHA | F18: =IFERROR(INDEX('[1]決勝ヒート - レース結果（貼付）'!$A:$Z,MATCH($B18,'[1]決勝ヒート - レース結果（貼付）'!$B:$B,0),MATCH('決勝ヒート - レース暫定結果表'!F$11,'[1]決勝ヒート - レース結果（貼付）'!$1:$1,0)),"") -> HIGUCHI RACING TEAM | G18: =IFERROR(INDEX('[1]決勝ヒート - レース結果（貼付）'!$A:$Z,MATCH($B18,'[1]決勝ヒート - レース結果（貼付）'!$B:$B,0),MATCH('決勝ヒート - レース暫定結果表'!G$11,'[1]決勝ヒート - レース結果（貼付）'!$1:$1,0)),"") -> YH | H18: =IF(A18="DNS","",IF(A18="DQ","",IFERROR(INDEX('[1]決勝ヒート - レース結果（貼付）'!$A:$Z,MATCH($A18,'[1]決勝ヒート - レース結果（貼付）'!$A:$A,0),MATCH('決勝ヒート - レース暫定結果表'!H$11,'[1]決勝ヒート - レース結果（貼付）'!$1:$1,0)),""))) -> 12 | I18: =IF(A18="DNS","ｽﾀｰﾄ出来ず",IF(A18="DQ","失 格",IFERROR(INDEX('[1]決勝ヒート - レース結果（貼付）'!$A:$Z,MATCH($B18,'[1]決勝ヒート - レース結果（貼付）'!$B:$B,0),MATCH('決勝ヒート - レース暫定結果表'!I$11,'[1]決勝ヒート - レース結果（貼付）'!$1:$1,0)),""))) -> 0.0081841435 | J18: =IF(A18="DNS","",IF(A18="DQ","",IFERROR(INDEX('[1]決勝ヒート - レース結果（貼付）'!$A:$Z,MATCH($A18,'[1]決勝ヒート - レース結果（貼付）'!$A:$A,0),MATCH('決勝ヒート - レース暫定結果表'!J$11,'[1]決勝ヒート - レース結果（貼付）'!$1:$1,0)),""))) -> 3.005 | K18: =IF(A18="DNS","",IF(A18="DQ","",IFERROR(INDEX('[1]決勝ヒート - レース結果（貼付）'!$A:$Z,MATCH($A18,'[1]決勝ヒート - レース結果（貼付）'!$A:$A,0),MATCH('決勝ヒート - レース暫定結果表'!K$11,'[1]決勝ヒート - レース結果（貼付）'!$1:$1,0)),""))) -> 1.964 | L18: =IF(A18="DNS","",IF(A18="DQ","",IFERROR(INDEX('[1]決勝ヒート - レース結果（貼付）'!$A:$Z,MATCH($B18,'[1]決勝ヒート - レース結果（貼付）'!$B:$B,0),MATCH('決勝ヒート - レース暫定結果表'!L$11,'[1]決勝ヒート - レース結果（貼付）'!$1:$1,0)),""))) -> 58.223 | M18: =IF(L18<1,"",IF($M$11>L18,"R","")) | P18: =IF(IFERROR(INDEX('[1]決勝ヒート - レース結果（貼付）'!$A:$Z,MATCH($B18,'[1]決勝ヒート - レース結果（貼付）'!$B:$B,0),MATCH('決勝ヒート - レース暫定結果表'!P$11,'[1]決勝ヒート - レース結果（貼付）'!$1:$1,0)),"")=0,"",IFERROR(INDEX('[1]決勝ヒート - レース結果（貼付）'!$A:$Z,MATCH($B18,'[1]決勝ヒート - レース結果（貼付）'!$B:$B,0),MATCH('決勝ヒート - レース暫定結果表'!P$11,'[1]決勝ヒート - レース結果（貼付）'!$1:$1,0)),"")) | Q18: =IF(P18="","",COUNTIF($P$13:P18,"<>"&"")) | R18: =IFERROR(RANK(Q18,$Q$13:$Q$47,1),"") | S18: =IF(IFERROR(INDEX('[1]決勝ヒート - レース結果（貼付）'!$A:$Z,MATCH($A18,'[1]決勝ヒート - レース結果（貼付）'!$A:$A,0),MATCH('決勝ヒート - レース暫定結果表'!S$11,'[1]決勝ヒート - レース結果（貼付）'!$1:$1,0)),"")=0,"",IFERROR(INDEX('[1]決勝ヒート - レース結果（貼付）'!$A:$Z,MATCH($A18,'[1]決勝ヒート - レース結果（貼付）'!$A:$A,0),MATCH('決勝ヒート - レース暫定結果表'!S$11,'[1]決勝ヒート - レース結果（貼付）'!$1:$1,0)),"")) | U18: =IF(IFERROR(INDEX('[1]決勝ヒート - レース結果（貼付）'!$A:$Z,MATCH($B18,'[1]決勝ヒート - レース結果（貼付）'!$B:$B,0),MATCH('決勝ヒート - レース暫定結果表'!U$11,'[1]決勝ヒート - レース結果（貼付）'!$1:$1,0)),"")=0,"",IFERROR(INDEX('[1]決勝ヒート - レース結果（貼付）'!$A:$Z,MATCH($B18,'[1]決勝ヒート - レース結果（貼付）'!$B:$B,0),MATCH('決勝ヒート - レース暫定結果表'!U$11,'[1]決勝ヒート - レース結果（貼付）'!$1:$1,0)),"")) -> 78.155
A19: =IF(OR('[1]決勝ヒート - レース結果（貼付）'!A8="DNF",'[1]決勝ヒート - レース結果（貼付）'!A8="DNS",'[1]決勝ヒート - レース結果（貼付）'!A8="DQ"),'[1]決勝ヒート - レース結果（貼付）'!A8,IF(MAX('[1]決勝ヒート - レース結果（貼付）'!A:A)>A18,A18+1,"")) -> 7 | B19: =IFERROR(INDEX('[1]決勝ヒート - レース結果（貼付）'!A8:$Z$50,MATCH($A19,'[1]決勝ヒート - レース結果（貼付）'!A8:$A$50,0),MATCH('決勝ヒート - レース暫定結果表'!B$11,'[1]決勝ヒート - レース結果（貼付）'!$1:$1,0)),"") -> 64 | D19: =IFERROR(INDEX('[1]決勝ヒート - レース結果（貼付）'!$A:$Z,MATCH($B19,'[1]決勝ヒート - レース結果（貼付）'!$B:$B,0),MATCH('決勝ヒート - レース暫定結果表'!D$11,'[1]決勝ヒート - レース結果（貼付）'!$1:$1,0)),"") -> 中野 貴介 | E19: =IFERROR(INDEX('[1]決勝ヒート - レース結果（貼付）'!$A:$Z,MATCH($B19,'[1]決勝ヒート - レース結果（貼付）'!$B:$B,0),MATCH('決勝ヒート - レース暫定結果表'!E$11,'[1]決勝ヒート - レース結果（貼付）'!$1:$1,0)),"") -> PAROLIN/YAMAHA | F19: =IFERROR(INDEX('[1]決勝ヒート - レース結果（貼付）'!$A:$Z,MATCH($B19,'[1]決勝ヒート - レース結果（貼付）'!$B:$B,0),MATCH('決勝ヒート - レース暫定結果表'!F$11,'[1]決勝ヒート - レース結果（貼付）'!$1:$1,0)),"") -> HIGUCHI Racing Team | G19: =IFERROR(INDEX('[1]決勝ヒート - レース結果（貼付）'!$A:$Z,MATCH($B19,'[1]決勝ヒート - レース結果（貼付）'!$B:$B,0),MATCH('決勝ヒート - レース暫定結果表'!G$11,'[1]決勝ヒート - レース結果（貼付）'!$1:$1,0)),"") -> YH | H19: =IF(A19="DNS","",IF(A19="DQ","",IFERROR(INDEX('[1]決勝ヒート - レース結果（貼付）'!$A:$Z,MATCH($A19,'[1]決勝ヒート - レース結果（貼付）'!$A:$A,0),MATCH('決勝ヒート - レース暫定結果表'!H$11,'[1]決勝ヒート - レース結果（貼付）'!$1:$1,0)),""))) -> 12 | I19: =IF(A19="DNS","ｽﾀｰﾄ出来ず",IF(A19="DQ","失 格",IFERROR(INDEX('[1]決勝ヒート - レース結果（貼付）'!$A:$Z,MATCH($B19,'[1]決勝ヒート - レース結果（貼付）'!$B:$B,0),MATCH('決勝ヒート - レース暫定結果表'!I$11,'[1]決勝ヒート - レース結果（貼付）'!$1:$1,0)),""))) -> 0.008237581 | J19: =IF(A19="DNS","",IF(A19="DQ","",IFERROR(INDEX('[1]決勝ヒート - レース結果（貼付）'!$A:$Z,MATCH($A19,'[1]決勝ヒート - レース結果（貼付）'!$A:$A,0),MATCH('決勝ヒート - レース暫定結果表'!J$11,'[1]決勝ヒート - レース結果（貼付）'!$1:$1,0)),""))) -> 7.622 | K19: =IF(A19="DNS","",IF(A19="DQ","",IFERROR(INDEX('[1]決勝ヒート - レース結果（貼付）'!$A:$Z,MATCH($A19,'[1]決勝ヒート - レース結果（貼付）'!$A:$A,0),MATCH('決勝ヒート - レース暫定結果表'!K$11,'[1]決勝ヒート - レース結果（貼付）'!$1:$1,0)),""))) -> 2.71 | L19: =IF(A19="DNS","",IF(A19="DQ","",IFERROR(INDEX('[1]決勝ヒート - レース結果（貼付）'!$A:$Z,MATCH($B19,'[1]決勝ヒート - レース結果（貼付）'!$B:$B,0),MATCH('決勝ヒート - レース暫定結果表'!L$11,'[1]決勝ヒート - レース結果（貼付）'!$1:$1,0)),""))) -> 58.57 | M19: =IF(L19<1,"",IF($M$11>L19,"R","")) | P19: =IF(IFERROR(INDEX('[1]決勝ヒート - レース結果（貼付）'!$A:$Z,MATCH($B19,'[1]決勝ヒート - レース結果（貼付）'!$B:$B,0),MATCH('決勝ヒート - レース暫定結果表'!P$11,'[1]決勝ヒート - レース結果（貼付）'!$1:$1,0)),"")=0,"",IFERROR(INDEX('[1]決勝ヒート - レース結果（貼付）'!$A:$Z,MATCH($B19,'[1]決勝ヒート - レース結果（貼付）'!$B:$B,0),MATCH('決勝ヒート - レース暫定結果表'!P$11,'[1]決勝ヒート - レース結果（貼付）'!$1:$1,0)),"")) | Q19: =IF(P19="","",COUNTIF($P$13:P19,"<>"&"")) | R19: =IFERROR(RANK(Q19,$Q$13:$Q$47,1),"") | S19: =IF(IFERROR(INDEX('[1]決勝ヒート - レース結果（貼付）'!$A:$Z,MATCH($A19,'[1]決勝ヒート - レース結果（貼付）'!$A:$A,0),MATCH('決勝ヒート - レース暫定結果表'!S$11,'[1]決勝ヒート - レース結果（貼付）'!$1:$1,0)),"")=0,"",IFERROR(INDEX('[1]決勝ヒート - レース結果（貼付）'!$A:$Z,MATCH($A19,'[1]決勝ヒート - レース結果（貼付）'!$A:$A,0),MATCH('決勝ヒート - レース暫定結果表'!S$11,'[1]決勝ヒート - レース結果（貼付）'!$1:$1,0)),"")) | U19: =IF(IFERROR(INDEX('[1]決勝ヒート - レース結果（貼付）'!$A:$Z,MATCH($B19,'[1]決勝ヒート - レース結果（貼付）'!$B:$B,0),MATCH('決勝ヒート - レース暫定結果表'!U$11,'[1]決勝ヒート - レース結果（貼付）'!$1:$1,0)),"")=0,"",IFERROR(INDEX('[1]決勝ヒート - レース結果（貼付）'!$A:$Z,MATCH($B19,'[1]決勝ヒート - レース結果（貼付）'!$B:$B,0),MATCH('決勝ヒート - レース暫定結果表'!U$11,'[1]決勝ヒート - レース結果（貼付）'!$1:$1,0)),"")) -> 77.692
A20: =IF(OR('[1]決勝ヒート - レース結果（貼付）'!A9="DNF",'[1]決勝ヒート - レース結果（貼付）'!A9="DNS",'[1]決勝ヒート - レース結果（貼付）'!A9="DQ"),'[1]決勝ヒート - レース結果（貼付）'!A9,IF(MAX('[1]決勝ヒート - レース結果（貼付）'!A:A)>A19,A19+1,"")) -> 8 | B20: =IFERROR(INDEX('[1]決勝ヒート - レース結果（貼付）'!A9:$Z$50,MATCH($A20,'[1]決勝ヒート - レース結果（貼付）'!A9:$A$50,0),MATCH('決勝ヒート - レース暫定結果表'!B$11,'[1]決勝ヒート - レース結果（貼付）'!$1:$1,0)),"") -> 55 | D20: =IFERROR(INDEX('[1]決勝ヒート - レース結果（貼付）'!$A:$Z,MATCH($B20,'[1]決勝ヒート - レース結果（貼付）'!$B:$B,0),MATCH('決勝ヒート - レース暫定結果表'!D$11,'[1]決勝ヒート - レース結果（貼付）'!$1:$1,0)),"") -> 石部 旺介 | E20: =IFERROR(INDEX('[1]決勝ヒート - レース結果（貼付）'!$A:$Z,MATCH($B20,'[1]決勝ヒート - レース結果（貼付）'!$B:$B,0),MATCH('決勝ヒート - レース暫定結果表'!E$11,'[1]決勝ヒート - レース結果（貼付）'!$1:$1,0)),"") -> birelART/YAMAHA | F20: =IFERROR(INDEX('[1]決勝ヒート - レース結果（貼付）'!$A:$Z,MATCH($B20,'[1]決勝ヒート - レース結果（貼付）'!$B:$B,0),MATCH('決勝ヒート - レース暫定結果表'!F$11,'[1]決勝ヒート - レース結果（貼付）'!$1:$1,0)),"") -> ERS with SACCESS | G20: =IFERROR(INDEX('[1]決勝ヒート - レース結果（貼付）'!$A:$Z,MATCH($B20,'[1]決勝ヒート - レース結果（貼付）'!$B:$B,0),MATCH('決勝ヒート - レース暫定結果表'!G$11,'[1]決勝ヒート - レース結果（貼付）'!$1:$1,0)),"") -> YH | H20: =IF(A20="DNS","",IF(A20="DQ","",IFERROR(INDEX('[1]決勝ヒート - レース結果（貼付）'!$A:$Z,MATCH($A20,'[1]決勝ヒート - レース結果（貼付）'!$A:$A,0),MATCH('決勝ヒート - レース暫定結果表'!H$11,'[1]決勝ヒート - レース結果（貼付）'!$1:$1,0)),""))) -> 12 | I20: =IF(A20="DNS","ｽﾀｰﾄ出来ず",IF(A20="DQ","失 格",IFERROR(INDEX('[1]決勝ヒート - レース結果（貼付）'!$A:$Z,MATCH($B20,'[1]決勝ヒート - レース結果（貼付）'!$B:$B,0),MATCH('決勝ヒート - レース暫定結果表'!I$11,'[1]決勝ヒート - レース結果（貼付）'!$1:$1,0)),""))) -> 0.0082439352 | J20: =IF(A20="DNS","",IF(A20="DQ","",IFERROR(INDEX('[1]決勝ヒート - レース結果（貼付）'!$A:$Z,MATCH($A20,'[1]決勝ヒート - レース結果（貼付）'!$A:$A,0),MATCH('決勝ヒート - レース暫定結果表'!J$11,'[1]決勝ヒート - レース結果（貼付）'!$1:$1,0)),""))) -> 8.171 | K20: =IF(A20="DNS","",IF(A20="DQ","",IFERROR(INDEX('[1]決勝ヒート - レース結果（貼付）'!$A:$Z,MATCH($A20,'[1]決勝ヒート - レース結果（貼付）'!$A:$A,0),MATCH('決勝ヒート - レース暫定結果表'!K$11,'[1]決勝ヒート - レース結果（貼付）'!$1:$1,0)),""))) -> 0.549 | L20: =IF(A20="DNS","",IF(A20="DQ","",IFERROR(INDEX('[1]決勝ヒート - レース結果（貼付）'!$A:$Z,MATCH($B20,'[1]決勝ヒート - レース結果（貼付）'!$B:$B,0),MATCH('決勝ヒート - レース暫定結果表'!L$11,'[1]決勝ヒート - レース結果（貼付）'!$1:$1,0)),""))) -> 58.18 | M20: =IF(L20<1,"",IF($M$11>L20,"R","")) | P20: =IF(IFERROR(INDEX('[1]決勝ヒート - レース結果（貼付）'!$A:$Z,MATCH($B20,'[1]決勝ヒート - レース結果（貼付）'!$B:$B,0),MATCH('決勝ヒート - レース暫定結果表'!P$11,'[1]決勝ヒート - レース結果（貼付）'!$1:$1,0)),"")=0,"",IFERROR(INDEX('[1]決勝ヒート - レース結果（貼付）'!$A:$Z,MATCH($B20,'[1]決勝ヒート - レース結果（貼付）'!$B:$B,0),MATCH('決勝ヒート - レース暫定結果表'!P$11,'[1]決勝ヒート - レース結果（貼付）'!$1:$1,0)),"")) | Q20: =IF(P20="","",COUNTIF($P$13:P20,"<>"&"")) | R20: =IFERROR(RANK(Q20,$Q$13:$Q$47,1),"") | S20: =IF(IFERROR(INDEX('[1]決勝ヒート - レース結果（貼付）'!$A:$Z,MATCH($A20,'[1]決勝ヒート - レース結果（貼付）'!$A:$A,0),MATCH('決勝ヒート - レース暫定結果表'!S$11,'[1]決勝ヒート - レース結果（貼付）'!$1:$1,0)),"")=0,"",IFERROR(INDEX('[1]決勝ヒート - レース結果（貼付）'!$A:$Z,MATCH($A20,'[1]決勝ヒート - レース結果（貼付）'!$A:$A,0),MATCH('決勝ヒート - レース暫定結果表'!S$11,'[1]決勝ヒート - レース結果（貼付）'!$1:$1,0)),"")) | U20: =IF(IFERROR(INDEX('[1]決勝ヒート - レース結果（貼付）'!$A:$Z,MATCH($B20,'[1]決勝ヒート - レース結果（貼付）'!$B:$B,0),MATCH('決勝ヒート - レース暫定結果表'!U$11,'[1]決勝ヒート - レース結果（貼付）'!$1:$1,0)),"")=0,"",IFERROR(INDEX('[1]決勝ヒート - レース結果（貼付）'!$A:$Z,MATCH($B20,'[1]決勝ヒート - レース結果（貼付）'!$B:$B,0),MATCH('決勝ヒート - レース暫定結果表'!U$11,'[1]決勝ヒート - レース結果（貼付）'!$1:$1,0)),"")) -> 78.212
A21: =IF(OR('[1]決勝ヒート - レース結果（貼付）'!A10="DNF",'[1]決勝ヒート - レース結果（貼付）'!A10="DNS",'[1]決勝ヒート - レース結果（貼付）'!A10="DQ"),'[1]決勝ヒート - レース結果（貼付）'!A10,IF(MAX('[1]決勝ヒート - レース結果（貼付）'!A:A)>A20,A20+1,"")) -> 9 | B21: =IFERROR(INDEX('[1]決勝ヒート - レース結果（貼付）'!A10:$Z$50,MATCH($A21,'[1]決勝ヒート - レース結果（貼付）'!A10:$A$50,0),MATCH('決勝ヒート - レース暫定結果表'!B$11,'[1]決勝ヒート - レース結果（貼付）'!$1:$1,0)),"") -> 39 | D21: =IFERROR(INDEX('[1]決勝ヒート - レース結果（貼付）'!$A:$Z,MATCH($B21,'[1]決勝ヒート - レース結果（貼付）'!$B:$B,0),MATCH('決勝ヒート - レース暫定結果表'!D$11,'[1]決勝ヒート - レース結果（貼付）'!$1:$1,0)),"") -> 澤田 龍征 | E21: =IFERROR(INDEX('[1]決勝ヒート - レース結果（貼付）'!$A:$Z,MATCH($B21,'[1]決勝ヒート - レース結果（貼付）'!$B:$B,0),MATCH('決勝ヒート - レース暫定結果表'!E$11,'[1]決勝ヒート - レース結果（貼付）'!$1:$1,0)),"") -> PAROLIN/YAMAHA | F21: =IFERROR(INDEX('[1]決勝ヒート - レース結果（貼付）'!$A:$Z,MATCH($B21,'[1]決勝ヒート - レース結果（貼付）'!$B:$B,0),MATCH('決勝ヒート - レース暫定結果表'!F$11,'[1]決勝ヒート - レース結果（貼付）'!$1:$1,0)),"") -> LUCE MOTOR SPORTS | G21: =IFERROR(INDEX('[1]決勝ヒート - レース結果（貼付）'!$A:$Z,MATCH($B21,'[1]決勝ヒート - レース結果（貼付）'!$B:$B,0),MATCH('決勝ヒート - レース暫定結果表'!G$11,'[1]決勝ヒート - レース結果（貼付）'!$1:$1,0)),"") -> YH | H21: =IF(A21="DNS","",IF(A21="DQ","",IFERROR(INDEX('[1]決勝ヒート - レース結果（貼付）'!$A:$Z,MATCH($A21,'[1]決勝ヒート - レース結果（貼付）'!$A:$A,0),MATCH('決勝ヒート - レース暫定結果表'!H$11,'[1]決勝ヒート - レース結果（貼付）'!$1:$1,0)),""))) -> 12 | I21: =IF(A21="DNS","ｽﾀｰﾄ出来ず",IF(A21="DQ","失 格",IFERROR(INDEX('[1]決勝ヒート - レース結果（貼付）'!$A:$Z,MATCH($B21,'[1]決勝ヒート - レース結果（貼付）'!$B:$B,0),MATCH('決勝ヒート - レース暫定結果表'!I$11,'[1]決勝ヒート - レース結果（貼付）'!$1:$1,0)),""))) -> 0.0082600694 | J21: =IF(A21="DNS","",IF(A21="DQ","",IFERROR(INDEX('[1]決勝ヒート - レース結果（貼付）'!$A:$Z,MATCH($A21,'[1]決勝ヒート - レース結果（貼付）'!$A:$A,0),MATCH('決勝ヒート - レース暫定結果表'!J$11,'[1]決勝ヒート - レース結果（貼付）'!$1:$1,0)),""))) -> 9.565 | K21: =IF(A21="DNS","",IF(A21="DQ","",IFERROR(INDEX('[1]決勝ヒート - レース結果（貼付）'!$A:$Z,MATCH($A21,'[1]決勝ヒート - レース結果（貼付）'!$A:$A,0),MATCH('決勝ヒート - レース暫定結果表'!K$11,'[1]決勝ヒート - レース結果（貼付）'!$1:$1,0)),""))) -> 1.394 | L21: =IF(A21="DNS","",IF(A21="DQ","",IFERROR(INDEX('[1]決勝ヒート - レース結果（貼付）'!$A:$Z,MATCH($B21,'[1]決勝ヒート - レース結果（貼付）'!$B:$B,0),MATCH('決勝ヒート - レース暫定結果表'!L$11,'[1]決勝ヒート - レース結果（貼付）'!$1:$1,0)),""))) -> 58.723 | M21: =IF(L21<1,"",IF($M$11>L21,"R","")) | P21: =IF(IFERROR(INDEX('[1]決勝ヒート - レース結果（貼付）'!$A:$Z,MATCH($B21,'[1]決勝ヒート - レース結果（貼付）'!$B:$B,0),MATCH('決勝ヒート - レース暫定結果表'!P$11,'[1]決勝ヒート - レース結果（貼付）'!$1:$1,0)),"")=0,"",IFERROR(INDEX('[1]決勝ヒート - レース結果（貼付）'!$A:$Z,MATCH($B21,'[1]決勝ヒート - レース結果（貼付）'!$B:$B,0),MATCH('決勝ヒート - レース暫定結果表'!P$11,'[1]決勝ヒート - レース結果（貼付）'!$1:$1,0)),"")) | Q21: =IF(P21="","",COUNTIF($P$13:P21,"<>"&"")) | R21: =IFERROR(RANK(Q21,$Q$13:$Q$47,1),"") | S21: =IF(IFERROR(INDEX('[1]決勝ヒート - レース結果（貼付）'!$A:$Z,MATCH($A21,'[1]決勝ヒート - レース結果（貼付）'!$A:$A,0),MATCH('決勝ヒート - レース暫定結果表'!S$11,'[1]決勝ヒート - レース結果（貼付）'!$1:$1,0)),"")=0,"",IFERROR(INDEX('[1]決勝ヒート - レース結果（貼付）'!$A:$Z,MATCH($A21,'[1]決勝ヒート - レース結果（貼付）'!$A:$A,0),MATCH('決勝ヒート - レース暫定結果表'!S$11,'[1]決勝ヒート - レース結果（貼付）'!$1:$1,0)),"")) | U21: =IF(IFERROR(INDEX('[1]決勝ヒート - レース結果（貼付）'!$A:$Z,MATCH($B21,'[1]決勝ヒート - レース結果（貼付）'!$B:$B,0),MATCH('決勝ヒート - レース暫定結果表'!U$11,'[1]決勝ヒート - レース結果（貼付）'!$1:$1,0)),"")=0,"",IFERROR(INDEX('[1]決勝ヒート - レース結果（貼付）'!$A:$Z,MATCH($B21,'[1]決勝ヒート - レース結果（貼付）'!$B:$B,0),MATCH('決勝ヒート - レース暫定結果表'!U$11,'[1]決勝ヒート - レース結果（貼付）'!$1:$1,0)),"")) -> 77.489
A22: =IF(OR('[1]決勝ヒート - レース結果（貼付）'!A11="DNF",'[1]決勝ヒート - レース結果（貼付）'!A11="DNS",'[1]決勝ヒート - レース結果（貼付）'!A11="DQ"),'[1]決勝ヒート - レース結果（貼付）'!A11,IF(MAX('[1]決勝ヒート - レース結果（貼付）'!A:A)>A21,A21+1,"")) -> 10 | B22: =IFERROR(INDEX('[1]決勝ヒート - レース結果（貼付）'!A11:$Z$50,MATCH($A22,'[1]決勝ヒート - レース結果（貼付）'!A11:$A$50,0),MATCH('決勝ヒート - レース暫定結果表'!B$11,'[1]決勝ヒート - レース結果（貼付）'!$1:$1,0)),"") -> 94 | D22: =IFERROR(INDEX('[1]決勝ヒート - レース結果（貼付）'!$A:$Z,MATCH($B22,'[1]決勝ヒート - レース結果（貼付）'!$B:$B,0),MATCH('決勝ヒート - レース暫定結果表'!D$11,'[1]決勝ヒート - レース結果（貼付）'!$1:$1,0)),"") -> 清永 旺佑 | E22: =IFERROR(INDEX('[1]決勝ヒート - レース結果（貼付）'!$A:$Z,MATCH($B22,'[1]決勝ヒート - レース結果（貼付）'!$B:$B,0),MATCH('決勝ヒート - レース暫定結果表'!E$11,'[1]決勝ヒート - レース結果（貼付）'!$1:$1,0)),"") -> TONY KART/YAMAHA | F22: =IFERROR(INDEX('[1]決勝ヒート - レース結果（貼付）'!$A:$Z,MATCH($B22,'[1]決勝ヒート - レース結果（貼付）'!$B:$B,0),MATCH('決勝ヒート - レース暫定結果表'!F$11,'[1]決勝ヒート - レース結果（貼付）'!$1:$1,0)),"") -> HIGUCHI Racing Team | G22: =IFERROR(INDEX('[1]決勝ヒート - レース結果（貼付）'!$A:$Z,MATCH($B22,'[1]決勝ヒート - レース結果（貼付）'!$B:$B,0),MATCH('決勝ヒート - レース暫定結果表'!G$11,'[1]決勝ヒート - レース結果（貼付）'!$1:$1,0)),"") -> YH | H22: =IF(A22="DNS","",IF(A22="DQ","",IFERROR(INDEX('[1]決勝ヒート - レース結果（貼付）'!$A:$Z,MATCH($A22,'[1]決勝ヒート - レース結果（貼付）'!$A:$A,0),MATCH('決勝ヒート - レース暫定結果表'!H$11,'[1]決勝ヒート - レース結果（貼付）'!$1:$1,0)),""))) -> 12 | I22: =IF(A22="DNS","ｽﾀｰﾄ出来ず",IF(A22="DQ","失 格",IFERROR(INDEX('[1]決勝ヒート - レース結果（貼付）'!$A:$Z,MATCH($B22,'[1]決勝ヒート - レース結果（貼付）'!$B:$B,0),MATCH('決勝ヒート - レース暫定結果表'!I$11,'[1]決勝ヒート - レース結果（貼付）'!$1:$1,0)),""))) -> 0.0082062153 | J22: =IF(A22="DNS","",IF(A22="DQ","",IFERROR(INDEX('[1]決勝ヒート - レース結果（貼付）'!$A:$Z,MATCH($A22,'[1]決勝ヒート - レース結果（貼付）'!$A:$A,0),MATCH('決勝ヒート - レース暫定結果表'!J$11,'[1]決勝ヒート - レース結果（貼付）'!$1:$1,0)),""))) -> 4.912 | K22: =IF(A22="DNS","",IF(A22="DQ","",IFERROR(INDEX('[1]決勝ヒート - レース結果（貼付）'!$A:$Z,MATCH($A22,'[1]決勝ヒート - レース結果（貼付）'!$A:$A,0),MATCH('決勝ヒート - レース暫定結果表'!K$11,'[1]決勝ヒート - レース結果（貼付）'!$1:$1,0)),""))) -> 1.907 | L22: =IF(A22="DNS","",IF(A22="DQ","",IFERROR(INDEX('[1]決勝ヒート - レース結果（貼付）'!$A:$Z,MATCH($B22,'[1]決勝ヒート - レース結果（貼付）'!$B:$B,0),MATCH('決勝ヒート - レース暫定結果表'!L$11,'[1]決勝ヒート - レース結果（貼付）'!$1:$1,0)),""))) -> 58.397 | M22: =IF(L22<1,"",IF($M$11>L22,"R","")) | P22: =IF(IFERROR(INDEX('[1]決勝ヒート - レース結果（貼付）'!$A:$Z,MATCH($B22,'[1]決勝ヒート - レース結果（貼付）'!$B:$B,0),MATCH('決勝ヒート - レース暫定結果表'!P$11,'[1]決勝ヒート - レース結果（貼付）'!$1:$1,0)),"")=0,"",IFERROR(INDEX('[1]決勝ヒート - レース結果（貼付）'!$A:$Z,MATCH($B22,'[1]決勝ヒート - レース結果（貼付）'!$B:$B,0),MATCH('決勝ヒート - レース暫定結果表'!P$11,'[1]決勝ヒート - レース結果（貼付）'!$1:$1,0)),"")) -> 鈴鹿選手権ｼﾘｰｽﾞ特別規則 第30条～1)(1)ｽﾀｰﾄ違反(ｺﾘﾄﾞｰ)により、着順から3位下の順位とする。 | Q22: =IF(P22="","",COUNTIF($P$13:P22,"<>"&"")) -> 10 | R22: =IFERROR(RANK(Q22,$Q$13:$Q$47,1),"") -> 1 | S22: =IF(IFERROR(INDEX('[1]決勝ヒート - レース結果（貼付）'!$A:$Z,MATCH($A22,'[1]決勝ヒート - レース結果（貼付）'!$A:$A,0),MATCH('決勝ヒート - レース暫定結果表'!S$11,'[1]決勝ヒート - レース結果（貼付）'!$1:$1,0)),"")=0,"",IFERROR(INDEX('[1]決勝ヒート - レース結果（貼付）'!$A:$Z,MATCH($A22,'[1]決勝ヒート - レース結果（貼付）'!$A:$A,0),MATCH('決勝ヒート - レース暫定結果表'!S$11,'[1]決勝ヒート - レース結果（貼付）'!$1:$1,0)),"")) | U22: =IF(IFERROR(INDEX('[1]決勝ヒート - レース結果（貼付）'!$A:$Z,MATCH($B22,'[1]決勝ヒート - レース結果（貼付）'!$B:$B,0),MATCH('決勝ヒート - レース暫定結果表'!U$11,'[1]決勝ヒート - レース結果（貼付）'!$1:$1,0)),"")=0,"",IFERROR(INDEX('[1]決勝ヒート - レース結果（貼付）'!$A:$Z,MATCH($B22,'[1]決勝ヒート - レース結果（貼付）'!$B:$B,0),MATCH('決勝ヒート - レース暫定結果表'!U$11,'[1]決勝ヒート - レース結果（貼付）'!$1:$1,0)),"")) -> 77.922
A23: =IF(OR('[1]決勝ヒート - レース結果（貼付）'!A12="DNF",'[1]決勝ヒート - レース結果（貼付）'!A12="DNS",'[1]決勝ヒート - レース結果（貼付）'!A12="DQ"),'[1]決勝ヒート - レース結果（貼付）'!A12,IF(MAX('[1]決勝ヒート - レース結果（貼付）'!A:A)>A22,A22+1,"")) -> 11 | B23: =IFERROR(INDEX('[1]決勝ヒート - レース結果（貼付）'!A12:$Z$50,MATCH($A23,'[1]決勝ヒート - レース結果（貼付）'!A12:$A$50,0),MATCH('決勝ヒート - レース暫定結果表'!B$11,'[1]決勝ヒート - レース結果（貼付）'!$1:$1,0)),"") -> 26 | D23: =IFERROR(INDEX('[1]決勝ヒート - レース結果（貼付）'!$A:$Z,MATCH($B23,'[1]決勝ヒート - レース結果（貼付）'!$B:$B,0),MATCH('決勝ヒート - レース暫定結果表'!D$11,'[1]決勝ヒート - レース結果（貼付）'!$1:$1,0)),"") -> 林 龍輝 | E23: =IFERROR(INDEX('[1]決勝ヒート - レース結果（貼付）'!$A:$Z,MATCH($B23,'[1]決勝ヒート - レース結果（貼付）'!$B:$B,0),MATCH('決勝ヒート - レース暫定結果表'!E$11,'[1]決勝ヒート - レース結果（貼付）'!$1:$1,0)),"") -> EXPRIT/YAMAHA | F23: =IFERROR(INDEX('[1]決勝ヒート - レース結果（貼付）'!$A:$Z,MATCH($B23,'[1]決勝ヒート - レース結果（貼付）'!$B:$B,0),MATCH('決勝ヒート - レース暫定結果表'!F$11,'[1]決勝ヒート - レース結果（貼付）'!$1:$1,0)),"") -> ﾊﾗﾀﾞｶｰﾄｸﾗﾌﾞ | G23: =IFERROR(INDEX('[1]決勝ヒート - レース結果（貼付）'!$A:$Z,MATCH($B23,'[1]決勝ヒート - レース結果（貼付）'!$B:$B,0),MATCH('決勝ヒート - レース暫定結果表'!G$11,'[1]決勝ヒート - レース結果（貼付）'!$1:$1,0)),"") -> YH | H23: =IF(A23="DNS","",IF(A23="DQ","",IFERROR(INDEX('[1]決勝ヒート - レース結果（貼付）'!$A:$Z,MATCH($A23,'[1]決勝ヒート - レース結果（貼付）'!$A:$A,0),MATCH('決勝ヒート - レース暫定結果表'!H$11,'[1]決勝ヒート - レース結果（貼付）'!$1:$1,0)),""))) -> 12 | I23: =IF(A23="DNS","ｽﾀｰﾄ出来ず",IF(A23="DQ","失 格",IFERROR(INDEX('[1]決勝ヒート - レース結果（貼付）'!$A:$Z,MATCH($B23,'[1]決勝ヒート - レース結果（貼付）'!$B:$B,0),MATCH('決勝ヒート - レース暫定結果表'!I$11,'[1]決勝ヒート - レース結果（貼付）'!$1:$1,0)),""))) -> 0.0082660532 | J23: =IF(A23="DNS","",IF(A23="DQ","",IFERROR(INDEX('[1]決勝ヒート - レース結果（貼付）'!$A:$Z,MATCH($A23,'[1]決勝ヒート - レース結果（貼付）'!$A:$A,0),MATCH('決勝ヒート - レース暫定結果表'!J$11,'[1]決勝ヒート - レース結果（貼付）'!$1:$1,0)),""))) -> 10.082 | K23: =IF(A23="DNS","",IF(A23="DQ","",IFERROR(INDEX('[1]決勝ヒート - レース結果（貼付）'!$A:$Z,MATCH($A23,'[1]決勝ヒート - レース結果（貼付）'!$A:$A,0),MATCH('決勝ヒート - レース暫定結果表'!K$11,'[1]決勝ヒート - レース結果（貼付）'!$1:$1,0)),""))) -> 0.517 | L23: =IF(A23="DNS","",IF(A23="DQ","",IFERROR(INDEX('[1]決勝ヒート - レース結果（貼付）'!$A:$Z,MATCH($B23,'[1]決勝ヒート - レース結果（貼付）'!$B:$B,0),MATCH('決勝ヒート - レース暫定結果表'!L$11,'[1]決勝ヒート - レース結果（貼付）'!$1:$1,0)),""))) -> 58.511 | M23: =IF(L23<1,"",IF($M$11>L23,"R","")) | P23: =IF(IFERROR(INDEX('[1]決勝ヒート - レース結果（貼付）'!$A:$Z,MATCH($B23,'[1]決勝ヒート - レース結果（貼付）'!$B:$B,0),MATCH('決勝ヒート - レース暫定結果表'!P$11,'[1]決勝ヒート - レース結果（貼付）'!$1:$1,0)),"")=0,"",IFERROR(INDEX('[1]決勝ヒート - レース結果（貼付）'!$A:$Z,MATCH($B23,'[1]決勝ヒート - レース結果（貼付）'!$B:$B,0),MATCH('決勝ヒート - レース暫定結果表'!P$11,'[1]決勝ヒート - レース結果（貼付）'!$1:$1,0)),"")) | Q23: =IF(P23="","",COUNTIF($P$13:P23,"<>"&"")) | R23: =IFERROR(RANK(Q23,$Q$13:$Q$47,1),"") | S23: =IF(IFERROR(INDEX('[1]決勝ヒート - レース結果（貼付）'!$A:$Z,MATCH($A23,'[1]決勝ヒート - レース結果（貼付）'!$A:$A,0),MATCH('決勝ヒート - レース暫定結果表'!S$11,'[1]決勝ヒート - レース結果（貼付）'!$1:$1,0)),"")=0,"",IFERROR(INDEX('[1]決勝ヒート - レース結果（貼付）'!$A:$Z,MATCH($A23,'[1]決勝ヒート - レース結果（貼付）'!$A:$A,0),MATCH('決勝ヒート - レース暫定結果表'!S$11,'[1]決勝ヒート - レース結果（貼付）'!$1:$1,0)),"")) | U23: =IF(IFERROR(INDEX('[1]決勝ヒート - レース結果（貼付）'!$A:$Z,MATCH($B23,'[1]決勝ヒート - レース結果（貼付）'!$B:$B,0),MATCH('決勝ヒート - レース暫定結果表'!U$11,'[1]決勝ヒート - レース結果（貼付）'!$1:$1,0)),"")=0,"",IFERROR(INDEX('[1]決勝ヒート - レース結果（貼付）'!$A:$Z,MATCH($B23,'[1]決勝ヒート - レース結果（貼付）'!$B:$B,0),MATCH('決勝ヒート - レース暫定結果表'!U$11,'[1]決勝ヒート - レース結果（貼付）'!$1:$1,0)),"")) -> 77.77
A24: =IF(OR('[1]決勝ヒート - レース結果（貼付）'!A13="DNF",'[1]決勝ヒート - レース結果（貼付）'!A13="DNS",'[1]決勝ヒート - レース結果（貼付）'!A13="DQ"),'[1]決勝ヒート - レース結果（貼付）'!A13,IF(MAX('[1]決勝ヒート - レース結果（貼付）'!A:A)>A23,A23+1,"")) -> 12 | B24: =IFERROR(INDEX('[1]決勝ヒート - レース結果（貼付）'!A13:$Z$50,MATCH($A24,'[1]決勝ヒート - レース結果（貼付）'!A13:$A$50,0),MATCH('決勝ヒート - レース暫定結果表'!B$11,'[1]決勝ヒート - レース結果（貼付）'!$1:$1,0)),"") -> 8 | D24: =IFERROR(INDEX('[1]決勝ヒート - レース結果（貼付）'!$A:$Z,MATCH($B24,'[1]決勝ヒート - レース結果（貼付）'!$B:$B,0),MATCH('決勝ヒート - レース暫定結果表'!D$11,'[1]決勝ヒート - レース結果（貼付）'!$1:$1,0)),"") -> 森谷 永翔 | E24: =IFERROR(INDEX('[1]決勝ヒート - レース結果（貼付）'!$A:$Z,MATCH($B24,'[1]決勝ヒート - レース結果（貼付）'!$B:$B,0),MATCH('決勝ヒート - レース暫定結果表'!E$11,'[1]決勝ヒート - レース結果（貼付）'!$1:$1,0)),"") -> ﾊﾟﾛﾘﾝ/YAMAHA | F24: =IFERROR(INDEX('[1]決勝ヒート - レース結果（貼付）'!$A:$Z,MATCH($B24,'[1]決勝ヒート - レース結果（貼付）'!$B:$B,0),MATCH('決勝ヒート - レース暫定結果表'!F$11,'[1]決勝ヒート - レース結果（貼付）'!$1:$1,0)),"") -> ERSwithSACCESS | G24: =IFERROR(INDEX('[1]決勝ヒート - レース結果（貼付）'!$A:$Z,MATCH($B24,'[1]決勝ヒート - レース結果（貼付）'!$B:$B,0),MATCH('決勝ヒート - レース暫定結果表'!G$11,'[1]決勝ヒート - レース結果（貼付）'!$1:$1,0)),"") -> YH | H24: =IF(A24="DNS","",IF(A24="DQ","",IFERROR(INDEX('[1]決勝ヒート - レース結果（貼付）'!$A:$Z,MATCH($A24,'[1]決勝ヒート - レース結果（貼付）'!$A:$A,0),MATCH('決勝ヒート - レース暫定結果表'!H$11,'[1]決勝ヒート - レース結果（貼付）'!$1:$1,0)),""))) -> 12 | I24: =IF(A24="DNS","ｽﾀｰﾄ出来ず",IF(A24="DQ","失 格",IFERROR(INDEX('[1]決勝ヒート - レース結果（貼付）'!$A:$Z,MATCH($B24,'[1]決勝ヒート - レース結果（貼付）'!$B:$B,0),MATCH('決勝ヒート - レース暫定結果表'!I$11,'[1]決勝ヒート - レース結果（貼付）'!$1:$1,0)),""))) -> 0.0082717477 | J24: =IF(A24="DNS","",IF(A24="DQ","",IFERROR(INDEX('[1]決勝ヒート - レース結果（貼付）'!$A:$Z,MATCH($A24,'[1]決勝ヒート - レース結果（貼付）'!$A:$A,0),MATCH('決勝ヒート - レース暫定結果表'!J$11,'[1]決勝ヒート - レース結果（貼付）'!$1:$1,0)),""))) -> 10.574 | K24: =IF(A24="DNS","",IF(A24="DQ","",IFERROR(INDEX('[1]決勝ヒート - レース結果（貼付）'!$A:$Z,MATCH($A24,'[1]決勝ヒート - レース結果（貼付）'!$A:$A,0),MATCH('決勝ヒート - レース暫定結果表'!K$11,'[1]決勝ヒート - レース結果（貼付）'!$1:$1,0)),""))) -> 0.492 | L24: =IF(A24="DNS","",IF(A24="DQ","",IFERROR(INDEX('[1]決勝ヒート - レース結果（貼付）'!$A:$Z,MATCH($B24,'[1]決勝ヒート - レース結果（貼付）'!$B:$B,0),MATCH('決勝ヒート - レース暫定結果表'!L$11,'[1]決勝ヒート - レース結果（貼付）'!$1:$1,0)),""))) -> 58.316 | M24: =IF(L24<1,"",IF($M$11>L24,"R","")) | P24: =IF(IFERROR(INDEX('[1]決勝ヒート - レース結果（貼付）'!$A:$Z,MATCH($B24,'[1]決勝ヒート - レース結果（貼付）'!$B:$B,0),MATCH('決勝ヒート - レース暫定結果表'!P$11,'[1]決勝ヒート - レース結果（貼付）'!$1:$1,0)),"")=0,"",IFERROR(INDEX('[1]決勝ヒート - レース結果（貼付）'!$A:$Z,MATCH($B24,'[1]決勝ヒート - レース結果（貼付）'!$B:$B,0),MATCH('決勝ヒート - レース暫定結果表'!P$11,'[1]決勝ヒート - レース結果（貼付）'!$1:$1,0)),"")) | Q24: =IF(P24="","",COUNTIF($P$13:P24,"<>"&"")) | R24: =IFERROR(RANK(Q24,$Q$13:$Q$47,1),"") | S24: =IF(IFERROR(INDEX('[1]決勝ヒート - レース結果（貼付）'!$A:$Z,MATCH($A24,'[1]決勝ヒート - レース結果（貼付）'!$A:$A,0),MATCH('決勝ヒート - レース暫定結果表'!S$11,'[1]決勝ヒート - レース結果（貼付）'!$1:$1,0)),"")=0,"",IFERROR(INDEX('[1]決勝ヒート - レース結果（貼付）'!$A:$Z,MATCH($A24,'[1]決勝ヒート - レース結果（貼付）'!$A:$A,0),MATCH('決勝ヒート - レース暫定結果表'!S$11,'[1]決勝ヒート - レース結果（貼付）'!$1:$1,0)),"")) | U24: =IF(IFERROR(INDEX('[1]決勝ヒート - レース結果（貼付）'!$A:$Z,MATCH($B24,'[1]決勝ヒート - レース結果（貼付）'!$B:$B,0),MATCH('決勝ヒート - レース暫定結果表'!U$11,'[1]決勝ヒート - レース結果（貼付）'!$1:$1,0)),"")=0,"",IFERROR(INDEX('[1]決勝ヒート - レース結果（貼付）'!$A:$Z,MATCH($B24,'[1]決勝ヒート - レース結果（貼付）'!$B:$B,0),MATCH('決勝ヒート - レース暫定結果表'!U$11,'[1]決勝ヒート - レース結果（貼付）'!$1:$1,0)),"")) -> 78.03
A25: =IF(OR('[1]決勝ヒート - レース結果（貼付）'!A14="DNF",'[1]決勝ヒート - レース結果（貼付）'!A14="DNS",'[1]決勝ヒート - レース結果（貼付）'!A14="DQ"),'[1]決勝ヒート - レース結果（貼付）'!A14,IF(MAX('[1]決勝ヒート - レース結果（貼付）'!A:A)>A24,A24+1,"")) -> 13 | B25: =IFERROR(INDEX('[1]決勝ヒート - レース結果（貼付）'!A14:$Z$50,MATCH($A25,'[1]決勝ヒート - レース結果（貼付）'!A14:$A$50,0),MATCH('決勝ヒート - レース暫定結果表'!B$11,'[1]決勝ヒート - レース結果（貼付）'!$1:$1,0)),"") -> 82 | D25: =IFERROR(INDEX('[1]決勝ヒート - レース結果（貼付）'!$A:$Z,MATCH($B25,'[1]決勝ヒート - レース結果（貼付）'!$B:$B,0),MATCH('決勝ヒート - レース暫定結果表'!D$11,'[1]決勝ヒート - レース結果（貼付）'!$1:$1,0)),"") -> 松居 寿來 | E25: =IFERROR(INDEX('[1]決勝ヒート - レース結果（貼付）'!$A:$Z,MATCH($B25,'[1]決勝ヒート - レース結果（貼付）'!$B:$B,0),MATCH('決勝ヒート - レース暫定結果表'!E$11,'[1]決勝ヒート - レース結果（貼付）'!$1:$1,0)),"") -> ﾌﾟﾗｶﾞ/YAMAHA | F25: =IFERROR(INDEX('[1]決勝ヒート - レース結果（貼付）'!$A:$Z,MATCH($B25,'[1]決勝ヒート - レース結果（貼付）'!$B:$B,0),MATCH('決勝ヒート - レース暫定結果表'!F$11,'[1]決勝ヒート - レース結果（貼付）'!$1:$1,0)),"") -> ｶﾞﾚｰｼﾞC | G25: =IFERROR(INDEX('[1]決勝ヒート - レース結果（貼付）'!$A:$Z,MATCH($B25,'[1]決勝ヒート - レース結果（貼付）'!$B:$B,0),MATCH('決勝ヒート - レース暫定結果表'!G$11,'[1]決勝ヒート - レース結果（貼付）'!$1:$1,0)),"") -> YH | H25: =IF(A25="DNS","",IF(A25="DQ","",IFERROR(INDEX('[1]決勝ヒート - レース結果（貼付）'!$A:$Z,MATCH($A25,'[1]決勝ヒート - レース結果（貼付）'!$A:$A,0),MATCH('決勝ヒート - レース暫定結果表'!H$11,'[1]決勝ヒート - レース結果（貼付）'!$1:$1,0)),""))) -> 12 | I25: =IF(A25="DNS","ｽﾀｰﾄ出来ず",IF(A25="DQ","失 格",IFERROR(INDEX('[1]決勝ヒート - レース結果（貼付）'!$A:$Z,MATCH($B25,'[1]決勝ヒート - レース結果（貼付）'!$B:$B,0),MATCH('決勝ヒート - レース暫定結果表'!I$11,'[1]決勝ヒート - レース結果（貼付）'!$1:$1,0)),""))) -> 0.0082728241 | J25: =IF(A25="DNS","",IF(A25="DQ","",IFERROR(INDEX('[1]決勝ヒート - レース結果（貼付）'!$A:$Z,MATCH($A25,'[1]決勝ヒート - レース結果（貼付）'!$A:$A,0),MATCH('決勝ヒート - レース暫定結果表'!J$11,'[1]決勝ヒート - レース結果（貼付）'!$1:$1,0)),""))) -> 10.667 | K25: =IF(A25="DNS","",IF(A25="DQ","",IFERROR(INDEX('[1]決勝ヒート - レース結果（貼付）'!$A:$Z,MATCH($A25,'[1]決勝ヒート - レース結果（貼付）'!$A:$A,0),MATCH('決勝ヒート - レース暫定結果表'!K$11,'[1]決勝ヒート - レース結果（貼付）'!$1:$1,0)),""))) -> 0.093 | L25: =IF(A25="DNS","",IF(A25="DQ","",IFERROR(INDEX('[1]決勝ヒート - レース結果（貼付）'!$A:$Z,MATCH($B25,'[1]決勝ヒート - レース結果（貼付）'!$B:$B,0),MATCH('決勝ヒート - レース暫定結果表'!L$11,'[1]決勝ヒート - レース結果（貼付）'!$1:$1,0)),""))) -> 58.428 | M25: =IF(L25<1,"",IF($M$11>L25,"R","")) | P25: =IF(IFERROR(INDEX('[1]決勝ヒート - レース結果（貼付）'!$A:$Z,MATCH($B25,'[1]決勝ヒート - レース結果（貼付）'!$B:$B,0),MATCH('決勝ヒート - レース暫定結果表'!P$11,'[1]決勝ヒート - レース結果（貼付）'!$1:$1,0)),"")=0,"",IFERROR(INDEX('[1]決勝ヒート - レース結果（貼付）'!$A:$Z,MATCH($B25,'[1]決勝ヒート - レース結果（貼付）'!$B:$B,0),MATCH('決勝ヒート - レース暫定結果表'!P$11,'[1]決勝ヒート - レース結果（貼付）'!$1:$1,0)),"")) | Q25: =IF(P25="","",COUNTIF($P$13:P25,"<>"&"")) | R25: =IFERROR(RANK(Q25,$Q$13:$Q$47,1),"") | S25: =IF(IFERROR(INDEX('[1]決勝ヒート - レース結果（貼付）'!$A:$Z,MATCH($A25,'[1]決勝ヒート - レース結果（貼付）'!$A:$A,0),MATCH('決勝ヒート - レース暫定結果表'!S$11,'[1]決勝ヒート - レース結果（貼付）'!$1:$1,0)),"")=0,"",IFERROR(INDEX('[1]決勝ヒート - レース結果（貼付）'!$A:$Z,MATCH($A25,'[1]決勝ヒート - レース結果（貼付）'!$A:$A,0),MATCH('決勝ヒート - レース暫定結果表'!S$11,'[1]決勝ヒート - レース結果（貼付）'!$1:$1,0)),"")) | U25: =IF(IFERROR(INDEX('[1]決勝ヒート - レース結果（貼付）'!$A:$Z,MATCH($B25,'[1]決勝ヒート - レース結果（貼付）'!$B:$B,0),MATCH('決勝ヒート - レース暫定結果表'!U$11,'[1]決勝ヒート - レース結果（貼付）'!$1:$1,0)),"")=0,"",IFERROR(INDEX('[1]決勝ヒート - レース結果（貼付）'!$A:$Z,MATCH($B25,'[1]決勝ヒート - レース結果（貼付）'!$B:$B,0),MATCH('決勝ヒート - レース暫定結果表'!U$11,'[1]決勝ヒート - レース結果（貼付）'!$1:$1,0)),"")) -> 77.88
... A44: =IF(OR('[1]決勝ヒート - レース結果（貼付）'!A33="DNF",'[1]決勝ヒート - レース結果（貼付）'!A33="DNS",'[1]決勝ヒート - レース結果（貼付）'!A33="DQ"),'[1]決勝ヒート - レース結果（貼付）'!A33,IF(MAX('[1]決勝ヒート - レース結果（貼付）'!A:A)>A43,A43+1,"")) -> 32 | B44: =IFERROR(INDEX('[1]決勝ヒート - レース結果（貼付）'!A33:$Z$50,MATCH($A44,'[1]決勝ヒート - レース結果（貼付）'!A33:$A$50,0),MATCH('決勝ヒート - レース暫定結果表'!B$11,'[1]決勝ヒート - レース結果（貼付）'!$1:$1,0)),"") -> 11 | D44: =IFERROR(INDEX('[1]決勝ヒート - レース結果（貼付）'!$A:$Z,MATCH($B44,'[1]決勝ヒート - レース結果（貼付）'!$B:$B,0),MATCH('決勝ヒート - レース暫定結果表'!D$11,'[1]決勝ヒート - レース結果（貼付）'!$1:$1,0)),"") -> 飯田 一仁 | E44: =IFERROR(INDEX('[1]決勝ヒート - レース結果（貼付）'!$A:$Z,MATCH($B44,'[1]決勝ヒート - レース結果（貼付）'!$B:$B,0),MATCH('決勝ヒート - レース暫定結果表'!E$11,'[1]決勝ヒート - レース結果（貼付）'!$1:$1,0)),"") -> LNKART/YAMAHA | F44: =IFERROR(INDEX('[1]決勝ヒート - レース結果（貼付）'!$A:$Z,MATCH($B44,'[1]決勝ヒート - レース結果（貼付）'!$B:$B,0),MATCH('決勝ヒート - レース暫定結果表'!F$11,'[1]決勝ヒート - レース結果（貼付）'!$1:$1,0)),"") -> ｶｰﾄｶﾞﾚｰｼﾞｸﾗｯｼｭﾒｲﾄ | G44: =IFERROR(INDEX('[1]決勝ヒート - レース結果（貼付）'!$A:$Z,MATCH($B44,'[1]決勝ヒート - レース結果（貼付）'!$B:$B,0),MATCH('決勝ヒート - レース暫定結果表'!G$11,'[1]決勝ヒート - レース結果（貼付）'!$1:$1,0)),"") -> YH | H44: =IF(A44="DNS","",IF(A44="DQ","",IFERROR(INDEX('[1]決勝ヒート - レース結果（貼付）'!$A:$Z,MATCH($A44,'[1]決勝ヒート - レース結果（貼付）'!$A:$A,0),MATCH('決勝ヒート - レース暫定結果表'!H$11,'[1]決勝ヒート - レース結果（貼付）'!$1:$1,0)),""))) -> 12 | I44: =IF(A44="DNS","ｽﾀｰﾄ出来ず",IF(A44="DQ","失 格",IFERROR(INDEX('[1]決勝ヒート - レース結果（貼付）'!$A:$Z,MATCH($B44,'[1]決勝ヒート - レース結果（貼付）'!$B:$B,0),MATCH('決勝ヒート - レース暫定結果表'!I$11,'[1]決勝ヒート - レース結果（貼付）'!$1:$1,0)),""))) -> 0.0086199653 | J44: =IF(A44="DNS","",IF(A44="DQ","",IFERROR(INDEX('[1]決勝ヒート - レース結果（貼付）'!$A:$Z,MATCH($A44,'[1]決勝ヒート - レース結果（貼付）'!$A:$A,0),MATCH('決勝ヒート - レース暫定結果表'!J$11,'[1]決勝ヒート - レース結果（貼付）'!$1:$1,0)),""))) -> 40.66 | K44: =IF(A44="DNS","",IF(A44="DQ","",IFERROR(INDEX('[1]決勝ヒート - レース結果（貼付）'!$A:$Z,MATCH($A44,'[1]決勝ヒート - レース結果（貼付）'!$A:$A,0),MATCH('決勝ヒート - レース暫定結果表'!K$11,'[1]決勝ヒート - レース結果（貼付）'!$1:$1,0)),""))) -> 10.876 | L44: =IF(A44="DNS","",IF(A44="DQ","",IFERROR(INDEX('[1]決勝ヒート - レース結果（貼付）'!$A:$Z,MATCH($B44,'[1]決勝ヒート - レース結果（貼付）'!$B:$B,0),MATCH('決勝ヒート - レース暫定結果表'!L$11,'[1]決勝ヒート - レース結果（貼付）'!$1:$1,0)),""))) -> 58.779 | M44: =IF(L44<1,"",IF($M$11>L44,"R","")) | P44: =IF(IFERROR(INDEX('[1]決勝ヒート - レース結果（貼付）'!$A:$Z,MATCH($B44,'[1]決勝ヒート - レース結果（貼付）'!$B:$B,0),MATCH('決勝ヒート - レース暫定結果表'!P$11,'[1]決勝ヒート - レース結果（貼付）'!$1:$1,0)),"")=0,"",IFERROR(INDEX('[1]決勝ヒート - レース結果（貼付）'!$A:$Z,MATCH($B44,'[1]決勝ヒート - レース結果（貼付）'!$B:$B,0),MATCH('決勝ヒート - レース暫定結果表'!P$11,'[1]決勝ヒート - レース結果（貼付）'!$1:$1,0)),"")) -> 鈴鹿選手権ｼﾘｰｽﾞ特別規則 競技車両規則第60条～2)(ﾌﾛﾝﾄﾌｪｱﾘﾝｸﾞ)違反により、5秒加算とした。 | Q44: =IF(P44="","",COUNTIF($P$13:P44,"<>"&"")) -> 32 | R44: =IFERROR(RANK(Q44,$Q$13:$Q$47,1),"") -> 2 | S44: =IF(IFERROR(INDEX('[1]決勝ヒート - レース結果（貼付）'!$A:$Z,MATCH($A44,'[1]決勝ヒート - レース結果（貼付）'!$A:$A,0),MATCH('決勝ヒート - レース暫定結果表'!S$11,'[1]決勝ヒート - レース結果（貼付）'!$1:$1,0)),"")=0,"",IFERROR(INDEX('[1]決勝ヒート - レース結果（貼付）'!$A:$Z,MATCH($A44,'[1]決勝ヒート - レース結果（貼付）'!$A:$A,0),MATCH('決勝ヒート - レース暫定結果表'!S$11,'[1]決勝ヒート - レース結果（貼付）'!$1:$1,0)),"")) | U44: =IF(IFERROR(INDEX('[1]決勝ヒート - レース結果（貼付）'!$A:$Z,MATCH($B44,'[1]決勝ヒート - レース結果（貼付）'!$B:$B,0),MATCH('決勝ヒート - レース暫定結果表'!U$11,'[1]決勝ヒート - レース結果（貼付）'!$1:$1,0)),"")=0,"",IFERROR(INDEX('[1]決勝ヒート - レース結果（貼付）'!$A:$Z,MATCH($B44,'[1]決勝ヒート - レース結果（貼付）'!$B:$B,0),MATCH('決勝ヒート - レース暫定結果表'!U$11,'[1]決勝ヒート - レース結果（貼付）'!$1:$1,0)),"")) -> 77.415
A45: 以上 規定周回数完走：
A46: =IF(OR('[1]決勝ヒート - レース結果（貼付）'!A34="DNF",'[1]決勝ヒート - レース結果（貼付）'!A34="DNS",'[1]決勝ヒート - レース結果（貼付）'!A34="DQ"),'[1]決勝ヒート - レース結果（貼付）'!A34,IF(MAX('[1]決勝ヒート - レース結果（貼付）'!A:A)>A44,A44+1,"")) -> DNS | B46: =IFERROR(INDEX('[1]決勝ヒート - レース結果（貼付）'!A34:$Z$50,MATCH($A46,'[1]決勝ヒート - レース結果（貼付）'!A34:$A$50,0),MATCH('決勝ヒート - レース暫定結果表'!B$11,'[1]決勝ヒート - レース結果（貼付）'!$1:$1,0)),"") -> 25 | D46: =IFERROR(INDEX('[1]決勝ヒート - レース結果（貼付）'!$A:$Z,MATCH($B46,'[1]決勝ヒート - レース結果（貼付）'!$B:$B,0),MATCH('決勝ヒート - レース暫定結果表'!D$11,'[1]決勝ヒート - レース結果（貼付）'!$1:$1,0)),"") -> 寺西 俊稀 | E46: =IFERROR(INDEX('[1]決勝ヒート - レース結果（貼付）'!$A:$Z,MATCH($B46,'[1]決勝ヒート - レース結果（貼付）'!$B:$B,0),MATCH('決勝ヒート - レース暫定結果表'!E$11,'[1]決勝ヒート - レース結果（貼付）'!$1:$1,0)),"") -> ﾊﾟﾛﾘﾝ/YAMAHA | F46: =IFERROR(INDEX('[1]決勝ヒート - レース結果（貼付）'!$A:$Z,MATCH($B46,'[1]決勝ヒート - レース結果（貼付）'!$B:$B,0),MATCH('決勝ヒート - レース暫定結果表'!F$11,'[1]決勝ヒート - レース結果（貼付）'!$1:$1,0)),"") -> ONEPOINT | G46: =IFERROR(INDEX('[1]決勝ヒート - レース結果（貼付）'!$A:$Z,MATCH($B46,'[1]決勝ヒート - レース結果（貼付）'!$B:$B,0),MATCH('決勝ヒート - レース暫定結果表'!G$11,'[1]決勝ヒート - レース結果（貼付）'!$1:$1,0)),"") -> YH | H46: =IF(A46="DNS","",IF(A46="DQ","",IFERROR(INDEX('[1]決勝ヒート - レース結果（貼付）'!$A:$Z,MATCH($A46,'[1]決勝ヒート - レース結果（貼付）'!$A:$A,0),MATCH('決勝ヒート - レース暫定結果表'!H$11,'[1]決勝ヒート - レース結果（貼付）'!$1:$1,0)),""))) | I46: =IF(A46="DNS","ｽﾀｰﾄ出来ず",IF(A46="DQ","失 格",IFERROR(INDEX('[1]決勝ヒート - レース結果（貼付）'!$A:$Z,MATCH($B46,'[1]決勝ヒート - レース結果（貼付）'!$B:$B,0),MATCH('決勝ヒート - レース暫定結果表'!I$11,'[1]決勝ヒート - レース結果（貼付）'!$1:$1,0)),""))) -> ｽﾀｰﾄ出来ず | J46: =IF(A46="DNS","",IF(A46="DQ","",IFERROR(INDEX('[1]決勝ヒート - レース結果（貼付）'!$A:$Z,MATCH($A46,'[1]決勝ヒート - レース結果（貼付）'!$A:$A,0),MATCH('決勝ヒート - レース暫定結果表'!J$11,'[1]決勝ヒート - レース結果（貼付）'!$1:$1,0)),""))) | K46: =IF(A46="DNS","",IF(A46="DQ","",IFERROR(INDEX('[1]決勝ヒート - レース結果（貼付）'!$A:$Z,MATCH($A46,'[1]決勝ヒート - レース結果（貼付）'!$A:$A,0),MATCH('決勝ヒート - レース暫定結果表'!K$11,'[1]決勝ヒート - レース結果（貼付）'!$1:$1,0)),""))) | L46: =IF(A46="DNS","",IF(A46="DQ","",IFERROR(INDEX('[1]決勝ヒート - レース結果（貼付）'!$A:$Z,MATCH($B46,'[1]決勝ヒート - レース結果（貼付）'!$B:$B,0),MATCH('決勝ヒート - レース暫定結果表'!L$11,'[1]決勝ヒート - レース結果（貼付）'!$1:$1,0)),""))) | M46: =IF(L46<1,"",IF($M$11>L46,"R","")) | P46: =IF(IFERROR(INDEX('[1]決勝ヒート - レース結果（貼付）'!$A:$Z,MATCH($B46,'[1]決勝ヒート - レース結果（貼付）'!$B:$B,0),MATCH('決勝ヒート - レース暫定結果表'!P$11,'[1]決勝ヒート - レース結果（貼付）'!$1:$1,0)),"")=0,"",IFERROR(INDEX('[1]決勝ヒート - レース結果（貼付）'!$A:$Z,MATCH($B46,'[1]決勝ヒート - レース結果（貼付）'!$B:$B,0),MATCH('決勝ヒート - レース暫定結果表'!P$11,'[1]決勝ヒート - レース結果（貼付）'!$1:$1,0)),"")) | Q46: =IF(P46="","",COUNTIF($P$13:P46,"<>"&"")) | R46: =IFERROR(RANK(Q46,$Q$13:$Q$47,1),"") | S46: =IF(IFERROR(INDEX('[1]決勝ヒート - レース結果（貼付）'!$A:$Z,MATCH($A46,'[1]決勝ヒート - レース結果（貼付）'!$A:$A,0),MATCH('決勝ヒート - レース暫定結果表'!S$11,'[1]決勝ヒート - レース結果（貼付）'!$1:$1,0)),"")=0,"",IFERROR(INDEX('[1]決勝ヒート - レース結果（貼付）'!$A:$Z,MATCH($A46,'[1]決勝ヒート - レース結果（貼付）'!$A:$A,0),MATCH('決勝ヒート - レース暫定結果表'!S$11,'[1]決勝ヒート - レース結果（貼付）'!$1:$1,0)),"")) | U46: =IF(IFERROR(INDEX('[1]決勝ヒート - レース結果（貼付）'!$A:$Z,MATCH($B46,'[1]決勝ヒート - レース結果（貼付）'!$B:$B,0),MATCH('決勝ヒート - レース暫定結果表'!U$11,'[1]決勝ヒート - レース結果（貼付）'!$1:$1,0)),"")=0,"",IFERROR(INDEX('[1]決勝ヒート - レース結果（貼付）'!$A:$Z,MATCH($B46,'[1]決勝ヒート - レース結果（貼付）'!$B:$B,0),MATCH('決勝ヒート - レース暫定結果表'!U$11,'[1]決勝ヒート - レース結果（貼付）'!$1:$1,0)),"")) -> -
A47: =IF(OR('[1]決勝ヒート - レース結果（貼付）'!A35="DNF",'[1]決勝ヒート - レース結果（貼付）'!A35="DNS",'[1]決勝ヒート - レース結果（貼付）'!A35="DQ"),'[1]決勝ヒート - レース結果（貼付）'!A35,IF(MAX('[1]決勝ヒート - レース結果（貼付）'!A:A)>A46,A46+1,"")) | B47: =IFERROR(INDEX('[1]決勝ヒート - レース結果（貼付）'!A35:$Z$50,MATCH($A47,'[1]決勝ヒート - レース結果（貼付）'!A35:$A$50,0),MATCH('決勝ヒート - レース暫定結果表'!B$11,'[1]決勝ヒート - レース結果（貼付）'!$1:$1,0)),"") | D47: =IFERROR(INDEX('[1]決勝ヒート - レース結果（貼付）'!$A:$Z,MATCH($B47,'[1]決勝ヒート - レース結果（貼付）'!$B:$B,0),MATCH('決勝ヒート - レース暫定結果表'!D$11,'[1]決勝ヒート - レース結果（貼付）'!$1:$1,0)),"") | E47: =IFERROR(INDEX('[1]決勝ヒート - レース結果（貼付）'!$A:$Z,MATCH($B47,'[1]決勝ヒート - レース結果（貼付）'!$B:$B,0),MATCH('決勝ヒート - レース暫定結果表'!E$11,'[1]決勝ヒート - レース結果（貼付）'!$1:$1,0)),"") | F47: =IFERROR(INDEX('[1]決勝ヒート - レース結果（貼付）'!$A:$Z,MATCH($B47,'[1]決勝ヒート - レース結果（貼付）'!$B:$B,0),MATCH('決勝ヒート - レース暫定結果表'!F$11,'[1]決勝ヒート - レース結果（貼付）'!$1:$1,0)),"") | G47: =IFERROR(INDEX('[1]決勝ヒート - レース結果（貼付）'!$A:$Z,MATCH($B47,'[1]決勝ヒート - レース結果（貼付）'!$B:$B,0),MATCH('決勝ヒート - レース暫定結果表'!G$11,'[1]決勝ヒート - レース結果（貼付）'!$1:$1,0)),"") | H47: =IF(A47="DNS","",IF(A47="DQ","",IFERROR(INDEX('[1]決勝ヒート - レース結果（貼付）'!$A:$Z,MATCH($A47,'[1]決勝ヒート - レース結果（貼付）'!$A:$A,0),MATCH('決勝ヒート - レース暫定結果表'!H$11,'[1]決勝ヒート - レース結果（貼付）'!$1:$1,0)),""))) | I47: =IF(A47="DNS","ｽﾀｰﾄ出来ず",IF(A47="DQ","失 格",IFERROR(INDEX('[1]決勝ヒート - レース結果（貼付）'!$A:$Z,MATCH($B47,'[1]決勝ヒート - レース結果（貼付）'!$B:$B,0),MATCH('決勝ヒート - レース暫定結果表'!I$11,'[1]決勝ヒート - レース結果（貼付）'!$1:$1,0)),""))) | J47: =IF(A47="DNS","",IF(A47="DQ","",IFERROR(INDEX('[1]決勝ヒート - レース結果（貼付）'!$A:$Z,MATCH($A47,'[1]決勝ヒート - レース結果（貼付）'!$A:$A,0),MATCH('決勝ヒート - レース暫定結果表'!J$11,'[1]決勝ヒート - レース結果（貼付）'!$1:$1,0)),""))) | K47: =IF(A47="DNS","",IF(A47="DQ","",IFERROR(INDEX('[1]決勝ヒート - レース結果（貼付）'!$A:$Z,MATCH($A47,'[1]決勝ヒート - レース結果（貼付）'!$A:$A,0),MATCH('決勝ヒート - レース暫定結果表'!K$11,'[1]決勝ヒート - レース結果（貼付）'!$1:$1,0)),""))) | L47: =IF(A47="DNS","",IF(A47="DQ","",IFERROR(INDEX('[1]決勝ヒート - レース結果（貼付）'!$A:$Z,MATCH($B47,'[1]決勝ヒート - レース結果（貼付）'!$B:$B,0),MATCH('決勝ヒート - レース暫定結果表'!L$11,'[1]決勝ヒート - レース結果（貼付）'!$1:$1,0)),""))) | M47: =IF(L47<1,"",IF($M$11>L47,"R","")) | P47: =IF(IFERROR(INDEX('[1]決勝ヒート - レース結果（貼付）'!$A:$Z,MATCH($B47,'[1]決勝ヒート - レース結果（貼付）'!$B:$B,0),MATCH('決勝ヒート - レース暫定結果表'!P$11,'[1]決勝ヒート - レース結果（貼付）'!$1:$1,0)),"")=0,"",IFERROR(INDEX('[1]決勝ヒート - レース結果（貼付）'!$A:$Z,MATCH($B47,'[1]決勝ヒート - レース結果（貼付）'!$B:$B,0),MATCH('決勝ヒート - レース暫定結果表'!P$11,'[1]決勝ヒート - レース結果（貼付）'!$1:$1,0)),"")) | Q47: =IF(P47="","",COUNTIF($P$13:P47,"<>"&"")) | R47: =IFERROR(RANK(Q47,$Q$13:$Q$47,1),"") | S47: =IF(IFERROR(INDEX('[1]決勝ヒート - レース結果（貼付）'!$A:$Z,MATCH($A47,'[1]決勝ヒート - レース結果（貼付）'!$A:$A,0),MATCH('決勝ヒート - レース暫定結果表'!S$11,'[1]決勝ヒート - レース結果（貼付）'!$1:$1,0)),"")=0,"",IFERROR(INDEX('[1]決勝ヒート - レース結果（貼付）'!$A:$Z,MATCH($A47,'[1]決勝ヒート - レース結果（貼付）'!$A:$A,0),MATCH('決勝ヒート - レース暫定結果表'!S$11,'[1]決勝ヒート - レース結果（貼付）'!$1:$1,0)),"")) | U47: =IF(IFERROR(INDEX('[1]決勝ヒート - レース結果（貼付）'!$A:$Z,MATCH($B47,'[1]決勝ヒート - レース結果（貼付）'!$B:$B,0),MATCH('決勝ヒート - レース暫定結果表'!U$11,'[1]決勝ヒート - レース結果（貼付）'!$1:$1,0)),"")=0,"",IFERROR(INDEX('[1]決勝ヒート - レース結果（貼付）'!$A:$Z,MATCH($B47,'[1]決勝ヒート - レース結果（貼付）'!$B:$B,0),MATCH('決勝ヒート - レース暫定結果表'!U$11,'[1]決勝ヒート - レース結果（貼付）'!$1:$1,0)),""))
A49: Fastest Lap | D49: ="No."&IFERROR(INDEX($A11:$Z47,MATCH($I$49,$U$11:$U$47,0),MATCH("No.",$11:$11,0)),"")&" "&IFERROR(INDEX($A11:$Z47,MATCH($I$49,$U$11:$U$47,0),MATCH("名前",$11:$11,0)),"") -> No.56 南崎 高志 | E49: =IFERROR(INDEX($A11:$Z47,MATCH($I$49,$U$11:$U$47,0),MATCH("team",$11:$11,0)),"") -> ｼﾅｼﾞｰﾘﾝｸｽ | F49: =1.264/MAX($U:$U)*3600 -> 57.901233 | H49: =INDEX('[1]決勝ヒート - レース結果（貼付）'!$A:$Z,MATCH(INDEX($A12:$Z46,MATCH($I$49,$U$12:$U$46,0),MATCH("No.",$11:$11,0)),'[1]決勝ヒート - レース結果（貼付）'!$B:$B,0),MATCH("In Lap",'[1]決勝ヒート - レース結果（貼付）'!$1:$1,0))&"/"&IFERROR(INDEX($A12:$Z46,MATCH($I$49,$U$12:$U$46,0),MATCH("laps",$11:$11,0)),"") -> 7/12 | I49: =MAX($U:$U) -> 78.589 | J49: km/h
A51: =IF(COUNTIF(M:M,"R")>=1,"""R"" マークの車は、コースレコードを更新しました。従来のレコードタイムは"&" "&M11,"")
A53: =IF(A54="","","ﾍﾟﾅﾙﾃｨ") -> ﾍﾟﾅﾙﾃｨ
A54: =IF(MAX(Q13:Q47)<1,"",1) -> 1 | B54: =IF(A54="","","No."&INDEX($A$11:$U$47,MATCH($A54,$R$11:$R$47,0),MATCH("No.",$11:$11,0))) -> No.94 | C54: =INDEX($A$11:$U$47,MATCH($A54,$R$11:$R$47,0),MATCH("コメント",$11:$11,0)) -> 鈴鹿選手権ｼﾘｰｽﾞ特別規則 第30条～1)(1)ｽﾀｰﾄ違反(ｺﾘﾄﾞｰ)により、着順から3位下の順位とする。
A55: =IF(A54<COUNTIF($R$12:$R$47,">"&0),A54+1,"") -> 2 | B55: =IF(A55="","","No."&INDEX($A$11:$U$47,MATCH($A55,$R$11:$R$47,0),MATCH("No.",$11:$11,0))) -> No.11 | C55: =INDEX($A$11:$U$47,MATCH($A55,$R$11:$R$47,0),MATCH("コメント",$11:$11,0)) -> 鈴鹿選手権ｼﾘｰｽﾞ特別規則 競技車両規則第60条～2)(ﾌﾛﾝﾄﾌｪｱﾘﾝｸﾞ)違反により、5秒加算とした。
A56: =IF(A55<COUNTIF($R$12:$R$47,">"&0),A55+1,"") | B56: =IF(A56="","","No."&INDEX($A$11:$U$47,MATCH($A56,$R$11:$R$47,0),MATCH("No.",$11:$11,0))) | C56: =INDEX($A$11:$U$47,MATCH($A56,$R$11:$R$47,0),MATCH("コメント",$11:$11,0))
A57: =IF(A56<COUNTIF($R$12:$R$47,">"&0),A56+1,"") | B57: =IF(A57="","","No."&INDEX($A$11:$U$47,MATCH($A57,$R$11:$R$47,0),MATCH("No.",$11:$11,0))) | C57: =INDEX($A$11:$U$47,MATCH($A57,$R$11:$R$47,0),MATCH("コメント",$11:$11,0))
A58: =IF(A57<COUNTIF($R$12:$R$47,">"&0),A57+1,"") | B58: =IF(A58="","","No."&INDEX($A$11:$U$47,MATCH($A58,$R$11:$R$47,0),MATCH("No.",$11:$11,0))) | C58: =INDEX($A$11:$U$47,MATCH($A58,$R$11:$R$47,0),MATCH("コメント",$11:$11,0))
A59: =IF(A58<COUNTIF($R$12:$R$47,">"&0),A58+1,"") | B59: =IF(A59="","","No."&INDEX($A$11:$U$47,MATCH($A59,$R$11:$R$47,0),MATCH("No.",$11:$11,0))) | C59: =INDEX($A$11:$U$47,MATCH($A59,$R$11:$R$47,0),MATCH("コメント",$11:$11,0))
A60: =IF(A59<COUNTIF($R$12:$R$47,">"&0),A59+1,"") | B60: =IF(A60="","","No."&INDEX($A$11:$U$47,MATCH($A60,$R$11:$R$47,0),MATCH("No.",$11:$11,0))) | C60: =INDEX($A$11:$U$47,MATCH($A60,$R$11:$R$47,0),MATCH("コメント",$11:$11,0))
A61: =IF(A60<COUNTIF($R$12:$R$47,">"&0),A60+1,"") | B61: =IF(A61="","","No."&INDEX($A$11:$U$47,MATCH($A61,$R$11:$R$47,0),MATCH("No.",$11:$11,0))) | C61: =INDEX($A$11:$U$47,MATCH($A61,$R$11:$R$47,0),MATCH("コメント",$11:$11,0))
A62: =IF(A61<COUNTIF($R$12:$R$47,">"&0),A61+1,"") | B62: =IF(A62="","","No."&INDEX($A$11:$U$47,MATCH($A62,$R$11:$R$47,0),MATCH("No.",$11:$11,0))) | C62: =INDEX($A$11:$U$47,MATCH($A62,$R$11:$R$47,0),MATCH("コメント",$11:$11,0))
A63: =IF(A62<COUNTIF($R$12:$R$47,">"&0),A62+1,"") | B63: =IF(A63="","","No."&INDEX($A$11:$U$47,MATCH($A63,$R$11:$R$47,0),MATCH("No.",$11:$11,0))) | C63: =INDEX($A$11:$U$47,MATCH($A63,$R$11:$R$47,0),MATCH("コメント",$11:$11,0))
A64: =IF(A63<COUNTIF($R$12:$R$47,">"&0),A63+1,"") | B64: =IF(A64="","","No."&INDEX($A$11:$U$47,MATCH($A64,$R$11:$R$47,0),MATCH("No.",$11:$11,0))) | C64: =INDEX($A$11:$U$47,MATCH($A64,$R$11:$R$47,0),MATCH("コメント",$11:$11,0))
B65: ="審査委員長 ："&" "&[1]各種設定!$D$20 -> 審査委員長 ： Hideyuki KOMIYAMA
