Workbook

Sheet Ver履歴
B2: Ver | C2: 内容
B3: 20220510 | C3: 新規作成
B5: 20221205 | C5: グリッド修正

Sheet 各種設定
D1: ="Ver."&MAX(Ver履歴!B:B) -> Ver.20221205 | G1: 【共通文言】
B2: タイトル | D2: 2022 鈴鹿選手権シリーズ第7戦 ｶｰﾄﾚｰｽ IN SUZUKA | G2: 以下ﾌｨﾆｯｼｭﾗｲﾝ不通過：
B3: （JAF提用） | C3: 20文字 | D3: ｶｰﾄﾚｰｽ IN SUZUKA 第7戦 | G3: 以上 規定周回数完走：
B4: カテゴリ | D4: SUPER SS
G5: Rマークの車は、コースレコードを更新しました。従来のレコードタイムは ●.●
B6: WEATHER: | D6: Fine
D7: Cloudy
D8: Rain | G8: 以上：決勝ﾋｰﾄ進出
G9: 以下：ｾｶﾝﾄﾞﾁｬﾝｽﾋｰﾄ出場
B11: COURSE : | D11: Dry | G11: 計測できず
D12: Dry/Wet | G12: 出走せず
D13: Half Wet | G13: ｽﾀｰﾄ出来ず
D14: Wet | G14: 失 格
B17: DATE : | C17: From | D17: 44906
C18: To | D18: 44906
B20: 審査委員長 | G20: JAF国内ｶｰﾄ競技規則ｶｰﾄ競技会運営に関する規定 第22条((幅寄せ)違反により、10秒加算した。
G21: JAF国内ｶｰﾄ競技規則ｶｰﾄ競技会運営に関する規定 第22条(妨害の禁止(プッシング))違反により、着順から3位下の順位とする。
B22: 競技監督 | G22: JAF国内ｶｰﾄ競技規則ｶｰﾄ競技会運営に関する規定 第22条(妨害の禁止(ﾌﾟｯｼﾝｸﾞ･ﾌﾞﾛｯｷﾝｸﾞ))違反により、着順から3位下の順位とする。
G23: JAF国内ｶｰﾄ競技規則ｶｰﾄ競技会運営に関する規定 第22条(妨害の禁止(幅寄せ))違反 2回により、着順から6位下の順位とする。
B24: 計時委員長 | G24: JAF国内ｶｰﾄ競技規則ｶｰﾄ競技会運営に関する規定 第22条(妨害の禁止(幅寄せ))違反により、着順から2位下の順位とする。
G25: JAF国内ｶｰﾄ競技規則ｶｰﾄ競技会運営に関する規定 第22条(妨害の禁止(幅寄せ))違反により、着順から3位下の順位とする。
B26: 競技格式 | D26: D | G26: JAF国内ｶｰﾄ競技規則ｶｰﾄ競技会運営に関する規定 第22条(妨害の禁止(無理な割り込み))違反により、失格とした。
D27: A：国際､B：準国際､C：国内､D：準国内､E：地方 | G27: JAF国内ｶｰﾄ競技規則ｶｰﾄ競技会運営に関する規定 第22条(妨害の禁止(無理な進入))違反により、着順から3位下の順位とする。
B28: オーガナイザーコード | D28: 82401 | E28: SMSC | F28: 82401 | G28: JAF国内ｶｰﾄ競技規則ｶｰﾄ競技会運営に関する規定 第22条(妨害の禁止(無理な進入))違反により、着順から5位下の順位とする。
E29: KSK | F29: 82701 | G29: JAF国内ｶｰﾄ競技規則ｶｰﾄ競技会運営に関する規定 第22条(妨害の禁止)により、10秒加算した。
B30: 公認番号 | D30: 222509 | G30: JAF国内ｶｰﾄ競技規則ｶｰﾄ競技会運営に関する規定 第3章第11条(ドライバーの服装)違反により、1周減算とした。
G31: KTスーパートロフィ-2021SUZUKA特別規則書第14条(車両規定(ガスケット))違反により、失格とした。
G32: KTスーパートロフィ-2021SUZUKA特別規則書第14条(車両規定(フロントフェアリング))違反により、5秒加算とした。
G33: ROTAXMAXChallengeTechnicalRegulations20222-7ﾀｲﾔ指定方向のみ使用可の違反により、失格とした。
G34: 全日本カート選手権 ジュニアカート選手権統一規則 第19条(最低重量)違反により、失格とした。
G35: 全日本カート選手権 統一規則 カート競技会運営に関する規定 第21条コースアウト(ショートカット)により、1周減算した。
G36: 全日本カート選手権 統一規則 第38条(25)(フロントフェアリングが正しい装着状態でない)により5秒加算した。
G37: 鈴鹿選手権ｼﾘｰｽﾞ特別規則 競技車両規則第31条(危険回避の義務)違反により、着順から3位下の順位とする。
G38: 鈴鹿選手権ｼﾘｰｽﾞ特別規則 第29条～3)(フォーメーションラップ)違反により、失格とした。
G39: 鈴鹿選手権ｼﾘｰｽﾞ特別規則 第30条～3)(フォーメンションラップスタート)違反により、着順から3位下の順位とする。
G40: 鈴鹿選手権ｼﾘｰｽﾞ特別規則 第30条～1)(1)ｽﾀｰﾄ違反(ｺﾘﾄﾞｰ)により、着順から3位下の順位とする。
G41: 鈴鹿選手権ｼﾘｰｽﾞ特別規則 第30条スタート～2)スタート違反(フライング)により、着順から3位下の順位とする。
G42: 鈴鹿選手権ｼﾘｰｽﾞ特別規則 第32条(信号旗(チェッカー))違反により、1周減算とした。
... G48: 鈴鹿選手権ｼﾘｰｽﾞ特別規則競技車両規則 第67条～1)(改造範囲)違反により、失格とした。

Sheet コースレコード
A1: Class | B1: Name | C1: Time | D1: Date | E1: Machine | F1: Weather | G1: Course
A2: Avanti | B2: 三ツ井 光輝 | C2: 52.418 | D2: 44703 | E2: FA/PRD | F2: FINE | G2: DRY
A3: Avanti-YOUTH | B3: 向畑 疾走 | C3: 52.063 | D3: 43737 | E3: CRG/AVANTI | F3: FINE | G3: DRY
A4: カデット オープン | B4: 前田 蒼介 | C4: 55.806 | D4: 44668 | E4: KARTREPUBLIC/YAMAHA | F4: CLOUDY | G4: DRY
A5: EXGEL OK CHAMP | B5: 野村 勇斗 | C5: 46.999 | D5: 44269 | E5: KART REPUBLIC/TM | F5: FINE | G5: DRY
A6: FP3 | B6: 津野 和彦 | C6: 55.037 | D6: 41910 | E6: TONY KART/YAMAHA | F6: FINE | G6: DRY
A7: FP-Jr | B7: 加納 康雅 | C7: 53.724 | D7: 44177 | E7: SWF/YAMAHA | F7: FINE | G7: DRY
A8: FP-Jr Cadets | B8: 松本 琉輝斗 | C8: 57.957 | D8: 43583 | E8: Energy/YAMAHA | F8: FINE | G8: DRY
A9: FS-125/X30 | B9: 中井 陽斗 | C9: 48.758 | D9: 44668 | E9: KR/IAME | F9: CLOUDY | G9: DRY
A10: FS125 | B10: 佐野 雄城 | C10: 49.222 | D10: 44177 | E10: BirelART/IAME | F10: FINE | G10: DRY
A11: Junior MAX | B11: 秋枝 璃空 | C11: 49.068 | D11: 44668 | E11: KOSMIC/ROTAX | F11: FINE | G11: DRY
A12: MAX Masters | B12: 加藤 雅規 | C12: 48.677 | D12: 44668 | E12: KART REPABLIC/ROTAX | F12: CLOUDY | G12: DRY
A13: Senior MAX | B13: 玉橋 陸斗 | C13: 47.952 | D13: 44668 | E13: TONYKART/ROTAX | F13: CLOUDY | G13: DRY
... A20: YAMAHA KT Cadet | B20: 松井 沙麗 | C20: 56.447 | D20: 44248 | E20: TECNO | F20: FINE | G20: DRY
A21: YAMAHA KT SS | B21: 加納 康雅 | C21: 54.691 | D21: 44248 | F21: FINE | G21: DRY

Sheet 公式予選（TT）1Gr-結果表（貼付）
A1: Pos. | B1: No. | C1: 名前 | D1: クラス | E1: BestLap | F1: In Lap | G1: 差 | H1: GAP | I1: Laps | J1: 2nd Best | K1: コメント | L1: ポンダー# | M1: Tires | N1: Model/Engine | O1: Team | P1: 会員番号 | Q1: Sponsor | R1: Make | S1: ポイント | T1: ベスト平均時速 | U1: Total Time | V1: S1 | W1: S2
A2: 1 | B2: 51 | C2: 佐々木 克行 | D2: SUPER SS | E2: 55.027 | F2: 6 | I2: 6 | J2: 55.15 | L2: 724 | M2: BS | N2: DreamQuest/YAMAHA | O2: RT.HISTRY | P2: D1a2cc4a8 | S2: 0 | T2: 82.694 | U2: 0.0039031019 | V2: 27.688 | W2: 27.339
A3: 2 | B3: 2 | C3: 坂 裕之 | D3: SUPER SS | E3: 55.337 | F3: 6 | G3: 0.31 | H3: 0.31 | I3: 6 | J3: 55.347 | L3: 700 | M3: BS | N3: SWF/YAMAHA | O3: のりものクラブTIGRE | P3: D35876348 | S3: 0 | T3: 82.231 | U3: 0.0039646875 | V3: 27.773 | W3: 27.564
A4: 3 | B4: 30 | C4: 平野 伸一 | D4: SUPER SS | E4: 55.383 | F4: 3 | G4: 0.356 | H4: 0.046 | I4: 5 | J4: 55.442 | L4: 15875595 | M4: BS | N4: mach1/YAMAHA | O4: サーティーズレーシング | P4: D2286bc24 | S4: 0 | T4: 82.162 | U4: 0.003379919 | V4: 29.025
A5: 4 | B5: 7 | C5: 光田 拓 | D5: SUPER SS | E5: 55.401 | F5: 5 | G5: 0.374 | H5: 0.018 | I5: 5 | J5: 55.555 | L5: 702 | M5: BS | N5: TONYKART/YAMAHA | O5: M sistem | P5: D4c20e5a0 | S5: 0 | T5: 82.136 | U5: 0.0036746991 | V5: 27.974 | W5: 27.427
A6: 5 | B6: 73 | C6: 高野 貴志 | D6: SUPER SS | E6: 55.715 | F6: 3 | G6: 0.688 | H6: 0.314 | I6: 5 | J6: 55.774 | L6: 734 | M6: BS | N6: INTREPID/YAMAHA | O6: FIORE Motor Sports | P6: Df56912c2 | S6: 0 | T6: 81.673 | U6: 0.0037577778 | V6: 28.048 | W6: 27.726
A7: 6 | B7: 57 | C7: 江崎 昭彦 | D7: SUPER SS | E7: 55.718 | F7: 3 | G7: 0.691 | H7: 0.003 | I7: 5 | J7: 55.781 | L7: 8170816 | M7: BS | N7: KOSMIC/YAMAHA | O7: Ash | P7: Dbb09d749 | S7: 0 | T7: 81.668 | U7: 0.0033455671 | V7: 28.72
A8: 7 | B8: 10 | C8: 布目 敬詞 | D8: SUPER SS | E8: 55.718 | F8: 4 | G8: 0.691 | I8: 6 | J8: 55.781 | L8: 5950220 | M8: BS | N8: TONY KART/YAMAHA | O8: Higuchi Racing Team | P8: Dad20ea40 | S8: 0 | T8: 81.668 | U8: 0.0039690972 | V8: 28.174 | W8: 27.607
A9: 8 | B9: 25 | C9: 平井 秀樹 | D9: SUPER SS | E9: 55.839 | F9: 6 | G9: 0.812 | H9: 0.121 | I9: 6 | J9: 56.142 | L9: 712 | M9: BS | N9: コスミック/YAMAHA | O9: K-TECK with ぴぃたぁぱん | P9: D1cf2e00e | S9: 0 | T9: 81.491 | U9: 0.0039213426 | V9: 28.005 | W9: 27.834
A10: 9 | B10: 77 | C10: 永川 悠太 | D10: SUPER SS | E10: 55.864 | F10: 3 | G10: 0.837 | H10: 0.025 | I10: 5 | J10: 55.878 | L10: 735 | M10: BS | N10: DRAGO CORSE/YAMAHA | O10: のりものクラブ EGazooRacing with WEST | P10: D34af5015 | S10: 0 | T10: 81.455 | U10: 0.003746169 | V10: 28.206 | W10: 27.692
A11: 10 | B11: 19 | C11: 岸 秀行 | D11: SUPER SS | E11: 55.879 | F11: 5 | G11: 0.852 | H11: 0.015 | I11: 5 | J11: 56.09 | L11: 4877312 | M11: BS | N11: コスミック/YAMAHA | O11: チームナガオ・大阪鶴見法律事務所 | P11: D86ec8678 | S11: 0 | T11: 81.433 | U11: 0.0039275347 | V11: 28.266 | W11: 27.613
A12: 11 | B12: 45 | C12: 三浦 淳 | D12: SUPER SS | E12: 55.911 | F12: 2 | G12: 0.884 | H12: 0.032 | I12: 5 | J12: 56.003 | L12: 723 | M12: BS | N12: SWF/YAMAHA | O12: 堺レーシング | P12: D9c39bd8d | S12: 0 | T12: 81.386 | U12: 0.0033416319 | V12: 28.595
A13: 12 | B13: 52 | C13: 佐藤 正規 | D13: SUPER SS | E13: 55.984 | F13: 5 | G13: 0.957 | H13: 0.073 | I13: 5 | J13: 56.228 | L13: 6141282 | M13: BS | N13: birel ART/YAMAHA | O13: FSN union | P13: Dc2ae38f6 | S13: 0 | T13: 81.28 | U13: 0.0038989352 | V13: 28.039 | W13: 27.945
A14: 13 | B14: 32 | C14: 林 三貴彦 | D14: SUPER SS | E14: 55.987 | F14: 2 | G14: 0.96 | H14: 0.003 | I14: 2 | J14: 56.276 | L14: 15744434 | M14: BS | N14: トニーカート/YAMAHA | O14: ASH | P14: D4265bec9 | S14: 0 | T14: 81.276 | U14: 0.0014076968 | V14: 28.186 | W14: 27.801
A15: 14 | B15: 12 | C15: 辻井 啓貴 | D15: SUPER SS | E15: 56.075 | F15: 5 | G15: 1.048 | H15: 0.088 | I15: 6 | J15: 56.434 | L15: 706 | M15: BS | N15: KOSMIC/YAMAHA | O15: EHRE motorsport | P15: Dcdc3ed1 | S15: 0 | T15: 81.148 | U15: 0.0039658796 | V15: 28.126 | W15: 28.488
A16: 15 | B16: 3 | C16: 奥野 安眞 | D16: SUPER SS | E16: 56.089 | F16: 2 | G16: 1.062 | H16: 0.014 | I16: 6 | J16: 56.089 | L16: 701 | M16: BS | N16: MACH1/YAMAHA | O16: F's CLUB | P16: D8de6ac52 | S16: 0 | T16: 81.128 | U16: 0.0040325694 | V16: 28.179 | W16: 27.985
A17: 16 | B17: 39 | C17: 松井 孝允 | D17: SUPER SS | E17: 56.123 | F17: 6 | G17: 1.096 | H17: 0.034 | I17: 6 | J17: 56.202 | L17: 720 | M17: BS | N17: SWF/YAMAHA | O17: のりものクラブTIGRE | P17: D94acc7e | S17: 0 | T17: 81.079 | U17: 0.0039565972 | V17: 28.133 | W17: 27.99
A18: 17 | B18: 44 | C18: 今井 紀夫 | D18: SUPER SS | E18: 56.157 | F18: 5 | G18: 1.13 | H18: 0.034 | I18: 5 | J18: 56.489 | L18: 722 | M18: BS | N18: ビレル/YAMAHA | O18: アフェクションTIGRE | P18: D2458ea0 | S18: 0 | T18: 81.03 | U18: 0.0039906829 | V18: 28.109 | W18: 28.048
A19: 18 | B19: 14 | C19: 辻本 稔 | D19: SUPER SS | E19: 56.188 | F19: 6 | G19: 1.161 | H19: 0.031 | I19: 6 | J19: 56.445 | L19: 14620682 | M19: BS | N19: Mach1/YAMAHA | O19: サーティーズレーシング | P19: D6ce6f2e4 | S19: 0 | T19: 80.985 | U19: 0.0040949884 | V19: 28.361 | W19: 27.827
A20: 19 | B20: 53 | C20: 宮崎 知巳 | D20: SUPER SS | E20: 56.361 | F20: 3 | G20: 1.334 | H20: 0.173 | I20: 5 | J20: 56.364 | L20: 726 | M20: BS | N20: トニーカート/YAMAHA | O20: JACKAL HKC | P20: D7acfc991 | S20: 0 | T20: 80.737 | U20: 0.0038967245 | V20: 28.338 | W20: 28.026
A21: 20 | B21: 68 | C21: 安藤 直仁 | D21: SUPER SS | E21: 56.414 | F21: 1 | G21: 1.387 | H21: 0.053 | I21: 5 | J21: 56.514 | L21: 731 | M21: BS | N21: KOSMIC/YAMAHA | O21: Gren Blue RT | P21: Df995a3fb | S21: 0 | T21: 80.661 | U21: 0.0033439815 | V21: 29.058
A22: 21 | B22: 27 | C22: 大川 浩 | D22: SUPER SS | E22: 56.595 | F22: 2 | G22: 1.568 | H22: 0.181 | I22: 5 | J22: 56.658 | L22: 8111339 | M22: BS | N22: FA/YAMAHA | O22: ハラダカートクラブ | P22: D7c11f9f0 | S22: 0 | T22: 80.403 | U22: 0.0036674421 | V22: 28.637 | W22: 28.111
A23: 22 | B23: 90 | C23: 竹中 敬之 | D23: SUPER SS | E23: 56.618 | F23: 4 | G23: 1.591 | H23: 0.023 | I23: 6 | J23: 56.648 | L23: 14281735 | M23: BS | N23: マッハワン/YAMAHA | O23: サーティーズレーシング | P23: Db3faed32 | S23: 0 | T23: 80.37 | U23: 0.0039600463 | V23: 28.667 | W23: 28.055
A24: 23 | B24: 61 | C24: 曽我部 崇 | D24: SUPER SS | E24: 56.722 | F24: 4 | G24: 1.695 | H24: 0.104 | I24: 6 | J24: 56.785 | L24: 10308234 | M24: BS | N24: MACH1/YAMAHA | O24: F's CLUB | P24: Dd2592ef5 | S24: 0 | T24: 80.223 | U24: 0.0040708333 | V24: 28.569 | W24: 28.276
A25: 24 | B25: 29 | C25: 平田 研二 | D25: SUPER SS | E25: 56.753 | F25: 5 | G25: 1.726 | H25: 0.031 | I25: 5 | J25: 57.173 | L25: 715 | M25: BS | N25: CROC Promotion/YAMAHA | O25: RS nakatsuchi | P25: D4e991b34 | S25: 0 | T25: 80.179 | U25: 0.0039878472 | V25: 28.515 | W25: 28.238
A26: 25 | B26: 99 | C26: 近藤 雄一朗 | D26: SUPER SS | E26: 56.931 | F26: 1 | G26: 1.904 | H26: 0.178 | I26: 6 | J26: 57.065 | L26: 740 | M26: BS | N26: ドラゴコルセ/YAMAHA | O26: モアコラージュTQS | P26: D98362e58 | S26: 0 | T26: 79.928 | U26: 0.0040063079 | V26: 29.326 | W26: 28.546
A27: 26 | B27: 56 | C27: 米倉 隆幸 | D27: SUPER SS | E27: 57.622 | F27: 4 | G27: 2.595 | H27: 0.691 | I27: 5 | J27: 57.629 | L27: 728 | M27: BS | N27: TONY KART/YAMAHA | O27: T-WEST-RS | P27: D3689610 | S27: 0 | T27: 78.97 | U27: 0.0036585995 | V27: 29.125 | W27: 28.504

Sheet 公式予選（TT）1Gr-結果表（印刷）
J6: =+各種設定!D18 -> 44906 | K6: :
A7: =+各種設定!D2 -> 2022 鈴鹿選手権シリーズ第7戦 ｶｰﾄﾚｰｽ IN SUZUKA | J7: WEATHER: | K7: Fine
D8: Thanks BRIDGESTONE | J8: COURSE : | K8: Dry
A9: =+各種設定!D4 -> SUPER SS | J9: 南コース 1.264Km
A10: １ Ｇｒ. 公式予選結果表
B11: No. | C11: クラス | D11: 名前 | E11: Model/Engine | F11: Team | G11: Tires | H11: BestLap | I11: =VLOOKUP(A9,コースレコード!$A:$G,3,FALSE) -> 54.706 | J11: 差 | K11: GAP | P11: コメント | R11: ペナルティNo. | S11: グリッドコメント
A12: Pos. | B12: No. | D12: Driver | E12: Type | F12: Team | G12: Tire | H12: Time | J12: Delay | K12: Gap | L12: Lap
A13: 1 | B13: =IFERROR(INDEX('公式予選（TT）1Gr-結果表（貼付）'!A2:$Z$50,MATCH($A13,'公式予選（TT）1Gr-結果表（貼付）'!A2:$A$50,0),MATCH('公式予選（TT）1Gr-結果表（印刷）'!B$11,'公式予選（TT）1Gr-結果表（貼付）'!$1:$1,0)),"") -> 51 | D13: =IFERROR(INDEX('公式予選（TT）1Gr-結果表（貼付）'!$A:$Z,MATCH($B13,'公式予選（TT）1Gr-結果表（貼付）'!$B:$B,0),MATCH('公式予選（TT）1Gr-結果表（印刷）'!D$11,'公式予選（TT）1Gr-結果表（貼付）'!$1:$1,0)),"") -> 佐々木 克行 | E13: =IFERROR(INDEX('公式予選（TT）1Gr-結果表（貼付）'!$A:$Z,MATCH($B13,'公式予選（TT）1Gr-結果表（貼付）'!$B:$B,0),MATCH('公式予選（TT）1Gr-結果表（印刷）'!E$11,'公式予選（TT）1Gr-結果表（貼付）'!$1:$1,0)),"") -> DreamQuest/YAMAHA | F13: =IFERROR(INDEX('公式予選（TT）1Gr-結果表（貼付）'!$A:$Z,MATCH($B13,'公式予選（TT）1Gr-結果表（貼付）'!$B:$B,0),MATCH('公式予選（TT）1Gr-結果表（印刷）'!F$11,'公式予選（TT）1Gr-結果表（貼付）'!$1:$1,0)),"") -> RT.HISTRY | G13: =IFERROR(INDEX('公式予選（TT）1Gr-結果表（貼付）'!$A:$Z,MATCH($B13,'公式予選（TT）1Gr-結果表（貼付）'!$B:$B,0),MATCH('公式予選（TT）1Gr-結果表（印刷）'!G$11,'公式予選（TT）1Gr-結果表（貼付）'!$1:$1,0)),"") -> BS | H13: =IFERROR(INDEX('公式予選（TT）1Gr-結果表（貼付）'!$A:$Z,MATCH($B13,'公式予選（TT）1Gr-結果表（貼付）'!$B:$B,0),MATCH('公式予選（TT）1Gr-結果表（印刷）'!H$11,'公式予選（TT）1Gr-結果表（貼付）'!$1:$1,0)),"") -> 55.027 | I13: =IF(H13<1,"",IF($I$11>H13,"R","")) | J13: =ROUND(INDEX('公式予選（TT）1Gr-結果表（貼付）'!$A:$Z,MATCH($B13,'公式予選（TT）1Gr-結果表（貼付）'!$B:$B,0),MATCH("ベスト平均時速",'公式予選（TT）1Gr-結果表（貼付）'!$1:$1,0)),2)&"km/h" -> 82.69km/h | L13: =IF(A13="DNS","",IF(A13="DQ","",IFERROR(INDEX('公式予選（TT）1Gr-結果表（貼付）'!$A:$Z,MATCH($B13,'公式予選（TT）1Gr-結果表（貼付）'!$B:$B,0),MATCH("In Lap",'公式予選（TT）1Gr-結果表（貼付）'!$1:$1,0))&"/"&INDEX('公式予選（TT）1Gr-結果表（貼付）'!$A:$Z,MATCH($B13,'公式予選（TT）1Gr-結果表（貼付）'!$B:$B,0),MATCH("Laps",'公式予選（TT）1Gr-結果表（貼付）'!$1:$1,0)),""))) -> 6/6 | P13: =IF(IFERROR(INDEX('公式予選（TT）1Gr-結果表（貼付）'!$A:$Z,MATCH($B13,'公式予選（TT）1Gr-結果表（貼付）'!$B:$B,0),MATCH(P$11,'公式予選（TT）1Gr-結果表（貼付）'!$1:$1,0)),"")=0,"",IFERROR(INDEX('公式予選（TT）1Gr-結果表（貼付）'!$A:$Z,MATCH($B13,'公式予選（TT）1Gr-結果表（貼付）'!$B:$B,0),MATCH(P$11,'公式予選（TT）1Gr-結果表（貼付）'!$1:$1,0)),"")) | Q13: =IF(P13="","",COUNTIF($P$13:P13,"<>"&"")) | R13: =IFERROR(RANK(Q13,$Q$13:$Q$46,1),"") | S13: =IF(IFERROR(INDEX('公式予選（TT）1Gr-結果表（貼付）'!$A:$Z,MATCH($A13,'公式予選（TT）1Gr-結果表（貼付）'!$A:$A,0),MATCH(S$11,'公式予選（TT）1Gr-結果表（貼付）'!$1:$1,0)),"")=0,"",IFERROR(INDEX('公式予選（TT）1Gr-結果表（貼付）'!$A:$Z,MATCH($A13,'公式予選（TT）1Gr-結果表（貼付）'!$A:$A,0),MATCH(S$11,'公式予選（TT）1Gr-結果表（貼付）'!$1:$1,0)),""))
A14: =IF(OR('公式予選（TT）1Gr-結果表（貼付）'!A3="DNF",'公式予選（TT）1Gr-結果表（貼付）'!A3="DNS",'公式予選（TT）1Gr-結果表（貼付）'!A3="DQ"),'公式予選（TT）1Gr-結果表（貼付）'!A3,IF(MAX('公式予選（TT）1Gr-結果表（貼付）'!$A:$A)>A13,A13+1,"")) -> 2 | B14: =IFERROR(INDEX('公式予選（TT）1Gr-結果表（貼付）'!A3:$Z$50,MATCH($A14,'公式予選（TT）1Gr-結果表（貼付）'!A3:$A$50,0),MATCH('公式予選（TT）1Gr-結果表（印刷）'!B$11,'公式予選（TT）1Gr-結果表（貼付）'!$1:$1,0)),"") -> 2 | D14: =IFERROR(INDEX('公式予選（TT）1Gr-結果表（貼付）'!$A:$Z,MATCH($B14,'公式予選（TT）1Gr-結果表（貼付）'!$B:$B,0),MATCH('公式予選（TT）1Gr-結果表（印刷）'!D$11,'公式予選（TT）1Gr-結果表（貼付）'!$1:$1,0)),"") -> 坂 裕之 | E14: =IFERROR(INDEX('公式予選（TT）1Gr-結果表（貼付）'!$A:$Z,MATCH($B14,'公式予選（TT）1Gr-結果表（貼付）'!$B:$B,0),MATCH('公式予選（TT）1Gr-結果表（印刷）'!E$11,'公式予選（TT）1Gr-結果表（貼付）'!$1:$1,0)),"") -> SWF/YAMAHA | F14: =IFERROR(INDEX('公式予選（TT）1Gr-結果表（貼付）'!$A:$Z,MATCH($B14,'公式予選（TT）1Gr-結果表（貼付）'!$B:$B,0),MATCH('公式予選（TT）1Gr-結果表（印刷）'!F$11,'公式予選（TT）1Gr-結果表（貼付）'!$1:$1,0)),"") -> のりものクラブTIGRE | G14: =IFERROR(INDEX('公式予選（TT）1Gr-結果表（貼付）'!$A:$Z,MATCH($B14,'公式予選（TT）1Gr-結果表（貼付）'!$B:$B,0),MATCH('公式予選（TT）1Gr-結果表（印刷）'!G$11,'公式予選（TT）1Gr-結果表（貼付）'!$1:$1,0)),"") -> BS | H14: =IF(A14="DNS","ｽﾀｰﾄ出来ず",IF(A14="DQ","失 格",IFERROR(INDEX('公式予選（TT）1Gr-結果表（貼付）'!$A:$Z,MATCH($B14,'公式予選（TT）1Gr-結果表（貼付）'!$B:$B,0),MATCH('公式予選（TT）1Gr-結果表（印刷）'!H$11,'公式予選（TT）1Gr-結果表（貼付）'!$1:$1,0)),""))) -> 55.337 | I14: =IF(H14<1,"",IF($I$11>H14,"R","")) | J14: =IF(A14="DNS","",IF(A14="DQ","",IFERROR(INDEX('公式予選（TT）1Gr-結果表（貼付）'!$A:$Z,MATCH($B14,'公式予選（TT）1Gr-結果表（貼付）'!$B:$B,0),MATCH('公式予選（TT）1Gr-結果表（印刷）'!J$11,'公式予選（TT）1Gr-結果表（貼付）'!$1:$1,0)),""))) -> 0.31 | K14: =IF(A14="DNS","",IF(A14="DQ","",IFERROR(INDEX('公式予選（TT）1Gr-結果表（貼付）'!$A:$Z,MATCH($B14,'公式予選（TT）1Gr-結果表（貼付）'!$B:$B,0),MATCH('公式予選（TT）1Gr-結果表（印刷）'!K$11,'公式予選（TT）1Gr-結果表（貼付）'!$1:$1,0)),""))) -> 0.31 | L14: =IF(A14="DNS","",IF(A14="DQ","",IFERROR(INDEX('公式予選（TT）1Gr-結果表（貼付）'!$A:$Z,MATCH($B14,'公式予選（TT）1Gr-結果表（貼付）'!$B:$B,0),MATCH("In Lap",'公式予選（TT）1Gr-結果表（貼付）'!$1:$1,0))&"/"&INDEX('公式予選（TT）1Gr-結果表（貼付）'!$A:$Z,MATCH($B14,'公式予選（TT）1Gr-結果表（貼付）'!$B:$B,0),MATCH("Laps",'公式予選（TT）1Gr-結果表（貼付）'!$1:$1,0)),""))) -> 6/6 | P14: =IF(IFERROR(INDEX('公式予選（TT）1Gr-結果表（貼付）'!$A:$Z,MATCH($B14,'公式予選（TT）1Gr-結果表（貼付）'!$B:$B,0),MATCH(P$11,'公式予選（TT）1Gr-結果表（貼付）'!$1:$1,0)),"")=0,"",IFERROR(INDEX('公式予選（TT）1Gr-結果表（貼付）'!$A:$Z,MATCH($B14,'公式予選（TT）1Gr-結果表（貼付）'!$B:$B,0),MATCH(P$11,'公式予選（TT）1Gr-結果表（貼付）'!$1:$1,0)),"")) | Q14: =IF(P14="","",COUNTIF($P$13:P14,"<>"&"")) | R14: =IFERROR(RANK(Q14,$Q$13:$Q$46,1),"") | S14: =IF(IFERROR(INDEX('公式予選（TT）1Gr-結果表（貼付）'!$A:$Z,MATCH($A14,'公式予選（TT）1Gr-結果表（貼付）'!$A:$A,0),MATCH(S$11,'公式予選（TT）1Gr-結果表（貼付）'!$1:$1,0)),"")=0,"",IFERROR(INDEX('公式予選（TT）1Gr-結果表（貼付）'!$A:$Z,MATCH($A14,'公式予選（TT）1Gr-結果表（貼付）'!$A:$A,0),MATCH(S$11,'公式予選（TT）1Gr-結果表（貼付）'!$1:$1,0)),""))
A15: =IF(OR('公式予選（TT）1Gr-結果表（貼付）'!A4="DNF",'公式予選（TT）1Gr-結果表（貼付）'!A4="DNS",'公式予選（TT）1Gr-結果表（貼付）'!A4="DQ"),'公式予選（TT）1Gr-結果表（貼付）'!A4,IF(MAX('公式予選（TT）1Gr-結果表（貼付）'!$A:$A)>A14,A14+1,"")) -> 3 | B15: =IFERROR(INDEX('公式予選（TT）1Gr-結果表（貼付）'!A4:$Z$50,MATCH($A15,'公式予選（TT）1Gr-結果表（貼付）'!A4:$A$50,0),MATCH('公式予選（TT）1Gr-結果表（印刷）'!B$11,'公式予選（TT）1Gr-結果表（貼付）'!$1:$1,0)),"") -> 30 | D15: =IFERROR(INDEX('公式予選（TT）1Gr-結果表（貼付）'!$A:$Z,MATCH($B15,'公式予選（TT）1Gr-結果表（貼付）'!$B:$B,0),MATCH('公式予選（TT）1Gr-結果表（印刷）'!D$11,'公式予選（TT）1Gr-結果表（貼付）'!$1:$1,0)),"") -> 平野 伸一 | E15: =IFERROR(INDEX('公式予選（TT）1Gr-結果表（貼付）'!$A:$Z,MATCH($B15,'公式予選（TT）1Gr-結果表（貼付）'!$B:$B,0),MATCH('公式予選（TT）1Gr-結果表（印刷）'!E$11,'公式予選（TT）1Gr-結果表（貼付）'!$1:$1,0)),"") -> mach1/YAMAHA | F15: =IFERROR(INDEX('公式予選（TT）1Gr-結果表（貼付）'!$A:$Z,MATCH($B15,'公式予選（TT）1Gr-結果表（貼付）'!$B:$B,0),MATCH('公式予選（TT）1Gr-結果表（印刷）'!F$11,'公式予選（TT）1Gr-結果表（貼付）'!$1:$1,0)),"") -> サーティーズレーシング | G15: =IFERROR(INDEX('公式予選（TT）1Gr-結果表（貼付）'!$A:$Z,MATCH($B15,'公式予選（TT）1Gr-結果表（貼付）'!$B:$B,0),MATCH('公式予選（TT）1Gr-結果表（印刷）'!G$11,'公式予選（TT）1Gr-結果表（貼付）'!$1:$1,0)),"") -> BS | H15: =IF(A15="DNS","ｽﾀｰﾄ出来ず",IF(A15="DQ","失 格",IFERROR(INDEX('公式予選（TT）1Gr-結果表（貼付）'!$A:$Z,MATCH($B15,'公式予選（TT）1Gr-結果表（貼付）'!$B:$B,0),MATCH('公式予選（TT）1Gr-結果表（印刷）'!H$11,'公式予選（TT）1Gr-結果表（貼付）'!$1:$1,0)),""))) -> 55.383 | I15: =IF(H15<1,"",IF($I$11>H15,"R","")) | J15: =IF(A15="DNS","",IF(A15="DQ","",IFERROR(INDEX('公式予選（TT）1Gr-結果表（貼付）'!$A:$Z,MATCH($B15,'公式予選（TT）1Gr-結果表（貼付）'!$B:$B,0),MATCH('公式予選（TT）1Gr-結果表（印刷）'!J$11,'公式予選（TT）1Gr-結果表（貼付）'!$1:$1,0)),""))) -> 0.356 | K15: =IF(A15="DNS","",IF(A15="DQ","",IFERROR(INDEX('公式予選（TT）1Gr-結果表（貼付）'!$A:$Z,MATCH($B15,'公式予選（TT）1Gr-結果表（貼付）'!$B:$B,0),MATCH('公式予選（TT）1Gr-結果表（印刷）'!K$11,'公式予選（TT）1Gr-結果表（貼付）'!$1:$1,0)),""))) -> 0.046 | L15: =IF(A15="DNS","",IF(A15="DQ","",IFERROR(INDEX('公式予選（TT）1Gr-結果表（貼付）'!$A:$Z,MATCH($B15,'公式予選（TT）1Gr-結果表（貼付）'!$B:$B,0),MATCH("In Lap",'公式予選（TT）1Gr-結果表（貼付）'!$1:$1,0))&"/"&INDEX('公式予選（TT）1Gr-結果表（貼付）'!$A:$Z,MATCH($B15,'公式予選（TT）1Gr-結果表（貼付）'!$B:$B,0),MATCH("Laps",'公式予選（TT）1Gr-結果表（貼付）'!$1:$1,0)),""))) -> 3/5 | P15: =IF(IFERROR(INDEX('公式予選（TT）1Gr-結果表（貼付）'!$A:$Z,MATCH($B15,'公式予選（TT）1Gr-結果表（貼付）'!$B:$B,0),MATCH(P$11,'公式予選（TT）1Gr-結果表（貼付）'!$1:$1,0)),"")=0,"",IFERROR(INDEX('公式予選（TT）1Gr-結果表（貼付）'!$A:$Z,MATCH($B15,'公式予選（TT）1Gr-結果表（貼付）'!$B:$B,0),MATCH(P$11,'公式予選（TT）1Gr-結果表（貼付）'!$1:$1,0)),"")) | Q15: =IF(P15="","",COUNTIF($P$13:P15,"<>"&"")) | R15: =IFERROR(RANK(Q15,$Q$13:$Q$46,1),"") | S15: =IF(IFERROR(INDEX('公式予選（TT）1Gr-結果表（貼付）'!$A:$Z,MATCH($A15,'公式予選（TT）1Gr-結果表（貼付）'!$A:$A,0),MATCH(S$11,'公式予選（TT）1Gr-結果表（貼付）'!$1:$1,0)),"")=0,"",IFERROR(INDEX('公式予選（TT）1Gr-結果表（貼付）'!$A:$Z,MATCH($A15,'公式予選（TT）1Gr-結果表（貼付）'!$A:$A,0),MATCH(S$11,'公式予選（TT）1Gr-結果表（貼付）'!$1:$1,0)),""))
A16: =IF(OR('公式予選（TT）1Gr-結果表（貼付）'!A5="DNF",'公式予選（TT）1Gr-結果表（貼付）'!A5="DNS",'公式予選（TT）1Gr-結果表（貼付）'!A5="DQ"),'公式予選（TT）1Gr-結果表（貼付）'!A5,IF(MAX('公式予選（TT）1Gr-結果表（貼付）'!$A:$A)>A15,A15+1,"")) -> 4 | B16: =IFERROR(INDEX('公式予選（TT）1Gr-結果表（貼付）'!A5:$Z$50,MATCH($A16,'公式予選（TT）1Gr-結果表（貼付）'!A5:$A$50,0),MATCH('公式予選（TT）1Gr-結果表（印刷）'!B$11,'公式予選（TT）1Gr-結果表（貼付）'!$1:$1,0)),"") -> 7 | D16: =IFERROR(INDEX('公式予選（TT）1Gr-結果表（貼付）'!$A:$Z,MATCH($B16,'公式予選（TT）1Gr-結果表（貼付）'!$B:$B,0),MATCH('公式予選（TT）1Gr-結果表（印刷）'!D$11,'公式予選（TT）1Gr-結果表（貼付）'!$1:$1,0)),"") -> 光田 拓 | E16: =IFERROR(INDEX('公式予選（TT）1Gr-結果表（貼付）'!$A:$Z,MATCH($B16,'公式予選（TT）1Gr-結果表（貼付）'!$B:$B,0),MATCH('公式予選（TT）1Gr-結果表（印刷）'!E$11,'公式予選（TT）1Gr-結果表（貼付）'!$1:$1,0)),"") -> TONYKART/YAMAHA | F16: =IFERROR(INDEX('公式予選（TT）1Gr-結果表（貼付）'!$A:$Z,MATCH($B16,'公式予選（TT）1Gr-結果表（貼付）'!$B:$B,0),MATCH('公式予選（TT）1Gr-結果表（印刷）'!F$11,'公式予選（TT）1Gr-結果表（貼付）'!$1:$1,0)),"") -> M sistem | G16: =IFERROR(INDEX('公式予選（TT）1Gr-結果表（貼付）'!$A:$Z,MATCH($B16,'公式予選（TT）1Gr-結果表（貼付）'!$B:$B,0),MATCH('公式予選（TT）1Gr-結果表（印刷）'!G$11,'公式予選（TT）1Gr-結果表（貼付）'!$1:$1,0)),"") -> BS | H16: =IF(A16="DNS","ｽﾀｰﾄ出来ず",IF(A16="DQ","失 格",IFERROR(INDEX('公式予選（TT）1Gr-結果表（貼付）'!$A:$Z,MATCH($B16,'公式予選（TT）1Gr-結果表（貼付）'!$B:$B,0),MATCH('公式予選（TT）1Gr-結果表（印刷）'!H$11,'公式予選（TT）1Gr-結果表（貼付）'!$1:$1,0)),""))) -> 55.401 | I16: =IF(H16<1,"",IF($I$11>H16,"R","")) | J16: =IF(A16="DNS","",IF(A16="DQ","",IFERROR(INDEX('公式予選（TT）1Gr-結果表（貼付）'!$A:$Z,MATCH($B16,'公式予選（TT）1Gr-結果表（貼付）'!$B:$B,0),MATCH('公式予選（TT）1Gr-結果表（印刷）'!J$11,'公式予選（TT）1Gr-結果表（貼付）'!$1:$1,0)),""))) -> 0.374 | K16: =IF(A16="DNS","",IF(A16="DQ","",IFERROR(INDEX('公式予選（TT）1Gr-結果表（貼付）'!$A:$Z,MATCH($B16,'公式予選（TT）1Gr-結果表（貼付）'!$B:$B,0),MATCH('公式予選（TT）1Gr-結果表（印刷）'!K$11,'公式予選（TT）1Gr-結果表（貼付）'!$1:$1,0)),""))) -> 0.018 | L16: =IF(A16="DNS","",IF(A16="DQ","",IFERROR(INDEX('公式予選（TT）1Gr-結果表（貼付）'!$A:$Z,MATCH($B16,'公式予選（TT）1Gr-結果表（貼付）'!$B:$B,0),MATCH("In Lap",'公式予選（TT）1Gr-結果表（貼付）'!$1:$1,0))&"/"&INDEX('公式予選（TT）1Gr-結果表（貼付）'!$A:$Z,MATCH($B16,'公式予選（TT）1Gr-結果表（貼付）'!$B:$B,0),MATCH("Laps",'公式予選（TT）1Gr-結果表（貼付）'!$1:$1,0)),""))) -> 5/5 | P16: =IF(IFERROR(INDEX('公式予選（TT）1Gr-結果表（貼付）'!$A:$Z,MATCH($B16,'公式予選（TT）1Gr-結果表（貼付）'!$B:$B,0),MATCH(P$11,'公式予選（TT）1Gr-結果表（貼付）'!$1:$1,0)),"")=0,"",IFERROR(INDEX('公式予選（TT）1Gr-結果表（貼付）'!$A:$Z,MATCH($B16,'公式予選（TT）1Gr-結果表（貼付）'!$B:$B,0),MATCH(P$11,'公式予選（TT）1Gr-結果表（貼付）'!$1:$1,0)),"")) | Q16: =IF(P16="","",COUNTIF($P$13:P16,"<>"&"")) | R16: =IFERROR(RANK(Q16,$Q$13:$Q$46,1),"") | S16: =IF(IFERROR(INDEX('公式予選（TT）1Gr-結果表（貼付）'!$A:$Z,MATCH($A16,'公式予選（TT）1Gr-結果表（貼付）'!$A:$A,0),MATCH(S$11,'公式予選（TT）1Gr-結果表（貼付）'!$1:$1,0)),"")=0,"",IFERROR(INDEX('公式予選（TT）1Gr-結果表（貼付）'!$A:$Z,MATCH($A16,'公式予選（TT）1Gr-結果表（貼付）'!$A:$A,0),MATCH(S$11,'公式予選（TT）1Gr-結果表（貼付）'!$1:$1,0)),""))
A17: =IF(OR('公式予選（TT）1Gr-結果表（貼付）'!A6="DNF",'公式予選（TT）1Gr-結果表（貼付）'!A6="DNS",'公式予選（TT）1Gr-結果表（貼付）'!A6="DQ"),'公式予選（TT）1Gr-結果表（貼付）'!A6,IF(MAX('公式予選（TT）1Gr-結果表（貼付）'!$A:$A)>A16,A16+1,"")) -> 5 | B17: =IFERROR(INDEX('公式予選（TT）1Gr-結果表（貼付）'!A6:$Z$50,MATCH($A17,'公式予選（TT）1Gr-結果表（貼付）'!A6:$A$50,0),MATCH('公式予選（TT）1Gr-結果表（印刷）'!B$11,'公式予選（TT）1Gr-結果表（貼付）'!$1:$1,0)),"") -> 73 | D17: =IFERROR(INDEX('公式予選（TT）1Gr-結果表（貼付）'!$A:$Z,MATCH($B17,'公式予選（TT）1Gr-結果表（貼付）'!$B:$B,0),MATCH('公式予選（TT）1Gr-結果表（印刷）'!D$11,'公式予選（TT）1Gr-結果表（貼付）'!$1:$1,0)),"") -> 高野 貴志 | E17: =IFERROR(INDEX('公式予選（TT）1Gr-結果表（貼付）'!$A:$Z,MATCH($B17,'公式予選（TT）1Gr-結果表（貼付）'!$B:$B,0),MATCH('公式予選（TT）1Gr-結果表（印刷）'!E$11,'公式予選（TT）1Gr-結果表（貼付）'!$1:$1,0)),"") -> INTREPID/YAMAHA | F17: =IFERROR(INDEX('公式予選（TT）1Gr-結果表（貼付）'!$A:$Z,MATCH($B17,'公式予選（TT）1Gr-結果表（貼付）'!$B:$B,0),MATCH('公式予選（TT）1Gr-結果表（印刷）'!F$11,'公式予選（TT）1Gr-結果表（貼付）'!$1:$1,0)),"") -> FIORE Motor Sports | G17: =IFERROR(INDEX('公式予選（TT）1Gr-結果表（貼付）'!$A:$Z,MATCH($B17,'公式予選（TT）1Gr-結果表（貼付）'!$B:$B,0),MATCH('公式予選（TT）1Gr-結果表（印刷）'!G$11,'公式予選（TT）1Gr-結果表（貼付）'!$1:$1,0)),"") -> BS | H17: =IF(A17="DNS","ｽﾀｰﾄ出来ず",IF(A17="DQ","失 格",IFERROR(INDEX('公式予選（TT）1Gr-結果表（貼付）'!$A:$Z,MATCH($B17,'公式予選（TT）1Gr-結果表（貼付）'!$B:$B,0),MATCH('公式予選（TT）1Gr-結果表（印刷）'!H$11,'公式予選（TT）1Gr-結果表（貼付）'!$1:$1,0)),""))) -> 55.715 | I17: =IF(H17<1,"",IF($I$11>H17,"R","")) | J17: =IF(A17="DNS","",IF(A17="DQ","",IFERROR(INDEX('公式予選（TT）1Gr-結果表（貼付）'!$A:$Z,MATCH($B17,'公式予選（TT）1Gr-結果表（貼付）'!$B:$B,0),MATCH('公式予選（TT）1Gr-結果表（印刷）'!J$11,'公式予選（TT）1Gr-結果表（貼付）'!$1:$1,0)),""))) -> 0.688 | K17: =IF(A17="DNS","",IF(A17="DQ","",IFERROR(INDEX('公式予選（TT）1Gr-結果表（貼付）'!$A:$Z,MATCH($B17,'公式予選（TT）1Gr-結果表（貼付）'!$B:$B,0),MATCH('公式予選（TT）1Gr-結果表（印刷）'!K$11,'公式予選（TT）1Gr-結果表（貼付）'!$1:$1,0)),""))) -> 0.314 | L17: =IF(A17="DNS","",IF(A17="DQ","",IFERROR(INDEX('公式予選（TT）1Gr-結果表（貼付）'!$A:$Z,MATCH($B17,'公式予選（TT）1Gr-結果表（貼付）'!$B:$B,0),MATCH("In Lap",'公式予選（TT）1Gr-結果表（貼付）'!$1:$1,0))&"/"&INDEX('公式予選（TT）1Gr-結果表（貼付）'!$A:$Z,MATCH($B17,'公式予選（TT）1Gr-結果表（貼付）'!$B:$B,0),MATCH("Laps",'公式予選（TT）1Gr-結果表（貼付）'!$1:$1,0)),""))) -> 3/5 | P17: =IF(IFERROR(INDEX('公式予選（TT）1Gr-結果表（貼付）'!$A:$Z,MATCH($B17,'公式予選（TT）1Gr-結果表（貼付）'!$B:$B,0),MATCH(P$11,'公式予選（TT）1Gr-結果表（貼付）'!$1:$1,0)),"")=0,"",IFERROR(INDEX('公式予選（TT）1Gr-結果表（貼付）'!$A:$Z,MATCH($B17,'公式予選（TT）1Gr-結果表（貼付）'!$B:$B,0),MATCH(P$11,'公式予選（TT）1Gr-結果表（貼付）'!$1:$1,0)),"")) | Q17: =IF(P17="","",COUNTIF($P$13:P17,"<>"&"")) | R17: =IFERROR(RANK(Q17,$Q$13:$Q$46,1),"") | S17: =IF(IFERROR(INDEX('公式予選（TT）1Gr-結果表（貼付）'!$A:$Z,MATCH($A17,'公式予選（TT）1Gr-結果表（貼付）'!$A:$A,0),MATCH(S$11,'公式予選（TT）1Gr-結果表（貼付）'!$1:$1,0)),"")=0,"",IFERROR(INDEX('公式予選（TT）1Gr-結果表（貼付）'!$A:$Z,MATCH($A17,'公式予選（TT）1Gr-結果表（貼付）'!$A:$A,0),MATCH(S$11,'公式予選（TT）1Gr-結果表（貼付）'!$1:$1,0)),""))
A18: =IF(OR('公式予選（TT）1Gr-結果表（貼付）'!A7="DNF",'公式予選（TT）1Gr-結果表（貼付）'!A7="DNS",'公式予選（TT）1Gr-結果表（貼付）'!A7="DQ"),'公式予選（TT）1Gr-結果表（貼付）'!A7,IF(MAX('公式予選（TT）1Gr-結果表（貼付）'!$A:$A)>A17,A17+1,"")) -> 6 | B18: =IFERROR(INDEX('公式予選（TT）1Gr-結果表（貼付）'!A7:$Z$50,MATCH($A18,'公式予選（TT）1Gr-結果表（貼付）'!A7:$A$50,0),MATCH('公式予選（TT）1Gr-結果表（印刷）'!B$11,'公式予選（TT）1Gr-結果表（貼付）'!$1:$1,0)),"") -> 57 | D18: =IFERROR(INDEX('公式予選（TT）1Gr-結果表（貼付）'!$A:$Z,MATCH($B18,'公式予選（TT）1Gr-結果表（貼付）'!$B:$B,0),MATCH('公式予選（TT）1Gr-結果表（印刷）'!D$11,'公式予選（TT）1Gr-結果表（貼付）'!$1:$1,0)),"") -> 江崎 昭彦 | E18: =IFERROR(INDEX('公式予選（TT）1Gr-結果表（貼付）'!$A:$Z,MATCH($B18,'公式予選（TT）1Gr-結果表（貼付）'!$B:$B,0),MATCH('公式予選（TT）1Gr-結果表（印刷）'!E$11,'公式予選（TT）1Gr-結果表（貼付）'!$1:$1,0)),"") -> KOSMIC/YAMAHA | F18: =IFERROR(INDEX('公式予選（TT）1Gr-結果表（貼付）'!$A:$Z,MATCH($B18,'公式予選（TT）1Gr-結果表（貼付）'!$B:$B,0),MATCH('公式予選（TT）1Gr-結果表（印刷）'!F$11,'公式予選（TT）1Gr-結果表（貼付）'!$1:$1,0)),"") -> Ash | G18: =IFERROR(INDEX('公式予選（TT）1Gr-結果表（貼付）'!$A:$Z,MATCH($B18,'公式予選（TT）1Gr-結果表（貼付）'!$B:$B,0),MATCH('公式予選（TT）1Gr-結果表（印刷）'!G$11,'公式予選（TT）1Gr-結果表（貼付）'!$1:$1,0)),"") -> BS | H18: =IF(A18="DNS","ｽﾀｰﾄ出来ず",IF(A18="DQ","失 格",IFERROR(INDEX('公式予選（TT）1Gr-結果表（貼付）'!$A:$Z,MATCH($B18,'公式予選（TT）1Gr-結果表（貼付）'!$B:$B,0),MATCH('公式予選（TT）1Gr-結果表（印刷）'!H$11,'公式予選（TT）1Gr-結果表（貼付）'!$1:$1,0)),""))) -> 55.718 | I18: =IF(H18<1,"",IF($I$11>H18,"R","")) | J18: =IF(A18="DNS","",IF(A18="DQ","",IFERROR(INDEX('公式予選（TT）1Gr-結果表（貼付）'!$A:$Z,MATCH($B18,'公式予選（TT）1Gr-結果表（貼付）'!$B:$B,0),MATCH('公式予選（TT）1Gr-結果表（印刷）'!J$11,'公式予選（TT）1Gr-結果表（貼付）'!$1:$1,0)),""))) -> 0.691 | K18: =IF(A18="DNS","",IF(A18="DQ","",IFERROR(INDEX('公式予選（TT）1Gr-結果表（貼付）'!$A:$Z,MATCH($B18,'公式予選（TT）1Gr-結果表（貼付）'!$B:$B,0),MATCH('公式予選（TT）1Gr-結果表（印刷）'!K$11,'公式予選（TT）1Gr-結果表（貼付）'!$1:$1,0)),""))) -> 0.003 | L18: =IF(A18="DNS","",IF(A18="DQ","",IFERROR(INDEX('公式予選（TT）1Gr-結果表（貼付）'!$A:$Z,MATCH($B18,'公式予選（TT）1Gr-結果表（貼付）'!$B:$B,0),MATCH("In Lap",'公式予選（TT）1Gr-結果表（貼付）'!$1:$1,0))&"/"&INDEX('公式予選（TT）1Gr-結果表（貼付）'!$A:$Z,MATCH($B18,'公式予選（TT）1Gr-結果表（貼付）'!$B:$B,0),MATCH("Laps",'公式予選（TT）1Gr-結果表（貼付）'!$1:$1,0)),""))) -> 3/5 | P18: =IF(IFERROR(INDEX('公式予選（TT）1Gr-結果表（貼付）'!$A:$Z,MATCH($B18,'公式予選（TT）1Gr-結果表（貼付）'!$B:$B,0),MATCH(P$11,'公式予選（TT）1Gr-結果表（貼付）'!$1:$1,0)),"")=0,"",IFERROR(INDEX('公式予選（TT）1Gr-結果表（貼付）'!$A:$Z,MATCH($B18,'公式予選（TT）1Gr-結果表（貼付）'!$B:$B,0),MATCH(P$11,'公式予選（TT）1Gr-結果表（貼付）'!$1:$1,0)),"")) | Q18: =IF(P18="","",COUNTIF($P$13:P18,"<>"&"")) | R18: =IFERROR(RANK(Q18,$Q$13:$Q$46,1),"") | S18: =IF(IFERROR(INDEX('公式予選（TT）1Gr-結果表（貼付）'!$A:$Z,MATCH($A18,'公式予選（TT）1Gr-結果表（貼付）'!$A:$A,0),MATCH(S$11,'公式予選（TT）1Gr-結果表（貼付）'!$1:$1,0)),"")=0,"",IFERROR(INDEX('公式予選（TT）1Gr-結果表（貼付）'!$A:$Z,MATCH($A18,'公式予選（TT）1Gr-結果表（貼付）'!$A:$A,0),MATCH(S$11,'公式予選（TT）1Gr-結果表（貼付）'!$1:$1,0)),""))
A19: =IF(OR('公式予選（TT）1Gr-結果表（貼付）'!A8="DNF",'公式予選（TT）1Gr-結果表（貼付）'!A8="DNS",'公式予選（TT）1Gr-結果表（貼付）'!A8="DQ"),'公式予選（TT）1Gr-結果表（貼付）'!A8,IF(MAX('公式予選（TT）1Gr-結果表（貼付）'!$A:$A)>A18,A18+1,"")) -> 7 | B19: =IFERROR(INDEX('公式予選（TT）1Gr-結果表（貼付）'!A8:$Z$50,MATCH($A19,'公式予選（TT）1Gr-結果表（貼付）'!A8:$A$50,0),MATCH('公式予選（TT）1Gr-結果表（印刷）'!B$11,'公式予選（TT）1Gr-結果表（貼付）'!$1:$1,0)),"") -> 10 | D19: =IFERROR(INDEX('公式予選（TT）1Gr-結果表（貼付）'!$A:$Z,MATCH($B19,'公式予選（TT）1Gr-結果表（貼付）'!$B:$B,0),MATCH('公式予選（TT）1Gr-結果表（印刷）'!D$11,'公式予選（TT）1Gr-結果表（貼付）'!$1:$1,0)),"") -> 布目 敬詞 | E19: =IFERROR(INDEX('公式予選（TT）1Gr-結果表（貼付）'!$A:$Z,MATCH($B19,'公式予選（TT）1Gr-結果表（貼付）'!$B:$B,0),MATCH('公式予選（TT）1Gr-結果表（印刷）'!E$11,'公式予選（TT）1Gr-結果表（貼付）'!$1:$1,0)),"") -> TONY KART/YAMAHA | F19: =IFERROR(INDEX('公式予選（TT）1Gr-結果表（貼付）'!$A:$Z,MATCH($B19,'公式予選（TT）1Gr-結果表（貼付）'!$B:$B,0),MATCH('公式予選（TT）1Gr-結果表（印刷）'!F$11,'公式予選（TT）1Gr-結果表（貼付）'!$1:$1,0)),"") -> Higuchi Racing Team | G19: =IFERROR(INDEX('公式予選（TT）1Gr-結果表（貼付）'!$A:$Z,MATCH($B19,'公式予選（TT）1Gr-結果表（貼付）'!$B:$B,0),MATCH('公式予選（TT）1Gr-結果表（印刷）'!G$11,'公式予選（TT）1Gr-結果表（貼付）'!$1:$1,0)),"") -> BS | H19: =IF(A19="DNS","ｽﾀｰﾄ出来ず",IF(A19="DQ","失 格",IFERROR(INDEX('公式予選（TT）1Gr-結果表（貼付）'!$A:$Z,MATCH($B19,'公式予選（TT）1Gr-結果表（貼付）'!$B:$B,0),MATCH('公式予選（TT）1Gr-結果表（印刷）'!H$11,'公式予選（TT）1Gr-結果表（貼付）'!$1:$1,0)),""))) -> 55.718 | I19: =IF(H19<1,"",IF($I$11>H19,"R","")) | J19: =IF(A19="DNS","",IF(A19="DQ","",IFERROR(INDEX('公式予選（TT）1Gr-結果表（貼付）'!$A:$Z,MATCH($B19,'公式予選（TT）1Gr-結果表（貼付）'!$B:$B,0),MATCH('公式予選（TT）1Gr-結果表（印刷）'!J$11,'公式予選（TT）1Gr-結果表（貼付）'!$1:$1,0)),""))) -> 0.691 | K19: =IF(A19="DNS","",IF(A19="DQ","",IFERROR(INDEX('公式予選（TT）1Gr-結果表（貼付）'!$A:$Z,MATCH($B19,'公式予選（TT）1Gr-結果表（貼付）'!$B:$B,0),MATCH('公式予選（TT）1Gr-結果表（印刷）'!K$11,'公式予選（TT）1Gr-結果表（貼付）'!$1:$1,0)),""))) -> 0 | L19: =IF(A19="DNS","",IF(A19="DQ","",IFERROR(INDEX('公式予選（TT）1Gr-結果表（貼付）'!$A:$Z,MATCH($B19,'公式予選（TT）1Gr-結果表（貼付）'!$B:$B,0),MATCH("In Lap",'公式予選（TT）1Gr-結果表（貼付）'!$1:$1,0))&"/"&INDEX('公式予選（TT）1Gr-結果表（貼付）'!$A:$Z,MATCH($B19,'公式予選（TT）1Gr-結果表（貼付）'!$B:$B,0),MATCH("Laps",'公式予選（TT）1Gr-結果表（貼付）'!$1:$1,0)),""))) -> 4/6 | P19: =IF(IFERROR(INDEX('公式予選（TT）1Gr-結果表（貼付）'!$A:$Z,MATCH($B19,'公式予選（TT）1Gr-結果表（貼付）'!$B:$B,0),MATCH(P$11,'公式予選（TT）1Gr-結果表（貼付）'!$1:$1,0)),"")=0,"",IFERROR(INDEX('公式予選（TT）1Gr-結果表（貼付）'!$A:$Z,MATCH($B19,'公式予選（TT）1Gr-結果表（貼付）'!$B:$B,0),MATCH(P$11,'公式予選（TT）1Gr-結果表（貼付）'!$1:$1,0)),"")) | Q19: =IF(P19="","",COUNTIF($P$13:P19,"<>"&"")) | R19: =IFERROR(RANK(Q19,$Q$13:$Q$46,1),"") | S19: =IF(IFERROR(INDEX('公式予選（TT）1Gr-結果表（貼付）'!$A:$Z,MATCH($A19,'公式予選（TT）1Gr-結果表（貼付）'!$A:$A,0),MATCH(S$11,'公式予選（TT）1Gr-結果表（貼付）'!$1:$1,0)),"")=0,"",IFERROR(INDEX('公式予選（TT）1Gr-結果表（貼付）'!$A:$Z,MATCH($A19,'公式予選（TT）1Gr-結果表（貼付）'!$A:$A,0),MATCH(S$11,'公式予選（TT）1Gr-結果表（貼付）'!$1:$1,0)),""))
A20: =IF(OR('公式予選（TT）1Gr-結果表（貼付）'!A9="DNF",'公式予選（TT）1Gr-結果表（貼付）'!A9="DNS",'公式予選（TT）1Gr-結果表（貼付）'!A9="DQ"),'公式予選（TT）1Gr-結果表（貼付）'!A9,IF(MAX('公式予選（TT）1Gr-結果表（貼付）'!$A:$A)>A19,A19+1,"")) -> 8 | B20: =IFERROR(INDEX('公式予選（TT）1Gr-結果表（貼付）'!A9:$Z$50,MATCH($A20,'公式予選（TT）1Gr-結果表（貼付）'!A9:$A$50,0),MATCH('公式予選（TT）1Gr-結果表（印刷）'!B$11,'公式予選（TT）1Gr-結果表（貼付）'!$1:$1,0)),"") -> 25 | D20: =IFERROR(INDEX('公式予選（TT）1Gr-結果表（貼付）'!$A:$Z,MATCH($B20,'公式予選（TT）1Gr-結果表（貼付）'!$B:$B,0),MATCH('公式予選（TT）1Gr-結果表（印刷）'!D$11,'公式予選（TT）1Gr-結果表（貼付）'!$1:$1,0)),"") -> 平井 秀樹 | E20: =IFERROR(INDEX('公式予選（TT）1Gr-結果表（貼付）'!$A:$Z,MATCH($B20,'公式予選（TT）1Gr-結果表（貼付）'!$B:$B,0),MATCH('公式予選（TT）1Gr-結果表（印刷）'!E$11,'公式予選（TT）1Gr-結果表（貼付）'!$1:$1,0)),"") -> コスミック/YAMAHA | F20: =IFERROR(INDEX('公式予選（TT）1Gr-結果表（貼付）'!$A:$Z,MATCH($B20,'公式予選（TT）1Gr-結果表（貼付）'!$B:$B,0),MATCH('公式予選（TT）1Gr-結果表（印刷）'!F$11,'公式予選（TT）1Gr-結果表（貼付）'!$1:$1,0)),"") -> K-TECK with ぴぃたぁぱん | G20: =IFERROR(INDEX('公式予選（TT）1Gr-結果表（貼付）'!$A:$Z,MATCH($B20,'公式予選（TT）1Gr-結果表（貼付）'!$B:$B,0),MATCH('公式予選（TT）1Gr-結果表（印刷）'!G$11,'公式予選（TT）1Gr-結果表（貼付）'!$1:$1,0)),"") -> BS | H20: =IF(A20="DNS","ｽﾀｰﾄ出来ず",IF(A20="DQ","失 格",IFERROR(INDEX('公式予選（TT）1Gr-結果表（貼付）'!$A:$Z,MATCH($B20,'公式予選（TT）1Gr-結果表（貼付）'!$B:$B,0),MATCH('公式予選（TT）1Gr-結果表（印刷）'!H$11,'公式予選（TT）1Gr-結果表（貼付）'!$1:$1,0)),""))) -> 55.839 | I20: =IF(H20<1,"",IF($I$11>H20,"R","")) | J20: =IF(A20="DNS","",IF(A20="DQ","",IFERROR(INDEX('公式予選（TT）1Gr-結果表（貼付）'!$A:$Z,MATCH($B20,'公式予選（TT）1Gr-結果表（貼付）'!$B:$B,0),MATCH('公式予選（TT）1Gr-結果表（印刷）'!J$11,'公式予選（TT）1Gr-結果表（貼付）'!$1:$1,0)),""))) -> 0.812 | K20: =IF(A20="DNS","",IF(A20="DQ","",IFERROR(INDEX('公式予選（TT）1Gr-結果表（貼付）'!$A:$Z,MATCH($B20,'公式予選（TT）1Gr-結果表（貼付）'!$B:$B,0),MATCH('公式予選（TT）1Gr-結果表（印刷）'!K$11,'公式予選（TT）1Gr-結果表（貼付）'!$1:$1,0)),""))) -> 0.121 | L20: =IF(A20="DNS","",IF(A20="DQ","",IFERROR(INDEX('公式予選（TT）1Gr-結果表（貼付）'!$A:$Z,MATCH($B20,'公式予選（TT）1Gr-結果表（貼付）'!$B:$B,0),MATCH("In Lap",'公式予選（TT）1Gr-結果表（貼付）'!$1:$1,0))&"/"&INDEX('公式予選（TT）1Gr-結果表（貼付）'!$A:$Z,MATCH($B20,'公式予選（TT）1Gr-結果表（貼付）'!$B:$B,0),MATCH("Laps",'公式予選（TT）1Gr-結果表（貼付）'!$1:$1,0)),""))) -> 6/6 | P20: =IF(IFERROR(INDEX('公式予選（TT）1Gr-結果表（貼付）'!$A:$Z,MATCH($B20,'公式予選（TT）1Gr-結果表（貼付）'!$B:$B,0),MATCH(P$11,'公式予選（TT）1Gr-結果表（貼付）'!$1:$1,0)),"")=0,"",IFERROR(INDEX('公式予選（TT）1Gr-結果表（貼付）'!$A:$Z,MATCH($B20,'公式予選（TT）1Gr-結果表（貼付）'!$B:$B,0),MATCH(P$11,'公式予選（TT）1Gr-結果表（貼付）'!$1:$1,0)),"")) | Q20: =IF(P20="","",COUNTIF($P$13:P20,"<>"&"")) | R20: =IFERROR(RANK(Q20,$Q$13:$Q$46,1),"") | S20: =IF(IFERROR(INDEX('公式予選（TT）1Gr-結果表（貼付）'!$A:$Z,MATCH($A20,'公式予選（TT）1Gr-結果表（貼付）'!$A:$A,0),MATCH(S$11,'公式予選（TT）1Gr-結果表（貼付）'!$1:$1,0)),"")=0,"",IFERROR(INDEX('公式予選（TT）1Gr-結果表（貼付）'!$A:$Z,MATCH($A20,'公式予選（TT）1Gr-結果表（貼付）'!$A:$A,0),MATCH(S$11,'公式予選（TT）1Gr-結果表（貼付）'!$1:$1,0)),""))
A21: =IF(OR('公式予選（TT）1Gr-結果表（貼付）'!A10="DNF",'公式予選（TT）1Gr-結果表（貼付）'!A10="DNS",'公式予選（TT）1Gr-結果表（貼付）'!A10="DQ"),'公式予選（TT）1Gr-結果表（貼付）'!A10,IF(MAX('公式予選（TT）1Gr-結果表（貼付）'!$A:$A)>A20,A20+1,"")) -> 9 | B21: =IFERROR(INDEX('公式予選（TT）1Gr-結果表（貼付）'!A10:$Z$50,MATCH($A21,'公式予選（TT）1Gr-結果表（貼付）'!A10:$A$50,0),MATCH('公式予選（TT）1Gr-結果表（印刷）'!B$11,'公式予選（TT）1Gr-結果表（貼付）'!$1:$1,0)),"") -> 77 | D21: =IFERROR(INDEX('公式予選（TT）1Gr-結果表（貼付）'!$A:$Z,MATCH($B21,'公式予選（TT）1Gr-結果表（貼付）'!$B:$B,0),MATCH('公式予選（TT）1Gr-結果表（印刷）'!D$11,'公式予選（TT）1Gr-結果表（貼付）'!$1:$1,0)),"") -> 永川 悠太 | E21: =IFERROR(INDEX('公式予選（TT）1Gr-結果表（貼付）'!$A:$Z,MATCH($B21,'公式予選（TT）1Gr-結果表（貼付）'!$B:$B,0),MATCH('公式予選（TT）1Gr-結果表（印刷）'!E$11,'公式予選（TT）1Gr-結果表（貼付）'!$1:$1,0)),"") -> DRAGO CORSE/YAMAHA | F21: =IFERROR(INDEX('公式予選（TT）1Gr-結果表（貼付）'!$A:$Z,MATCH($B21,'公式予選（TT）1Gr-結果表（貼付）'!$B:$B,0),MATCH('公式予選（TT）1Gr-結果表（印刷）'!F$11,'公式予選（TT）1Gr-結果表（貼付）'!$1:$1,0)),"") -> のりものクラブ EGazooRacing with WEST | G21: =IFERROR(INDEX('公式予選（TT）1Gr-結果表（貼付）'!$A:$Z,MATCH($B21,'公式予選（TT）1Gr-結果表（貼付）'!$B:$B,0),MATCH('公式予選（TT）1Gr-結果表（印刷）'!G$11,'公式予選（TT）1Gr-結果表（貼付）'!$1:$1,0)),"") -> BS | H21: =IF(A21="DNS","ｽﾀｰﾄ出来ず",IF(A21="DQ","失 格",IFERROR(INDEX('公式予選（TT）1Gr-結果表（貼付）'!$A:$Z,MATCH($B21,'公式予選（TT）1Gr-結果表（貼付）'!$B:$B,0),MATCH('公式予選（TT）1Gr-結果表（印刷）'!H$11,'公式予選（TT）1Gr-結果表（貼付）'!$1:$1,0)),""))) -> 55.864 | I21: =IF(H21<1,"",IF($I$11>H21,"R","")) | J21: =IF(A21="DNS","",IF(A21="DQ","",IFERROR(INDEX('公式予選（TT）1Gr-結果表（貼付）'!$A:$Z,MATCH($B21,'公式予選（TT）1Gr-結果表（貼付）'!$B:$B,0),MATCH('公式予選（TT）1Gr-結果表（印刷）'!J$11,'公式予選（TT）1Gr-結果表（貼付）'!$1:$1,0)),""))) -> 0.837 | K21: =IF(A21="DNS","",IF(A21="DQ","",IFERROR(INDEX('公式予選（TT）1Gr-結果表（貼付）'!$A:$Z,MATCH($B21,'公式予選（TT）1Gr-結果表（貼付）'!$B:$B,0),MATCH('公式予選（TT）1Gr-結果表（印刷）'!K$11,'公式予選（TT）1Gr-結果表（貼付）'!$1:$1,0)),""))) -> 0.025 | L21: =IF(A21="DNS","",IF(A21="DQ","",IFERROR(INDEX('公式予選（TT）1Gr-結果表（貼付）'!$A:$Z,MATCH($B21,'公式予選（TT）1Gr-結果表（貼付）'!$B:$B,0),MATCH("In Lap",'公式予選（TT）1Gr-結果表（貼付）'!$1:$1,0))&"/"&INDEX('公式予選（TT）1Gr-結果表（貼付）'!$A:$Z,MATCH($B21,'公式予選（TT）1Gr-結果表（貼付）'!$B:$B,0),MATCH("Laps",'公式予選（TT）1Gr-結果表（貼付）'!$1:$1,0)),""))) -> 3/5 | P21: =IF(IFERROR(INDEX('公式予選（TT）1Gr-結果表（貼付）'!$A:$Z,MATCH($B21,'公式予選（TT）1Gr-結果表（貼付）'!$B:$B,0),MATCH(P$11,'公式予選（TT）1Gr-結果表（貼付）'!$1:$1,0)),"")=0,"",IFERROR(INDEX('公式予選（TT）1Gr-結果表（貼付）'!$A:$Z,MATCH($B21,'公式予選（TT）1Gr-結果表（貼付）'!$B:$B,0),MATCH(P$11,'公式予選（TT）1Gr-結果表（貼付）'!$1:$1,0)),"")) | Q21: =IF(P21="","",COUNTIF($P$13:P21,"<>"&"")) | R21: =IFERROR(RANK(Q21,$Q$13:$Q$46,1),"") | S21: =IF(IFERROR(INDEX('公式予選（TT）1Gr-結果表（貼付）'!$A:$Z,MATCH($A21,'公式予選（TT）1Gr-結果表（貼付）'!$A:$A,0),MATCH(S$11,'公式予選（TT）1Gr-結果表（貼付）'!$1:$1,0)),"")=0,"",IFERROR(INDEX('公式予選（TT）1Gr-結果表（貼付）'!$A:$Z,MATCH($A21,'公式予選（TT）1Gr-結果表（貼付）'!$A:$A,0),MATCH(S$11,'公式予選（TT）1Gr-結果表（貼付）'!$1:$1,0)),""))
A22: =IF(OR('公式予選（TT）1Gr-結果表（貼付）'!A11="DNF",'公式予選（TT）1Gr-結果表（貼付）'!A11="DNS",'公式予選（TT）1Gr-結果表（貼付）'!A11="DQ"),'公式予選（TT）1Gr-結果表（貼付）'!A11,IF(MAX('公式予選（TT）1Gr-結果表（貼付）'!$A:$A)>A21,A21+1,"")) -> 10 | B22: =IFERROR(INDEX('公式予選（TT）1Gr-結果表（貼付）'!A11:$Z$50,MATCH($A22,'公式予選（TT）1Gr-結果表（貼付）'!A11:$A$50,0),MATCH('公式予選（TT）1Gr-結果表（印刷）'!B$11,'公式予選（TT）1Gr-結果表（貼付）'!$1:$1,0)),"") -> 19 | D22: =IFERROR(INDEX('公式予選（TT）1Gr-結果表（貼付）'!$A:$Z,MATCH($B22,'公式予選（TT）1Gr-結果表（貼付）'!$B:$B,0),MATCH('公式予選（TT）1Gr-結果表（印刷）'!D$11,'公式予選（TT）1Gr-結果表（貼付）'!$1:$1,0)),"") -> 岸 秀行 | E22: =IFERROR(INDEX('公式予選（TT）1Gr-結果表（貼付）'!$A:$Z,MATCH($B22,'公式予選（TT）1Gr-結果表（貼付）'!$B:$B,0),MATCH('公式予選（TT）1Gr-結果表（印刷）'!E$11,'公式予選（TT）1Gr-結果表（貼付）'!$1:$1,0)),"") -> コスミック/YAMAHA | F22: =IFERROR(INDEX('公式予選（TT）1Gr-結果表（貼付）'!$A:$Z,MATCH($B22,'公式予選（TT）1Gr-結果表（貼付）'!$B:$B,0),MATCH('公式予選（TT）1Gr-結果表（印刷）'!F$11,'公式予選（TT）1Gr-結果表（貼付）'!$1:$1,0)),"") -> チームナガオ・大阪鶴見法律事務所 | G22: =IFERROR(INDEX('公式予選（TT）1Gr-結果表（貼付）'!$A:$Z,MATCH($B22,'公式予選（TT）1Gr-結果表（貼付）'!$B:$B,0),MATCH('公式予選（TT）1Gr-結果表（印刷）'!G$11,'公式予選（TT）1Gr-結果表（貼付）'!$1:$1,0)),"") -> BS | H22: =IF(A22="DNS","ｽﾀｰﾄ出来ず",IF(A22="DQ","失 格",IFERROR(INDEX('公式予選（TT）1Gr-結果表（貼付）'!$A:$Z,MATCH($B22,'公式予選（TT）1Gr-結果表（貼付）'!$B:$B,0),MATCH('公式予選（TT）1Gr-結果表（印刷）'!H$11,'公式予選（TT）1Gr-結果表（貼付）'!$1:$1,0)),""))) -> 55.879 | I22: =IF(H22<1,"",IF($I$11>H22,"R","")) | J22: =IF(A22="DNS","",IF(A22="DQ","",IFERROR(INDEX('公式予選（TT）1Gr-結果表（貼付）'!$A:$Z,MATCH($B22,'公式予選（TT）1Gr-結果表（貼付）'!$B:$B,0),MATCH('公式予選（TT）1Gr-結果表（印刷）'!J$11,'公式予選（TT）1Gr-結果表（貼付）'!$1:$1,0)),""))) -> 0.852 | K22: =IF(A22="DNS","",IF(A22="DQ","",IFERROR(INDEX('公式予選（TT）1Gr-結果表（貼付）'!$A:$Z,MATCH($B22,'公式予選（TT）1Gr-結果表（貼付）'!$B:$B,0),MATCH('公式予選（TT）1Gr-結果表（印刷）'!K$11,'公式予選（TT）1Gr-結果表（貼付）'!$1:$1,0)),""))) -> 0.015 | L22: =IF(A22="DNS","",IF(A22="DQ","",IFERROR(INDEX('公式予選（TT）1Gr-結果表（貼付）'!$A:$Z,MATCH($B22,'公式予選（TT）1Gr-結果表（貼付）'!$B:$B,0),MATCH("In Lap",'公式予選（TT）1Gr-結果表（貼付）'!$1:$1,0))&"/"&INDEX('公式予選（TT）1Gr-結果表（貼付）'!$A:$Z,MATCH($B22,'公式予選（TT）1Gr-結果表（貼付）'!$B:$B,0),MATCH("Laps",'公式予選（TT）1Gr-結果表（貼付）'!$1:$1,0)),""))) -> 5/5 | P22: =IF(IFERROR(INDEX('公式予選（TT）1Gr-結果表（貼付）'!$A:$Z,MATCH($B22,'公式予選（TT）1Gr-結果表（貼付）'!$B:$B,0),MATCH(P$11,'公式予選（TT）1Gr-結果表（貼付）'!$1:$1,0)),"")=0,"",IFERROR(INDEX('公式予選（TT）1Gr-結果表（貼付）'!$A:$Z,MATCH($B22,'公式予選（TT）1Gr-結果表（貼付）'!$B:$B,0),MATCH(P$11,'公式予選（TT）1Gr-結果表（貼付）'!$1:$1,0)),"")) | Q22: =IF(P22="","",COUNTIF($P$13:P22,"<>"&"")) | R22: =IFERROR(RANK(Q22,$Q$13:$Q$46,1),"") | S22: =IF(IFERROR(INDEX('公式予選（TT）1Gr-結果表（貼付）'!$A:$Z,MATCH($A22,'公式予選（TT）1Gr-結果表（貼付）'!$A:$A,0),MATCH(S$11,'公式予選（TT）1Gr-結果表（貼付）'!$1:$1,0)),"")=0,"",IFERROR(INDEX('公式予選（TT）1Gr-結果表（貼付）'!$A:$Z,MATCH($A22,'公式予選（TT）1Gr-結果表（貼付）'!$A:$A,0),MATCH(S$11,'公式予選（TT）1Gr-結果表（貼付）'!$1:$1,0)),""))
A23: =IF(OR('公式予選（TT）1Gr-結果表（貼付）'!A12="DNF",'公式予選（TT）1Gr-結果表（貼付）'!A12="DNS",'公式予選（TT）1Gr-結果表（貼付）'!A12="DQ"),'公式予選（TT）1Gr-結果表（貼付）'!A12,IF(MAX('公式予選（TT）1Gr-結果表（貼付）'!$A:$A)>A22,A22+1,"")) -> 11 | B23: =IFERROR(INDEX('公式予選（TT）1Gr-結果表（貼付）'!A12:$Z$50,MATCH($A23,'公式予選（TT）1Gr-結果表（貼付）'!A12:$A$50,0),MATCH('公式予選（TT）1Gr-結果表（印刷）'!B$11,'公式予選（TT）1Gr-結果表（貼付）'!$1:$1,0)),"") -> 45 | D23: =IFERROR(INDEX('公式予選（TT）1Gr-結果表（貼付）'!$A:$Z,MATCH($B23,'公式予選（TT）1Gr-結果表（貼付）'!$B:$B,0),MATCH('公式予選（TT）1Gr-結果表（印刷）'!D$11,'公式予選（TT）1Gr-結果表（貼付）'!$1:$1,0)),"") -> 三浦 淳 | E23: =IFERROR(INDEX('公式予選（TT）1Gr-結果表（貼付）'!$A:$Z,MATCH($B23,'公式予選（TT）1Gr-結果表（貼付）'!$B:$B,0),MATCH('公式予選（TT）1Gr-結果表（印刷）'!E$11,'公式予選（TT）1Gr-結果表（貼付）'!$1:$1,0)),"") -> SWF/YAMAHA | F23: =IFERROR(INDEX('公式予選（TT）1Gr-結果表（貼付）'!$A:$Z,MATCH($B23,'公式予選（TT）1Gr-結果表（貼付）'!$B:$B,0),MATCH('公式予選（TT）1Gr-結果表（印刷）'!F$11,'公式予選（TT）1Gr-結果表（貼付）'!$1:$1,0)),"") -> 堺レーシング | G23: =IFERROR(INDEX('公式予選（TT）1Gr-結果表（貼付）'!$A:$Z,MATCH($B23,'公式予選（TT）1Gr-結果表（貼付）'!$B:$B,0),MATCH('公式予選（TT）1Gr-結果表（印刷）'!G$11,'公式予選（TT）1Gr-結果表（貼付）'!$1:$1,0)),"") -> BS | H23: =IF(A23="DNS","ｽﾀｰﾄ出来ず",IF(A23="DQ","失 格",IFERROR(INDEX('公式予選（TT）1Gr-結果表（貼付）'!$A:$Z,MATCH($B23,'公式予選（TT）1Gr-結果表（貼付）'!$B:$B,0),MATCH('公式予選（TT）1Gr-結果表（印刷）'!H$11,'公式予選（TT）1Gr-結果表（貼付）'!$1:$1,0)),""))) -> 55.911 | I23: =IF(H23<1,"",IF($I$11>H23,"R","")) | J23: =IF(A23="DNS","",IF(A23="DQ","",IFERROR(INDEX('公式予選（TT）1Gr-結果表（貼付）'!$A:$Z,MATCH($B23,'公式予選（TT）1Gr-結果表（貼付）'!$B:$B,0),MATCH('公式予選（TT）1Gr-結果表（印刷）'!J$11,'公式予選（TT）1Gr-結果表（貼付）'!$1:$1,0)),""))) -> 0.884 | K23: =IF(A23="DNS","",IF(A23="DQ","",IFERROR(INDEX('公式予選（TT）1Gr-結果表（貼付）'!$A:$Z,MATCH($B23,'公式予選（TT）1Gr-結果表（貼付）'!$B:$B,0),MATCH('公式予選（TT）1Gr-結果表（印刷）'!K$11,'公式予選（TT）1Gr-結果表（貼付）'!$1:$1,0)),""))) -> 0.032 | L23: =IF(A23="DNS","",IF(A23="DQ","",IFERROR(INDEX('公式予選（TT）1Gr-結果表（貼付）'!$A:$Z,MATCH($B23,'公式予選（TT）1Gr-結果表（貼付）'!$B:$B,0),MATCH("In Lap",'公式予選（TT）1Gr-結果表（貼付）'!$1:$1,0))&"/"&INDEX('公式予選（TT）1Gr-結果表（貼付）'!$A:$Z,MATCH($B23,'公式予選（TT）1Gr-結果表（貼付）'!$B:$B,0),MATCH("Laps",'公式予選（TT）1Gr-結果表（貼付）'!$1:$1,0)),""))) -> 2/5 | P23: =IF(IFERROR(INDEX('公式予選（TT）1Gr-結果表（貼付）'!$A:$Z,MATCH($B23,'公式予選（TT）1Gr-結果表（貼付）'!$B:$B,0),MATCH(P$11,'公式予選（TT）1Gr-結果表（貼付）'!$1:$1,0)),"")=0,"",IFERROR(INDEX('公式予選（TT）1Gr-結果表（貼付）'!$A:$Z,MATCH($B23,'公式予選（TT）1Gr-結果表（貼付）'!$B:$B,0),MATCH(P$11,'公式予選（TT）1Gr-結果表（貼付）'!$1:$1,0)),"")) | Q23: =IF(P23="","",COUNTIF($P$13:P23,"<>"&"")) | R23: =IFERROR(RANK(Q23,$Q$13:$Q$46,1),"") | S23: =IF(IFERROR(INDEX('公式予選（TT）1Gr-結果表（貼付）'!$A:$Z,MATCH($A23,'公式予選（TT）1Gr-結果表（貼付）'!$A:$A,0),MATCH(S$11,'公式予選（TT）1Gr-結果表（貼付）'!$1:$1,0)),"")=0,"",IFERROR(INDEX('公式予選（TT）1Gr-結果表（貼付）'!$A:$Z,MATCH($A23,'公式予選（TT）1Gr-結果表（貼付）'!$A:$A,0),MATCH(S$11,'公式予選（TT）1Gr-結果表（貼付）'!$1:$1,0)),""))
A24: =IF(OR('公式予選（TT）1Gr-結果表（貼付）'!A13="DNF",'公式予選（TT）1Gr-結果表（貼付）'!A13="DNS",'公式予選（TT）1Gr-結果表（貼付）'!A13="DQ"),'公式予選（TT）1Gr-結果表（貼付）'!A13,IF(MAX('公式予選（TT）1Gr-結果表（貼付）'!$A:$A)>A23,A23+1,"")) -> 12 | B24: =IFERROR(INDEX('公式予選（TT）1Gr-結果表（貼付）'!A13:$Z$50,MATCH($A24,'公式予選（TT）1Gr-結果表（貼付）'!A13:$A$50,0),MATCH('公式予選（TT）1Gr-結果表（印刷）'!B$11,'公式予選（TT）1Gr-結果表（貼付）'!$1:$1,0)),"") -> 52 | D24: =IFERROR(INDEX('公式予選（TT）1Gr-結果表（貼付）'!$A:$Z,MATCH($B24,'公式予選（TT）1Gr-結果表（貼付）'!$B:$B,0),MATCH('公式予選（TT）1Gr-結果表（印刷）'!D$11,'公式予選（TT）1Gr-結果表（貼付）'!$1:$1,0)),"") -> 佐藤 正規 | E24: =IFERROR(INDEX('公式予選（TT）1Gr-結果表（貼付）'!$A:$Z,MATCH($B24,'公式予選（TT）1Gr-結果表（貼付）'!$B:$B,0),MATCH('公式予選（TT）1Gr-結果表（印刷）'!E$11,'公式予選（TT）1Gr-結果表（貼付）'!$1:$1,0)),"") -> birel ART/YAMAHA | F24: =IFERROR(INDEX('公式予選（TT）1Gr-結果表（貼付）'!$A:$Z,MATCH($B24,'公式予選（TT）1Gr-結果表（貼付）'!$B:$B,0),MATCH('公式予選（TT）1Gr-結果表（印刷）'!F$11,'公式予選（TT）1Gr-結果表（貼付）'!$1:$1,0)),"") -> FSN union | G24: =IFERROR(INDEX('公式予選（TT）1Gr-結果表（貼付）'!$A:$Z,MATCH($B24,'公式予選（TT）1Gr-結果表（貼付）'!$B:$B,0),MATCH('公式予選（TT）1Gr-結果表（印刷）'!G$11,'公式予選（TT）1Gr-結果表（貼付）'!$1:$1,0)),"") -> BS | H24: =IF(A24="DNS","ｽﾀｰﾄ出来ず",IF(A24="DQ","失 格",IFERROR(INDEX('公式予選（TT）1Gr-結果表（貼付）'!$A:$Z,MATCH($B24,'公式予選（TT）1Gr-結果表（貼付）'!$B:$B,0),MATCH('公式予選（TT）1Gr-結果表（印刷）'!H$11,'公式予選（TT）1Gr-結果表（貼付）'!$1:$1,0)),""))) -> 55.984 | I24: =IF(H24<1,"",IF($I$11>H24,"R","")) | J24: =IF(A24="DNS","",IF(A24="DQ","",IFERROR(INDEX('公式予選（TT）1Gr-結果表（貼付）'!$A:$Z,MATCH($B24,'公式予選（TT）1Gr-結果表（貼付）'!$B:$B,0),MATCH('公式予選（TT）1Gr-結果表（印刷）'!J$11,'公式予選（TT）1Gr-結果表（貼付）'!$1:$1,0)),""))) -> 0.957 | K24: =IF(A24="DNS","",IF(A24="DQ","",IFERROR(INDEX('公式予選（TT）1Gr-結果表（貼付）'!$A:$Z,MATCH($B24,'公式予選（TT）1Gr-結果表（貼付）'!$B:$B,0),MATCH('公式予選（TT）1Gr-結果表（印刷）'!K$11,'公式予選（TT）1Gr-結果表（貼付）'!$1:$1,0)),""))) -> 0.073 | L24: =IF(A24="DNS","",IF(A24="DQ","",IFERROR(INDEX('公式予選（TT）1Gr-結果表（貼付）'!$A:$Z,MATCH($B24,'公式予選（TT）1Gr-結果表（貼付）'!$B:$B,0),MATCH("In Lap",'公式予選（TT）1Gr-結果表（貼付）'!$1:$1,0))&"/"&INDEX('公式予選（TT）1Gr-結果表（貼付）'!$A:$Z,MATCH($B24,'公式予選（TT）1Gr-結果表（貼付）'!$B:$B,0),MATCH("Laps",'公式予選（TT）1Gr-結果表（貼付）'!$1:$1,0)),""))) -> 5/5 | P24: =IF(IFERROR(INDEX('公式予選（TT）1Gr-結果表（貼付）'!$A:$Z,MATCH($B24,'公式予選（TT）1Gr-結果表（貼付）'!$B:$B,0),MATCH(P$11,'公式予選（TT）1Gr-結果表（貼付）'!$1:$1,0)),"")=0,"",IFERROR(INDEX('公式予選（TT）1Gr-結果表（貼付）'!$A:$Z,MATCH($B24,'公式予選（TT）1Gr-結果表（貼付）'!$B:$B,0),MATCH(P$11,'公式予選（TT）1Gr-結果表（貼付）'!$1:$1,0)),"")) | Q24: =IF(P24="","",COUNTIF($P$13:P24,"<>"&"")) | R24: =IFERROR(RANK(Q24,$Q$13:$Q$46,1),"") | S24: =IF(IFERROR(INDEX('公式予選（TT）1Gr-結果表（貼付）'!$A:$Z,MATCH($A24,'公式予選（TT）1Gr-結果表（貼付）'!$A:$A,0),MATCH(S$11,'公式予選（TT）1Gr-結果表（貼付）'!$1:$1,0)),"")=0,"",IFERROR(INDEX('公式予選（TT）1Gr-結果表（貼付）'!$A:$Z,MATCH($A24,'公式予選（TT）1Gr-結果表（貼付）'!$A:$A,0),MATCH(S$11,'公式予選（TT）1Gr-結果表（貼付）'!$1:$1,0)),""))
A25: =IF(OR('公式予選（TT）1Gr-結果表（貼付）'!A14="DNF",'公式予選（TT）1Gr-結果表（貼付）'!A14="DNS",'公式予選（TT）1Gr-結果表（貼付）'!A14="DQ"),'公式予選（TT）1Gr-結果表（貼付）'!A14,IF(MAX('公式予選（TT）1Gr-結果表（貼付）'!$A:$A)>A24,A24+1,"")) -> 13 | B25: =IFERROR(INDEX('公式予選（TT）1Gr-結果表（貼付）'!A14:$Z$50,MATCH($A25,'公式予選（TT）1Gr-結果表（貼付）'!A14:$A$50,0),MATCH('公式予選（TT）1Gr-結果表（印刷）'!B$11,'公式予選（TT）1Gr-結果表（貼付）'!$1:$1,0)),"") -> 32 | D25: =IFERROR(INDEX('公式予選（TT）1Gr-結果表（貼付）'!$A:$Z,MATCH($B25,'公式予選（TT）1Gr-結果表（貼付）'!$B:$B,0),MATCH('公式予選（TT）1Gr-結果表（印刷）'!D$11,'公式予選（TT）1Gr-結果表（貼付）'!$1:$1,0)),"") -> 林 三貴彦 | E25: =IFERROR(INDEX('公式予選（TT）1Gr-結果表（貼付）'!$A:$Z,MATCH($B25,'公式予選（TT）1Gr-結果表（貼付）'!$B:$B,0),MATCH('公式予選（TT）1Gr-結果表（印刷）'!E$11,'公式予選（TT）1Gr-結果表（貼付）'!$1:$1,0)),"") -> トニーカート/YAMAHA | F25: =IFERROR(INDEX('公式予選（TT）1Gr-結果表（貼付）'!$A:$Z,MATCH($B25,'公式予選（TT）1Gr-結果表（貼付）'!$B:$B,0),MATCH('公式予選（TT）1Gr-結果表（印刷）'!F$11,'公式予選（TT）1Gr-結果表（貼付）'!$1:$1,0)),"") -> ASH | G25: =IFERROR(INDEX('公式予選（TT）1Gr-結果表（貼付）'!$A:$Z,MATCH($B25,'公式予選（TT）1Gr-結果表（貼付）'!$B:$B,0),MATCH('公式予選（TT）1Gr-結果表（印刷）'!G$11,'公式予選（TT）1Gr-結果表（貼付）'!$1:$1,0)),"") -> BS | H25: =IF(A25="DNS","ｽﾀｰﾄ出来ず",IF(A25="DQ","失 格",IFERROR(INDEX('公式予選（TT）1Gr-結果表（貼付）'!$A:$Z,MATCH($B25,'公式予選（TT）1Gr-結果表（貼付）'!$B:$B,0),MATCH('公式予選（TT）1Gr-結果表（印刷）'!H$11,'公式予選（TT）1Gr-結果表（貼付）'!$1:$1,0)),""))) -> 55.987 | I25: =IF(H25<1,"",IF($I$11>H25,"R","")) | J25: =IF(A25="DNS","",IF(A25="DQ","",IFERROR(INDEX('公式予選（TT）1Gr-結果表（貼付）'!$A:$Z,MATCH($B25,'公式予選（TT）1Gr-結果表（貼付）'!$B:$B,0),MATCH('公式予選（TT）1Gr-結果表（印刷）'!J$11,'公式予選（TT）1Gr-結果表（貼付）'!$1:$1,0)),""))) -> 0.96 | K25: =IF(A25="DNS","",IF(A25="DQ","",IFERROR(INDEX('公式予選（TT）1Gr-結果表（貼付）'!$A:$Z,MATCH($B25,'公式予選（TT）1Gr-結果表（貼付）'!$B:$B,0),MATCH('公式予選（TT）1Gr-結果表（印刷）'!K$11,'公式予選（TT）1Gr-結果表（貼付）'!$1:$1,0)),""))) -> 0.003 | L25: =IF(A25="DNS","",IF(A25="DQ","",IFERROR(INDEX('公式予選（TT）1Gr-結果表（貼付）'!$A:$Z,MATCH($B25,'公式予選（TT）1Gr-結果表（貼付）'!$B:$B,0),MATCH("In Lap",'公式予選（TT）1Gr-結果表（貼付）'!$1:$1,0))&"/"&INDEX('公式予選（TT）1Gr-結果表（貼付）'!$A:$Z,MATCH($B25,'公式予選（TT）1Gr-結果表（貼付）'!$B:$B,0),MATCH("Laps",'公式予選（TT）1Gr-結果表（貼付）'!$1:$1,0)),""))) -> 2/2 | P25: =IF(IFERROR(INDEX('公式予選（TT）1Gr-結果表（貼付）'!$A:$Z,MATCH($B25,'公式予選（TT）1Gr-結果表（貼付）'!$B:$B,0),MATCH(P$11,'公式予選（TT）1Gr-結果表（貼付）'!$1:$1,0)),"")=0,"",IFERROR(INDEX('公式予選（TT）1Gr-結果表（貼付）'!$A:$Z,MATCH($B25,'公式予選（TT）1Gr-結果表（貼付）'!$B:$B,0),MATCH(P$11,'公式予選（TT）1Gr-結果表（貼付）'!$1:$1,0)),"")) | Q25: =IF(P25="","",COUNTIF($P$13:P25,"<>"&"")) | R25: =IFERROR(RANK(Q25,$Q$13:$Q$46,1),"") | S25: =IF(IFERROR(INDEX('公式予選（TT）1Gr-結果表（貼付）'!$A:$Z,MATCH($A25,'公式予選（TT）1Gr-結果表（貼付）'!$A:$A,0),MATCH(S$11,'公式予選（TT）1Gr-結果表（貼付）'!$1:$1,0)),"")=0,"",IFERROR(INDEX('公式予選（TT）1Gr-結果表（貼付）'!$A:$Z,MATCH($A25,'公式予選（TT）1Gr-結果表（貼付）'!$A:$A,0),MATCH(S$11,'公式予選（TT）1Gr-結果表（貼付）'!$1:$1,0)),""))
... A46: =IF(OR('公式予選（TT）1Gr-結果表（貼付）'!A35="DNF",'公式予選（TT）1Gr-結果表（貼付）'!A35="DNS",'公式予選（TT）1Gr-結果表（貼付）'!A35="DQ"),'公式予選（TT）1Gr-結果表（貼付）'!A35,IF(MAX('公式予選（TT）1Gr-結果表（貼付）'!$A:$A)>A45,A45+1,"")) | B46: =IFERROR(INDEX('公式予選（TT）1Gr-結果表（貼付）'!A35:$Z$50,MATCH($A46,'公式予選（TT）1Gr-結果表（貼付）'!A35:$A$50,0),MATCH('公式予選（TT）1Gr-結果表（印刷）'!B$11,'公式予選（TT）1Gr-結果表（貼付）'!$1:$1,0)),"") | D46: =IFERROR(INDEX('公式予選（TT）1Gr-結果表（貼付）'!$A:$Z,MATCH($B46,'公式予選（TT）1Gr-結果表（貼付）'!$B:$B,0),MATCH('公式予選（TT）1Gr-結果表（印刷）'!D$11,'公式予選（TT）1Gr-結果表（貼付）'!$1:$1,0)),"") | E46: =IFERROR(INDEX('公式予選（TT）1Gr-結果表（貼付）'!$A:$Z,MATCH($B46,'公式予選（TT）1Gr-結果表（貼付）'!$B:$B,0),MATCH('公式予選（TT）1Gr-結果表（印刷）'!E$11,'公式予選（TT）1Gr-結果表（貼付）'!$1:$1,0)),"") | F46: =IFERROR(INDEX('公式予選（TT）1Gr-結果表（貼付）'!$A:$Z,MATCH($B46,'公式予選（TT）1Gr-結果表（貼付）'!$B:$B,0),MATCH('公式予選（TT）1Gr-結果表（印刷）'!F$11,'公式予選（TT）1Gr-結果表（貼付）'!$1:$1,0)),"") | G46: =IFERROR(INDEX('公式予選（TT）1Gr-結果表（貼付）'!$A:$Z,MATCH($B46,'公式予選（TT）1Gr-結果表（貼付）'!$B:$B,0),MATCH('公式予選（TT）1Gr-結果表（印刷）'!G$11,'公式予選（TT）1Gr-結果表（貼付）'!$1:$1,0)),"") | H46: =IF(A46="DNS","ｽﾀｰﾄ出来ず",IF(A46="DQ","失 格",IFERROR(INDEX('公式予選（TT）1Gr-結果表（貼付）'!$A:$Z,MATCH($B46,'公式予選（TT）1Gr-結果表（貼付）'!$B:$B,0),MATCH('公式予選（TT）1Gr-結果表（印刷）'!H$11,'公式予選（TT）1Gr-結果表（貼付）'!$1:$1,0)),""))) | I46: =IF(H46<1,"",IF($I$11>H46,"R","")) | J46: =IF(A46="DNS","",IF(A46="DQ","",IFERROR(INDEX('公式予選（TT）1Gr-結果表（貼付）'!$A:$Z,MATCH($B46,'公式予選（TT）1Gr-結果表（貼付）'!$B:$B,0),MATCH('公式予選（TT）1Gr-結果表（印刷）'!J$11,'公式予選（TT）1Gr-結果表（貼付）'!$1:$1,0)),""))) | K46: =IF(A46="DNS","",IF(A46="DQ","",IFERROR(INDEX('公式予選（TT）1Gr-結果表（貼付）'!$A:$Z,MATCH($B46,'公式予選（TT）1Gr-結果表（貼付）'!$B:$B,0),MATCH('公式予選（TT）1Gr-結果表（印刷）'!K$11,'公式予選（TT）1Gr-結果表（貼付）'!$1:$1,0)),""))) | L46: =IF(A46="DNS","",IF(A46="DQ","",IFERROR(INDEX('公式予選（TT）1Gr-結果表（貼付）'!$A:$Z,MATCH($B46,'公式予選（TT）1Gr-結果表（貼付）'!$B:$B,0),MATCH("In Lap",'公式予選（TT）1Gr-結果表（貼付）'!$1:$1,0))&"/"&INDEX('公式予選（TT）1Gr-結果表（貼付）'!$A:$Z,MATCH($B46,'公式予選（TT）1Gr-結果表（貼付）'!$B:$B,0),MATCH("Laps",'公式予選（TT）1Gr-結果表（貼付）'!$1:$1,0)),""))) | P46: =IF(IFERROR(INDEX('公式予選（TT）1Gr-結果表（貼付）'!$A:$Z,MATCH($B46,'公式予選（TT）1Gr-結果表（貼付）'!$B:$B,0),MATCH(P$11,'公式予選（TT）1Gr-結果表（貼付）'!$1:$1,0)),"")=0,"",IFERROR(INDEX('公式予選（TT）1Gr-結果表（貼付）'!$A:$Z,MATCH($B46,'公式予選（TT）1Gr-結果表（貼付）'!$B:$B,0),MATCH(P$11,'公式予選（TT）1Gr-結果表（貼付）'!$1:$1,0)),"")) | Q46: =IF(P46="","",COUNTIF($P$13:P46,"<>"&"")) | R46: =IFERROR(RANK(Q46,$Q$13:$Q$46,1),"") | S46: =IF(IFERROR(INDEX('公式予選（TT）1Gr-結果表（貼付）'!$A:$Z,MATCH($A46,'公式予選（TT）1Gr-結果表（貼付）'!$A:$A,0),MATCH(S$11,'公式予選（TT）1Gr-結果表（貼付）'!$1:$1,0)),"")=0,"",IFERROR(INDEX('公式予選（TT）1Gr-結果表（貼付）'!$A:$Z,MATCH($A46,'公式予選（TT）1Gr-結果表（貼付）'!$A:$A,0),MATCH(S$11,'公式予選（TT）1Gr-結果表（貼付）'!$1:$1,0)),""))
A49: =IF(COUNTIF(I:I,"R")>=1,"R マークの車は、コースレコードを更新しました。従来のレコードタイムは"&" "&TEXT(ROUND($I$11,3),"[<1]m'ss.000;##0.000"),"")
A52: =IF(A53="","","ﾍﾟﾅﾙﾃｨ")
A53: =IF(MAX(Q13:Q46)<1,"",1) | B53: =IF(A53="","","No."&INDEX($A$11:$Y$46,MATCH($A53,$R$11:$R$46,0),MATCH("No.",$11:$11,0))) | C53: =INDEX($A$11:$Y$46,MATCH($A53,$R$11:$R$46,0),MATCH("コメント",$11:$11,0))
A54: =IF(A53<COUNTIF($R$12:$R$46,">"&0),A53+1,"") | B54: =IF(A54="","","No."&INDEX($A$11:$Y$46,MATCH($A54,$R$11:$R$46,0),MATCH("No.",$11:$11,0))) | C54: =INDEX($A$11:$Y$46,MATCH($A54,$R$11:$R$46,0),MATCH("コメント",$11:$11,0))
A55: =IF(A54<COUNTIF($R$12:$R$46,">"&0),A54+1,"") | B55: =IF(A55="","","No."&INDEX($A$11:$Y$46,MATCH($A55,$R$11:$R$46,0),MATCH("No.",$11:$11,0))) | C55: =INDEX($A$11:$Y$46,MATCH($A55,$R$11:$R$46,0),MATCH("コメント",$11:$11,0))
A56: =IF(A55<COUNTIF($R$12:$R$46,">"&0),A55+1,"") | B56: =IF(A56="","","No."&INDEX($A$11:$Y$46,MATCH($A56,$R$11:$R$46,0),MATCH("No.",$11:$11,0))) | C56: =INDEX($A$11:$Y$46,MATCH($A56,$R$11:$R$46,0),MATCH("コメント",$11:$11,0))
A57: =IF(A56<COUNTIF($R$12:$R$46,">"&0),A56+1,"") | B57: =IF(A57="","","No."&INDEX($A$11:$Y$46,MATCH($A57,$R$11:$R$46,0),MATCH("No.",$11:$11,0))) | C57: =INDEX($A$11:$Y$46,MATCH($A57,$R$11:$R$46,0),MATCH("コメント",$11:$11,0))
A58: =IF(A57<COUNTIF($R$12:$R$46,">"&0),A57+1,"") | B58: =IF(A58="","","No."&INDEX($A$11:$Y$46,MATCH($A58,$R$11:$R$46,0),MATCH("No.",$11:$11,0))) | C58: =INDEX($A$11:$Y$46,MATCH($A58,$R$11:$R$46,0),MATCH("コメント",$11:$11,0))
A59: =IF(A58<COUNTIF($R$12:$R$46,">"&0),A58+1,"") | B59: =IF(A59="","","No."&INDEX($A$11:$Y$46,MATCH($A59,$R$11:$R$46,0),MATCH("No.",$11:$11,0))) | C59: =INDEX($A$11:$Y$46,MATCH($A59,$R$11:$R$46,0),MATCH("コメント",$11:$11,0))
A60: =IF(A59<COUNTIF($R$12:$R$46,">"&0),A59+1,"") | B60: =IF(A60="","","No."&INDEX($A$11:$Y$46,MATCH($A60,$R$11:$R$46,0),MATCH("No.",$11:$11,0))) | C60: =INDEX($A$11:$Y$46,MATCH($A60,$R$11:$R$46,0),MATCH("コメント",$11:$11,0))
A61: =IF(A60<COUNTIF($R$12:$R$46,">"&0),A60+1,"") | B61: =IF(A61="","","No."&INDEX($A$11:$Y$46,MATCH($A61,$R$11:$R$46,0),MATCH("No.",$11:$11,0))) | C61: =INDEX($A$11:$Y$46,MATCH($A61,$R$11:$R$46,0),MATCH("コメント",$11:$11,0))
A62: =IF(A61<COUNTIF($R$12:$R$46,">"&0),A61+1,"") | B62: =IF(A62="","","No."&INDEX($A$11:$Y$46,MATCH($A62,$R$11:$R$46,0),MATCH("No.",$11:$11,0))) | C62: =INDEX($A$11:$Y$46,MATCH($A62,$R$11:$R$46,0),MATCH("コメント",$11:$11,0))
A63: =IF(A62<COUNTIF($R$12:$R$46,">"&0),A62+1,"") | B63: =IF(A63="","","No."&INDEX($A$11:$Y$46,MATCH($A63,$R$11:$R$46,0),MATCH("No.",$11:$11,0))) | C63: =INDEX($A$11:$Y$46,MATCH($A63,$R$11:$R$46,0),MATCH("コメント",$11:$11,0))
B64: ="審査委員長 ："&" "&各種設定!$D$20 -> 審査委員長 ：

Sheet JAF提出用（1Gr予選）
BY1: レース競技結果成績表（予選用）
T4: 競技会 | Z4: =MID(各種設定!$D$3,1,1) -> ｶ | AC4: =MID(各種設定!$D$3,2,1) -> ｰ | AF4: =MID(各種設定!$D$3,3,1) -> ﾄ | AI4: =MID(各種設定!$D$3,4,1) -> ﾚ | AL4: =MID(各種設定!$D$3,5,1) -> ｰ | AO4: =MID(各種設定!$D$3,6,1) -> ｽ | AR4: =MID(各種設定!$D$3,7,1) | AU4: =MID(各種設定!$D$3,8,1) -> I | AX4: =MID(各種設定!$D$3,9,1) -> N | BA4: =MID(各種設定!$D$3,10,1) | BD4: =MID(各種設定!$D$3,11,1) -> S | BG4: =MID(各種設定!$D$3,12,1) -> U | BJ4: =MID(各種設定!$D$3,13,1) -> Z | BM4: =MID(各種設定!$D$3,14,1) -> U | BP4: =MID(各種設定!$D$3,15,1) -> K | BS4: =MID(各種設定!$D$3,16,1) -> A | BV4: =MID(各種設定!$D$3,17,1) | BY4: =MID(各種設定!$D$3,18,1) -> 第 | CB4: =MID(各種設定!$D$3,19,1) -> 7 | CE4: =MID(各種設定!$D$3,20,1) -> 戦 | EB4: =YEAR(各種設定!D17) -> 2022 | EI4: 年 | EK4: =MONTH(各種設定!D17) -> 12 | EO4: 月 | EQ4: =DAY(各種設定!D17) -> 11 | EU4: 日
T5: 名 称 | DZ5: 開催日 | EF5: ～
AD6: （20文字以内で入力してください） | CW6: 観客数 | DF6: ： | EB6: =YEAR(各種設定!D18) -> 2022 | EI6: 年 | EK6: =MONTH(各種設定!D18) -> 12 | EO6: 月 | EQ6: =DAY(各種設定!D18) -> 11 | EU6: 日
AC7: 種 別
F8: レース （予選TT用） | AC8: 記入不要 | BB8: ｵｰｶﾞﾅｲｻﾞｰｺｰﾄﾞ： | BU8: =MID(各種設定!$D$28,1,1) -> 8 | BX8: =MID(各種設定!$D$28,2,1) -> 2 | CA8: =MID(各種設定!$D$28,3,1) -> 4 | CD8: =MID(各種設定!$D$28,4,1) -> 0 | CG8: =MID(各種設定!$D$28,5,1) -> 1 | CJ8: =MID(各種設定!$D$28,6,1) | CW8: 競技会格式 | DF8: ： | DH8: =+各種設定!D26 -> D | DM8: A：国際､B：準国際､C：国内､D：準国内､E：地方
F10: 公認番号： | S10: =MID(各種設定!$D$30,1,1) -> 2 | V10: =MID(各種設定!$D$30,2,1) -> 2 | Y10: =MID(各種設定!$D$30,3,1) -> 2 | AB10: =MID(各種設定!$D$30,4,1) -> 5 | AE10: =MID(各種設定!$D$30,5,1) -> 0 | AH10: =MID(各種設定!$D$30,6,1) -> 9 | AT10: 開催場所： | BE10: 鈴鹿サーキット 南コース | CQ10: 天候： | CX10: Cloudy | DE10: 気温： | DT10: コース コンディション | EB10: ： | EE10: Dry
F12: カテゴリー（参加車両）： | AA12: =+各種設定!D4 -> SUPER SS | AU12: A Gr | BL12: 参加台数 | BX12: =COUNTIF('公式予選（TT）1Gr-結果表（貼付）'!A2:A50,"<>"&"") -> 26 | CE12: 台 | DM12: 出走台数 | DY12: =MAX('公式予選（TT）1Gr-結果表（貼付）'!A:A) -> 26 | EF12: 台
A14: 順位 | F14: クラス | M14: クラス 順位 | R14: 車番 | W14: ドライバー氏名 | AW14: ライセンス番号 | BY14: 車名 | CT14: 車両型式 | DE14: 排気量 | DN14: ベストラップタイム | EG14: 参加者氏名
A15: 1 | F15: =IF(IFERROR(INDEX('公式予選（TT）1Gr-結果表（貼付）'!$A:$Z,MATCH($R15,'公式予選（TT）1Gr-結果表（貼付）'!$B:$B,0),MATCH("クラス",'公式予選（TT）1Gr-結果表（貼付）'!$1:$1,0)),"")=0,"",IFERROR(INDEX('公式予選（TT）1Gr-結果表（貼付）'!$A:$Z,MATCH($R15,'公式予選（TT）1Gr-結果表（貼付）'!$B:$B,0),MATCH("クラス",'公式予選（TT）1Gr-結果表（貼付）'!$1:$1,0)),"")) -> SUPER SS | M15: =IF(ISTEXT(A15)=TRUE,"",IF(F15="","",IF(A15="","""",COUNTIF($F$15:F15,F15)))) -> 1 | R15: =IFERROR(INDEX('公式予選（TT）1Gr-結果表（貼付）'!A2:$Z$50,MATCH($A15,'公式予選（TT）1Gr-結果表（貼付）'!A2:$A$50,0),MATCH("No.",'公式予選（TT）1Gr-結果表（貼付）'!$1:$1,0)),"") -> 51 | W15: =IFERROR(INDEX('公式予選（TT）1Gr-結果表（貼付）'!$A:$Z,MATCH($R15,'公式予選（TT）1Gr-結果表（貼付）'!$B:$B,0),MATCH("名前",'公式予選（TT）1Gr-結果表（貼付）'!$1:$1,0)),"") -> 佐々木 克行 | AW15: =IFERROR(MID(INDEX('公式予選（TT）1Gr-結果表（貼付）'!$A:$Z,MATCH($R15,'公式予選（TT）1Gr-結果表（貼付）'!$B:$B,0),MATCH("会員番号",'公式予選（TT）1Gr-結果表（貼付）'!$1:$1,0)),1,1),"") -> D | AY15: =IFERROR(MID(INDEX('公式予選（TT）1Gr-結果表（貼付）'!$A:$Z,MATCH($R15,'公式予選（TT）1Gr-結果表（貼付）'!$B:$B,0),MATCH("会員番号",'公式予選（TT）1Gr-結果表（貼付）'!$1:$1,0)),2,1),"") -> 1 | BA15: =IFERROR(MID(INDEX('公式予選（TT）1Gr-結果表（貼付）'!$A:$Z,MATCH($R15,'公式予選（TT）1Gr-結果表（貼付）'!$B:$B,0),MATCH("会員番号",'公式予選（TT）1Gr-結果表（貼付）'!$1:$1,0)),3,1),"") -> a | BC15: =IFERROR(MID(INDEX('公式予選（TT）1Gr-結果表（貼付）'!$A:$Z,MATCH($R15,'公式予選（TT）1Gr-結果表（貼付）'!$B:$B,0),MATCH("会員番号",'公式予選（TT）1Gr-結果表（貼付）'!$1:$1,0)),4,1),"") -> 2 | BE15: =IFERROR(MID(INDEX('公式予選（TT）1Gr-結果表（貼付）'!$A:$Z,MATCH($R15,'公式予選（TT）1Gr-結果表（貼付）'!$B:$B,0),MATCH("会員番号",'公式予選（TT）1Gr-結果表（貼付）'!$1:$1,0)),5,1),"") -> c | BG15: =IFERROR(MID(INDEX('公式予選（TT）1Gr-結果表（貼付）'!$A:$Z,MATCH($R15,'公式予選（TT）1Gr-結果表（貼付）'!$B:$B,0),MATCH("会員番号",'公式予選（TT）1Gr-結果表（貼付）'!$1:$1,0)),6,1),"") -> c | BI15: =IFERROR(MID(INDEX('公式予選（TT）1Gr-結果表（貼付）'!$A:$Z,MATCH($R15,'公式予選（TT）1Gr-結果表（貼付）'!$B:$B,0),MATCH("会員番号",'公式予選（TT）1Gr-結果表（貼付）'!$1:$1,0)),7,1),"") -> 4 | BK15: =IFERROR(MID(INDEX('公式予選（TT）1Gr-結果表（貼付）'!$A:$Z,MATCH($R15,'公式予選（TT）1Gr-結果表（貼付）'!$B:$B,0),MATCH("会員番号",'公式予選（TT）1Gr-結果表（貼付）'!$1:$1,0)),8,1),"") -> a | BM15: =IFERROR(MID(INDEX('公式予選（TT）1Gr-結果表（貼付）'!$A:$Z,MATCH($R15,'公式予選（TT）1Gr-結果表（貼付）'!$B:$B,0),MATCH("会員番号",'公式予選（TT）1Gr-結果表（貼付）'!$1:$1,0)),9,1),"") -> 8 | BO15: =IFERROR(MID(INDEX('公式予選（TT）1Gr-結果表（貼付）'!$A:$Z,MATCH($R15,'公式予選（TT）1Gr-結果表（貼付）'!$B:$B,0),MATCH("会員番号",'公式予選（TT）1Gr-結果表（貼付）'!$1:$1,0)),10,1),"") | BQ15: =IFERROR(MID(INDEX('公式予選（TT）1Gr-結果表（貼付）'!$A:$Z,MATCH($R15,'公式予選（TT）1Gr-結果表（貼付）'!$B:$B,0),MATCH("会員番号",'公式予選（TT）1Gr-結果表（貼付）'!$1:$1,0)),11,1),"") | BS15: =IFERROR(MID(INDEX('公式予選（TT）1Gr-結果表（貼付）'!$A:$Z,MATCH($R15,'公式予選（TT）1Gr-結果表（貼付）'!$B:$B,0),MATCH("会員番号",'公式予選（TT）1Gr-結果表（貼付）'!$1:$1,0)),12,1),"") | BU15: =IFERROR(MID(INDEX('公式予選（TT）1Gr-結果表（貼付）'!$A:$Z,MATCH($R15,'公式予選（TT）1Gr-結果表（貼付）'!$B:$B,0),MATCH("会員番号",'公式予選（TT）1Gr-結果表（貼付）'!$1:$1,0)),13,1),"") | BW15: =IFERROR(MID(INDEX('公式予選（TT）1Gr-結果表（貼付）'!$A:$Z,MATCH($R15,'公式予選（TT）1Gr-結果表（貼付）'!$B:$B,0),MATCH("会員番号",'公式予選（TT）1Gr-結果表（貼付）'!$1:$1,0)),14,1),"") | BY15: =IFERROR(INDEX('公式予選（TT）1Gr-結果表（貼付）'!$A:$Z,MATCH($R15,'公式予選（TT）1Gr-結果表（貼付）'!$B:$B,0),MATCH("Team",'公式予選（TT）1Gr-結果表（貼付）'!$1:$1,0)),"") -> RT.HISTRY | CT15: =IFERROR(INDEX('公式予選（TT）1Gr-結果表（貼付）'!$A:$Z,MATCH($R15,'公式予選（TT）1Gr-結果表（貼付）'!$B:$B,0),MATCH("Model/Engine",'公式予選（TT）1Gr-結果表（貼付）'!$1:$1,0)),"") -> DreamQuest/YAMAHA | DN15: =IF(A15="DNS","ｽﾀｰﾄ出来ず",IF(A15="DQ","失 格",IFERROR(INDEX('公式予選（TT）1Gr-結果表（貼付）'!$A:$Z,MATCH($R15,'公式予選（TT）1Gr-結果表（貼付）'!$B:$B,0),MATCH("BestLap",'公式予選（TT）1Gr-結果表（貼付）'!$1:$1,0)),""))) -> 55.027
A16: =IF(OR('公式予選（TT）1Gr-結果表（貼付）'!A3="DNF",'公式予選（TT）1Gr-結果表（貼付）'!A3="DNS",'公式予選（TT）1Gr-結果表（貼付）'!A3="DQ"),'公式予選（TT）1Gr-結果表（貼付）'!A3,IF(MAX('公式予選（TT）1Gr-結果表（貼付）'!$A:$A)>A15,A15+1,"")) -> 2 | F16: =IF(IFERROR(INDEX('公式予選（TT）1Gr-結果表（貼付）'!$A:$Z,MATCH($R16,'公式予選（TT）1Gr-結果表（貼付）'!$B:$B,0),MATCH("クラス",'公式予選（TT）1Gr-結果表（貼付）'!$1:$1,0)),"")=0,"",IFERROR(INDEX('公式予選（TT）1Gr-結果表（貼付）'!$A:$Z,MATCH($R16,'公式予選（TT）1Gr-結果表（貼付）'!$B:$B,0),MATCH("クラス",'公式予選（TT）1Gr-結果表（貼付）'!$1:$1,0)),"")) -> SUPER SS | M16: =IF(ISTEXT(A16)=TRUE,"",IF(F16="","",IF(A16="","""",COUNTIF($F$15:F16,F16)))) -> 2 | R16: =IFERROR(INDEX('公式予選（TT）1Gr-結果表（貼付）'!A3:$Z$50,MATCH($A16,'公式予選（TT）1Gr-結果表（貼付）'!A3:$A$50,0),MATCH("No.",'公式予選（TT）1Gr-結果表（貼付）'!$1:$1,0)),"") -> 2 | W16: =IFERROR(INDEX('公式予選（TT）1Gr-結果表（貼付）'!$A:$Z,MATCH($R16,'公式予選（TT）1Gr-結果表（貼付）'!$B:$B,0),MATCH("名前",'公式予選（TT）1Gr-結果表（貼付）'!$1:$1,0)),"") -> 坂 裕之 | AW16: =IFERROR(MID(INDEX('公式予選（TT）1Gr-結果表（貼付）'!$A:$Z,MATCH($R16,'公式予選（TT）1Gr-結果表（貼付）'!$B:$B,0),MATCH("会員番号",'公式予選（TT）1Gr-結果表（貼付）'!$1:$1,0)),1,1),"") -> D | AY16: =IFERROR(MID(INDEX('公式予選（TT）1Gr-結果表（貼付）'!$A:$Z,MATCH($R16,'公式予選（TT）1Gr-結果表（貼付）'!$B:$B,0),MATCH("会員番号",'公式予選（TT）1Gr-結果表（貼付）'!$1:$1,0)),2,1),"") -> 3 | BA16: =IFERROR(MID(INDEX('公式予選（TT）1Gr-結果表（貼付）'!$A:$Z,MATCH($R16,'公式予選（TT）1Gr-結果表（貼付）'!$B:$B,0),MATCH("会員番号",'公式予選（TT）1Gr-結果表（貼付）'!$1:$1,0)),3,1),"") -> 5 | BC16: =IFERROR(MID(INDEX('公式予選（TT）1Gr-結果表（貼付）'!$A:$Z,MATCH($R16,'公式予選（TT）1Gr-結果表（貼付）'!$B:$B,0),MATCH("会員番号",'公式予選（TT）1Gr-結果表（貼付）'!$1:$1,0)),4,1),"") -> 8 | BE16: =IFERROR(MID(INDEX('公式予選（TT）1Gr-結果表（貼付）'!$A:$Z,MATCH($R16,'公式予選（TT）1Gr-結果表（貼付）'!$B:$B,0),MATCH("会員番号",'公式予選（TT）1Gr-結果表（貼付）'!$1:$1,0)),5,1),"") -> 7 | BG16: =IFERROR(MID(INDEX('公式予選（TT）1Gr-結果表（貼付）'!$A:$Z,MATCH($R16,'公式予選（TT）1Gr-結果表（貼付）'!$B:$B,0),MATCH("会員番号",'公式予選（TT）1Gr-結果表（貼付）'!$1:$1,0)),6,1),"") -> 6 | BI16: =IFERROR(MID(INDEX('公式予選（TT）1Gr-結果表（貼付）'!$A:$Z,MATCH($R16,'公式予選（TT）1Gr-結果表（貼付）'!$B:$B,0),MATCH("会員番号",'公式予選（TT）1Gr-結果表（貼付）'!$1:$1,0)),7,1),"") -> 3 | BK16: =IFERROR(MID(INDEX('公式予選（TT）1Gr-結果表（貼付）'!$A:$Z,MATCH($R16,'公式予選（TT）1Gr-結果表（貼付）'!$B:$B,0),MATCH("会員番号",'公式予選（TT）1Gr-結果表（貼付）'!$1:$1,0)),8,1),"") -> 4 | BM16: =IFERROR(MID(INDEX('公式予選（TT）1Gr-結果表（貼付）'!$A:$Z,MATCH($R16,'公式予選（TT）1Gr-結果表（貼付）'!$B:$B,0),MATCH("会員番号",'公式予選（TT）1Gr-結果表（貼付）'!$1:$1,0)),9,1),"") -> 8 | BO16: =IFERROR(MID(INDEX('公式予選（TT）1Gr-結果表（貼付）'!$A:$Z,MATCH($R16,'公式予選（TT）1Gr-結果表（貼付）'!$B:$B,0),MATCH("会員番号",'公式予選（TT）1Gr-結果表（貼付）'!$1:$1,0)),10,1),"") | BQ16: =IFERROR(MID(INDEX('公式予選（TT）1Gr-結果表（貼付）'!$A:$Z,MATCH($R16,'公式予選（TT）1Gr-結果表（貼付）'!$B:$B,0),MATCH("会員番号",'公式予選（TT）1Gr-結果表（貼付）'!$1:$1,0)),11,1),"") | BS16: =IFERROR(MID(INDEX('公式予選（TT）1Gr-結果表（貼付）'!$A:$Z,MATCH($R16,'公式予選（TT）1Gr-結果表（貼付）'!$B:$B,0),MATCH("会員番号",'公式予選（TT）1Gr-結果表（貼付）'!$1:$1,0)),12,1),"") | BU16: =IFERROR(MID(INDEX('公式予選（TT）1Gr-結果表（貼付）'!$A:$Z,MATCH($R16,'公式予選（TT）1Gr-結果表（貼付）'!$B:$B,0),MATCH("会員番号",'公式予選（TT）1Gr-結果表（貼付）'!$1:$1,0)),13,1),"") | BW16: =IFERROR(MID(INDEX('公式予選（TT）1Gr-結果表（貼付）'!$A:$Z,MATCH($R16,'公式予選（TT）1Gr-結果表（貼付）'!$B:$B,0),MATCH("会員番号",'公式予選（TT）1Gr-結果表（貼付）'!$1:$1,0)),14,1),"") | BY16: =IFERROR(INDEX('公式予選（TT）1Gr-結果表（貼付）'!$A:$Z,MATCH($R16,'公式予選（TT）1Gr-結果表（貼付）'!$B:$B,0),MATCH("Team",'公式予選（TT）1Gr-結果表（貼付）'!$1:$1,0)),"") -> のりものクラブTIGRE | CT16: =IFERROR(INDEX('公式予選（TT）1Gr-結果表（貼付）'!$A:$Z,MATCH($R16,'公式予選（TT）1Gr-結果表（貼付）'!$B:$B,0),MATCH("Model/Engine",'公式予選（TT）1Gr-結果表（貼付）'!$1:$1,0)),"") -> SWF/YAMAHA | DN16: =IF(A16="DNS","ｽﾀｰﾄ出来ず",IF(A16="DQ","失 格",IFERROR(INDEX('公式予選（TT）1Gr-結果表（貼付）'!$A:$Z,MATCH($R16,'公式予選（TT）1Gr-結果表（貼付）'!$B:$B,0),MATCH("BestLap",'公式予選（TT）1Gr-結果表（貼付）'!$1:$1,0)),""))) -> 55.337
A17: =IF(OR('公式予選（TT）1Gr-結果表（貼付）'!A4="DNF",'公式予選（TT）1Gr-結果表（貼付）'!A4="DNS",'公式予選（TT）1Gr-結果表（貼付）'!A4="DQ"),'公式予選（TT）1Gr-結果表（貼付）'!A4,IF(MAX('公式予選（TT）1Gr-結果表（貼付）'!$A:$A)>A16,A16+1,"")) -> 3 | F17: =IF(IFERROR(INDEX('公式予選（TT）1Gr-結果表（貼付）'!$A:$Z,MATCH($R17,'公式予選（TT）1Gr-結果表（貼付）'!$B:$B,0),MATCH("クラス",'公式予選（TT）1Gr-結果表（貼付）'!$1:$1,0)),"")=0,"",IFERROR(INDEX('公式予選（TT）1Gr-結果表（貼付）'!$A:$Z,MATCH($R17,'公式予選（TT）1Gr-結果表（貼付）'!$B:$B,0),MATCH("クラス",'公式予選（TT）1Gr-結果表（貼付）'!$1:$1,0)),"")) -> SUPER SS | M17: =IF(ISTEXT(A17)=TRUE,"",IF(F17="","",IF(A17="","""",COUNTIF($F$15:F17,F17)))) -> 3 | R17: =IFERROR(INDEX('公式予選（TT）1Gr-結果表（貼付）'!A4:$Z$50,MATCH($A17,'公式予選（TT）1Gr-結果表（貼付）'!A4:$A$50,0),MATCH("No.",'公式予選（TT）1Gr-結果表（貼付）'!$1:$1,0)),"") -> 30 | W17: =IFERROR(INDEX('公式予選（TT）1Gr-結果表（貼付）'!$A:$Z,MATCH($R17,'公式予選（TT）1Gr-結果表（貼付）'!$B:$B,0),MATCH("名前",'公式予選（TT）1Gr-結果表（貼付）'!$1:$1,0)),"") -> 平野 伸一 | AW17: =IFERROR(MID(INDEX('公式予選（TT）1Gr-結果表（貼付）'!$A:$Z,MATCH($R17,'公式予選（TT）1Gr-結果表（貼付）'!$B:$B,0),MATCH("会員番号",'公式予選（TT）1Gr-結果表（貼付）'!$1:$1,0)),1,1),"") -> D | AY17: =IFERROR(MID(INDEX('公式予選（TT）1Gr-結果表（貼付）'!$A:$Z,MATCH($R17,'公式予選（TT）1Gr-結果表（貼付）'!$B:$B,0),MATCH("会員番号",'公式予選（TT）1Gr-結果表（貼付）'!$1:$1,0)),2,1),"") -> 2 | BA17: =IFERROR(MID(INDEX('公式予選（TT）1Gr-結果表（貼付）'!$A:$Z,MATCH($R17,'公式予選（TT）1Gr-結果表（貼付）'!$B:$B,0),MATCH("会員番号",'公式予選（TT）1Gr-結果表（貼付）'!$1:$1,0)),3,1),"") -> 2 | BC17: =IFERROR(MID(INDEX('公式予選（TT）1Gr-結果表（貼付）'!$A:$Z,MATCH($R17,'公式予選（TT）1Gr-結果表（貼付）'!$B:$B,0),MATCH("会員番号",'公式予選（TT）1Gr-結果表（貼付）'!$1:$1,0)),4,1),"") -> 8 | BE17: =IFERROR(MID(INDEX('公式予選（TT）1Gr-結果表（貼付）'!$A:$Z,MATCH($R17,'公式予選（TT）1Gr-結果表（貼付）'!$B:$B,0),MATCH("会員番号",'公式予選（TT）1Gr-結果表（貼付）'!$1:$1,0)),5,1),"") -> 6 | BG17: =IFERROR(MID(INDEX('公式予選（TT）1Gr-結果表（貼付）'!$A:$Z,MATCH($R17,'公式予選（TT）1Gr-結果表（貼付）'!$B:$B,0),MATCH("会員番号",'公式予選（TT）1Gr-結果表（貼付）'!$1:$1,0)),6,1),"") -> b | BI17: =IFERROR(MID(INDEX('公式予選（TT）1Gr-結果表（貼付）'!$A:$Z,MATCH($R17,'公式予選（TT）1Gr-結果表（貼付）'!$B:$B,0),MATCH("会員番号",'公式予選（TT）1Gr-結果表（貼付）'!$1:$1,0)),7,1),"") -> c | BK17: =IFERROR(MID(INDEX('公式予選（TT）1Gr-結果表（貼付）'!$A:$Z,MATCH($R17,'公式予選（TT）1Gr-結果表（貼付）'!$B:$B,0),MATCH("会員番号",'公式予選（TT）1Gr-結果表（貼付）'!$1:$1,0)),8,1),"") -> 2 | BM17: =IFERROR(MID(INDEX('公式予選（TT）1Gr-結果表（貼付）'!$A:$Z,MATCH($R17,'公式予選（TT）1Gr-結果表（貼付）'!$B:$B,0),MATCH("会員番号",'公式予選（TT）1Gr-結果表（貼付）'!$1:$1,0)),9,1),"") -> 4 | BO17: =IFERROR(MID(INDEX('公式予選（TT）1Gr-結果表（貼付）'!$A:$Z,MATCH($R17,'公式予選（TT）1Gr-結果表（貼付）'!$B:$B,0),MATCH("会員番号",'公式予選（TT）1Gr-結果表（貼付）'!$1:$1,0)),10,1),"") | BQ17: =IFERROR(MID(INDEX('公式予選（TT）1Gr-結果表（貼付）'!$A:$Z,MATCH($R17,'公式予選（TT）1Gr-結果表（貼付）'!$B:$B,0),MATCH("会員番号",'公式予選（TT）1Gr-結果表（貼付）'!$1:$1,0)),11,1),"") | BS17: =IFERROR(MID(INDEX('公式予選（TT）1Gr-結果表（貼付）'!$A:$Z,MATCH($R17,'公式予選（TT）1Gr-結果表（貼付）'!$B:$B,0),MATCH("会員番号",'公式予選（TT）1Gr-結果表（貼付）'!$1:$1,0)),12,1),"") | BU17: =IFERROR(MID(INDEX('公式予選（TT）1Gr-結果表（貼付）'!$A:$Z,MATCH($R17,'公式予選（TT）1Gr-結果表（貼付）'!$B:$B,0),MATCH("会員番号",'公式予選（TT）1Gr-結果表（貼付）'!$1:$1,0)),13,1),"") | BW17: =IFERROR(MID(INDEX('公式予選（TT）1Gr-結果表（貼付）'!$A:$Z,MATCH($R17,'公式予選（TT）1Gr-結果表（貼付）'!$B:$B,0),MATCH("会員番号",'公式予選（TT）1Gr-結果表（貼付）'!$1:$1,0)),14,1),"") | BY17: =IFERROR(INDEX('公式予選（TT）1Gr-結果表（貼付）'!$A:$Z,MATCH($R17,'公式予選（TT）1Gr-結果表（貼付）'!$B:$B,0),MATCH("Team",'公式予選（TT）1Gr-結果表（貼付）'!$1:$1,0)),"") -> サーティーズレーシング | CT17: =IFERROR(INDEX('公式予選（TT）1Gr-結果表（貼付）'!$A:$Z,MATCH($R17,'公式予選（TT）1Gr-結果表（貼付）'!$B:$B,0),MATCH("Model/Engine",'公式予選（TT）1Gr-結果表（貼付）'!$1:$1,0)),"") -> mach1/YAMAHA | DN17: =IF(A17="DNS","ｽﾀｰﾄ出来ず",IF(A17="DQ","失 格",IFERROR(INDEX('公式予選（TT）1Gr-結果表（貼付）'!$A:$Z,MATCH($R17,'公式予選（TT）1Gr-結果表（貼付）'!$B:$B,0),MATCH("BestLap",'公式予選（TT）1Gr-結果表（貼付）'!$1:$1,0)),""))) -> 55.383
A18: =IF(OR('公式予選（TT）1Gr-結果表（貼付）'!A5="DNF",'公式予選（TT）1Gr-結果表（貼付）'!A5="DNS",'公式予選（TT）1Gr-結果表（貼付）'!A5="DQ"),'公式予選（TT）1Gr-結果表（貼付）'!A5,IF(MAX('公式予選（TT）1Gr-結果表（貼付）'!$A:$A)>A17,A17+1,"")) -> 4 | F18: =IF(IFERROR(INDEX('公式予選（TT）1Gr-結果表（貼付）'!$A:$Z,MATCH($R18,'公式予選（TT）1Gr-結果表（貼付）'!$B:$B,0),MATCH("クラス",'公式予選（TT）1Gr-結果表（貼付）'!$1:$1,0)),"")=0,"",IFERROR(INDEX('公式予選（TT）1Gr-結果表（貼付）'!$A:$Z,MATCH($R18,'公式予選（TT）1Gr-結果表（貼付）'!$B:$B,0),MATCH("クラス",'公式予選（TT）1Gr-結果表（貼付）'!$1:$1,0)),"")) -> SUPER SS | M18: =IF(ISTEXT(A18)=TRUE,"",IF(F18="","",IF(A18="","""",COUNTIF($F$15:F18,F18)))) -> 4 | R18: =IFERROR(INDEX('公式予選（TT）1Gr-結果表（貼付）'!A5:$Z$50,MATCH($A18,'公式予選（TT）1Gr-結果表（貼付）'!A5:$A$50,0),MATCH("No.",'公式予選（TT）1Gr-結果表（貼付）'!$1:$1,0)),"") -> 7 | W18: =IFERROR(INDEX('公式予選（TT）1Gr-結果表（貼付）'!$A:$Z,MATCH($R18,'公式予選（TT）1Gr-結果表（貼付）'!$B:$B,0),MATCH("名前",'公式予選（TT）1Gr-結果表（貼付）'!$1:$1,0)),"") -> 光田 拓 | AW18: =IFERROR(MID(INDEX('公式予選（TT）1Gr-結果表（貼付）'!$A:$Z,MATCH($R18,'公式予選（TT）1Gr-結果表（貼付）'!$B:$B,0),MATCH("会員番号",'公式予選（TT）1Gr-結果表（貼付）'!$1:$1,0)),1,1),"") -> D | AY18: =IFERROR(MID(INDEX('公式予選（TT）1Gr-結果表（貼付）'!$A:$Z,MATCH($R18,'公式予選（TT）1Gr-結果表（貼付）'!$B:$B,0),MATCH("会員番号",'公式予選（TT）1Gr-結果表（貼付）'!$1:$1,0)),2,1),"") -> 4 | BA18: =IFERROR(MID(INDEX('公式予選（TT）1Gr-結果表（貼付）'!$A:$Z,MATCH($R18,'公式予選（TT）1Gr-結果表（貼付）'!$B:$B,0),MATCH("会員番号",'公式予選（TT）1Gr-結果表（貼付）'!$1:$1,0)),3,1),"") -> c | BC18: =IFERROR(MID(INDEX('公式予選（TT）1Gr-結果表（貼付）'!$A:$Z,MATCH($R18,'公式予選（TT）1Gr-結果表（貼付）'!$B:$B,0),MATCH("会員番号",'公式予選（TT）1Gr-結果表（貼付）'!$1:$1,0)),4,1),"") -> 2 | BE18: =IFERROR(MID(INDEX('公式予選（TT）1Gr-結果表（貼付）'!$A:$Z,MATCH($R18,'公式予選（TT）1Gr-結果表（貼付）'!$B:$B,0),MATCH("会員番号",'公式予選（TT）1Gr-結果表（貼付）'!$1:$1,0)),5,1),"") -> 0 | BG18: =IFERROR(MID(INDEX('公式予選（TT）1Gr-結果表（貼付）'!$A:$Z,MATCH($R18,'公式予選（TT）1Gr-結果表（貼付）'!$B:$B,0),MATCH("会員番号",'公式予選（TT）1Gr-結果表（貼付）'!$1:$1,0)),6,1),"") -> e | BI18: =IFERROR(MID(INDEX('公式予選（TT）1Gr-結果表（貼付）'!$A:$Z,MATCH($R18,'公式予選（TT）1Gr-結果表（貼付）'!$B:$B,0),MATCH("会員番号",'公式予選（TT）1Gr-結果表（貼付）'!$1:$1,0)),7,1),"") -> 5 | BK18: =IFERROR(MID(INDEX('公式予選（TT）1Gr-結果表（貼付）'!$A:$Z,MATCH($R18,'公式予選（TT）1Gr-結果表（貼付）'!$B:$B,0),MATCH("会員番号",'公式予選（TT）1Gr-結果表（貼付）'!$1:$1,0)),8,1),"") -> a | BM18: =IFERROR(MID(INDEX('公式予選（TT）1Gr-結果表（貼付）'!$A:$Z,MATCH($R18,'公式予選（TT）1Gr-結果表（貼付）'!$B:$B,0),MATCH("会員番号",'公式予選（TT）1Gr-結果表（貼付）'!$1:$1,0)),9,1),"") -> 0 | BO18: =IFERROR(MID(INDEX('公式予選（TT）1Gr-結果表（貼付）'!$A:$Z,MATCH($R18,'公式予選（TT）1Gr-結果表（貼付）'!$B:$B,0),MATCH("会員番号",'公式予選（TT）1Gr-結果表（貼付）'!$1:$1,0)),10,1),"") | BQ18: =IFERROR(MID(INDEX('公式予選（TT）1Gr-結果表（貼付）'!$A:$Z,MATCH($R18,'公式予選（TT）1Gr-結果表（貼付）'!$B:$B,0),MATCH("会員番号",'公式予選（TT）1Gr-結果表（貼付）'!$1:$1,0)),11,1),"") | BS18: =IFERROR(MID(INDEX('公式予選（TT）1Gr-結果表（貼付）'!$A:$Z,MATCH($R18,'公式予選（TT）1Gr-結果表（貼付）'!$B:$B,0),MATCH("会員番号",'公式予選（TT）1Gr-結果表（貼付）'!$1:$1,0)),12,1),"") | BU18: =IFERROR(MID(INDEX('公式予選（TT）1Gr-結果表（貼付）'!$A:$Z,MATCH($R18,'公式予選（TT）1Gr-結果表（貼付）'!$B:$B,0),MATCH("会員番号",'公式予選（TT）1Gr-結果表（貼付）'!$1:$1,0)),13,1),"") | BW18: =IFERROR(MID(INDEX('公式予選（TT）1Gr-結果表（貼付）'!$A:$Z,MATCH($R18,'公式予選（TT）1Gr-結果表（貼付）'!$B:$B,0),MATCH("会員番号",'公式予選（TT）1Gr-結果表（貼付）'!$1:$1,0)),14,1),"") | BY18: =IFERROR(INDEX('公式予選（TT）1Gr-結果表（貼付）'!$A:$Z,MATCH($R18,'公式予選（TT）1Gr-結果表（貼付）'!$B:$B,0),MATCH("Team",'公式予選（TT）1Gr-結果表（貼付）'!$1:$1,0)),"") -> M sistem | CT18: =IFERROR(INDEX('公式予選（TT）1Gr-結果表（貼付）'!$A:$Z,MATCH($R18,'公式予選（TT）1Gr-結果表（貼付）'!$B:$B,0),MATCH("Model/Engine",'公式予選（TT）1Gr-結果表（貼付）'!$1:$1,0)),"") -> TONYKART/YAMAHA | DN18: =IF(A18="DNS","ｽﾀｰﾄ出来ず",IF(A18="DQ","失 格",IFERROR(INDEX('公式予選（TT）1Gr-結果表（貼付）'!$A:$Z,MATCH($R18,'公式予選（TT）1Gr-結果表（貼付）'!$B:$B,0),MATCH("BestLap",'公式予選（TT）1Gr-結果表（貼付）'!$1:$1,0)),""))) -> 55.401
A19: =IF(OR('公式予選（TT）1Gr-結果表（貼付）'!A6="DNF",'公式予選（TT）1Gr-結果表（貼付）'!A6="DNS",'公式予選（TT）1Gr-結果表（貼付）'!A6="DQ"),'公式予選（TT）1Gr-結果表（貼付）'!A6,IF(MAX('公式予選（TT）1Gr-結果表（貼付）'!$A:$A)>A18,A18+1,"")) -> 5 | F19: =IF(IFERROR(INDEX('公式予選（TT）1Gr-結果表（貼付）'!$A:$Z,MATCH($R19,'公式予選（TT）1Gr-結果表（貼付）'!$B:$B,0),MATCH("クラス",'公式予選（TT）1Gr-結果表（貼付）'!$1:$1,0)),"")=0,"",IFERROR(INDEX('公式予選（TT）1Gr-結果表（貼付）'!$A:$Z,MATCH($R19,'公式予選（TT）1Gr-結果表（貼付）'!$B:$B,0),MATCH("クラス",'公式予選（TT）1Gr-結果表（貼付）'!$1:$1,0)),"")) -> SUPER SS | M19: =IF(ISTEXT(A19)=TRUE,"",IF(F19="","",IF(A19="","""",COUNTIF($F$15:F19,F19)))) -> 5 | R19: =IFERROR(INDEX('公式予選（TT）1Gr-結果表（貼付）'!A6:$Z$50,MATCH($A19,'公式予選（TT）1Gr-結果表（貼付）'!A6:$A$50,0),MATCH("No.",'公式予選（TT）1Gr-結果表（貼付）'!$1:$1,0)),"") -> 73 | W19: =IFERROR(INDEX('公式予選（TT）1Gr-結果表（貼付）'!$A:$Z,MATCH($R19,'公式予選（TT）1Gr-結果表（貼付）'!$B:$B,0),MATCH("名前",'公式予選（TT）1Gr-結果表（貼付）'!$1:$1,0)),"") -> 高野 貴志 | AW19: =IFERROR(MID(INDEX('公式予選（TT）1Gr-結果表（貼付）'!$A:$Z,MATCH($R19,'公式予選（TT）1Gr-結果表（貼付）'!$B:$B,0),MATCH("会員番号",'公式予選（TT）1Gr-結果表（貼付）'!$1:$1,0)),1,1),"") -> D | AY19: =IFERROR(MID(INDEX('公式予選（TT）1Gr-結果表（貼付）'!$A:$Z,MATCH($R19,'公式予選（TT）1Gr-結果表（貼付）'!$B:$B,0),MATCH("会員番号",'公式予選（TT）1Gr-結果表（貼付）'!$1:$1,0)),2,1),"") -> f | BA19: =IFERROR(MID(INDEX('公式予選（TT）1Gr-結果表（貼付）'!$A:$Z,MATCH($R19,'公式予選（TT）1Gr-結果表（貼付）'!$B:$B,0),MATCH("会員番号",'公式予選（TT）1Gr-結果表（貼付）'!$1:$1,0)),3,1),"") -> 5 | BC19: =IFERROR(MID(INDEX('公式予選（TT）1Gr-結果表（貼付）'!$A:$Z,MATCH($R19,'公式予選（TT）1Gr-結果表（貼付）'!$B:$B,0),MATCH("会員番号",'公式予選（TT）1Gr-結果表（貼付）'!$1:$1,0)),4,1),"") -> 6 | BE19: =IFERROR(MID(INDEX('公式予選（TT）1Gr-結果表（貼付）'!$A:$Z,MATCH($R19,'公式予選（TT）1Gr-結果表（貼付）'!$B:$B,0),MATCH("会員番号",'公式予選（TT）1Gr-結果表（貼付）'!$1:$1,0)),5,1),"") -> 9 | BG19: =IFERROR(MID(INDEX('公式予選（TT）1Gr-結果表（貼付）'!$A:$Z,MATCH($R19,'公式予選（TT）1Gr-結果表（貼付）'!$B:$B,0),MATCH("会員番号",'公式予選（TT）1Gr-結果表（貼付）'!$1:$1,0)),6,1),"") -> 1 | BI19: =IFERROR(MID(INDEX('公式予選（TT）1Gr-結果表（貼付）'!$A:$Z,MATCH($R19,'公式予選（TT）1Gr-結果表（貼付）'!$B:$B,0),MATCH("会員番号",'公式予選（TT）1Gr-結果表（貼付）'!$1:$1,0)),7,1),"") -> 2 | BK19: =IFERROR(MID(INDEX('公式予選（TT）1Gr-結果表（貼付）'!$A:$Z,MATCH($R19,'公式予選（TT）1Gr-結果表（貼付）'!$B:$B,0),MATCH("会員番号",'公式予選（TT）1Gr-結果表（貼付）'!$1:$1,0)),8,1),"") -> c | BM19: =IFERROR(MID(INDEX('公式予選（TT）1Gr-結果表（貼付）'!$A:$Z,MATCH($R19,'公式予選（TT）1Gr-結果表（貼付）'!$B:$B,0),MATCH("会員番号",'公式予選（TT）1Gr-結果表（貼付）'!$1:$1,0)),9,1),"") -> 2 | BO19: =IFERROR(MID(INDEX('公式予選（TT）1Gr-結果表（貼付）'!$A:$Z,MATCH($R19,'公式予選（TT）1Gr-結果表（貼付）'!$B:$B,0),MATCH("会員番号",'公式予選（TT）1Gr-結果表（貼付）'!$1:$1,0)),10,1),"") | BQ19: =IFERROR(MID(INDEX('公式予選（TT）1Gr-結果表（貼付）'!$A:$Z,MATCH($R19,'公式予選（TT）1Gr-結果表（貼付）'!$B:$B,0),MATCH("会員番号",'公式予選（TT）1Gr-結果表（貼付）'!$1:$1,0)),11,1),"") | BS19: =IFERROR(MID(INDEX('公式予選（TT）1Gr-結果表（貼付）'!$A:$Z,MATCH($R19,'公式予選（TT）1Gr-結果表（貼付）'!$B:$B,0),MATCH("会員番号",'公式予選（TT）1Gr-結果表（貼付）'!$1:$1,0)),12,1),"") | BU19: =IFERROR(MID(INDEX('公式予選（TT）1Gr-結果表（貼付）'!$A:$Z,MATCH($R19,'公式予選（TT）1Gr-結果表（貼付）'!$B:$B,0),MATCH("会員番号",'公式予選（TT）1Gr-結果表（貼付）'!$1:$1,0)),13,1),"") | BW19: =IFERROR(MID(INDEX('公式予選（TT）1Gr-結果表（貼付）'!$A:$Z,MATCH($R19,'公式予選（TT）1Gr-結果表（貼付）'!$B:$B,0),MATCH("会員番号",'公式予選（TT）1Gr-結果表（貼付）'!$1:$1,0)),14,1),"") | BY19: =IFERROR(INDEX('公式予選（TT）1Gr-結果表（貼付）'!$A:$Z,MATCH($R19,'公式予選（TT）1Gr-結果表（貼付）'!$B:$B,0),MATCH("Team",'公式予選（TT）1Gr-結果表（貼付）'!$1:$1,0)),"") -> FIORE Motor Sports | CT19: =IFERROR(INDEX('公式予選（TT）1Gr-結果表（貼付）'!$A:$Z,MATCH($R19,'公式予選（TT）1Gr-結果表（貼付）'!$B:$B,0),MATCH("Model/Engine",'公式予選（TT）1Gr-結果表（貼付）'!$1:$1,0)),"") -> INTREPID/YAMAHA | DN19: =IF(A19="DNS","ｽﾀｰﾄ出来ず",IF(A19="DQ","失 格",IFERROR(INDEX('公式予選（TT）1Gr-結果表（貼付）'!$A:$Z,MATCH($R19,'公式予選（TT）1Gr-結果表（貼付）'!$B:$B,0),MATCH("BestLap",'公式予選（TT）1Gr-結果表（貼付）'!$1:$1,0)),""))) -> 55.715
A20: =IF(OR('公式予選（TT）1Gr-結果表（貼付）'!A7="DNF",'公式予選（TT）1Gr-結果表（貼付）'!A7="DNS",'公式予選（TT）1Gr-結果表（貼付）'!A7="DQ"),'公式予選（TT）1Gr-結果表（貼付）'!A7,IF(MAX('公式予選（TT）1Gr-結果表（貼付）'!$A:$A)>A19,A19+1,"")) -> 6 | F20: =IF(IFERROR(INDEX('公式予選（TT）1Gr-結果表（貼付）'!$A:$Z,MATCH($R20,'公式予選（TT）1Gr-結果表（貼付）'!$B:$B,0),MATCH("クラス",'公式予選（TT）1Gr-結果表（貼付）'!$1:$1,0)),"")=0,"",IFERROR(INDEX('公式予選（TT）1Gr-結果表（貼付）'!$A:$Z,MATCH($R20,'公式予選（TT）1Gr-結果表（貼付）'!$B:$B,0),MATCH("クラス",'公式予選（TT）1Gr-結果表（貼付）'!$1:$1,0)),"")) -> SUPER SS | M20: =IF(ISTEXT(A20)=TRUE,"",IF(F20="","",IF(A20="","""",COUNTIF($F$15:F20,F20)))) -> 6 | R20: =IFERROR(INDEX('公式予選（TT）1Gr-結果表（貼付）'!A7:$Z$50,MATCH($A20,'公式予選（TT）1Gr-結果表（貼付）'!A7:$A$50,0),MATCH("No.",'公式予選（TT）1Gr-結果表（貼付）'!$1:$1,0)),"") -> 57 | W20: =IFERROR(INDEX('公式予選（TT）1Gr-結果表（貼付）'!$A:$Z,MATCH($R20,'公式予選（TT）1Gr-結果表（貼付）'!$B:$B,0),MATCH("名前",'公式予選（TT）1Gr-結果表（貼付）'!$1:$1,0)),"") -> 江崎 昭彦 | AW20: =IFERROR(MID(INDEX('公式予選（TT）1Gr-結果表（貼付）'!$A:$Z,MATCH($R20,'公式予選（TT）1Gr-結果表（貼付）'!$B:$B,0),MATCH("会員番号",'公式予選（TT）1Gr-結果表（貼付）'!$1:$1,0)),1,1),"") -> D | AY20: =IFERROR(MID(INDEX('公式予選（TT）1Gr-結果表（貼付）'!$A:$Z,MATCH($R20,'公式予選（TT）1Gr-結果表（貼付）'!$B:$B,0),MATCH("会員番号",'公式予選（TT）1Gr-結果表（貼付）'!$1:$1,0)),2,1),"") -> b | BA20: =IFERROR(MID(INDEX('公式予選（TT）1Gr-結果表（貼付）'!$A:$Z,MATCH($R20,'公式予選（TT）1Gr-結果表（貼付）'!$B:$B,0),MATCH("会員番号",'公式予選（TT）1Gr-結果表（貼付）'!$1:$1,0)),3,1),"") -> b | BC20: =IFERROR(MID(INDEX('公式予選（TT）1Gr-結果表（貼付）'!$A:$Z,MATCH($R20,'公式予選（TT）1Gr-結果表（貼付）'!$B:$B,0),MATCH("会員番号",'公式予選（TT）1Gr-結果表（貼付）'!$1:$1,0)),4,1),"") -> 0 | BE20: =IFERROR(MID(INDEX('公式予選（TT）1Gr-結果表（貼付）'!$A:$Z,MATCH($R20,'公式予選（TT）1Gr-結果表（貼付）'!$B:$B,0),MATCH("会員番号",'公式予選（TT）1Gr-結果表（貼付）'!$1:$1,0)),5,1),"") -> 9 | BG20: =IFERROR(MID(INDEX('公式予選（TT）1Gr-結果表（貼付）'!$A:$Z,MATCH($R20,'公式予選（TT）1Gr-結果表（貼付）'!$B:$B,0),MATCH("会員番号",'公式予選（TT）1Gr-結果表（貼付）'!$1:$1,0)),6,1),"") -> d | BI20: =IFERROR(MID(INDEX('公式予選（TT）1Gr-結果表（貼付）'!$A:$Z,MATCH($R20,'公式予選（TT）1Gr-結果表（貼付）'!$B:$B,0),MATCH("会員番号",'公式予選（TT）1Gr-結果表（貼付）'!$1:$1,0)),7,1),"") -> 7 | BK20: =IFERROR(MID(INDEX('公式予選（TT）1Gr-結果表（貼付）'!$A:$Z,MATCH($R20,'公式予選（TT）1Gr-結果表（貼付）'!$B:$B,0),MATCH("会員番号",'公式予選（TT）1Gr-結果表（貼付）'!$1:$1,0)),8,1),"") -> 4 | BM20: =IFERROR(MID(INDEX('公式予選（TT）1Gr-結果表（貼付）'!$A:$Z,MATCH($R20,'公式予選（TT）1Gr-結果表（貼付）'!$B:$B,0),MATCH("会員番号",'公式予選（TT）1Gr-結果表（貼付）'!$1:$1,0)),9,1),"") -> 9 | BO20: =IFERROR(MID(INDEX('公式予選（TT）1Gr-結果表（貼付）'!$A:$Z,MATCH($R20,'公式予選（TT）1Gr-結果表（貼付）'!$B:$B,0),MATCH("会員番号",'公式予選（TT）1Gr-結果表（貼付）'!$1:$1,0)),10,1),"") | BQ20: =IFERROR(MID(INDEX('公式予選（TT）1Gr-結果表（貼付）'!$A:$Z,MATCH($R20,'公式予選（TT）1Gr-結果表（貼付）'!$B:$B,0),MATCH("会員番号",'公式予選（TT）1Gr-結果表（貼付）'!$1:$1,0)),11,1),"") | BS20: =IFERROR(MID(INDEX('公式予選（TT）1Gr-結果表（貼付）'!$A:$Z,MATCH($R20,'公式予選（TT）1Gr-結果表（貼付）'!$B:$B,0),MATCH("会員番号",'公式予選（TT）1Gr-結果表（貼付）'!$1:$1,0)),12,1),"") | BU20: =IFERROR(MID(INDEX('公式予選（TT）1Gr-結果表（貼付）'!$A:$Z,MATCH($R20,'公式予選（TT）1Gr-結果表（貼付）'!$B:$B,0),MATCH("会員番号",'公式予選（TT）1Gr-結果表（貼付）'!$1:$1,0)),13,1),"") | BW20: =IFERROR(MID(INDEX('公式予選（TT）1Gr-結果表（貼付）'!$A:$Z,MATCH($R20,'公式予選（TT）1Gr-結果表（貼付）'!$B:$B,0),MATCH("会員番号",'公式予選（TT）1Gr-結果表（貼付）'!$1:$1,0)),14,1),"") | BY20: =IFERROR(INDEX('公式予選（TT）1Gr-結果表（貼付）'!$A:$Z,MATCH($R20,'公式予選（TT）1Gr-結果表（貼付）'!$B:$B,0),MATCH("Team",'公式予選（TT）1Gr-結果表（貼付）'!$1:$1,0)),"") -> Ash | CT20: =IFERROR(INDEX('公式予選（TT）1Gr-結果表（貼付）'!$A:$Z,MATCH($R20,'公式予選（TT）1Gr-結果表（貼付）'!$B:$B,0),MATCH("Model/Engine",'公式予選（TT）1Gr-結果表（貼付）'!$1:$1,0)),"") -> KOSMIC/YAMAHA | DN20: =IF(A20="DNS","ｽﾀｰﾄ出来ず",IF(A20="DQ","失 格",IFERROR(INDEX('公式予選（TT）1Gr-結果表（貼付）'!$A:$Z,MATCH($R20,'公式予選（TT）1Gr-結果表（貼付）'!$B:$B,0),MATCH("BestLap",'公式予選（TT）1Gr-結果表（貼付）'!$1:$1,0)),""))) -> 55.718
A21: =IF(OR('公式予選（TT）1Gr-結果表（貼付）'!A8="DNF",'公式予選（TT）1Gr-結果表（貼付）'!A8="DNS",'公式予選（TT）1Gr-結果表（貼付）'!A8="DQ"),'公式予選（TT）1Gr-結果表（貼付）'!A8,IF(MAX('公式予選（TT）1Gr-結果表（貼付）'!$A:$A)>A20,A20+1,"")) -> 7 | F21: =IF(IFERROR(INDEX('公式予選（TT）1Gr-結果表（貼付）'!$A:$Z,MATCH($R21,'公式予選（TT）1Gr-結果表（貼付）'!$B:$B,0),MATCH("クラス",'公式予選（TT）1Gr-結果表（貼付）'!$1:$1,0)),"")=0,"",IFERROR(INDEX('公式予選（TT）1Gr-結果表（貼付）'!$A:$Z,MATCH($R21,'公式予選（TT）1Gr-結果表（貼付）'!$B:$B,0),MATCH("クラス",'公式予選（TT）1Gr-結果表（貼付）'!$1:$1,0)),"")) -> SUPER SS | M21: =IF(ISTEXT(A21)=TRUE,"",IF(F21="","",IF(A21="","""",COUNTIF($F$15:F21,F21)))) -> 7 | R21: =IFERROR(INDEX('公式予選（TT）1Gr-結果表（貼付）'!A8:$Z$50,MATCH($A21,'公式予選（TT）1Gr-結果表（貼付）'!A8:$A$50,0),MATCH("No.",'公式予選（TT）1Gr-結果表（貼付）'!$1:$1,0)),"") -> 10 | W21: =IFERROR(INDEX('公式予選（TT）1Gr-結果表（貼付）'!$A:$Z,MATCH($R21,'公式予選（TT）1Gr-結果表（貼付）'!$B:$B,0),MATCH("名前",'公式予選（TT）1Gr-結果表（貼付）'!$1:$1,0)),"") -> 布目 敬詞 | AW21: =IFERROR(MID(INDEX('公式予選（TT）1Gr-結果表（貼付）'!$A:$Z,MATCH($R21,'公式予選（TT）1Gr-結果表（貼付）'!$B:$B,0),MATCH("会員番号",'公式予選（TT）1Gr-結果表（貼付）'!$1:$1,0)),1,1),"") -> D | AY21: =IFERROR(MID(INDEX('公式予選（TT）1Gr-結果表（貼付）'!$A:$Z,MATCH($R21,'公式予選（TT）1Gr-結果表（貼付）'!$B:$B,0),MATCH("会員番号",'公式予選（TT）1Gr-結果表（貼付）'!$1:$1,0)),2,1),"") -> a | BA21: =IFERROR(MID(INDEX('公式予選（TT）1Gr-結果表（貼付）'!$A:$Z,MATCH($R21,'公式予選（TT）1Gr-結果表（貼付）'!$B:$B,0),MATCH("会員番号",'公式予選（TT）1Gr-結果表（貼付）'!$1:$1,0)),3,1),"") -> d | BC21: =IFERROR(MID(INDEX('公式予選（TT）1Gr-結果表（貼付）'!$A:$Z,MATCH($R21,'公式予選（TT）1Gr-結果表（貼付）'!$B:$B,0),MATCH("会員番号",'公式予選（TT）1Gr-結果表（貼付）'!$1:$1,0)),4,1),"") -> 2 | BE21: =IFERROR(MID(INDEX('公式予選（TT）1Gr-結果表（貼付）'!$A:$Z,MATCH($R21,'公式予選（TT）1Gr-結果表（貼付）'!$B:$B,0),MATCH("会員番号",'公式予選（TT）1Gr-結果表（貼付）'!$1:$1,0)),5,1),"") -> 0 | BG21: =IFERROR(MID(INDEX('公式予選（TT）1Gr-結果表（貼付）'!$A:$Z,MATCH($R21,'公式予選（TT）1Gr-結果表（貼付）'!$B:$B,0),MATCH("会員番号",'公式予選（TT）1Gr-結果表（貼付）'!$1:$1,0)),6,1),"") -> e | BI21: =IFERROR(MID(INDEX('公式予選（TT）1Gr-結果表（貼付）'!$A:$Z,MATCH($R21,'公式予選（TT）1Gr-結果表（貼付）'!$B:$B,0),MATCH("会員番号",'公式予選（TT）1Gr-結果表（貼付）'!$1:$1,0)),7,1),"") -> a | BK21: =IFERROR(MID(INDEX('公式予選（TT）1Gr-結果表（貼付）'!$A:$Z,MATCH($R21,'公式予選（TT）1Gr-結果表（貼付）'!$B:$B,0),MATCH("会員番号",'公式予選（TT）1Gr-結果表（貼付）'!$1:$1,0)),8,1),"") -> 4 | BM21: =IFERROR(MID(INDEX('公式予選（TT）1Gr-結果表（貼付）'!$A:$Z,MATCH($R21,'公式予選（TT）1Gr-結果表（貼付）'!$B:$B,0),MATCH("会員番号",'公式予選（TT）1Gr-結果表（貼付）'!$1:$1,0)),9,1),"") -> 0 | BO21: =IFERROR(MID(INDEX('公式予選（TT）1Gr-結果表（貼付）'!$A:$Z,MATCH($R21,'公式予選（TT）1Gr-結果表（貼付）'!$B:$B,0),MATCH("会員番号",'公式予選（TT）1Gr-結果表（貼付）'!$1:$1,0)),10,1),"") | BQ21: =IFERROR(MID(INDEX('公式予選（TT）1Gr-結果表（貼付）'!$A:$Z,MATCH($R21,'公式予選（TT）1Gr-結果表（貼付）'!$B:$B,0),MATCH("会員番号",'公式予選（TT）1Gr-結果表（貼付）'!$1:$1,0)),11,1),"") | BS21: =IFERROR(MID(INDEX('公式予選（TT）1Gr-結果表（貼付）'!$A:$Z,MATCH($R21,'公式予選（TT）1Gr-結果表（貼付）'!$B:$B,0),MATCH("会員番号",'公式予選（TT）1Gr-結果表（貼付）'!$1:$1,0)),12,1),"") | BU21: =IFERROR(MID(INDEX('公式予選（TT）1Gr-結果表（貼付）'!$A:$Z,MATCH($R21,'公式予選（TT）1Gr-結果表（貼付）'!$B:$B,0),MATCH("会員番号",'公式予選（TT）1Gr-結果表（貼付）'!$1:$1,0)),13,1),"") | BW21: =IFERROR(MID(INDEX('公式予選（TT）1Gr-結果表（貼付）'!$A:$Z,MATCH($R21,'公式予選（TT）1Gr-結果表（貼付）'!$B:$B,0),MATCH("会員番号",'公式予選（TT）1Gr-結果表（貼付）'!$1:$1,0)),14,1),"") | BY21: =IFERROR(INDEX('公式予選（TT）1Gr-結果表（貼付）'!$A:$Z,MATCH($R21,'公式予選（TT）1Gr-結果表（貼付）'!$B:$B,0),MATCH("Team",'公式予選（TT）1Gr-結果表（貼付）'!$1:$1,0)),"") -> Higuchi Racing Team | CT21: =IFERROR(INDEX('公式予選（TT）1Gr-結果表（貼付）'!$A:$Z,MATCH($R21,'公式予選（TT）1Gr-結果表（貼付）'!$B:$B,0),MATCH("Model/Engine",'公式予選（TT）1Gr-結果表（貼付）'!$1:$1,0)),"") -> TONY KART/YAMAHA | DN21: =IF(A21="DNS","ｽﾀｰﾄ出来ず",IF(A21="DQ","失 格",IFERROR(INDEX('公式予選（TT）1Gr-結果表（貼付）'!$A:$Z,MATCH($R21,'公式予選（TT）1Gr-結果表（貼付）'!$B:$B,0),MATCH("BestLap",'公式予選（TT）1Gr-結果表（貼付）'!$1:$1,0)),""))) -> 55.718
A22: =IF(OR('公式予選（TT）1Gr-結果表（貼付）'!A9="DNF",'公式予選（TT）1Gr-結果表（貼付）'!A9="DNS",'公式予選（TT）1Gr-結果表（貼付）'!A9="DQ"),'公式予選（TT）1Gr-結果表（貼付）'!A9,IF(MAX('公式予選（TT）1Gr-結果表（貼付）'!$A:$A)>A21,A21+1,"")) -> 8 | F22: =IF(IFERROR(INDEX('公式予選（TT）1Gr-結果表（貼付）'!$A:$Z,MATCH($R22,'公式予選（TT）1Gr-結果表（貼付）'!$B:$B,0),MATCH("クラス",'公式予選（TT）1Gr-結果表（貼付）'!$1:$1,0)),"")=0,"",IFERROR(INDEX('公式予選（TT）1Gr-結果表（貼付）'!$A:$Z,MATCH($R22,'公式予選（TT）1Gr-結果表（貼付）'!$B:$B,0),MATCH("クラス",'公式予選（TT）1Gr-結果表（貼付）'!$1:$1,0)),"")) -> SUPER SS | M22: =IF(ISTEXT(A22)=TRUE,"",IF(F22="","",IF(A22="","""",COUNTIF($F$15:F22,F22)))) -> 8 | R22: =IFERROR(INDEX('公式予選（TT）1Gr-結果表（貼付）'!A9:$Z$50,MATCH($A22,'公式予選（TT）1Gr-結果表（貼付）'!A9:$A$50,0),MATCH("No.",'公式予選（TT）1Gr-結果表（貼付）'!$1:$1,0)),"") -> 25 | W22: =IFERROR(INDEX('公式予選（TT）1Gr-結果表（貼付）'!$A:$Z,MATCH($R22,'公式予選（TT）1Gr-結果表（貼付）'!$B:$B,0),MATCH("名前",'公式予選（TT）1Gr-結果表（貼付）'!$1:$1,0)),"") -> 平井 秀樹 | AW22: =IFERROR(MID(INDEX('公式予選（TT）1Gr-結果表（貼付）'!$A:$Z,MATCH($R22,'公式予選（TT）1Gr-結果表（貼付）'!$B:$B,0),MATCH("会員番号",'公式予選（TT）1Gr-結果表（貼付）'!$1:$1,0)),1,1),"") -> D | AY22: =IFERROR(MID(INDEX('公式予選（TT）1Gr-結果表（貼付）'!$A:$Z,MATCH($R22,'公式予選（TT）1Gr-結果表（貼付）'!$B:$B,0),MATCH("会員番号",'公式予選（TT）1Gr-結果表（貼付）'!$1:$1,0)),2,1),"") -> 1 | BA22: =IFERROR(MID(INDEX('公式予選（TT）1Gr-結果表（貼付）'!$A:$Z,MATCH($R22,'公式予選（TT）1Gr-結果表（貼付）'!$B:$B,0),MATCH("会員番号",'公式予選（TT）1Gr-結果表（貼付）'!$1:$1,0)),3,1),"") -> c | BC22: =IFERROR(MID(INDEX('公式予選（TT）1Gr-結果表（貼付）'!$A:$Z,MATCH($R22,'公式予選（TT）1Gr-結果表（貼付）'!$B:$B,0),MATCH("会員番号",'公式予選（TT）1Gr-結果表（貼付）'!$1:$1,0)),4,1),"") -> f | BE22: =IFERROR(MID(INDEX('公式予選（TT）1Gr-結果表（貼付）'!$A:$Z,MATCH($R22,'公式予選（TT）1Gr-結果表（貼付）'!$B:$B,0),MATCH("会員番号",'公式予選（TT）1Gr-結果表（貼付）'!$1:$1,0)),5,1),"") -> 2 | BG22: =IFERROR(MID(INDEX('公式予選（TT）1Gr-結果表（貼付）'!$A:$Z,MATCH($R22,'公式予選（TT）1Gr-結果表（貼付）'!$B:$B,0),MATCH("会員番号",'公式予選（TT）1Gr-結果表（貼付）'!$1:$1,0)),6,1),"") -> e | BI22: =IFERROR(MID(INDEX('公式予選（TT）1Gr-結果表（貼付）'!$A:$Z,MATCH($R22,'公式予選（TT）1Gr-結果表（貼付）'!$B:$B,0),MATCH("会員番号",'公式予選（TT）1Gr-結果表（貼付）'!$1:$1,0)),7,1),"") -> 0 | BK22: =IFERROR(MID(INDEX('公式予選（TT）1Gr-結果表（貼付）'!$A:$Z,MATCH($R22,'公式予選（TT）1Gr-結果表（貼付）'!$B:$B,0),MATCH("会員番号",'公式予選（TT）1Gr-結果表（貼付）'!$1:$1,0)),8,1),"") -> 0 | BM22: =IFERROR(MID(INDEX('公式予選（TT）1Gr-結果表（貼付）'!$A:$Z,MATCH($R22,'公式予選（TT）1Gr-結果表（貼付）'!$B:$B,0),MATCH("会員番号",'公式予選（TT）1Gr-結果表（貼付）'!$1:$1,0)),9,1),"") -> e | BO22: =IFERROR(MID(INDEX('公式予選（TT）1Gr-結果表（貼付）'!$A:$Z,MATCH($R22,'公式予選（TT）1Gr-結果表（貼付）'!$B:$B,0),MATCH("会員番号",'公式予選（TT）1Gr-結果表（貼付）'!$1:$1,0)),10,1),"") | BQ22: =IFERROR(MID(INDEX('公式予選（TT）1Gr-結果表（貼付）'!$A:$Z,MATCH($R22,'公式予選（TT）1Gr-結果表（貼付）'!$B:$B,0),MATCH("会員番号",'公式予選（TT）1Gr-結果表（貼付）'!$1:$1,0)),11,1),"") | BS22: =IFERROR(MID(INDEX('公式予選（TT）1Gr-結果表（貼付）'!$A:$Z,MATCH($R22,'公式予選（TT）1Gr-結果表（貼付）'!$B:$B,0),MATCH("会員番号",'公式予選（TT）1Gr-結果表（貼付）'!$1:$1,0)),12,1),"") | BU22: =IFERROR(MID(INDEX('公式予選（TT）1Gr-結果表（貼付）'!$A:$Z,MATCH($R22,'公式予選（TT）1Gr-結果表（貼付）'!$B:$B,0),MATCH("会員番号",'公式予選（TT）1Gr-結果表（貼付）'!$1:$1,0)),13,1),"") | BW22: =IFERROR(MID(INDEX('公式予選（TT）1Gr-結果表（貼付）'!$A:$Z,MATCH($R22,'公式予選（TT）1Gr-結果表（貼付）'!$B:$B,0),MATCH("会員番号",'公式予選（TT）1Gr-結果表（貼付）'!$1:$1,0)),14,1),"") | BY22: =IFERROR(INDEX('公式予選（TT）1Gr-結果表（貼付）'!$A:$Z,MATCH($R22,'公式予選（TT）1Gr-結果表（貼付）'!$B:$B,0),MATCH("Team",'公式予選（TT）1Gr-結果表（貼付）'!$1:$1,0)),"") -> K-TECK with ぴぃたぁぱん | CT22: =IFERROR(INDEX('公式予選（TT）1Gr-結果表（貼付）'!$A:$Z,MATCH($R22,'公式予選（TT）1Gr-結果表（貼付）'!$B:$B,0),MATCH("Model/Engine",'公式予選（TT）1Gr-結果表（貼付）'!$1:$1,0)),"") -> コスミック/YAMAHA | DN22: =IF(A22="DNS","ｽﾀｰﾄ出来ず",IF(A22="DQ","失 格",IFERROR(INDEX('公式予選（TT）1Gr-結果表（貼付）'!$A:$Z,MATCH($R22,'公式予選（TT）1Gr-結果表（貼付）'!$B:$B,0),MATCH("BestLap",'公式予選（TT）1Gr-結果表（貼付）'!$1:$1,0)),""))) -> 55.839
A23: =IF(OR('公式予選（TT）1Gr-結果表（貼付）'!A10="DNF",'公式予選（TT）1Gr-結果表（貼付）'!A10="DNS",'公式予選（TT）1Gr-結果表（貼付）'!A10="DQ"),'公式予選（TT）1Gr-結果表（貼付）'!A10,IF(MAX('公式予選（TT）1Gr-結果表（貼付）'!$A:$A)>A22,A22+1,"")) -> 9 | F23: =IF(IFERROR(INDEX('公式予選（TT）1Gr-結果表（貼付）'!$A:$Z,MATCH($R23,'公式予選（TT）1Gr-結果表（貼付）'!$B:$B,0),MATCH("クラス",'公式予選（TT）1Gr-結果表（貼付）'!$1:$1,0)),"")=0,"",IFERROR(INDEX('公式予選（TT）1Gr-結果表（貼付）'!$A:$Z,MATCH($R23,'公式予選（TT）1Gr-結果表（貼付）'!$B:$B,0),MATCH("クラス",'公式予選（TT）1Gr-結果表（貼付）'!$1:$1,0)),"")) -> SUPER SS | M23: =IF(ISTEXT(A23)=TRUE,"",IF(F23="","",IF(A23="","""",COUNTIF($F$15:F23,F23)))) -> 9 | R23: =IFERROR(INDEX('公式予選（TT）1Gr-結果表（貼付）'!A10:$Z$50,MATCH($A23,'公式予選（TT）1Gr-結果表（貼付）'!A10:$A$50,0),MATCH("No.",'公式予選（TT）1Gr-結果表（貼付）'!$1:$1,0)),"") -> 77 | W23: =IFERROR(INDEX('公式予選（TT）1Gr-結果表（貼付）'!$A:$Z,MATCH($R23,'公式予選（TT）1Gr-結果表（貼付）'!$B:$B,0),MATCH("名前",'公式予選（TT）1Gr-結果表（貼付）'!$1:$1,0)),"") -> 永川 悠太 | AW23: =IFERROR(MID(INDEX('公式予選（TT）1Gr-結果表（貼付）'!$A:$Z,MATCH($R23,'公式予選（TT）1Gr-結果表（貼付）'!$B:$B,0),MATCH("会員番号",'公式予選（TT）1Gr-結果表（貼付）'!$1:$1,0)),1,1),"") -> D | AY23: =IFERROR(MID(INDEX('公式予選（TT）1Gr-結果表（貼付）'!$A:$Z,MATCH($R23,'公式予選（TT）1Gr-結果表（貼付）'!$B:$B,0),MATCH("会員番号",'公式予選（TT）1Gr-結果表（貼付）'!$1:$1,0)),2,1),"") -> 3 | BA23: =IFERROR(MID(INDEX('公式予選（TT）1Gr-結果表（貼付）'!$A:$Z,MATCH($R23,'公式予選（TT）1Gr-結果表（貼付）'!$B:$B,0),MATCH("会員番号",'公式予選（TT）1Gr-結果表（貼付）'!$1:$1,0)),3,1),"") -> 4 | BC23: =IFERROR(MID(INDEX('公式予選（TT）1Gr-結果表（貼付）'!$A:$Z,MATCH($R23,'公式予選（TT）1Gr-結果表（貼付）'!$B:$B,0),MATCH("会員番号",'公式予選（TT）1Gr-結果表（貼付）'!$1:$1,0)),4,1),"") -> a | BE23: =IFERROR(MID(INDEX('公式予選（TT）1Gr-結果表（貼付）'!$A:$Z,MATCH($R23,'公式予選（TT）1Gr-結果表（貼付）'!$B:$B,0),MATCH("会員番号",'公式予選（TT）1Gr-結果表（貼付）'!$1:$1,0)),5,1),"") -> f | BG23: =IFERROR(MID(INDEX('公式予選（TT）1Gr-結果表（貼付）'!$A:$Z,MATCH($R23,'公式予選（TT）1Gr-結果表（貼付）'!$B:$B,0),MATCH("会員番号",'公式予選（TT）1Gr-結果表（貼付）'!$1:$1,0)),6,1),"") -> 5 | BI23: =IFERROR(MID(INDEX('公式予選（TT）1Gr-結果表（貼付）'!$A:$Z,MATCH($R23,'公式予選（TT）1Gr-結果表（貼付）'!$B:$B,0),MATCH("会員番号",'公式予選（TT）1Gr-結果表（貼付）'!$1:$1,0)),7,1),"") -> 0 | BK23: =IFERROR(MID(INDEX('公式予選（TT）1Gr-結果表（貼付）'!$A:$Z,MATCH($R23,'公式予選（TT）1Gr-結果表（貼付）'!$B:$B,0),MATCH("会員番号",'公式予選（TT）1Gr-結果表（貼付）'!$1:$1,0)),8,1),"") -> 1 | BM23: =IFERROR(MID(INDEX('公式予選（TT）1Gr-結果表（貼付）'!$A:$Z,MATCH($R23,'公式予選（TT）1Gr-結果表（貼付）'!$B:$B,0),MATCH("会員番号",'公式予選（TT）1Gr-結果表（貼付）'!$1:$1,0)),9,1),"") -> 5 | BO23: =IFERROR(MID(INDEX('公式予選（TT）1Gr-結果表（貼付）'!$A:$Z,MATCH($R23,'公式予選（TT）1Gr-結果表（貼付）'!$B:$B,0),MATCH("会員番号",'公式予選（TT）1Gr-結果表（貼付）'!$1:$1,0)),10,1),"") | BQ23: =IFERROR(MID(INDEX('公式予選（TT）1Gr-結果表（貼付）'!$A:$Z,MATCH($R23,'公式予選（TT）1Gr-結果表（貼付）'!$B:$B,0),MATCH("会員番号",'公式予選（TT）1Gr-結果表（貼付）'!$1:$1,0)),11,1),"") | BS23: =IFERROR(MID(INDEX('公式予選（TT）1Gr-結果表（貼付）'!$A:$Z,MATCH($R23,'公式予選（TT）1Gr-結果表（貼付）'!$B:$B,0),MATCH("会員番号",'公式予選（TT）1Gr-結果表（貼付）'!$1:$1,0)),12,1),"") | BU23: =IFERROR(MID(INDEX('公式予選（TT）1Gr-結果表（貼付）'!$A:$Z,MATCH($R23,'公式予選（TT）1Gr-結果表（貼付）'!$B:$B,0),MATCH("会員番号",'公式予選（TT）1Gr-結果表（貼付）'!$1:$1,0)),13,1),"") | BW23: =IFERROR(MID(INDEX('公式予選（TT）1Gr-結果表（貼付）'!$A:$Z,MATCH($R23,'公式予選（TT）1Gr-結果表（貼付）'!$B:$B,0),MATCH("会員番号",'公式予選（TT）1Gr-結果表（貼付）'!$1:$1,0)),14,1),"") | BY23: =IFERROR(INDEX('公式予選（TT）1Gr-結果表（貼付）'!$A:$Z,MATCH($R23,'公式予選（TT）1Gr-結果表（貼付）'!$B:$B,0),MATCH("Team",'公式予選（TT）1Gr-結果表（貼付）'!$1:$1,0)),"") -> のりものクラブ EGazooRacing with WEST | CT23: =IFERROR(INDEX('公式予選（TT）1Gr-結果表（貼付）'!$A:$Z,MATCH($R23,'公式予選（TT）1Gr-結果表（貼付）'!$B:$B,0),MATCH("Model/Engine",'公式予選（TT）1Gr-結果表（貼付）'!$1:$1,0)),"") -> DRAGO CORSE/YAMAHA | DN23: =IF(A23="DNS","ｽﾀｰﾄ出来ず",IF(A23="DQ","失 格",IFERROR(INDEX('公式予選（TT）1Gr-結果表（貼付）'!$A:$Z,MATCH($R23,'公式予選（TT）1Gr-結果表（貼付）'!$B:$B,0),MATCH("BestLap",'公式予選（TT）1Gr-結果表（貼付）'!$1:$1,0)),""))) -> 55.864
A24: =IF(OR('公式予選（TT）1Gr-結果表（貼付）'!A11="DNF",'公式予選（TT）1Gr-結果表（貼付）'!A11="DNS",'公式予選（TT）1Gr-結果表（貼付）'!A11="DQ"),'公式予選（TT）1Gr-結果表（貼付）'!A11,IF(MAX('公式予選（TT）1Gr-結果表（貼付）'!$A:$A)>A23,A23+1,"")) -> 10 | F24: =IF(IFERROR(INDEX('公式予選（TT）1Gr-結果表（貼付）'!$A:$Z,MATCH($R24,'公式予選（TT）1Gr-結果表（貼付）'!$B:$B,0),MATCH("クラス",'公式予選（TT）1Gr-結果表（貼付）'!$1:$1,0)),"")=0,"",IFERROR(INDEX('公式予選（TT）1Gr-結果表（貼付）'!$A:$Z,MATCH($R24,'公式予選（TT）1Gr-結果表（貼付）'!$B:$B,0),MATCH("クラス",'公式予選（TT）1Gr-結果表（貼付）'!$1:$1,0)),"")) -> SUPER SS | M24: =IF(ISTEXT(A24)=TRUE,"",IF(F24="","",IF(A24="","""",COUNTIF($F$15:F24,F24)))) -> 10 | R24: =IFERROR(INDEX('公式予選（TT）1Gr-結果表（貼付）'!A11:$Z$50,MATCH($A24,'公式予選（TT）1Gr-結果表（貼付）'!A11:$A$50,0),MATCH("No.",'公式予選（TT）1Gr-結果表（貼付）'!$1:$1,0)),"") -> 19 | W24: =IFERROR(INDEX('公式予選（TT）1Gr-結果表（貼付）'!$A:$Z,MATCH($R24,'公式予選（TT）1Gr-結果表（貼付）'!$B:$B,0),MATCH("名前",'公式予選（TT）1Gr-結果表（貼付）'!$1:$1,0)),"") -> 岸 秀行 | AW24: =IFERROR(MID(INDEX('公式予選（TT）1Gr-結果表（貼付）'!$A:$Z,MATCH($R24,'公式予選（TT）1Gr-結果表（貼付）'!$B:$B,0),MATCH("会員番号",'公式予選（TT）1Gr-結果表（貼付）'!$1:$1,0)),1,1),"") -> D | AY24: =IFERROR(MID(INDEX('公式予選（TT）1Gr-結果表（貼付）'!$A:$Z,MATCH($R24,'公式予選（TT）1Gr-結果表（貼付）'!$B:$B,0),MATCH("会員番号",'公式予選（TT）1Gr-結果表（貼付）'!$1:$1,0)),2,1),"") -> 8 | BA24: =IFERROR(MID(INDEX('公式予選（TT）1Gr-結果表（貼付）'!$A:$Z,MATCH($R24,'公式予選（TT）1Gr-結果表（貼付）'!$B:$B,0),MATCH("会員番号",'公式予選（TT）1Gr-結果表（貼付）'!$1:$1,0)),3,1),"") -> 6 | BC24: =IFERROR(MID(INDEX('公式予選（TT）1Gr-結果表（貼付）'!$A:$Z,MATCH($R24,'公式予選（TT）1Gr-結果表（貼付）'!$B:$B,0),MATCH("会員番号",'公式予選（TT）1Gr-結果表（貼付）'!$1:$1,0)),4,1),"") -> e | BE24: =IFERROR(MID(INDEX('公式予選（TT）1Gr-結果表（貼付）'!$A:$Z,MATCH($R24,'公式予選（TT）1Gr-結果表（貼付）'!$B:$B,0),MATCH("会員番号",'公式予選（TT）1Gr-結果表（貼付）'!$1:$1,0)),5,1),"") -> c | BG24: =IFERROR(MID(INDEX('公式予選（TT）1Gr-結果表（貼付）'!$A:$Z,MATCH($R24,'公式予選（TT）1Gr-結果表（貼付）'!$B:$B,0),MATCH("会員番号",'公式予選（TT）1Gr-結果表（貼付）'!$1:$1,0)),6,1),"") -> 8 | BI24: =IFERROR(MID(INDEX('公式予選（TT）1Gr-結果表（貼付）'!$A:$Z,MATCH($R24,'公式予選（TT）1Gr-結果表（貼付）'!$B:$B,0),MATCH("会員番号",'公式予選（TT）1Gr-結果表（貼付）'!$1:$1,0)),7,1),"") -> 6 | BK24: =IFERROR(MID(INDEX('公式予選（TT）1Gr-結果表（貼付）'!$A:$Z,MATCH($R24,'公式予選（TT）1Gr-結果表（貼付）'!$B:$B,0),MATCH("会員番号",'公式予選（TT）1Gr-結果表（貼付）'!$1:$1,0)),8,1),"") -> 7 | BM24: =IFERROR(MID(INDEX('公式予選（TT）1Gr-結果表（貼付）'!$A:$Z,MATCH($R24,'公式予選（TT）1Gr-結果表（貼付）'!$B:$B,0),MATCH("会員番号",'公式予選（TT）1Gr-結果表（貼付）'!$1:$1,0)),9,1),"") -> 8 | BO24: =IFERROR(MID(INDEX('公式予選（TT）1Gr-結果表（貼付）'!$A:$Z,MATCH($R24,'公式予選（TT）1Gr-結果表（貼付）'!$B:$B,0),MATCH("会員番号",'公式予選（TT）1Gr-結果表（貼付）'!$1:$1,0)),10,1),"") | BQ24: =IFERROR(MID(INDEX('公式予選（TT）1Gr-結果表（貼付）'!$A:$Z,MATCH($R24,'公式予選（TT）1Gr-結果表（貼付）'!$B:$B,0),MATCH("会員番号",'公式予選（TT）1Gr-結果表（貼付）'!$1:$1,0)),11,1),"") | BS24: =IFERROR(MID(INDEX('公式予選（TT）1Gr-結果表（貼付）'!$A:$Z,MATCH($R24,'公式予選（TT）1Gr-結果表（貼付）'!$B:$B,0),MATCH("会員番号",'公式予選（TT）1Gr-結果表（貼付）'!$1:$1,0)),12,1),"") | BU24: =IFERROR(MID(INDEX('公式予選（TT）1Gr-結果表（貼付）'!$A:$Z,MATCH($R24,'公式予選（TT）1Gr-結果表（貼付）'!$B:$B,0),MATCH("会員番号",'公式予選（TT）1Gr-結果表（貼付）'!$1:$1,0)),13,1),"") | BW24: =IFERROR(MID(INDEX('公式予選（TT）1Gr-結果表（貼付）'!$A:$Z,MATCH($R24,'公式予選（TT）1Gr-結果表（貼付）'!$B:$B,0),MATCH("会員番号",'公式予選（TT）1Gr-結果表（貼付）'!$1:$1,0)),14,1),"") | BY24: =IFERROR(INDEX('公式予選（TT）1Gr-結果表（貼付）'!$A:$Z,MATCH($R24,'公式予選（TT）1Gr-結果表（貼付）'!$B:$B,0),MATCH("Team",'公式予選（TT）1Gr-結果表（貼付）'!$1:$1,0)),"") -> チームナガオ・大阪鶴見法律事務所 | CT24: =IFERROR(INDEX('公式予選（TT）1Gr-結果表（貼付）'!$A:$Z,MATCH($R24,'公式予選（TT）1Gr-結果表（貼付）'!$B:$B,0),MATCH("Model/Engine",'公式予選（TT）1Gr-結果表（貼付）'!$1:$1,0)),"") -> コスミック/YAMAHA | DN24: =IF(A24="DNS","ｽﾀｰﾄ出来ず",IF(A24="DQ","失 格",IFERROR(INDEX('公式予選（TT）1Gr-結果表（貼付）'!$A:$Z,MATCH($R24,'公式予選（TT）1Gr-結果表（貼付）'!$B:$B,0),MATCH("BestLap",'公式予選（TT）1Gr-結果表（貼付）'!$1:$1,0)),""))) -> 55.879
A25: =IF(OR('公式予選（TT）1Gr-結果表（貼付）'!A12="DNF",'公式予選（TT）1Gr-結果表（貼付）'!A12="DNS",'公式予選（TT）1Gr-結果表（貼付）'!A12="DQ"),'公式予選（TT）1Gr-結果表（貼付）'!A12,IF(MAX('公式予選（TT）1Gr-結果表（貼付）'!$A:$A)>A24,A24+1,"")) -> 11 | F25: =IF(IFERROR(INDEX('公式予選（TT）1Gr-結果表（貼付）'!$A:$Z,MATCH($R25,'公式予選（TT）1Gr-結果表（貼付）'!$B:$B,0),MATCH("クラス",'公式予選（TT）1Gr-結果表（貼付）'!$1:$1,0)),"")=0,"",IFERROR(INDEX('公式予選（TT）1Gr-結果表（貼付）'!$A:$Z,MATCH($R25,'公式予選（TT）1Gr-結果表（貼付）'!$B:$B,0),MATCH("クラス",'公式予選（TT）1Gr-結果表（貼付）'!$1:$1,0)),"")) -> SUPER SS | M25: =IF(ISTEXT(A25)=TRUE,"",IF(F25="","",IF(A25="","""",COUNTIF($F$15:F25,F25)))) -> 11 | R25: =IFERROR(INDEX('公式予選（TT）1Gr-結果表（貼付）'!A12:$Z$50,MATCH($A25,'公式予選（TT）1Gr-結果表（貼付）'!A12:$A$50,0),MATCH("No.",'公式予選（TT）1Gr-結果表（貼付）'!$1:$1,0)),"") -> 45 | W25: =IFERROR(INDEX('公式予選（TT）1Gr-結果表（貼付）'!$A:$Z,MATCH($R25,'公式予選（TT）1Gr-結果表（貼付）'!$B:$B,0),MATCH("名前",'公式予選（TT）1Gr-結果表（貼付）'!$1:$1,0)),"") -> 三浦 淳 | AW25: =IFERROR(MID(INDEX('公式予選（TT）1Gr-結果表（貼付）'!$A:$Z,MATCH($R25,'公式予選（TT）1Gr-結果表（貼付）'!$B:$B,0),MATCH("会員番号",'公式予選（TT）1Gr-結果表（貼付）'!$1:$1,0)),1,1),"") -> D | AY25: =IFERROR(MID(INDEX('公式予選（TT）1Gr-結果表（貼付）'!$A:$Z,MATCH($R25,'公式予選（TT）1Gr-結果表（貼付）'!$B:$B,0),MATCH("会員番号",'公式予選（TT）1Gr-結果表（貼付）'!$1:$1,0)),2,1),"") -> 9 | BA25: =IFERROR(MID(INDEX('公式予選（TT）1Gr-結果表（貼付）'!$A:$Z,MATCH($R25,'公式予選（TT）1Gr-結果表（貼付）'!$B:$B,0),MATCH("会員番号",'公式予選（TT）1Gr-結果表（貼付）'!$1:$1,0)),3,1),"") -> c | BC25: =IFERROR(MID(INDEX('公式予選（TT）1Gr-結果表（貼付）'!$A:$Z,MATCH($R25,'公式予選（TT）1Gr-結果表（貼付）'!$B:$B,0),MATCH("会員番号",'公式予選（TT）1Gr-結果表（貼付）'!$1:$1,0)),4,1),"") -> 3 | BE25: =IFERROR(MID(INDEX('公式予選（TT）1Gr-結果表（貼付）'!$A:$Z,MATCH($R25,'公式予選（TT）1Gr-結果表（貼付）'!$B:$B,0),MATCH("会員番号",'公式予選（TT）1Gr-結果表（貼付）'!$1:$1,0)),5,1),"") -> 9 | BG25: =IFERROR(MID(INDEX('公式予選（TT）1Gr-結果表（貼付）'!$A:$Z,MATCH($R25,'公式予選（TT）1Gr-結果表（貼付）'!$B:$B,0),MATCH("会員番号",'公式予選（TT）1Gr-結果表（貼付）'!$1:$1,0)),6,1),"") -> b | BI25: =IFERROR(MID(INDEX('公式予選（TT）1Gr-結果表（貼付）'!$A:$Z,MATCH($R25,'公式予選（TT）1Gr-結果表（貼付）'!$B:$B,0),MATCH("会員番号",'公式予選（TT）1Gr-結果表（貼付）'!$1:$1,0)),7,1),"") -> d | BK25: =IFERROR(MID(INDEX('公式予選（TT）1Gr-結果表（貼付）'!$A:$Z,MATCH($R25,'公式予選（TT）1Gr-結果表（貼付）'!$B:$B,0),MATCH("会員番号",'公式予選（TT）1Gr-結果表（貼付）'!$1:$1,0)),8,1),"") -> 8 | BM25: =IFERROR(MID(INDEX('公式予選（TT）1Gr-結果表（貼付）'!$A:$Z,MATCH($R25,'公式予選（TT）1Gr-結果表（貼付）'!$B:$B,0),MATCH("会員番号",'公式予選（TT）1Gr-結果表（貼付）'!$1:$1,0)),9,1),"") -> d | BO25: =IFERROR(MID(INDEX('公式予選（TT）1Gr-結果表（貼付）'!$A:$Z,MATCH($R25,'公式予選（TT）1Gr-結果表（貼付）'!$B:$B,0),MATCH("会員番号",'公式予選（TT）1Gr-結果表（貼付）'!$1:$1,0)),10,1),"") | BQ25: =IFERROR(MID(INDEX('公式予選（TT）1Gr-結果表（貼付）'!$A:$Z,MATCH($R25,'公式予選（TT）1Gr-結果表（貼付）'!$B:$B,0),MATCH("会員番号",'公式予選（TT）1Gr-結果表（貼付）'!$1:$1,0)),11,1),"") | BS25: =IFERROR(MID(INDEX('公式予選（TT）1Gr-結果表（貼付）'!$A:$Z,MATCH($R25,'公式予選（TT）1Gr-結果表（貼付）'!$B:$B,0),MATCH("会員番号",'公式予選（TT）1Gr-結果表（貼付）'!$1:$1,0)),12,1),"") | BU25: =IFERROR(MID(INDEX('公式予選（TT）1Gr-結果表（貼付）'!$A:$Z,MATCH($R25,'公式予選（TT）1Gr-結果表（貼付）'!$B:$B,0),MATCH("会員番号",'公式予選（TT）1Gr-結果表（貼付）'!$1:$1,0)),13,1),"") | BW25: =IFERROR(MID(INDEX('公式予選（TT）1Gr-結果表（貼付）'!$A:$Z,MATCH($R25,'公式予選（TT）1Gr-結果表（貼付）'!$B:$B,0),MATCH("会員番号",'公式予選（TT）1Gr-結果表（貼付）'!$1:$1,0)),14,1),"") | BY25: =IFERROR(INDEX('公式予選（TT）1Gr-結果表（貼付）'!$A:$Z,MATCH($R25,'公式予選（TT）1Gr-結果表（貼付）'!$B:$B,0),MATCH("Team",'公式予選（TT）1Gr-結果表（貼付）'!$1:$1,0)),"") -> 堺レーシング | CT25: =IFERROR(INDEX('公式予選（TT）1Gr-結果表（貼付）'!$A:$Z,MATCH($R25,'公式予選（TT）1Gr-結果表（貼付）'!$B:$B,0),MATCH("Model/Engine",'公式予選（TT）1Gr-結果表（貼付）'!$1:$1,0)),"") -> SWF/YAMAHA | DN25: =IF(A25="DNS","ｽﾀｰﾄ出来ず",IF(A25="DQ","失 格",IFERROR(INDEX('公式予選（TT）1Gr-結果表（貼付）'!$A:$Z,MATCH($R25,'公式予選（TT）1Gr-結果表（貼付）'!$B:$B,0),MATCH("BestLap",'公式予選（TT）1Gr-結果表（貼付）'!$1:$1,0)),""))) -> 55.911
A26: =IF(OR('公式予選（TT）1Gr-結果表（貼付）'!A13="DNF",'公式予選（TT）1Gr-結果表（貼付）'!A13="DNS",'公式予選（TT）1Gr-結果表（貼付）'!A13="DQ"),'公式予選（TT）1Gr-結果表（貼付）'!A13,IF(MAX('公式予選（TT）1Gr-結果表（貼付）'!$A:$A)>A25,A25+1,"")) -> 12 | F26: =IF(IFERROR(INDEX('公式予選（TT）1Gr-結果表（貼付）'!$A:$Z,MATCH($R26,'公式予選（TT）1Gr-結果表（貼付）'!$B:$B,0),MATCH("クラス",'公式予選（TT）1Gr-結果表（貼付）'!$1:$1,0)),"")=0,"",IFERROR(INDEX('公式予選（TT）1Gr-結果表（貼付）'!$A:$Z,MATCH($R26,'公式予選（TT）1Gr-結果表（貼付）'!$B:$B,0),MATCH("クラス",'公式予選（TT）1Gr-結果表（貼付）'!$1:$1,0)),"")) -> SUPER SS | M26: =IF(ISTEXT(A26)=TRUE,"",IF(F26="","",IF(A26="","""",COUNTIF($F$15:F26,F26)))) -> 12 | R26: =IFERROR(INDEX('公式予選（TT）1Gr-結果表（貼付）'!A13:$Z$50,MATCH($A26,'公式予選（TT）1Gr-結果表（貼付）'!A13:$A$50,0),MATCH("No.",'公式予選（TT）1Gr-結果表（貼付）'!$1:$1,0)),"") -> 52 | W26: =IFERROR(INDEX('公式予選（TT）1Gr-結果表（貼付）'!$A:$Z,MATCH($R26,'公式予選（TT）1Gr-結果表（貼付）'!$B:$B,0),MATCH("名前",'公式予選（TT）1Gr-結果表（貼付）'!$1:$1,0)),"") -> 佐藤 正規 | AW26: =IFERROR(MID(INDEX('公式予選（TT）1Gr-結果表（貼付）'!$A:$Z,MATCH($R26,'公式予選（TT）1Gr-結果表（貼付）'!$B:$B,0),MATCH("会員番号",'公式予選（TT）1Gr-結果表（貼付）'!$1:$1,0)),1,1),"") -> D | AY26: =IFERROR(MID(INDEX('公式予選（TT）1Gr-結果表（貼付）'!$A:$Z,MATCH($R26,'公式予選（TT）1Gr-結果表（貼付）'!$B:$B,0),MATCH("会員番号",'公式予選（TT）1Gr-結果表（貼付）'!$1:$1,0)),2,1),"") -> c | BA26: =IFERROR(MID(INDEX('公式予選（TT）1Gr-結果表（貼付）'!$A:$Z,MATCH($R26,'公式予選（TT）1Gr-結果表（貼付）'!$B:$B,0),MATCH("会員番号",'公式予選（TT）1Gr-結果表（貼付）'!$1:$1,0)),3,1),"") -> 2 | BC26: =IFERROR(MID(INDEX('公式予選（TT）1Gr-結果表（貼付）'!$A:$Z,MATCH($R26,'公式予選（TT）1Gr-結果表（貼付）'!$B:$B,0),MATCH("会員番号",'公式予選（TT）1Gr-結果表（貼付）'!$1:$1,0)),4,1),"") -> a | BE26: =IFERROR(MID(INDEX('公式予選（TT）1Gr-結果表（貼付）'!$A:$Z,MATCH($R26,'公式予選（TT）1Gr-結果表（貼付）'!$B:$B,0),MATCH("会員番号",'公式予選（TT）1Gr-結果表（貼付）'!$1:$1,0)),5,1),"") -> e | BG26: =IFERROR(MID(INDEX('公式予選（TT）1Gr-結果表（貼付）'!$A:$Z,MATCH($R26,'公式予選（TT）1Gr-結果表（貼付）'!$B:$B,0),MATCH("会員番号",'公式予選（TT）1Gr-結果表（貼付）'!$1:$1,0)),6,1),"") -> 3 | BI26: =IFERROR(MID(INDEX('公式予選（TT）1Gr-結果表（貼付）'!$A:$Z,MATCH($R26,'公式予選（TT）1Gr-結果表（貼付）'!$B:$B,0),MATCH("会員番号",'公式予選（TT）1Gr-結果表（貼付）'!$1:$1,0)),7,1),"") -> 8 | BK26: =IFERROR(MID(INDEX('公式予選（TT）1Gr-結果表（貼付）'!$A:$Z,MATCH($R26,'公式予選（TT）1Gr-結果表（貼付）'!$B:$B,0),MATCH("会員番号",'公式予選（TT）1Gr-結果表（貼付）'!$1:$1,0)),8,1),"") -> f | BM26: =IFERROR(MID(INDEX('公式予選（TT）1Gr-結果表（貼付）'!$A:$Z,MATCH($R26,'公式予選（TT）1Gr-結果表（貼付）'!$B:$B,0),MATCH("会員番号",'公式予選（TT）1Gr-結果表（貼付）'!$1:$1,0)),9,1),"") -> 6 | BO26: =IFERROR(MID(INDEX('公式予選（TT）1Gr-結果表（貼付）'!$A:$Z,MATCH($R26,'公式予選（TT）1Gr-結果表（貼付）'!$B:$B,0),MATCH("会員番号",'公式予選（TT）1Gr-結果表（貼付）'!$1:$1,0)),10,1),"") | BQ26: =IFERROR(MID(INDEX('公式予選（TT）1Gr-結果表（貼付）'!$A:$Z,MATCH($R26,'公式予選（TT）1Gr-結果表（貼付）'!$B:$B,0),MATCH("会員番号",'公式予選（TT）1Gr-結果表（貼付）'!$1:$1,0)),11,1),"") | BS26: =IFERROR(MID(INDEX('公式予選（TT）1Gr-結果表（貼付）'!$A:$Z,MATCH($R26,'公式予選（TT）1Gr-結果表（貼付）'!$B:$B,0),MATCH("会員番号",'公式予選（TT）1Gr-結果表（貼付）'!$1:$1,0)),12,1),"") | BU26: =IFERROR(MID(INDEX('公式予選（TT）1Gr-結果表（貼付）'!$A:$Z,MATCH($R26,'公式予選（TT）1Gr-結果表（貼付）'!$B:$B,0),MATCH("会員番号",'公式予選（TT）1Gr-結果表（貼付）'!$1:$1,0)),13,1),"") | BW26: =IFERROR(MID(INDEX('公式予選（TT）1Gr-結果表（貼付）'!$A:$Z,MATCH($R26,'公式予選（TT）1Gr-結果表（貼付）'!$B:$B,0),MATCH("会員番号",'公式予選（TT）1Gr-結果表（貼付）'!$1:$1,0)),14,1),"") | BY26: =IFERROR(INDEX('公式予選（TT）1Gr-結果表（貼付）'!$A:$Z,MATCH($R26,'公式予選（TT）1Gr-結果表（貼付）'!$B:$B,0),MATCH("Team",'公式予選（TT）1Gr-結果表（貼付）'!$1:$1,0)),"") -> FSN union | CT26: =IFERROR(INDEX('公式予選（TT）1Gr-結果表（貼付）'!$A:$Z,MATCH($R26,'公式予選（TT）1Gr-結果表（貼付）'!$B:$B,0),MATCH("Model/Engine",'公式予選（TT）1Gr-結果表（貼付）'!$1:$1,0)),"") -> birel ART/YAMAHA | DN26: =IF(A26="DNS","ｽﾀｰﾄ出来ず",IF(A26="DQ","失 格",IFERROR(INDEX('公式予選（TT）1Gr-結果表（貼付）'!$A:$Z,MATCH($R26,'公式予選（TT）1Gr-結果表（貼付）'!$B:$B,0),MATCH("BestLap",'公式予選（TT）1Gr-結果表（貼付）'!$1:$1,0)),""))) -> 55.984
A27: =IF(OR('公式予選（TT）1Gr-結果表（貼付）'!A14="DNF",'公式予選（TT）1Gr-結果表（貼付）'!A14="DNS",'公式予選（TT）1Gr-結果表（貼付）'!A14="DQ"),'公式予選（TT）1Gr-結果表（貼付）'!A14,IF(MAX('公式予選（TT）1Gr-結果表（貼付）'!$A:$A)>A26,A26+1,"")) -> 13 | F27: =IF(IFERROR(INDEX('公式予選（TT）1Gr-結果表（貼付）'!$A:$Z,MATCH($R27,'公式予選（TT）1Gr-結果表（貼付）'!$B:$B,0),MATCH("クラス",'公式予選（TT）1Gr-結果表（貼付）'!$1:$1,0)),"")=0,"",IFERROR(INDEX('公式予選（TT）1Gr-結果表（貼付）'!$A:$Z,MATCH($R27,'公式予選（TT）1Gr-結果表（貼付）'!$B:$B,0),MATCH("クラス",'公式予選（TT）1Gr-結果表（貼付）'!$1:$1,0)),"")) -> SUPER SS | M27: =IF(ISTEXT(A27)=TRUE,"",IF(F27="","",IF(A27="","""",COUNTIF($F$15:F27,F27)))) -> 13 | R27: =IFERROR(INDEX('公式予選（TT）1Gr-結果表（貼付）'!A14:$Z$50,MATCH($A27,'公式予選（TT）1Gr-結果表（貼付）'!A14:$A$50,0),MATCH("No.",'公式予選（TT）1Gr-結果表（貼付）'!$1:$1,0)),"") -> 32 | W27: =IFERROR(INDEX('公式予選（TT）1Gr-結果表（貼付）'!$A:$Z,MATCH($R27,'公式予選（TT）1Gr-結果表（貼付）'!$B:$B,0),MATCH("名前",'公式予選（TT）1Gr-結果表（貼付）'!$1:$1,0)),"") -> 林 三貴彦 | AW27: =IFERROR(MID(INDEX('公式予選（TT）1Gr-結果表（貼付）'!$A:$Z,MATCH($R27,'公式予選（TT）1Gr-結果表（貼付）'!$B:$B,0),MATCH("会員番号",'公式予選（TT）1Gr-結果表（貼付）'!$1:$1,0)),1,1),"") -> D | AY27: =IFERROR(MID(INDEX('公式予選（TT）1Gr-結果表（貼付）'!$A:$Z,MATCH($R27,'公式予選（TT）1Gr-結果表（貼付）'!$B:$B,0),MATCH("会員番号",'公式予選（TT）1Gr-結果表（貼付）'!$1:$1,0)),2,1),"") -> 4 | BA27: =IFERROR(MID(INDEX('公式予選（TT）1Gr-結果表（貼付）'!$A:$Z,MATCH($R27,'公式予選（TT）1Gr-結果表（貼付）'!$B:$B,0),MATCH("会員番号",'公式予選（TT）1Gr-結果表（貼付）'!$1:$1,0)),3,1),"") -> 2 | BC27: =IFERROR(MID(INDEX('公式予選（TT）1Gr-結果表（貼付）'!$A:$Z,MATCH($R27,'公式予選（TT）1Gr-結果表（貼付）'!$B:$B,0),MATCH("会員番号",'公式予選（TT）1Gr-結果表（貼付）'!$1:$1,0)),4,1),"") -> 6 | BE27: =IFERROR(MID(INDEX('公式予選（TT）1Gr-結果表（貼付）'!$A:$Z,MATCH($R27,'公式予選（TT）1Gr-結果表（貼付）'!$B:$B,0),MATCH("会員番号",'公式予選（TT）1Gr-結果表（貼付）'!$1:$1,0)),5,1),"") -> 5 | BG27: =IFERROR(MID(INDEX('公式予選（TT）1Gr-結果表（貼付）'!$A:$Z,MATCH($R27,'公式予選（TT）1Gr-結果表（貼付）'!$B:$B,0),MATCH("会員番号",'公式予選（TT）1Gr-結果表（貼付）'!$1:$1,0)),6,1),"") -> b | BI27: =IFERROR(MID(INDEX('公式予選（TT）1Gr-結果表（貼付）'!$A:$Z,MATCH($R27,'公式予選（TT）1Gr-結果表（貼付）'!$B:$B,0),MATCH("会員番号",'公式予選（TT）1Gr-結果表（貼付）'!$1:$1,0)),7,1),"") -> e | BK27: =IFERROR(MID(INDEX('公式予選（TT）1Gr-結果表（貼付）'!$A:$Z,MATCH($R27,'公式予選（TT）1Gr-結果表（貼付）'!$B:$B,0),MATCH("会員番号",'公式予選（TT）1Gr-結果表（貼付）'!$1:$1,0)),8,1),"") -> c | BM27: =IFERROR(MID(INDEX('公式予選（TT）1Gr-結果表（貼付）'!$A:$Z,MATCH($R27,'公式予選（TT）1Gr-結果表（貼付）'!$B:$B,0),MATCH("会員番号",'公式予選（TT）1Gr-結果表（貼付）'!$1:$1,0)),9,1),"") -> 9 | BO27: =IFERROR(MID(INDEX('公式予選（TT）1Gr-結果表（貼付）'!$A:$Z,MATCH($R27,'公式予選（TT）1Gr-結果表（貼付）'!$B:$B,0),MATCH("会員番号",'公式予選（TT）1Gr-結果表（貼付）'!$1:$1,0)),10,1),"") | BQ27: =IFERROR(MID(INDEX('公式予選（TT）1Gr-結果表（貼付）'!$A:$Z,MATCH($R27,'公式予選（TT）1Gr-結果表（貼付）'!$B:$B,0),MATCH("会員番号",'公式予選（TT）1Gr-結果表（貼付）'!$1:$1,0)),11,1),"") | BS27: =IFERROR(MID(INDEX('公式予選（TT）1Gr-結果表（貼付）'!$A:$Z,MATCH($R27,'公式予選（TT）1Gr-結果表（貼付）'!$B:$B,0),MATCH("会員番号",'公式予選（TT）1Gr-結果表（貼付）'!$1:$1,0)),12,1),"") | BU27: =IFERROR(MID(INDEX('公式予選（TT）1Gr-結果表（貼付）'!$A:$Z,MATCH($R27,'公式予選（TT）1Gr-結果表（貼付）'!$B:$B,0),MATCH("会員番号",'公式予選（TT）1Gr-結果表（貼付）'!$1:$1,0)),13,1),"") | BW27: =IFERROR(MID(INDEX('公式予選（TT）1Gr-結果表（貼付）'!$A:$Z,MATCH($R27,'公式予選（TT）1Gr-結果表（貼付）'!$B:$B,0),MATCH("会員番号",'公式予選（TT）1Gr-結果表（貼付）'!$1:$1,0)),14,1),"") | BY27: =IFERROR(INDEX('公式予選（TT）1Gr-結果表（貼付）'!$A:$Z,MATCH($R27,'公式予選（TT）1Gr-結果表（貼付）'!$B:$B,0),MATCH("Team",'公式予選（TT）1Gr-結果表（貼付）'!$1:$1,0)),"") -> ASH | CT27: =IFERROR(INDEX('公式予選（TT）1Gr-結果表（貼付）'!$A:$Z,MATCH($R27,'公式予選（TT）1Gr-結果表（貼付）'!$B:$B,0),MATCH("Model/Engine",'公式予選（TT）1Gr-結果表（貼付）'!$1:$1,0)),"") -> トニーカート/YAMAHA | DN27: =IF(A27="DNS","ｽﾀｰﾄ出来ず",IF(A27="DQ","失 格",IFERROR(INDEX('公式予選（TT）1Gr-結果表（貼付）'!$A:$Z,MATCH($R27,'公式予選（TT）1Gr-結果表（貼付）'!$B:$B,0),MATCH("BestLap",'公式予選（TT）1Gr-結果表（貼付）'!$1:$1,0)),""))) -> 55.987
... A36: =IF(OR('公式予選（TT）1Gr-結果表（貼付）'!A23="DNF",'公式予選（TT）1Gr-結果表（貼付）'!A23="DNS",'公式予選（TT）1Gr-結果表（貼付）'!A23="DQ"),'公式予選（TT）1Gr-結果表（貼付）'!A23,IF(MAX('公式予選（TT）1Gr-結果表（貼付）'!$A:$A)>A35,A35+1,"")) -> 22 | F36: =IF(IFERROR(INDEX('公式予選（TT）1Gr-結果表（貼付）'!$A:$Z,MATCH($R36,'公式予選（TT）1Gr-結果表（貼付）'!$B:$B,0),MATCH("クラス",'公式予選（TT）1Gr-結果表（貼付）'!$1:$1,0)),"")=0,"",IFERROR(INDEX('公式予選（TT）1Gr-結果表（貼付）'!$A:$Z,MATCH($R36,'公式予選（TT）1Gr-結果表（貼付）'!$B:$B,0),MATCH("クラス",'公式予選（TT）1Gr-結果表（貼付）'!$1:$1,0)),"")) -> SUPER SS | M36: =IF(ISTEXT(A36)=TRUE,"",IF(F36="","",IF(A36="","""",COUNTIF($F$15:F36,F36)))) -> 22 | R36: =IFERROR(INDEX('公式予選（TT）1Gr-結果表（貼付）'!A23:$Z$50,MATCH($A36,'公式予選（TT）1Gr-結果表（貼付）'!A23:$A$50,0),MATCH("No.",'公式予選（TT）1Gr-結果表（貼付）'!$1:$1,0)),"") -> 90 | W36: =IFERROR(INDEX('公式予選（TT）1Gr-結果表（貼付）'!$A:$Z,MATCH($R36,'公式予選（TT）1Gr-結果表（貼付）'!$B:$B,0),MATCH("名前",'公式予選（TT）1Gr-結果表（貼付）'!$1:$1,0)),"") -> 竹中 敬之 | AW36: =IFERROR(MID(INDEX('公式予選（TT）1Gr-結果表（貼付）'!$A:$Z,MATCH($R36,'公式予選（TT）1Gr-結果表（貼付）'!$B:$B,0),MATCH("会員番号",'公式予選（TT）1Gr-結果表（貼付）'!$1:$1,0)),1,1),"") -> D | AY36: =IFERROR(MID(INDEX('公式予選（TT）1Gr-結果表（貼付）'!$A:$Z,MATCH($R36,'公式予選（TT）1Gr-結果表（貼付）'!$B:$B,0),MATCH("会員番号",'公式予選（TT）1Gr-結果表（貼付）'!$1:$1,0)),2,1),"") -> b | BA36: =IFERROR(MID(INDEX('公式予選（TT）1Gr-結果表（貼付）'!$A:$Z,MATCH($R36,'公式予選（TT）1Gr-結果表（貼付）'!$B:$B,0),MATCH("会員番号",'公式予選（TT）1Gr-結果表（貼付）'!$1:$1,0)),3,1),"") -> 3 | BC36: =IFERROR(MID(INDEX('公式予選（TT）1Gr-結果表（貼付）'!$A:$Z,MATCH($R36,'公式予選（TT）1Gr-結果表（貼付）'!$B:$B,0),MATCH("会員番号",'公式予選（TT）1Gr-結果表（貼付）'!$1:$1,0)),4,1),"") -> f | BE36: =IFERROR(MID(INDEX('公式予選（TT）1Gr-結果表（貼付）'!$A:$Z,MATCH($R36,'公式予選（TT）1Gr-結果表（貼付）'!$B:$B,0),MATCH("会員番号",'公式予選（TT）1Gr-結果表（貼付）'!$1:$1,0)),5,1),"") -> a | BG36: =IFERROR(MID(INDEX('公式予選（TT）1Gr-結果表（貼付）'!$A:$Z,MATCH($R36,'公式予選（TT）1Gr-結果表（貼付）'!$B:$B,0),MATCH("会員番号",'公式予選（TT）1Gr-結果表（貼付）'!$1:$1,0)),6,1),"") -> e | BI36: =IFERROR(MID(INDEX('公式予選（TT）1Gr-結果表（貼付）'!$A:$Z,MATCH($R36,'公式予選（TT）1Gr-結果表（貼付）'!$B:$B,0),MATCH("会員番号",'公式予選（TT）1Gr-結果表（貼付）'!$1:$1,0)),7,1),"") -> d | BK36: =IFERROR(MID(INDEX('公式予選（TT）1Gr-結果表（貼付）'!$A:$Z,MATCH($R36,'公式予選（TT）1Gr-結果表（貼付）'!$B:$B,0),MATCH("会員番号",'公式予選（TT）1Gr-結果表（貼付）'!$1:$1,0)),8,1),"") -> 3 | BM36: =IFERROR(MID(INDEX('公式予選（TT）1Gr-結果表（貼付）'!$A:$Z,MATCH($R36,'公式予選（TT）1Gr-結果表（貼付）'!$B:$B,0),MATCH("会員番号",'公式予選（TT）1Gr-結果表（貼付）'!$1:$1,0)),9,1),"") -> 2 | BO36: =IFERROR(MID(INDEX('公式予選（TT）1Gr-結果表（貼付）'!$A:$Z,MATCH($R36,'公式予選（TT）1Gr-結果表（貼付）'!$B:$B,0),MATCH("会員番号",'公式予選（TT）1Gr-結果表（貼付）'!$1:$1,0)),10,1),"") | BQ36: =IFERROR(MID(INDEX('公式予選（TT）1Gr-結果表（貼付）'!$A:$Z,MATCH($R36,'公式予選（TT）1Gr-結果表（貼付）'!$B:$B,0),MATCH("会員番号",'公式予選（TT）1Gr-結果表（貼付）'!$1:$1,0)),11,1),"") | BS36: =IFERROR(MID(INDEX('公式予選（TT）1Gr-結果表（貼付）'!$A:$Z,MATCH($R36,'公式予選（TT）1Gr-結果表（貼付）'!$B:$B,0),MATCH("会員番号",'公式予選（TT）1Gr-結果表（貼付）'!$1:$1,0)),12,1),"") | BU36: =IFERROR(MID(INDEX('公式予選（TT）1Gr-結果表（貼付）'!$A:$Z,MATCH($R36,'公式予選（TT）1Gr-結果表（貼付）'!$B:$B,0),MATCH("会員番号",'公式予選（TT）1Gr-結果表（貼付）'!$1:$1,0)),13,1),"") | BW36: =IFERROR(MID(INDEX('公式予選（TT）1Gr-結果表（貼付）'!$A:$Z,MATCH($R36,'公式予選（TT）1Gr-結果表（貼付）'!$B:$B,0),MATCH("会員番号",'公式予選（TT）1Gr-結果表（貼付）'!$1:$1,0)),14,1),"") | BY36: =IFERROR(INDEX('公式予選（TT）1Gr-結果表（貼付）'!$A:$Z,MATCH($R36,'公式予選（TT）1Gr-結果表（貼付）'!$B:$B,0),MATCH("Team",'公式予選（TT）1Gr-結果表（貼付）'!$1:$1,0)),"") -> サーティーズレーシング | CT36: =IFERROR(INDEX('公式予選（TT）1Gr-結果表（貼付）'!$A:$Z,MATCH($R36,'公式予選（TT）1Gr-結果表（貼付）'!$B:$B,0),MATCH("Model/Engine",'公式予選（TT）1Gr-結果表（貼付）'!$1:$1,0)),"") -> マッハワン/YAMAHA | DN36: =IF(A36="DNS","ｽﾀｰﾄ出来ず",IF(A36="DQ","失 格",IFERROR(INDEX('公式予選（TT）1Gr-結果表（貼付）'!$A:$Z,MATCH($R36,'公式予選（TT）1Gr-結果表（貼付）'!$B:$B,0),MATCH("BestLap",'公式予選（TT）1Gr-結果表（貼付）'!$1:$1,0)),""))) -> 56.618
L38: 計時委員長署名 | BH38: 競技長署名 | DD38: 審査委員長署名
BY39: レース競技結果成績表（予選用）
T42: 競技会 | Z42: =MID(各種設定!$D$3,1,1) -> ｶ | AC42: =MID(各種設定!$D$3,2,1) -> ｰ | AF42: =MID(各種設定!$D$3,3,1) -> ﾄ | AI42: =MID(各種設定!$D$3,4,1) -> ﾚ | AL42: =MID(各種設定!$D$3,5,1) -> ｰ | AO42: =MID(各種設定!$D$3,6,1) -> ｽ | AR42: =MID(各種設定!$D$3,7,1) | AU42: =MID(各種設定!$D$3,8,1) -> I | AX42: =MID(各種設定!$D$3,9,1) -> N | BA42: =MID(各種設定!$D$3,10,1) | BD42: =MID(各種設定!$D$3,11,1) -> S | BG42: =MID(各種設定!$D$3,12,1) -> U | BJ42: =MID(各種設定!$D$3,13,1) -> Z | BM42: =MID(各種設定!$D$3,14,1) -> U | BP42: =MID(各種設定!$D$3,15,1) -> K | BS42: =MID(各種設定!$D$3,16,1) -> A | BV42: =MID(各種設定!$D$3,17,1) | BY42: =MID(各種設定!$D$3,18,1) -> 第 | CB42: =MID(各種設定!$D$3,19,1) -> 7 | CE42: =MID(各種設定!$D$3,20,1) -> 戦 | EB42: =YEAR(各種設定!D17) -> 2022 | EI42: 年 | EK42: =MONTH(各種設定!D17) -> 12 | EO42: 月 | EQ42: =DAY(各種設定!D17) -> 11 | EU42: 日
T43: 名 称 | DZ43: 開催日 | EF43: ～
AD44: （20文字以内で入力してください） | CW44: 観客数 | DF44: ： | EB44: =YEAR(各種設定!D18) -> 2022 | EI44: 年 | EK44: =MONTH(各種設定!D18) -> 12 | EO44: 月 | EQ44: =DAY(各種設定!D18) -> 11 | EU44: 日
AC45: 種 別
F46: レース （予選TT用） | AC46: 記入不要 | BB46: ｵｰｶﾞﾅｲｻﾞｰｺｰﾄﾞ： | BU46: =MID(各種設定!$D$28,1,1) -> 8 | BX46: =MID(各種設定!$D$28,2,1) -> 2 | CA46: =MID(各種設定!$D$28,3,1) -> 4 | CD46: =MID(各種設定!$D$28,4,1) -> 0 | CG46: =MID(各種設定!$D$28,5,1) -> 1 | CJ46: =MID(各種設定!$D$28,6,1) | CW46: 競技会格式 | DF46: ： | DH46: =+各種設定!D64 -> 0 | DM46: A：国際､B：準国際､C：国内､D：準国内､E：地方
F48: 公認番号： | S48: =MID(各種設定!$D$30,1,1) -> 2 | V48: =MID(各種設定!$D$30,2,1) -> 2 | Y48: =MID(各種設定!$D$30,3,1) -> 2 | AB48: =MID(各種設定!$D$30,4,1) -> 5 | AE48: =MID(各種設定!$D$30,5,1) -> 0 | AH48: =MID(各種設定!$D$30,6,1) -> 9 | AT48: 開催場所： | BE48: 鈴鹿サーキット 南コース | CQ48: 天候： | CX48: Cloudy | DE48: 気温： | DT48: コース コンディション | EB48: ： | EE48: Dry
E50: カテゴリー（参加車両）： | Z50: =+各種設定!D4 -> SUPER SS | AU50: A Gr | BL50: 参加台数 | BX50: =+BX12 -> 26 | CE50: 台 | DM50: 出走台数 | DY50: =+DY12 -> 26 | EF50: 台
A52: 順位 | F52: クラス | M52: クラス 順位 | R52: 車番 | W52: ドライバー氏名 | AW52: ライセンス番号 | BY52: 車名 | CT52: 車両型式 | DE52: 排気量 | DN52: ベストラップタイム | EG52: 参加者氏名
A53: =IF(OR('公式予選（TT）1Gr-結果表（貼付）'!A24="DNF",'公式予選（TT）1Gr-結果表（貼付）'!A24="DNS",'公式予選（TT）1Gr-結果表（貼付）'!A24="DQ"),'公式予選（TT）1Gr-結果表（貼付）'!A24,IF(MAX('公式予選（TT）1Gr-結果表（貼付）'!$A:$A)>A36,A36+1,"")) -> 23 | F53: =IF(IFERROR(INDEX('公式予選（TT）1Gr-結果表（貼付）'!$A:$Z,MATCH($R53,'公式予選（TT）1Gr-結果表（貼付）'!$B:$B,0),MATCH("クラス",'公式予選（TT）1Gr-結果表（貼付）'!$1:$1,0)),"")=0,"",IFERROR(INDEX('公式予選（TT）1Gr-結果表（貼付）'!$A:$Z,MATCH($R53,'公式予選（TT）1Gr-結果表（貼付）'!$B:$B,0),MATCH("クラス",'公式予選（TT）1Gr-結果表（貼付）'!$1:$1,0)),"")) -> SUPER SS | M53: =IF(ISTEXT(A53)=TRUE,"",IF(F53="","",IF(A53="","""",COUNTIF($F$15:F53,F53)))) -> 23 | R53: =IFERROR(INDEX('公式予選（TT）1Gr-結果表（貼付）'!A24:$Z$50,MATCH($A53,'公式予選（TT）1Gr-結果表（貼付）'!A24:$A$50,0),MATCH("No.",'公式予選（TT）1Gr-結果表（貼付）'!$1:$1,0)),"") -> 61 | W53: =IFERROR(INDEX('公式予選（TT）1Gr-結果表（貼付）'!$A:$Z,MATCH($R53,'公式予選（TT）1Gr-結果表（貼付）'!$B:$B,0),MATCH("名前",'公式予選（TT）1Gr-結果表（貼付）'!$1:$1,0)),"") -> 曽我部 崇 | AW53: =IFERROR(MID(INDEX('公式予選（TT）1Gr-結果表（貼付）'!$A:$Z,MATCH($R53,'公式予選（TT）1Gr-結果表（貼付）'!$B:$B,0),MATCH("会員番号",'公式予選（TT）1Gr-結果表（貼付）'!$1:$1,0)),1,1),"") -> D | AY53: =IFERROR(MID(INDEX('公式予選（TT）1Gr-結果表（貼付）'!$A:$Z,MATCH($R53,'公式予選（TT）1Gr-結果表（貼付）'!$B:$B,0),MATCH("会員番号",'公式予選（TT）1Gr-結果表（貼付）'!$1:$1,0)),2,1),"") -> d | BA53: =IFERROR(MID(INDEX('公式予選（TT）1Gr-結果表（貼付）'!$A:$Z,MATCH($R53,'公式予選（TT）1Gr-結果表（貼付）'!$B:$B,0),MATCH("会員番号",'公式予選（TT）1Gr-結果表（貼付）'!$1:$1,0)),3,1),"") -> 2 | BC53: =IFERROR(MID(INDEX('公式予選（TT）1Gr-結果表（貼付）'!$A:$Z,MATCH($R53,'公式予選（TT）1Gr-結果表（貼付）'!$B:$B,0),MATCH("会員番号",'公式予選（TT）1Gr-結果表（貼付）'!$1:$1,0)),4,1),"") -> 5 | BE53: =IFERROR(MID(INDEX('公式予選（TT）1Gr-結果表（貼付）'!$A:$Z,MATCH($R53,'公式予選（TT）1Gr-結果表（貼付）'!$B:$B,0),MATCH("会員番号",'公式予選（TT）1Gr-結果表（貼付）'!$1:$1,0)),5,1),"") -> 9 | BG53: =IFERROR(MID(INDEX('公式予選（TT）1Gr-結果表（貼付）'!$A:$Z,MATCH($R53,'公式予選（TT）1Gr-結果表（貼付）'!$B:$B,0),MATCH("会員番号",'公式予選（TT）1Gr-結果表（貼付）'!$1:$1,0)),6,1),"") -> 2 | BI53: =IFERROR(MID(INDEX('公式予選（TT）1Gr-結果表（貼付）'!$A:$Z,MATCH($R53,'公式予選（TT）1Gr-結果表（貼付）'!$B:$B,0),MATCH("会員番号",'公式予選（TT）1Gr-結果表（貼付）'!$1:$1,0)),7,1),"") -> e | BK53: =IFERROR(MID(INDEX('公式予選（TT）1Gr-結果表（貼付）'!$A:$Z,MATCH($R53,'公式予選（TT）1Gr-結果表（貼付）'!$B:$B,0),MATCH("会員番号",'公式予選（TT）1Gr-結果表（貼付）'!$1:$1,0)),8,1),"") -> f | BM53: =IFERROR(MID(INDEX('公式予選（TT）1Gr-結果表（貼付）'!$A:$Z,MATCH($R53,'公式予選（TT）1Gr-結果表（貼付）'!$B:$B,0),MATCH("会員番号",'公式予選（TT）1Gr-結果表（貼付）'!$1:$1,0)),9,1),"") -> 5 | BO53: =IFERROR(MID(INDEX('公式予選（TT）1Gr-結果表（貼付）'!$A:$Z,MATCH($R53,'公式予選（TT）1Gr-結果表（貼付）'!$B:$B,0),MATCH("会員番号",'公式予選（TT）1Gr-結果表（貼付）'!$1:$1,0)),10,1),"") | BQ53: =IFERROR(MID(INDEX('公式予選（TT）1Gr-結果表（貼付）'!$A:$Z,MATCH($R53,'公式予選（TT）1Gr-結果表（貼付）'!$B:$B,0),MATCH("会員番号",'公式予選（TT）1Gr-結果表（貼付）'!$1:$1,0)),11,1),"") | BS53: =IFERROR(MID(INDEX('公式予選（TT）1Gr-結果表（貼付）'!$A:$Z,MATCH($R53,'公式予選（TT）1Gr-結果表（貼付）'!$B:$B,0),MATCH("会員番号",'公式予選（TT）1Gr-結果表（貼付）'!$1:$1,0)),12,1),"") | BU53: =IFERROR(MID(INDEX('公式予選（TT）1Gr-結果表（貼付）'!$A:$Z,MATCH($R53,'公式予選（TT）1Gr-結果表（貼付）'!$B:$B,0),MATCH("会員番号",'公式予選（TT）1Gr-結果表（貼付）'!$1:$1,0)),13,1),"") | BW53: =IFERROR(MID(INDEX('公式予選（TT）1Gr-結果表（貼付）'!$A:$Z,MATCH($R53,'公式予選（TT）1Gr-結果表（貼付）'!$B:$B,0),MATCH("会員番号",'公式予選（TT）1Gr-結果表（貼付）'!$1:$1,0)),14,1),"") | BY53: =IFERROR(INDEX('公式予選（TT）1Gr-結果表（貼付）'!$A:$Z,MATCH($R53,'公式予選（TT）1Gr-結果表（貼付）'!$B:$B,0),MATCH("Team",'公式予選（TT）1Gr-結果表（貼付）'!$1:$1,0)),"") -> F's CLUB | CT53: =IFERROR(INDEX('公式予選（TT）1Gr-結果表（貼付）'!$A:$Z,MATCH($R53,'公式予選（TT）1Gr-結果表（貼付）'!$B:$B,0),MATCH("Model/Engine",'公式予選（TT）1Gr-結果表（貼付）'!$1:$1,0)),"") -> MACH1/YAMAHA | DN53: =IF(A53="DNS","ｽﾀｰﾄ出来ず",IF(A53="DQ","失 格",IFERROR(INDEX('公式予選（TT）1Gr-結果表（貼付）'!$A:$Z,MATCH($R53,'公式予選（TT）1Gr-結果表（貼付）'!$B:$B,0),MATCH("BestLap",'公式予選（TT）1Gr-結果表（貼付）'!$1:$1,0)),""))) -> 56.722
A54: =IF(OR('公式予選（TT）1Gr-結果表（貼付）'!A25="DNF",'公式予選（TT）1Gr-結果表（貼付）'!A25="DNS",'公式予選（TT）1Gr-結果表（貼付）'!A25="DQ"),'公式予選（TT）1Gr-結果表（貼付）'!A25,IF(MAX('公式予選（TT）1Gr-結果表（貼付）'!$A:$A)>A53,A53+1,"")) -> 24 | F54: =IF(IFERROR(INDEX('公式予選（TT）1Gr-結果表（貼付）'!$A:$Z,MATCH($R54,'公式予選（TT）1Gr-結果表（貼付）'!$B:$B,0),MATCH("クラス",'公式予選（TT）1Gr-結果表（貼付）'!$1:$1,0)),"")=0,"",IFERROR(INDEX('公式予選（TT）1Gr-結果表（貼付）'!$A:$Z,MATCH($R54,'公式予選（TT）1Gr-結果表（貼付）'!$B:$B,0),MATCH("クラス",'公式予選（TT）1Gr-結果表（貼付）'!$1:$1,0)),"")) -> SUPER SS | M54: =IF(ISTEXT(A54)=TRUE,"",IF(F54="","",IF(A54="","""",COUNTIF($F$15:F54,F54)))) -> 24 | R54: =IFERROR(INDEX('公式予選（TT）1Gr-結果表（貼付）'!A25:$Z$50,MATCH($A54,'公式予選（TT）1Gr-結果表（貼付）'!A25:$A$50,0),MATCH("No.",'公式予選（TT）1Gr-結果表（貼付）'!$1:$1,0)),"") -> 29 | W54: =IFERROR(INDEX('公式予選（TT）1Gr-結果表（貼付）'!$A:$Z,MATCH($R54,'公式予選（TT）1Gr-結果表（貼付）'!$B:$B,0),MATCH("名前",'公式予選（TT）1Gr-結果表（貼付）'!$1:$1,0)),"") -> 平田 研二 | AW54: =IFERROR(MID(INDEX('公式予選（TT）1Gr-結果表（貼付）'!$A:$Z,MATCH($R54,'公式予選（TT）1Gr-結果表（貼付）'!$B:$B,0),MATCH("会員番号",'公式予選（TT）1Gr-結果表（貼付）'!$1:$1,0)),1,1),"") -> D | AY54: =IFERROR(MID(INDEX('公式予選（TT）1Gr-結果表（貼付）'!$A:$Z,MATCH($R54,'公式予選（TT）1Gr-結果表（貼付）'!$B:$B,0),MATCH("会員番号",'公式予選（TT）1Gr-結果表（貼付）'!$1:$1,0)),2,1),"") -> 4 | BA54: =IFERROR(MID(INDEX('公式予選（TT）1Gr-結果表（貼付）'!$A:$Z,MATCH($R54,'公式予選（TT）1Gr-結果表（貼付）'!$B:$B,0),MATCH("会員番号",'公式予選（TT）1Gr-結果表（貼付）'!$1:$1,0)),3,1),"") -> e | BC54: =IFERROR(MID(INDEX('公式予選（TT）1Gr-結果表（貼付）'!$A:$Z,MATCH($R54,'公式予選（TT）1Gr-結果表（貼付）'!$B:$B,0),MATCH("会員番号",'公式予選（TT）1Gr-結果表（貼付）'!$1:$1,0)),4,1),"") -> 9 | BE54: =IFERROR(MID(INDEX('公式予選（TT）1Gr-結果表（貼付）'!$A:$Z,MATCH($R54,'公式予選（TT）1Gr-結果表（貼付）'!$B:$B,0),MATCH("会員番号",'公式予選（TT）1Gr-結果表（貼付）'!$1:$1,0)),5,1),"") -> 9 | BG54: =IFERROR(MID(INDEX('公式予選（TT）1Gr-結果表（貼付）'!$A:$Z,MATCH($R54,'公式予選（TT）1Gr-結果表（貼付）'!$B:$B,0),MATCH("会員番号",'公式予選（TT）1Gr-結果表（貼付）'!$1:$1,0)),6,1),"") -> 1 | BI54: =IFERROR(MID(INDEX('公式予選（TT）1Gr-結果表（貼付）'!$A:$Z,MATCH($R54,'公式予選（TT）1Gr-結果表（貼付）'!$B:$B,0),MATCH("会員番号",'公式予選（TT）1Gr-結果表（貼付）'!$1:$1,0)),7,1),"") -> b | BK54: =IFERROR(MID(INDEX('公式予選（TT）1Gr-結果表（貼付）'!$A:$Z,MATCH($R54,'公式予選（TT）1Gr-結果表（貼付）'!$B:$B,0),MATCH("会員番号",'公式予選（TT）1Gr-結果表（貼付）'!$1:$1,0)),8,1),"") -> 3 | BM54: =IFERROR(MID(INDEX('公式予選（TT）1Gr-結果表（貼付）'!$A:$Z,MATCH($R54,'公式予選（TT）1Gr-結果表（貼付）'!$B:$B,0),MATCH("会員番号",'公式予選（TT）1Gr-結果表（貼付）'!$1:$1,0)),9,1),"") -> 4 | BO54: =IFERROR(MID(INDEX('公式予選（TT）1Gr-結果表（貼付）'!$A:$Z,MATCH($R54,'公式予選（TT）1Gr-結果表（貼付）'!$B:$B,0),MATCH("会員番号",'公式予選（TT）1Gr-結果表（貼付）'!$1:$1,0)),10,1),"") | BQ54: =IFERROR(MID(INDEX('公式予選（TT）1Gr-結果表（貼付）'!$A:$Z,MATCH($R54,'公式予選（TT）1Gr-結果表（貼付）'!$B:$B,0),MATCH("会員番号",'公式予選（TT）1Gr-結果表（貼付）'!$1:$1,0)),11,1),"") | BS54: =IFERROR(MID(INDEX('公式予選（TT）1Gr-結果表（貼付）'!$A:$Z,MATCH($R54,'公式予選（TT）1Gr-結果表（貼付）'!$B:$B,0),MATCH("会員番号",'公式予選（TT）1Gr-結果表（貼付）'!$1:$1,0)),12,1),"") | BU54: =IFERROR(MID(INDEX('公式予選（TT）1Gr-結果表（貼付）'!$A:$Z,MATCH($R54,'公式予選（TT）1Gr-結果表（貼付）'!$B:$B,0),MATCH("会員番号",'公式予選（TT）1Gr-結果表（貼付）'!$1:$1,0)),13,1),"") | BW54: =IFERROR(MID(INDEX('公式予選（TT）1Gr-結果表（貼付）'!$A:$Z,MATCH($R54,'公式予選（TT）1Gr-結果表（貼付）'!$B:$B,0),MATCH("会員番号",'公式予選（TT）1Gr-結果表（貼付）'!$1:$1,0)),14,1),"") | BY54: =IFERROR(INDEX('公式予選（TT）1Gr-結果表（貼付）'!$A:$Z,MATCH($R54,'公式予選（TT）1Gr-結果表（貼付）'!$B:$B,0),MATCH("Team",'公式予選（TT）1Gr-結果表（貼付）'!$1:$1,0)),"") -> RS nakatsuchi | CT54: =IFERROR(INDEX('公式予選（TT）1Gr-結果表（貼付）'!$A:$Z,MATCH($R54,'公式予選（TT）1Gr-結果表（貼付）'!$B:$B,0),MATCH("Model/Engine",'公式予選（TT）1Gr-結果表（貼付）'!$1:$1,0)),"") -> CROC Promotion/YAMAHA | DN54: =IF(A54="DNS","ｽﾀｰﾄ出来ず",IF(A54="DQ","失 格",IFERROR(INDEX('公式予選（TT）1Gr-結果表（貼付）'!$A:$Z,MATCH($R54,'公式予選（TT）1Gr-結果表（貼付）'!$B:$B,0),MATCH("BestLap",'公式予選（TT）1Gr-結果表（貼付）'!$1:$1,0)),""))) -> 56.753
A55: =IF(OR('公式予選（TT）1Gr-結果表（貼付）'!A26="DNF",'公式予選（TT）1Gr-結果表（貼付）'!A26="DNS",'公式予選（TT）1Gr-結果表（貼付）'!A26="DQ"),'公式予選（TT）1Gr-結果表（貼付）'!A26,IF(MAX('公式予選（TT）1Gr-結果表（貼付）'!$A:$A)>A54,A54+1,"")) -> 25 | F55: =IF(IFERROR(INDEX('公式予選（TT）1Gr-結果表（貼付）'!$A:$Z,MATCH($R55,'公式予選（TT）1Gr-結果表（貼付）'!$B:$B,0),MATCH("クラス",'公式予選（TT）1Gr-結果表（貼付）'!$1:$1,0)),"")=0,"",IFERROR(INDEX('公式予選（TT）1Gr-結果表（貼付）'!$A:$Z,MATCH($R55,'公式予選（TT）1Gr-結果表（貼付）'!$B:$B,0),MATCH("クラス",'公式予選（TT）1Gr-結果表（貼付）'!$1:$1,0)),"")) -> SUPER SS | M55: =IF(ISTEXT(A55)=TRUE,"",IF(F55="","",IF(A55="","""",COUNTIF($F$15:F55,F55)))) -> 25 | R55: =IFERROR(INDEX('公式予選（TT）1Gr-結果表（貼付）'!A26:$Z$50,MATCH($A55,'公式予選（TT）1Gr-結果表（貼付）'!A26:$A$50,0),MATCH("No.",'公式予選（TT）1Gr-結果表（貼付）'!$1:$1,0)),"") -> 99 | W55: =IFERROR(INDEX('公式予選（TT）1Gr-結果表（貼付）'!$A:$Z,MATCH($R55,'公式予選（TT）1Gr-結果表（貼付）'!$B:$B,0),MATCH("名前",'公式予選（TT）1Gr-結果表（貼付）'!$1:$1,0)),"") -> 近藤 雄一朗 | AW55: =IFERROR(MID(INDEX('公式予選（TT）1Gr-結果表（貼付）'!$A:$Z,MATCH($R55,'公式予選（TT）1Gr-結果表（貼付）'!$B:$B,0),MATCH("会員番号",'公式予選（TT）1Gr-結果表（貼付）'!$1:$1,0)),1,1),"") -> D | AY55: =IFERROR(MID(INDEX('公式予選（TT）1Gr-結果表（貼付）'!$A:$Z,MATCH($R55,'公式予選（TT）1Gr-結果表（貼付）'!$B:$B,0),MATCH("会員番号",'公式予選（TT）1Gr-結果表（貼付）'!$1:$1,0)),2,1),"") -> 9 | BA55: =IFERROR(MID(INDEX('公式予選（TT）1Gr-結果表（貼付）'!$A:$Z,MATCH($R55,'公式予選（TT）1Gr-結果表（貼付）'!$B:$B,0),MATCH("会員番号",'公式予選（TT）1Gr-結果表（貼付）'!$1:$1,0)),3,1),"") -> 8 | BC55: =IFERROR(MID(INDEX('公式予選（TT）1Gr-結果表（貼付）'!$A:$Z,MATCH($R55,'公式予選（TT）1Gr-結果表（貼付）'!$B:$B,0),MATCH("会員番号",'公式予選（TT）1Gr-結果表（貼付）'!$1:$1,0)),4,1),"") -> 3 | BE55: =IFERROR(MID(INDEX('公式予選（TT）1Gr-結果表（貼付）'!$A:$Z,MATCH($R55,'公式予選（TT）1Gr-結果表（貼付）'!$B:$B,0),MATCH("会員番号",'公式予選（TT）1Gr-結果表（貼付）'!$1:$1,0)),5,1),"") -> 6 | BG55: =IFERROR(MID(INDEX('公式予選（TT）1Gr-結果表（貼付）'!$A:$Z,MATCH($R55,'公式予選（TT）1Gr-結果表（貼付）'!$B:$B,0),MATCH("会員番号",'公式予選（TT）1Gr-結果表（貼付）'!$1:$1,0)),6,1),"") -> 2 | BI55: =IFERROR(MID(INDEX('公式予選（TT）1Gr-結果表（貼付）'!$A:$Z,MATCH($R55,'公式予選（TT）1Gr-結果表（貼付）'!$B:$B,0),MATCH("会員番号",'公式予選（TT）1Gr-結果表（貼付）'!$1:$1,0)),7,1),"") -> e | BK55: =IFERROR(MID(INDEX('公式予選（TT）1Gr-結果表（貼付）'!$A:$Z,MATCH($R55,'公式予選（TT）1Gr-結果表（貼付）'!$B:$B,0),MATCH("会員番号",'公式予選（TT）1Gr-結果表（貼付）'!$1:$1,0)),8,1),"") -> 5 | BM55: =IFERROR(MID(INDEX('公式予選（TT）1Gr-結果表（貼付）'!$A:$Z,MATCH($R55,'公式予選（TT）1Gr-結果表（貼付）'!$B:$B,0),MATCH("会員番号",'公式予選（TT）1Gr-結果表（貼付）'!$1:$1,0)),9,1),"") -> 8 | BO55: =IFERROR(MID(INDEX('公式予選（TT）1Gr-結果表（貼付）'!$A:$Z,MATCH($R55,'公式予選（TT）1Gr-結果表（貼付）'!$B:$B,0),MATCH("会員番号",'公式予選（TT）1Gr-結果表（貼付）'!$1:$1,0)),10,1),"") | BQ55: =IFERROR(MID(INDEX('公式予選（TT）1Gr-結果表（貼付）'!$A:$Z,MATCH($R55,'公式予選（TT）1Gr-結果表（貼付）'!$B:$B,0),MATCH("会員番号",'公式予選（TT）1Gr-結果表（貼付）'!$1:$1,0)),11,1),"") | BS55: =IFERROR(MID(INDEX('公式予選（TT）1Gr-結果表（貼付）'!$A:$Z,MATCH($R55,'公式予選（TT）1Gr-結果表（貼付）'!$B:$B,0),MATCH("会員番号",'公式予選（TT）1Gr-結果表（貼付）'!$1:$1,0)),12,1),"") | BU55: =IFERROR(MID(INDEX('公式予選（TT）1Gr-結果表（貼付）'!$A:$Z,MATCH($R55,'公式予選（TT）1Gr-結果表（貼付）'!$B:$B,0),MATCH("会員番号",'公式予選（TT）1Gr-結果表（貼付）'!$1:$1,0)),13,1),"") | BW55: =IFERROR(MID(INDEX('公式予選（TT）1Gr-結果表（貼付）'!$A:$Z,MATCH($R55,'公式予選（TT）1Gr-結果表（貼付）'!$B:$B,0),MATCH("会員番号",'公式予選（TT）1Gr-結果表（貼付）'!$1:$1,0)),14,1),"") | BY55: =IFERROR(INDEX('公式予選（TT）1Gr-結果表（貼付）'!$A:$Z,MATCH($R55,'公式予選（TT）1Gr-結果表（貼付）'!$B:$B,0),MATCH("Team",'公式予選（TT）1Gr-結果表（貼付）'!$1:$1,0)),"") -> モアコラージュTQS | CT55: =IFERROR(INDEX('公式予選（TT）1Gr-結果表（貼付）'!$A:$Z,MATCH($R55,'公式予選（TT）1Gr-結果表（貼付）'!$B:$B,0),MATCH("Model/Engine",'公式予選（TT）1Gr-結果表（貼付）'!$1:$1,0)),"") -> ドラゴコルセ/YAMAHA | DN55: =IF(A55="DNS","ｽﾀｰﾄ出来ず",IF(A55="DQ","失 格",IFERROR(INDEX('公式予選（TT）1Gr-結果表（貼付）'!$A:$Z,MATCH($R55,'公式予選（TT）1Gr-結果表（貼付）'!$B:$B,0),MATCH("BestLap",'公式予選（TT）1Gr-結果表（貼付）'!$1:$1,0)),""))) -> 56.931
A56: =IF(OR('公式予選（TT）1Gr-結果表（貼付）'!A27="DNF",'公式予選（TT）1Gr-結果表（貼付）'!A27="DNS",'公式予選（TT）1Gr-結果表（貼付）'!A27="DQ"),'公式予選（TT）1Gr-結果表（貼付）'!A27,IF(MAX('公式予選（TT）1Gr-結果表（貼付）'!$A:$A)>A55,A55+1,"")) -> 26 | F56: =IF(IFERROR(INDEX('公式予選（TT）1Gr-結果表（貼付）'!$A:$Z,MATCH($R56,'公式予選（TT）1Gr-結果表（貼付）'!$B:$B,0),MATCH("クラス",'公式予選（TT）1Gr-結果表（貼付）'!$1:$1,0)),"")=0,"",IFERROR(INDEX('公式予選（TT）1Gr-結果表（貼付）'!$A:$Z,MATCH($R56,'公式予選（TT）1Gr-結果表（貼付）'!$B:$B,0),MATCH("クラス",'公式予選（TT）1Gr-結果表（貼付）'!$1:$1,0)),"")) -> SUPER SS | M56: =IF(ISTEXT(A56)=TRUE,"",IF(F56="","",IF(A56="","""",COUNTIF($F$15:F56,F56)))) -> 26 | R56: =IFERROR(INDEX('公式予選（TT）1Gr-結果表（貼付）'!A27:$Z$50,MATCH($A56,'公式予選（TT）1Gr-結果表（貼付）'!A27:$A$50,0),MATCH("No.",'公式予選（TT）1Gr-結果表（貼付）'!$1:$1,0)),"") -> 56 | W56: =IFERROR(INDEX('公式予選（TT）1Gr-結果表（貼付）'!$A:$Z,MATCH($R56,'公式予選（TT）1Gr-結果表（貼付）'!$B:$B,0),MATCH("名前",'公式予選（TT）1Gr-結果表（貼付）'!$1:$1,0)),"") -> 米倉 隆幸 | AW56: =IFERROR(MID(INDEX('公式予選（TT）1Gr-結果表（貼付）'!$A:$Z,MATCH($R56,'公式予選（TT）1Gr-結果表（貼付）'!$B:$B,0),MATCH("会員番号",'公式予選（TT）1Gr-結果表（貼付）'!$1:$1,0)),1,1),"") -> D | AY56: =IFERROR(MID(INDEX('公式予選（TT）1Gr-結果表（貼付）'!$A:$Z,MATCH($R56,'公式予選（TT）1Gr-結果表（貼付）'!$B:$B,0),MATCH("会員番号",'公式予選（TT）1Gr-結果表（貼付）'!$1:$1,0)),2,1),"") -> 3 | BA56: =IFERROR(MID(INDEX('公式予選（TT）1Gr-結果表（貼付）'!$A:$Z,MATCH($R56,'公式予選（TT）1Gr-結果表（貼付）'!$B:$B,0),MATCH("会員番号",'公式予選（TT）1Gr-結果表（貼付）'!$1:$1,0)),3,1),"") -> 6 | BC56: =IFERROR(MID(INDEX('公式予選（TT）1Gr-結果表（貼付）'!$A:$Z,MATCH($R56,'公式予選（TT）1Gr-結果表（貼付）'!$B:$B,0),MATCH("会員番号",'公式予選（TT）1Gr-結果表（貼付）'!$1:$1,0)),4,1),"") -> 8 | BE56: =IFERROR(MID(INDEX('公式予選（TT）1Gr-結果表（貼付）'!$A:$Z,MATCH($R56,'公式予選（TT）1Gr-結果表（貼付）'!$B:$B,0),MATCH("会員番号",'公式予選（TT）1Gr-結果表（貼付）'!$1:$1,0)),5,1),"") -> 9 | BG56: =IFERROR(MID(INDEX('公式予選（TT）1Gr-結果表（貼付）'!$A:$Z,MATCH($R56,'公式予選（TT）1Gr-結果表（貼付）'!$B:$B,0),MATCH("会員番号",'公式予選（TT）1Gr-結果表（貼付）'!$1:$1,0)),6,1),"") -> 6 | BI56: =IFERROR(MID(INDEX('公式予選（TT）1Gr-結果表（貼付）'!$A:$Z,MATCH($R56,'公式予選（TT）1Gr-結果表（貼付）'!$B:$B,0),MATCH("会員番号",'公式予選（TT）1Gr-結果表（貼付）'!$1:$1,0)),7,1),"") -> 1 | BK56: =IFERROR(MID(INDEX('公式予選（TT）1Gr-結果表（貼付）'!$A:$Z,MATCH($R56,'公式予選（TT）1Gr-結果表（貼付）'!$B:$B,0),MATCH("会員番号",'公式予選（TT）1Gr-結果表（貼付）'!$1:$1,0)),8,1),"") -> 0 | BM56: =IFERROR(MID(INDEX('公式予選（TT）1Gr-結果表（貼付）'!$A:$Z,MATCH($R56,'公式予選（TT）1Gr-結果表（貼付）'!$B:$B,0),MATCH("会員番号",'公式予選（TT）1Gr-結果表（貼付）'!$1:$1,0)),9,1),"") | BO56: =IFERROR(MID(INDEX('公式予選（TT）1Gr-結果表（貼付）'!$A:$Z,MATCH($R56,'公式予選（TT）1Gr-結果表（貼付）'!$B:$B,0),MATCH("会員番号",'公式予選（TT）1Gr-結果表（貼付）'!$1:$1,0)),10,1),"") | BQ56: =IFERROR(MID(INDEX('公式予選（TT）1Gr-結果表（貼付）'!$A:$Z,MATCH($R56,'公式予選（TT）1Gr-結果表（貼付）'!$B:$B,0),MATCH("会員番号",'公式予選（TT）1Gr-結果表（貼付）'!$1:$1,0)),11,1),"") | BS56: =IFERROR(MID(INDEX('公式予選（TT）1Gr-結果表（貼付）'!$A:$Z,MATCH($R56,'公式予選（TT）1Gr-結果表（貼付）'!$B:$B,0),MATCH("会員番号",'公式予選（TT）1Gr-結果表（貼付）'!$1:$1,0)),12,1),"") | BU56: =IFERROR(MID(INDEX('公式予選（TT）1Gr-結果表（貼付）'!$A:$Z,MATCH($R56,'公式予選（TT）1Gr-結果表（貼付）'!$B:$B,0),MATCH("会員番号",'公式予選（TT）1Gr-結果表（貼付）'!$1:$1,0)),13,1),"") | BW56: =IFERROR(MID(INDEX('公式予選（TT）1Gr-結果表（貼付）'!$A:$Z,MATCH($R56,'公式予選（TT）1Gr-結果表（貼付）'!$B:$B,0),MATCH("会員番号",'公式予選（TT）1Gr-結果表（貼付）'!$1:$1,0)),14,1),"") | BY56: =IFERROR(INDEX('公式予選（TT）1Gr-結果表（貼付）'!$A:$Z,MATCH($R56,'公式予選（TT）1Gr-結果表（貼付）'!$B:$B,0),MATCH("Team",'公式予選（TT）1Gr-結果表（貼付）'!$1:$1,0)),"") -> T-WEST-RS | CT56: =IFERROR(INDEX('公式予選（TT）1Gr-結果表（貼付）'!$A:$Z,MATCH($R56,'公式予選（TT）1Gr-結果表（貼付）'!$B:$B,0),MATCH("Model/Engine",'公式予選（TT）1Gr-結果表（貼付）'!$1:$1,0)),"") -> TONY KART/YAMAHA | DN56: =IF(A56="DNS","ｽﾀｰﾄ出来ず",IF(A56="DQ","失 格",IFERROR(INDEX('公式予選（TT）1Gr-結果表（貼付）'!$A:$Z,MATCH($R56,'公式予選（TT）1Gr-結果表（貼付）'!$B:$B,0),MATCH("BestLap",'公式予選（TT）1Gr-結果表（貼付）'!$1:$1,0)),""))) -> 57.622
A57: =IF(OR('公式予選（TT）1Gr-結果表（貼付）'!A28="DNF",'公式予選（TT）1Gr-結果表（貼付）'!A28="DNS",'公式予選（TT）1Gr-結果表（貼付）'!A28="DQ"),'公式予選（TT）1Gr-結果表（貼付）'!A28,IF(MAX('公式予選（TT）1Gr-結果表（貼付）'!$A:$A)>A56,A56+1,"")) | F57: =IF(IFERROR(INDEX('公式予選（TT）1Gr-結果表（貼付）'!$A:$Z,MATCH($R57,'公式予選（TT）1Gr-結果表（貼付）'!$B:$B,0),MATCH("クラス",'公式予選（TT）1Gr-結果表（貼付）'!$1:$1,0)),"")=0,"",IFERROR(INDEX('公式予選（TT）1Gr-結果表（貼付）'!$A:$Z,MATCH($R57,'公式予選（TT）1Gr-結果表（貼付）'!$B:$B,0),MATCH("クラス",'公式予選（TT）1Gr-結果表（貼付）'!$1:$1,0)),"")) | M57: =IF(ISTEXT(A57)=TRUE,"",IF(F57="","",IF(A57="","""",COUNTIF($F$15:F57,F57)))) | R57: =IFERROR(INDEX('公式予選（TT）1Gr-結果表（貼付）'!A28:$Z$50,MATCH($A57,'公式予選（TT）1Gr-結果表（貼付）'!A28:$A$50,0),MATCH("No.",'公式予選（TT）1Gr-結果表（貼付）'!$1:$1,0)),"") | W57: =IFERROR(INDEX('公式予選（TT）1Gr-結果表（貼付）'!$A:$Z,MATCH($R57,'公式予選（TT）1Gr-結果表（貼付）'!$B:$B,0),MATCH("名前",'公式予選（TT）1Gr-結果表（貼付）'!$1:$1,0)),"") | AW57: =IFERROR(MID(INDEX('公式予選（TT）1Gr-結果表（貼付）'!$A:$Z,MATCH($R57,'公式予選（TT）1Gr-結果表（貼付）'!$B:$B,0),MATCH("会員番号",'公式予選（TT）1Gr-結果表（貼付）'!$1:$1,0)),1,1),"") | AY57: =IFERROR(MID(INDEX('公式予選（TT）1Gr-結果表（貼付）'!$A:$Z,MATCH($R57,'公式予選（TT）1Gr-結果表（貼付）'!$B:$B,0),MATCH("会員番号",'公式予選（TT）1Gr-結果表（貼付）'!$1:$1,0)),2,1),"") | BA57: =IFERROR(MID(INDEX('公式予選（TT）1Gr-結果表（貼付）'!$A:$Z,MATCH($R57,'公式予選（TT）1Gr-結果表（貼付）'!$B:$B,0),MATCH("会員番号",'公式予選（TT）1Gr-結果表（貼付）'!$1:$1,0)),3,1),"") | BC57: =IFERROR(MID(INDEX('公式予選（TT）1Gr-結果表（貼付）'!$A:$Z,MATCH($R57,'公式予選（TT）1Gr-結果表（貼付）'!$B:$B,0),MATCH("会員番号",'公式予選（TT）1Gr-結果表（貼付）'!$1:$1,0)),4,1),"") | BE57: =IFERROR(MID(INDEX('公式予選（TT）1Gr-結果表（貼付）'!$A:$Z,MATCH($R57,'公式予選（TT）1Gr-結果表（貼付）'!$B:$B,0),MATCH("会員番号",'公式予選（TT）1Gr-結果表（貼付）'!$1:$1,0)),5,1),"") | BG57: =IFERROR(MID(INDEX('公式予選（TT）1Gr-結果表（貼付）'!$A:$Z,MATCH($R57,'公式予選（TT）1Gr-結果表（貼付）'!$B:$B,0),MATCH("会員番号",'公式予選（TT）1Gr-結果表（貼付）'!$1:$1,0)),6,1),"") | BI57: =IFERROR(MID(INDEX('公式予選（TT）1Gr-結果表（貼付）'!$A:$Z,MATCH($R57,'公式予選（TT）1Gr-結果表（貼付）'!$B:$B,0),MATCH("会員番号",'公式予選（TT）1Gr-結果表（貼付）'!$1:$1,0)),7,1),"") | BK57: =IFERROR(MID(INDEX('公式予選（TT）1Gr-結果表（貼付）'!$A:$Z,MATCH($R57,'公式予選（TT）1Gr-結果表（貼付）'!$B:$B,0),MATCH("会員番号",'公式予選（TT）1Gr-結果表（貼付）'!$1:$1,0)),8,1),"") | BM57: =IFERROR(MID(INDEX('公式予選（TT）1Gr-結果表（貼付）'!$A:$Z,MATCH($R57,'公式予選（TT）1Gr-結果表（貼付）'!$B:$B,0),MATCH("会員番号",'公式予選（TT）1Gr-結果表（貼付）'!$1:$1,0)),9,1),"") | BO57: =IFERROR(MID(INDEX('公式予選（TT）1Gr-結果表（貼付）'!$A:$Z,MATCH($R57,'公式予選（TT）1Gr-結果表（貼付）'!$B:$B,0),MATCH("会員番号",'公式予選（TT）1Gr-結果表（貼付）'!$1:$1,0)),10,1),"") | BQ57: =IFERROR(MID(INDEX('公式予選（TT）1Gr-結果表（貼付）'!$A:$Z,MATCH($R57,'公式予選（TT）1Gr-結果表（貼付）'!$B:$B,0),MATCH("会員番号",'公式予選（TT）1Gr-結果表（貼付）'!$1:$1,0)),11,1),"") | BS57: =IFERROR(MID(INDEX('公式予選（TT）1Gr-結果表（貼付）'!$A:$Z,MATCH($R57,'公式予選（TT）1Gr-結果表（貼付）'!$B:$B,0),MATCH("会員番号",'公式予選（TT）1Gr-結果表（貼付）'!$1:$1,0)),12,1),"") | BU57: =IFERROR(MID(INDEX('公式予選（TT）1Gr-結果表（貼付）'!$A:$Z,MATCH($R57,'公式予選（TT）1Gr-結果表（貼付）'!$B:$B,0),MATCH("会員番号",'公式予選（TT）1Gr-結果表（貼付）'!$1:$1,0)),13,1),"") | BW57: =IFERROR(MID(INDEX('公式予選（TT）1Gr-結果表（貼付）'!$A:$Z,MATCH($R57,'公式予選（TT）1Gr-結果表（貼付）'!$B:$B,0),MATCH("会員番号",'公式予選（TT）1Gr-結果表（貼付）'!$1:$1,0)),14,1),"") | BY57: =IFERROR(INDEX('公式予選（TT）1Gr-結果表（貼付）'!$A:$Z,MATCH($R57,'公式予選（TT）1Gr-結果表（貼付）'!$B:$B,0),MATCH("Team",'公式予選（TT）1Gr-結果表（貼付）'!$1:$1,0)),"") | CT57: =IFERROR(INDEX('公式予選（TT）1Gr-結果表（貼付）'!$A:$Z,MATCH($R57,'公式予選（TT）1Gr-結果表（貼付）'!$B:$B,0),MATCH("Model/Engine",'公式予選（TT）1Gr-結果表（貼付）'!$1:$1,0)),"") | DN57: =IF(A57="DNS","ｽﾀｰﾄ出来ず",IF(A57="DQ","失 格",IFERROR(INDEX('公式予選（TT）1Gr-結果表（貼付）'!$A:$Z,MATCH($R57,'公式予選（TT）1Gr-結果表（貼付）'!$B:$B,0),MATCH("BestLap",'公式予選（TT）1Gr-結果表（貼付）'!$1:$1,0)),"")))
A58: =IF(OR('公式予選（TT）1Gr-結果表（貼付）'!A29="DNF",'公式予選（TT）1Gr-結果表（貼付）'!A29="DNS",'公式予選（TT）1Gr-結果表（貼付）'!A29="DQ"),'公式予選（TT）1Gr-結果表（貼付）'!A29,IF(MAX('公式予選（TT）1Gr-結果表（貼付）'!$A:$A)>A57,A57+1,"")) | F58: =IF(IFERROR(INDEX('公式予選（TT）1Gr-結果表（貼付）'!$A:$Z,MATCH($R58,'公式予選（TT）1Gr-結果表（貼付）'!$B:$B,0),MATCH("クラス",'公式予選（TT）1Gr-結果表（貼付）'!$1:$1,0)),"")=0,"",IFERROR(INDEX('公式予選（TT）1Gr-結果表（貼付）'!$A:$Z,MATCH($R58,'公式予選（TT）1Gr-結果表（貼付）'!$B:$B,0),MATCH("クラス",'公式予選（TT）1Gr-結果表（貼付）'!$1:$1,0)),"")) | M58: =IF(ISTEXT(A58)=TRUE,"",IF(F58="","",IF(A58="","""",COUNTIF($F$15:F58,F58)))) | R58: =IFERROR(INDEX('公式予選（TT）1Gr-結果表（貼付）'!A29:$Z$50,MATCH($A58,'公式予選（TT）1Gr-結果表（貼付）'!A29:$A$50,0),MATCH("No.",'公式予選（TT）1Gr-結果表（貼付）'!$1:$1,0)),"") | W58: =IFERROR(INDEX('公式予選（TT）1Gr-結果表（貼付）'!$A:$Z,MATCH($R58,'公式予選（TT）1Gr-結果表（貼付）'!$B:$B,0),MATCH("名前",'公式予選（TT）1Gr-結果表（貼付）'!$1:$1,0)),"") | AW58: =IFERROR(MID(INDEX('公式予選（TT）1Gr-結果表（貼付）'!$A:$Z,MATCH($R58,'公式予選（TT）1Gr-結果表（貼付）'!$B:$B,0),MATCH("会員番号",'公式予選（TT）1Gr-結果表（貼付）'!$1:$1,0)),1,1),"") | AY58: =IFERROR(MID(INDEX('公式予選（TT）1Gr-結果表（貼付）'!$A:$Z,MATCH($R58,'公式予選（TT）1Gr-結果表（貼付）'!$B:$B,0),MATCH("会員番号",'公式予選（TT）1Gr-結果表（貼付）'!$1:$1,0)),2,1),"") | BA58: =IFERROR(MID(INDEX('公式予選（TT）1Gr-結果表（貼付）'!$A:$Z,MATCH($R58,'公式予選（TT）1Gr-結果表（貼付）'!$B:$B,0),MATCH("会員番号",'公式予選（TT）1Gr-結果表（貼付）'!$1:$1,0)),3,1),"") | BC58: =IFERROR(MID(INDEX('公式予選（TT）1Gr-結果表（貼付）'!$A:$Z,MATCH($R58,'公式予選（TT）1Gr-結果表（貼付）'!$B:$B,0),MATCH("会員番号",'公式予選（TT）1Gr-結果表（貼付）'!$1:$1,0)),4,1),"") | BE58: =IFERROR(MID(INDEX('公式予選（TT）1Gr-結果表（貼付）'!$A:$Z,MATCH($R58,'公式予選（TT）1Gr-結果表（貼付）'!$B:$B,0),MATCH("会員番号",'公式予選（TT）1Gr-結果表（貼付）'!$1:$1,0)),5,1),"") | BG58: =IFERROR(MID(INDEX('公式予選（TT）1Gr-結果表（貼付）'!$A:$Z,MATCH($R58,'公式予選（TT）1Gr-結果表（貼付）'!$B:$B,0),MATCH("会員番号",'公式予選（TT）1Gr-結果表（貼付）'!$1:$1,0)),6,1),"") | BI58: =IFERROR(MID(INDEX('公式予選（TT）1Gr-結果表（貼付）'!$A:$Z,MATCH($R58,'公式予選（TT）1Gr-結果表（貼付）'!$B:$B,0),MATCH("会員番号",'公式予選（TT）1Gr-結果表（貼付）'!$1:$1,0)),7,1),"") | BK58: =IFERROR(MID(INDEX('公式予選（TT）1Gr-結果表（貼付）'!$A:$Z,MATCH($R58,'公式予選（TT）1Gr-結果表（貼付）'!$B:$B,0),MATCH("会員番号",'公式予選（TT）1Gr-結果表（貼付）'!$1:$1,0)),8,1),"") | BM58: =IFERROR(MID(INDEX('公式予選（TT）1Gr-結果表（貼付）'!$A:$Z,MATCH($R58,'公式予選（TT）1Gr-結果表（貼付）'!$B:$B,0),MATCH("会員番号",'公式予選（TT）1Gr-結果表（貼付）'!$1:$1,0)),9,1),"") | BO58: =IFERROR(MID(INDEX('公式予選（TT）1Gr-結果表（貼付）'!$A:$Z,MATCH($R58,'公式予選（TT）1Gr-結果表（貼付）'!$B:$B,0),MATCH("会員番号",'公式予選（TT）1Gr-結果表（貼付）'!$1:$1,0)),10,1),"") | BQ58: =IFERROR(MID(INDEX('公式予選（TT）1Gr-結果表（貼付）'!$A:$Z,MATCH($R58,'公式予選（TT）1Gr-結果表（貼付）'!$B:$B,0),MATCH("会員番号",'公式予選（TT）1Gr-結果表（貼付）'!$1:$1,0)),11,1),"") | BS58: =IFERROR(MID(INDEX('公式予選（TT）1Gr-結果表（貼付）'!$A:$Z,MATCH($R58,'公式予選（TT）1Gr-結果表（貼付）'!$B:$B,0),MATCH("会員番号",'公式予選（TT）1Gr-結果表（貼付）'!$1:$1,0)),12,1),"") | BU58: =IFERROR(MID(INDEX('公式予選（TT）1Gr-結果表（貼付）'!$A:$Z,MATCH($R58,'公式予選（TT）1Gr-結果表（貼付）'!$B:$B,0),MATCH("会員番号",'公式予選（TT）1Gr-結果表（貼付）'!$1:$1,0)),13,1),"") | BW58: =IFERROR(MID(INDEX('公式予選（TT）1Gr-結果表（貼付）'!$A:$Z,MATCH($R58,'公式予選（TT）1Gr-結果表（貼付）'!$B:$B,0),MATCH("会員番号",'公式予選（TT）1Gr-結果表（貼付）'!$1:$1,0)),14,1),"") | BY58: =IFERROR(INDEX('公式予選（TT）1Gr-結果表（貼付）'!$A:$Z,MATCH($R58,'公式予選（TT）1Gr-結果表（貼付）'!$B:$B,0),MATCH("Team",'公式予選（TT）1Gr-結果表（貼付）'!$1:$1,0)),"") | CT58: =IFERROR(INDEX('公式予選（TT）1Gr-結果表（貼付）'!$A:$Z,MATCH($R58,'公式予選（TT）1Gr-結果表（貼付）'!$B:$B,0),MATCH("Model/Engine",'公式予選（TT）1Gr-結果表（貼付）'!$1:$1,0)),"") | DN58: =IF(A58="DNS","ｽﾀｰﾄ出来ず",IF(A58="DQ","失 格",IFERROR(INDEX('公式予選（TT）1Gr-結果表（貼付）'!$A:$Z,MATCH($R58,'公式予選（TT）1Gr-結果表（貼付）'!$B:$B,0),MATCH("BestLap",'公式予選（TT）1Gr-結果表（貼付）'!$1:$1,0)),"")))
A59: =IF(OR('公式予選（TT）1Gr-結果表（貼付）'!A30="DNF",'公式予選（TT）1Gr-結果表（貼付）'!A30="DNS",'公式予選（TT）1Gr-結果表（貼付）'!A30="DQ"),'公式予選（TT）1Gr-結果表（貼付）'!A30,IF(MAX('公式予選（TT）1Gr-結果表（貼付）'!$A:$A)>A58,A58+1,"")) | F59: =IF(IFERROR(INDEX('公式予選（TT）1Gr-結果表（貼付）'!$A:$Z,MATCH($R59,'公式予選（TT）1Gr-結果表（貼付）'!$B:$B,0),MATCH("クラス",'公式予選（TT）1Gr-結果表（貼付）'!$1:$1,0)),"")=0,"",IFERROR(INDEX('公式予選（TT）1Gr-結果表（貼付）'!$A:$Z,MATCH($R59,'公式予選（TT）1Gr-結果表（貼付）'!$B:$B,0),MATCH("クラス",'公式予選（TT）1Gr-結果表（貼付）'!$1:$1,0)),"")) | M59: =IF(ISTEXT(A59)=TRUE,"",IF(F59="","",IF(A59="","""",COUNTIF($F$15:F59,F59)))) | R59: =IFERROR(INDEX('公式予選（TT）1Gr-結果表（貼付）'!A30:$Z$50,MATCH($A59,'公式予選（TT）1Gr-結果表（貼付）'!A30:$A$50,0),MATCH("No.",'公式予選（TT）1Gr-結果表（貼付）'!$1:$1,0)),"") | W59: =IFERROR(INDEX('公式予選（TT）1Gr-結果表（貼付）'!$A:$Z,MATCH($R59,'公式予選（TT）1Gr-結果表（貼付）'!$B:$B,0),MATCH("名前",'公式予選（TT）1Gr-結果表（貼付）'!$1:$1,0)),"") | AW59: =IFERROR(MID(INDEX('公式予選（TT）1Gr-結果表（貼付）'!$A:$Z,MATCH($R59,'公式予選（TT）1Gr-結果表（貼付）'!$B:$B,0),MATCH("会員番号",'公式予選（TT）1Gr-結果表（貼付）'!$1:$1,0)),1,1),"") | AY59: =IFERROR(MID(INDEX('公式予選（TT）1Gr-結果表（貼付）'!$A:$Z,MATCH($R59,'公式予選（TT）1Gr-結果表（貼付）'!$B:$B,0),MATCH("会員番号",'公式予選（TT）1Gr-結果表（貼付）'!$1:$1,0)),2,1),"") | BA59: =IFERROR(MID(INDEX('公式予選（TT）1Gr-結果表（貼付）'!$A:$Z,MATCH($R59,'公式予選（TT）1Gr-結果表（貼付）'!$B:$B,0),MATCH("会員番号",'公式予選（TT）1Gr-結果表（貼付）'!$1:$1,0)),3,1),"") | BC59: =IFERROR(MID(INDEX('公式予選（TT）1Gr-結果表（貼付）'!$A:$Z,MATCH($R59,'公式予選（TT）1Gr-結果表（貼付）'!$B:$B,0),MATCH("会員番号",'公式予選（TT）1Gr-結果表（貼付）'!$1:$1,0)),4,1),"") | BE59: =IFERROR(MID(INDEX('公式予選（TT）1Gr-結果表（貼付）'!$A:$Z,MATCH($R59,'公式予選（TT）1Gr-結果表（貼付）'!$B:$B,0),MATCH("会員番号",'公式予選（TT）1Gr-結果表（貼付）'!$1:$1,0)),5,1),"") | BG59: =IFERROR(MID(INDEX('公式予選（TT）1Gr-結果表（貼付）'!$A:$Z,MATCH($R59,'公式予選（TT）1Gr-結果表（貼付）'!$B:$B,0),MATCH("会員番号",'公式予選（TT）1Gr-結果表（貼付）'!$1:$1,0)),6,1),"") | BI59: =IFERROR(MID(INDEX('公式予選（TT）1Gr-結果表（貼付）'!$A:$Z,MATCH($R59,'公式予選（TT）1Gr-結果表（貼付）'!$B:$B,0),MATCH("会員番号",'公式予選（TT）1Gr-結果表（貼付）'!$1:$1,0)),7,1),"") | BK59: =IFERROR(MID(INDEX('公式予選（TT）1Gr-結果表（貼付）'!$A:$Z,MATCH($R59,'公式予選（TT）1Gr-結果表（貼付）'!$B:$B,0),MATCH("会員番号",'公式予選（TT）1Gr-結果表（貼付）'!$1:$1,0)),8,1),"") | BM59: =IFERROR(MID(INDEX('公式予選（TT）1Gr-結果表（貼付）'!$A:$Z,MATCH($R59,'公式予選（TT）1Gr-結果表（貼付）'!$B:$B,0),MATCH("会員番号",'公式予選（TT）1Gr-結果表（貼付）'!$1:$1,0)),9,1),"") | BO59: =IFERROR(MID(INDEX('公式予選（TT）1Gr-結果表（貼付）'!$A:$Z,MATCH($R59,'公式予選（TT）1Gr-結果表（貼付）'!$B:$B,0),MATCH("会員番号",'公式予選（TT）1Gr-結果表（貼付）'!$1:$1,0)),10,1),"") | BQ59: =IFERROR(MID(INDEX('公式予選（TT）1Gr-結果表（貼付）'!$A:$Z,MATCH($R59,'公式予選（TT）1Gr-結果表（貼付）'!$B:$B,0),MATCH("会員番号",'公式予選（TT）1Gr-結果表（貼付）'!$1:$1,0)),11,1),"") | BS59: =IFERROR(MID(INDEX('公式予選（TT）1Gr-結果表（貼付）'!$A:$Z,MATCH($R59,'公式予選（TT）1Gr-結果表（貼付）'!$B:$B,0),MATCH("会員番号",'公式予選（TT）1Gr-結果表（貼付）'!$1:$1,0)),12,1),"") | BU59: =IFERROR(MID(INDEX('公式予選（TT）1Gr-結果表（貼付）'!$A:$Z,MATCH($R59,'公式予選（TT）1Gr-結果表（貼付）'!$B:$B,0),MATCH("会員番号",'公式予選（TT）1Gr-結果表（貼付）'!$1:$1,0)),13,1),"") | BW59: =IFERROR(MID(INDEX('公式予選（TT）1Gr-結果表（貼付）'!$A:$Z,MATCH($R59,'公式予選（TT）1Gr-結果表（貼付）'!$B:$B,0),MATCH("会員番号",'公式予選（TT）1Gr-結果表（貼付）'!$1:$1,0)),14,1),"") | BY59: =IFERROR(INDEX('公式予選（TT）1Gr-結果表（貼付）'!$A:$Z,MATCH($R59,'公式予選（TT）1Gr-結果表（貼付）'!$B:$B,0),MATCH("Team",'公式予選（TT）1Gr-結果表（貼付）'!$1:$1,0)),"") | CT59: =IFERROR(INDEX('公式予選（TT）1Gr-結果表（貼付）'!$A:$Z,MATCH($R59,'公式予選（TT）1Gr-結果表（貼付）'!$B:$B,0),MATCH("Model/Engine",'公式予選（TT）1Gr-結果表（貼付）'!$1:$1,0)),"") | DN59: =IF(A59="DNS","ｽﾀｰﾄ出来ず",IF(A59="DQ","失 格",IFERROR(INDEX('公式予選（TT）1Gr-結果表（貼付）'!$A:$Z,MATCH($R59,'公式予選（TT）1Gr-結果表（貼付）'!$B:$B,0),MATCH("BestLap",'公式予選（TT）1Gr-結果表（貼付）'!$1:$1,0)),"")))
A60: =IF(OR('公式予選（TT）1Gr-結果表（貼付）'!A31="DNF",'公式予選（TT）1Gr-結果表（貼付）'!A31="DNS",'公式予選（TT）1Gr-結果表（貼付）'!A31="DQ"),'公式予選（TT）1Gr-結果表（貼付）'!A31,IF(MAX('公式予選（TT）1Gr-結果表（貼付）'!$A:$A)>A59,A59+1,"")) | F60: =IF(IFERROR(INDEX('公式予選（TT）1Gr-結果表（貼付）'!$A:$Z,MATCH($R60,'公式予選（TT）1Gr-結果表（貼付）'!$B:$B,0),MATCH("クラス",'公式予選（TT）1Gr-結果表（貼付）'!$1:$1,0)),"")=0,"",IFERROR(INDEX('公式予選（TT）1Gr-結果表（貼付）'!$A:$Z,MATCH($R60,'公式予選（TT）1Gr-結果表（貼付）'!$B:$B,0),MATCH("クラス",'公式予選（TT）1Gr-結果表（貼付）'!$1:$1,0)),"")) | M60: =IF(ISTEXT(A60)=TRUE,"",IF(F60="","",IF(A60="","""",COUNTIF($F$15:F60,F60)))) | R60: =IFERROR(INDEX('公式予選（TT）1Gr-結果表（貼付）'!A31:$Z$50,MATCH($A60,'公式予選（TT）1Gr-結果表（貼付）'!A31:$A$50,0),MATCH("No.",'公式予選（TT）1Gr-結果表（貼付）'!$1:$1,0)),"") | W60: =IFERROR(INDEX('公式予選（TT）1Gr-結果表（貼付）'!$A:$Z,MATCH($R60,'公式予選（TT）1Gr-結果表（貼付）'!$B:$B,0),MATCH("名前",'公式予選（TT）1Gr-結果表（貼付）'!$1:$1,0)),"") | AW60: =IFERROR(MID(INDEX('公式予選（TT）1Gr-結果表（貼付）'!$A:$Z,MATCH($R60,'公式予選（TT）1Gr-結果表（貼付）'!$B:$B,0),MATCH("会員番号",'公式予選（TT）1Gr-結果表（貼付）'!$1:$1,0)),1,1),"") | AY60: =IFERROR(MID(INDEX('公式予選（TT）1Gr-結果表（貼付）'!$A:$Z,MATCH($R60,'公式予選（TT）1Gr-結果表（貼付）'!$B:$B,0),MATCH("会員番号",'公式予選（TT）1Gr-結果表（貼付）'!$1:$1,0)),2,1),"") | BA60: =IFERROR(MID(INDEX('公式予選（TT）1Gr-結果表（貼付）'!$A:$Z,MATCH($R60,'公式予選（TT）1Gr-結果表（貼付）'!$B:$B,0),MATCH("会員番号",'公式予選（TT）1Gr-結果表（貼付）'!$1:$1,0)),3,1),"") | BC60: =IFERROR(MID(INDEX('公式予選（TT）1Gr-結果表（貼付）'!$A:$Z,MATCH($R60,'公式予選（TT）1Gr-結果表（貼付）'!$B:$B,0),MATCH("会員番号",'公式予選（TT）1Gr-結果表（貼付）'!$1:$1,0)),4,1),"") | BE60: =IFERROR(MID(INDEX('公式予選（TT）1Gr-結果表（貼付）'!$A:$Z,MATCH($R60,'公式予選（TT）1Gr-結果表（貼付）'!$B:$B,0),MATCH("会員番号",'公式予選（TT）1Gr-結果表（貼付）'!$1:$1,0)),5,1),"") | BG60: =IFERROR(MID(INDEX('公式予選（TT）1Gr-結果表（貼付）'!$A:$Z,MATCH($R60,'公式予選（TT）1Gr-結果表（貼付）'!$B:$B,0),MATCH("会員番号",'公式予選（TT）1Gr-結果表（貼付）'!$1:$1,0)),6,1),"") | BI60: =IFERROR(MID(INDEX('公式予選（TT）1Gr-結果表（貼付）'!$A:$Z,MATCH($R60,'公式予選（TT）1Gr-結果表（貼付）'!$B:$B,0),MATCH("会員番号",'公式予選（TT）1Gr-結果表（貼付）'!$1:$1,0)),7,1),"") | BK60: =IFERROR(MID(INDEX('公式予選（TT）1Gr-結果表（貼付）'!$A:$Z,MATCH($R60,'公式予選（TT）1Gr-結果表（貼付）'!$B:$B,0),MATCH("会員番号",'公式予選（TT）1Gr-結果表（貼付）'!$1:$1,0)),8,1),"") | BM60: =IFERROR(MID(INDEX('公式予選（TT）1Gr-結果表（貼付）'!$A:$Z,MATCH($R60,'公式予選（TT）1Gr-結果表（貼付）'!$B:$B,0),MATCH("会員番号",'公式予選（TT）1Gr-結果表（貼付）'!$1:$1,0)),9,1),"") | BO60: =IFERROR(MID(INDEX('公式予選（TT）1Gr-結果表（貼付）'!$A:$Z,MATCH($R60,'公式予選（TT）1Gr-結果表（貼付）'!$B:$B,0),MATCH("会員番号",'公式予選（TT）1Gr-結果表（貼付）'!$1:$1,0)),10,1),"") | BQ60: =IFERROR(MID(INDEX('公式予選（TT）1Gr-結果表（貼付）'!$A:$Z,MATCH($R60,'公式予選（TT）1Gr-結果表（貼付）'!$B:$B,0),MATCH("会員番号",'公式予選（TT）1Gr-結果表（貼付）'!$1:$1,0)),11,1),"") | BS60: =IFERROR(MID(INDEX('公式予選（TT）1Gr-結果表（貼付）'!$A:$Z,MATCH($R60,'公式予選（TT）1Gr-結果表（貼付）'!$B:$B,0),MATCH("会員番号",'公式予選（TT）1Gr-結果表（貼付）'!$1:$1,0)),12,1),"") | BU60: =IFERROR(MID(INDEX('公式予選（TT）1Gr-結果表（貼付）'!$A:$Z,MATCH($R60,'公式予選（TT）1Gr-結果表（貼付）'!$B:$B,0),MATCH("会員番号",'公式予選（TT）1Gr-結果表（貼付）'!$1:$1,0)),13,1),"") | BW60: =IFERROR(MID(INDEX('公式予選（TT）1Gr-結果表（貼付）'!$A:$Z,MATCH($R60,'公式予選（TT）1Gr-結果表（貼付）'!$B:$B,0),MATCH("会員番号",'公式予選（TT）1Gr-結果表（貼付）'!$1:$1,0)),14,1),"") | BY60: =IFERROR(INDEX('公式予選（TT）1Gr-結果表（貼付）'!$A:$Z,MATCH($R60,'公式予選（TT）1Gr-結果表（貼付）'!$B:$B,0),MATCH("Team",'公式予選（TT）1Gr-結果表（貼付）'!$1:$1,0)),"") | CT60: =IFERROR(INDEX('公式予選（TT）1Gr-結果表（貼付）'!$A:$Z,MATCH($R60,'公式予選（TT）1Gr-結果表（貼付）'!$B:$B,0),MATCH("Model/Engine",'公式予選（TT）1Gr-結果表（貼付）'!$1:$1,0)),"") | DN60: =IF(A60="DNS","ｽﾀｰﾄ出来ず",IF(A60="DQ","失 格",IFERROR(INDEX('公式予選（TT）1Gr-結果表（貼付）'!$A:$Z,MATCH($R60,'公式予選（TT）1Gr-結果表（貼付）'!$B:$B,0),MATCH("BestLap",'公式予選（TT）1Gr-結果表（貼付）'!$1:$1,0)),"")))
A61: =IF(OR('公式予選（TT）1Gr-結果表（貼付）'!A32="DNF",'公式予選（TT）1Gr-結果表（貼付）'!A32="DNS",'公式予選（TT）1Gr-結果表（貼付）'!A32="DQ"),'公式予選（TT）1Gr-結果表（貼付）'!A32,IF(MAX('公式予選（TT）1Gr-結果表（貼付）'!$A:$A)>A60,A60+1,"")) | F61: =IF(IFERROR(INDEX('公式予選（TT）1Gr-結果表（貼付）'!$A:$Z,MATCH($R61,'公式予選（TT）1Gr-結果表（貼付）'!$B:$B,0),MATCH("クラス",'公式予選（TT）1Gr-結果表（貼付）'!$1:$1,0)),"")=0,"",IFERROR(INDEX('公式予選（TT）1Gr-結果表（貼付）'!$A:$Z,MATCH($R61,'公式予選（TT）1Gr-結果表（貼付）'!$B:$B,0),MATCH("クラス",'公式予選（TT）1Gr-結果表（貼付）'!$1:$1,0)),"")) | M61: =IF(ISTEXT(A61)=TRUE,"",IF(F61="","",IF(A61="","""",COUNTIF($F$15:F61,F61)))) | R61: =IFERROR(INDEX('公式予選（TT）1Gr-結果表（貼付）'!A32:$Z$50,MATCH($A61,'公式予選（TT）1Gr-結果表（貼付）'!A32:$A$50,0),MATCH("No.",'公式予選（TT）1Gr-結果表（貼付）'!$1:$1,0)),"") | W61: =IFERROR(INDEX('公式予選（TT）1Gr-結果表（貼付）'!$A:$Z,MATCH($R61,'公式予選（TT）1Gr-結果表（貼付）'!$B:$B,0),MATCH("名前",'公式予選（TT）1Gr-結果表（貼付）'!$1:$1,0)),"") | AW61: =IFERROR(MID(INDEX('公式予選（TT）1Gr-結果表（貼付）'!$A:$Z,MATCH($R61,'公式予選（TT）1Gr-結果表（貼付）'!$B:$B,0),MATCH("会員番号",'公式予選（TT）1Gr-結果表（貼付）'!$1:$1,0)),1,1),"") | AY61: =IFERROR(MID(INDEX('公式予選（TT）1Gr-結果表（貼付）'!$A:$Z,MATCH($R61,'公式予選（TT）1Gr-結果表（貼付）'!$B:$B,0),MATCH("会員番号",'公式予選（TT）1Gr-結果表（貼付）'!$1:$1,0)),2,1),"") | BA61: =IFERROR(MID(INDEX('公式予選（TT）1Gr-結果表（貼付）'!$A:$Z,MATCH($R61,'公式予選（TT）1Gr-結果表（貼付）'!$B:$B,0),MATCH("会員番号",'公式予選（TT）1Gr-結果表（貼付）'!$1:$1,0)),3,1),"") | BC61: =IFERROR(MID(INDEX('公式予選（TT）1Gr-結果表（貼付）'!$A:$Z,MATCH($R61,'公式予選（TT）1Gr-結果表（貼付）'!$B:$B,0),MATCH("会員番号",'公式予選（TT）1Gr-結果表（貼付）'!$1:$1,0)),4,1),"") | BE61: =IFERROR(MID(INDEX('公式予選（TT）1Gr-結果表（貼付）'!$A:$Z,MATCH($R61,'公式予選（TT）1Gr-結果表（貼付）'!$B:$B,0),MATCH("会員番号",'公式予選（TT）1Gr-結果表（貼付）'!$1:$1,0)),5,1),"") | BG61: =IFERROR(MID(INDEX('公式予選（TT）1Gr-結果表（貼付）'!$A:$Z,MATCH($R61,'公式予選（TT）1Gr-結果表（貼付）'!$B:$B,0),MATCH("会員番号",'公式予選（TT）1Gr-結果表（貼付）'!$1:$1,0)),6,1),"") | BI61: =IFERROR(MID(INDEX('公式予選（TT）1Gr-結果表（貼付）'!$A:$Z,MATCH($R61,'公式予選（TT）1Gr-結果表（貼付）'!$B:$B,0),MATCH("会員番号",'公式予選（TT）1Gr-結果表（貼付）'!$1:$1,0)),7,1),"") | BK61: =IFERROR(MID(INDEX('公式予選（TT）1Gr-結果表（貼付）'!$A:$Z,MATCH($R61,'公式予選（TT）1Gr-結果表（貼付）'!$B:$B,0),MATCH("会員番号",'公式予選（TT）1Gr-結果表（貼付）'!$1:$1,0)),8,1),"") | BM61: =IFERROR(MID(INDEX('公式予選（TT）1Gr-結果表（貼付）'!$A:$Z,MATCH($R61,'公式予選（TT）1Gr-結果表（貼付）'!$B:$B,0),MATCH("会員番号",'公式予選（TT）1Gr-結果表（貼付）'!$1:$1,0)),9,1),"") | BO61: =IFERROR(MID(INDEX('公式予選（TT）1Gr-結果表（貼付）'!$A:$Z,MATCH($R61,'公式予選（TT）1Gr-結果表（貼付）'!$B:$B,0),MATCH("会員番号",'公式予選（TT）1Gr-結果表（貼付）'!$1:$1,0)),10,1),"") | BQ61: =IFERROR(MID(INDEX('公式予選（TT）1Gr-結果表（貼付）'!$A:$Z,MATCH($R61,'公式予選（TT）1Gr-結果表（貼付）'!$B:$B,0),MATCH("会員番号",'公式予選（TT）1Gr-結果表（貼付）'!$1:$1,0)),11,1),"") | BS61: =IFERROR(MID(INDEX('公式予選（TT）1Gr-結果表（貼付）'!$A:$Z,MATCH($R61,'公式予選（TT）1Gr-結果表（貼付）'!$B:$B,0),MATCH("会員番号",'公式予選（TT）1Gr-結果表（貼付）'!$1:$1,0)),12,1),"") | BU61: =IFERROR(MID(INDEX('公式予選（TT）1Gr-結果表（貼付）'!$A:$Z,MATCH($R61,'公式予選（TT）1Gr-結果表（貼付）'!$B:$B,0),MATCH("会員番号",'公式予選（TT）1Gr-結果表（貼付）'!$1:$1,0)),13,1),"") | BW61: =IFERROR(MID(INDEX('公式予選（TT）1Gr-結果表（貼付）'!$A:$Z,MATCH($R61,'公式予選（TT）1Gr-結果表（貼付）'!$B:$B,0),MATCH("会員番号",'公式予選（TT）1Gr-結果表（貼付）'!$1:$1,0)),14,1),"") | BY61: =IFERROR(INDEX('公式予選（TT）1Gr-結果表（貼付）'!$A:$Z,MATCH($R61,'公式予選（TT）1Gr-結果表（貼付）'!$B:$B,0),MATCH("Team",'公式予選（TT）1Gr-結果表（貼付）'!$1:$1,0)),"") | CT61: =IFERROR(INDEX('公式予選（TT）1Gr-結果表（貼付）'!$A:$Z,MATCH($R61,'公式予選（TT）1Gr-結果表（貼付）'!$B:$B,0),MATCH("Model/Engine",'公式予選（TT）1Gr-結果表（貼付）'!$1:$1,0)),"") | DN61: =IF(A61="DNS","ｽﾀｰﾄ出来ず",IF(A61="DQ","失 格",IFERROR(INDEX('公式予選（TT）1Gr-結果表（貼付）'!$A:$Z,MATCH($R61,'公式予選（TT）1Gr-結果表（貼付）'!$B:$B,0),MATCH("BestLap",'公式予選（TT）1Gr-結果表（貼付）'!$1:$1,0)),"")))
A62: =IF(OR('公式予選（TT）1Gr-結果表（貼付）'!A33="DNF",'公式予選（TT）1Gr-結果表（貼付）'!A33="DNS",'公式予選（TT）1Gr-結果表（貼付）'!A33="DQ"),'公式予選（TT）1Gr-結果表（貼付）'!A33,IF(MAX('公式予選（TT）1Gr-結果表（貼付）'!$A:$A)>A61,A61+1,"")) | F62: =IF(IFERROR(INDEX('公式予選（TT）1Gr-結果表（貼付）'!$A:$Z,MATCH($R62,'公式予選（TT）1Gr-結果表（貼付）'!$B:$B,0),MATCH("クラス",'公式予選（TT）1Gr-結果表（貼付）'!$1:$1,0)),"")=0,"",IFERROR(INDEX('公式予選（TT）1Gr-結果表（貼付）'!$A:$Z,MATCH($R62,'公式予選（TT）1Gr-結果表（貼付）'!$B:$B,0),MATCH("クラス",'公式予選（TT）1Gr-結果表（貼付）'!$1:$1,0)),"")) | M62: =IF(ISTEXT(A62)=TRUE,"",IF(F62="","",IF(A62="","""",COUNTIF($F$15:F62,F62)))) | R62: =IFERROR(INDEX('公式予選（TT）1Gr-結果表（貼付）'!A33:$Z$50,MATCH($A62,'公式予選（TT）1Gr-結果表（貼付）'!A33:$A$50,0),MATCH("No.",'公式予選（TT）1Gr-結果表（貼付）'!$1:$1,0)),"") | W62: =IFERROR(INDEX('公式予選（TT）1Gr-結果表（貼付）'!$A:$Z,MATCH($R62,'公式予選（TT）1Gr-結果表（貼付）'!$B:$B,0),MATCH("名前",'公式予選（TT）1Gr-結果表（貼付）'!$1:$1,0)),"") | AW62: =IFERROR(MID(INDEX('公式予選（TT）1Gr-結果表（貼付）'!$A:$Z,MATCH($R62,'公式予選（TT）1Gr-結果表（貼付）'!$B:$B,0),MATCH("会員番号",'公式予選（TT）1Gr-結果表（貼付）'!$1:$1,0)),1,1),"") | AY62: =IFERROR(MID(INDEX('公式予選（TT）1Gr-結果表（貼付）'!$A:$Z,MATCH($R62,'公式予選（TT）1Gr-結果表（貼付）'!$B:$B,0),MATCH("会員番号",'公式予選（TT）1Gr-結果表（貼付）'!$1:$1,0)),2,1),"") | BA62: =IFERROR(MID(INDEX('公式予選（TT）1Gr-結果表（貼付）'!$A:$Z,MATCH($R62,'公式予選（TT）1Gr-結果表（貼付）'!$B:$B,0),MATCH("会員番号",'公式予選（TT）1Gr-結果表（貼付）'!$1:$1,0)),3,1),"") | BC62: =IFERROR(MID(INDEX('公式予選（TT）1Gr-結果表（貼付）'!$A:$Z,MATCH($R62,'公式予選（TT）1Gr-結果表（貼付）'!$B:$B,0),MATCH("会員番号",'公式予選（TT）1Gr-結果表（貼付）'!$1:$1,0)),4,1),"") | BE62: =IFERROR(MID(INDEX('公式予選（TT）1Gr-結果表（貼付）'!$A:$Z,MATCH($R62,'公式予選（TT）1Gr-結果表（貼付）'!$B:$B,0),MATCH("会員番号",'公式予選（TT）1Gr-結果表（貼付）'!$1:$1,0)),5,1),"") | BG62: =IFERROR(MID(INDEX('公式予選（TT）1Gr-結果表（貼付）'!$A:$Z,MATCH($R62,'公式予選（TT）1Gr-結果表（貼付）'!$B:$B,0),MATCH("会員番号",'公式予選（TT）1Gr-結果表（貼付）'!$1:$1,0)),6,1),"") | BI62: =IFERROR(MID(INDEX('公式予選（TT）1Gr-結果表（貼付）'!$A:$Z,MATCH($R62,'公式予選（TT）1Gr-結果表（貼付）'!$B:$B,0),MATCH("会員番号",'公式予選（TT）1Gr-結果表（貼付）'!$1:$1,0)),7,1),"") | BK62: =IFERROR(MID(INDEX('公式予選（TT）1Gr-結果表（貼付）'!$A:$Z,MATCH($R62,'公式予選（TT）1Gr-結果表（貼付）'!$B:$B,0),MATCH("会員番号",'公式予選（TT）1Gr-結果表（貼付）'!$1:$1,0)),8,1),"") | BM62: =IFERROR(MID(INDEX('公式予選（TT）1Gr-結果表（貼付）'!$A:$Z,MATCH($R62,'公式予選（TT）1Gr-結果表（貼付）'!$B:$B,0),MATCH("会員番号",'公式予選（TT）1Gr-結果表（貼付）'!$1:$1,0)),9,1),"") | BO62: =IFERROR(MID(INDEX('公式予選（TT）1Gr-結果表（貼付）'!$A:$Z,MATCH($R62,'公式予選（TT）1Gr-結果表（貼付）'!$B:$B,0),MATCH("会員番号",'公式予選（TT）1Gr-結果表（貼付）'!$1:$1,0)),10,1),"") | BQ62: =IFERROR(MID(INDEX('公式予選（TT）1Gr-結果表（貼付）'!$A:$Z,MATCH($R62,'公式予選（TT）1Gr-結果表（貼付）'!$B:$B,0),MATCH("会員番号",'公式予選（TT）1Gr-結果表（貼付）'!$1:$1,0)),11,1),"") | BS62: =IFERROR(MID(INDEX('公式予選（TT）1Gr-結果表（貼付）'!$A:$Z,MATCH($R62,'公式予選（TT）1Gr-結果表（貼付）'!$B:$B,0),MATCH("会員番号",'公式予選（TT）1Gr-結果表（貼付）'!$1:$1,0)),12,1),"") | BU62: =IFERROR(MID(INDEX('公式予選（TT）1Gr-結果表（貼付）'!$A:$Z,MATCH($R62,'公式予選（TT）1Gr-結果表（貼付）'!$B:$B,0),MATCH("会員番号",'公式予選（TT）1Gr-結果表（貼付）'!$1:$1,0)),13,1),"") | BW62: =IFERROR(MID(INDEX('公式予選（TT）1Gr-結果表（貼付）'!$A:$Z,MATCH($R62,'公式予選（TT）1Gr-結果表（貼付）'!$B:$B,0),MATCH("会員番号",'公式予選（TT）1Gr-結果表（貼付）'!$1:$1,0)),14,1),"") | BY62: =IFERROR(INDEX('公式予選（TT）1Gr-結果表（貼付）'!$A:$Z,MATCH($R62,'公式予選（TT）1Gr-結果表（貼付）'!$B:$B,0),MATCH("Team",'公式予選（TT）1Gr-結果表（貼付）'!$1:$1,0)),"") | CT62: =IFERROR(INDEX('公式予選（TT）1Gr-結果表（貼付）'!$A:$Z,MATCH($R62,'公式予選（TT）1Gr-結果表（貼付）'!$B:$B,0),MATCH("Model/Engine",'公式予選（TT）1Gr-結果表（貼付）'!$1:$1,0)),"") | DN62: =IF(A62="DNS","ｽﾀｰﾄ出来ず",IF(A62="DQ","失 格",IFERROR(INDEX('公式予選（TT）1Gr-結果表（貼付）'!$A:$Z,MATCH($R62,'公式予選（TT）1Gr-結果表（貼付）'!$B:$B,0),MATCH("BestLap",'公式予選（TT）1Gr-結果表（貼付）'!$1:$1,0)),"")))
A63: =IF(OR('公式予選（TT）1Gr-結果表（貼付）'!A34="DNF",'公式予選（TT）1Gr-結果表（貼付）'!A34="DNS",'公式予選（TT）1Gr-結果表（貼付）'!A34="DQ"),'公式予選（TT）1Gr-結果表（貼付）'!A34,IF(MAX('公式予選（TT）1Gr-結果表（貼付）'!$A:$A)>A62,A62+1,"")) | F63: =IF(IFERROR(INDEX('公式予選（TT）1Gr-結果表（貼付）'!$A:$Z,MATCH($R63,'公式予選（TT）1Gr-結果表（貼付）'!$B:$B,0),MATCH("クラス",'公式予選（TT）1Gr-結果表（貼付）'!$1:$1,0)),"")=0,"",IFERROR(INDEX('公式予選（TT）1Gr-結果表（貼付）'!$A:$Z,MATCH($R63,'公式予選（TT）1Gr-結果表（貼付）'!$B:$B,0),MATCH("クラス",'公式予選（TT）1Gr-結果表（貼付）'!$1:$1,0)),"")) | M63: =IF(ISTEXT(A63)=TRUE,"",IF(F63="","",IF(A63="","""",COUNTIF($F$15:F63,F63)))) | R63: =IFERROR(INDEX('公式予選（TT）1Gr-結果表（貼付）'!A34:$Z$50,MATCH($A63,'公式予選（TT）1Gr-結果表（貼付）'!A34:$A$50,0),MATCH("No.",'公式予選（TT）1Gr-結果表（貼付）'!$1:$1,0)),"") | W63: =IFERROR(INDEX('公式予選（TT）1Gr-結果表（貼付）'!$A:$Z,MATCH($R63,'公式予選（TT）1Gr-結果表（貼付）'!$B:$B,0),MATCH("名前",'公式予選（TT）1Gr-結果表（貼付）'!$1:$1,0)),"") | AW63: =IFERROR(MID(INDEX('公式予選（TT）1Gr-結果表（貼付）'!$A:$Z,MATCH($R63,'公式予選（TT）1Gr-結果表（貼付）'!$B:$B,0),MATCH("会員番号",'公式予選（TT）1Gr-結果表（貼付）'!$1:$1,0)),1,1),"") | AY63: =IFERROR(MID(INDEX('公式予選（TT）1Gr-結果表（貼付）'!$A:$Z,MATCH($R63,'公式予選（TT）1Gr-結果表（貼付）'!$B:$B,0),MATCH("会員番号",'公式予選（TT）1Gr-結果表（貼付）'!$1:$1,0)),2,1),"") | BA63: =IFERROR(MID(INDEX('公式予選（TT）1Gr-結果表（貼付）'!$A:$Z,MATCH($R63,'公式予選（TT）1Gr-結果表（貼付）'!$B:$B,0),MATCH("会員番号",'公式予選（TT）1Gr-結果表（貼付）'!$1:$1,0)),3,1),"") | BC63: =IFERROR(MID(INDEX('公式予選（TT）1Gr-結果表（貼付）'!$A:$Z,MATCH($R63,'公式予選（TT）1Gr-結果表（貼付）'!$B:$B,0),MATCH("会員番号",'公式予選（TT）1Gr-結果表（貼付）'!$1:$1,0)),4,1),"") | BE63: =IFERROR(MID(INDEX('公式予選（TT）1Gr-結果表（貼付）'!$A:$Z,MATCH($R63,'公式予選（TT）1Gr-結果表（貼付）'!$B:$B,0),MATCH("会員番号",'公式予選（TT）1Gr-結果表（貼付）'!$1:$1,0)),5,1),"") | BG63: =IFERROR(MID(INDEX('公式予選（TT）1Gr-結果表（貼付）'!$A:$Z,MATCH($R63,'公式予選（TT）1Gr-結果表（貼付）'!$B:$B,0),MATCH("会員番号",'公式予選（TT）1Gr-結果表（貼付）'!$1:$1,0)),6,1),"") | BI63: =IFERROR(MID(INDEX('公式予選（TT）1Gr-結果表（貼付）'!$A:$Z,MATCH($R63,'公式予選（TT）1Gr-結果表（貼付）'!$B:$B,0),MATCH("会員番号",'公式予選（TT）1Gr-結果表（貼付）'!$1:$1,0)),7,1),"") | BK63: =IFERROR(MID(INDEX('公式予選（TT）1Gr-結果表（貼付）'!$A:$Z,MATCH($R63,'公式予選（TT）1Gr-結果表（貼付）'!$B:$B,0),MATCH("会員番号",'公式予選（TT）1Gr-結果表（貼付）'!$1:$1,0)),8,1),"") | BM63: =IFERROR(MID(INDEX('公式予選（TT）1Gr-結果表（貼付）'!$A:$Z,MATCH($R63,'公式予選（TT）1Gr-結果表（貼付）'!$B:$B,0),MATCH("会員番号",'公式予選（TT）1Gr-結果表（貼付）'!$1:$1,0)),9,1),"") | BO63: =IFERROR(MID(INDEX('公式予選（TT）1Gr-結果表（貼付）'!$A:$Z,MATCH($R63,'公式予選（TT）1Gr-結果表（貼付）'!$B:$B,0),MATCH("会員番号",'公式予選（TT）1Gr-結果表（貼付）'!$1:$1,0)),10,1),"") | BQ63: =IFERROR(MID(INDEX('公式予選（TT）1Gr-結果表（貼付）'!$A:$Z,MATCH($R63,'公式予選（TT）1Gr-結果表（貼付）'!$B:$B,0),MATCH("会員番号",'公式予選（TT）1Gr-結果表（貼付）'!$1:$1,0)),11,1),"") | BS63: =IFERROR(MID(INDEX('公式予選（TT）1Gr-結果表（貼付）'!$A:$Z,MATCH($R63,'公式予選（TT）1Gr-結果表（貼付）'!$B:$B,0),MATCH("会員番号",'公式予選（TT）1Gr-結果表（貼付）'!$1:$1,0)),12,1),"") | BU63: =IFERROR(MID(INDEX('公式予選（TT）1Gr-結果表（貼付）'!$A:$Z,MATCH($R63,'公式予選（TT）1Gr-結果表（貼付）'!$B:$B,0),MATCH("会員番号",'公式予選（TT）1Gr-結果表（貼付）'!$1:$1,0)),13,1),"") | BW63: =IFERROR(MID(INDEX('公式予選（TT）1Gr-結果表（貼付）'!$A:$Z,MATCH($R63,'公式予選（TT）1Gr-結果表（貼付）'!$B:$B,0),MATCH("会員番号",'公式予選（TT）1Gr-結果表（貼付）'!$1:$1,0)),14,1),"") | BY63: =IFERROR(INDEX('公式予選（TT）1Gr-結果表（貼付）'!$A:$Z,MATCH($R63,'公式予選（TT）1Gr-結果表（貼付）'!$B:$B,0),MATCH("Team",'公式予選（TT）1Gr-結果表（貼付）'!$1:$1,0)),"") | CT63: =IFERROR(INDEX('公式予選（TT）1Gr-結果表（貼付）'!$A:$Z,MATCH($R63,'公式予選（TT）1Gr-結果表（貼付）'!$B:$B,0),MATCH("Model/Engine",'公式予選（TT）1Gr-結果表（貼付）'!$1:$1,0)),"") | DN63: =IF(A63="DNS","ｽﾀｰﾄ出来ず",IF(A63="DQ","失 格",IFERROR(INDEX('公式予選（TT）1Gr-結果表（貼付）'!$A:$Z,MATCH($R63,'公式予選（TT）1Gr-結果表（貼付）'!$B:$B,0),MATCH("BestLap",'公式予選（TT）1Gr-結果表（貼付）'!$1:$1,0)),"")))
A64: =IF(OR('公式予選（TT）1Gr-結果表（貼付）'!A35="DNF",'公式予選（TT）1Gr-結果表（貼付）'!A35="DNS",'公式予選（TT）1Gr-結果表（貼付）'!A35="DQ"),'公式予選（TT）1Gr-結果表（貼付）'!A35,IF(MAX('公式予選（TT）1Gr-結果表（貼付）'!$A:$A)>A63,A63+1,"")) | F64: =IF(IFERROR(INDEX('公式予選（TT）1Gr-結果表（貼付）'!$A:$Z,MATCH($R64,'公式予選（TT）1Gr-結果表（貼付）'!$B:$B,0),MATCH("クラス",'公式予選（TT）1Gr-結果表（貼付）'!$1:$1,0)),"")=0,"",IFERROR(INDEX('公式予選（TT）1Gr-結果表（貼付）'!$A:$Z,MATCH($R64,'公式予選（TT）1Gr-結果表（貼付）'!$B:$B,0),MATCH("クラス",'公式予選（TT）1Gr-結果表（貼付）'!$1:$1,0)),"")) | M64: =IF(ISTEXT(A64)=TRUE,"",IF(F64="","",IF(A64="","""",COUNTIF($F$15:F64,F64)))) | R64: =IFERROR(INDEX('公式予選（TT）1Gr-結果表（貼付）'!A35:$Z$50,MATCH($A64,'公式予選（TT）1Gr-結果表（貼付）'!A35:$A$50,0),MATCH("No.",'公式予選（TT）1Gr-結果表（貼付）'!$1:$1,0)),"") | W64: =IFERROR(INDEX('公式予選（TT）1Gr-結果表（貼付）'!$A:$Z,MATCH($R64,'公式予選（TT）1Gr-結果表（貼付）'!$B:$B,0),MATCH("名前",'公式予選（TT）1Gr-結果表（貼付）'!$1:$1,0)),"") | AW64: =IFERROR(MID(INDEX('公式予選（TT）1Gr-結果表（貼付）'!$A:$Z,MATCH($R64,'公式予選（TT）1Gr-結果表（貼付）'!$B:$B,0),MATCH("会員番号",'公式予選（TT）1Gr-結果表（貼付）'!$1:$1,0)),1,1),"") | AY64: =IFERROR(MID(INDEX('公式予選（TT）1Gr-結果表（貼付）'!$A:$Z,MATCH($R64,'公式予選（TT）1Gr-結果表（貼付）'!$B:$B,0),MATCH("会員番号",'公式予選（TT）1Gr-結果表（貼付）'!$1:$1,0)),2,1),"") | BA64: =IFERROR(MID(INDEX('公式予選（TT）1Gr-結果表（貼付）'!$A:$Z,MATCH($R64,'公式予選（TT）1Gr-結果表（貼付）'!$B:$B,0),MATCH("会員番号",'公式予選（TT）1Gr-結果表（貼付）'!$1:$1,0)),3,1),"") | BC64: =IFERROR(MID(INDEX('公式予選（TT）1Gr-結果表（貼付）'!$A:$Z,MATCH($R64,'公式予選（TT）1Gr-結果表（貼付）'!$B:$B,0),MATCH("会員番号",'公式予選（TT）1Gr-結果表（貼付）'!$1:$1,0)),4,1),"") | BE64: =IFERROR(MID(INDEX('公式予選（TT）1Gr-結果表（貼付）'!$A:$Z,MATCH($R64,'公式予選（TT）1Gr-結果表（貼付）'!$B:$B,0),MATCH("会員番号",'公式予選（TT）1Gr-結果表（貼付）'!$1:$1,0)),5,1),"") | BG64: =IFERROR(MID(INDEX('公式予選（TT）1Gr-結果表（貼付）'!$A:$Z,MATCH($R64,'公式予選（TT）1Gr-結果表（貼付）'!$B:$B,0),MATCH("会員番号",'公式予選（TT）1Gr-結果表（貼付）'!$1:$1,0)),6,1),"") | BI64: =IFERROR(MID(INDEX('公式予選（TT）1Gr-結果表（貼付）'!$A:$Z,MATCH($R64,'公式予選（TT）1Gr-結果表（貼付）'!$B:$B,0),MATCH("会員番号",'公式予選（TT）1Gr-結果表（貼付）'!$1:$1,0)),7,1),"") | BK64: =IFERROR(MID(INDEX('公式予選（TT）1Gr-結果表（貼付）'!$A:$Z,MATCH($R64,'公式予選（TT）1Gr-結果表（貼付）'!$B:$B,0),MATCH("会員番号",'公式予選（TT）1Gr-結果表（貼付）'!$1:$1,0)),8,1),"") | BM64: =IFERROR(MID(INDEX('公式予選（TT）1Gr-結果表（貼付）'!$A:$Z,MATCH($R64,'公式予選（TT）1Gr-結果表（貼付）'!$B:$B,0),MATCH("会員番号",'公式予選（TT）1Gr-結果表（貼付）'!$1:$1,0)),9,1),"") | BO64: =IFERROR(MID(INDEX('公式予選（TT）1Gr-結果表（貼付）'!$A:$Z,MATCH($R64,'公式予選（TT）1Gr-結果表（貼付）'!$B:$B,0),MATCH("会員番号",'公式予選（TT）1Gr-結果表（貼付）'!$1:$1,0)),10,1),"") | BQ64: =IFERROR(MID(INDEX('公式予選（TT）1Gr-結果表（貼付）'!$A:$Z,MATCH($R64,'公式予選（TT）1Gr-結果表（貼付）'!$B:$B,0),MATCH("会員番号",'公式予選（TT）1Gr-結果表（貼付）'!$1:$1,0)),11,1),"") | BS64: =IFERROR(MID(INDEX('公式予選（TT）1Gr-結果表（貼付）'!$A:$Z,MATCH($R64,'公式予選（TT）1Gr-結果表（貼付）'!$B:$B,0),MATCH("会員番号",'公式予選（TT）1Gr-結果表（貼付）'!$1:$1,0)),12,1),"") | BU64: =IFERROR(MID(INDEX('公式予選（TT）1Gr-結果表（貼付）'!$A:$Z,MATCH($R64,'公式予選（TT）1Gr-結果表（貼付）'!$B:$B,0),MATCH("会員番号",'公式予選（TT）1Gr-結果表（貼付）'!$1:$1,0)),13,1),"") | BW64: =IFERROR(MID(INDEX('公式予選（TT）1Gr-結果表（貼付）'!$A:$Z,MATCH($R64,'公式予選（TT）1Gr-結果表（貼付）'!$B:$B,0),MATCH("会員番号",'公式予選（TT）1Gr-結果表（貼付）'!$1:$1,0)),14,1),"") | BY64: =IFERROR(INDEX('公式予選（TT）1Gr-結果表（貼付）'!$A:$Z,MATCH($R64,'公式予選（TT）1Gr-結果表（貼付）'!$B:$B,0),MATCH("Team",'公式予選（TT）1Gr-結果表（貼付）'!$1:$1,0)),"") | CT64: =IFERROR(INDEX('公式予選（TT）1Gr-結果表（貼付）'!$A:$Z,MATCH($R64,'公式予選（TT）1Gr-結果表（貼付）'!$B:$B,0),MATCH("Model/Engine",'公式予選（TT）1Gr-結果表（貼付）'!$1:$1,0)),"") | DN64: =IF(A64="DNS","ｽﾀｰﾄ出来ず",IF(A64="DQ","失 格",IFERROR(INDEX('公式予選（TT）1Gr-結果表（貼付）'!$A:$Z,MATCH($R64,'公式予選（TT）1Gr-結果表（貼付）'!$B:$B,0),MATCH("BestLap",'公式予選（TT）1Gr-結果表（貼付）'!$1:$1,0)),"")))
F65: =+'公式予選（TT）1Gr-結果表（印刷）'!A52
F66: =+'公式予選（TT）1Gr-結果表（印刷）'!B53 | M66: =+'公式予選（TT）1Gr-結果表（印刷）'!C53
F67: =+'公式予選（TT）1Gr-結果表（印刷）'!B54 | M67: =+'公式予選（TT）1Gr-結果表（印刷）'!C54
F68: =+'公式予選（TT）1Gr-結果表（印刷）'!B55 | M68: =+'公式予選（TT）1Gr-結果表（印刷）'!C55
F69: =+'公式予選（TT）1Gr-結果表（印刷）'!B56 | M69: =+'公式予選（TT）1Gr-結果表（印刷）'!C56
F70: =+'公式予選（TT）1Gr-結果表（印刷）'!B57 | M70: =+'公式予選（TT）1Gr-結果表（印刷）'!C57
F71: =+'公式予選（TT）1Gr-結果表（印刷）'!B58 | M71: =+'公式予選（TT）1Gr-結果表（印刷）'!C58
F72: =+'公式予選（TT）1Gr-結果表（印刷）'!B59 | M72: =+'公式予選（TT）1Gr-結果表（印刷）'!C59
F73: =+'公式予選（TT）1Gr-結果表（印刷）'!B60 | M73: =+'公式予選（TT）1Gr-結果表（印刷）'!C60
F74: =+'公式予選（TT）1Gr-結果表（印刷）'!B61 | M74: =+'公式予選（TT）1Gr-結果表（印刷）'!C61
L76: 計時委員長署名 | BH76: 競技長署名 | DD76: 審査委員長署名

Sheet 公式予選（TT）2Gr-結果表（貼付）
A1: Pos. | B1: No. | C1: 名前 | D1: クラス | E1: BestLap | F1: In Lap | G1: 差 | H1: GAP | I1: Laps | J1: 2nd Best | K1: コメント | L1: ポンダー# | M1: Tires | N1: Model/Engine | O1: Team | P1: 会員番号 | Q1: Sponsor | R1: Make | S1: ポイント | T1: ベスト平均時速 | U1: Total Time | V1: S1 | W1: S2
A2: 1 | B2: 96 | C2: 大野 弘志 | D2: SUPER SS | E2: 55.354 | F2: 3 | I2: 6 | J2: 55.524 | L2: 7857543 | M2: BS | N2: EXPRIT/YAMAHA | O2: SLT.RT/TeamBONJIN | P2: D12df86cd | S2: 0 | T2: 82.205 | U2: 0.0040045833 | V2: 27.915 | W2: 27.898
A3: 2 | B3: 1 | C3: 野嵜 弘樹 | D3: SUPER SS | E3: 55.395 | F3: 3 | G3: 0.041 | H3: 0.041 | I3: 5 | J3: 55.398 | L3: 699 | M3: BS | N3: crocpromotion/YAMAHA | O3: モアコラージュ ＴＱＳ | P3: Ded052fa3 | S3: 0 | T3: 82.145 | U3: 0.0039222454 | V3: 27.899 | W3: 27.577
A4: 3 | B4: 22 | C4: 清川 善文 | D4: SUPER SS | E4: 55.405 | F4: 6 | G4: 0.051 | H4: 0.01 | I4: 6 | J4: 55.466 | L4: 711 | M4: BS | N4: ＦＡ/YAMAHA | O4: クリーンリバーMS with ＨＫＣ | P4: D5b6fc20 | S4: 0 | T4: 82.13 | U4: 0.003992581 | V4: 27.926 | W4: 27.479
A5: 4 | B5: 43 | C5: 大見 幸正 | D5: SUPER SS | E5: 55.434 | F5: 3 | G5: 0.08 | H5: 0.029 | I5: 6 | J5: 55.439 | L5: 9252860 | M5: BS | N5: TONY/YAMAHA | O5: T WEST RS | P5: D3d1c8728 | S5: 0 | T5: 82.087 | U5: 0.0039242708 | V5: 28.138 | W5: 27.663
A6: 5 | B6: 40 | C6: 植田 春樹 | D6: SUPER SS | E6: 55.437 | F6: 5 | G6: 0.083 | H6: 0.003 | I6: 5 | J6: 55.541 | L6: 721 | M6: BS | N6: TONYKART/YAMAHA | O6: Msistem | P6: De59edfca | S6: 0 | T6: 82.082 | U6: 0.0039386343 | V6: 27.947 | W6: 27.49
A7: 6 | B7: 59 | C7: 諸井 亮介 | D7: SUPER SS | E7: 55.465 | F7: 2 | G7: 0.111 | H7: 0.028 | I7: 5 | J7: 55.547 | L7: 729 | M7: BS | N7: KOSMIC/YAMAHA | O7: Moty's RSGEN | P7: D8981e49b | S7: 0 | T7: 82.041 | U7: 0.0032472685 | V7: 31.972
A8: 7 | B8: 88 | C8: 渡邉 晃平 | D8: SUPER SS | E8: 55.532 | F8: 4 | G8: 0.178 | H8: 0.067 | I8: 5 | J8: 55.754 | L8: 737 | M8: BS | N8: プラガ/YAMAHA | O8: ガレージC | P8: D678415e4 | S8: 0 | T8: 81.942 | U8: 0.0038987731 | V8: 27.917 | W8: 27.99
A9: 8 | B9: 35 | C9: 友村 慎太郎 | D9: SUPER SS | E9: 55.58 | F9: 3 | G9: 0.226 | H9: 0.048 | I9: 6 | J9: 55.61 | L9: 718 | M9: BS | N9: TONYKART/YAMAHA | O9: FIORE Motor Sports | P9: D5b2193bb | S9: 0 | T9: 81.871 | U9: 0.0038895718 | V9: 27.882 | W9: 27.852
A10: 9 | B10: 15 | C10: 田中 哲 | D10: SUPER SS | E10: 55.638 | F10: 4 | G10: 0.284 | H10: 0.058 | I10: 5 | J10: 56.034 | L10: 708 | M10: BS | N10: birelART/YAMAHA | O10: RL astech | P10: Dd4875e47 | S10: 0 | T10: 81.786 | U10: 0.0038779745 | V10: 28.117 | W10: 27.917
A11: 10 | B11: 71 | C11: 棚橋 信之 | D11: SUPER SS | E11: 55.674 | F11: 3 | G11: 0.32 | H11: 0.036 | I11: 6 | J11: 55.773 | L11: 733 | M11: BS | N11: TONYKART/YAMAHA | O11: RT熊+AshマルシンHSC | P11: D958ab69c | S11: 0 | T11: 81.733 | U11: 0.004026713 | V11: 27.992 | W11: 27.781
A12: 11 | B12: 33 | C12: 増田 貴久 | D12: SUPER SS | E12: 55.715 | F12: 5 | G12: 0.361 | H12: 0.041 | I12: 5 | J12: 55.807 | L12: 717 | M12: BS | N12: EIKO-Drago/YAMAHA | O12: ますかけ | P12: Dfa04faa8 | S12: 0 | T12: 81.673 | U12: 0.0038494213 | V12: 27.994 | W12: 27.721
A13: 12 | B13: 98 | C13: 村瀬 裕太郎 | D13: SUPER SS | E13: 55.775 | F13: 5 | G13: 0.421 | H13: 0.06 | I13: 5 | J13: 56.01 | L13: 739 | M13: BS | N13: エクスプリット/YAMAHA | O13: モアコラージュ TQS | P13: D2057ad90 | S13: 0 | T13: 81.585 | U13: 0.0038655324 | V13: 28.085 | W13: 27.69
A14: 13 | B14: 31 | C14: 金澤 正博 | D14: SUPER SS | E14: 55.829 | F14: 5 | G14: 0.475 | H14: 0.054 | I14: 5 | J14: 56.184 | L14: 716 | M14: BS | N14: RICCIARDO/YAMAHA | O14: ガレージC | P14: D9ae7d61e | S14: 0 | T14: 81.506 | U14: 0.0038881134 | V14: 27.951 | W14: 27.878
A15: 14 | B15: 79 | C15: 網野 麻衣子 | D15: SUPER SS | E15: 55.844 | F15: 4 | G15: 0.49 | H15: 0.015 | I15: 5 | J15: 55.905 | L15: 736 | M15: BS | N15: Birel/YAMAHA | O15: アステック | P15: D6271b0c | S15: 0 | T15: 81.484 | U15: 0.0035814352 | V15: 28.244 | W15: 27.666
A16: 15 | B16: 28 | C16: 山東 功佳 | D16: SUPER SS | E16: 55.858 | F16: 3 | G16: 0.504 | H16: 0.014 | I16: 6 | J16: 55.885 | L16: 714 | M16: BS | N16: KOSMIC/YAMAHA | O16: BRAVO-RACING | P16: Df6f8ebc8 | S16: 0 | T16: 81.464 | U16: 0.0040234606 | V16: 28.058 | W16: 27.92
A17: 16 | B17: 97 | C17: 喜多 佑気 | D17: SUPER SS | E17: 55.887 | F17: 2 | G17: 0.533 | H17: 0.029 | I17: 5 | J17: 56.011 | L17: 738 | M17: BS | N17: mach1/YAMAHA | O17: サーティーズレーシング | P17: Daabeeda6 | S17: 0 | T17: 81.421 | U17: 0.0038925579 | V17: 28.348 | W17: 28.383
A18: 17 | B18: 16 | C18: 小辻 隼人 | D18: SUPER SS | E18: 55.898 | F18: 5 | G18: 0.544 | H18: 0.011 | I18: 5 | J18: 55.966 | L18: 709 | M18: BS | N18: CL/YAMAHA | O18: TIGRE | P18: Dc05d5d7 | S18: 0 | T18: 81.405 | U18: 0.0038477662 | V18: 28.213 | W18: 27.685
A19: 18 | B19: 55 | C19: 三船 祐一 | D19: SUPER SS | E19: 55.929 | F19: 4 | G19: 0.575 | H19: 0.031 | I19: 6 | J19: 55.989 | L19: 727 | M19: BS | N19: crocpromotion/YAMAHA | O19: Gren Blue RT | P19: Ddbeace3a | S19: 0 | T19: 81.36 | U19: 0.003937581 | V19: 28.288 | W19: 27.911
... A25: 24 | B25: 66 | C25: 山本 勝之 | D25: SUPER SS | E25: 57.16 | F25: 5 | G25: 1.806 | H25: 0.496 | I25: 5 | J25: 57.359 | L25: 730 | M25: BS | N25: ドラゴコルセ/YAMAHA | O25: ラムレーシングWITHモンキーレンチ | P25: Dcb1d8d8 | S25: 0 | T25: 79.608 | U25: 0.0039724306 | V25: 28.688 | W25: 28.472
A26: DQ | B26: 17 | C26: 田代 吉彦 | D26: SUPER SS | E26: 55.314 | F26: 5 | I26: 5 | J26: 55.447 | K26: 鈴鹿選手権ｼﾘｰｽﾞ特別規則 競技車両規則第57条～1)(最低重量)違反により、失格とした。 | L26: 710 | M26: BS | N26: TONY KART/YAMAHA | O26: HKC with CA YOSHIDA | P26: Db46452b0 | S26: 0 | T26: 82.265 | U26: 0.0039480787 | V26: 27.914 | W26: 27.4

Sheet 公式予選（TT）2Gr-結果表（印刷）
J6: =+各種設定!D18 -> 44906 | K6: :
A7: =+各種設定!D2 -> 2022 鈴鹿選手権シリーズ第7戦 ｶｰﾄﾚｰｽ IN SUZUKA | J7: WEATHER: | K7: Fine
D8: Thanks BRIDGESTONE | J8: COURSE : | K8: Dry
A9: =+各種設定!D4 -> SUPER SS | J9: 南コース 1.264Km
A10: ２ Ｇｒ. 公式予選結果表
B11: No. | C11: クラス | D11: 名前 | E11: Model/Engine | F11: Team | G11: Tires | H11: BestLap | I11: =VLOOKUP(A9,コースレコード!$A:$G,3,FALSE) -> 54.706 | J11: 差 | K11: GAP | P11: コメント | R11: ペナルティNo. | S11: グリッドコメント
A12: Pos. | B12: No. | D12: Driver | E12: Type | F12: Team | G12: Tire | H12: Time | J12: Delay | K12: Gap | L12: Lap
A13: 1 | B13: =IFERROR(INDEX('公式予選（TT）2Gr-結果表（貼付）'!A2:$Z$50,MATCH($A13,'公式予選（TT）2Gr-結果表（貼付）'!$A2:$A50,0),MATCH('公式予選（TT）2Gr-結果表（印刷）'!B$11,'公式予選（TT）2Gr-結果表（貼付）'!$1:$1,0)),"") -> 96 | D13: =IFERROR(INDEX('公式予選（TT）2Gr-結果表（貼付）'!$A:$Z,MATCH($B13,'公式予選（TT）2Gr-結果表（貼付）'!$B:$B,0),MATCH('公式予選（TT）2Gr-結果表（印刷）'!D$11,'公式予選（TT）2Gr-結果表（貼付）'!$1:$1,0)),"") -> 大野 弘志 | E13: =IFERROR(INDEX('公式予選（TT）2Gr-結果表（貼付）'!$A:$Z,MATCH($B13,'公式予選（TT）2Gr-結果表（貼付）'!$B:$B,0),MATCH('公式予選（TT）2Gr-結果表（印刷）'!E$11,'公式予選（TT）2Gr-結果表（貼付）'!$1:$1,0)),"") -> EXPRIT/YAMAHA | F13: =IFERROR(INDEX('公式予選（TT）2Gr-結果表（貼付）'!$A:$Z,MATCH($B13,'公式予選（TT）2Gr-結果表（貼付）'!$B:$B,0),MATCH('公式予選（TT）2Gr-結果表（印刷）'!F$11,'公式予選（TT）2Gr-結果表（貼付）'!$1:$1,0)),"") -> SLT.RT/TeamBONJIN | G13: =IFERROR(INDEX('公式予選（TT）2Gr-結果表（貼付）'!$A:$Z,MATCH($B13,'公式予選（TT）2Gr-結果表（貼付）'!$B:$B,0),MATCH('公式予選（TT）2Gr-結果表（印刷）'!G$11,'公式予選（TT）2Gr-結果表（貼付）'!$1:$1,0)),"") -> BS | H13: =IFERROR(INDEX('公式予選（TT）2Gr-結果表（貼付）'!$A:$Z,MATCH($B13,'公式予選（TT）2Gr-結果表（貼付）'!$B:$B,0),MATCH('公式予選（TT）2Gr-結果表（印刷）'!H$11,'公式予選（TT）2Gr-結果表（貼付）'!$1:$1,0)),"") -> 55.354 | I13: =IF(H13<1,"",IF($I$11>H13,"R","")) | J13: =ROUND(INDEX('公式予選（TT）2Gr-結果表（貼付）'!$A:$Z,MATCH($B13,'公式予選（TT）2Gr-結果表（貼付）'!$B:$B,0),MATCH("ベスト平均時速",'公式予選（TT）2Gr-結果表（貼付）'!$1:$1,0)),2)&"km/h" -> 82.21km/h | L13: =IF(A13="DNS","",IF(A13="DQ","",IFERROR(INDEX('公式予選（TT）2Gr-結果表（貼付）'!$A:$Z,MATCH($B13,'公式予選（TT）2Gr-結果表（貼付）'!$B:$B,0),MATCH("In Lap",'公式予選（TT）2Gr-結果表（貼付）'!$1:$1,0))&"/"&INDEX('公式予選（TT）2Gr-結果表（貼付）'!$A:$Z,MATCH($B13,'公式予選（TT）2Gr-結果表（貼付）'!$B:$B,0),MATCH("Laps",'公式予選（TT）2Gr-結果表（貼付）'!$1:$1,0)),""))) -> 3/6 | P13: =IF(IFERROR(INDEX('公式予選（TT）2Gr-結果表（貼付）'!$A:$Z,MATCH($B13,'公式予選（TT）2Gr-結果表（貼付）'!$B:$B,0),MATCH(P$11,'公式予選（TT）2Gr-結果表（貼付）'!$1:$1,0)),"")=0,"",IFERROR(INDEX('公式予選（TT）2Gr-結果表（貼付）'!$A:$Z,MATCH($B13,'公式予選（TT）2Gr-結果表（貼付）'!$B:$B,0),MATCH(P$11,'公式予選（TT）2Gr-結果表（貼付）'!$1:$1,0)),"")) | Q13: =IF(P13="","",COUNTIF($P$13:P13,"<>"&"")) | R13: =IFERROR(RANK(Q13,$Q$13:$Q$46,1),"") | S13: =IF(IFERROR(INDEX('公式予選（TT）2Gr-結果表（貼付）'!$A:$Z,MATCH($A13,'公式予選（TT）2Gr-結果表（貼付）'!$A:$A,0),MATCH(S$11,'公式予選（TT）2Gr-結果表（貼付）'!$1:$1,0)),"")=0,"",IFERROR(INDEX('公式予選（TT）2Gr-結果表（貼付）'!$A:$Z,MATCH($A13,'公式予選（TT）2Gr-結果表（貼付）'!$A:$A,0),MATCH(S$11,'公式予選（TT）2Gr-結果表（貼付）'!$1:$1,0)),""))
A14: =IF(OR('公式予選（TT）2Gr-結果表（貼付）'!A3="DNF",'公式予選（TT）2Gr-結果表（貼付）'!A3="DNS",'公式予選（TT）2Gr-結果表（貼付）'!A3="DQ"),'公式予選（TT）2Gr-結果表（貼付）'!A3,IF(MAX('公式予選（TT）2Gr-結果表（貼付）'!$A:$A)>A13,A13+1,"")) -> 2 | B14: =IFERROR(INDEX('公式予選（TT）2Gr-結果表（貼付）'!A3:$Z$50,MATCH($A14,'公式予選（TT）2Gr-結果表（貼付）'!$A3:$A51,0),MATCH('公式予選（TT）2Gr-結果表（印刷）'!B$11,'公式予選（TT）2Gr-結果表（貼付）'!$1:$1,0)),"") -> 1 | D14: =IFERROR(INDEX('公式予選（TT）2Gr-結果表（貼付）'!$A:$Z,MATCH($B14,'公式予選（TT）2Gr-結果表（貼付）'!$B:$B,0),MATCH('公式予選（TT）2Gr-結果表（印刷）'!D$11,'公式予選（TT）2Gr-結果表（貼付）'!$1:$1,0)),"") -> 野嵜 弘樹 | E14: =IFERROR(INDEX('公式予選（TT）2Gr-結果表（貼付）'!$A:$Z,MATCH($B14,'公式予選（TT）2Gr-結果表（貼付）'!$B:$B,0),MATCH('公式予選（TT）2Gr-結果表（印刷）'!E$11,'公式予選（TT）2Gr-結果表（貼付）'!$1:$1,0)),"") -> crocpromotion/YAMAHA | F14: =IFERROR(INDEX('公式予選（TT）2Gr-結果表（貼付）'!$A:$Z,MATCH($B14,'公式予選（TT）2Gr-結果表（貼付）'!$B:$B,0),MATCH('公式予選（TT）2Gr-結果表（印刷）'!F$11,'公式予選（TT）2Gr-結果表（貼付）'!$1:$1,0)),"") -> モアコラージュ ＴＱＳ | G14: =IFERROR(INDEX('公式予選（TT）2Gr-結果表（貼付）'!$A:$Z,MATCH($B14,'公式予選（TT）2Gr-結果表（貼付）'!$B:$B,0),MATCH('公式予選（TT）2Gr-結果表（印刷）'!G$11,'公式予選（TT）2Gr-結果表（貼付）'!$1:$1,0)),"") -> BS | H14: =IF(A14="DNS","ｽﾀｰﾄ出来ず",IF(A14="DQ","失 格",IFERROR(INDEX('公式予選（TT）2Gr-結果表（貼付）'!$A:$Z,MATCH($B14,'公式予選（TT）2Gr-結果表（貼付）'!$B:$B,0),MATCH('公式予選（TT）2Gr-結果表（印刷）'!H$11,'公式予選（TT）2Gr-結果表（貼付）'!$1:$1,0)),""))) -> 55.395 | I14: =IF(H14<1,"",IF($I$11>H14,"R","")) | J14: =IF(A14="DNS","",IF(A14="DQ","",IFERROR(INDEX('公式予選（TT）2Gr-結果表（貼付）'!$A:$Z,MATCH($B14,'公式予選（TT）2Gr-結果表（貼付）'!$B:$B,0),MATCH('公式予選（TT）2Gr-結果表（印刷）'!J$11,'公式予選（TT）2Gr-結果表（貼付）'!$1:$1,0)),""))) -> 0.041 | K14: =IF(A14="DNS","",IF(A14="DQ","",IFERROR(INDEX('公式予選（TT）2Gr-結果表（貼付）'!$A:$Z,MATCH($B14,'公式予選（TT）2Gr-結果表（貼付）'!$B:$B,0),MATCH('公式予選（TT）2Gr-結果表（印刷）'!K$11,'公式予選（TT）2Gr-結果表（貼付）'!$1:$1,0)),""))) -> 0.041 | L14: =IF(A14="DNS","",IF(A14="DQ","",IFERROR(INDEX('公式予選（TT）2Gr-結果表（貼付）'!$A:$Z,MATCH($B14,'公式予選（TT）2Gr-結果表（貼付）'!$B:$B,0),MATCH("In Lap",'公式予選（TT）2Gr-結果表（貼付）'!$1:$1,0))&"/"&INDEX('公式予選（TT）2Gr-結果表（貼付）'!$A:$Z,MATCH($B14,'公式予選（TT）2Gr-結果表（貼付）'!$B:$B,0),MATCH("Laps",'公式予選（TT）2Gr-結果表（貼付）'!$1:$1,0)),""))) -> 3/5 | P14: =IF(IFERROR(INDEX('公式予選（TT）2Gr-結果表（貼付）'!$A:$Z,MATCH($B14,'公式予選（TT）2Gr-結果表（貼付）'!$B:$B,0),MATCH(P$11,'公式予選（TT）2Gr-結果表（貼付）'!$1:$1,0)),"")=0,"",IFERROR(INDEX('公式予選（TT）2Gr-結果表（貼付）'!$A:$Z,MATCH($B14,'公式予選（TT）2Gr-結果表（貼付）'!$B:$B,0),MATCH(P$11,'公式予選（TT）2Gr-結果表（貼付）'!$1:$1,0)),"")) | Q14: =IF(P14="","",COUNTIF($P$13:P14,"<>"&"")) | R14: =IFERROR(RANK(Q14,$Q$13:$Q$46,1),"") | S14: =IF(IFERROR(INDEX('公式予選（TT）2Gr-結果表（貼付）'!$A:$Z,MATCH($A14,'公式予選（TT）2Gr-結果表（貼付）'!$A:$A,0),MATCH(S$11,'公式予選（TT）2Gr-結果表（貼付）'!$1:$1,0)),"")=0,"",IFERROR(INDEX('公式予選（TT）2Gr-結果表（貼付）'!$A:$Z,MATCH($A14,'公式予選（TT）2Gr-結果表（貼付）'!$A:$A,0),MATCH(S$11,'公式予選（TT）2Gr-結果表（貼付）'!$1:$1,0)),""))
A15: =IF(OR('公式予選（TT）2Gr-結果表（貼付）'!A4="DNF",'公式予選（TT）2Gr-結果表（貼付）'!A4="DNS",'公式予選（TT）2Gr-結果表（貼付）'!A4="DQ"),'公式予選（TT）2Gr-結果表（貼付）'!A4,IF(MAX('公式予選（TT）2Gr-結果表（貼付）'!$A:$A)>A14,A14+1,"")) -> 3 | B15: =IFERROR(INDEX('公式予選（TT）2Gr-結果表（貼付）'!A4:$Z$50,MATCH($A15,'公式予選（TT）2Gr-結果表（貼付）'!$A4:$A52,0),MATCH('公式予選（TT）2Gr-結果表（印刷）'!B$11,'公式予選（TT）2Gr-結果表（貼付）'!$1:$1,0)),"") -> 22 | D15: =IFERROR(INDEX('公式予選（TT）2Gr-結果表（貼付）'!$A:$Z,MATCH($B15,'公式予選（TT）2Gr-結果表（貼付）'!$B:$B,0),MATCH('公式予選（TT）2Gr-結果表（印刷）'!D$11,'公式予選（TT）2Gr-結果表（貼付）'!$1:$1,0)),"") -> 清川 善文 | E15: =IFERROR(INDEX('公式予選（TT）2Gr-結果表（貼付）'!$A:$Z,MATCH($B15,'公式予選（TT）2Gr-結果表（貼付）'!$B:$B,0),MATCH('公式予選（TT）2Gr-結果表（印刷）'!E$11,'公式予選（TT）2Gr-結果表（貼付）'!$1:$1,0)),"") -> ＦＡ/YAMAHA | F15: =IFERROR(INDEX('公式予選（TT）2Gr-結果表（貼付）'!$A:$Z,MATCH($B15,'公式予選（TT）2Gr-結果表（貼付）'!$B:$B,0),MATCH('公式予選（TT）2Gr-結果表（印刷）'!F$11,'公式予選（TT）2Gr-結果表（貼付）'!$1:$1,0)),"") -> クリーンリバーMS with ＨＫＣ | G15: =IFERROR(INDEX('公式予選（TT）2Gr-結果表（貼付）'!$A:$Z,MATCH($B15,'公式予選（TT）2Gr-結果表（貼付）'!$B:$B,0),MATCH('公式予選（TT）2Gr-結果表（印刷）'!G$11,'公式予選（TT）2Gr-結果表（貼付）'!$1:$1,0)),"") -> BS | H15: =IF(A15="DNS","ｽﾀｰﾄ出来ず",IF(A15="DQ","失 格",IFERROR(INDEX('公式予選（TT）2Gr-結果表（貼付）'!$A:$Z,MATCH($B15,'公式予選（TT）2Gr-結果表（貼付）'!$B:$B,0),MATCH('公式予選（TT）2Gr-結果表（印刷）'!H$11,'公式予選（TT）2Gr-結果表（貼付）'!$1:$1,0)),""))) -> 55.405 | I15: =IF(H15<1,"",IF($I$11>H15,"R","")) | J15: =IF(A15="DNS","",IF(A15="DQ","",IFERROR(INDEX('公式予選（TT）2Gr-結果表（貼付）'!$A:$Z,MATCH($B15,'公式予選（TT）2Gr-結果表（貼付）'!$B:$B,0),MATCH('公式予選（TT）2Gr-結果表（印刷）'!J$11,'公式予選（TT）2Gr-結果表（貼付）'!$1:$1,0)),""))) -> 0.051 | K15: =IF(A15="DNS","",IF(A15="DQ","",IFERROR(INDEX('公式予選（TT）2Gr-結果表（貼付）'!$A:$Z,MATCH($B15,'公式予選（TT）2Gr-結果表（貼付）'!$B:$B,0),MATCH('公式予選（TT）2Gr-結果表（印刷）'!K$11,'公式予選（TT）2Gr-結果表（貼付）'!$1:$1,0)),""))) -> 0.01 | L15: =IF(A15="DNS","",IF(A15="DQ","",IFERROR(INDEX('公式予選（TT）2Gr-結果表（貼付）'!$A:$Z,MATCH($B15,'公式予選（TT）2Gr-結果表（貼付）'!$B:$B,0),MATCH("In Lap",'公式予選（TT）2Gr-結果表（貼付）'!$1:$1,0))&"/"&INDEX('公式予選（TT）2Gr-結果表（貼付）'!$A:$Z,MATCH($B15,'公式予選（TT）2Gr-結果表（貼付）'!$B:$B,0),MATCH("Laps",'公式予選（TT）2Gr-結果表（貼付）'!$1:$1,0)),""))) -> 6/6 | P15: =IF(IFERROR(INDEX('公式予選（TT）2Gr-結果表（貼付）'!$A:$Z,MATCH($B15,'公式予選（TT）2Gr-結果表（貼付）'!$B:$B,0),MATCH(P$11,'公式予選（TT）2Gr-結果表（貼付）'!$1:$1,0)),"")=0,"",IFERROR(INDEX('公式予選（TT）2Gr-結果表（貼付）'!$A:$Z,MATCH($B15,'公式予選（TT）2Gr-結果表（貼付）'!$B:$B,0),MATCH(P$11,'公式予選（TT）2Gr-結果表（貼付）'!$1:$1,0)),"")) | Q15: =IF(P15="","",COUNTIF($P$13:P15,"<>"&"")) | R15: =IFERROR(RANK(Q15,$Q$13:$Q$46,1),"") | S15: =IF(IFERROR(INDEX('公式予選（TT）2Gr-結果表（貼付）'!$A:$Z,MATCH($A15,'公式予選（TT）2Gr-結果表（貼付）'!$A:$A,0),MATCH(S$11,'公式予選（TT）2Gr-結果表（貼付）'!$1:$1,0)),"")=0,"",IFERROR(INDEX('公式予選（TT）2Gr-結果表（貼付）'!$A:$Z,MATCH($A15,'公式予選（TT）2Gr-結果表（貼付）'!$A:$A,0),MATCH(S$11,'公式予選（TT）2Gr-結果表（貼付）'!$1:$1,0)),""))
A16: =IF(OR('公式予選（TT）2Gr-結果表（貼付）'!A5="DNF",'公式予選（TT）2Gr-結果表（貼付）'!A5="DNS",'公式予選（TT）2Gr-結果表（貼付）'!A5="DQ"),'公式予選（TT）2Gr-結果表（貼付）'!A5,IF(MAX('公式予選（TT）2Gr-結果表（貼付）'!$A:$A)>A15,A15+1,"")) -> 4 | B16: =IFERROR(INDEX('公式予選（TT）2Gr-結果表（貼付）'!A5:$Z$50,MATCH($A16,'公式予選（TT）2Gr-結果表（貼付）'!$A5:$A53,0),MATCH('公式予選（TT）2Gr-結果表（印刷）'!B$11,'公式予選（TT）2Gr-結果表（貼付）'!$1:$1,0)),"") -> 43 | D16: =IFERROR(INDEX('公式予選（TT）2Gr-結果表（貼付）'!$A:$Z,MATCH($B16,'公式予選（TT）2Gr-結果表（貼付）'!$B:$B,0),MATCH('公式予選（TT）2Gr-結果表（印刷）'!D$11,'公式予選（TT）2Gr-結果表（貼付）'!$1:$1,0)),"") -> 大見 幸正 | E16: =IFERROR(INDEX('公式予選（TT）2Gr-結果表（貼付）'!$A:$Z,MATCH($B16,'公式予選（TT）2Gr-結果表（貼付）'!$B:$B,0),MATCH('公式予選（TT）2Gr-結果表（印刷）'!E$11,'公式予選（TT）2Gr-結果表（貼付）'!$1:$1,0)),"") -> TONY/YAMAHA | F16: =IFERROR(INDEX('公式予選（TT）2Gr-結果表（貼付）'!$A:$Z,MATCH($B16,'公式予選（TT）2Gr-結果表（貼付）'!$B:$B,0),MATCH('公式予選（TT）2Gr-結果表（印刷）'!F$11,'公式予選（TT）2Gr-結果表（貼付）'!$1:$1,0)),"") -> T WEST RS | G16: =IFERROR(INDEX('公式予選（TT）2Gr-結果表（貼付）'!$A:$Z,MATCH($B16,'公式予選（TT）2Gr-結果表（貼付）'!$B:$B,0),MATCH('公式予選（TT）2Gr-結果表（印刷）'!G$11,'公式予選（TT）2Gr-結果表（貼付）'!$1:$1,0)),"") -> BS | H16: =IF(A16="DNS","ｽﾀｰﾄ出来ず",IF(A16="DQ","失 格",IFERROR(INDEX('公式予選（TT）2Gr-結果表（貼付）'!$A:$Z,MATCH($B16,'公式予選（TT）2Gr-結果表（貼付）'!$B:$B,0),MATCH('公式予選（TT）2Gr-結果表（印刷）'!H$11,'公式予選（TT）2Gr-結果表（貼付）'!$1:$1,0)),""))) -> 55.434 | I16: =IF(H16<1,"",IF($I$11>H16,"R","")) | J16: =IF(A16="DNS","",IF(A16="DQ","",IFERROR(INDEX('公式予選（TT）2Gr-結果表（貼付）'!$A:$Z,MATCH($B16,'公式予選（TT）2Gr-結果表（貼付）'!$B:$B,0),MATCH('公式予選（TT）2Gr-結果表（印刷）'!J$11,'公式予選（TT）2Gr-結果表（貼付）'!$1:$1,0)),""))) -> 0.08 | K16: =IF(A16="DNS","",IF(A16="DQ","",IFERROR(INDEX('公式予選（TT）2Gr-結果表（貼付）'!$A:$Z,MATCH($B16,'公式予選（TT）2Gr-結果表（貼付）'!$B:$B,0),MATCH('公式予選（TT）2Gr-結果表（印刷）'!K$11,'公式予選（TT）2Gr-結果表（貼付）'!$1:$1,0)),""))) -> 0.029 | L16: =IF(A16="DNS","",IF(A16="DQ","",IFERROR(INDEX('公式予選（TT）2Gr-結果表（貼付）'!$A:$Z,MATCH($B16,'公式予選（TT）2Gr-結果表（貼付）'!$B:$B,0),MATCH("In Lap",'公式予選（TT）2Gr-結果表（貼付）'!$1:$1,0))&"/"&INDEX('公式予選（TT）2Gr-結果表（貼付）'!$A:$Z,MATCH($B16,'公式予選（TT）2Gr-結果表（貼付）'!$B:$B,0),MATCH("Laps",'公式予選（TT）2Gr-結果表（貼付）'!$1:$1,0)),""))) -> 3/6 | P16: =IF(IFERROR(INDEX('公式予選（TT）2Gr-結果表（貼付）'!$A:$Z,MATCH($B16,'公式予選（TT）2Gr-結果表（貼付）'!$B:$B,0),MATCH(P$11,'公式予選（TT）2Gr-結果表（貼付）'!$1:$1,0)),"")=0,"",IFERROR(INDEX('公式予選（TT）2Gr-結果表（貼付）'!$A:$Z,MATCH($B16,'公式予選（TT）2Gr-結果表（貼付）'!$B:$B,0),MATCH(P$11,'公式予選（TT）2Gr-結果表（貼付）'!$1:$1,0)),"")) | Q16: =IF(P16="","",COUNTIF($P$13:P16,"<>"&"")) | R16: =IFERROR(RANK(Q16,$Q$13:$Q$46,1),"") | S16: =IF(IFERROR(INDEX('公式予選（TT）2Gr-結果表（貼付）'!$A:$Z,MATCH($A16,'公式予選（TT）2Gr-結果表（貼付）'!$A:$A,0),MATCH(S$11,'公式予選（TT）2Gr-結果表（貼付）'!$1:$1,0)),"")=0,"",IFERROR(INDEX('公式予選（TT）2Gr-結果表（貼付）'!$A:$Z,MATCH($A16,'公式予選（TT）2Gr-結果表（貼付）'!$A:$A,0),MATCH(S$11,'公式予選（TT）2Gr-結果表（貼付）'!$1:$1,0)),""))
A17: =IF(OR('公式予選（TT）2Gr-結果表（貼付）'!A6="DNF",'公式予選（TT）2Gr-結果表（貼付）'!A6="DNS",'公式予選（TT）2Gr-結果表（貼付）'!A6="DQ"),'公式予選（TT）2Gr-結果表（貼付）'!A6,IF(MAX('公式予選（TT）2Gr-結果表（貼付）'!$A:$A)>A16,A16+1,"")) -> 5 | B17: =IFERROR(INDEX('公式予選（TT）2Gr-結果表（貼付）'!A6:$Z$50,MATCH($A17,'公式予選（TT）2Gr-結果表（貼付）'!$A6:$A54,0),MATCH('公式予選（TT）2Gr-結果表（印刷）'!B$11,'公式予選（TT）2Gr-結果表（貼付）'!$1:$1,0)),"") -> 40 | D17: =IFERROR(INDEX('公式予選（TT）2Gr-結果表（貼付）'!$A:$Z,MATCH($B17,'公式予選（TT）2Gr-結果表（貼付）'!$B:$B,0),MATCH('公式予選（TT）2Gr-結果表（印刷）'!D$11,'公式予選（TT）2Gr-結果表（貼付）'!$1:$1,0)),"") -> 植田 春樹 | E17: =IFERROR(INDEX('公式予選（TT）2Gr-結果表（貼付）'!$A:$Z,MATCH($B17,'公式予選（TT）2Gr-結果表（貼付）'!$B:$B,0),MATCH('公式予選（TT）2Gr-結果表（印刷）'!E$11,'公式予選（TT）2Gr-結果表（貼付）'!$1:$1,0)),"") -> TONYKART/YAMAHA | F17: =IFERROR(INDEX('公式予選（TT）2Gr-結果表（貼付）'!$A:$Z,MATCH($B17,'公式予選（TT）2Gr-結果表（貼付）'!$B:$B,0),MATCH('公式予選（TT）2Gr-結果表（印刷）'!F$11,'公式予選（TT）2Gr-結果表（貼付）'!$1:$1,0)),"") -> Msistem | G17: =IFERROR(INDEX('公式予選（TT）2Gr-結果表（貼付）'!$A:$Z,MATCH($B17,'公式予選（TT）2Gr-結果表（貼付）'!$B:$B,0),MATCH('公式予選（TT）2Gr-結果表（印刷）'!G$11,'公式予選（TT）2Gr-結果表（貼付）'!$1:$1,0)),"") -> BS | H17: =IF(A17="DNS","ｽﾀｰﾄ出来ず",IF(A17="DQ","失 格",IFERROR(INDEX('公式予選（TT）2Gr-結果表（貼付）'!$A:$Z,MATCH($B17,'公式予選（TT）2Gr-結果表（貼付）'!$B:$B,0),MATCH('公式予選（TT）2Gr-結果表（印刷）'!H$11,'公式予選（TT）2Gr-結果表（貼付）'!$1:$1,0)),""))) -> 55.437 | I17: =IF(H17<1,"",IF($I$11>H17,"R","")) | J17: =IF(A17="DNS","",IF(A17="DQ","",IFERROR(INDEX('公式予選（TT）2Gr-結果表（貼付）'!$A:$Z,MATCH($B17,'公式予選（TT）2Gr-結果表（貼付）'!$B:$B,0),MATCH('公式予選（TT）2Gr-結果表（印刷）'!J$11,'公式予選（TT）2Gr-結果表（貼付）'!$1:$1,0)),""))) -> 0.083 | K17: =IF(A17="DNS","",IF(A17="DQ","",IFERROR(INDEX('公式予選（TT）2Gr-結果表（貼付）'!$A:$Z,MATCH($B17,'公式予選（TT）2Gr-結果表（貼付）'!$B:$B,0),MATCH('公式予選（TT）2Gr-結果表（印刷）'!K$11,'公式予選（TT）2Gr-結果表（貼付）'!$1:$1,0)),""))) -> 0.003 | L17: =IF(A17="DNS","",IF(A17="DQ","",IFERROR(INDEX('公式予選（TT）2Gr-結果表（貼付）'!$A:$Z,MATCH($B17,'公式予選（TT）2Gr-結果表（貼付）'!$B:$B,0),MATCH("In Lap",'公式予選（TT）2Gr-結果表（貼付）'!$1:$1,0))&"/"&INDEX('公式予選（TT）2Gr-結果表（貼付）'!$A:$Z,MATCH($B17,'公式予選（TT）2Gr-結果表（貼付）'!$B:$B,0),MATCH("Laps",'公式予選（TT）2Gr-結果表（貼付）'!$1:$1,0)),""))) -> 5/5 | P17: =IF(IFERROR(INDEX('公式予選（TT）2Gr-結果表（貼付）'!$A:$Z,MATCH($B17,'公式予選（TT）2Gr-結果表（貼付）'!$B:$B,0),MATCH(P$11,'公式予選（TT）2Gr-結果表（貼付）'!$1:$1,0)),"")=0,"",IFERROR(INDEX('公式予選（TT）2Gr-結果表（貼付）'!$A:$Z,MATCH($B17,'公式予選（TT）2Gr-結果表（貼付）'!$B:$B,0),MATCH(P$11,'公式予選（TT）2Gr-結果表（貼付）'!$1:$1,0)),"")) | Q17: =IF(P17="","",COUNTIF($P$13:P17,"<>"&"")) | R17: =IFERROR(RANK(Q17,$Q$13:$Q$46,1),"") | S17: =IF(IFERROR(INDEX('公式予選（TT）2Gr-結果表（貼付）'!$A:$Z,MATCH($A17,'公式予選（TT）2Gr-結果表（貼付）'!$A:$A,0),MATCH(S$11,'公式予選（TT）2Gr-結果表（貼付）'!$1:$1,0)),"")=0,"",IFERROR(INDEX('公式予選（TT）2Gr-結果表（貼付）'!$A:$Z,MATCH($A17,'公式予選（TT）2Gr-結果表（貼付）'!$A:$A,0),MATCH(S$11,'公式予選（TT）2Gr-結果表（貼付）'!$1:$1,0)),""))
A18: =IF(OR('公式予選（TT）2Gr-結果表（貼付）'!A7="DNF",'公式予選（TT）2Gr-結果表（貼付）'!A7="DNS",'公式予選（TT）2Gr-結果表（貼付）'!A7="DQ"),'公式予選（TT）2Gr-結果表（貼付）'!A7,IF(MAX('公式予選（TT）2Gr-結果表（貼付）'!$A:$A)>A17,A17+1,"")) -> 6 | B18: =IFERROR(INDEX('公式予選（TT）2Gr-結果表（貼付）'!A7:$Z$50,MATCH($A18,'公式予選（TT）2Gr-結果表（貼付）'!$A7:$A55,0),MATCH('公式予選（TT）2Gr-結果表（印刷）'!B$11,'公式予選（TT）2Gr-結果表（貼付）'!$1:$1,0)),"") -> 59 | D18: =IFERROR(INDEX('公式予選（TT）2Gr-結果表（貼付）'!$A:$Z,MATCH($B18,'公式予選（TT）2Gr-結果表（貼付）'!$B:$B,0),MATCH('公式予選（TT）2Gr-結果表（印刷）'!D$11,'公式予選（TT）2Gr-結果表（貼付）'!$1:$1,0)),"") -> 諸井 亮介 | E18: =IFERROR(INDEX('公式予選（TT）2Gr-結果表（貼付）'!$A:$Z,MATCH($B18,'公式予選（TT）2Gr-結果表（貼付）'!$B:$B,0),MATCH('公式予選（TT）2Gr-結果表（印刷）'!E$11,'公式予選（TT）2Gr-結果表（貼付）'!$1:$1,0)),"") -> KOSMIC/YAMAHA | F18: =IFERROR(INDEX('公式予選（TT）2Gr-結果表（貼付）'!$A:$Z,MATCH($B18,'公式予選（TT）2Gr-結果表（貼付）'!$B:$B,0),MATCH('公式予選（TT）2Gr-結果表（印刷）'!F$11,'公式予選（TT）2Gr-結果表（貼付）'!$1:$1,0)),"") -> Moty's RSGEN | G18: =IFERROR(INDEX('公式予選（TT）2Gr-結果表（貼付）'!$A:$Z,MATCH($B18,'公式予選（TT）2Gr-結果表（貼付）'!$B:$B,0),MATCH('公式予選（TT）2Gr-結果表（印刷）'!G$11,'公式予選（TT）2Gr-結果表（貼付）'!$1:$1,0)),"") -> BS | H18: =IF(A18="DNS","ｽﾀｰﾄ出来ず",IF(A18="DQ","失 格",IFERROR(INDEX('公式予選（TT）2Gr-結果表（貼付）'!$A:$Z,MATCH($B18,'公式予選（TT）2Gr-結果表（貼付）'!$B:$B,0),MATCH('公式予選（TT）2Gr-結果表（印刷）'!H$11,'公式予選（TT）2Gr-結果表（貼付）'!$1:$1,0)),""))) -> 55.465 | I18: =IF(H18<1,"",IF($I$11>H18,"R","")) | J18: =IF(A18="DNS","",IF(A18="DQ","",IFERROR(INDEX('公式予選（TT）2Gr-結果表（貼付）'!$A:$Z,MATCH($B18,'公式予選（TT）2Gr-結果表（貼付）'!$B:$B,0),MATCH('公式予選（TT）2Gr-結果表（印刷）'!J$11,'公式予選（TT）2Gr-結果表（貼付）'!$1:$1,0)),""))) -> 0.111 | K18: =IF(A18="DNS","",IF(A18="DQ","",IFERROR(INDEX('公式予選（TT）2Gr-結果表（貼付）'!$A:$Z,MATCH($B18,'公式予選（TT）2Gr-結果表（貼付）'!$B:$B,0),MATCH('公式予選（TT）2Gr-結果表（印刷）'!K$11,'公式予選（TT）2Gr-結果表（貼付）'!$1:$1,0)),""))) -> 0.028 | L18: =IF(A18="DNS","",IF(A18="DQ","",IFERROR(INDEX('公式予選（TT）2Gr-結果表（貼付）'!$A:$Z,MATCH($B18,'公式予選（TT）2Gr-結果表（貼付）'!$B:$B,0),MATCH("In Lap",'公式予選（TT）2Gr-結果表（貼付）'!$1:$1,0))&"/"&INDEX('公式予選（TT）2Gr-結果表（貼付）'!$A:$Z,MATCH($B18,'公式予選（TT）2Gr-結果表（貼付）'!$B:$B,0),MATCH("Laps",'公式予選（TT）2Gr-結果表（貼付）'!$1:$1,0)),""))) -> 2/5 | P18: =IF(IFERROR(INDEX('公式予選（TT）2Gr-結果表（貼付）'!$A:$Z,MATCH($B18,'公式予選（TT）2Gr-結果表（貼付）'!$B:$B,0),MATCH(P$11,'公式予選（TT）2Gr-結果表（貼付）'!$1:$1,0)),"")=0,"",IFERROR(INDEX('公式予選（TT）2Gr-結果表（貼付）'!$A:$Z,MATCH($B18,'公式予選（TT）2Gr-結果表（貼付）'!$B:$B,0),MATCH(P$11,'公式予選（TT）2Gr-結果表（貼付）'!$1:$1,0)),"")) | Q18: =IF(P18="","",COUNTIF($P$13:P18,"<>"&"")) | R18: =IFERROR(RANK(Q18,$Q$13:$Q$46,1),"") | S18: =IF(IFERROR(INDEX('公式予選（TT）2Gr-結果表（貼付）'!$A:$Z,MATCH($A18,'公式予選（TT）2Gr-結果表（貼付）'!$A:$A,0),MATCH(S$11,'公式予選（TT）2Gr-結果表（貼付）'!$1:$1,0)),"")=0,"",IFERROR(INDEX('公式予選（TT）2Gr-結果表（貼付）'!$A:$Z,MATCH($A18,'公式予選（TT）2Gr-結果表（貼付）'!$A:$A,0),MATCH(S$11,'公式予選（TT）2Gr-結果表（貼付）'!$1:$1,0)),""))
A19: =IF(OR('公式予選（TT）2Gr-結果表（貼付）'!A8="DNF",'公式予選（TT）2Gr-結果表（貼付）'!A8="DNS",'公式予選（TT）2Gr-結果表（貼付）'!A8="DQ"),'公式予選（TT）2Gr-結果表（貼付）'!A8,IF(MAX('公式予選（TT）2Gr-結果表（貼付）'!$A:$A)>A18,A18+1,"")) -> 7 | B19: =IFERROR(INDEX('公式予選（TT）2Gr-結果表（貼付）'!A8:$Z$50,MATCH($A19,'公式予選（TT）2Gr-結果表（貼付）'!$A8:$A56,0),MATCH('公式予選（TT）2Gr-結果表（印刷）'!B$11,'公式予選（TT）2Gr-結果表（貼付）'!$1:$1,0)),"") -> 88 | D19: =IFERROR(INDEX('公式予選（TT）2Gr-結果表（貼付）'!$A:$Z,MATCH($B19,'公式予選（TT）2Gr-結果表（貼付）'!$B:$B,0),MATCH('公式予選（TT）2Gr-結果表（印刷）'!D$11,'公式予選（TT）2Gr-結果表（貼付）'!$1:$1,0)),"") -> 渡邉 晃平 | E19: =IFERROR(INDEX('公式予選（TT）2Gr-結果表（貼付）'!$A:$Z,MATCH($B19,'公式予選（TT）2Gr-結果表（貼付）'!$B:$B,0),MATCH('公式予選（TT）2Gr-結果表（印刷）'!E$11,'公式予選（TT）2Gr-結果表（貼付）'!$1:$1,0)),"") -> プラガ/YAMAHA | F19: =IFERROR(INDEX('公式予選（TT）2Gr-結果表（貼付）'!$A:$Z,MATCH($B19,'公式予選（TT）2Gr-結果表（貼付）'!$B:$B,0),MATCH('公式予選（TT）2Gr-結果表（印刷）'!F$11,'公式予選（TT）2Gr-結果表（貼付）'!$1:$1,0)),"") -> ガレージC | G19: =IFERROR(INDEX('公式予選（TT）2Gr-結果表（貼付）'!$A:$Z,MATCH($B19,'公式予選（TT）2Gr-結果表（貼付）'!$B:$B,0),MATCH('公式予選（TT）2Gr-結果表（印刷）'!G$11,'公式予選（TT）2Gr-結果表（貼付）'!$1:$1,0)),"") -> BS | H19: =IF(A19="DNS","ｽﾀｰﾄ出来ず",IF(A19="DQ","失 格",IFERROR(INDEX('公式予選（TT）2Gr-結果表（貼付）'!$A:$Z,MATCH($B19,'公式予選（TT）2Gr-結果表（貼付）'!$B:$B,0),MATCH('公式予選（TT）2Gr-結果表（印刷）'!H$11,'公式予選（TT）2Gr-結果表（貼付）'!$1:$1,0)),""))) -> 55.532 | I19: =IF(H19<1,"",IF($I$11>H19,"R","")) | J19: =IF(A19="DNS","",IF(A19="DQ","",IFERROR(INDEX('公式予選（TT）2Gr-結果表（貼付）'!$A:$Z,MATCH($B19,'公式予選（TT）2Gr-結果表（貼付）'!$B:$B,0),MATCH('公式予選（TT）2Gr-結果表（印刷）'!J$11,'公式予選（TT）2Gr-結果表（貼付）'!$1:$1,0)),""))) -> 0.178 | K19: =IF(A19="DNS","",IF(A19="DQ","",IFERROR(INDEX('公式予選（TT）2Gr-結果表（貼付）'!$A:$Z,MATCH($B19,'公式予選（TT）2Gr-結果表（貼付）'!$B:$B,0),MATCH('公式予選（TT）2Gr-結果表（印刷）'!K$11,'公式予選（TT）2Gr-結果表（貼付）'!$1:$1,0)),""))) -> 0.067 | L19: =IF(A19="DNS","",IF(A19="DQ","",IFERROR(INDEX('公式予選（TT）2Gr-結果表（貼付）'!$A:$Z,MATCH($B19,'公式予選（TT）2Gr-結果表（貼付）'!$B:$B,0),MATCH("In Lap",'公式予選（TT）2Gr-結果表（貼付）'!$1:$1,0))&"/"&INDEX('公式予選（TT）2Gr-結果表（貼付）'!$A:$Z,MATCH($B19,'公式予選（TT）2Gr-結果表（貼付）'!$B:$B,0),MATCH("Laps",'公式予選（TT）2Gr-結果表（貼付）'!$1:$1,0)),""))) -> 4/5 | P19: =IF(IFERROR(INDEX('公式予選（TT）2Gr-結果表（貼付）'!$A:$Z,MATCH($B19,'公式予選（TT）2Gr-結果表（貼付）'!$B:$B,0),MATCH(P$11,'公式予選（TT）2Gr-結果表（貼付）'!$1:$1,0)),"")=0,"",IFERROR(INDEX('公式予選（TT）2Gr-結果表（貼付）'!$A:$Z,MATCH($B19,'公式予選（TT）2Gr-結果表（貼付）'!$B:$B,0),MATCH(P$11,'公式予選（TT）2Gr-結果表（貼付）'!$1:$1,0)),"")) | Q19: =IF(P19="","",COUNTIF($P$13:P19,"<>"&"")) | R19: =IFERROR(RANK(Q19,$Q$13:$Q$46,1),"") | S19: =IF(IFERROR(INDEX('公式予選（TT）2Gr-結果表（貼付）'!$A:$Z,MATCH($A19,'公式予選（TT）2Gr-結果表（貼付）'!$A:$A,0),MATCH(S$11,'公式予選（TT）2Gr-結果表（貼付）'!$1:$1,0)),"")=0,"",IFERROR(INDEX('公式予選（TT）2Gr-結果表（貼付）'!$A:$Z,MATCH($A19,'公式予選（TT）2Gr-結果表（貼付）'!$A:$A,0),MATCH(S$11,'公式予選（TT）2Gr-結果表（貼付）'!$1:$1,0)),""))
A20: =IF(OR('公式予選（TT）2Gr-結果表（貼付）'!A9="DNF",'公式予選（TT）2Gr-結果表（貼付）'!A9="DNS",'公式予選（TT）2Gr-結果表（貼付）'!A9="DQ"),'公式予選（TT）2Gr-結果表（貼付）'!A9,IF(MAX('公式予選（TT）2Gr-結果表（貼付）'!$A:$A)>A19,A19+1,"")) -> 8 | B20: =IFERROR(INDEX('公式予選（TT）2Gr-結果表（貼付）'!A9:$Z$50,MATCH($A20,'公式予選（TT）2Gr-結果表（貼付）'!$A9:$A57,0),MATCH('公式予選（TT）2Gr-結果表（印刷）'!B$11,'公式予選（TT）2Gr-結果表（貼付）'!$1:$1,0)),"") -> 35 | D20: =IFERROR(INDEX('公式予選（TT）2Gr-結果表（貼付）'!$A:$Z,MATCH($B20,'公式予選（TT）2Gr-結果表（貼付）'!$B:$B,0),MATCH('公式予選（TT）2Gr-結果表（印刷）'!D$11,'公式予選（TT）2Gr-結果表（貼付）'!$1:$1,0)),"") -> 友村 慎太郎 | E20: =IFERROR(INDEX('公式予選（TT）2Gr-結果表（貼付）'!$A:$Z,MATCH($B20,'公式予選（TT）2Gr-結果表（貼付）'!$B:$B,0),MATCH('公式予選（TT）2Gr-結果表（印刷）'!E$11,'公式予選（TT）2Gr-結果表（貼付）'!$1:$1,0)),"") -> TONYKART/YAMAHA | F20: =IFERROR(INDEX('公式予選（TT）2Gr-結果表（貼付）'!$A:$Z,MATCH($B20,'公式予選（TT）2Gr-結果表（貼付）'!$B:$B,0),MATCH('公式予選（TT）2Gr-結果表（印刷）'!F$11,'公式予選（TT）2Gr-結果表（貼付）'!$1:$1,0)),"") -> FIORE Motor Sports | G20: =IFERROR(INDEX('公式予選（TT）2Gr-結果表（貼付）'!$A:$Z,MATCH($B20,'公式予選（TT）2Gr-結果表（貼付）'!$B:$B,0),MATCH('公式予選（TT）2Gr-結果表（印刷）'!G$11,'公式予選（TT）2Gr-結果表（貼付）'!$1:$1,0)),"") -> BS | H20: =IF(A20="DNS","ｽﾀｰﾄ出来ず",IF(A20="DQ","失 格",IFERROR(INDEX('公式予選（TT）2Gr-結果表（貼付）'!$A:$Z,MATCH($B20,'公式予選（TT）2Gr-結果表（貼付）'!$B:$B,0),MATCH('公式予選（TT）2Gr-結果表（印刷）'!H$11,'公式予選（TT）2Gr-結果表（貼付）'!$1:$1,0)),""))) -> 55.58 | I20: =IF(H20<1,"",IF($I$11>H20,"R","")) | J20: =IF(A20="DNS","",IF(A20="DQ","",IFERROR(INDEX('公式予選（TT）2Gr-結果表（貼付）'!$A:$Z,MATCH($B20,'公式予選（TT）2Gr-結果表（貼付）'!$B:$B,0),MATCH('公式予選（TT）2Gr-結果表（印刷）'!J$11,'公式予選（TT）2Gr-結果表（貼付）'!$1:$1,0)),""))) -> 0.226 | K20: =IF(A20="DNS","",IF(A20="DQ","",IFERROR(INDEX('公式予選（TT）2Gr-結果表（貼付）'!$A:$Z,MATCH($B20,'公式予選（TT）2Gr-結果表（貼付）'!$B:$B,0),MATCH('公式予選（TT）2Gr-結果表（印刷）'!K$11,'公式予選（TT）2Gr-結果表（貼付）'!$1:$1,0)),""))) -> 0.048 | L20: =IF(A20="DNS","",IF(A20="DQ","",IFERROR(INDEX('公式予選（TT）2Gr-結果表（貼付）'!$A:$Z,MATCH($B20,'公式予選（TT）2Gr-結果表（貼付）'!$B:$B,0),MATCH("In Lap",'公式予選（TT）2Gr-結果表（貼付）'!$1:$1,0))&"/"&INDEX('公式予選（TT）2Gr-結果表（貼付）'!$A:$Z,MATCH($B20,'公式予選（TT）2Gr-結果表（貼付）'!$B:$B,0),MATCH("Laps",'公式予選（TT）2Gr-結果表（貼付）'!$1:$1,0)),""))) -> 3/6 | P20: =IF(IFERROR(INDEX('公式予選（TT）2Gr-結果表（貼付）'!$A:$Z,MATCH($B20,'公式予選（TT）2Gr-結果表（貼付）'!$B:$B,0),MATCH(P$11,'公式予選（TT）2Gr-結果表（貼付）'!$1:$1,0)),"")=0,"",IFERROR(INDEX('公式予選（TT）2Gr-結果表（貼付）'!$A:$Z,MATCH($B20,'公式予選（TT）2Gr-結果表（貼付）'!$B:$B,0),MATCH(P$11,'公式予選（TT）2Gr-結果表（貼付）'!$1:$1,0)),"")) | Q20: =IF(P20="","",COUNTIF($P$13:P20,"<>"&"")) | R20: =IFERROR(RANK(Q20,$Q$13:$Q$46,1),"") | S20: =IF(IFERROR(INDEX('公式予選（TT）2Gr-結果表（貼付）'!$A:$Z,MATCH($A20,'公式予選（TT）2Gr-結果表（貼付）'!$A:$A,0),MATCH(S$11,'公式予選（TT）2Gr-結果表（貼付）'!$1:$1,0)),"")=0,"",IFERROR(INDEX('公式予選（TT）2Gr-結果表（貼付）'!$A:$Z,MATCH($A20,'公式予選（TT）2Gr-結果表（貼付）'!$A:$A,0),MATCH(S$11,'公式予選（TT）2Gr-結果表（貼付）'!$1:$1,0)),""))
A21: =IF(OR('公式予選（TT）2Gr-結果表（貼付）'!A10="DNF",'公式予選（TT）2Gr-結果表（貼付）'!A10="DNS",'公式予選（TT）2Gr-結果表（貼付）'!A10="DQ"),'公式予選（TT）2Gr-結果表（貼付）'!A10,IF(MAX('公式予選（TT）2Gr-結果表（貼付）'!$A:$A)>A20,A20+1,"")) -> 9 | B21: =IFERROR(INDEX('公式予選（TT）2Gr-結果表（貼付）'!A10:$Z$50,MATCH($A21,'公式予選（TT）2Gr-結果表（貼付）'!$A10:$A58,0),MATCH('公式予選（TT）2Gr-結果表（印刷）'!B$11,'公式予選（TT）2Gr-結果表（貼付）'!$1:$1,0)),"") -> 15 | D21: =IFERROR(INDEX('公式予選（TT）2Gr-結果表（貼付）'!$A:$Z,MATCH($B21,'公式予選（TT）2Gr-結果表（貼付）'!$B:$B,0),MATCH('公式予選（TT）2Gr-結果表（印刷）'!D$11,'公式予選（TT）2Gr-結果表（貼付）'!$1:$1,0)),"") -> 田中 哲 | E21: =IFERROR(INDEX('公式予選（TT）2Gr-結果表（貼付）'!$A:$Z,MATCH($B21,'公式予選（TT）2Gr-結果表（貼付）'!$B:$B,0),MATCH('公式予選（TT）2Gr-結果表（印刷）'!E$11,'公式予選（TT）2Gr-結果表（貼付）'!$1:$1,0)),"") -> birelART/YAMAHA | F21: =IFERROR(INDEX('公式予選（TT）2Gr-結果表（貼付）'!$A:$Z,MATCH($B21,'公式予選（TT）2Gr-結果表（貼付）'!$B:$B,0),MATCH('公式予選（TT）2Gr-結果表（印刷）'!F$11,'公式予選（TT）2Gr-結果表（貼付）'!$1:$1,0)),"") -> RL astech | G21: =IFERROR(INDEX('公式予選（TT）2Gr-結果表（貼付）'!$A:$Z,MATCH($B21,'公式予選（TT）2Gr-結果表（貼付）'!$B:$B,0),MATCH('公式予選（TT）2Gr-結果表（印刷）'!G$11,'公式予選（TT）2Gr-結果表（貼付）'!$1:$1,0)),"") -> BS | H21: =IF(A21="DNS","ｽﾀｰﾄ出来ず",IF(A21="DQ","失 格",IFERROR(INDEX('公式予選（TT）2Gr-結果表（貼付）'!$A:$Z,MATCH($B21,'公式予選（TT）2Gr-結果表（貼付）'!$B:$B,0),MATCH('公式予選（TT）2Gr-結果表（印刷）'!H$11,'公式予選（TT）2Gr-結果表（貼付）'!$1:$1,0)),""))) -> 55.638 | I21: =IF(H21<1,"",IF($I$11>H21,"R","")) | J21: =IF(A21="DNS","",IF(A21="DQ","",IFERROR(INDEX('公式予選（TT）2Gr-結果表（貼付）'!$A:$Z,MATCH($B21,'公式予選（TT）2Gr-結果表（貼付）'!$B:$B,0),MATCH('公式予選（TT）2Gr-結果表（印刷）'!J$11,'公式予選（TT）2Gr-結果表（貼付）'!$1:$1,0)),""))) -> 0.284 | K21: =IF(A21="DNS","",IF(A21="DQ","",IFERROR(INDEX('公式予選（TT）2Gr-結果表（貼付）'!$A:$Z,MATCH($B21,'公式予選（TT）2Gr-結果表（貼付）'!$B:$B,0),MATCH('公式予選（TT）2Gr-結果表（印刷）'!K$11,'公式予選（TT）2Gr-結果表（貼付）'!$1:$1,0)),""))) -> 0.058 | L21: =IF(A21="DNS","",IF(A21="DQ","",IFERROR(INDEX('公式予選（TT）2Gr-結果表（貼付）'!$A:$Z,MATCH($B21,'公式予選（TT）2Gr-結果表（貼付）'!$B:$B,0),MATCH("In Lap",'公式予選（TT）2Gr-結果表（貼付）'!$1:$1,0))&"/"&INDEX('公式予選（TT）2Gr-結果表（貼付）'!$A:$Z,MATCH($B21,'公式予選（TT）2Gr-結果表（貼付）'!$B:$B,0),MATCH("Laps",'公式予選（TT）2Gr-結果表（貼付）'!$1:$1,0)),""))) -> 4/5 | P21: =IF(IFERROR(INDEX('公式予選（TT）2Gr-結果表（貼付）'!$A:$Z,MATCH($B21,'公式予選（TT）2Gr-結果表（貼付）'!$B:$B,0),MATCH(P$11,'公式予選（TT）2Gr-結果表（貼付）'!$1:$1,0)),"")=0,"",IFERROR(INDEX('公式予選（TT）2Gr-結果表（貼付）'!$A:$Z,MATCH($B21,'公式予選（TT）2Gr-結果表（貼付）'!$B:$B,0),MATCH(P$11,'公式予選（TT）2Gr-結果表（貼付）'!$1:$1,0)),"")) | Q21: =IF(P21="","",COUNTIF($P$13:P21,"<>"&"")) | R21: =IFERROR(RANK(Q21,$Q$13:$Q$46,1),"") | S21: =IF(IFERROR(INDEX('公式予選（TT）2Gr-結果表（貼付）'!$A:$Z,MATCH($A21,'公式予選（TT）2Gr-結果表（貼付）'!$A:$A,0),MATCH(S$11,'公式予選（TT）2Gr-結果表（貼付）'!$1:$1,0)),"")=0,"",IFERROR(INDEX('公式予選（TT）2Gr-結果表（貼付）'!$A:$Z,MATCH($A21,'公式予選（TT）2Gr-結果表（貼付）'!$A:$A,0),MATCH(S$11,'公式予選（TT）2Gr-結果表（貼付）'!$1:$1,0)),""))
A22: =IF(OR('公式予選（TT）2Gr-結果表（貼付）'!A11="DNF",'公式予選（TT）2Gr-結果表（貼付）'!A11="DNS",'公式予選（TT）2Gr-結果表（貼付）'!A11="DQ"),'公式予選（TT）2Gr-結果表（貼付）'!A11,IF(MAX('公式予選（TT）2Gr-結果表（貼付）'!$A:$A)>A21,A21+1,"")) -> 10 | B22: =IFERROR(INDEX('公式予選（TT）2Gr-結果表（貼付）'!A11:$Z$50,MATCH($A22,'公式予選（TT）2Gr-結果表（貼付）'!$A11:$A59,0),MATCH('公式予選（TT）2Gr-結果表（印刷）'!B$11,'公式予選（TT）2Gr-結果表（貼付）'!$1:$1,0)),"") -> 71 | D22: =IFERROR(INDEX('公式予選（TT）2Gr-結果表（貼付）'!$A:$Z,MATCH($B22,'公式予選（TT）2Gr-結果表（貼付）'!$B:$B,0),MATCH('公式予選（TT）2Gr-結果表（印刷）'!D$11,'公式予選（TT）2Gr-結果表（貼付）'!$1:$1,0)),"") -> 棚橋 信之 | E22: =IFERROR(INDEX('公式予選（TT）2Gr-結果表（貼付）'!$A:$Z,MATCH($B22,'公式予選（TT）2Gr-結果表（貼付）'!$B:$B,0),MATCH('公式予選（TT）2Gr-結果表（印刷）'!E$11,'公式予選（TT）2Gr-結果表（貼付）'!$1:$1,0)),"") -> TONYKART/YAMAHA | F22: =IFERROR(INDEX('公式予選（TT）2Gr-結果表（貼付）'!$A:$Z,MATCH($B22,'公式予選（TT）2Gr-結果表（貼付）'!$B:$B,0),MATCH('公式予選（TT）2Gr-結果表（印刷）'!F$11,'公式予選（TT）2Gr-結果表（貼付）'!$1:$1,0)),"") -> RT熊+AshマルシンHSC | G22: =IFERROR(INDEX('公式予選（TT）2Gr-結果表（貼付）'!$A:$Z,MATCH($B22,'公式予選（TT）2Gr-結果表（貼付）'!$B:$B,0),MATCH('公式予選（TT）2Gr-結果表（印刷）'!G$11,'公式予選（TT）2Gr-結果表（貼付）'!$1:$1,0)),"") -> BS | H22: =IF(A22="DNS","ｽﾀｰﾄ出来ず",IF(A22="DQ","失 格",IFERROR(INDEX('公式予選（TT）2Gr-結果表（貼付）'!$A:$Z,MATCH($B22,'公式予選（TT）2Gr-結果表（貼付）'!$B:$B,0),MATCH('公式予選（TT）2Gr-結果表（印刷）'!H$11,'公式予選（TT）2Gr-結果表（貼付）'!$1:$1,0)),""))) -> 55.674 | I22: =IF(H22<1,"",IF($I$11>H22,"R","")) | J22: =IF(A22="DNS","",IF(A22="DQ","",IFERROR(INDEX('公式予選（TT）2Gr-結果表（貼付）'!$A:$Z,MATCH($B22,'公式予選（TT）2Gr-結果表（貼付）'!$B:$B,0),MATCH('公式予選（TT）2Gr-結果表（印刷）'!J$11,'公式予選（TT）2Gr-結果表（貼付）'!$1:$1,0)),""))) -> 0.32 | K22: =IF(A22="DNS","",IF(A22="DQ","",IFERROR(INDEX('公式予選（TT）2Gr-結果表（貼付）'!$A:$Z,MATCH($B22,'公式予選（TT）2Gr-結果表（貼付）'!$B:$B,0),MATCH('公式予選（TT）2Gr-結果表（印刷）'!K$11,'公式予選（TT）2Gr-結果表（貼付）'!$1:$1,0)),""))) -> 0.036 | L22: =IF(A22="DNS","",IF(A22="DQ","",IFERROR(INDEX('公式予選（TT）2Gr-結果表（貼付）'!$A:$Z,MATCH($B22,'公式予選（TT）2Gr-結果表（貼付）'!$B:$B,0),MATCH("In Lap",'公式予選（TT）2Gr-結果表（貼付）'!$1:$1,0))&"/"&INDEX('公式予選（TT）2Gr-結果表（貼付）'!$A:$Z,MATCH($B22,'公式予選（TT）2Gr-結果表（貼付）'!$B:$B,0),MATCH("Laps",'公式予選（TT）2Gr-結果表（貼付）'!$1:$1,0)),""))) -> 3/6 | P22: =IF(IFERROR(INDEX('公式予選（TT）2Gr-結果表（貼付）'!$A:$Z,MATCH($B22,'公式予選（TT）2Gr-結果表（貼付）'!$B:$B,0),MATCH(P$11,'公式予選（TT）2Gr-結果表（貼付）'!$1:$1,0)),"")=0,"",IFERROR(INDEX('公式予選（TT）2Gr-結果表（貼付）'!$A:$Z,MATCH($B22,'公式予選（TT）2Gr-結果表（貼付）'!$B:$B,0),MATCH(P$11,'公式予選（TT）2Gr-結果表（貼付）'!$1:$1,0)),"")) | Q22: =IF(P22="","",COUNTIF($P$13:P22,"<>"&"")) | R22: =IFERROR(RANK(Q22,$Q$13:$Q$46,1),"") | S22: =IF(IFERROR(INDEX('公式予選（TT）2Gr-結果表（貼付）'!$A:$Z,MATCH($A22,'公式予選（TT）2Gr-結果表（貼付）'!$A:$A,0),MATCH(S$11,'公式予選（TT）2Gr-結果表（貼付）'!$1:$1,0)),"")=0,"",IFERROR(INDEX('公式予選（TT）2Gr-結果表（貼付）'!$A:$Z,MATCH($A22,'公式予選（TT）2Gr-結果表（貼付）'!$A:$A,0),MATCH(S$11,'公式予選（TT）2Gr-結果表（貼付）'!$1:$1,0)),""))
A23: =IF(OR('公式予選（TT）2Gr-結果表（貼付）'!A12="DNF",'公式予選（TT）2Gr-結果表（貼付）'!A12="DNS",'公式予選（TT）2Gr-結果表（貼付）'!A12="DQ"),'公式予選（TT）2Gr-結果表（貼付）'!A12,IF(MAX('公式予選（TT）2Gr-結果表（貼付）'!$A:$A)>A22,A22+1,"")) -> 11 | B23: =IFERROR(INDEX('公式予選（TT）2Gr-結果表（貼付）'!A12:$Z$50,MATCH($A23,'公式予選（TT）2Gr-結果表（貼付）'!$A12:$A60,0),MATCH('公式予選（TT）2Gr-結果表（印刷）'!B$11,'公式予選（TT）2Gr-結果表（貼付）'!$1:$1,0)),"") -> 33 | D23: =IFERROR(INDEX('公式予選（TT）2Gr-結果表（貼付）'!$A:$Z,MATCH($B23,'公式予選（TT）2Gr-結果表（貼付）'!$B:$B,0),MATCH('公式予選（TT）2Gr-結果表（印刷）'!D$11,'公式予選（TT）2Gr-結果表（貼付）'!$1:$1,0)),"") -> 増田 貴久 | E23: =IFERROR(INDEX('公式予選（TT）2Gr-結果表（貼付）'!$A:$Z,MATCH($B23,'公式予選（TT）2Gr-結果表（貼付）'!$B:$B,0),MATCH('公式予選（TT）2Gr-結果表（印刷）'!E$11,'公式予選（TT）2Gr-結果表（貼付）'!$1:$1,0)),"") -> EIKO-Drago/YAMAHA | F23: =IFERROR(INDEX('公式予選（TT）2Gr-結果表（貼付）'!$A:$Z,MATCH($B23,'公式予選（TT）2Gr-結果表（貼付）'!$B:$B,0),MATCH('公式予選（TT）2Gr-結果表（印刷）'!F$11,'公式予選（TT）2Gr-結果表（貼付）'!$1:$1,0)),"") -> ますかけ | G23: =IFERROR(INDEX('公式予選（TT）2Gr-結果表（貼付）'!$A:$Z,MATCH($B23,'公式予選（TT）2Gr-結果表（貼付）'!$B:$B,0),MATCH('公式予選（TT）2Gr-結果表（印刷）'!G$11,'公式予選（TT）2Gr-結果表（貼付）'!$1:$1,0)),"") -> BS | H23: =IF(A23="DNS","ｽﾀｰﾄ出来ず",IF(A23="DQ","失 格",IFERROR(INDEX('公式予選（TT）2Gr-結果表（貼付）'!$A:$Z,MATCH($B23,'公式予選（TT）2Gr-結果表（貼付）'!$B:$B,0),MATCH('公式予選（TT）2Gr-結果表（印刷）'!H$11,'公式予選（TT）2Gr-結果表（貼付）'!$1:$1,0)),""))) -> 55.715 | I23: =IF(H23<1,"",IF($I$11>H23,"R","")) | J23: =IF(A23="DNS","",IF(A23="DQ","",IFERROR(INDEX('公式予選（TT）2Gr-結果表（貼付）'!$A:$Z,MATCH($B23,'公式予選（TT）2Gr-結果表（貼付）'!$B:$B,0),MATCH('公式予選（TT）2Gr-結果表（印刷）'!J$11,'公式予選（TT）2Gr-結果表（貼付）'!$1:$1,0)),""))) -> 0.361 | K23: =IF(A23="DNS","",IF(A23="DQ","",IFERROR(INDEX('公式予選（TT）2Gr-結果表（貼付）'!$A:$Z,MATCH($B23,'公式予選（TT）2Gr-結果表（貼付）'!$B:$B,0),MATCH('公式予選（TT）2Gr-結果表（印刷）'!K$11,'公式予選（TT）2Gr-結果表（貼付）'!$1:$1,0)),""))) -> 0.041 | L23: =IF(A23="DNS","",IF(A23="DQ","",IFERROR(INDEX('公式予選（TT）2Gr-結果表（貼付）'!$A:$Z,MATCH($B23,'公式予選（TT）2Gr-結果表（貼付）'!$B:$B,0),MATCH("In Lap",'公式予選（TT）2Gr-結果表（貼付）'!$1:$1,0))&"/"&INDEX('公式予選（TT）2Gr-結果表（貼付）'!$A:$Z,MATCH($B23,'公式予選（TT）2Gr-結果表（貼付）'!$B:$B,0),MATCH("Laps",'公式予選（TT）2Gr-結果表（貼付）'!$1:$1,0)),""))) -> 5/5 | P23: =IF(IFERROR(INDEX('公式予選（TT）2Gr-結果表（貼付）'!$A:$Z,MATCH($B23,'公式予選（TT）2Gr-結果表（貼付）'!$B:$B,0),MATCH(P$11,'公式予選（TT）2Gr-結果表（貼付）'!$1:$1,0)),"")=0,"",IFERROR(INDEX('公式予選（TT）2Gr-結果表（貼付）'!$A:$Z,MATCH($B23,'公式予選（TT）2Gr-結果表（貼付）'!$B:$B,0),MATCH(P$11,'公式予選（TT）2Gr-結果表（貼付）'!$1:$1,0)),"")) | Q23: =IF(P23="","",COUNTIF($P$13:P23,"<>"&"")) | R23: =IFERROR(RANK(Q23,$Q$13:$Q$46,1),"") | S23: =IF(IFERROR(INDEX('公式予選（TT）2Gr-結果表（貼付）'!$A:$Z,MATCH($A23,'公式予選（TT）2Gr-結果表（貼付）'!$A:$A,0),MATCH(S$11,'公式予選（TT）2Gr-結果表（貼付）'!$1:$1,0)),"")=0,"",IFERROR(INDEX('公式予選（TT）2Gr-結果表（貼付）'!$A:$Z,MATCH($A23,'公式予選（TT）2Gr-結果表（貼付）'!$A:$A,0),MATCH(S$11,'公式予選（TT）2Gr-結果表（貼付）'!$1:$1,0)),""))
A24: =IF(OR('公式予選（TT）2Gr-結果表（貼付）'!A13="DNF",'公式予選（TT）2Gr-結果表（貼付）'!A13="DNS",'公式予選（TT）2Gr-結果表（貼付）'!A13="DQ"),'公式予選（TT）2Gr-結果表（貼付）'!A13,IF(MAX('公式予選（TT）2Gr-結果表（貼付）'!$A:$A)>A23,A23+1,"")) -> 12 | B24: =IFERROR(INDEX('公式予選（TT）2Gr-結果表（貼付）'!A13:$Z$50,MATCH($A24,'公式予選（TT）2Gr-結果表（貼付）'!$A13:$A61,0),MATCH('公式予選（TT）2Gr-結果表（印刷）'!B$11,'公式予選（TT）2Gr-結果表（貼付）'!$1:$1,0)),"") -> 98 | D24: =IFERROR(INDEX('公式予選（TT）2Gr-結果表（貼付）'!$A:$Z,MATCH($B24,'公式予選（TT）2Gr-結果表（貼付）'!$B:$B,0),MATCH('公式予選（TT）2Gr-結果表（印刷）'!D$11,'公式予選（TT）2Gr-結果表（貼付）'!$1:$1,0)),"") -> 村瀬 裕太郎 | E24: =IFERROR(INDEX('公式予選（TT）2Gr-結果表（貼付）'!$A:$Z,MATCH($B24,'公式予選（TT）2Gr-結果表（貼付）'!$B:$B,0),MATCH('公式予選（TT）2Gr-結果表（印刷）'!E$11,'公式予選（TT）2Gr-結果表（貼付）'!$1:$1,0)),"") -> エクスプリット/YAMAHA | F24: =IFERROR(INDEX('公式予選（TT）2Gr-結果表（貼付）'!$A:$Z,MATCH($B24,'公式予選（TT）2Gr-結果表（貼付）'!$B:$B,0),MATCH('公式予選（TT）2Gr-結果表（印刷）'!F$11,'公式予選（TT）2Gr-結果表（貼付）'!$1:$1,0)),"") -> モアコラージュ TQS | G24: =IFERROR(INDEX('公式予選（TT）2Gr-結果表（貼付）'!$A:$Z,MATCH($B24,'公式予選（TT）2Gr-結果表（貼付）'!$B:$B,0),MATCH('公式予選（TT）2Gr-結果表（印刷）'!G$11,'公式予選（TT）2Gr-結果表（貼付）'!$1:$1,0)),"") -> BS | H24: =IF(A24="DNS","ｽﾀｰﾄ出来ず",IF(A24="DQ","失 格",IFERROR(INDEX('公式予選（TT）2Gr-結果表（貼付）'!$A:$Z,MATCH($B24,'公式予選（TT）2Gr-結果表（貼付）'!$B:$B,0),MATCH('公式予選（TT）2Gr-結果表（印刷）'!H$11,'公式予選（TT）2Gr-結果表（貼付）'!$1:$1,0)),""))) -> 55.775 | I24: =IF(H24<1,"",IF($I$11>H24,"R","")) | J24: =IF(A24="DNS","",IF(A24="DQ","",IFERROR(INDEX('公式予選（TT）2Gr-結果表（貼付）'!$A:$Z,MATCH($B24,'公式予選（TT）2Gr-結果表（貼付）'!$B:$B,0),MATCH('公式予選（TT）2Gr-結果表（印刷）'!J$11,'公式予選（TT）2Gr-結果表（貼付）'!$1:$1,0)),""))) -> 0.421 | K24: =IF(A24="DNS","",IF(A24="DQ","",IFERROR(INDEX('公式予選（TT）2Gr-結果表（貼付）'!$A:$Z,MATCH($B24,'公式予選（TT）2Gr-結果表（貼付）'!$B:$B,0),MATCH('公式予選（TT）2Gr-結果表（印刷）'!K$11,'公式予選（TT）2Gr-結果表（貼付）'!$1:$1,0)),""))) -> 0.06 | L24: =IF(A24="DNS","",IF(A24="DQ","",IFERROR(INDEX('公式予選（TT）2Gr-結果表（貼付）'!$A:$Z,MATCH($B24,'公式予選（TT）2Gr-結果表（貼付）'!$B:$B,0),MATCH("In Lap",'公式予選（TT）2Gr-結果表（貼付）'!$1:$1,0))&"/"&INDEX('公式予選（TT）2Gr-結果表（貼付）'!$A:$Z,MATCH($B24,'公式予選（TT）2Gr-結果表（貼付）'!$B:$B,0),MATCH("Laps",'公式予選（TT）2Gr-結果表（貼付）'!$1:$1,0)),""))) -> 5/5 | P24: =IF(IFERROR(INDEX('公式予選（TT）2Gr-結果表（貼付）'!$A:$Z,MATCH($B24,'公式予選（TT）2Gr-結果表（貼付）'!$B:$B,0),MATCH(P$11,'公式予選（TT）2Gr-結果表（貼付）'!$1:$1,0)),"")=0,"",IFERROR(INDEX('公式予選（TT）2Gr-結果表（貼付）'!$A:$Z,MATCH($B24,'公式予選（TT）2Gr-結果表（貼付）'!$B:$B,0),MATCH(P$11,'公式予選（TT）2Gr-結果表（貼付）'!$1:$1,0)),"")) | Q24: =IF(P24="","",COUNTIF($P$13:P24,"<>"&"")) | R24: =IFERROR(RANK(Q24,$Q$13:$Q$46,1),"") | S24: =IF(IFERROR(INDEX('公式予選（TT）2Gr-結果表（貼付）'!$A:$Z,MATCH($A24,'公式予選（TT）2Gr-結果表（貼付）'!$A:$A,0),MATCH(S$11,'公式予選（TT）2Gr-結果表（貼付）'!$1:$1,0)),"")=0,"",IFERROR(INDEX('公式予選（TT）2Gr-結果表（貼付）'!$A:$Z,MATCH($A24,'公式予選（TT）2Gr-結果表（貼付）'!$A:$A,0),MATCH(S$11,'公式予選（TT）2Gr-結果表（貼付）'!$1:$1,0)),""))
A25: =IF(OR('公式予選（TT）2Gr-結果表（貼付）'!A14="DNF",'公式予選（TT）2Gr-結果表（貼付）'!A14="DNS",'公式予選（TT）2Gr-結果表（貼付）'!A14="DQ"),'公式予選（TT）2Gr-結果表（貼付）'!A14,IF(MAX('公式予選（TT）2Gr-結果表（貼付）'!$A:$A)>A24,A24+1,"")) -> 13 | B25: =IFERROR(INDEX('公式予選（TT）2Gr-結果表（貼付）'!A14:$Z$50,MATCH($A25,'公式予選（TT）2Gr-結果表（貼付）'!$A14:$A62,0),MATCH('公式予選（TT）2Gr-結果表（印刷）'!B$11,'公式予選（TT）2Gr-結果表（貼付）'!$1:$1,0)),"") -> 31 | D25: =IFERROR(INDEX('公式予選（TT）2Gr-結果表（貼付）'!$A:$Z,MATCH($B25,'公式予選（TT）2Gr-結果表（貼付）'!$B:$B,0),MATCH('公式予選（TT）2Gr-結果表（印刷）'!D$11,'公式予選（TT）2Gr-結果表（貼付）'!$1:$1,0)),"") -> 金澤 正博 | E25: =IFERROR(INDEX('公式予選（TT）2Gr-結果表（貼付）'!$A:$Z,MATCH($B25,'公式予選（TT）2Gr-結果表（貼付）'!$B:$B,0),MATCH('公式予選（TT）2Gr-結果表（印刷）'!E$11,'公式予選（TT）2Gr-結果表（貼付）'!$1:$1,0)),"") -> RICCIARDO/YAMAHA | F25: =IFERROR(INDEX('公式予選（TT）2Gr-結果表（貼付）'!$A:$Z,MATCH($B25,'公式予選（TT）2Gr-結果表（貼付）'!$B:$B,0),MATCH('公式予選（TT）2Gr-結果表（印刷）'!F$11,'公式予選（TT）2Gr-結果表（貼付）'!$1:$1,0)),"") -> ガレージC | G25: =IFERROR(INDEX('公式予選（TT）2Gr-結果表（貼付）'!$A:$Z,MATCH($B25,'公式予選（TT）2Gr-結果表（貼付）'!$B:$B,0),MATCH('公式予選（TT）2Gr-結果表（印刷）'!G$11,'公式予選（TT）2Gr-結果表（貼付）'!$1:$1,0)),"") -> BS | H25: =IF(A25="DNS","ｽﾀｰﾄ出来ず",IF(A25="DQ","失 格",IFERROR(INDEX('公式予選（TT）2Gr-結果表（貼付）'!$A:$Z,MATCH($B25,'公式予選（TT）2Gr-結果表（貼付）'!$B:$B,0),MATCH('公式予選（TT）2Gr-結果表（印刷）'!H$11,'公式予選（TT）2Gr-結果表（貼付）'!$1:$1,0)),""))) -> 55.829 | I25: =IF(H25<1,"",IF($I$11>H25,"R","")) | J25: =IF(A25="DNS","",IF(A25="DQ","",IFERROR(INDEX('公式予選（TT）2Gr-結果表（貼付）'!$A:$Z,MATCH($B25,'公式予選（TT）2Gr-結果表（貼付）'!$B:$B,0),MATCH('公式予選（TT）2Gr-結果表（印刷）'!J$11,'公式予選（TT）2Gr-結果表（貼付）'!$1:$1,0)),""))) -> 0.475 | K25: =IF(A25="DNS","",IF(A25="DQ","",IFERROR(INDEX('公式予選（TT）2Gr-結果表（貼付）'!$A:$Z,MATCH($B25,'公式予選（TT）2Gr-結果表（貼付）'!$B:$B,0),MATCH('公式予選（TT）2Gr-結果表（印刷）'!K$11,'公式予選（TT）2Gr-結果表（貼付）'!$1:$1,0)),""))) -> 0.054 | L25: =IF(A25="DNS","",IF(A25="DQ","",IFERROR(INDEX('公式予選（TT）2Gr-結果表（貼付）'!$A:$Z,MATCH($B25,'公式予選（TT）2Gr-結果表（貼付）'!$B:$B,0),MATCH("In Lap",'公式予選（TT）2Gr-結果表（貼付）'!$1:$1,0))&"/"&INDEX('公式予選（TT）2Gr-結果表（貼付）'!$A:$Z,MATCH($B25,'公式予選（TT）2Gr-結果表（貼付）'!$B:$B,0),MATCH("Laps",'公式予選（TT）2Gr-結果表（貼付）'!$1:$1,0)),""))) -> 5/5 | P25: =IF(IFERROR(INDEX('公式予選（TT）2Gr-結果表（貼付）'!$A:$Z,MATCH($B25,'公式予選（TT）2Gr-結果表（貼付）'!$B:$B,0),MATCH(P$11,'公式予選（TT）2Gr-結果表（貼付）'!$1:$1,0)),"")=0,"",IFERROR(INDEX('公式予選（TT）2Gr-結果表（貼付）'!$A:$Z,MATCH($B25,'公式予選（TT）2Gr-結果表（貼付）'!$B:$B,0),MATCH(P$11,'公式予選（TT）2Gr-結果表（貼付）'!$1:$1,0)),"")) | Q25: =IF(P25="","",COUNTIF($P$13:P25,"<>"&"")) | R25: =IFERROR(RANK(Q25,$Q$13:$Q$46,1),"") | S25: =IF(IFERROR(INDEX('公式予選（TT）2Gr-結果表（貼付）'!$A:$Z,MATCH($A25,'公式予選（TT）2Gr-結果表（貼付）'!$A:$A,0),MATCH(S$11,'公式予選（TT）2Gr-結果表（貼付）'!$1:$1,0)),"")=0,"",IFERROR(INDEX('公式予選（TT）2Gr-結果表（貼付）'!$A:$Z,MATCH($A25,'公式予選（TT）2Gr-結果表（貼付）'!$A:$A,0),MATCH(S$11,'公式予選（TT）2Gr-結果表（貼付）'!$1:$1,0)),""))
... A36: =IF(OR('公式予選（TT）2Gr-結果表（貼付）'!A25="DNF",'公式予選（TT）2Gr-結果表（貼付）'!A25="DNS",'公式予選（TT）2Gr-結果表（貼付）'!A25="DQ"),'公式予選（TT）2Gr-結果表（貼付）'!A25,IF(MAX('公式予選（TT）2Gr-結果表（貼付）'!$A:$A)>A35,A35+1,"")) -> 24 | B36: =IFERROR(INDEX('公式予選（TT）2Gr-結果表（貼付）'!A25:$Z$50,MATCH($A36,'公式予選（TT）2Gr-結果表（貼付）'!$A25:$A73,0),MATCH('公式予選（TT）2Gr-結果表（印刷）'!B$11,'公式予選（TT）2Gr-結果表（貼付）'!$1:$1,0)),"") -> 66 | D36: =IFERROR(INDEX('公式予選（TT）2Gr-結果表（貼付）'!$A:$Z,MATCH($B36,'公式予選（TT）2Gr-結果表（貼付）'!$B:$B,0),MATCH('公式予選（TT）2Gr-結果表（印刷）'!D$11,'公式予選（TT）2Gr-結果表（貼付）'!$1:$1,0)),"") -> 山本 勝之 | E36: =IFERROR(INDEX('公式予選（TT）2Gr-結果表（貼付）'!$A:$Z,MATCH($B36,'公式予選（TT）2Gr-結果表（貼付）'!$B:$B,0),MATCH('公式予選（TT）2Gr-結果表（印刷）'!E$11,'公式予選（TT）2Gr-結果表（貼付）'!$1:$1,0)),"") -> ドラゴコルセ/YAMAHA | F36: =IFERROR(INDEX('公式予選（TT）2Gr-結果表（貼付）'!$A:$Z,MATCH($B36,'公式予選（TT）2Gr-結果表（貼付）'!$B:$B,0),MATCH('公式予選（TT）2Gr-結果表（印刷）'!F$11,'公式予選（TT）2Gr-結果表（貼付）'!$1:$1,0)),"") -> ラムレーシングWITHモンキーレンチ | G36: =IFERROR(INDEX('公式予選（TT）2Gr-結果表（貼付）'!$A:$Z,MATCH($B36,'公式予選（TT）2Gr-結果表（貼付）'!$B:$B,0),MATCH('公式予選（TT）2Gr-結果表（印刷）'!G$11,'公式予選（TT）2Gr-結果表（貼付）'!$1:$1,0)),"") -> BS | H36: =IF(A36="DNS","ｽﾀｰﾄ出来ず",IF(A36="DQ","失 格",IFERROR(INDEX('公式予選（TT）2Gr-結果表（貼付）'!$A:$Z,MATCH($B36,'公式予選（TT）2Gr-結果表（貼付）'!$B:$B,0),MATCH('公式予選（TT）2Gr-結果表（印刷）'!H$11,'公式予選（TT）2Gr-結果表（貼付）'!$1:$1,0)),""))) -> 57.16 | I36: =IF(H36<1,"",IF($I$11>H36,"R","")) | J36: =IF(A36="DNS","",IF(A36="DQ","",IFERROR(INDEX('公式予選（TT）2Gr-結果表（貼付）'!$A:$Z,MATCH($B36,'公式予選（TT）2Gr-結果表（貼付）'!$B:$B,0),MATCH('公式予選（TT）2Gr-結果表（印刷）'!J$11,'公式予選（TT）2Gr-結果表（貼付）'!$1:$1,0)),""))) -> 1.806 | K36: =IF(A36="DNS","",IF(A36="DQ","",IFERROR(INDEX('公式予選（TT）2Gr-結果表（貼付）'!$A:$Z,MATCH($B36,'公式予選（TT）2Gr-結果表（貼付）'!$B:$B,0),MATCH('公式予選（TT）2Gr-結果表（印刷）'!K$11,'公式予選（TT）2Gr-結果表（貼付）'!$1:$1,0)),""))) -> 0.496 | L36: =IF(A36="DNS","",IF(A36="DQ","",IFERROR(INDEX('公式予選（TT）2Gr-結果表（貼付）'!$A:$Z,MATCH($B36,'公式予選（TT）2Gr-結果表（貼付）'!$B:$B,0),MATCH("In Lap",'公式予選（TT）2Gr-結果表（貼付）'!$1:$1,0))&"/"&INDEX('公式予選（TT）2Gr-結果表（貼付）'!$A:$Z,MATCH($B36,'公式予選（TT）2Gr-結果表（貼付）'!$B:$B,0),MATCH("Laps",'公式予選（TT）2Gr-結果表（貼付）'!$1:$1,0)),""))) -> 5/5 | P36: =IF(IFERROR(INDEX('公式予選（TT）2Gr-結果表（貼付）'!$A:$Z,MATCH($B36,'公式予選（TT）2Gr-結果表（貼付）'!$B:$B,0),MATCH(P$11,'公式予選（TT）2Gr-結果表（貼付）'!$1:$1,0)),"")=0,"",IFERROR(INDEX('公式予選（TT）2Gr-結果表（貼付）'!$A:$Z,MATCH($B36,'公式予選（TT）2Gr-結果表（貼付）'!$B:$B,0),MATCH(P$11,'公式予選（TT）2Gr-結果表（貼付）'!$1:$1,0)),"")) | Q36: =IF(P36="","",COUNTIF($P$13:P36,"<>"&"")) | R36: =IFERROR(RANK(Q36,$Q$13:$Q$46,1),"") | S36: =IF(IFERROR(INDEX('公式予選（TT）2Gr-結果表（貼付）'!$A:$Z,MATCH($A36,'公式予選（TT）2Gr-結果表（貼付）'!$A:$A,0),MATCH(S$11,'公式予選（TT）2Gr-結果表（貼付）'!$1:$1,0)),"")=0,"",IFERROR(INDEX('公式予選（TT）2Gr-結果表（貼付）'!$A:$Z,MATCH($A36,'公式予選（TT）2Gr-結果表（貼付）'!$A:$A,0),MATCH(S$11,'公式予選（TT）2Gr-結果表（貼付）'!$1:$1,0)),""))
A37: 25 | B37: 17 | D37: 田代 吉彦 | E37: TONY KART/YAMAHA | F37: HKC with CA YOSHIDA | G37: BS | H37: 失 格 | P37: =IF(IFERROR(INDEX('公式予選（TT）2Gr-結果表（貼付）'!$A:$Z,MATCH($B37,'公式予選（TT）2Gr-結果表（貼付）'!$B:$B,0),MATCH(P$11,'公式予選（TT）2Gr-結果表（貼付）'!$1:$1,0)),"")=0,"",IFERROR(INDEX('公式予選（TT）2Gr-結果表（貼付）'!$A:$Z,MATCH($B37,'公式予選（TT）2Gr-結果表（貼付）'!$B:$B,0),MATCH(P$11,'公式予選（TT）2Gr-結果表（貼付）'!$1:$1,0)),"")) -> 鈴鹿選手権ｼﾘｰｽﾞ特別規則 競技車両規則第57条～1)(最低重量)違反により、失格とした。 | Q37: =IF(P37="","",COUNTIF($P$13:P37,"<>"&"")) -> 25 | R37: =IFERROR(RANK(Q37,$Q$13:$Q$46,1),"") -> 1 | S37: =IF(IFERROR(INDEX('公式予選（TT）2Gr-結果表（貼付）'!$A:$Z,MATCH($A37,'公式予選（TT）2Gr-結果表（貼付）'!$A:$A,0),MATCH(S$11,'公式予選（TT）2Gr-結果表（貼付）'!$1:$1,0)),"")=0,"",IFERROR(INDEX('公式予選（TT）2Gr-結果表（貼付）'!$A:$Z,MATCH($A37,'公式予選（TT）2Gr-結果表（貼付）'!$A:$A,0),MATCH(S$11,'公式予選（TT）2Gr-結果表（貼付）'!$1:$1,0)),""))
A38: =IF(OR('公式予選（TT）2Gr-結果表（貼付）'!A27="DNF",'公式予選（TT）2Gr-結果表（貼付）'!A27="DNS",'公式予選（TT）2Gr-結果表（貼付）'!A27="DQ"),'公式予選（TT）2Gr-結果表（貼付）'!A27,IF(MAX('公式予選（TT）2Gr-結果表（貼付）'!$A:$A)>A37,A37+1,"")) | B38: =IFERROR(INDEX('公式予選（TT）2Gr-結果表（貼付）'!A27:$Z$50,MATCH($A38,'公式予選（TT）2Gr-結果表（貼付）'!$A27:$A75,0),MATCH('公式予選（TT）2Gr-結果表（印刷）'!B$11,'公式予選（TT）2Gr-結果表（貼付）'!$1:$1,0)),"") | D38: =IFERROR(INDEX('公式予選（TT）2Gr-結果表（貼付）'!$A:$Z,MATCH($B38,'公式予選（TT）2Gr-結果表（貼付）'!$B:$B,0),MATCH('公式予選（TT）2Gr-結果表（印刷）'!D$11,'公式予選（TT）2Gr-結果表（貼付）'!$1:$1,0)),"") | E38: =IFERROR(INDEX('公式予選（TT）2Gr-結果表（貼付）'!$A:$Z,MATCH($B38,'公式予選（TT）2Gr-結果表（貼付）'!$B:$B,0),MATCH('公式予選（TT）2Gr-結果表（印刷）'!E$11,'公式予選（TT）2Gr-結果表（貼付）'!$1:$1,0)),"") | F38: =IFERROR(INDEX('公式予選（TT）2Gr-結果表（貼付）'!$A:$Z,MATCH($B38,'公式予選（TT）2Gr-結果表（貼付）'!$B:$B,0),MATCH('公式予選（TT）2Gr-結果表（印刷）'!F$11,'公式予選（TT）2Gr-結果表（貼付）'!$1:$1,0)),"") | G38: =IFERROR(INDEX('公式予選（TT）2Gr-結果表（貼付）'!$A:$Z,MATCH($B38,'公式予選（TT）2Gr-結果表（貼付）'!$B:$B,0),MATCH('公式予選（TT）2Gr-結果表（印刷）'!G$11,'公式予選（TT）2Gr-結果表（貼付）'!$1:$1,0)),"") | H38: =IF(A38="DNS","ｽﾀｰﾄ出来ず",IF(A38="DQ","失 格",IFERROR(INDEX('公式予選（TT）2Gr-結果表（貼付）'!$A:$Z,MATCH($B38,'公式予選（TT）2Gr-結果表（貼付）'!$B:$B,0),MATCH('公式予選（TT）2Gr-結果表（印刷）'!H$11,'公式予選（TT）2Gr-結果表（貼付）'!$1:$1,0)),""))) | I38: =IF(H38<1,"",IF($I$11>H38,"R","")) | J38: =IF(A38="DNS","",IF(A38="DQ","",IFERROR(INDEX('公式予選（TT）2Gr-結果表（貼付）'!$A:$Z,MATCH($B38,'公式予選（TT）2Gr-結果表（貼付）'!$B:$B,0),MATCH('公式予選（TT）2Gr-結果表（印刷）'!J$11,'公式予選（TT）2Gr-結果表（貼付）'!$1:$1,0)),""))) | K38: =IF(A38="DNS","",IF(A38="DQ","",IFERROR(INDEX('公式予選（TT）2Gr-結果表（貼付）'!$A:$Z,MATCH($B38,'公式予選（TT）2Gr-結果表（貼付）'!$B:$B,0),MATCH('公式予選（TT）2Gr-結果表（印刷）'!K$11,'公式予選（TT）2Gr-結果表（貼付）'!$1:$1,0)),""))) | L38: =IF(A38="DNS","",IF(A38="DQ","",IFERROR(INDEX('公式予選（TT）2Gr-結果表（貼付）'!$A:$Z,MATCH($B38,'公式予選（TT）2Gr-結果表（貼付）'!$B:$B,0),MATCH("In Lap",'公式予選（TT）2Gr-結果表（貼付）'!$1:$1,0))&"/"&INDEX('公式予選（TT）2Gr-結果表（貼付）'!$A:$Z,MATCH($B38,'公式予選（TT）2Gr-結果表（貼付）'!$B:$B,0),MATCH("Laps",'公式予選（TT）2Gr-結果表（貼付）'!$1:$1,0)),""))) | P38: =IF(IFERROR(INDEX('公式予選（TT）2Gr-結果表（貼付）'!$A:$Z,MATCH($B38,'公式予選（TT）2Gr-結果表（貼付）'!$B:$B,0),MATCH(P$11,'公式予選（TT）2Gr-結果表（貼付）'!$1:$1,0)),"")=0,"",IFERROR(INDEX('公式予選（TT）2Gr-結果表（貼付）'!$A:$Z,MATCH($B38,'公式予選（TT）2Gr-結果表（貼付）'!$B:$B,0),MATCH(P$11,'公式予選（TT）2Gr-結果表（貼付）'!$1:$1,0)),"")) | Q38: =IF(P38="","",COUNTIF($P$13:P38,"<>"&"")) | R38: =IFERROR(RANK(Q38,$Q$13:$Q$46,1),"") | S38: =IF(IFERROR(INDEX('公式予選（TT）2Gr-結果表（貼付）'!$A:$Z,MATCH($A38,'公式予選（TT）2Gr-結果表（貼付）'!$A:$A,0),MATCH(S$11,'公式予選（TT）2Gr-結果表（貼付）'!$1:$1,0)),"")=0,"",IFERROR(INDEX('公式予選（TT）2Gr-結果表（貼付）'!$A:$Z,MATCH($A38,'公式予選（TT）2Gr-結果表（貼付）'!$A:$A,0),MATCH(S$11,'公式予選（TT）2Gr-結果表（貼付）'!$1:$1,0)),""))
A39: =IF(OR('公式予選（TT）2Gr-結果表（貼付）'!A28="DNF",'公式予選（TT）2Gr-結果表（貼付）'!A28="DNS",'公式予選（TT）2Gr-結果表（貼付）'!A28="DQ"),'公式予選（TT）2Gr-結果表（貼付）'!A28,IF(MAX('公式予選（TT）2Gr-結果表（貼付）'!$A:$A)>A38,A38+1,"")) | B39: =IFERROR(INDEX('公式予選（TT）2Gr-結果表（貼付）'!A28:$Z$50,MATCH($A39,'公式予選（TT）2Gr-結果表（貼付）'!$A28:$A76,0),MATCH('公式予選（TT）2Gr-結果表（印刷）'!B$11,'公式予選（TT）2Gr-結果表（貼付）'!$1:$1,0)),"") | D39: =IFERROR(INDEX('公式予選（TT）2Gr-結果表（貼付）'!$A:$Z,MATCH($B39,'公式予選（TT）2Gr-結果表（貼付）'!$B:$B,0),MATCH('公式予選（TT）2Gr-結果表（印刷）'!D$11,'公式予選（TT）2Gr-結果表（貼付）'!$1:$1,0)),"") | E39: =IFERROR(INDEX('公式予選（TT）2Gr-結果表（貼付）'!$A:$Z,MATCH($B39,'公式予選（TT）2Gr-結果表（貼付）'!$B:$B,0),MATCH('公式予選（TT）2Gr-結果表（印刷）'!E$11,'公式予選（TT）2Gr-結果表（貼付）'!$1:$1,0)),"") | F39: =IFERROR(INDEX('公式予選（TT）2Gr-結果表（貼付）'!$A:$Z,MATCH($B39,'公式予選（TT）2Gr-結果表（貼付）'!$B:$B,0),MATCH('公式予選（TT）2Gr-結果表（印刷）'!F$11,'公式予選（TT）2Gr-結果表（貼付）'!$1:$1,0)),"") | G39: =IFERROR(INDEX('公式予選（TT）2Gr-結果表（貼付）'!$A:$Z,MATCH($B39,'公式予選（TT）2Gr-結果表（貼付）'!$B:$B,0),MATCH('公式予選（TT）2Gr-結果表（印刷）'!G$11,'公式予選（TT）2Gr-結果表（貼付）'!$1:$1,0)),"") | H39: =IF(A39="DNS","ｽﾀｰﾄ出来ず",IF(A39="DQ","失 格",IFERROR(INDEX('公式予選（TT）2Gr-結果表（貼付）'!$A:$Z,MATCH($B39,'公式予選（TT）2Gr-結果表（貼付）'!$B:$B,0),MATCH('公式予選（TT）2Gr-結果表（印刷）'!H$11,'公式予選（TT）2Gr-結果表（貼付）'!$1:$1,0)),""))) | I39: =IF(H39<1,"",IF($I$11>H39,"R","")) | J39: =IF(A39="DNS","",IF(A39="DQ","",IFERROR(INDEX('公式予選（TT）2Gr-結果表（貼付）'!$A:$Z,MATCH($B39,'公式予選（TT）2Gr-結果表（貼付）'!$B:$B,0),MATCH('公式予選（TT）2Gr-結果表（印刷）'!J$11,'公式予選（TT）2Gr-結果表（貼付）'!$1:$1,0)),""))) | K39: =IF(A39="DNS","",IF(A39="DQ","",IFERROR(INDEX('公式予選（TT）2Gr-結果表（貼付）'!$A:$Z,MATCH($B39,'公式予選（TT）2Gr-結果表（貼付）'!$B:$B,0),MATCH('公式予選（TT）2Gr-結果表（印刷）'!K$11,'公式予選（TT）2Gr-結果表（貼付）'!$1:$1,0)),""))) | L39: =IF(A39="DNS","",IF(A39="DQ","",IFERROR(INDEX('公式予選（TT）2Gr-結果表（貼付）'!$A:$Z,MATCH($B39,'公式予選（TT）2Gr-結果表（貼付）'!$B:$B,0),MATCH("In Lap",'公式予選（TT）2Gr-結果表（貼付）'!$1:$1,0))&"/"&INDEX('公式予選（TT）2Gr-結果表（貼付）'!$A:$Z,MATCH($B39,'公式予選（TT）2Gr-結果表（貼付）'!$B:$B,0),MATCH("Laps",'公式予選（TT）2Gr-結果表（貼付）'!$1:$1,0)),""))) | P39: =IF(IFERROR(INDEX('公式予選（TT）2Gr-結果表（貼付）'!$A:$Z,MATCH($B39,'公式予選（TT）2Gr-結果表（貼付）'!$B:$B,0),MATCH(P$11,'公式予選（TT）2Gr-結果表（貼付）'!$1:$1,0)),"")=0,"",IFERROR(INDEX('公式予選（TT）2Gr-結果表（貼付）'!$A:$Z,MATCH($B39,'公式予選（TT）2Gr-結果表（貼付）'!$B:$B,0),MATCH(P$11,'公式予選（TT）2Gr-結果表（貼付）'!$1:$1,0)),"")) | Q39: =IF(P39="","",COUNTIF($P$13:P39,"<>"&"")) | R39: =IFERROR(RANK(Q39,$Q$13:$Q$46,1),"") | S39: =IF(IFERROR(INDEX('公式予選（TT）2Gr-結果表（貼付）'!$A:$Z,MATCH($A39,'公式予選（TT）2Gr-結果表（貼付）'!$A:$A,0),MATCH(S$11,'公式予選（TT）2Gr-結果表（貼付）'!$1:$1,0)),"")=0,"",IFERROR(INDEX('公式予選（TT）2Gr-結果表（貼付）'!$A:$Z,MATCH($A39,'公式予選（TT）2Gr-結果表（貼付）'!$A:$A,0),MATCH(S$11,'公式予選（TT）2Gr-結果表（貼付）'!$1:$1,0)),""))
A40: =IF(OR('公式予選（TT）2Gr-結果表（貼付）'!A29="DNF",'公式予選（TT）2Gr-結果表（貼付）'!A29="DNS",'公式予選（TT）2Gr-結果表（貼付）'!A29="DQ"),'公式予選（TT）2Gr-結果表（貼付）'!A29,IF(MAX('公式予選（TT）2Gr-結果表（貼付）'!$A:$A)>A39,A39+1,"")) | B40: =IFERROR(INDEX('公式予選（TT）2Gr-結果表（貼付）'!A29:$Z$50,MATCH($A40,'公式予選（TT）2Gr-結果表（貼付）'!$A29:$A77,0),MATCH('公式予選（TT）2Gr-結果表（印刷）'!B$11,'公式予選（TT）2Gr-結果表（貼付）'!$1:$1,0)),"") | D40: =IFERROR(INDEX('公式予選（TT）2Gr-結果表（貼付）'!$A:$Z,MATCH($B40,'公式予選（TT）2Gr-結果表（貼付）'!$B:$B,0),MATCH('公式予選（TT）2Gr-結果表（印刷）'!D$11,'公式予選（TT）2Gr-結果表（貼付）'!$1:$1,0)),"") | E40: =IFERROR(INDEX('公式予選（TT）2Gr-結果表（貼付）'!$A:$Z,MATCH($B40,'公式予選（TT）2Gr-結果表（貼付）'!$B:$B,0),MATCH('公式予選（TT）2Gr-結果表（印刷）'!E$11,'公式予選（TT）2Gr-結果表（貼付）'!$1:$1,0)),"") | F40: =IFERROR(INDEX('公式予選（TT）2Gr-結果表（貼付）'!$A:$Z,MATCH($B40,'公式予選（TT）2Gr-結果表（貼付）'!$B:$B,0),MATCH('公式予選（TT）2Gr-結果表（印刷）'!F$11,'公式予選（TT）2Gr-結果表（貼付）'!$1:$1,0)),"") | G40: =IFERROR(INDEX('公式予選（TT）2Gr-結果表（貼付）'!$A:$Z,MATCH($B40,'公式予選（TT）2Gr-結果表（貼付）'!$B:$B,0),MATCH('公式予選（TT）2Gr-結果表（印刷）'!G$11,'公式予選（TT）2Gr-結果表（貼付）'!$1:$1,0)),"") | H40: =IF(A40="DNS","ｽﾀｰﾄ出来ず",IF(A40="DQ","失 格",IFERROR(INDEX('公式予選（TT）2Gr-結果表（貼付）'!$A:$Z,MATCH($B40,'公式予選（TT）2Gr-結果表（貼付）'!$B:$B,0),MATCH('公式予選（TT）2Gr-結果表（印刷）'!H$11,'公式予選（TT）2Gr-結果表（貼付）'!$1:$1,0)),""))) | I40: =IF(H40<1,"",IF($I$11>H40,"R","")) | J40: =IF(A40="DNS","",IF(A40="DQ","",IFERROR(INDEX('公式予選（TT）2Gr-結果表（貼付）'!$A:$Z,MATCH($B40,'公式予選（TT）2Gr-結果表（貼付）'!$B:$B,0),MATCH('公式予選（TT）2Gr-結果表（印刷）'!J$11,'公式予選（TT）2Gr-結果表（貼付）'!$1:$1,0)),""))) | K40: =IF(A40="DNS","",IF(A40="DQ","",IFERROR(INDEX('公式予選（TT）2Gr-結果表（貼付）'!$A:$Z,MATCH($B40,'公式予選（TT）2Gr-結果表（貼付）'!$B:$B,0),MATCH('公式予選（TT）2Gr-結果表（印刷）'!K$11,'公式予選（TT）2Gr-結果表（貼付）'!$1:$1,0)),""))) | L40: =IF(A40="DNS","",IF(A40="DQ","",IFERROR(INDEX('公式予選（TT）2Gr-結果表（貼付）'!$A:$Z,MATCH($B40,'公式予選（TT）2Gr-結果表（貼付）'!$B:$B,0),MATCH("In Lap",'公式予選（TT）2Gr-結果表（貼付）'!$1:$1,0))&"/"&INDEX('公式予選（TT）2Gr-結果表（貼付）'!$A:$Z,MATCH($B40,'公式予選（TT）2Gr-結果表（貼付）'!$B:$B,0),MATCH("Laps",'公式予選（TT）2Gr-結果表（貼付）'!$1:$1,0)),""))) | P40: =IF(IFERROR(INDEX('公式予選（TT）2Gr-結果表（貼付）'!$A:$Z,MATCH($B40,'公式予選（TT）2Gr-結果表（貼付）'!$B:$B,0),MATCH(P$11,'公式予選（TT）2Gr-結果表（貼付）'!$1:$1,0)),"")=0,"",IFERROR(INDEX('公式予選（TT）2Gr-結果表（貼付）'!$A:$Z,MATCH($B40,'公式予選（TT）2Gr-結果表（貼付）'!$B:$B,0),MATCH(P$11,'公式予選（TT）2Gr-結果表（貼付）'!$1:$1,0)),"")) | Q40: =IF(P40="","",COUNTIF($P$13:P40,"<>"&"")) | R40: =IFERROR(RANK(Q40,$Q$13:$Q$46,1),"") | S40: =IF(IFERROR(INDEX('公式予選（TT）2Gr-結果表（貼付）'!$A:$Z,MATCH($A40,'公式予選（TT）2Gr-結果表（貼付）'!$A:$A,0),MATCH(S$11,'公式予選（TT）2Gr-結果表（貼付）'!$1:$1,0)),"")=0,"",IFERROR(INDEX('公式予選（TT）2Gr-結果表（貼付）'!$A:$Z,MATCH($A40,'公式予選（TT）2Gr-結果表（貼付）'!$A:$A,0),MATCH(S$11,'公式予選（TT）2Gr-結果表（貼付）'!$1:$1,0)),""))
