Workbook

Sheet Ver履歴
B2: Ver | C2: 内容
B3: 20220510 | C3: 新規作成
B5: 20221205 | C5: グリッド修正

Sheet 各種設定
D1: ="Ver."&MAX(Ver履歴!B:B) -> Ver.20221205 | G1: 【共通文言】
B2: タイトル | D2: 2022 鈴鹿選手権シリーズ第7戦 ｶｰﾄﾚｰｽ IN SUZUKA | G2: 以下ﾌｨﾆｯｼｭﾗｲﾝ不通過：
B3: （JAF提用） | C3: 20文字 | D3: ｶｰﾄﾚｰｽ IN SUZUKA 第7戦 | G3: 以上 規定周回数完走：
B4: カテゴリ | D4: SUPER SS
G5: Rマークの車は、コースレコードを更新しました。従来のレコードタイムは ●.●
B6: WEATHER: | D6: Fine
D7: Cloudy
D8: Rain | G8: 以上：決勝ﾋｰﾄ進出
G9: 以下：ｾｶﾝﾄﾞﾁｬﾝｽﾋｰﾄ出場
B11: COURSE : | D11: Dry | G11: 計測できず
D12: Dry/Wet | G12: 出走せず
D13: Half Wet | G13: ｽﾀｰﾄ出来ず
D14: Wet | G14: 失 格
B17: DATE : | C17: From | D17: 44906
C18: To | D18: 44906
B20: 審査委員長 | G20: JAF国内ｶｰﾄ競技規則ｶｰﾄ競技会運営に関する規定 第22条((幅寄せ)違反により、10秒加算した。
G21: JAF国内ｶｰﾄ競技規則ｶｰﾄ競技会運営に関する規定 第22条(妨害の禁止(プッシング))違反により、着順から3位下の順位とする。
B22: 競技監督 | G22: JAF国内ｶｰﾄ競技規則ｶｰﾄ競技会運営に関する規定 第22条(妨害の禁止(ﾌﾟｯｼﾝｸﾞ･ﾌﾞﾛｯｷﾝｸﾞ))違反により、着順から3位下の順位とする。
G23: JAF国内ｶｰﾄ競技規則ｶｰﾄ競技会運営に関する規定 第22条(妨害の禁止(幅寄せ))違反 2回により、着順から6位下の順位とする。
B24: 計時委員長 | G24: JAF国内ｶｰﾄ競技規則ｶｰﾄ競技会運営に関する規定 第22条(妨害の禁止(幅寄せ))違反により、着順から2位下の順位とする。
G25: JAF国内ｶｰﾄ競技規則ｶｰﾄ競技会運営に関する規定 第22条(妨害の禁止(幅寄せ))違反により、着順から3位下の順位とする。
B26: 競技格式 | D26: D | G26: JAF国内ｶｰﾄ競技規則ｶｰﾄ競技会運営に関する規定 第22条(妨害の禁止(無理な割り込み))違反により、失格とした。
D27: A：国際､B：準国際､C：国内､D：準国内､E：地方 | G27: JAF国内ｶｰﾄ競技規則ｶｰﾄ競技会運営に関する規定 第22条(妨害の禁止(無理な進入))違反により、着順から3位下の順位とする。
B28: オーガナイザーコード | D28: 82401 | E28: SMSC | F28: 82401 | G28: JAF国内ｶｰﾄ競技規則ｶｰﾄ競技会運営に関する規定 第22条(妨害の禁止(無理な進入))違反により、着順から5位下の順位とする。
E29: KSK | F29: 82701 | G29: JAF国内ｶｰﾄ競技規則ｶｰﾄ競技会運営に関する規定 第22条(妨害の禁止)により、10秒加算した。
B30: 公認番号 | D30: 222509 | G30: JAF国内ｶｰﾄ競技規則ｶｰﾄ競技会運営に関する規定 第3章第11条(ドライバーの服装)違反により、1周減算とした。
G31: KTスーパートロフィ-2021SUZUKA特別規則書第14条(車両規定(ガスケット))違反により、失格とした。
G32: KTスーパートロフィ-2021SUZUKA特別規則書第14条(車両規定(フロントフェアリング))違反により、5秒加算とした。
G33: ROTAXMAXChallengeTechnicalRegulations20222-7ﾀｲﾔ指定方向のみ使用可の違反により、失格とした。
G34: 全日本カート選手権 ジュニアカート選手権統一規則 第19条(最低重量)違反により、失格とした。
G35: 全日本カート選手権 統一規則 カート競技会運営に関する規定 第21条コースアウト(ショートカット)により、1周減算した。
G36: 全日本カート選手権 統一規則 第38条(25)(フロントフェアリングが正しい装着状態でない)により5秒加算した。
G37: 鈴鹿選手権ｼﾘｰｽﾞ特別規則 競技車両規則第31条(危険回避の義務)違反により、着順から3位下の順位とする。
G38: 鈴鹿選手権ｼﾘｰｽﾞ特別規則 第29条～3)(フォーメーションラップ)違反により、失格とした。
G39: 鈴鹿選手権ｼﾘｰｽﾞ特別規則 第30条～3)(フォーメンションラップスタート)違反により、着順から3位下の順位とする。
G40: 鈴鹿選手権ｼﾘｰｽﾞ特別規則 第30条～1)(1)ｽﾀｰﾄ違反(ｺﾘﾄﾞｰ)により、着順から3位下の順位とする。
G41: 鈴鹿選手権ｼﾘｰｽﾞ特別規則 第30条スタート～2)スタート違反(フライング)により、着順から3位下の順位とする。
G42: 鈴鹿選手権ｼﾘｰｽﾞ特別規則 第32条(信号旗(チェッカー))違反により、1周減算とした。
... G48: 鈴鹿選手権ｼﾘｰｽﾞ特別規則競技車両規則 第67条～1)(改造範囲)違反により、失格とした。

Sheet コースレコード
A1: Class | B1: Name | C1: Time | D1: Date | E1: Machine | F1: Weather | G1: Course
A2: Avanti | B2: 三ツ井 光輝 | C2: 52.418 | D2: 44703 | E2: FA/PRD | F2: FINE | G2: DRY
A3: Avanti-YOUTH | B3: 向畑 疾走 | C3: 52.063 | D3: 43737 | E3: CRG/AVANTI | F3: FINE | G3: DRY
A4: カデット オープン | B4: 前田 蒼介 | C4: 55.806 | D4: 44668 | E4: KARTREPUBLIC/YAMAHA | F4: CLOUDY | G4: DRY
A5: EXGEL OK CHAMP | B5: 野村 勇斗 | C5: 46.999 | D5: 44269 | E5: KART REPUBLIC/TM | F5: FINE | G5: DRY
A6: FP3 | B6: 津野 和彦 | C6: 55.037 | D6: 41910 | E6: TONY KART/YAMAHA | F6: FINE | G6: DRY
A7: FP-Jr | B7: 加納 康雅 | C7: 53.724 | D7: 44177 | E7: SWF/YAMAHA | F7: FINE | G7: DRY
A8: FP-Jr Cadets | B8: 松本 琉輝斗 | C8: 57.957 | D8: 43583 | E8: Energy/YAMAHA | F8: FINE | G8: DRY
A9: FS-125/X30 | B9: 中井 陽斗 | C9: 48.758 | D9: 44668 | E9: KR/IAME | F9: CLOUDY | G9: DRY
A10: FS125 | B10: 佐野 雄城 | C10: 49.222 | D10: 44177 | E10: BirelART/IAME | F10: FINE | G10: DRY
A11: Junior MAX | B11: 秋枝 璃空 | C11: 49.068 | D11: 44668 | E11: KOSMIC/ROTAX | F11: FINE | G11: DRY
A12: MAX Masters | B12: 加藤 雅規 | C12: 48.677 | D12: 44668 | E12: KART REPABLIC/ROTAX | F12: CLOUDY | G12: DRY
A13: Senior MAX | B13: 玉橋 陸斗 | C13: 47.952 | D13: 44668 | E13: TONYKART/ROTAX | F13: CLOUDY | G13: DRY
... A20: YAMAHA KT Cadet | B20: 松井 沙麗 | C20: 56.447 | D20: 44248 | E20: TECNO | F20: FINE | G20: DRY
A21: YAMAHA KT SS | B21: 加納 康雅 | C21: 54.691 | D21: 44248 | F21: FINE | G21: DRY

Sheet 公式予選（TT）1Gr-結果表（貼付）
A1: Pos. | B1: No. | C1: 名前 | D1: クラス | E1: BestLap | F1: In Lap | G1: 差 | H1: GAP | I1: Laps | J1: 2nd Best | K1: コメント | L1: ポンダー# | M1: Tires | N1: Model/Engine | O1: Team | P1: 会員番号 | Q1: Sponsor | R1: Make | S1: ポイント | T1: ベスト平均時速 | U1: Total Time | V1: S1 | W1: S2
A2: 1 | B2: 51 | C2: 佐々木 克行 | D2: SUPER SS | E2: 55.027 | F2: 6 | I2: 6 | J2: 55.15 | L2: 724 | M2: BS | N2: DreamQuest/YAMAHA | O2: RT.HISTRY | P2: D1a2cc4a8 | S2: 0 | T2: 82.694 | U2: 0.0039031019 | V2: 27.688 | W2: 27.339
A3: 2 | B3: 2 | C3: 坂 裕之 | D3: SUPER SS | E3: 55.337 | F3: 6 | G3: 0.31 | H3: 0.31 | I3: 6 | J3: 55.347 | L3: 700 | M3: BS | N3: SWF/YAMAHA | O3: のりものクラブTIGRE | P3: D35876348 | S3: 0 | T3: 82.231 | U3: 0.0039646875 | V3: 27.773 | W3: 27.564
A4: 3 | B4: 30 | C4: 平野 伸一 | D4: SUPER SS | E4: 55.383 | F4: 3 | G4: 0.356 | H4: 0.046 | I4: 5 | J4: 55.442 | L4: 15875595 | M4: BS | N4: mach1/YAMAHA | O4: サーティーズレーシング | P4: D2286bc24 | S4: 0 | T4: 82.162 | U4: 0.003379919 | V4: 29.025
A5: 4 | B5: 7 | C5: 光田 拓 | D5: SUPER SS | E5: 55.401 | F5: 5 | G5: 0.374 | H5: 0.018 | I5: 5 | J5: 55.555 | L5: 702 | M5: BS | N5: TONYKART/YAMAHA | O5: M sistem | P5: D4c20e5a0 | S5: 0 | T5: 82.136 | U5: 0.0036746991 | V5: 27.974 | W5: 27.427
A6: 5 | B6: 73 | C6: 高野 貴志 | D6: SUPER SS | E6: 55.715 | F6: 3 | G6: 0.688 | H6: 0.314 | I6: 5 | J6: 55.774 | L6: 734 | M6: BS | N6: INTREPID/YAMAHA | O6: FIORE Motor Sports | P6: Df56912c2 | S6: 0 | T6: 81.673 | U6: 0.0037577778 | V6: 28.048 | W6: 27.726
A7: 6 | B7: 57 | C7: 江崎 昭彦 | D7: SUPER SS | E7: 55.718 | F7: 3 | G7: 0.691 | H7: 0.003 | I7: 5 | J7: 55.781 | L7: 8170816 | M7: BS | N7: KOSMIC/YAMAHA | O7: Ash | P7: Dbb09d749 | S7: 0 | T7: 81.668 | U7: 0.0033455671 | V7: 28.72
A8: 7 | B8: 10 | C8: 布目 敬詞 | D8: SUPER SS | E8: 55.718 | F8: 4 | G8: 0.691 | I8: 6 | J8: 55.781 | L8: 5950220 | M8: BS | N8: TONY KART/YAMAHA | O8: Higuchi Racing Team | P8: Dad20ea40 | S8: 0 | T8: 81.668 | U8: 0.0039690972 | V8: 28.174 | W8: 27.607
A9: 8 | B9: 25 | C9: 平井 秀樹 | D9: SUPER SS | E9: 55.839 | F9: 6 | G9: 0.812 | H9: 0.121 | I9: 6 | J9: 56.142 | L9: 712 | M9: BS | N9: コスミック/YAMAHA | O9: K-TECK with ぴぃたぁぱん | P9: D1cf2e00e | S9: 0 | T9: 81.491 | U9: 0.0039213426 | V9: 28.005 | W9: 27.834
A10: 9 | B10: 77 | C10: 永川 悠太 | D10: SUPER SS | E10: 55.864 | F10: 3 | G10: 0.837 | H10: 0.025 | I10: 5 | J10: 55.878 | L10: 735 | M10: BS | N10: DRAGO CORSE/YAMAHA | O10: のりものクラブ EGazooRacing with WEST | P10: D34af5015 | S10: 0 | T10: 81.455 | U10: 0.003746169 | V10: 28.206 | W10: 27.692
A11: 10 | B11: 19 | C11: 岸 秀行 | D11: SUPER SS | E11: 55.879 | F11: 5 | G11: 0.852 | H11: 0.015 | I11: 5 | J11: 56.09 | L11: 4877312 | M11: BS | N11: コスミック/YAMAHA | O11: チームナガオ・大阪鶴見法律事務所 | P11: D86ec8678 | S11: 0 | T11: 81.433 | U11: 0.0039275347 | V11: 28.266 | W11: 27.613
A12: 11 | B12: 45 | C12: 三浦 淳 | D12: SUPER SS | E12: 55.911 | F12: 2 | G12: 0.884 | H12: 0.032 | I12: 5 | J12: 56.003 | L12: 723 | M12: BS | N12: SWF/YAMAHA | O12: 堺レーシング | P12: D9c39bd8d | S12: 0 | T12: 81.386 | U12: 0.0033416319 | V12: 28.595
A13: 12 | B13: 52 | C13: 佐藤 正規 | D13: SUPER SS | E13: 55.984 | F13: 5 | G13: 0.957 | H13: 0.073 | I13: 5 | J13: 56.228 | L13: 6141282 | M13: BS | N13: birel ART/YAMAHA | O13: FSN union | P13: Dc2ae38f6 | S13: 0 | T13: 81.28 | U13: 0.0038989352 | V13: 28.039 | W13: 27.945
A14: 13 | B14: 32 | C14: 林 三貴彦 | D14: SUPER SS | E14: 55.987 | F14: 2 | G14: 0.96 | H14: 0.003 | I14: 2 | J14: 56.276 | L14: 15744434 | M14: BS | N14: トニーカート/YAMAHA | O14: ASH | P14: D4265bec9 | S14: 0 | T14: 81.276 | U14: 0.0014076968 | V14: 28.186 | W14: 27.801
A15: 14 | B15: 12 | C15: 辻井 啓貴 | D15: SUPER SS | E15: 56.075 | F15: 5 | G15: 1.048 | H15: 0.088 | I15: 6 | J15: 56.434 | L15: 706 | M15: BS | N15: KOSMIC/YAMAHA | O15: EHRE motorsport | P15: Dcdc3ed1 | S15: 0 | T15: 81.148 | U15: 0.0039658796 | V15: 28.126 | W15: 28.488
A16: 15 | B16: 3 | C16: 奥野 安眞 | D16: SUPER SS | E16: 56.089 | F16: 2 | G16: 1.062 | H16: 0.014 | I16: 6 | J16: 56.089 | L16: 701 | M16: BS | N16: MACH1/YAMAHA | O16: F's CLUB | P16: D8de6ac52 | S16: 0 | T16: 81.128 | U16: 0.0040325694 | V16: 28.179 | W16: 27.985
A17: 16 | B17: 39 | C17: 松井 孝允 | D17: SUPER SS | E17: 56.123 | F17: 6 | G17: 1.096 | H17: 0.034 | I17: 6 | J17: 56.202 | L17: 720 | M17: BS | N17: SWF/YAMAHA | O17: のりものクラブTIGRE | P17: D94acc7e | S17: 0 | T17: 81.079 | U17: 0.0039565972 | V17: 28.133 | W17: 27.99
A18: 17 | B18: 44 | C18: 今井 紀夫 | D18: SUPER SS | E18: 56.157 | F18: 5 | G18: 1.13 | H18: 0.034 | I18: 5 | J18: 56.489 | L18: 722 | M18: BS | N18: ビレル/YAMAHA | O18: アフェクションTIGRE | P18: D2458ea0 | S18: 0 | T18: 81.03 | U18: 0.0039906829 | V18: 28.109 | W18: 28.048
A19: 18 | B19: 14 | C19: 辻本 稔 | D19: SUPER SS | E19: 56.188 | F19: 6 | G19: 1.161 | H19: 0.031 | I19: 6 | J19: 56.445 | L19: 14620682 | M19: BS | N19: Mach1/YAMAHA | O19: サーティーズレーシング | P19: D6ce6f2e4 | S19: 0 | T19: 80.985 | U19: 0.0040949884 | V19: 28.361 | W19: 27.827
A20: 19 | B20: 53 | C20: 宮崎 知巳 | D20: SUPER SS | E20: 56.361 | F20: 3 | G20: 1.334 | H20: 0.173 | I20: 5 | J20: 56.364 | L20: 726 | M20: BS | N20: トニーカート/YAMAHA | O20: JACKAL HKC | P20: D7acfc991 | S20: 0 | T20: 80.737 | U20: 0.0038967245 | V20: 28.338 | W20: 28.026
A21: 20 | B21: 68 | C21: 安藤 直仁 | D21: SUPER SS | E21: 56.414 | F21: 1 | G21: 1.387 | H21: 0.053 | I21: 5 | J21: 56.514 | L21: 731 | M21: BS | N21: KOSMIC/YAMAHA | O21: Gren Blue RT | P21: Df995a3fb | S21: 0 | T21: 80.661 | U21: 0.0033439815 | V21: 29.058
A22: 21 | B22: 27 | C22: 大川 浩 | D22: SUPER SS | E22: 56.595 | F22: 2 | G22: 1.568 | H22: 0.181 | I22: 5 | J22: 56.658 | L22: 8111339 | M22: BS | N22: FA/YAMAHA | O22: ハラダカートクラブ | P22: D7c11f9f0 | S22: 0 | T22: 80.403 | U22: 0.0036674421 | V22: 28.637 | W22: 28.111
A23: 22 | B23: 90 | C23: 竹中 敬之 | D23: SUPER SS | E23: 56.618 | F23: 4 | G23: 1.591 | H23: 0.023 | I23: 6 | J23: 56.648 | L23: 14281735 | M23: BS | N23: マッハワン/YAMAHA | O23: サーティーズレーシング | P23: Db3faed32 | S23: 0 | T23: 80.37 | U23: 0.0039600463 | V23: 28.667 | W23: 28.055
A24: 23 | B24: 61 | C24: 曽我部 崇 | D24: SUPER SS | E24: 56.722 | F24: 4 | G24: 1.695 | H24: 0.104 | I24: 6 | J24: 56.785 | L24: 10308234 | M24: BS | N24: MACH1/YAMAHA | O24: F's CLUB | P24: Dd2592ef5 | S24: 0 | T24: 80.223 | U24: 0.0040708333 | V24: 28.569 | W24: 28.276
A25: 24 | B25: 29 | C25: 平田 研二 | D25: SUPER SS | E25: 56.753 | F25: 5 | G25: 1.726 | H25: 0.031 | I25: 5 | J25: 57.173 | L25: 715 | M25: BS | N25: CROC Promotion/YAMAHA | O25: RS nakatsuchi | P25: D4e991b34 | S25: 0 | T25: 80.179 | U25: 0.0039878472 | V25: 28.515 | W25: 28.238
A26: 25 | B26: 99 | C26: 近藤 雄一朗 | D26: SUPER SS | E26: 56.931 | F26: 1 | G26: 1.904 | H26: 0.178 | I26: 6 | J26: 57.065 | L26: 740 | M26: BS | N26: ドラゴコルセ/YAMAHA | O26: モアコラージュTQS | P26: D98362e58 | S26: 0 | T26: 79.928 | U26: 0.0040063079 | V26: 29.326 | W26: 28.546
A27: 26 | B27: 56 | C27: 米倉 隆幸 | D27: SUPER SS | E27: 57.622 | F27: 4 | G27: 2.595 | H27: 0.691 | I27: 5 | J27: 57.629 | L27: 728 | M27: BS | N27: TONY KART/YAMAHA | O27: T-WEST-RS | P27: D3689610 | S27: 0 | T27: 78.97 | U27: 0.0036585995 | V27: 29.125 | W27: 28.504

Sheet 公式予選（TT）1Gr-結果表（印刷）
J6: =+各種設定!D18 -> 44906 | K6: :
A7: =+各種設定!D2 -> 2022 鈴鹿選手権シリーズ第7戦 ｶｰﾄﾚｰｽ IN SUZUKA | J7: WEATHER: | K7: Fine
D8: Thanks BRIDGESTONE | J8: COURSE : | K8: Dry
A9: =+各種設定!D4 -> SUPER SS | J9: 南コース 1.264Km
A10: １ Ｇｒ. 公式予選結果表
B11: No. | C11: クラス | D11: 名前 | E11: Model/Engine | F11: Team | G11: Tires | H11: BestLap | I11: =VLOOKUP(A9,コースレコード!$A:$G,3,FALSE) -> 54.706 | J11: 差 | K11: GAP | P11: コメント | R11: ペナルティNo. | S11: グリッドコメント
A12: Pos. | B12: No. | D12: Driver | E12: Type | F12: Team | G12: Tire | H12: Time | J12: Delay | K12: Gap | L12: Lap
A13: 1 | B13: =IFERROR(INDEX('公式予選（TT）1Gr-結果表（貼付）'!A2:$Z$50,MATCH($A13,'公式予選（TT）1Gr-結果表（貼付）'!A2:$A$50,0),MATCH('公式予選（TT）1Gr-結果表（印刷）'!B$11,'公式予選（TT）1Gr-結果表（貼付）'!$1:$1,0)),"") -> 51 | D13: =IFERROR(INDEX('公式予選（TT）1Gr-結果表（貼付）'!$A:$Z,MATCH($B13,'公式予選（TT）1Gr-結果表（貼付）'!$B:$B,0),MATCH('公式予選（TT）1Gr-結果表（印刷）'!D$11,'公式予選（TT）1Gr-結果表（貼付）'!$1:$1,0)),"") -> 佐々木 克行 | E13: =IFERROR(INDEX('公式予選（TT）1Gr-結果表（貼付）'!$A:$Z,MATCH($B13,'公式予選（TT）1Gr-結果表（貼付）'!$B:$B,0),MATCH('公式予選（TT）1Gr-結果表（印刷）'!E$11,'公式予選（TT）1Gr-結果表（貼付）'!$1:$1,0)),"") -> DreamQuest/YAMAHA | F13: =IFERROR(INDEX('公式予選（TT）1Gr-結果表（貼付）'!$A:$Z,MATCH($B13,'公式予選（TT）1Gr-結果表（貼付）'!$B:$B,0),MATCH('公式予選（TT）1Gr-結果表（印刷）'!F$11,'公式予選（TT）1Gr-結果表（貼付）'!$1:$1,0)),"") -> RT.HISTRY | G13: =IFERROR(INDEX('公式予選（TT）1Gr-結果表（貼付）'!$A:$Z,MATCH($B13,'公式予選（TT）1Gr-結果表（貼付）'!$B:$B,0),MATCH('公式予選（TT）1Gr-結果表（印刷）'!G$11,'公式予選（TT）1Gr-結果表（貼付）'!$1:$1,0)),"") -> BS | H13: =IFERROR(INDEX('公式予選（TT）1Gr-結果表（貼付）'!$A:$Z,MATCH($B13,'公式予選（TT）1Gr-結果表（貼付）'!$B:$B,0),MATCH('公式予選（TT）1Gr-結果表（印刷）'!H$11,'公式予選（TT）1Gr-結果表（貼付）'!$1:$1,0)),"") -> 55.027 | I13: =IF(H13<1,"",IF($I$11>H13,"R","")) | J13: =ROUND(INDEX('公式予選（TT）1Gr-結果表（貼付）'!$A:$Z,MATCH($B13,'公式予選（TT）1Gr-結果表（貼付）'!$B:$B,0),MATCH("ベスト平均時速",'公式予選（TT）1Gr-結果表（貼付）'!$1:$1,0)),2)&"km/h" -> 82.69km/h | L13: =IF(A13="DNS","",IF(A13="DQ","",IFERROR(INDEX('公式予選（TT）1Gr-結果表（貼付）'!$A:$Z,MATCH($B13,'公式予選（TT）1Gr-結果表（貼付）'!$B:$B,0),MATCH("In Lap",'公式予選（TT）1Gr-結果表（貼付）'!$1:$1,0))&"/"&INDEX('公式予選（TT）1Gr-結果表（貼付）'!$A:$Z,MATCH($B13,'公式予選（TT）1Gr-結果表（貼付）'!$B:$B,0),MATCH("Laps",'公式予選（TT）1Gr-結果表（貼付）'!$1:$1,0)),""))) -> 6/6 | P13: =IF(IFERROR(INDEX('公式予選（TT）1Gr-結果表（貼付）'!$A:$Z,MATCH($B13,'公式予選（TT）1Gr-結果表（貼付）'!$B:$B,0),MATCH(P$11,'公式予選（TT）1Gr-結果表（貼付）'!$1:$1,0)),"")=0,"",IFERROR(INDEX('公式予選（TT）1Gr-結果表（貼付）'!$A:$Z,MATCH($B13,'公式予選（TT）1Gr-結果表（貼付）'!$B:$B,0),MATCH(P$11,'公式予選（TT）1Gr-結果表（貼付）'!$1:$1,0)),"")) | Q13: =IF(P13="","",COUNTIF($P$13:P13,"<>"&"")) | R13: =IFERROR(RANK(Q13,$Q$13:$Q$46,1),"") | S13: =IF(IFERROR(INDEX('公式予選（TT）1Gr-結果表（貼付）'!$A:$Z,MATCH($A13,'公式予選（TT）1Gr-結果表（貼付）'!$A:$A,0),MATCH(S$11,'公式予選（TT）1Gr-結果表（貼付）'!$1:$1,0)),"")=0,"",IFERROR(INDEX('公式予選（TT）1Gr-結果表（貼付）'!$A:$Z,MATCH($A13,'公式予選（TT）1Gr-結果表（貼付）'!$A:$A,0),MATCH(S$11,'公式予選（TT）1Gr-結果表（貼付）'!$1:$1,0)),""))
A14: =IF(OR('公式予選（TT）1Gr-結果表（貼付）'!A3="DNF",'公式予選（TT）1Gr-結果表（貼付）'!A3="DNS",'公式予選（TT）1Gr-結果表（貼付）'!A3="DQ"),'公式予選（TT）1Gr-結果表（貼付）'!A3,IF(MAX('公式予選（TT）1Gr-結果表（貼付）'!$A:$A)>A13,A13+1,"")) -> 2 | B14: =IFERROR(INDEX('公式予選（TT）1Gr-結果表（貼付）'!A3:$Z$50,MATCH($A14,'公式予選（TT）1Gr-結果表（貼付）'!A3:$A$50,0),MATCH('公式予選（TT）1Gr-結果表（印刷）'!B$11,'公式予選（TT）1Gr-結果表（貼付）'!$1:$1,0)),"") -> 2 | D14: =IFERROR(INDEX('公式予選（TT）1Gr-結果表（貼付）'!$A:$Z,MATCH($B14,'公式予選（TT）1Gr-結果表（貼付）'!$B:$B,0),MATCH('公式予選（TT）1Gr-結果表（印刷）'!D$11,'公式予選（TT）1Gr-結果表（貼付）'!$1:$1,0)),"") -> 坂 裕之 | E14: =IFERROR(INDEX('公式予選（TT）1Gr-結果表（貼付）'!$A:$Z,MATCH($B14,'公式予選（TT）1Gr-結果表（貼付）'!$B:$B,0),MATCH('公式予選（TT）1Gr-結果表（印刷）'!E$11,'公式予選（TT）1Gr-結果表（貼付）'!$1:$1,0)),"") -> SWF/YAMAHA | F14: =IFERROR(INDEX('公式予選（TT）1Gr-結果表（貼付）'!$A:$Z,MATCH($B14,'公式予選（TT）1Gr-結果表（貼付）'!$B:$B,0),MATCH('公式予選（TT）1Gr-結果表（印刷）'!F$11,'公式予選（TT）1Gr-結果表（貼付）'!$1:$1,0)),"") -> のりものクラブTIGRE | G14: =IFERROR(INDEX('公式予選（TT）1Gr-結果表（貼付）'!$A:$Z,MATCH($B14,'公式予選（TT）1Gr-結果表（貼付）'!$B:$B,0),MATCH('公式予選（TT）1Gr-結果表（印刷）'!G$11,'公式予選（TT）1Gr-結果表（貼付）'!$1:$1,0)),"") -> BS | H14: =IF(A14="DNS","ｽﾀｰﾄ出来ず",IF(A14="DQ","失 格",IFERROR(INDEX('公式予選（TT）1Gr-結果表（貼付）'!$A:$Z,MATCH($B14,'公式予選（TT）1Gr-結果表（貼付）'!$B:$B,0),MATCH('公式予選（TT）1Gr-結果表（印刷）'!H$11,'公式予選（TT）1Gr-結果表（貼付）'!$1:$1,0)),""))) -> 55.337 | I14: =IF(H14<1,"",IF($I$11>H14,"R","")) | J14: =IF(A14="DNS","",IF(A14="DQ","",IFERROR(INDEX('公式予選（TT）1Gr-結果表（貼付）'!$A:$Z,MATCH($B14,'公式予選（TT）1Gr-結果表（貼付）'!$B:$B,0),MATCH('公式予選（TT）1Gr-結果表（印刷）'!J$11,'公式予選（TT）1Gr-結果表（貼付）'!$1:$1,0)),""))) -> 0.31 | K14: =IF(A14="DNS","",IF(A14="DQ","",IFERROR(INDEX('公式予選（TT）1Gr-結果表（貼付）'!$A:$Z,MATCH($B14,'公式予選（TT）1Gr-結果表（貼付）'!$B:$B,0),MATCH('公式予選（TT）1Gr-結果表（印刷）'!K$11,'公式予選（TT）1Gr-結果表（貼付）'!$1:$1,0)),""))) -> 0.31 | L14: =IF(A14="DNS","",IF(A14="DQ","",IFERROR(INDEX('公式予選（TT）1Gr-結果表（貼付）'!$A:$Z,MATCH($B14,'公式予選（TT）1Gr-結果表（貼付）'!$B:$B,0),MATCH("In Lap",'公式予選（TT）1Gr-結果表（貼付）'!$1:$1,0))&"/"&INDEX('公式予選（TT）1Gr-結果表（貼付）'!$A:$Z,MATCH($B14,'公式予選（TT）1Gr-結果表（貼付）'!$B:$B,0),MATCH("Laps",'公式予選（TT）1Gr-結果表（貼付）'!$1:$1,0)),""))) -> 6/6 | P14: =IF(IFERROR(INDEX('公式予選（TT）1Gr-結果表（貼付）'!$A:$Z,MATCH($B14,'公式予選（TT）1Gr-結果表（貼付）'!$B:$B,0),MATCH(P$11,'公式予選（TT）1Gr-結果表（貼付）'!$1:$1,0)),"")=0,"",IFERROR(INDEX('公式予選（TT）1Gr-結果表（貼付）'!$A:$Z,MATCH($B14,'公式予選（TT）1Gr-結果表（貼付）'!$B:$B,0),MATCH(P$11,'公式予選（TT）1Gr-結果表（貼付）'!$1:$1,0)),"")) | Q14: =IF(P14="","",COUNTIF($P$13:P14,"<>"&"")) | R14: =IFERROR(RANK(Q14,$Q$13:$Q$46,1),"") | S14: =IF(IFERROR(INDEX('公式予選（TT）1Gr-結果表（貼付）'!$A:$Z,MATCH($A14,'公式予選（TT）1Gr-結果表（貼付）'!$A:$A,0),MATCH(S$11,'公式予選（TT）1Gr-結果表（貼付）'!$1:$1,0)),"")=0,"",IFERROR(INDEX('公式予選（TT）1Gr-結果表（貼付）'!$A:$Z,MATCH($A14,'公式予選（TT）1Gr-結果表（貼付）'!$A:$A,0),MATCH(S$11,'公式予選（TT）1Gr-結果表（貼付）'!$1:$1,0)),""))
A15: =IF(OR('公式予選（TT）1Gr-結果表（貼付）'!A4="DNF",'公式予選（TT）1Gr-結果表（貼付）'!A4="DNS",'公式予選（TT）1Gr-結果表（貼付）'!A4="DQ"),'公式予選（TT）1Gr-結果表（貼付）'!A4,IF(MAX('公式予選（TT）1Gr-結果表（貼付）'!$A:$A)>A14,A14+1,"")) -> 3 | B15: =IFERROR(INDEX('公式予選（TT）1Gr-結果表（貼付）'!A4:$Z$50,MATCH($A15,'公式予選（TT）1Gr-結果表（貼付）'!A4:$A$50,0),MATCH('公式予選（TT）1Gr-結果表（印刷）'!B$11,'公式予選（TT）1Gr-結果表（貼付）'!$1:$1,0)),"") -> 30 | D15: =IFERROR(INDEX('公式予選（TT）1Gr-結果表（貼付）'!$A:$Z,MATCH($B15,'公式予選（TT）1Gr-結果表（貼付）'!$B:$B,0),MATCH('公式予選（TT）1Gr-結果表（印刷）'!D$11,'公式予選（TT）1Gr-結果表（貼付）'!$1:$1,0)),"") -> 平野 伸一 | E15: =IFERROR(INDEX('公式予選（TT）1Gr-結果表（貼付）'!$A:$Z,MATCH($B15,'公式予選（TT）1Gr-結果表（貼付）'!$B:$B,0),MATCH('公式予選（TT）1Gr-結果表（印刷）'!E$11,'公式予選（TT）1Gr-結果表（貼付）'!$1:$1,0)),"") -> mach1/YAMAHA | F15: =IFERROR(INDEX('公式予選（TT）1Gr-結果表（貼付）'!$A:$Z,MATCH($B15,'公式予選（TT）1Gr-結果表（貼付）'!$B:$B,0),MATCH('公式予選（TT）1Gr-結果表（印刷）'!F$11,'公式予選（TT）1Gr-結果表（貼付）'!$1:$1,0)),"") -> サーティーズレーシング | G15: =IFERROR(INDEX('公式予選（TT）1Gr-結果表（貼付）'!$A:$Z,MATCH($B15,'公式予選（TT）1Gr-結果表（貼付）'!$B:$B,0),MATCH('公式予選（TT）1Gr-結果表（印刷）'!G$11,'公式予選（TT）1Gr-結果表（貼付）'!$1:$1,0)),"") -> BS | H15: =IF(A15="DNS","ｽﾀｰﾄ出来ず",IF(A15="DQ","失 格",IFERROR(INDEX('公式予選（TT）1Gr-結果表（貼付）'!$A:$Z,MATCH($B15,'公式予選（TT）1Gr-結果表（貼付）'!$B:$B,0),MATCH('公式予選（TT）1Gr-結果表（印刷）'!H$11,'公式予選（TT）1Gr-結果表（貼付）'!$1:$1,0)),""))) -> 55.383 | I15: =IF(H15<1,"",IF($I$11>H15,"R","")) | J15: =IF(A15="DNS","",IF(A15="DQ","",IFERROR(INDEX('公式予選（TT）1Gr-結果表（貼付）'!$A:$Z,MATCH($B15,'公式予選（TT）1Gr-結果表（貼付）'!$B:$B,0),MATCH('公式予選（TT）1Gr-結果表（印刷）'!J$11,'公式予選（TT）1Gr-結果表（貼付）'!$1:$1,0)),""))) -> 0.356 | K15: =IF(A15="DNS","",IF(A15="DQ","",IFERROR(INDEX('公式予選（TT）1Gr-結果表（貼付）'!$A:$Z,MATCH($B15,'公式予選（TT）1Gr-結果表（貼付）'!$B:$B,0),MATCH('公式予選（TT）1Gr-結果表（印刷）'!K$11,'公式予選（TT）1Gr-結果表（貼付）'!$1:$1,0)),""))) -> 0.046 | L15: =IF(A15="DNS","",IF(A15="DQ","",IFERROR(INDEX('公式予選（TT）1Gr-結果表（貼付）'!$A:$Z,MATCH($B15,'公式予選（TT）1Gr-結果表（貼付）'!$B:$B,0),MATCH("In Lap",'公式予選（TT）1Gr-結果表（貼付）'!$1:$1,0))&"/"&INDEX('公式予選（TT）1Gr-結果表（貼付）'!$A:$Z,MATCH($B15,'公式予選（TT）1Gr-結果表（貼付）'!$B:$B,0),MATCH("Laps",'公式予選（TT）1Gr-結果表（貼付）'!$1:$1,0)),""))) -> 3/5 | P15: =IF(IFERROR(INDEX('公式予選（TT）1Gr-結果表（貼付）'!$A:$Z,MATCH($B15,'公式予選（TT）1Gr-結果表（貼付）'!$B:$B,0),MATCH(P$11,'公式予選（TT）1Gr-結果表（貼付）'!$1:$1,0)),"")=0,"",IFERROR(INDEX('公式予選（TT）1Gr-結果表（貼付）'!$A:$Z,MATCH($B15,'公式予選（TT）1Gr-結果表（貼付）'!$B:$B,0),MATCH(P$11,'公式予選（TT）1Gr-結果表（貼付）'!$1:$1,0)),"")) | Q15: =IF(P15="","",COUNTIF($P$13:P15,"<>"&"")) | R15: =IFERROR(RANK(Q15,$Q$13:$Q$46,1),"") | S15: =IF(IFERROR(INDEX('公式予選（TT）1Gr-結果表（貼付）'!$A:$Z,MATCH($A15,'公式予選（TT）1Gr-結果表（貼付）'!$A:$A,0),MATCH(S$11,'公式予選（TT）1Gr-結果表（貼付）'!$1:$1,0)),"")=0,"",IFERROR(INDEX('公式予選（TT）1Gr-結果表（貼付）'!$A:$Z,MATCH($A15,'公式予選（TT）1Gr-結果表（貼付）'!$A:$A,0),MATCH(S$11,'公式予選（TT）1Gr-結果表（貼付）'!$1:$1,0)),""))
A16: =IF(OR('公式予選（TT）1Gr-結果表（貼付）'!A5="DNF",'公式予選（TT）1Gr-結果表（貼付）'!A5="DNS",'公式予選（TT）1Gr-結果表（貼付）'!A5="DQ"),'公式予選（TT）1Gr-結果表（貼付）'!A5,IF(MAX('公式予選（TT）1Gr-結果表（貼付）'!$A:$A)>A15,A15+1,"")) -> 4 | B16: =IFERROR(INDEX('公式予選（TT）1Gr-結果表（貼付）'!A5:$Z$50,MATCH($A16,'公式予選（TT）1Gr-結果表（貼付）'!A5:$A$50,0),MATCH('公式予選（TT）1Gr-結果表（印刷）'!B$11,'公式予選（TT）1Gr-結果表（貼付）'!$1:$1,0)),"") -> 7 | D16: =IFERROR(INDEX('公式予選（TT）1Gr-結果表（貼付）'!$A:$Z,MATCH($B16,'公式予選（TT）1Gr-結果表（貼付）'!$B:$B,0),MATCH('公式予選（TT）1Gr-結果表（印刷）'!D$11,'公式予選（TT）1Gr-結果表（貼付）'!$1:$1,0)),"") -> 光田 拓 | E16: =IFERROR(INDEX('公式予選（TT）1Gr-結果表（貼付）'!$A:$Z,MATCH($B16,'公式予選（TT）1Gr-結果表（貼付）'!$B:$B,0),MATCH('公式予選（TT）1Gr-結果表（印刷）'!E$11,'公式予選（TT）1Gr-結果表（貼付）'!$1:$1,0)),"") -> TONYKART/YAMAHA | F16: =IFERROR(INDEX('公式予選（TT）1Gr-結果表（貼付）'!$A:$Z,MATCH($B16,'公式予選（TT）1Gr-結果表（貼付）'!$B:$B,0),MATCH('公式予選（TT）1Gr-結果表（印刷）'!F$11,'公式予選（TT）1Gr-結果表（貼付）'!$1:$1,0)),"") -> M sistem | G16: =IFERROR(INDEX('公式予選（TT）1Gr-結果表（貼付）'!$A:$Z,MATCH($B16,'公式予選（TT）1Gr-結果表（貼付）'!$B:$B,0),MATCH('公式予選（TT）1Gr-結果表（印刷）'!G$11,'公式予選（TT）1Gr-結果表（貼付）'!$1:$1,0)),"") -> BS | H16: =IF(A16="DNS","ｽﾀｰﾄ出来ず",IF(A16="DQ","失 格",IFERROR(INDEX('公式予選（TT）1Gr-結果表（貼付）'!$A:$Z,MATCH($B16,'公式予選（TT）1Gr-結果表（貼付）'!$B:$B,0),MATCH('公式予選（TT）1Gr-結果表（印刷）'!H$11,'公式予選（TT）1Gr-結果表（貼付）'!$1:$1,0)),""))) -> 55.401 | I16: =IF(H16<1,"",IF($I$11>H16,"R","")) | J16: =IF(A16="DNS","",IF(A16="DQ","",IFERROR(INDEX('公式予選（TT）1Gr-結果表（貼付）'!$A:$Z,MATCH($B16,'公式予選（TT）1Gr-結果表（貼付）'!$B:$B,0),MATCH('公式予選（TT）1Gr-結果表（印刷）'!J$11,'公式予選（TT）1Gr-結果表（貼付）'!$1:$1,0)),""))) -> 0.374 | K16: =IF(A16="DNS","",IF(A16="DQ","",IFERROR(INDEX('公式予選（TT）1Gr-結果表（貼付）'!$A:$Z,MATCH($B16,'公式予選（TT）1Gr-結果表（貼付）'!$B:$B,0),MATCH('公式予選（TT）1Gr-結果表（印刷）'!K$11,'公式予選（TT）1Gr-結果表（貼付）'!$1:$1,0)),""))) -> 0.018 | L16: =IF(A16="DNS","",IF(A16="DQ","",IFERROR(INDEX('公式予選（TT）1Gr-結果表（貼付）'!$A:$Z,MATCH($B16,'公式予選（TT）1Gr-結果表（貼付）'!$B:$B,0),MATCH("In Lap",'公式予選（TT）1Gr-結果表（貼付）'!$1:$1,0))&"/"&INDEX('公式予選（TT）1Gr-結果表（貼付）'!$A:$Z,MATCH($B16,'公式予選（TT）1Gr-結果表（貼付）'!$B:$B,0),MATCH("Laps",'公式予選（TT）1Gr-結果表（貼付）'!$1:$1,0)),""))) -> 5/5 | P16: =IF(IFERROR(INDEX('公式予選（TT）1Gr-結果表（貼付）'!$A:$Z,MATCH($B16,'公式予選（TT）1Gr-結果表（貼付）'!$B:$B,0),MATCH(P$11,'公式予選（TT）1Gr-結果表（貼付）'!$1:$1,0)),"")=0,"",IFERROR(INDEX('公式予選（TT）1Gr-結果表（貼付）'!$A:$Z,MATCH($B16,'公式予選（TT）1Gr-結果表（貼付）'!$B:$B,0),MATCH(P$11,'公式予選（TT）1Gr-結果表（貼付）'!$1:$1,0)),"")) | Q16: =IF(P16="","",COUNTIF($P$13:P16,"<>"&"")) | R16: =IFERROR(RANK(Q16,$Q$13:$Q$46,1),"") | S16: =IF(IFERROR(INDEX('公式予選（TT）1Gr-結果表（貼付）'!$A:$Z,MATCH($A16,'公式予選（TT）1Gr-結果表（貼付）'!$A:$A,0),MATCH(S$11,'公式予選（TT）1Gr-結果表（貼付）'!$1:$1,0)),"")=0,"",IFERROR(INDEX('公式予選（TT）1Gr-結果表（貼付）'!$A:$Z,MATCH($A16,'公式予選（TT）1Gr-結果表（貼付）'!$A:$A,0),MATCH(S$11,'公式予選（TT）1Gr-結果表（貼付）'!$1:$1,0)),""))
A17: =IF(OR('公式予選（TT）1Gr-結果表（貼付）'!A6="DNF",'公式予選（TT）1Gr-結果表（貼付）'!A6="DNS",'公式予選（TT）1Gr-結果表（貼付）'!A6="DQ"),'公式予選（TT）1Gr-結果表（貼付）'!A6,IF(MAX('公式予選（TT）1Gr-結果表（貼付）'!$A:$A)>A16,A16+1,"")) -> 5 | B17: =IFERROR(INDEX('公式予選（TT）1Gr-結果表（貼付）'!A6:$Z$50,MATCH($A17,'公式予選（TT）1Gr-結果表（貼付）'!A6:$A$50,0),MATCH('公式予選（TT）1Gr-結果表（印刷）'!B$11,'公式予選（TT）1Gr-結果表（貼付）'!$1:$1,0)),"") -> 73 | D17: =IFERROR(INDEX('公式予選（TT）1Gr-結果表（貼付）'!$A:$Z,MATCH($B17,'公式予選（TT）1Gr-結果表（貼付）'!$B:$B,0),MATCH('公式予選（TT）1Gr-結果表（印刷）'!D$11,'公式予選（TT）1Gr-結果表（貼付）'!$1:$1,0)),"") -> 高野 貴志 | E17: =IFERROR(INDEX('公式予選（TT）1Gr-結果表（貼付）'!$A:$Z,MATCH($B17,'公式予選（TT）1Gr-結果表（貼付）'!$B:$B,0),MATCH('公式予選（TT）1Gr-結果表（印刷）'!E$11,'公式予選（TT）1Gr-結果表（貼付）'!$1:$1,0)),"") -> INTREPID/YAMAHA | F17: =IFERROR(INDEX('公式予選（TT）1Gr-結果表（貼付）'!$A:$Z,MATCH($B17,'公式予選（TT）1Gr-結果表（貼付）'!$B:$B,0),MATCH('公式予選（TT）1Gr-結果表（印刷）'!F$11,'公式予選（TT）1Gr-結果表（貼付）'!$1:$1,0)),"") -> FIORE Motor Sports | G17: =IFERROR(INDEX('公式予選（TT）1Gr-結果表（貼付）'!$A:$Z,MATCH($B17,'公式予選（TT）1Gr-結果表（貼付）'!$B:$B,0),MATCH('公式予選（TT）1Gr-結果表（印刷）'!G$11,'公式予選（TT）1Gr-結果表（貼付）'!$1:$1,0)),"") -> BS | H17: =IF(A17="DNS","ｽﾀｰﾄ出来ず",IF(A17="DQ","失 格",IFERROR(INDEX('公式予選（TT）1Gr-結果表（貼付）'!$A:$Z,MATCH($B17,'公式予選（TT）1Gr-結果表（貼付）'!$B:$B,0),MATCH('公式予選（TT）1Gr-結果表（印刷）'!H$11,'公式予選（TT）1Gr-結果表（貼付）'!$1:$1,0)),""))) -> 55.715 | I17: =IF(H17<1,"",IF($I$11>H17,"R","")) | J17: =IF(A17="DNS","",IF(A17="DQ","",IFERROR(INDEX('公式予選（TT）1Gr-結果表（貼付）'!$A:$Z,MATCH($B17,'公式予選（TT）1Gr-結果表（貼付）'!$B:$B,0),MATCH('公式予選（TT）1Gr-結果表（印刷）'!J$11,'公式予選（TT）1Gr-結果表（貼付）'!$1:$1,0)),""))) -> 0.688 | K17: =IF(A17="DNS","",IF(A17="DQ","",IFERROR(INDEX('公式予選（TT）1Gr-結果表（貼付）'!$A:$Z,MATCH($B17,'公式予選（TT）1Gr-結果表（貼付）'!$B:$B,0),MATCH('公式予選（TT）1Gr-結果表（印刷）'!K$11,'公式予選（TT）1Gr-結果表（貼付）'!$1:$1,0)),""))) -> 0.314 | L17: =IF(A17="DNS","",IF(A17="DQ","",IFERROR(INDEX('公式予選（TT）1Gr-結果表（貼付）'!$A:$Z,MATCH($B17,'公式予選（TT）1Gr-結果表（貼付）'!$B:$B,0),MATCH("In Lap",'公式予選（TT）1Gr-結果表（貼付）'!$1:$1,0))&"/"&INDEX('公式予選（TT）1Gr-結果表（貼付）'!$A:$Z,MATCH($B17,'公式予選（TT）1Gr-結果表（貼付）'!$B:$B,0),MATCH("Laps",'公式予選（TT）1Gr-結果表（貼付）'!$1:$1,0)),""))) -> 3/5 | P17: =IF(IFERROR(INDEX('公式予選（TT）1Gr-結果表（貼付）'!$A:$Z,MATCH($B17,'公式予選（TT）1Gr-結果表（貼付）'!$B:$B,0),MATCH(P$11,'公式予選（TT）1Gr-結果表（貼付）'!$1:$1,0)),"")=0,"",IFERROR(INDEX('公式予選（TT）1Gr-結果表（貼付）'!$A:$Z,MATCH($B17,'公式予選（TT）1Gr-結果表（貼付）'!$B:$B,0),MATCH(P$11,'公式予選（TT）1Gr-結果表（貼付）'!$1:$1,0)),"")) | Q17: =IF(P17="","",COUNTIF($P$13:P17,"<>"&"")) | R17: =IFERROR(RANK(Q17,$Q$13:$Q$46,1),"") | S17: =IF(IFERROR(INDEX('公式予選（TT）1Gr-結果表（貼付）'!$A:$Z,MATCH($A17,'公式予選（TT）1Gr-結果表（貼付）'!$A:$A,0),MATCH(S$11,'公式予選（TT）1Gr-結果表（貼付）'!$1:$1,0)),"")=0,"",IFERROR(INDEX('公式予選（TT）1Gr-結果表（貼付）'!$A:$Z,MATCH($A17,'公式予選（TT）1Gr-結果表（貼付）'!$A:$A,0),MATCH(S$11,'公式予選（TT）1Gr-結果表（貼付）'!$1:$1,0)),""))
A18: =IF(OR('公式予選（TT）1Gr-結果表（貼付）'!A7="DNF",'公式予選（TT）1Gr-結果表（貼付）'!A7="DNS",'公式予選（TT）1Gr-結果表（貼付）'!A7="DQ"),'公式予選（TT）1Gr-結果表（貼付）'!A7,IF(MAX('公式予選（TT）1Gr-結果表（貼付）'!$A:$A)>A17,A17+1,"")) -> 6 | B18: =IFERROR(INDEX('公式予選（TT）1Gr-結果表（貼付）'!A7:$Z$50,MATCH($A18,'公式予選（TT）1Gr-結果表（貼付）'!A7:$A$50,0),MATCH('公式予選（TT）1Gr-結果表（印刷）'!B$11,'公式予選（TT）1Gr-結果表（貼付）'!$1:$1,0)),"") -> 57 | D18: =IFERROR(INDEX('公式予選（TT）1Gr-結果表（貼付）'!$A:$Z,MATCH($B18,'公式予選（TT）1Gr-結果表（貼付）'!$B:$B,0),MATCH('公式予選（TT）1Gr-結果表（印刷）'!D$11,'公式予選（TT）1Gr-結果表（貼付）'!$1:$1,0)),"") -> 江崎 昭彦 | E18: =IFERROR(INDEX('公式予選（TT）1Gr-結果表（貼付）'!$A:$Z,MATCH($B18,'公式予選（TT）1Gr-結果表（貼付）'!$B:$B,0),MATCH('公式予選（TT）1Gr-結果表（印刷）'!E$11,'公式予選（TT）1Gr-結果表（貼付）'!$1:$1,0)),"") -> KOSMIC/YAMAHA | F18: =IFERROR(INDEX('公式予選（TT）1Gr-結果表（貼付）'!$A:$Z,MATCH($B18,'公式予選（TT）1Gr-結果表（貼付）'!$B:$B,0),MATCH('公式予選（TT）1Gr-結果表（印刷）'!F$11,'公式予選（TT）1Gr-結果表（貼付）'!$1:$1,0)),"") -> Ash | G18: =IFERROR(INDEX('公式予選（TT）1Gr-結果表（貼付）'!$A:$Z,MATCH($B18,'公式予選（TT）1Gr-結果表（貼付）'!$B:$B,0),MATCH('公式予選（TT）1Gr-結果表（印刷）'!G$11,'公式予選（TT）1Gr-結果表（貼付）'!$1:$1,0)),"") -> BS | H18: =IF(A18="DNS","ｽﾀｰﾄ出来ず",IF(A18="DQ","失 格",IFERROR(INDEX('公式予選（TT）1Gr-結果表（貼付）'!$A:$Z,MATCH($B18,'公式予選（TT）1Gr-結果表（貼付）'!$B:$B,0),MATCH('公式予選（TT）1Gr-結果表（印刷）'!H$11,'公式予選（TT）1Gr-結果表（貼付）'!$1:$1,0)),""))) -> 55.718 | I18: =IF(H18<1,"",IF($I$11>H18,"R","")) | J18: =IF(A18="DNS","",IF(A18="DQ","",IFERROR(INDEX('公式予選（TT）1Gr-結果表（貼付）'!$A:$Z,MATCH($B18,'公式予選（TT）1Gr-結果表（貼付）'!$B:$B,0),MATCH('公式予選（TT）1Gr-結果表（印刷）'!J$11,'公式予選（TT）1Gr-結果表（貼付）'!$1:$1,0)),""))) -> 0.691 | K18: =IF(A18="DNS","",IF(A18="DQ","",IFERROR(INDEX('公式予選（TT）1Gr-結果表（貼付）'!$A:$Z,MATCH($B18,'公式予選（TT）1Gr-結果表（貼付）'!$B:$B,0),MATCH('公式予選（TT）1Gr-結果表（印刷）'!K$11,'公式予選（TT）1Gr-結果表（貼付）'!$1:$1,0)),""))) -> 0.003 | L18: =IF(A18="DNS","",IF(A18="DQ","",IFERROR(INDEX('公式予選（TT）1Gr-結果表（貼付）'!$A:$Z,MATCH($B18,'公式予選（TT）1Gr-結果表（貼付）'!$B:$B,0),MATCH("In Lap",'公式予選（TT）1Gr-結果表（貼付）'!$1:$1,0))&"/"&INDEX('公式予選（TT）1Gr-結果表（貼付）'!$A:$Z,MATCH($B18,'公式予選（TT）1Gr-結果表（貼付）'!$B:$B,0),MATCH("Laps",'公式予選（TT）1Gr-結果表（貼付）'!$1:$1,0)),""))) -> 3/5 | P18: =IF(IFERROR(INDEX('公式予選（TT）1Gr-結果表（貼付）'!$A:$Z,MATCH($B18,'公式予選（TT）1Gr-結果表（貼付）'!$B:$B,0),MATCH(P$11,'公式予選（TT）1Gr-結果表（貼付）'!$1:$1,0)),"")=0,"",IFERROR(INDEX('公式予選（TT）1Gr-結果表（貼付）'!$A:$Z,MATCH($B18,'公式予選（TT）1Gr-結果表（貼付）'!$B:$B,0),MATCH(P$11,'公式予選（TT）1Gr-結果表（貼付）'!$1:$1,0)),"")) | Q18: =IF(P18="","",COUNTIF($P$13:P18,"<>"&"")) | R18: =IFERROR(RANK(Q18,$Q$13:$Q$46,1),"") | S18: =IF(IFERROR(INDEX('公式予選（TT）1Gr-結果表（貼付）'!$A:$Z,MATCH($A18,'公式予選（TT）1Gr-結果表（貼付）'!$A:$A,0),MATCH(S$11,'公式予選（TT）1Gr-結果表（貼付）'!$1:$1,0)),"")=0,"",IFERROR(INDEX('公式予選（TT）1Gr-結果表（貼付）'!$A:$Z,MATCH($A18,'公式予選（TT）1Gr-結果表（貼付）'!$A:$A,0),MATCH(S$11,'公式予選（TT）1Gr-結果表（貼付）'!$1:$1,0)),""))
A19: =IF(OR('公式予選（TT）1Gr-結果表（貼付）'!A8="DNF",'公式予選（TT）1Gr-結果表（貼付）'!A8="DNS",'公式予選（TT）1Gr-結果表（貼付）'!A8="DQ"),'公式予選（TT）1Gr-結果表（貼付）'!A8,IF(MAX('公式予選（TT）1Gr-結果表（貼付）'!$A:$A)>A18,A18+1,"")) -> 7 | B19: =IFERROR(INDEX('公式予選（TT）1Gr-結果表（貼付）'!A8:$Z$50,MATCH($A19,'公式予選（TT）1Gr-結果表（貼付）'!A8:$A$50,0),MATCH('公式予選（TT）1Gr-結果表（印刷）'!B$11,'公式予選（TT）1Gr-結果表（貼付）'!$1:$1,0)),"") -> 10 | D19: =IFERROR(INDEX('公式予選（TT）1Gr-結果表（貼付）'!$A:$Z,MATCH($B19,'公式予選（TT）1Gr-結果表（貼付）'!$B:$B,0),MATCH('公式予選（TT）1Gr-結果表（印刷）'!D$11,'公式予選（TT）1Gr-結果表（貼付）'!$1:$1,0)),"") -> 布目 敬詞 | E19: =IFERROR(INDEX('公式予選（TT）1Gr-結果表（貼付）'!$A:$Z,MATCH($B19,'公式予選（TT）1Gr-結果表（貼付）'!$B:$B,0),MATCH('公式予選（TT）1Gr-結果表（印刷）'!E$11,'公式予選（TT）1Gr-結果表（貼付）'!$1:$1,0)),"") -> TONY KART/YAMAHA | F19: =IFERROR(INDEX('公式予選（TT）1Gr-結果表（貼付）'!$A:$Z,MATCH($B19,'公式予選（TT）1Gr-結果表（貼付）'!$B:$B,0),MATCH('公式予選（TT）1Gr-結果表（印刷）'!F$11,'公式予選（TT）1Gr-結果表（貼付）'!$1:$1,0)),"") -> Higuchi Racing Team | G19: =IFERROR(INDEX('公式予選（TT）1Gr-結果表（貼付）'!$A:$Z,MATCH($B19,'公式予選（TT）1Gr-結果表（貼付）'!$B:$B,0),MATCH('公式予選（TT）1Gr-結果表（印刷）'!G$11,'公式予選（TT）1Gr-結果表（貼付）'!$1:$1,0)),"") -> BS | H19: =IF(A19="DNS","ｽﾀｰﾄ出来ず",IF(A19="DQ","失 格",IFERROR(INDEX('公式予選（TT）1Gr-結果表（貼付）'!$A:$Z,MATCH($B19,'公式予選（TT）1Gr-結果表（貼付）'!$B:$B,0),MATCH('公式予選（TT）1Gr-結果表（印刷）'!H$11,'公式予選（TT）1Gr-結果表（貼付）'!$1:$1,0)),""))) -> 55.718 | I19: =IF(H19<1,"",IF($I$11>H19,"R","")) | J19: =IF(A19="DNS","",IF(A19="DQ","",IFERROR(INDEX('公式予選（TT）1Gr-結果表（貼付）'!$A:$Z,MATCH($B19,'公式予選（TT）1Gr-結果表（貼付）'!$B:$B,0),MATCH('公式予選（TT）1Gr-結果表（印刷）'!J$11,'公式予選（TT）1Gr-結果表（貼付）'!$1:$1,0)),""))) -> 0.691 | K19: =IF(A19="DNS","",IF(A19="DQ","",IFERROR(INDEX('公式予選（TT）1Gr-結果表（貼付）'!$A:$Z,MATCH($B19,'公式予選（TT）1Gr-結果表（貼付）'!$B:$B,0),MATCH('公式予選（TT）1Gr-結果表（印刷）'!K$11,'公式予選（TT）1Gr-結果表（貼付）'!$1:$1,0)),""))) -> 0 | L19: =IF(A19="DNS","",IF(A19="DQ","",IFERROR(INDEX('公式予選（TT）1Gr-結果表（貼付）'!$A:$Z,MATCH($B19,'公式予選（TT）1Gr-結果表（貼付）'!$B:$B,0),MATCH("In Lap",'公式予選（TT）1Gr-結果表（貼付）'!$1:$1,0))&"/"&INDEX('公式予選（TT）1Gr-結果表（貼付）'!$A:$Z,MATCH($B19,'公式予選（TT）1Gr-結果表（貼付）'!$B:$B,0),MATCH("Laps",'公式予選（TT）1Gr-結果表（貼付）'!$1:$1,0)),""))) -> 4/6 | P19: =IF(IFERROR(INDEX('公式予選（TT）1Gr-結果表（貼付）'!$A:$Z,MATCH($B19,'公式予選（TT）1Gr-結果表（貼付）'!$B:$B,0),MATCH(P$11,'公式予選（TT）1Gr-結果表（貼付）'!$1:$1,0)),"")=0,"",IFERROR(INDEX('公式予選（TT）1Gr-結果表（貼付）'!$A:$Z,MATCH($B19,'公式予選（TT）1Gr-結果表（貼付）'!$B:$B,0),MATCH(P$11,'公式予選（TT）1Gr-結果表（貼付）'!$1:$1,0)),"")) | Q19: =IF(P19="","",COUNTIF($P$13:P19,"<>"&"")) | R19: =IFERROR(RANK(Q19,$Q$13:$Q$46,1),"") | S19: =IF(IFERROR(INDEX('公式予選（TT）1Gr-結果表（貼付）'!$A:$Z,MATCH($A19,'公式予選（TT）1Gr-結果表（貼付）'!$A:$A,0),MATCH(S$11,'公式予選（TT）1Gr-結果表（貼付）'!$1:$1,0)),"")=0,"",IFERROR(INDEX('公式予選（TT）1Gr-結果表（貼付）'!$A:$Z,MATCH($A19,'公式予選（TT）1Gr-結果表（貼付）'!$A:$A,0),MATCH(S$11,'公式予選（TT）1Gr-結果表（貼付）'!$1:$1,0)),""))
A20: =IF(OR('公式予選（TT）1Gr-結果表（貼付）'!A9="DNF",'公式予選（TT）1Gr-結果表（貼付）'!A9="DNS",'公式予選（TT）1Gr-結果表（貼付）'!A9="DQ"),'公式予選（TT）1Gr-結果表（貼付）'!A9,IF(MAX('公式予選（TT）1Gr-結果表（貼付）'!$A:$A)>A19,A19+1,"")) -> 8 | B20: =IFERROR(INDEX('公式予選（TT）1Gr-結果表（貼付）'!A9:$Z$50,MATCH($A20,'公式予選（TT）1Gr-結果表（貼付）'!A9:$A$50,0),MATCH('公式予選（TT）1Gr-結果表（印刷）'!B$11,'公式予選（TT）1Gr-結果表（貼付）'!$1:$1,0)),"") -> 25 | D20: =IFERROR(INDEX('公式予選（TT）1Gr-結果表（貼付）'!$A:$Z,MATCH($B20,'公式予選（TT）1Gr-結果表（貼付）'!$B:$B,0),MATCH('公式予選（TT）1Gr-結果表（印刷）'!D$11,'公式予選（TT）1Gr-結果表（貼付）'!$1:$1,0)),"") -> 平井 秀樹 | E20: =IFERROR(INDEX('公式予選（TT）1Gr-結果表（貼付）'!$A:$Z,MATCH($B20,'公式予選（TT）1Gr-結果表（貼付）'!$B:$B,0),MATCH('公式予選（TT）1Gr-結果表（印刷）'!E$11,'公式予選（TT）1Gr-結果表（貼付）'!$1:$1,0)),"") -> コスミック/YAMAHA | F20: =IFERROR(INDEX('公式予選（TT）1Gr-結果表（貼付）'!$A:$Z,MATCH($B20,'公式予選（TT）1Gr-結果表（貼付）'!$B:$B,0),MATCH('公式予選（TT）1Gr-結果表（印刷）'!F$11,'公式予選（TT）1Gr-結果表（貼付）'!$1:$1,0)),"") -> K-TECK with ぴぃたぁぱん | G20: =IFERROR(INDEX('公式予選（TT）1Gr-結果表（貼付）'!$A:$Z,MATCH($B20,'公式予選（TT）1Gr-結果表（貼付）'!$B:$B,0),MATCH('公式予選（TT）1Gr-結果表（印刷）'!G$11,'公式予選（TT）1Gr-結果表（貼付）'!$1:$1,0)),"") -> BS | H20: =IF(A20="DNS","ｽﾀｰﾄ出来ず",IF(A20="DQ","失 格",IFERROR(INDEX('公式予選（TT）1Gr-結果表（貼付）'!$A:$Z,MATCH($B20,'公式予選（TT）1Gr-結果表（貼付）'!$B:$B,0),MATCH('公式予選（TT）1Gr-結果表（印刷）'!H$11,'公式予選（TT）1Gr-結果表（貼付）'!$1:$1,0)),""))) -> 55.839 | I20: =IF(H20<1,"",IF($I$11>H20,"R","")) | J20: =IF(A20="DNS","",IF(A20="DQ","",IFERROR(INDEX('公式予選（TT）1Gr-結果表（貼付）'!$A:$Z,MATCH($B20,'公式予選（TT）1Gr-結果表（貼付）'!$B:$B,0),MATCH('公式予選（TT）1Gr-結果表（印刷）'!J$11,'公式予選（TT）1Gr-結果表（貼付）'!$1:$1,0)),""))) -> 0.812 | K20: =IF(A20="DNS","",IF(A20="DQ","",IFERROR(INDEX('公式予選（TT）1Gr-結果表（貼付）'!$A:$Z,MATCH($B20,'公式予選（TT）1Gr-結果表（貼付）'!$B:$B,0),MATCH('公式予選（TT）1Gr-結果表（印刷）'!K$11,'公式予選（TT）1Gr-結果表（貼付）'!$1:$1,0)),""))) -> 0.121 | L20: =IF(A20="DNS","",IF(A20="DQ","",IFERROR(INDEX('公式予選（TT）1Gr-結果表（貼付）'!$A:$Z,MATCH($B20,'公式予選（TT）1Gr-結果表（貼付）'!$B:$B,0),MATCH("In Lap",'公式予選（TT）1Gr-結果表（貼付）'!$1:$1,0))&"/"&INDEX('公式予選（TT）1Gr-結果表（貼付）'!$A:$Z,MATCH($B20,'公式予選（TT）1Gr-結果表（貼付）'!$B:$B,0),MATCH("Laps",'公式予選（TT）1Gr-結果表（貼付）'!$1:$1,0)),""))) -> 6/6 | P20: =IF(IFERROR(INDEX('公式予選（TT）1Gr-結果表（貼付）'!$A:$Z,MATCH($B20,'公式予選（TT）1Gr-結果表（貼付）'!$B:$B,0),MATCH(P$11,'公式予選（TT）1Gr-結果表（貼付）'!$1:$1,0)),"")=0,"",IFERROR(INDEX('公式予選（TT）1Gr-結果表（貼付）'!$A:$Z,MATCH($B20,'公式予選（TT）1Gr-結果表（貼付）'!$B:$B,0),MATCH(P$11,'公式予選（TT）1Gr-結果表（貼付）'!$1:$1,0)),"")) | Q20: =IF(P20="","",COUNTIF($P$13:P20,"<>"&"")) | R20: =IFERROR(RANK(Q20,$Q$13:$Q$46,1),"") | S20: =IF(IFERROR(INDEX('公式予選（TT）1Gr-結果表（貼付）'!$A:$Z,MATCH($A20,'公式予選（TT）1Gr-結果表（貼付）'!$A:$A,0),MATCH(S$11,'公式予選（TT）1Gr-結果表（貼付）'!$1:$1,0)),"")=0,"",IFERROR(INDEX('公式予選（TT）1Gr-結果表（貼付）'!$A:$Z,MATCH($A20,'公式予選（TT）1Gr-結果表（貼付）'!$A:$A,0),MATCH(S$11,'公式予選（TT）1Gr-結果表（貼付）'!$1:$1,0)),""))
A21: =IF(OR('公式予選（TT）1Gr-結果表（貼付）'!A10="DNF",'公式予選（TT）1Gr-結果表（貼付）'!A10="DNS",'公式予選（TT）1Gr-結果表（貼付）'!A10="DQ"),'公式予選（TT）1Gr-結果表（貼付）'!A10,IF(MAX('公式予選（TT）1Gr-結果表（貼付）'!$A:$A)>A20,A20+1,"")) -> 9 | B21: =IFERROR(INDEX('公式予選（TT）1Gr-結果表（貼付）'!A10:$Z$50,MATCH($A21,'公式予選（TT）1Gr-結果表（貼付）'!A10:$A$50,0),MATCH('公式予選（TT）1Gr-結果表（印刷）'!B$11,'公式予選（TT）1Gr-結果表（貼付）'!$1:$1,0)),"") -> 77 | D21: =IFERROR(INDEX('公式予選（TT）1Gr-結果表（貼付）'!$A:$Z,MATCH($B21,'公式予選（TT）1Gr-結果表（貼付）'!$B:$B,0),MATCH('公式予選（TT）1Gr-結果表（印刷）'!D$11,'公式予選（TT）1Gr-結果表（貼付）'!$1:$1,0)),"") -> 永川 悠太 | E21: =IFERROR(INDEX('公式予選（TT）1Gr-結果表（貼付）'!$A:$Z,MATCH($B21,'公式予選（TT）1Gr-結果表（貼付）'!$B:$B,0),MATCH('公式予選（TT）1Gr-結果表（印刷）'!E$11,'公式予選（TT）1Gr-結果表（貼付）'!$1:$1,0)),"") -> DRAGO CORSE/YAMAHA | F21: =IFERROR(INDEX('公式予選（TT）1Gr-結果表（貼付）'!$A:$Z,MATCH($B21,'公式予選（TT）1Gr-結果表（貼付）'!$B:$B,0),MATCH('公式予選（TT）1Gr-結果表（印刷）'!F$11,'公式予選（TT）1Gr-結果表（貼付）'!$1:$1,0)),"") -> のりものクラブ EGazooRacing with WEST | G21: =IFERROR(INDEX('公式予選（TT）1Gr-結果表（貼付）'!$A:$Z,MATCH($B21,'公式予選（TT）1Gr-結果表（貼付）'!$B:$B,0),MATCH('公式予選（TT）1Gr-結果表（印刷）'!G$11,'公式予選（TT）1Gr-結果表（貼付）'!$1:$1,0)),"") -> BS | H21: =IF(A21="DNS","ｽﾀｰﾄ出来ず",IF(A21="DQ","失 格",IFERROR(INDEX('公式予選（TT）1Gr-結果表（貼付）'!$A:$Z,MATCH($B21,'公式予選（TT）1Gr-結果表（貼付）'!$B:$B,0),MATCH('公式予選（TT）1Gr-結果表（印刷）'!H$11,'公式予選（TT）1Gr-結果表（貼付）'!$1:$1,0)),""))) -> 55.864 | I21: =IF(H21<1,"",IF($I$11>H21,"R","")) | J21: =IF(A21="DNS","",IF(A21="DQ","",IFERROR(INDEX('公式予選（TT）1Gr-結果表（貼付）'!$A:$Z,MATCH($B21,'公式予選（TT）1Gr-結果表（貼付）'!$B:$B,0),MATCH('公式予選（TT）1Gr-結果表（印刷）'!J$11,'公式予選（TT）1Gr-結果表（貼付）'!$1:$1,0)),""))) -> 0.837 | K21: =IF(A21="DNS","",IF(A21="DQ","",IFERROR(INDEX('公式予選（TT）1Gr-結果表（貼付）'!$A:$Z,MATCH($B21,'公式予選（TT）1Gr-結果表（貼付）'!$B:$B,0),MATCH('公式予選（TT）1Gr-結果表（印刷）'!K$11,'公式予選（TT）1Gr-結果表（貼付）'!$1:$1,0)),""))) -> 0.025 | L21: =IF(A21="DNS","",IF(A21="DQ","",IFERROR(INDEX('公式予選（TT）1Gr-結果表（貼付）'!$A:$Z,MATCH($B21,'公式予選（TT）1Gr-結果表（貼付）'!$B:$B,0),MATCH("In Lap",'公式予選（TT）1Gr-結果表（貼付）'!$1:$1,0))&"/"&INDEX('公式予選（TT）1Gr-結果表（貼付）'!$A:$Z,MATCH($B21,'公式予選（TT）1Gr-結果表（貼付）'!$B:$B,0),MATCH("Laps",'公式予選（TT）1Gr-結果表（貼付）'!$1:$1,0)),""))) -> 3/5 | P21: =IF(IFERROR(INDEX('公式予選（TT）1Gr-結果表（貼付）'!$A:$Z,MATCH($B21,'公式予選（TT）1Gr-結果表（貼付）'!$B:$B,0),MATCH(P$11,'公式予選（TT）1Gr-結果表（貼付）'!$1:$1,0)),"")=0,"",IFERROR(INDEX('公式予選（TT）1Gr-結果表（貼付）'!$A:$Z,MATCH($B21,'公式予選（TT）1Gr-結果表（貼付）'!$B:$B,0),MATCH(P$11,'公式予選（TT）1Gr-結果表（貼付）'!$1:$1,0)),"")) | Q21: =IF(P21="","",COUNTIF($P$13:P21,"<>"&"")) | R21: =IFERROR(RANK(Q21,$Q$13:$Q$46,1),"") | S21: =IF(IFERROR(INDEX('公式予選（TT）1Gr-結果表（貼付）'!$A:$Z,MATCH($A21,'公式予選（TT）1Gr-結果表（貼付）'!$A:$A,0),MATCH(S$11,'公式予選（TT）1Gr-結果表（貼付）'!$1:$1,0)),"")=0,"",IFERROR(INDEX('公式予選（TT）1Gr-結果表（貼付）'!$A:$Z,MATCH($A21,'公式予選（TT）1Gr-結果表（貼付）'!$A:$A,0),MATCH(S$11,'公式予選（TT）1Gr-結果表（貼付）'!$1:$1,0)),""))
A22: =IF(OR('公式予選（TT）1Gr-結果表（貼付）'!A11="DNF",'公式予選（TT）1Gr-結果表（貼付）'!A11="DNS",'公式予選（TT）1Gr-結果表（貼付）'!A11="DQ"),'公式予選（TT）1Gr-結果表（貼付）'!A11,IF(MAX('公式予選（TT）1Gr-結果表（貼付）'!$A:$A)>A21,A21+1,"")) -> 10 | B22: =IFERROR(INDEX('公式予選（TT）1Gr-結果表（貼付）'!A11:$Z$50,MATCH($A22,'公式予選（TT）1Gr-結果表（貼付）'!A11:$A$50,0),MATCH('公式予選（TT）1Gr-結果表（印刷）'!B$11,'公式予選（TT）1Gr-結果表（貼付）'!$1:$1,0)),"") -> 19 | D22: =IFERROR(INDEX('公式予選（TT）1Gr-結果表（貼付）'!$A:$Z,MATCH($B22,'公式予選（TT）1Gr-結果表（貼付）'!$B:$B,0),MATCH('公式予選（TT）1Gr-結果表（印刷）'!D$11,'公式予選（TT）1Gr-結果表（貼付）'!$1:$1,0)),"") -> 岸 秀行 | E22: =IFERROR(INDEX('公式予選（TT）1Gr-結果表（貼付）'!$A:$Z,MATCH($B22,'公式予選（TT）1Gr-結果表（貼付）'!$B:$B,0),MATCH('公式予選（TT）1Gr-結果表（印刷）'!E$11,'公式予選（TT）1Gr-結果表（貼付）'!$1:$1,0)),"") -> コスミック/YAMAHA | F22: =IFERROR(INDEX('公式予選（TT）1Gr-結果表（貼付）'!$A:$Z,MATCH($B22,'公式予選（TT）1Gr-結果表（貼付）'!$B:$B,0),MATCH('公式予選（TT）1Gr-結果表（印刷）'!F$11,'公式予選（TT）1Gr-結果表（貼付）'!$1:$1,0)),"") -> チームナガオ・大阪鶴見法律事務所 | G22: =IFERROR(INDEX('公式予選（TT）1Gr-結果表（貼付）'!$A:$Z,MATCH($B22,'公式予選（TT）1Gr-結果表（貼付）'!$B:$B,0),MATCH('公式予選（TT）1Gr-結果表（印刷）'!G$11,'公式予選（TT）1Gr-結果表（貼付）'!$1:$1,0)),"") -> BS | H22: =IF(A22="DNS","ｽﾀｰﾄ出来ず",IF(A22="DQ","失 格",IFERROR(INDEX('公式予選（TT）1Gr-結果表（貼付）'!$A:$Z,MATCH($B22,'公式予選（TT）1Gr-結果表（貼付）'!$B:$B,0),MATCH('公式予選（TT）1Gr-結果表（印刷）'!H$11,'公式予選（TT）1Gr-結果表（貼付）'!$1:$1,0)),""))) -> 55.879 | I22: =IF(H22<1,"",IF($I$11>H22,"R","")) | J22: =IF(A22="DNS","",IF(A22="DQ","",IFERROR(INDEX('公式予選（TT）1Gr-結果表（貼付）'!$A:$Z,MATCH($B22,'公式予選（TT）1Gr-結果表（貼付）'!$B:$B,0),MATCH('公式予選（TT）1Gr-結果表（印刷）'!J$11,'公式予選（TT）1Gr-結果表（貼付）'!$1:$1,0)),""))) -> 0.852 | K22: =IF(A22="DNS","",IF(A22="DQ","",IFERROR(INDEX('公式予選（TT）1Gr-結果表（貼付）'!$A:$Z,MATCH($B22,'公式予選（TT）1Gr-結果表（貼付）'!$B:$B,0),MATCH('公式予選（TT）1Gr-結果表（印刷）'!K$11,'公式予選（TT）1Gr-結果表（貼付）'!$1:$1,0)),""))) -> 0.015 | L22: =IF(A22="DNS","",IF(A22="DQ","",IFERROR(INDEX('公式予選（TT）1Gr-結果表（貼付）'!$A:$Z,MATCH($B22,'公式予選（TT）1Gr-結果表（貼付）'!$B:$B,0),MATCH("In Lap",'公式予選（TT）1Gr-結果表（貼付）'!$1:$1,0))&"/"&INDEX('公式予選（TT）1Gr-結果表（貼付）'!$A:$Z,MATCH($B22,'公式予選（TT）1Gr-結果表（貼付）'!$B:$B,0),MATCH("Laps",'公式予選（TT）1Gr-結果表（貼付）'!$1:$1,0)),""))) -> 5/5 | P22: =IF(IFERROR(INDEX('公式予選（TT）1Gr-結果表（貼付）'!$A:$Z,MATCH($B22,'公式予選（TT）1Gr-結果表（貼付）'!$B:$B,0),MATCH(P$11,'公式予選（TT）1Gr-結果表（貼付）'!$1:$1,0)),"")=0,"",IFERROR(INDEX('公式予選（TT）1Gr-結果表（貼付）'!$A:$Z,MATCH($B22,'公式予選（TT）1Gr-結果表（貼付）'!$B:$B,0),MATCH(P$11,'公式予選（TT）1Gr-結果表（貼付）'!$1:$1,0)),"")) | Q22: =IF(P22="","",COUNTIF($P$13:P22,"<>"&"")) | R22: =IFERROR(RANK(Q22,$Q$13:$Q$46,1),"") | S22: =IF(IFERROR(INDEX('公式予選（TT）1Gr-結果表（貼付）'!$A:$Z,MATCH($A22,'公式予選（TT）1Gr-結果表（貼付）'!$A:$A,0),MATCH(S$11,'公式予選（TT）1Gr-結果表（貼付）'!$1:$1,0)),"")=0,"",IFERROR(INDEX('公式予選（TT）1Gr-結果表（貼付）'!$A:$Z,MATCH($A22,'公式予選（TT）1Gr-結果表（貼付）'!$A:$A,0),MATCH(S$11,'公式予選（TT）1Gr-結果表（貼付）'!$1:$1,0)),""))
A23: =IF(OR('公式予選（TT）1Gr-結果表（貼付）'!A12="DNF",'公式予選（TT）1Gr-結果表（貼付）'!A12="DNS",'公式予選（TT）1Gr-結果表（貼付）'!A12="DQ"),'公式予選（TT）1Gr-結果表（貼付）'!A12,IF(MAX('公式予選（TT）1Gr-結果表（貼付）'!$A:$A)>A22,A22+1,"")) -> 11 | B23: =IFERROR(INDEX('公式予選（TT）1Gr-結果表（貼付）'!A12:$Z$50,MATCH($A23,'公式予選（TT）1Gr-結果表（貼付）'!A12:$A$50,0),MATCH('公式予選（TT）1Gr-結果表（印刷）'!B$11,'公式予選（TT）1Gr-結果表（貼付）'!$1:$1,0)),"") -> 45 | D23: =IFERROR(INDEX('公式予選（TT）1Gr-結果表（貼付）'!$A:$Z,MATCH($B23,'公式予選（TT）1Gr-結果表（貼付）'!$B:$B,0),MATCH('公式予選（TT）1Gr-結果表（印刷）'!D$11,'公式予選（TT）1Gr-結果表（貼付）'!$1:$1,0)),"") -> 三浦 淳 | E23: =IFERROR(INDEX('公式予選（TT）1Gr-結果表（貼付）'!$A:$Z,MATCH($B23,'公式予選（TT）1Gr-結果表（貼付）'!$B:$B,0),MATCH('公式予選（TT）1Gr-結果表（印刷）'!E$11,'公式予選（TT）1Gr-結果表（貼付）'!$1:$1,0)),"") -> SWF/YAMAHA | F23: =IFERROR(INDEX('公式予選（TT）1Gr-結果表（貼付）'!$A:$Z,MATCH($B23,'公式予選（TT）1Gr-結果表（貼付）'!$B:$B,0),MATCH('公式予選（TT）1Gr-結果表（印刷）'!F$11,'公式予選（TT）1Gr-結果表（貼付）'!$1:$1,0)),"") -> 堺レーシング | G23: =IFERROR(INDEX('公式予選（TT）1Gr-結果表（貼付）'!$A:$Z,MATCH($B23,'公式予選（TT）1Gr-結果表（貼付）'!$B:$B,0),MATCH('公式予選（TT）1Gr-結果表（印刷）'!G$11,'公式予選（TT）1Gr-結果表（貼付）'!$1:$1,0)),"") -> BS | H23: =IF(A23="DNS","ｽﾀｰﾄ出来ず",IF(A23="DQ","失 格",IFERROR(INDEX('公式予選（TT）1Gr-結果表（貼付）'!$A:$Z,MATCH($B23,'公式予選（TT）1Gr-結果表（貼付）'!$B:$B,0),MATCH('公式予選（TT）1Gr-結果表（印刷）'!H$11,'公式予選（TT）1Gr-結果表（貼付）'!$1:$1,0)),""))) -> 55.911 | I23: =IF(H23<1,"",IF($I$11>H23,"R","")) | J23: =IF(A23="DNS","",IF(A23="DQ","",IFERROR(INDEX('公式予選（TT）1Gr-結果表（貼付）'!$A:$Z,MATCH($B23,'公式予選（TT）1Gr-結果表（貼付）'!$B:$B,0),MATCH('公式予選（TT）1Gr-結果表（印刷）'!J$11,'公式予選（TT）1Gr-結果表（貼付）'!$1:$1,0)),""))) -> 0.884 | K23: =IF(A23="DNS","",IF(A23="DQ","",IFERROR(INDEX('公式予選（TT）1Gr-結果表（貼付）'!$A:$Z,MATCH($B23,'公式予選（TT）1Gr-結果表（貼付）'!$B:$B,0),MATCH('公式予選（TT）1Gr-結果表（印刷）'!K$11,'公式予選（TT）1Gr-結果表（貼付）'!$1:$1,0)),""))) -> 0.032 | L23: =IF(A23="DNS","",IF(A23="DQ","",IFERROR(INDEX('公式予選（TT）1Gr-結果表（貼付）'!$A:$Z,MATCH($B23,'公式予選（TT）1Gr-結果表（貼付）'!$B:$B,0),MATCH("In Lap",'公式予選（TT）1Gr-結果表（貼付）'!$1:$1,0))&"/"&INDEX('公式予選（TT）1Gr-結果表（貼付）'!$A:$Z,MATCH($B23,'公式予選（TT）1Gr-結果表（貼付）'!$B:$B,0),MATCH("Laps",'公式予選（TT）1Gr-結果表（貼付）'!$1:$1,0)),""))) -> 2/5 | P23: =IF(IFERROR(INDEX('公式予選（TT）1Gr-結果表（貼付）'!$A:$Z,MATCH($B23,'公式予選（TT）1Gr-結果表（貼付）'!$B:$B,0),MATCH(P$11,'公式予選（TT）1Gr-結果表（貼付）'!$1:$1,0)),"")=0,"",IFERROR(INDEX('公式予選（TT）1Gr-結果表（貼付）'!$A:$Z,MATCH($B23,'公式予選（TT）1Gr-結果表（貼付）'!$B:$B,0),MATCH(P$11,'公式予選（TT）1Gr-結果表（貼付）'!$1:$1,0)),"")) | Q23: =IF(P23="","",COUNTIF($P$13:P23,"<>"&"")) | R23: =IFERROR(RANK(Q23,$Q$13:$Q$46,1),"") | S23: =IF(IFERROR(INDEX('公式予選（TT）1Gr-結果表（貼付）'!$A:$Z,MATCH($A23,'公式予選（TT）1Gr-結果表（貼付）'!$A:$A,0),MATCH(S$11,'公式予選（TT）1Gr-結果表（貼付）'!$1:$1,0)),"")=0,"",IFERROR(INDEX('公式予選（TT）1Gr-結果表（貼付）'!$A:$Z,MATCH($A23,'公式予選（TT）1Gr-結果表（貼付）'!$A:$A,0),MATCH(S$11,'公式予選（TT）1Gr-結果表（貼付）'!$1:$1,0)),""))
A24: =IF(OR('公式予選（TT）1Gr-結果表（貼付）'!A13="DNF",'公式予選（TT）1Gr-結果表（貼付）'!A13="DNS",'公式予選（TT）1Gr-結果表（貼付）'!A13="DQ"),'公式予選（TT）1Gr-結果表（貼付）'!A13,IF(MAX('公式予選（TT）1Gr-結果表（貼付）'!$A:$A)>A23,A23+1,"")) -> 12 | B24: =IFERROR(INDEX('公式予選（TT）1Gr-結果表（貼付）'!A13:$Z$50,MATCH($A24,'公式予選（TT）1Gr-結果表（貼付）'!A13:$A$50,0),MATCH('公式予選（TT）1Gr-結果表（印刷）'!B$11,'公式予選（TT）1Gr-結果表（貼付）'!$1:$1,0)),"") -> 52 | D24: =IFERROR(INDEX('公式予選（TT）1Gr-結果表（貼付）'!$A:$Z,MATCH($B24,'公式予選（TT）1Gr-結果表（貼付）'!$B:$B,0),MATCH('公式予選（TT）1Gr-結果表（印刷）'!D$11,'公式予選（TT）1Gr-結果表（貼付）'!$1:$1,0)),"") -> 佐藤 正規 | E24: =IFERROR(INDEX('公式予選（TT）1Gr-結果表（貼付）'!$A:$Z,MATCH($B24,'公式予選（TT）1Gr-結果表（貼付）'!$B:$B,0),MATCH('公式予選（TT）1Gr-結果表（印刷）'!E$11,'公式予選（TT）1Gr-結果表（貼付）'!$1:$1,0)),"") -> birel ART/YAMAHA | F24: =IFERROR(INDEX('公式予選（TT）1Gr-結果表（貼付）'!$A:$Z,MATCH($B24,'公式予選（TT）1Gr-結果表（貼付）'!$B:$B,0),MATCH('公式予選（TT）1Gr-結果表（印刷）'!F$11,'公式予選（TT）1Gr-結果表（貼付）'!$1:$1,0)),"") -> FSN union | G24: =IFERROR(INDEX('公式予選（TT）1Gr-結果表（貼付）'!$A:$Z,MATCH($B24,'公式予選（TT）1Gr-結果表（貼付）'!$B:$B,0),MATCH('公式予選（TT）1Gr-結果表（印刷）'!G$11,'公式予選（TT）1Gr-結果表（貼付）'!$1:$1,0)),"") -> BS | H24: =IF(A24="DNS","ｽﾀｰﾄ出来ず",IF(A24="DQ","失 格",IFERROR(INDEX('公式予選（TT）1Gr-結果表（貼付）'!$A:$Z,MATCH($B24,'公式予選（TT）1Gr-結果表（貼付）'!$B:$B,0),MATCH('公式予選（TT）1Gr-結果表（印刷）'!H$11,'公式予選（TT）1Gr-結果表（貼付）'!$1:$1,0)),""))) -> 55.984 | I24: =IF(H24<1,"",IF($I$11>H24,"R","")) | J24: =IF(A24="DNS","",IF(A24="DQ","",IFERROR(INDEX('公式予選（TT）1Gr-結果表（貼付）'!$A:$Z,MATCH($B24,'公式予選（TT）1Gr-結果表（貼付）'!$B:$B,0),MATCH('公式予選（TT）1Gr-結果表（印刷）'!J$11,'公式予選（TT）1Gr-結果表（貼付）'!$1:$1,0)),""))) -> 0.957 | K24: =IF(A24="DNS","",IF(A24="DQ","",IFERROR(INDEX('公式予選（TT）1Gr-結果表（貼付）'!$A:$Z,MATCH($B24,'公式予選（TT）1Gr-結果表（貼付）'!$B:$B,0),MATCH('公式予選（TT）1Gr-結果表（印刷）'!K$11,'公式予選（TT）1Gr-結果表（貼付）'!$1:$1,0)),""))) -> 0.073 | L24: =IF(A24="DNS","",IF(A24="DQ","",IFERROR(INDEX('公式予選（TT）1Gr-結果表（貼付）'!$A:$Z,MATCH($B24,'公式予選（TT）1Gr-結果表（貼付）'!$B:$B,0),MATCH("In Lap",'公式予選（TT）1Gr-結果表（貼付）'!$1:$1,0))&"/"&INDEX('公式予選（TT）1Gr-結果表（貼付）'!$A:$Z,MATCH($B24,'公式予選（TT）1Gr-結果表（貼付）'!$B:$B,0),MATCH("Laps",'公式予選（TT）1Gr-結果表（貼付）'!$1:$1,0)),""))) -> 5/5 | P24: =IF(IFERROR(INDEX('公式予選（TT）1Gr-結果表（貼付）'!$A:$Z,MATCH($B24,'公式予選（TT）1Gr-結果表（貼付）'!$B:$B,0),MATCH(P$11,'公式予選（TT）1Gr-結果表（貼付）'!$1:$1,0)),"")=0,"",IFERROR(INDEX('公式予選（TT）1Gr-結果表（貼付）'!$A:$Z,MATCH($B24,'公式予選（TT）1Gr-結果表（貼付）'!$B:$B,0),MATCH(P$11,'公式予選（TT）1Gr-結果表（貼付）'!$1:$1,0)),"")) | Q24: =IF(P24="","",COUNTIF($P$13:P24,"<>"&"")) | R24: =IFERROR(RANK(Q24,$Q$13:$Q$46,1),"") | S24: =IF(IFERROR(INDEX('公式予選（TT）1Gr-結果表（貼付）'!$A:$Z,MATCH($A24,'公式予選（TT）1Gr-結果表（貼付）'!$A:$A,0),MATCH(S$11,'公式予選（TT）1Gr-結果表（貼付）'!$1:$1,0)),"")=0,"",IFERROR(INDEX('公式予選（TT）1Gr-結果表（貼付）'!$A:$Z,MATCH($A24,'公式予選（TT）1Gr-結果表（貼付）'!$A:$A,0),MATCH(S$11,'公式予選（TT）1Gr-結果表（貼付）'!$1:$1,0)),""))
A25: =IF(OR('公式予選（TT）1Gr-結果表（貼付）'!A14="DNF",'公式予選（TT）1Gr-結果表（貼付）'!A14="DNS",'公式予選（TT）1Gr-結果表（貼付）'!A14="DQ"),'公式予選（TT）1Gr-結果表（貼付）'!A14,IF(MAX('公式予選（TT）1Gr-結果表（貼付）'!$A:$A)>A24,A24+1,"")) -> 13 | B25: =IFERROR(INDEX('公式予選（TT）1Gr-結果表（貼付）'!A14:$Z$50,MATCH($A25,'公式予選（TT）1Gr-結果表（貼付）'!A14:$A$50,0),MATCH('公式予選（TT）1Gr-結果表（印刷）'!B$11,'公式予選（TT）1Gr-結果表（貼付）'!$1:$1,0)),"") -> 32 | D25: =IFERROR(INDEX('公式予選（TT）1Gr-結果表（貼付）'!$A:$Z,MATCH($B25,'公式予選（TT）1Gr-結果表（貼付）'!$B:$B,0),MATCH('公式予選（TT）1Gr-結果表（印刷）'!D$11,'公式予選（TT）1Gr-結果表（貼付）'!$1:$1,0)),"") -> 林 三貴彦 | E25: =IFERROR(INDEX('公式予選（TT）1Gr-結果表（貼付）'!$A:$Z,MATCH($B25,'公式予選（TT）1Gr-結果表（貼付）'!$B:$B,0),MATCH('公式予選（TT）1Gr-結果表（印刷）'!E$11,'公式予選（TT）1Gr-結果表（貼付）'!$1:$1,0)),"") -> トニーカート/YAMAHA | F25: =IFERROR(INDEX('公式予選（TT）1Gr-結果表（貼付）'!$A:$Z,MATCH($B25,'公式予選（TT）1Gr-結果表（貼付）'!$B:$B,0),MATCH('公式予選（TT）1Gr-結果表（印刷）'!F$11,'公式予選（TT）1Gr-結果表（貼付）'!$1:$1,0)),"") -> ASH | G25: =IFERROR(INDEX('公式予選（TT）1Gr-結果表（貼付）'!$A:$Z,MATCH($B25,'公式予選（TT）1Gr-結果表（貼付）'!$B:$B,0),MATCH('公式予選（TT）1Gr-結果表（印刷）'!G$11,'公式予選（TT）1Gr-結果表（貼付）'!$1:$1,0)),"") -> BS | H25: =IF(A25="DNS","ｽﾀｰﾄ出来ず",IF(A25="DQ","失 格",IFERROR(INDEX('公式予選（TT）1Gr-結果表（貼付）'!$A:$Z,MATCH($B25,'公式予選（TT）1Gr-結果表（貼付）'!$B:$B,0),MATCH('公式予選（TT）1Gr-結果表（印刷）'!H$11,'公式予選（TT）1Gr-結果表（貼付）'!$1:$1,0)),""))) -> 55.987 | I25: =IF(H25<1,"",IF($I$11>H25,"R","")) | J25: =IF(A25="DNS","",IF(A25="DQ","",IFERROR(INDEX('公式予選（TT）1Gr-結果表（貼付）'!$A:$Z,MATCH($B25,'公式予選（TT）1Gr-結果表（貼付）'!$B:$B,0),MATCH('公式予選（TT）1Gr-結果表（印刷）'!J$11,'公式予選（TT）1Gr-結果表（貼付）'!$1:$1,0)),""))) -> 0.96 | K25: =IF(A25="DNS","",IF(A25="DQ","",IFERROR(INDEX('公式予選（TT）1Gr-結果表（貼付）'!$A:$Z,MATCH($B25,'公式予選（TT）1Gr-結果表（貼付）'!$B:$B,0),MATCH('公式予選（TT）1Gr-結果表（印刷）'!K$11,'公式予選（TT）1Gr-結果表（貼付）'!$1:$1,0)),""))) -> 0.003 | L25: =IF(A25="DNS","",IF(A25="DQ","",IFERROR(INDEX('公式予選（TT）1Gr-結果表（貼付）'!$A:$Z,MATCH($B25,'公式予選（TT）1Gr-結果表（貼付）'!$B:$B,0),MATCH("In Lap",'公式予選（TT）1Gr-結果表（貼付）'!$1:$1,0))&"/"&INDEX('公式予選（TT）1Gr-結果表（貼付）'!$A:$Z,MATCH($B25,'公式予選（TT）1Gr-結果表（貼付）'!$B:$B,0),MATCH("Laps",'公式予選（TT）1Gr-結果表（貼付）'!$1:$1,0)),""))) -> 2/2 | P25: =IF(IFERROR(INDEX('公式予選（TT）1Gr-結果表（貼付）'!$A:$Z,MATCH($B25,'公式予選（TT）1Gr-結果表（貼付）'!$B:$B,0),MATCH(P$11,'公式予選（TT）1Gr-結果表（貼付）'!$1:$1,0)),"")=0,"",IFERROR(INDEX('公式予選（TT）1Gr-結果表（貼付）'!$A:$Z,MATCH($B25,'公式予選（TT）1Gr-結果表（貼付）'!$B:$B,0),MATCH(P$11,'公式予選（TT）1Gr-結果表（貼付）'!$1:$1,0)),"")) | Q25: =IF(P25="","",COUNTIF($P$13:P25,"<>"&"")) | R25: =IFERROR(RANK(Q25,$Q$13:$Q$46,1),"") | S25: =IF(IFERROR(INDEX('公式予選（TT）1Gr-結果表（貼付）'!$A:$Z,MATCH($A25,'公式予選（TT）1Gr-結果表（貼付）'!$A:$A,0),MATCH(S$11,'公式予選（TT）1Gr-結果表（貼付）'!$1:$1,0)),"")=0,"",IFERROR(INDEX('公式予選（TT）1Gr-結果表（貼付）'!$A:$Z,MATCH($A25,'公式予選（TT）1Gr-結果表（貼付）'!$A:$A,0),MATCH(S$11,'公式予選（TT）1Gr-結果表（貼付）'!$1:$1,0)),""))
... A46: =IF(OR('公式予選（TT）1Gr-結果表（貼付）'!A35="DNF",'公式予選（TT）1Gr-結果表（貼付）'!A35="DNS",'公式予選（TT）1Gr-結果表（貼付）'!A35="DQ"),'公式予選（TT）1Gr-結果表（貼付）'!A35,IF(MAX('公式予選（TT）1Gr-結果表（貼付）'!$A:$A)>A45,A45+1,"")) | B46: =IFERROR(INDEX('公式予選（TT）1Gr-結果表（貼付）'!A35:$Z$50,MATCH($A46,'公式予選（TT）1Gr-結果表（貼付）'!A35:$A$50,0),MATCH('公式予選（TT）1Gr-結果表（印刷）'!B$11,'公式予選（TT）1Gr-結果表（貼付）'!$1:$1,0)),"") | D46: =IFERROR(INDEX('公式予選（TT）1Gr-結果表（貼付）'!$A:$Z,MATCH($B46,'公式予選（TT）1Gr-結果表（貼付）'!$B:$B,0),MATCH('公式予選（TT）1Gr-結果表（印刷）'!D$11,'公式予選（TT）1Gr-結果表（貼付）'!$1:$1,0)),"") | E46: =IFERROR(INDEX('公式予選（TT）1Gr-結果表（貼付）'!$A:$Z,MATCH($B46,'公式予選（TT）1Gr-結果表（貼付）'!$B:$B,0),MATCH('公式予選（TT）1Gr-結果表（印刷）'!E$11,'公式予選（TT）1Gr-結果表（貼付）'!$1:$1,0)),"") | F46: =IFERROR(INDEX('公式予選（TT）1Gr-結果表（貼付）'!$A:$Z,MATCH($B46,'公式予選（TT）1Gr-結果表（貼付）'!$B:$B,0),MATCH('公式予選（TT）1Gr-結果表（印刷）'!F$11,'公式予選（TT）1Gr-結果表（貼付）'!$1:$1,0)),"") | G46: =IFERROR(INDEX('公式予選（TT）1Gr-結果表（貼付）'!$A:$Z,MATCH($B46,'公式予選（TT）1Gr-結果表（貼付）'!$B:$B,0),MATCH('公式予選（TT）1Gr-結果表（印刷）'!G$11,'公式予選（TT）1Gr-結果表（貼付）'!$1:$1,0)),"") | H46: =IF(A46="DNS","ｽﾀｰﾄ出来ず",IF(A46="DQ","失 格",IFERROR(INDEX('公式予選（TT）1Gr-結果表（貼付）'!$A:$Z,MATCH($B46,'公式予選（TT）1Gr-結果表（貼付）'!$B:$B,0),MATCH('公式予選（TT）1Gr-結果表（印刷）'!H$11,'公式予選（TT）1Gr-結果表（貼付）'!$1:$1,0)),""))) | I46: =IF(H46<1,"",IF($I$11>H46,"R","")) | J46: =IF(A46="DNS","",IF(A46="DQ","",IFERROR(INDEX('公式予選（TT）1Gr-結果表（貼付）'!$A:$Z,MATCH($B46,'公式予選（TT）1Gr-結果表（貼付）'!$B:$B,0),MATCH('公式予選（TT）1Gr-結果表（印刷）'!J$11,'公式予選（TT）1Gr-結果表（貼付）'!$1:$1,0)),""))) | K46: =IF(A46="DNS","",IF(A46="DQ","",IFERROR(INDEX('公式予選（TT）1Gr-結果表（貼付）'!$A:$Z,MATCH($B46,'公式予選（TT）1Gr-結果表（貼付）'!$B:$B,0),MATCH('公式予選（TT）1Gr-結果表（印刷）'!K$11,'公式予選（TT）1Gr-結果表（貼付）'!$1:$1,0)),""))) | L46: =IF(A46="DNS","",IF(A46="DQ","",IFERROR(INDEX('公式予選（TT）1Gr-結果表（貼付）'!$A:$Z,MATCH($B46,'公式予選（TT）1Gr-結果表（貼付）'!$B:$B,0),MATCH("In Lap",'公式予選（TT）1Gr-結果表（貼付）'!$1:$1,0))&"/"&INDEX('公式予選（TT）1Gr-結果表（貼付）'!$A:$Z,MATCH($B46,'公式予選（TT）1Gr-結果表（貼付）'!$B:$B,0),MATCH("Laps",'公式予選（TT）1Gr-結果表（貼付）'!$1:$1,0)),""))) | P46: =IF(IFERROR(INDEX('公式予選（TT）1Gr-結果表（貼付）'!$A:$Z,MATCH($B46,'公式予選（TT）1Gr-結果表（貼付）'!$B:$B,0),MATCH(P$11,'公式予選（TT）1Gr-結果表（貼付）'!$1:$1,0)),"")=0,"",IFERROR(INDEX('公式予選（TT）1Gr-結果表（貼付）'!$A:$Z,MATCH($B46,'公式予選（TT）1Gr-結果表（貼付）'!$B:$B,0),MATCH(P$11,'公式予選（TT）1Gr-結果表（貼付）'!$1:$1,0)),"")) | Q46: =IF(P46="","",COUNTIF($P$13:P46,"<>"&"")) | R46: =IFERROR(RANK(Q46,$Q$13:$Q$46,1),"") | S46: =IF(IFERROR(INDEX('公式予選（TT）1Gr-結果表（貼付）'!$A:$Z,MATCH($A46,'公式予選（TT）1Gr-結果表（貼付）'!$A:$A,0),MATCH(S$11,'公式予選（TT）1Gr-結果表（貼付）'!$1:$1,0)),"")=0,"",IFERROR(INDEX('公式予選（TT）1Gr-結果表（貼付）'!$A:$Z,MATCH($A46,'公式予選（TT）1Gr-結果表（貼付）'!$A:$A,0),MATCH(S$11,'公式予選（TT）1Gr-結果表（貼付）'!$1:$1,0)),""))
A49: =IF(COUNTIF(I:I,"R")>=1,"R マークの車は、コースレコードを更新しました。従来のレコードタイムは"&" "&TEXT(ROUND($I$11,3),"[<1]m'ss.000;##0.000"),"")
A52: =IF(A53="","","ﾍﾟﾅﾙﾃｨ")
A53: =IF(MAX(Q13:Q46)<1,"",1) | B53: =IF(A53="","","No."&INDEX($A$11:$Y$46,MATCH($A53,$R$11:$R$46,0),MATCH("No.",$11:$11,0))) | C53: =INDEX($A$11:$Y$46,MATCH($A53,$R$11:$R$46,0),MATCH("コメント",$11:$11,0))
A54: =IF(A53<COUNTIF($R$12:$R$46,">"&0),A53+1,"") | B54: =IF(A54="","","No."&INDEX($A$11:$Y$46,MATCH($A54,$R$11:$R$46,0),MATCH("No.",$11:$11,0))) | C54: =INDEX($A$11:$Y$46,MATCH($A54,$R$11:$R$46,0),MATCH("コメント",$11:$11,0))
A55: =IF(A54<COUNTIF($R$12:$R$46,">"&0),A54+1,"") | B55: =IF(A55="","","No."&INDEX($A$11:$Y$46,MATCH($A55,$R$11:$R$46,0),MATCH("No.",$11:$11,0))) | C55: =INDEX($A$11:$Y$46,MATCH($A55,$R$11:$R$46,0),MATCH("コメント",$11:$11,0))
A56: =IF(A55<COUNTIF($R$12:$R$46,">"&0),A55+1,"") | B56: =IF(A56="","","No."&INDEX($A$11:$Y$46,MATCH($A56,$R$11:$R$46,0),MATCH("No.",$11:$11,0))) | C56: =INDEX($A$11:$Y$46,MATCH($A56,$R$11:$R$46,0),MATCH("コメント",$11:$11,0))
A57: =IF(A56<COUNTIF($R$12:$R$46,">"&0),A56+1,"") | B57: =IF(A57="","","No."&INDEX($A$11:$Y$46,MATCH($A57,$R$11:$R$46,0),MATCH("No.",$11:$11,0))) | C57: =INDEX($A$11:$Y$46,MATCH($A57,$R$11:$R$46,0),MATCH("コメント",$11:$11,0))
A58: =IF(A57<COUNTIF($R$12:$R$46,">"&0),A57+1,"") | B58: =IF(A58="","","No."&INDEX($A$11:$Y$46,MATCH($A58,$R$11:$R$46,0),MATCH("No.",$11:$11,0))) | C58: =INDEX($A$11:$Y$46,MATCH($A58,$R$11:$R$46,0),MATCH("コメント",$11:$11,0))
A59: =IF(A58<COUNTIF($R$12:$R$46,">"&0),A58+1,"") | B59: =IF(A59="","","No."&INDEX($A$11:$Y$46,MATCH($A59,$R$11:$R$46,0),MATCH("No.",$11:$11,0))) | C59: =INDEX($A$11:$Y$46,MATCH($A59,$R$11:$R$46,0),MATCH("コメント",$11:$11,0))
A60: =IF(A59<COUNTIF($R$12:$R$46,">"&0),A59+1,"") | B60: =IF(A60="","","No."&INDEX($A$11:$Y$46,MATCH($A60,$R$11:$R$46,0),MATCH("No.",$11:$11,0))) | C60: =INDEX($A$11:$Y$46,MATCH($A60,$R$11:$R$46,0),MATCH("コメント",$11:$11,0))
A61: =IF(A60<COUNTIF($R$12:$R$46,">"&0),A60+1,"") | B61: =IF(A61="","","No."&INDEX($A$11:$Y$46,MATCH($A61,$R$11:$R$46,0),MATCH("No.",$11:$11,0))) | C61: =INDEX($A$11:$Y$46,MATCH($A61,$R$11:$R$46,0),MATCH("コメント",$11:$11,0))
A62: =IF(A61<COUNTIF($R$12:$R$46,">"&0),A61+1,"") | B62: =IF(A62="","","No."&INDEX($A$11:$Y$46,MATCH($A62,$R$11:$R$46,0),MATCH("No.",$11:$11,0))) | C62: =INDEX($A$11:$Y$46,MATCH($A62,$R$11:$R$46,0),MATCH("コメント",$11:$11,0))
A63: =IF(A62<COUNTIF($R$12:$R$46,">"&0),A62+1,"") | B63: =IF(A63="","","No."&INDEX($A$11:$Y$46,MATCH($A63,$R$11:$R$46,0),MATCH("No.",$11:$11,0))) | C63: =INDEX($A$11:$Y$46,MATCH($A63,$R$11:$R$46,0),MATCH("コメント",$11:$11,0))
B64: ="審査委員長 ："&" "&各種設定!$D$20 -> 審査委員長 ：

Sheet JAF提出用（1Gr予選）
BY1: レース競技結果成績表（予選用）
T4: 競技会 | Z4: =MID(各種設定!$D$3,1,1) -> ｶ | AC4: =MID(各種設定!$D$3,2,1) -> ｰ | AF4: =MID(各種設定!$D$3,3,1) -> ﾄ | AI4: =MID(各種設定!$D$3,4,1) -> ﾚ | AL4: =MID(各種設定!$D$3,5,1) -> ｰ | AO4: =MID(各種設定!$D$3,6,1) -> ｽ | AR4: =MID(各種設定!$D$3,7,1) | AU4: =MID(各種設定!$D$3,8,1) -> I | AX4: =MID(各種設定!$D$3,9,1) -> N | BA4: =MID(各種設定!$D$3,10,1) | BD4: =MID(各種設定!$D$3,11,1) -> S | BG4: =MID(各種設定!$D$3,12,1) -> U | BJ4: =MID(各種設定!$D$3,13,1) -> Z | BM4: =MID(各種設定!$D$3,14,1) -> U | BP4: =MID(各種設定!$D$3,15,1) -> K | BS4: =MID(各種設定!$D$3,16,1) -> A | BV4: =MID(各種設定!$D$3,17,1) | BY4: =MID(各種設定!$D$3,18,1) -> 第 | CB4: =MID(各種設定!$D$3,19,1) -> 7 | CE4: =MID(各種設定!$D$3,20,1) -> 戦 | EB4: =YEAR(各種設定!D17) -> 2022 | EI4: 年 | EK4: =MONTH(各種設定!D17) -> 12 | EO4: 月 | EQ4: =DAY(各種設定!D17) -> 11 | EU4: 日
T5: 名 称 | DZ5: 開催日 | EF5: ～
AD6: （20文字以内で入力してください） | CW6: 観客数 | DF6: ： | EB6: =YEAR(各種設定!D18) -> 2022 | EI6: 年 | EK6: =MONTH(各種設定!D18) -> 12 | EO6: 月 | EQ6: =DAY(各種設定!D18) -> 11 | EU6: 日
AC7: 種 別
F8: レース （予選TT用） | AC8: 記入不要 | BB8: ｵｰｶﾞﾅｲｻﾞｰｺｰﾄﾞ： | BU8: =MID(各種設定!$D$28,1,1) -> 8 | BX8: =MID(各種設定!$D$28,2,1) -> 2 | CA8: =MID(各種設定!$D$28,3,1) -> 4 | CD8: =MID(各種設定!$D$28,4,1) -> 0 | CG8: =MID(各種設定!$D$28,5,1) -> 1 | CJ8: =MID(各種設定!$D$28,6,1) | CW8: 競技会格式 | DF8: ： | DH8: =+各種設定!D26 -> D | DM8: A：国際､B：準国際､C：国内､D：準国内､E：地方
F10: 公認番号： | S10: =MID(各種設定!$D$30,1,1) -> 2 | V10: =MID(各種設定!$D$30,2,1) -> 2 | Y10: =MID(各種設定!$D$30,3,1) -> 2 | AB10: =MID(各種設定!$D$30,4,1) -> 5 | AE10: =MID(各種設定!$D$30,5,1) -> 0 | AH10: =MID(各種設定!$D$30,6,1) -> 9 | AT10: 開催場所： | BE10: 鈴鹿サーキット 南コース | CQ10: 天候： | CX10: Cloudy | DE10: 気温： | DT10: コース コンディション | EB10: ： | EE10: Dry
F12: カテゴリー（参加車両）： | AA12: =+各種設定!D4 -> SUPER SS | AU12: A Gr | BL12: 参加台数 | BX12: =COUNTIF('公式予選（TT）1Gr-結果表（貼付）'!A2:A50,"<>"&"") -> 26 | CE12: 台 | DM12: 出走台数 | DY12: =MAX('公式予選（TT）1Gr-結果表（貼付）'!A:A) -> 26 | EF12: 台
A14: 順位 | F14: クラス | M14: クラス 順位 | R14: 車番 | W14: ドライバー氏名 | AW14: ライセンス番号 | BY14: 車名 | CT14: 車両型式 | DE14: 排気量 | DN14: ベストラップタイム | EG14: 参加者氏名
A15: 1 | F15: =IF(IFERROR(INDEX('公式予選（TT）1Gr-結果表（貼付）'!$A:$Z,MATCH($R15,'公式予選（TT）1Gr-結果表（貼付）'!$B:$B,0),MATCH("クラス",'公式予選（TT）1Gr-結果表（貼付）'!$1:$1,0)),"")=0,"",IFERROR(INDEX('公式予選（TT）1Gr-結果表（貼付）'!$A:$Z,MATCH($R15,'公式予選（TT）1Gr-結果表（貼付）'!$B:$B,0),MATCH("クラス",'公式予選（TT）1Gr-結果表（貼付）'!$1:$1,0)),"")) -> SUPER SS | M15: =IF(ISTEXT(A15)=TRUE,"",IF(F15="","",IF(A15="","""",COUNTIF($F$15:F15,F15)))) -> 1 | R15: =IFERROR(INDEX('公式予選（TT）1Gr-結果表（貼付）'!A2:$Z$50,MATCH($A15,'公式予選（TT）1Gr-結果表（貼付）'!A2:$A$50,0),MATCH("No.",'公式予選（TT）1Gr-結果表（貼付）'!$1:$1,0)),"") -> 51 | W15: =IFERROR(INDEX('公式予選（TT）1Gr-結果表（貼付）'!$A:$Z,MATCH($R15,'公式予選（TT）1Gr-結果表（貼付）'!$B:$B,0),MATCH("名前",'公式予選（TT）1Gr-結果表（貼付）'!$1:$1,0)),"") -> 佐々木 克行 | AW15: =IFERROR(MID(INDEX('公式予選（TT）1Gr-結果表（貼付）'!$A:$Z,MATCH($R15,'公式予選（TT）1Gr-結果表（貼付）'!$B:$B,0),MATCH("会員番号",'公式予選（TT）1Gr-結果表（貼付）'!$1:$1,0)),1,1),"") -> D | AY15: =IFERROR(MID(INDEX('公式予選（TT）1Gr-結果表（貼付）'!$A:$Z,MATCH($R15,'公式予選（TT）1Gr-結果表（貼付）'!$B:$B,0),MATCH("会員番号",'公式予選（TT）1Gr-結果表（貼付）'!$1:$1,0)),2,1),"") -> 1 | BA15: =IFERROR(MID(INDEX('公式予選（TT）1Gr-結果表（貼付）'!$A:$Z,MATCH($R15,'公式予選（TT）1Gr-結果表（貼付）'!$B:$B,0),MATCH("会員番号",'公式予選（TT）1Gr-結果表（貼付）'!$1:$1,0)),3,1),"") -> a | BC15: =IFERROR(MID(INDEX('公式予選（TT）1Gr-結果表（貼付）'!$A:$Z,MATCH($R15,'公式予選（TT）1Gr-結果表（貼付）'!$B:$B,0),MATCH("会員番号",'公式予選（TT）1Gr-結果表（貼付）'!$1:$1,0)),4,1),"") -> 2 | BE15: =IFERROR(MID(INDEX('公式予選（TT）1Gr-結果表（貼付）'!$A:$Z,MATCH($R15,'公式予選（TT）1Gr-結果表（貼付）'!$B:$B,0),MATCH("会員番号",'公式予選（TT）1Gr-結果表（貼付）'!$1:$1,0)),5,1),"") -> c | BG15: =IFERROR(MID(INDEX('公式予選（TT）1Gr-結果表（貼付）'!$A:$Z,MATCH($R15,'公式予選（TT）1Gr-結果表（貼付）'!$B:$B,0),MATCH("会員番号",'公式予選（TT）1Gr-結果表（貼付）'!$1:$1,0)),6,1),"") -> c | BI15: =IFERROR(MID(INDEX('公式予選（TT）1Gr-結果表（貼付）'!$A:$Z,MATCH($R15,'公式予選（TT）1Gr-結果表（貼付）'!$B:$B,0),MATCH("会員番号",'公式予選（TT）1Gr-結果表（貼付）'!$1:$1,0)),7,1),"") -> 4 | BK15: =IFERROR(MID(INDEX('公式予選（TT）1Gr-結果表（貼付）'!$A:$Z,MATCH($R15,'公式予選（TT）1Gr-結果表（貼付）'!$B:$B,0),MATCH("会員番号",'公式予選（TT）1Gr-結果表（貼付）'!$1:$1,0)),8,1),"") -> a | BM15: =IFERROR(MID(INDEX('公式予選（TT）1Gr-結果表（貼付）'!$A:$Z,MATCH($R15,'公式予選（TT）1Gr-結果表（貼付）'!$B:$B,0),MATCH("会員番号",'公式予選（TT）1Gr-結果表（貼付）'!$1:$1,0)),9,1),"") -> 8 | BO15: =IFERROR(MID(INDEX('公式予選（TT）1Gr-結果表（貼付）'!$A:$Z,MATCH($R15,'公式予選（TT）1Gr-結果表（貼付）'!$B:$B,0),MATCH("会員番号",'公式予選（TT）1Gr-結果表（貼付）'!$1:$1,0)),10,1),"") | BQ15: =IFERROR(MID(INDEX('公式予選（TT）1Gr-結果表（貼付）'!$A:$Z,MATCH($R15,'公式予選（TT）1Gr-結果表（貼付）'!$B:$B,0),MATCH("会員番号",'公式予選（TT）1Gr-結果表（貼付）'!$1:$1,0)),11,1),"") | BS15: =IFERROR(MID(INDEX('公式予選（TT）1Gr-結果表（貼付）'!$A:$Z,MATCH($R15,'公式予選（TT）1Gr-結果表（貼付）'!$B:$B,0),MATCH("会員番号",'公式予選（TT）1Gr-結果表（貼付）'!$1:$1,0)),12,1),"") | BU15: =IFERROR(MID(INDEX('公式予選（TT）1Gr-結果表（貼付）'!$A:$Z,MATCH($R15,'公式予選（TT）1Gr-結果表（貼付）'!$B:$B,0),MATCH("会員番号",'公式予選（TT）1Gr-結果表（貼付）'!$1:$1,0)),13,1),"") | BW15: =IFERROR(MID(INDEX('公式予選（TT）1Gr-結果表（貼付）'!$A:$Z,MATCH($R15,'公式予選（TT）1Gr-結果表（貼付）'!$B:$B,0),MATCH("会員番号",'公式予選（TT）1Gr-結果表（貼付）'!$1:$1,0)),14,1),"") | BY15: =IFERROR(INDEX('公式予選（TT）1Gr-結果表（貼付）'!$A:$Z,MATCH($R15,'公式予選（TT）1Gr-結果表（貼付）'!$B:$B,0),MATCH("Team",'公式予選（TT）1Gr-結果表（貼付）'!$1:$1,0)),"") -> RT.HISTRY | CT15: =IFERROR(INDEX('公式予選（TT）1Gr-結果表（貼付）'!$A:$Z,MATCH($R15,'公式予選（TT）1Gr-結果表（貼付）'!$B:$B,0),MATCH("Model/Engine",'公式予選（TT）1Gr-結果表（貼付）'!$1:$1,0)),"") -> DreamQuest/YAMAHA | DN15: =IF(A15="DNS","ｽﾀｰﾄ出来ず",IF(A15="DQ","失 格",IFERROR(INDEX('公式予選（TT）1Gr-結果表（貼付）'!$A:$Z,MATCH($R15,'公式予選（TT）1Gr-結果表（貼付）'!$B:$B,0),MATCH("BestLap",'公式予選（TT）1Gr-結果表（貼付）'!$1:$1,0)),""))) -> 55.027
A16: =IF(OR('公式予選（TT）1Gr-結果表（貼付）'!A3="DNF",'公式予選（TT）1Gr-結果表（貼付）'!A3="DNS",'公式予選（TT）1Gr-結果表（貼付）'!A3="DQ"),'公式予選（TT）1Gr-結果表（貼付）'!A3,IF(MAX('公式予選（TT）1Gr-結果表（貼付）'!$A:$A)>A15,A15+1,"")) -> 2 | F16: =IF(IFERROR(INDEX('公式予選（TT）1Gr-結果表（貼付）'!$A:$Z,MATCH($R16,'公式予選（TT）1Gr-結果表（貼付）'!$B:$B,0),MATCH("クラス",'公式予選（TT）1Gr-結果表（貼付）'!$1:$1,0)),"")=0,"",IFERROR(INDEX('公式予選（TT）1Gr-結果表（貼付）'!$A:$Z,MATCH($R16,'公式予選（TT）1Gr-結果表（貼付）'!$B:$B,0),MATCH("クラス",'公式予選（TT）1Gr-結果表（貼付）'!$1:$1,0)),"")) -> SUPER SS | M16: =IF(ISTEXT(A16)=TRUE,"",IF(F16="","",IF(A16="","""",COUNTIF($F$15:F16,F16)))) -> 2 | R16: =IFERROR(INDEX('公式予選（TT）1Gr-結果表（貼付）'!A3:$Z$50,MATCH($A16,'公式予選（TT）1Gr-結果表（貼付）'!A3:$A$50,0),MATCH("No.",'公式予選（TT）1Gr-結果表（貼付）'!$1:$1,0)),"") -> 2 | W16: =IFERROR(INDEX('公式予選（TT）1Gr-結果表（貼付）'!$A:$Z,MATCH($R16,'公式予選（TT）1Gr-結果表（貼付）'!$B:$B,0),MATCH("名前",'公式予選（TT）1Gr-結果表（貼付）'!$1:$1,0)),"") -> 坂 裕之 | AW16: =IFERROR(MID(INDEX('公式予選（TT）1Gr-結果表（貼付）'!$A:$Z,MATCH($R16,'公式予選（TT）1Gr-結果表（貼付）'!$B:$B,0),MATCH("会員番号",'公式予選（TT）1Gr-結果表（貼付）'!$1:$1,0)),1,1),"") -> D | AY16: =IFERROR(MID(INDEX('公式予選（TT）1Gr-結果表（貼付）'!$A:$Z,MATCH($R16,'公式予選（TT）1Gr-結果表（貼付）'!$B:$B,0),MATCH("会員番号",'公式予選（TT）1Gr-結果表（貼付）'!$1:$1,0)),2,1),"") -> 3 | BA16: =IFERROR(MID(INDEX('公式予選（TT）1Gr-結果表（貼付）'!$A:$Z,MATCH($R16,'公式予選（TT）1Gr-結果表（貼付）'!$B:$B,0),MATCH("会員番号",'公式予選（TT）1Gr-結果表（貼付）'!$1:$1,0)),3,1),"") -> 5 | BC16: =IFERROR(MID(INDEX('公式予選（TT）1Gr-結果表（貼付）'!$A:$Z,MATCH($R16,'公式予選（TT）1Gr-結果表（貼付）'!$B:$B,0),MATCH("会員番号",'公式予選（TT）1Gr-結果表（貼付）'!$1:$1,0)),4,1),"") -> 8 | BE16: =IFERROR(MID(INDEX('公式予選（TT）1Gr-結果表（貼付）'!$A:$Z,MATCH($R16,'公式予選（TT）1Gr-結果表（貼付）'!$B:$B,0),MATCH("会員番号",'公式予選（TT）1Gr-結果表（貼付）'!$1:$1,0)),5,1),"") -> 7 | BG16: =IFERROR(MID(INDEX('公式予選（TT）1Gr-結果表（貼付）'!$A:$Z,MATCH($R16,'公式予選（TT）1Gr-結果表（貼付）'!$B:$B,0),MATCH("会員番号",'公式予選（TT）1Gr-結果表（貼付）'!$1:$1,0)),6,1),"") -> 6 | BI16: =IFERROR(MID(INDEX('公式予選（TT）1Gr-結果表（貼付）'!$A:$Z,MATCH($R16,'公式予選（TT）1Gr-結果表（貼付）'!$B:$B,0),MATCH("会員番号",'公式予選（TT）1Gr-結果表（貼付）'!$1:$1,0)),7,1),"") -> 3 | BK16: =IFERROR(MID(INDEX('公式予選（TT）1Gr-結果表（貼付）'!$A:$Z,MATCH($R16,'公式予選（TT）1Gr-結果表（貼付）'!$B:$B,0),MATCH("会員番号",'公式予選（TT）1Gr-結果表（貼付）'!$1:$1,0)),8,1),"") -> 4 | BM16: =IFERROR(MID(INDEX('公式予選（TT）1Gr-結果表（貼付）'!$A:$Z,MATCH($R16,'公式予選（TT）1Gr-結果表（貼付）'!$B:$B,0),MATCH("会員番号",'公式予選（TT）1Gr-結果表（貼付）'!$1:$1,0)),9,1),"") -> 8 | BO16: =IFERROR(MID(INDEX('公式予選（TT）1Gr-結果表（貼付）'!$A:$Z,MATCH($R16,'公式予選（TT）1Gr-結果表（貼付）'!$B:$B,0),MATCH("会員番号",'公式予選（TT）1Gr-結果表（貼付）'!$1:$1,0)),10,1),"") | BQ16: =IFERROR(MID(INDEX('公式予選（TT）1Gr-結果表（貼付）'!$A:$Z,MATCH($R16,'公式予選（TT）1Gr-結果表（貼付）'!$B:$B,0),MATCH("会員番号",'公式予選（TT）1Gr-結果表（貼付）'!$1:$1,0)),11,1),"") | BS16: =IFERROR(MID(INDEX('公式予選（TT）1Gr-結果表（貼付）'!$A:$Z,MATCH($R16,'公式予選（TT）1Gr-結果表（貼付）'!$B:$B,0),MATCH("会員番号",'公式予選（TT）1Gr-結果表（貼付）'!$1:$1,0)),12,1),"") | BU16: =IFERROR(MID(INDEX('公式予選（TT）1Gr-結果表（貼付）'!$A:$Z,MATCH($R16,'公式予選（TT）1Gr-結果表（貼付）'!$B:$B,0),MATCH("会員番号",'公式予選（TT）1Gr-結果表（貼付）'!$1:$1,0)),13,1),"") | BW16: =IFERROR(MID(INDEX('公式予選（TT）1Gr-結果表（貼付）'!$A:$Z,MATCH($R16,'公式予選（TT）1Gr-結果表（貼付）'!$B:$B,0),MATCH("会員番号",'公式予選（TT）1Gr-結果表（貼付）'!$1:$1,0)),14,1),"") | BY16: =IFERROR(INDEX('公式予選（TT）1Gr-結果表（貼付）'!$A:$Z,MATCH($R16,'公式予選（TT）1Gr-結果表（貼付）'!$B:$B,0),MATCH("Team",'公式予選（TT）1Gr-結果表（貼付）'!$1:$1,0)),"") -> のりものクラブTIGRE | CT16: =IFERROR(INDEX('公式予選（TT）1Gr-結果表（貼付）'!$A:$Z,MATCH($R16,'公式予選（TT）1Gr-結果表（貼付）'!$B:$B,0),MATCH("Model/Engine",'公式予選（TT）1Gr-結果表（貼付）'!$1:$1,0)),"") -> SWF/YAMAHA | DN16: =IF(A16="DNS","ｽﾀｰﾄ出来ず",IF(A16="DQ","失 格",IFERROR(INDEX('公式予選（TT）1Gr-結果表（貼付）'!$A:$Z,MATCH($R16,'公式予選（TT）1Gr-結果表（貼付）'!$B:$B,0),MATCH("BestLap",'公式予選（TT）1Gr-結果表（貼付）'!$1:$1,0)),""))) -> 55.337
